{"text_format":"1","workbook":"xlsx","n_sheets":9,"sheets":["Instructions","LEA Identifiers & Names","Exiting (LEA FS009)","Select LEA","Error Messages","Subtotals","Category Sets A-D","Category Set A by Age","Category Set A by Basis of Exit"],"not_rendered":{"charts":0,"images":2,"macros":1,"external_links":0,"defined_names":34,"comments":2,"pivot_tables":0},"unopened":[],"bounds":{"document_bytes":16777216,"sheet_cells":100000,"rows_first":2000,"rows_last":500,"rows_between":2000,"halvings":0,"cell_chars":16384,"cell_head_chars":4096},"cells_cut":0,"cells_raw":0,"read":"whole","date_system":"1900"}

{"sheet":"Instructions","index":0,"n_rows":49,"n_cols":8,"rows_kept":49,"cut":false,"hidden":false,"merged":[[49,2,49,10],[20,2,20,10],[21,2,21,10],[22,2,22,10],[23,2,23,10],[25,2,25,10],[26,2,26,10],[27,2,27,10],[28,2,28,10],[29,2,29,10],[31,2,31,10],[17,2,17,10],[19,2,19,10],[24,2,24,10],[30,2,30,10],[7,2,7,10],[15,2,15,10],[33,2,33,10],[36,2,36,10],[48,1,48,9],[34,1,34,10],[35,1,35,10],[37,1,38,10],[40,1,40,10],[42,1,42,13],[43,1,43,3],[46,2,46,10],[39,2,39,10],[41,2,41,10],[44,2,44,10],[16,2,16,10],[32,1,32,6],[18,2,18,10],[4,2,4,10],[0,7,0,9],[1,1,1,10],[2,1,2,10],[3,1,3,3],[3,4,3,5],[6,2,6,10],[10,2,10,10],[12,2,12,10],[13,2,13,10],[14,2,14,10],[11,2,11,10],[8,2,8,10],[9,2,9,10]]}
[]
[null,"LEA EDFacts Edit Check and Data Display Tool - IDEA Exiting"]
[null,"The LEA EDFacts Edit Check and Data Display Tool - IDEA Exiting is designed for states to use as they prepare their data for submission via EDFacts. States use this tool to check LEA-level EDFacts data file FS009. The tool identifies format, validation, and other errors in category sets or subtotals. State staff also can use this tool as a data display in their work with LEAs, including monitoring, performing desk audits of LEA data, and providing technical assistance and professional development to LEA staff.\n \nStates cannot submit data using this tool. They must submit all data following the guidelines provided in the data file specifications at  "]
[null,"The EDFacts Initiative"]
[]
[null,"Please read the following instructions before using this tool:"]
[null,"1.","To begin using this tool, you must enter the state’s LEA identifiers and LEA names in the LEA Identifiers & Names tab.  You will use this list in the drop-down menu in the Select LEA tab. You can copy and paste the state’s LEA identifiers and LEA names into the table in the LEA Identifiers & Names tab from an existing list such as the state’s LEA-level Directory (FS029) file columns, LEA Identifier (State) and Education Entity Name."]
[]
[null,null,"The LEA names will appear in the drop-down list in the order in which they are listed on the LEA Identifiers & Names tab. Please consider alphabetizing your list of LEA names and codes before pasting them into the table on that tab."]
[]
[null,"2.","To select, copy, and paste data from your LEA FS009 EDFacts file into the tool, do the following:"]
[null,null,"     a.    Open your LEA-level FS009 – Children with Disabilities (IDEA) Exiting Special Education EDFacts data file in Excel (or similar application). "]
[null,null,"     b.    Select and copy all rows and columns from the EDFacts data file.\n                    i.   Include the EDFacts data file header row and filler columns. \n                   ii.   Do NOT use the \"Select All\" function in Excel."]
[null,null,"     c.     Paste the selected data to cell A12 in the Exiting (LEA FS009) tab in this tool.  "]
[null,null,"     d.     In the Exiting (LEA FS009) data file tab, click the \"Check Data Format\" button to run all format checks. If there are format errors, you \n              will see pop-up boxes containing important information about the errors. "]
[]
[null,null,"              The “Check Data Format” button identifies the following format errors:\n                      i.     compares the text in the File Type cell in the header row (in cell A12) to the required value for the LEA FS009 file, LEA CHILDREN WITH \n                              DISAB EXITING SPEC ED;\n                     ii.     compares the number of records entered in the file header row (in cell B12) to confirm it matches the actual number of rows of data in the file;\n                    iii.     checks the school year date format in the header row (in cell E12);\n                    iv.     checks the filler columns for any characters (all filler columns should be blank); and\n                     v.     checks the file record number, state code, state agency number, LEA identifier (state), table name, total indicator, and student count \n                              columns for blanks (there should be no blanks in these columns). \n\n"]
[null,null,"     e.     To delete the data pasted into the Exiting (LEA FS009) tab, click the \"Clear Data\" button."]
[]
[null,"3.","To review data for each LEA, click on the Select LEA tab.\n"]
[null,null,"     a.     The \"Select LEA\" box should have the names of the LEAs that you copied and pasted in the LEA Identifiers & Names tab.  Open the \"Select LEA\" box by \n              clicking on the down arrow to the right of the box."]
[null,null,"     b.     Select the LEA you would like to analyze or review; then click the “Select LEA Data” button to the right of the selected LEA.  The rows from the EDFacts \n              file that match that LEA's state identifier (code) will populate in the Excel sheet."]
[null,null,"     c.     To select another LEA, first click on the “Clear ‘Select LEA’ Field” button to clear the current LEA out of the yellow selection box.  Once the LEA has been \n              cleared, the full list of LEAs will be available again in the \"Select LEA\" box when you click on the down arrow.  Select another LEA, click the “Select LEA Data” \n              button, and the table will update with the newly selected LEA’s data."]
[null,null,"     d.     To quickly search for an LEA in the drop-down list in the “Select LEA” field, click on the yellow box (F6), type in the first three or more letters that appear in \n              the name of the LEA or group of LEAs you want to locate. Next, click the carat beside the yellow box (F6) to see the list of LEA names that contain the letters you entered."]
[null,"4.","To check errors for each LEA, follow these steps:"]
[null,null,"     a.     On the Select LEA tab, review the “Data quality checks\" table to the right of the data displayed for the selected LEA to see (1) lists of data category sets and \n             subtotals not included in the LEA FS009 file for the selected LEA, (2) duplicate rows, and (3) rows that contain invalid values."]
[null,null,"     b.     To facilitate locating data errors in the EDFacts file, data with errors displayed in the Error Messages, Subtotals, Category Sets A-D, Category Set A by Age, and \n              Category Set A by Basis of Exit tabs are highlighted in red and hyperlinked. Use the hyperlinked data to trace each highlighted error through the Error \n              Messages, Subtotals, Category Sets A-D, Category Set A by Age, and Category Set A by Basis of Exit tabs back to the EDFacts data file in the LEA FS009 tab where \n              the error originates."]
[null,null,"     c.      Error messages in the Error Messages tab indicate computational or other errors in reporting only for the LEA selected in the Select LEA tab. Please correct \n              all errors before submitting the data file to the U.S. Department of Education via the EDFacts Submission System. "]
[null,null,"     d.      Please note, this tool does not identify the state-specific differences in EDFacts file contents. State-specific differences noted in the EDFacts IDEA State \n              Supplemental Survey (SSS) may show up as error messages in this tool."]
[]
[null,"5.","Review and address each triggered format check and error message. If you need to make changes to the data, make these changes in the corresponding data system and/or EDFacts file. Then check the corrected FS009 file by carefully pasting the updated data into the Exiting (LEA FS009) tab. Do NOT make data modifications corrections directly in the LEA Edit Check Tool spreadsheet. You must make these changes in the EDFacts file that you will submit, then copy them from that file into the LEA Edit Check Tool spreadsheet."]
[]
[null,"If you would like assistance using this tool, please contact your IDC State Liaison or email ",null,null,null,null,null,"IDEAdata@westat.com"]
[]
[null,"Please note, this tool is currently not 508 accessible. If you need assistance with the use of this tool, please contact your IDC State Liaison or email"]
[null,"IDEAdata@westat.com"]
[]
[null,"The IDEA Data Center (IDC) created this publication under U.S. Department of Education, Office of Special Education Programs grant number H373Y190001. Richelle Davis and Rebecca Smith serve as the project officers. "]
[]
[]
[null,"The views expressed herein do not necessarily represent the positions or policies of the U.S. Department of Education. No official endorsement by the U.S. Department of Education of any product, commodity, service, or enterprise mentioned in this publication is intended or should be inferred. This product is in the public domain. Authorization to reproduce it in whole or in part is granted. \n\n"]
[]
[null,"Westat is the lead organization for IDC. For more information about the center’s work and its partners, see"]
[null,"ideadata.org"]
[]
[null,"Version Date: September 2021"]
[]
[null,"Suggested Citation:"]
[null,"Long, T., Thacker, C., and Edora, F. (2021, September). LEA EDFacts Edit Check and Data Display Tool - IDEA Exiting. IDEA Data Center. Rockville, MD: Westat."]

{"sheet":"LEA Identifiers & Names","index":1,"n_rows":5,"n_cols":3,"rows_kept":5,"cut":false,"hidden":false,"merged":[[2,1,2,2],[0,0,0,3]]}
["LEA Identifiers and Names"]
[]
[null,"Instructions:\nEnter your state's LEA identifiers and names below. You will use this list in the drop-down menu on the Select LEA tab to select the name of the LEA for data display in the tables on the Error Messages tab, Subtotals tab, and Category Sets tabs. The LEA identifiers must match those you used in your LEA FS009 file.\n\nThe LEA names will appear in the drop-down list in the order in which you list them below. Please consider alphabetizing your list of LEA names and codes before pasting them into the table below."]
[]
[null,"LEA identifier (state)","LEA name"]

{"sheet":"Exiting (LEA FS009)","index":2,"n_rows":1003,"n_cols":31,"rows_kept":1003,"cut":false,"hidden":false,"merged":[[0,0,0,24],[9,0,9,24]]}
[{"$f":"\"IDEA LEA Exiting Data for School Year \"&'Exiting (LEA FS009)'!E12","v":"IDEA LEA Exiting Data for School Year "}]
[]
[]
[]
[]
[]
[]
[]
[]
["FS009 – Children with Disabilities (IDEA) Exiting Special Education "]
["File record \nnumber","State code","State agency number","LEA identifier (state)","Filler","Table name","Filler","Racial\nethnic","Sex (membership)","Filler","Filler","Filler","Filler","Filler","Filler","Disability category (IDEA) exiting","Age (exiting)","English learner status (both)","Filler","Filler","Filler","Basis of exit","Total indicator","Explanation","Student count",null,null,"Master\nListing\n(For lookup)","Master\nListing\n(For output)",null,"LEA identifier (state)"]
[null,null,null,null,null,null,null,null,null,null,null,null,null,null,null,null,null,null,null,null,null,null,null,null,null,null,null,null,null,null,{"$f":"'Select LEA'!$F$8","v":""}]
[null,null,null,null,null,null,null,null,null,null,null,null,null,null,null,null,null,null,null,null,null,null,null,null,null,null,null,"Y","______Y"]
[null,null,null,null,null,null,null,null,null,null,null,null,null,null,null,null,null,null,null,null,null,null,null,null,null,null,null,"DY","_____D_Y"]
[null,null,null,null,null,null,null,null,null,null,null,null,null,null,null,null,null,null,null,null,null,null,null,null,null,null,null,"DROPOUTY","_____DROPOUT_Y"]
[null,null,null,null,null,null,null,null,null,null,null,null,null,null,null,null,null,null,null,null,null,null,null,null,null,null,null,"GHSY","_____GHS_Y"]
[null,null,null,null,null,null,null,null,null,null,null,null,null,null,null,null,null,null,null,null,null,null,null,null,null,null,null,"GRADALTDPLY","_____GRADALTDPL_Y"]
[null,null,null,null,null,null,null,null,null,null,null,null,null,null,null,null,null,null,null,null,null,null,null,null,null,null,null,"MKCY","_____MKC_Y"]
[null,null,null,null,null,null,null,null,null,null,null,null,null,null,null,null,null,null,null,null,null,null,null,null,null,null,null,"RCY","_____RC_Y"]
[null,null,null,null,null,null,null,null,null,null,null,null,null,null,null,null,null,null,null,null,null,null,null,null,null,null,null,"RMAY","_____RMA_Y"]
[null,null,null,null,null,null,null,null,null,null,null,null,null,null,null,null,null,null,null,null,null,null,null,null,null,null,null,"TRANY","_____TRAN_Y"]
[null,null,null,null,null,null,null,null,null,null,null,null,null,null,null,null,null,null,null,null,null,null,null,null,null,null,null,"LEPY","____LEP__Y"]
[null,null,null,null,null,null,null,null,null,null,null,null,null,null,null,null,null,null,null,null,null,null,null,null,null,null,null,"LEPDN","____LEP_D_N"]
[null,null,null,null,null,null,null,null,null,null,null,null,null,null,null,null,null,null,null,null,null,null,null,null,null,null,null,"LEPDROPOUTN","____LEP_DROPOUT_N"]
[null,null,null,null,null,null,null,null,null,null,null,null,null,null,null,null,null,null,null,null,null,null,null,null,null,null,null,"LEPGHSN","____LEP_GHS_N"]
[null,null,null,null,null,null,null,null,null,null,null,null,null,null,null,null,null,null,null,null,null,null,null,null,null,null,null,"LEPGRADALTDPLN","____LEP_GRADALTDPL_N"]
[null,null,null,null,null,null,null,null,null,null,null,null,null,null,null,null,null,null,null,null,null,null,null,null,null,null,null,"LEPMKCN","____LEP_MKC_N"]
[null,null,null,null,null,null,null,null,null,null,null,null,null,null,null,null,null,null,null,null,null,null,null,null,null,null,null,"LEPRCN","____LEP_RC_N"]
[null,null,null,null,null,null,null,null,null,null,null,null,null,null,null,null,null,null,null,null,null,null,null,null,null,null,null,"LEPRMAN","____LEP_RMA_N"]
[null,null,null,null,null,null,null,null,null,null,null,null,null,null,null,null,null,null,null,null,null,null,null,null,null,null,null,"LEPTRANN","____LEP_TRAN_N"]
[null,null,null,null,null,null,null,null,null,null,null,null,null,null,null,null,null,null,null,null,null,null,null,null,null,null,null,"NLEPY","____NLEP__Y"]
[null,null,null,null,null,null,null,null,null,null,null,null,null,null,null,null,null,null,null,null,null,null,null,null,null,null,null,"NLEPDN","____NLEP_D_N"]
[null,null,null,null,null,null,null,null,null,null,null,null,null,null,null,null,null,null,null,null,null,null,null,null,null,null,null,"NLEPDROPOUTN","____NLEP_DROPOUT_N"]
[null,null,null,null,null,null,null,null,null,null,null,null,null,null,null,null,null,null,null,null,null,null,null,null,null,null,null,"NLEPGHSN","____NLEP_GHS_N"]
[null,null,null,null,null,null,null,null,null,null,null,null,null,null,null,null,null,null,null,null,null,null,null,null,null,null,null,"NLEPGRADALTDPLN","____NLEP_GRADALTDPL_N"]
[null,null,null,null,null,null,null,null,null,null,null,null,null,null,null,null,null,null,null,null,null,null,null,null,null,null,null,"NLEPMKCN","____NLEP_MKC_N"]
[null,null,null,null,null,null,null,null,null,null,null,null,null,null,null,null,null,null,null,null,null,null,null,null,null,null,null,"NLEPRCN","____NLEP_RC_N"]
[null,null,null,null,null,null,null,null,null,null,null,null,null,null,null,null,null,null,null,null,null,null,null,null,null,null,null,"NLEPRMAN","____NLEP_RMA_N"]
[null,null,null,null,null,null,null,null,null,null,null,null,null,null,null,null,null,null,null,null,null,null,null,null,null,null,null,"NLEPTRANN","____NLEP_TRAN_N"]
[null,null,null,null,null,null,null,null,null,null,null,null,null,null,null,null,null,null,null,null,null,null,null,null,null,null,null,"14Y","___14___Y"]
[null,null,null,null,null,null,null,null,null,null,null,null,null,null,null,null,null,null,null,null,null,null,null,null,null,null,null,"15Y","___15___Y"]
[null,null,null,null,null,null,null,null,null,null,null,null,null,null,null,null,null,null,null,null,null,null,null,null,null,null,null,"16Y","___16___Y"]
[null,null,null,null,null,null,null,null,null,null,null,null,null,null,null,null,null,null,null,null,null,null,null,null,null,null,null,"17Y","___17___Y"]
[null,null,null,null,null,null,null,null,null,null,null,null,null,null,null,null,null,null,null,null,null,null,null,null,null,null,null,"18Y","___18___Y"]
[null,null,null,null,null,null,null,null,null,null,null,null,null,null,null,null,null,null,null,null,null,null,null,null,null,null,null,"19Y","___19___Y"]
[null,null,null,null,null,null,null,null,null,null,null,null,null,null,null,null,null,null,null,null,null,null,null,null,null,null,null,"20Y","___20___Y"]
[null,null,null,null,null,null,null,null,null,null,null,null,null,null,null,null,null,null,null,null,null,null,null,null,null,null,null,"21Y","___21___Y"]
[null,null,null,null,null,null,null,null,null,null,null,null,null,null,null,null,null,null,null,null,null,null,null,null,null,null,null,"AUTY","__AUT____Y"]
[null,null,null,null,null,null,null,null,null,null,null,null,null,null,null,null,null,null,null,null,null,null,null,null,null,null,null,"AUT14DN","__AUT_14__D_N"]
[null,null,null,null,null,null,null,null,null,null,null,null,null,null,null,null,null,null,null,null,null,null,null,null,null,null,null,"AUT14DROPOUTN","__AUT_14__DROPOUT_N"]
[null,null,null,null,null,null,null,null,null,null,null,null,null,null,null,null,null,null,null,null,null,null,null,null,null,null,null,"AUT14GHSN","__AUT_14__GHS_N"]
[null,null,null,null,null,null,null,null,null,null,null,null,null,null,null,null,null,null,null,null,null,null,null,null,null,null,null,"AUT14GRADALTDPLN","__AUT_14__GRADALTDPL_N"]
[null,null,null,null,null,null,null,null,null,null,null,null,null,null,null,null,null,null,null,null,null,null,null,null,null,null,null,"AUT14MKCN","__AUT_14__MKC_N"]
[null,null,null,null,null,null,null,null,null,null,null,null,null,null,null,null,null,null,null,null,null,null,null,null,null,null,null,"AUT14RCN","__AUT_14__RC_N"]
[null,null,null,null,null,null,null,null,null,null,null,null,null,null,null,null,null,null,null,null,null,null,null,null,null,null,null,"AUT14RMAN","__AUT_14__RMA_N"]
[null,null,null,null,null,null,null,null,null,null,null,null,null,null,null,null,null,null,null,null,null,null,null,null,null,null,null,"AUT14TRANN","__AUT_14__TRAN_N"]
[null,null,null,null,null,null,null,null,null,null,null,null,null,null,null,null,null,null,null,null,null,null,null,null,null,null,null,"AUT15DN","__AUT_15__D_N"]
[null,null,null,null,null,null,null,null,null,null,null,null,null,null,null,null,null,null,null,null,null,null,null,null,null,null,null,"AUT15DROPOUTN","__AUT_15__DROPOUT_N"]
[null,null,null,null,null,null,null,null,null,null,null,null,null,null,null,null,null,null,null,null,null,null,null,null,null,null,null,"AUT15GHSN","__AUT_15__GHS_N"]
[null,null,null,null,null,null,null,null,null,null,null,null,null,null,null,null,null,null,null,null,null,null,null,null,null,null,null,"AUT15GRADALTDPLN","__AUT_15__GRADALTDPL_N"]
[null,null,null,null,null,null,null,null,null,null,null,null,null,null,null,null,null,null,null,null,null,null,null,null,null,null,null,"AUT15MKCN","__AUT_15__MKC_N"]
[null,null,null,null,null,null,null,null,null,null,null,null,null,null,null,null,null,null,null,null,null,null,null,null,null,null,null,"AUT15RCN","__AUT_15__RC_N"]
[null,null,null,null,null,null,null,null,null,null,null,null,null,null,null,null,null,null,null,null,null,null,null,null,null,null,null,"AUT15RMAN","__AUT_15__RMA_N"]
[null,null,null,null,null,null,null,null,null,null,null,null,null,null,null,null,null,null,null,null,null,null,null,null,null,null,null,"AUT15TRANN","__AUT_15__TRAN_N"]
[null,null,null,null,null,null,null,null,null,null,null,null,null,null,null,null,null,null,null,null,null,null,null,null,null,null,null,"AUT16DN","__AUT_16__D_N"]
[null,null,null,null,null,null,null,null,null,null,null,null,null,null,null,null,null,null,null,null,null,null,null,null,null,null,null,"AUT16DROPOUTN","__AUT_16__DROPOUT_N"]
[null,null,null,null,null,null,null,null,null,null,null,null,null,null,null,null,null,null,null,null,null,null,null,null,null,null,null,"AUT16GHSN","__AUT_16__GHS_N"]
[null,null,null,null,null,null,null,null,null,null,null,null,null,null,null,null,null,null,null,null,null,null,null,null,null,null,null,"AUT16GRADALTDPLN","__AUT_16__GRADALTDPL_N"]
[null,null,null,null,null,null,null,null,null,null,null,null,null,null,null,null,null,null,null,null,null,null,null,null,null,null,null,"AUT16MKCN","__AUT_16__MKC_N"]
[null,null,null,null,null,null,null,null,null,null,null,null,null,null,null,null,null,null,null,null,null,null,null,null,null,null,null,"AUT16RCN","__AUT_16__RC_N"]
[null,null,null,null,null,null,null,null,null,null,null,null,null,null,null,null,null,null,null,null,null,null,null,null,null,null,null,"AUT16RMAN","__AUT_16__RMA_N"]
[null,null,null,null,null,null,null,null,null,null,null,null,null,null,null,null,null,null,null,null,null,null,null,null,null,null,null,"AUT16TRANN","__AUT_16__TRAN_N"]
[null,null,null,null,null,null,null,null,null,null,null,null,null,null,null,null,null,null,null,null,null,null,null,null,null,null,null,"AUT17DN","__AUT_17__D_N"]
[null,null,null,null,null,null,null,null,null,null,null,null,null,null,null,null,null,null,null,null,null,null,null,null,null,null,null,"AUT17DROPOUTN","__AUT_17__DROPOUT_N"]
[null,null,null,null,null,null,null,null,null,null,null,null,null,null,null,null,null,null,null,null,null,null,null,null,null,null,null,"AUT17GHSN","__AUT_17__GHS_N"]
[null,null,null,null,null,null,null,null,null,null,null,null,null,null,null,null,null,null,null,null,null,null,null,null,null,null,null,"AUT17GRADALTDPLN","__AUT_17__GRADALTDPL_N"]
[null,null,null,null,null,null,null,null,null,null,null,null,null,null,null,null,null,null,null,null,null,null,null,null,null,null,null,"AUT17MKCN","__AUT_17__MKC_N"]
[null,null,null,null,null,null,null,null,null,null,null,null,null,null,null,null,null,null,null,null,null,null,null,null,null,null,null,"AUT17RCN","__AUT_17__RC_N"]
[null,null,null,null,null,null,null,null,null,null,null,null,null,null,null,null,null,null,null,null,null,null,null,null,null,null,null,"AUT17RMAN","__AUT_17__RMA_N"]
[null,null,null,null,null,null,null,null,null,null,null,null,null,null,null,null,null,null,null,null,null,null,null,null,null,null,null,"AUT17TRANN","__AUT_17__TRAN_N"]
[null,null,null,null,null,null,null,null,null,null,null,null,null,null,null,null,null,null,null,null,null,null,null,null,null,null,null,"AUT18DN","__AUT_18__D_N"]
[null,null,null,null,null,null,null,null,null,null,null,null,null,null,null,null,null,null,null,null,null,null,null,null,null,null,null,"AUT18DROPOUTN","__AUT_18__DROPOUT_N"]
[null,null,null,null,null,null,null,null,null,null,null,null,null,null,null,null,null,null,null,null,null,null,null,null,null,null,null,"AUT18GHSN","__AUT_18__GHS_N"]
[null,null,null,null,null,null,null,null,null,null,null,null,null,null,null,null,null,null,null,null,null,null,null,null,null,null,null,"AUT18GRADALTDPLN","__AUT_18__GRADALTDPL_N"]
[null,null,null,null,null,null,null,null,null,null,null,null,null,null,null,null,null,null,null,null,null,null,null,null,null,null,null,"AUT18MKCN","__AUT_18__MKC_N"]
[null,null,null,null,null,null,null,null,null,null,null,null,null,null,null,null,null,null,null,null,null,null,null,null,null,null,null,"AUT18RCN","__AUT_18__RC_N"]
[null,null,null,null,null,null,null,null,null,null,null,null,null,null,null,null,null,null,null,null,null,null,null,null,null,null,null,"AUT18RMAN","__AUT_18__RMA_N"]
[null,null,null,null,null,null,null,null,null,null,null,null,null,null,null,null,null,null,null,null,null,null,null,null,null,null,null,"AUT18TRANN","__AUT_18__TRAN_N"]
[null,null,null,null,null,null,null,null,null,null,null,null,null,null,null,null,null,null,null,null,null,null,null,null,null,null,null,"AUT19DN","__AUT_19__D_N"]
[null,null,null,null,null,null,null,null,null,null,null,null,null,null,null,null,null,null,null,null,null,null,null,null,null,null,null,"AUT19DROPOUTN","__AUT_19__DROPOUT_N"]
[null,null,null,null,null,null,null,null,null,null,null,null,null,null,null,null,null,null,null,null,null,null,null,null,null,null,null,"AUT19GHSN","__AUT_19__GHS_N"]
[null,null,null,null,null,null,null,null,null,null,null,null,null,null,null,null,null,null,null,null,null,null,null,null,null,null,null,"AUT19GRADALTDPLN","__AUT_19__GRADALTDPL_N"]
[null,null,null,null,null,null,null,null,null,null,null,null,null,null,null,null,null,null,null,null,null,null,null,null,null,null,null,"AUT19MKCN","__AUT_19__MKC_N"]
[null,null,null,null,null,null,null,null,null,null,null,null,null,null,null,null,null,null,null,null,null,null,null,null,null,null,null,"AUT19RCN","__AUT_19__RC_N"]
[null,null,null,null,null,null,null,null,null,null,null,null,null,null,null,null,null,null,null,null,null,null,null,null,null,null,null,"AUT19RMAN","__AUT_19__RMA_N"]
[null,null,null,null,null,null,null,null,null,null,null,null,null,null,null,null,null,null,null,null,null,null,null,null,null,null,null,"AUT19TRANN","__AUT_19__TRAN_N"]
[null,null,null,null,null,null,null,null,null,null,null,null,null,null,null,null,null,null,null,null,null,null,null,null,null,null,null,"AUT20DN","__AUT_20__D_N"]
[null,null,null,null,null,null,null,null,null,null,null,null,null,null,null,null,null,null,null,null,null,null,null,null,null,null,null,"AUT20DROPOUTN","__AUT_20__DROPOUT_N"]
[null,null,null,null,null,null,null,null,null,null,null,null,null,null,null,null,null,null,null,null,null,null,null,null,null,null,null,"AUT20GHSN","__AUT_20__GHS_N"]
[null,null,null,null,null,null,null,null,null,null,null,null,null,null,null,null,null,null,null,null,null,null,null,null,null,null,null,"AUT20GRADALTDPLN","__AUT_20__GRADALTDPL_N"]
[null,null,null,null,null,null,null,null,null,null,null,null,null,null,null,null,null,null,null,null,null,null,null,null,null,null,null,"AUT20MKCN","__AUT_20__MKC_N"]
[null,null,null,null,null,null,null,null,null,null,null,null,null,null,null,null,null,null,null,null,null,null,null,null,null,null,null,"AUT20RCN","__AUT_20__RC_N"]
[null,null,null,null,null,null,null,null,null,null,null,null,null,null,null,null,null,null,null,null,null,null,null,null,null,null,null,"AUT20RMAN","__AUT_20__RMA_N"]
[null,null,null,null,null,null,null,null,null,null,null,null,null,null,null,null,null,null,null,null,null,null,null,null,null,null,null,"AUT20TRANN","__AUT_20__TRAN_N"]
[null,null,null,null,null,null,null,null,null,null,null,null,null,null,null,null,null,null,null,null,null,null,null,null,null,null,null,"AUT21DN","__AUT_21__D_N"]
[null,null,null,null,null,null,null,null,null,null,null,null,null,null,null,null,null,null,null,null,null,null,null,null,null,null,null,"AUT21DROPOUTN","__AUT_21__DROPOUT_N"]
[null,null,null,null,null,null,null,null,null,null,null,null,null,null,null,null,null,null,null,null,null,null,null,null,null,null,null,"AUT21GHSN","__AUT_21__GHS_N"]
[null,null,null,null,null,null,null,null,null,null,null,null,null,null,null,null,null,null,null,null,null,null,null,null,null,null,null,"AUT21GRADALTDPLN","__AUT_21__GRADALTDPL_N"]
[null,null,null,null,null,null,null,null,null,null,null,null,null,null,null,null,null,null,null,null,null,null,null,null,null,null,null,"AUT21MKCN","__AUT_21__MKC_N"]
[null,null,null,null,null,null,null,null,null,null,null,null,null,null,null,null,null,null,null,null,null,null,null,null,null,null,null,"AUT21RCN","__AUT_21__RC_N"]
[null,null,null,null,null,null,null,null,null,null,null,null,null,null,null,null,null,null,null,null,null,null,null,null,null,null,null,"AUT21RMAN","__AUT_21__RMA_N"]
[null,null,null,null,null,null,null,null,null,null,null,null,null,null,null,null,null,null,null,null,null,null,null,null,null,null,null,"AUT21TRANN","__AUT_21__TRAN_N"]
[null,null,null,null,null,null,null,null,null,null,null,null,null,null,null,null,null,null,null,null,null,null,null,null,null,null,null,"DBY","__DB____Y"]
[null,null,null,null,null,null,null,null,null,null,null,null,null,null,null,null,null,null,null,null,null,null,null,null,null,null,null,"DB14DN","__DB_14__D_N"]
[null,null,null,null,null,null,null,null,null,null,null,null,null,null,null,null,null,null,null,null,null,null,null,null,null,null,null,"DB14DROPOUTN","__DB_14__DROPOUT_N"]
[null,null,null,null,null,null,null,null,null,null,null,null,null,null,null,null,null,null,null,null,null,null,null,null,null,null,null,"DB14GHSN","__DB_14__GHS_N"]
[null,null,null,null,null,null,null,null,null,null,null,null,null,null,null,null,null,null,null,null,null,null,null,null,null,null,null,"DB14GRADALTDPLN","__DB_14__GRADALTDPL_N"]
[null,null,null,null,null,null,null,null,null,null,null,null,null,null,null,null,null,null,null,null,null,null,null,null,null,null,null,"DB14MKCN","__DB_14__MKC_N"]
[null,null,null,null,null,null,null,null,null,null,null,null,null,null,null,null,null,null,null,null,null,null,null,null,null,null,null,"DB14RCN","__DB_14__RC_N"]
[null,null,null,null,null,null,null,null,null,null,null,null,null,null,null,null,null,null,null,null,null,null,null,null,null,null,null,"DB14RMAN","__DB_14__RMA_N"]
[null,null,null,null,null,null,null,null,null,null,null,null,null,null,null,null,null,null,null,null,null,null,null,null,null,null,null,"DB14TRANN","__DB_14__TRAN_N"]
[null,null,null,null,null,null,null,null,null,null,null,null,null,null,null,null,null,null,null,null,null,null,null,null,null,null,null,"DB15DN","__DB_15__D_N"]
[null,null,null,null,null,null,null,null,null,null,null,null,null,null,null,null,null,null,null,null,null,null,null,null,null,null,null,"DB15DROPOUTN","__DB_15__DROPOUT_N"]
[null,null,null,null,null,null,null,null,null,null,null,null,null,null,null,null,null,null,null,null,null,null,null,null,null,null,null,"DB15GHSN","__DB_15__GHS_N"]
[null,null,null,null,null,null,null,null,null,null,null,null,null,null,null,null,null,null,null,null,null,null,null,null,null,null,null,"DB15GRADALTDPLN","__DB_15__GRADALTDPL_N"]
[null,null,null,null,null,null,null,null,null,null,null,null,null,null,null,null,null,null,null,null,null,null,null,null,null,null,null,"DB15MKCN","__DB_15__MKC_N"]
[null,null,null,null,null,null,null,null,null,null,null,null,null,null,null,null,null,null,null,null,null,null,null,null,null,null,null,"DB15RCN","__DB_15__RC_N"]
[null,null,null,null,null,null,null,null,null,null,null,null,null,null,null,null,null,null,null,null,null,null,null,null,null,null,null,"DB15RMAN","__DB_15__RMA_N"]
[null,null,null,null,null,null,null,null,null,null,null,null,null,null,null,null,null,null,null,null,null,null,null,null,null,null,null,"DB15TRANN","__DB_15__TRAN_N"]
[null,null,null,null,null,null,null,null,null,null,null,null,null,null,null,null,null,null,null,null,null,null,null,null,null,null,null,"DB16DN","__DB_16__D_N"]
[null,null,null,null,null,null,null,null,null,null,null,null,null,null,null,null,null,null,null,null,null,null,null,null,null,null,null,"DB16DROPOUTN","__DB_16__DROPOUT_N"]
[null,null,null,null,null,null,null,null,null,null,null,null,null,null,null,null,null,null,null,null,null,null,null,null,null,null,null,"DB16GHSN","__DB_16__GHS_N"]
[null,null,null,null,null,null,null,null,null,null,null,null,null,null,null,null,null,null,null,null,null,null,null,null,null,null,null,"DB16GRADALTDPLN","__DB_16__GRADALTDPL_N"]
[null,null,null,null,null,null,null,null,null,null,null,null,null,null,null,null,null,null,null,null,null,null,null,null,null,null,null,"DB16MKCN","__DB_16__MKC_N"]
[null,null,null,null,null,null,null,null,null,null,null,null,null,null,null,null,null,null,null,null,null,null,null,null,null,null,null,"DB16RCN","__DB_16__RC_N"]
[null,null,null,null,null,null,null,null,null,null,null,null,null,null,null,null,null,null,null,null,null,null,null,null,null,null,null,"DB16RMAN","__DB_16__RMA_N"]
[null,null,null,null,null,null,null,null,null,null,null,null,null,null,null,null,null,null,null,null,null,null,null,null,null,null,null,"DB16TRANN","__DB_16__TRAN_N"]
[null,null,null,null,null,null,null,null,null,null,null,null,null,null,null,null,null,null,null,null,null,null,null,null,null,null,null,"DB17DN","__DB_17__D_N"]
[null,null,null,null,null,null,null,null,null,null,null,null,null,null,null,null,null,null,null,null,null,null,null,null,null,null,null,"DB17DROPOUTN","__DB_17__DROPOUT_N"]
[null,null,null,null,null,null,null,null,null,null,null,null,null,null,null,null,null,null,null,null,null,null,null,null,null,null,null,"DB17GHSN","__DB_17__GHS_N"]
[null,null,null,null,null,null,null,null,null,null,null,null,null,null,null,null,null,null,null,null,null,null,null,null,null,null,null,"DB17GRADALTDPLN","__DB_17__GRADALTDPL_N"]
[null,null,null,null,null,null,null,null,null,null,null,null,null,null,null,null,null,null,null,null,null,null,null,null,null,null,null,"DB17MKCN","__DB_17__MKC_N"]
[null,null,null,null,null,null,null,null,null,null,null,null,null,null,null,null,null,null,null,null,null,null,null,null,null,null,null,"DB17RCN","__DB_17__RC_N"]
[null,null,null,null,null,null,null,null,null,null,null,null,null,null,null,null,null,null,null,null,null,null,null,null,null,null,null,"DB17RMAN","__DB_17__RMA_N"]
[null,null,null,null,null,null,null,null,null,null,null,null,null,null,null,null,null,null,null,null,null,null,null,null,null,null,null,"DB17TRANN","__DB_17__TRAN_N"]
[null,null,null,null,null,null,null,null,null,null,null,null,null,null,null,null,null,null,null,null,null,null,null,null,null,null,null,"DB18DN","__DB_18__D_N"]
[null,null,null,null,null,null,null,null,null,null,null,null,null,null,null,null,null,null,null,null,null,null,null,null,null,null,null,"DB18DROPOUTN","__DB_18__DROPOUT_N"]
[null,null,null,null,null,null,null,null,null,null,null,null,null,null,null,null,null,null,null,null,null,null,null,null,null,null,null,"DB18GHSN","__DB_18__GHS_N"]
[null,null,null,null,null,null,null,null,null,null,null,null,null,null,null,null,null,null,null,null,null,null,null,null,null,null,null,"DB18GRADALTDPLN","__DB_18__GRADALTDPL_N"]
[null,null,null,null,null,null,null,null,null,null,null,null,null,null,null,null,null,null,null,null,null,null,null,null,null,null,null,"DB18MKCN","__DB_18__MKC_N"]
[null,null,null,null,null,null,null,null,null,null,null,null,null,null,null,null,null,null,null,null,null,null,null,null,null,null,null,"DB18RCN","__DB_18__RC_N"]
[null,null,null,null,null,null,null,null,null,null,null,null,null,null,null,null,null,null,null,null,null,null,null,null,null,null,null,"DB18RMAN","__DB_18__RMA_N"]
[null,null,null,null,null,null,null,null,null,null,null,null,null,null,null,null,null,null,null,null,null,null,null,null,null,null,null,"DB18TRANN","__DB_18__TRAN_N"]
[null,null,null,null,null,null,null,null,null,null,null,null,null,null,null,null,null,null,null,null,null,null,null,null,null,null,null,"DB19DN","__DB_19__D_N"]
[null,null,null,null,null,null,null,null,null,null,null,null,null,null,null,null,null,null,null,null,null,null,null,null,null,null,null,"DB19DROPOUTN","__DB_19__DROPOUT_N"]
[null,null,null,null,null,null,null,null,null,null,null,null,null,null,null,null,null,null,null,null,null,null,null,null,null,null,null,"DB19GHSN","__DB_19__GHS_N"]
[null,null,null,null,null,null,null,null,null,null,null,null,null,null,null,null,null,null,null,null,null,null,null,null,null,null,null,"DB19GRADALTDPLN","__DB_19__GRADALTDPL_N"]
[null,null,null,null,null,null,null,null,null,null,null,null,null,null,null,null,null,null,null,null,null,null,null,null,null,null,null,"DB19MKCN","__DB_19__MKC_N"]
[null,null,null,null,null,null,null,null,null,null,null,null,null,null,null,null,null,null,null,null,null,null,null,null,null,null,null,"DB19RCN","__DB_19__RC_N"]
[null,null,null,null,null,null,null,null,null,null,null,null,null,null,null,null,null,null,null,null,null,null,null,null,null,null,null,"DB19RMAN","__DB_19__RMA_N"]
[null,null,null,null,null,null,null,null,null,null,null,null,null,null,null,null,null,null,null,null,null,null,null,null,null,null,null,"DB19TRANN","__DB_19__TRAN_N"]
[null,null,null,null,null,null,null,null,null,null,null,null,null,null,null,null,null,null,null,null,null,null,null,null,null,null,null,"DB20DN","__DB_20__D_N"]
[null,null,null,null,null,null,null,null,null,null,null,null,null,null,null,null,null,null,null,null,null,null,null,null,null,null,null,"DB20DROPOUTN","__DB_20__DROPOUT_N"]
[null,null,null,null,null,null,null,null,null,null,null,null,null,null,null,null,null,null,null,null,null,null,null,null,null,null,null,"DB20GHSN","__DB_20__GHS_N"]
[null,null,null,null,null,null,null,null,null,null,null,null,null,null,null,null,null,null,null,null,null,null,null,null,null,null,null,"DB20GRADALTDPLN","__DB_20__GRADALTDPL_N"]
[null,null,null,null,null,null,null,null,null,null,null,null,null,null,null,null,null,null,null,null,null,null,null,null,null,null,null,"DB20MKCN","__DB_20__MKC_N"]
[null,null,null,null,null,null,null,null,null,null,null,null,null,null,null,null,null,null,null,null,null,null,null,null,null,null,null,"DB20RCN","__DB_20__RC_N"]
[null,null,null,null,null,null,null,null,null,null,null,null,null,null,null,null,null,null,null,null,null,null,null,null,null,null,null,"DB20RMAN","__DB_20__RMA_N"]
[null,null,null,null,null,null,null,null,null,null,null,null,null,null,null,null,null,null,null,null,null,null,null,null,null,null,null,"DB20TRANN","__DB_20__TRAN_N"]
[null,null,null,null,null,null,null,null,null,null,null,null,null,null,null,null,null,null,null,null,null,null,null,null,null,null,null,"DB21DN","__DB_21__D_N"]
[null,null,null,null,null,null,null,null,null,null,null,null,null,null,null,null,null,null,null,null,null,null,null,null,null,null,null,"DB21DROPOUTN","__DB_21__DROPOUT_N"]
[null,null,null,null,null,null,null,null,null,null,null,null,null,null,null,null,null,null,null,null,null,null,null,null,null,null,null,"DB21GHSN","__DB_21__GHS_N"]
[null,null,null,null,null,null,null,null,null,null,null,null,null,null,null,null,null,null,null,null,null,null,null,null,null,null,null,"DB21GRADALTDPLN","__DB_21__GRADALTDPL_N"]
[null,null,null,null,null,null,null,null,null,null,null,null,null,null,null,null,null,null,null,null,null,null,null,null,null,null,null,"DB21MKCN","__DB_21__MKC_N"]
[null,null,null,null,null,null,null,null,null,null,null,null,null,null,null,null,null,null,null,null,null,null,null,null,null,null,null,"DB21RCN","__DB_21__RC_N"]
[null,null,null,null,null,null,null,null,null,null,null,null,null,null,null,null,null,null,null,null,null,null,null,null,null,null,null,"DB21RMAN","__DB_21__RMA_N"]
[null,null,null,null,null,null,null,null,null,null,null,null,null,null,null,null,null,null,null,null,null,null,null,null,null,null,null,"DB21TRANN","__DB_21__TRAN_N"]
[null,null,null,null,null,null,null,null,null,null,null,null,null,null,null,null,null,null,null,null,null,null,null,null,null,null,null,"EMNY","__EMN____Y"]
[null,null,null,null,null,null,null,null,null,null,null,null,null,null,null,null,null,null,null,null,null,null,null,null,null,null,null,"EMN14DN","__EMN_14__D_N"]
[null,null,null,null,null,null,null,null,null,null,null,null,null,null,null,null,null,null,null,null,null,null,null,null,null,null,null,"EMN14DROPOUTN","__EMN_14__DROPOUT_N"]
[null,null,null,null,null,null,null,null,null,null,null,null,null,null,null,null,null,null,null,null,null,null,null,null,null,null,null,"EMN14GHSN","__EMN_14__GHS_N"]
[null,null,null,null,null,null,null,null,null,null,null,null,null,null,null,null,null,null,null,null,null,null,null,null,null,null,null,"EMN14GRADALTDPLN","__EMN_14__GRADALTDPL_N"]
[null,null,null,null,null,null,null,null,null,null,null,null,null,null,null,null,null,null,null,null,null,null,null,null,null,null,null,"EMN14MKCN","__EMN_14__MKC_N"]
[null,null,null,null,null,null,null,null,null,null,null,null,null,null,null,null,null,null,null,null,null,null,null,null,null,null,null,"EMN14RCN","__EMN_14__RC_N"]
[null,null,null,null,null,null,null,null,null,null,null,null,null,null,null,null,null,null,null,null,null,null,null,null,null,null,null,"EMN14RMAN","__EMN_14__RMA_N"]
[null,null,null,null,null,null,null,null,null,null,null,null,null,null,null,null,null,null,null,null,null,null,null,null,null,null,null,"EMN14TRANN","__EMN_14__TRAN_N"]
[null,null,null,null,null,null,null,null,null,null,null,null,null,null,null,null,null,null,null,null,null,null,null,null,null,null,null,"EMN15DN","__EMN_15__D_N"]
[null,null,null,null,null,null,null,null,null,null,null,null,null,null,null,null,null,null,null,null,null,null,null,null,null,null,null,"EMN15DROPOUTN","__EMN_15__DROPOUT_N"]
[null,null,null,null,null,null,null,null,null,null,null,null,null,null,null,null,null,null,null,null,null,null,null,null,null,null,null,"EMN15GHSN","__EMN_15__GHS_N"]
[null,null,null,null,null,null,null,null,null,null,null,null,null,null,null,null,null,null,null,null,null,null,null,null,null,null,null,"EMN15GRADALTDPLN","__EMN_15__GRADALTDPL_N"]
[null,null,null,null,null,null,null,null,null,null,null,null,null,null,null,null,null,null,null,null,null,null,null,null,null,null,null,"EMN15MKCN","__EMN_15__MKC_N"]
[null,null,null,null,null,null,null,null,null,null,null,null,null,null,null,null,null,null,null,null,null,null,null,null,null,null,null,"EMN15RCN","__EMN_15__RC_N"]
[null,null,null,null,null,null,null,null,null,null,null,null,null,null,null,null,null,null,null,null,null,null,null,null,null,null,null,"EMN15RMAN","__EMN_15__RMA_N"]
[null,null,null,null,null,null,null,null,null,null,null,null,null,null,null,null,null,null,null,null,null,null,null,null,null,null,null,"EMN15TRANN","__EMN_15__TRAN_N"]
[null,null,null,null,null,null,null,null,null,null,null,null,null,null,null,null,null,null,null,null,null,null,null,null,null,null,null,"EMN16DN","__EMN_16__D_N"]
[null,null,null,null,null,null,null,null,null,null,null,null,null,null,null,null,null,null,null,null,null,null,null,null,null,null,null,"EMN16DROPOUTN","__EMN_16__DROPOUT_N"]
[null,null,null,null,null,null,null,null,null,null,null,null,null,null,null,null,null,null,null,null,null,null,null,null,null,null,null,"EMN16GHSN","__EMN_16__GHS_N"]
[null,null,null,null,null,null,null,null,null,null,null,null,null,null,null,null,null,null,null,null,null,null,null,null,null,null,null,"EMN16GRADALTDPLN","__EMN_16__GRADALTDPL_N"]
[null,null,null,null,null,null,null,null,null,null,null,null,null,null,null,null,null,null,null,null,null,null,null,null,null,null,null,"EMN16MKCN","__EMN_16__MKC_N"]
[null,null,null,null,null,null,null,null,null,null,null,null,null,null,null,null,null,null,null,null,null,null,null,null,null,null,null,"EMN16RCN","__EMN_16__RC_N"]
[null,null,null,null,null,null,null,null,null,null,null,null,null,null,null,null,null,null,null,null,null,null,null,null,null,null,null,"EMN16RMAN","__EMN_16__RMA_N"]
[null,null,null,null,null,null,null,null,null,null,null,null,null,null,null,null,null,null,null,null,null,null,null,null,null,null,null,"EMN16TRANN","__EMN_16__TRAN_N"]
[null,null,null,null,null,null,null,null,null,null,null,null,null,null,null,null,null,null,null,null,null,null,null,null,null,null,null,"EMN17DN","__EMN_17__D_N"]
[null,null,null,null,null,null,null,null,null,null,null,null,null,null,null,null,null,null,null,null,null,null,null,null,null,null,null,"EMN17DROPOUTN","__EMN_17__DROPOUT_N"]
[null,null,null,null,null,null,null,null,null,null,null,null,null,null,null,null,null,null,null,null,null,null,null,null,null,null,null,"EMN17GHSN","__EMN_17__GHS_N"]
[null,null,null,null,null,null,null,null,null,null,null,null,null,null,null,null,null,null,null,null,null,null,null,null,null,null,null,"EMN17GRADALTDPLN","__EMN_17__GRADALTDPL_N"]
[null,null,null,null,null,null,null,null,null,null,null,null,null,null,null,null,null,null,null,null,null,null,null,null,null,null,null,"EMN17MKCN","__EMN_17__MKC_N"]
[null,null,null,null,null,null,null,null,null,null,null,null,null,null,null,null,null,null,null,null,null,null,null,null,null,null,null,"EMN17RCN","__EMN_17__RC_N"]
[null,null,null,null,null,null,null,null,null,null,null,null,null,null,null,null,null,null,null,null,null,null,null,null,null,null,null,"EMN17RMAN","__EMN_17__RMA_N"]
[null,null,null,null,null,null,null,null,null,null,null,null,null,null,null,null,null,null,null,null,null,null,null,null,null,null,null,"EMN17TRANN","__EMN_17__TRAN_N"]
[null,null,null,null,null,null,null,null,null,null,null,null,null,null,null,null,null,null,null,null,null,null,null,null,null,null,null,"EMN18DN","__EMN_18__D_N"]
[null,null,null,null,null,null,null,null,null,null,null,null,null,null,null,null,null,null,null,null,null,null,null,null,null,null,null,"EMN18DROPOUTN","__EMN_18__DROPOUT_N"]
[null,null,null,null,null,null,null,null,null,null,null,null,null,null,null,null,null,null,null,null,null,null,null,null,null,null,null,"EMN18GHSN","__EMN_18__GHS_N"]
[null,null,null,null,null,null,null,null,null,null,null,null,null,null,null,null,null,null,null,null,null,null,null,null,null,null,null,"EMN18GRADALTDPLN","__EMN_18__GRADALTDPL_N"]
[null,null,null,null,null,null,null,null,null,null,null,null,null,null,null,null,null,null,null,null,null,null,null,null,null,null,null,"EMN18MKCN","__EMN_18__MKC_N"]
[null,null,null,null,null,null,null,null,null,null,null,null,null,null,null,null,null,null,null,null,null,null,null,null,null,null,null,"EMN18RCN","__EMN_18__RC_N"]
[null,null,null,null,null,null,null,null,null,null,null,null,null,null,null,null,null,null,null,null,null,null,null,null,null,null,null,"EMN18RMAN","__EMN_18__RMA_N"]
[null,null,null,null,null,null,null,null,null,null,null,null,null,null,null,null,null,null,null,null,null,null,null,null,null,null,null,"EMN18TRANN","__EMN_18__TRAN_N"]
[null,null,null,null,null,null,null,null,null,null,null,null,null,null,null,null,null,null,null,null,null,null,null,null,null,null,null,"EMN19DN","__EMN_19__D_N"]
[null,null,null,null,null,null,null,null,null,null,null,null,null,null,null,null,null,null,null,null,null,null,null,null,null,null,null,"EMN19DROPOUTN","__EMN_19__DROPOUT_N"]
[null,null,null,null,null,null,null,null,null,null,null,null,null,null,null,null,null,null,null,null,null,null,null,null,null,null,null,"EMN19GHSN","__EMN_19__GHS_N"]
[null,null,null,null,null,null,null,null,null,null,null,null,null,null,null,null,null,null,null,null,null,null,null,null,null,null,null,"EMN19GRADALTDPLN","__EMN_19__GRADALTDPL_N"]
[null,null,null,null,null,null,null,null,null,null,null,null,null,null,null,null,null,null,null,null,null,null,null,null,null,null,null,"EMN19MKCN","__EMN_19__MKC_N"]
[null,null,null,null,null,null,null,null,null,null,null,null,null,null,null,null,null,null,null,null,null,null,null,null,null,null,null,"EMN19RCN","__EMN_19__RC_N"]
[null,null,null,null,null,null,null,null,null,null,null,null,null,null,null,null,null,null,null,null,null,null,null,null,null,null,null,"EMN19RMAN","__EMN_19__RMA_N"]
[null,null,null,null,null,null,null,null,null,null,null,null,null,null,null,null,null,null,null,null,null,null,null,null,null,null,null,"EMN19TRANN","__EMN_19__TRAN_N"]
[null,null,null,null,null,null,null,null,null,null,null,null,null,null,null,null,null,null,null,null,null,null,null,null,null,null,null,"EMN20DN","__EMN_20__D_N"]
[null,null,null,null,null,null,null,null,null,null,null,null,null,null,null,null,null,null,null,null,null,null,null,null,null,null,null,"EMN20DROPOUTN","__EMN_20__DROPOUT_N"]
[null,null,null,null,null,null,null,null,null,null,null,null,null,null,null,null,null,null,null,null,null,null,null,null,null,null,null,"EMN20GHSN","__EMN_20__GHS_N"]
[null,null,null,null,null,null,null,null,null,null,null,null,null,null,null,null,null,null,null,null,null,null,null,null,null,null,null,"EMN20GRADALTDPLN","__EMN_20__GRADALTDPL_N"]
[null,null,null,null,null,null,null,null,null,null,null,null,null,null,null,null,null,null,null,null,null,null,null,null,null,null,null,"EMN20MKCN","__EMN_20__MKC_N"]
[null,null,null,null,null,null,null,null,null,null,null,null,null,null,null,null,null,null,null,null,null,null,null,null,null,null,null,"EMN20RCN","__EMN_20__RC_N"]
[null,null,null,null,null,null,null,null,null,null,null,null,null,null,null,null,null,null,null,null,null,null,null,null,null,null,null,"EMN20RMAN","__EMN_20__RMA_N"]
[null,null,null,null,null,null,null,null,null,null,null,null,null,null,null,null,null,null,null,null,null,null,null,null,null,null,null,"EMN20TRANN","__EMN_20__TRAN_N"]
[null,null,null,null,null,null,null,null,null,null,null,null,null,null,null,null,null,null,null,null,null,null,null,null,null,null,null,"EMN21DN","__EMN_21__D_N"]
[null,null,null,null,null,null,null,null,null,null,null,null,null,null,null,null,null,null,null,null,null,null,null,null,null,null,null,"EMN21DROPOUTN","__EMN_21__DROPOUT_N"]
[null,null,null,null,null,null,null,null,null,null,null,null,null,null,null,null,null,null,null,null,null,null,null,null,null,null,null,"EMN21GHSN","__EMN_21__GHS_N"]
[null,null,null,null,null,null,null,null,null,null,null,null,null,null,null,null,null,null,null,null,null,null,null,null,null,null,null,"EMN21GRADALTDPLN","__EMN_21__GRADALTDPL_N"]
[null,null,null,null,null,null,null,null,null,null,null,null,null,null,null,null,null,null,null,null,null,null,null,null,null,null,null,"EMN21MKCN","__EMN_21__MKC_N"]
[null,null,null,null,null,null,null,null,null,null,null,null,null,null,null,null,null,null,null,null,null,null,null,null,null,null,null,"EMN21RCN","__EMN_21__RC_N"]
[null,null,null,null,null,null,null,null,null,null,null,null,null,null,null,null,null,null,null,null,null,null,null,null,null,null,null,"EMN21RMAN","__EMN_21__RMA_N"]
[null,null,null,null,null,null,null,null,null,null,null,null,null,null,null,null,null,null,null,null,null,null,null,null,null,null,null,"EMN21TRANN","__EMN_21__TRAN_N"]
[null,null,null,null,null,null,null,null,null,null,null,null,null,null,null,null,null,null,null,null,null,null,null,null,null,null,null,"HIY","__HI____Y"]
[null,null,null,null,null,null,null,null,null,null,null,null,null,null,null,null,null,null,null,null,null,null,null,null,null,null,null,"HI14DN","__HI_14__D_N"]
[null,null,null,null,null,null,null,null,null,null,null,null,null,null,null,null,null,null,null,null,null,null,null,null,null,null,null,"HI14DROPOUTN","__HI_14__DROPOUT_N"]
[null,null,null,null,null,null,null,null,null,null,null,null,null,null,null,null,null,null,null,null,null,null,null,null,null,null,null,"HI14GHSN","__HI_14__GHS_N"]
[null,null,null,null,null,null,null,null,null,null,null,null,null,null,null,null,null,null,null,null,null,null,null,null,null,null,null,"HI14GRADALTDPLN","__HI_14__GRADALTDPL_N"]
[null,null,null,null,null,null,null,null,null,null,null,null,null,null,null,null,null,null,null,null,null,null,null,null,null,null,null,"HI14MKCN","__HI_14__MKC_N"]
[null,null,null,null,null,null,null,null,null,null,null,null,null,null,null,null,null,null,null,null,null,null,null,null,null,null,null,"HI14RCN","__HI_14__RC_N"]
[null,null,null,null,null,null,null,null,null,null,null,null,null,null,null,null,null,null,null,null,null,null,null,null,null,null,null,"HI14RMAN","__HI_14__RMA_N"]
[null,null,null,null,null,null,null,null,null,null,null,null,null,null,null,null,null,null,null,null,null,null,null,null,null,null,null,"HI14TRANN","__HI_14__TRAN_N"]
[null,null,null,null,null,null,null,null,null,null,null,null,null,null,null,null,null,null,null,null,null,null,null,null,null,null,null,"HI15DN","__HI_15__D_N"]
[null,null,null,null,null,null,null,null,null,null,null,null,null,null,null,null,null,null,null,null,null,null,null,null,null,null,null,"HI15DROPOUTN","__HI_15__DROPOUT_N"]
[null,null,null,null,null,null,null,null,null,null,null,null,null,null,null,null,null,null,null,null,null,null,null,null,null,null,null,"HI15GHSN","__HI_15__GHS_N"]
[null,null,null,null,null,null,null,null,null,null,null,null,null,null,null,null,null,null,null,null,null,null,null,null,null,null,null,"HI15GRADALTDPLN","__HI_15__GRADALTDPL_N"]
[null,null,null,null,null,null,null,null,null,null,null,null,null,null,null,null,null,null,null,null,null,null,null,null,null,null,null,"HI15MKCN","__HI_15__MKC_N"]
[null,null,null,null,null,null,null,null,null,null,null,null,null,null,null,null,null,null,null,null,null,null,null,null,null,null,null,"HI15RCN","__HI_15__RC_N"]
[null,null,null,null,null,null,null,null,null,null,null,null,null,null,null,null,null,null,null,null,null,null,null,null,null,null,null,"HI15RMAN","__HI_15__RMA_N"]
[null,null,null,null,null,null,null,null,null,null,null,null,null,null,null,null,null,null,null,null,null,null,null,null,null,null,null,"HI15TRANN","__HI_15__TRAN_N"]
[null,null,null,null,null,null,null,null,null,null,null,null,null,null,null,null,null,null,null,null,null,null,null,null,null,null,null,"HI16DN","__HI_16__D_N"]
[null,null,null,null,null,null,null,null,null,null,null,null,null,null,null,null,null,null,null,null,null,null,null,null,null,null,null,"HI16DROPOUTN","__HI_16__DROPOUT_N"]
[null,null,null,null,null,null,null,null,null,null,null,null,null,null,null,null,null,null,null,null,null,null,null,null,null,null,null,"HI16GHSN","__HI_16__GHS_N"]
[null,null,null,null,null,null,null,null,null,null,null,null,null,null,null,null,null,null,null,null,null,null,null,null,null,null,null,"HI16GRADALTDPLN","__HI_16__GRADALTDPL_N"]
[null,null,null,null,null,null,null,null,null,null,null,null,null,null,null,null,null,null,null,null,null,null,null,null,null,null,null,"HI16MKCN","__HI_16__MKC_N"]
[null,null,null,null,null,null,null,null,null,null,null,null,null,null,null,null,null,null,null,null,null,null,null,null,null,null,null,"HI16RCN","__HI_16__RC_N"]
[null,null,null,null,null,null,null,null,null,null,null,null,null,null,null,null,null,null,null,null,null,null,null,null,null,null,null,"HI16RMAN","__HI_16__RMA_N"]
[null,null,null,null,null,null,null,null,null,null,null,null,null,null,null,null,null,null,null,null,null,null,null,null,null,null,null,"HI16TRANN","__HI_16__TRAN_N"]
[null,null,null,null,null,null,null,null,null,null,null,null,null,null,null,null,null,null,null,null,null,null,null,null,null,null,null,"HI17DN","__HI_17__D_N"]
[null,null,null,null,null,null,null,null,null,null,null,null,null,null,null,null,null,null,null,null,null,null,null,null,null,null,null,"HI17DROPOUTN","__HI_17__DROPOUT_N"]
[null,null,null,null,null,null,null,null,null,null,null,null,null,null,null,null,null,null,null,null,null,null,null,null,null,null,null,"HI17GHSN","__HI_17__GHS_N"]
[null,null,null,null,null,null,null,null,null,null,null,null,null,null,null,null,null,null,null,null,null,null,null,null,null,null,null,"HI17GRADALTDPLN","__HI_17__GRADALTDPL_N"]
[null,null,null,null,null,null,null,null,null,null,null,null,null,null,null,null,null,null,null,null,null,null,null,null,null,null,null,"HI17MKCN","__HI_17__MKC_N"]
[null,null,null,null,null,null,null,null,null,null,null,null,null,null,null,null,null,null,null,null,null,null,null,null,null,null,null,"HI17RCN","__HI_17__RC_N"]
[null,null,null,null,null,null,null,null,null,null,null,null,null,null,null,null,null,null,null,null,null,null,null,null,null,null,null,"HI17RMAN","__HI_17__RMA_N"]
[null,null,null,null,null,null,null,null,null,null,null,null,null,null,null,null,null,null,null,null,null,null,null,null,null,null,null,"HI17TRANN","__HI_17__TRAN_N"]
[null,null,null,null,null,null,null,null,null,null,null,null,null,null,null,null,null,null,null,null,null,null,null,null,null,null,null,"HI18DN","__HI_18__D_N"]
[null,null,null,null,null,null,null,null,null,null,null,null,null,null,null,null,null,null,null,null,null,null,null,null,null,null,null,"HI18DROPOUTN","__HI_18__DROPOUT_N"]
[null,null,null,null,null,null,null,null,null,null,null,null,null,null,null,null,null,null,null,null,null,null,null,null,null,null,null,"HI18GHSN","__HI_18__GHS_N"]
[null,null,null,null,null,null,null,null,null,null,null,null,null,null,null,null,null,null,null,null,null,null,null,null,null,null,null,"HI18GRADALTDPLN","__HI_18__GRADALTDPL_N"]
[null,null,null,null,null,null,null,null,null,null,null,null,null,null,null,null,null,null,null,null,null,null,null,null,null,null,null,"HI18MKCN","__HI_18__MKC_N"]
[null,null,null,null,null,null,null,null,null,null,null,null,null,null,null,null,null,null,null,null,null,null,null,null,null,null,null,"HI18RCN","__HI_18__RC_N"]
[null,null,null,null,null,null,null,null,null,null,null,null,null,null,null,null,null,null,null,null,null,null,null,null,null,null,null,"HI18RMAN","__HI_18__RMA_N"]
[null,null,null,null,null,null,null,null,null,null,null,null,null,null,null,null,null,null,null,null,null,null,null,null,null,null,null,"HI18TRANN","__HI_18__TRAN_N"]
[null,null,null,null,null,null,null,null,null,null,null,null,null,null,null,null,null,null,null,null,null,null,null,null,null,null,null,"HI19DN","__HI_19__D_N"]
[null,null,null,null,null,null,null,null,null,null,null,null,null,null,null,null,null,null,null,null,null,null,null,null,null,null,null,"HI19DROPOUTN","__HI_19__DROPOUT_N"]
[null,null,null,null,null,null,null,null,null,null,null,null,null,null,null,null,null,null,null,null,null,null,null,null,null,null,null,"HI19GHSN","__HI_19__GHS_N"]
[null,null,null,null,null,null,null,null,null,null,null,null,null,null,null,null,null,null,null,null,null,null,null,null,null,null,null,"HI19GRADALTDPLN","__HI_19__GRADALTDPL_N"]
[null,null,null,null,null,null,null,null,null,null,null,null,null,null,null,null,null,null,null,null,null,null,null,null,null,null,null,"HI19MKCN","__HI_19__MKC_N"]
[null,null,null,null,null,null,null,null,null,null,null,null,null,null,null,null,null,null,null,null,null,null,null,null,null,null,null,"HI19RCN","__HI_19__RC_N"]
[null,null,null,null,null,null,null,null,null,null,null,null,null,null,null,null,null,null,null,null,null,null,null,null,null,null,null,"HI19RMAN","__HI_19__RMA_N"]
[null,null,null,null,null,null,null,null,null,null,null,null,null,null,null,null,null,null,null,null,null,null,null,null,null,null,null,"HI19TRANN","__HI_19__TRAN_N"]
[null,null,null,null,null,null,null,null,null,null,null,null,null,null,null,null,null,null,null,null,null,null,null,null,null,null,null,"HI20DN","__HI_20__D_N"]
[null,null,null,null,null,null,null,null,null,null,null,null,null,null,null,null,null,null,null,null,null,null,null,null,null,null,null,"HI20DROPOUTN","__HI_20__DROPOUT_N"]
[null,null,null,null,null,null,null,null,null,null,null,null,null,null,null,null,null,null,null,null,null,null,null,null,null,null,null,"HI20GHSN","__HI_20__GHS_N"]
[null,null,null,null,null,null,null,null,null,null,null,null,null,null,null,null,null,null,null,null,null,null,null,null,null,null,null,"HI20GRADALTDPLN","__HI_20__GRADALTDPL_N"]
[null,null,null,null,null,null,null,null,null,null,null,null,null,null,null,null,null,null,null,null,null,null,null,null,null,null,null,"HI20MKCN","__HI_20__MKC_N"]
[null,null,null,null,null,null,null,null,null,null,null,null,null,null,null,null,null,null,null,null,null,null,null,null,null,null,null,"HI20RCN","__HI_20__RC_N"]
[null,null,null,null,null,null,null,null,null,null,null,null,null,null,null,null,null,null,null,null,null,null,null,null,null,null,null,"HI20RMAN","__HI_20__RMA_N"]
[null,null,null,null,null,null,null,null,null,null,null,null,null,null,null,null,null,null,null,null,null,null,null,null,null,null,null,"HI20TRANN","__HI_20__TRAN_N"]
[null,null,null,null,null,null,null,null,null,null,null,null,null,null,null,null,null,null,null,null,null,null,null,null,null,null,null,"HI21DN","__HI_21__D_N"]
[null,null,null,null,null,null,null,null,null,null,null,null,null,null,null,null,null,null,null,null,null,null,null,null,null,null,null,"HI21DROPOUTN","__HI_21__DROPOUT_N"]
[null,null,null,null,null,null,null,null,null,null,null,null,null,null,null,null,null,null,null,null,null,null,null,null,null,null,null,"HI21GHSN","__HI_21__GHS_N"]
[null,null,null,null,null,null,null,null,null,null,null,null,null,null,null,null,null,null,null,null,null,null,null,null,null,null,null,"HI21GRADALTDPLN","__HI_21__GRADALTDPL_N"]
[null,null,null,null,null,null,null,null,null,null,null,null,null,null,null,null,null,null,null,null,null,null,null,null,null,null,null,"HI21MKCN","__HI_21__MKC_N"]
[null,null,null,null,null,null,null,null,null,null,null,null,null,null,null,null,null,null,null,null,null,null,null,null,null,null,null,"HI21RCN","__HI_21__RC_N"]
[null,null,null,null,null,null,null,null,null,null,null,null,null,null,null,null,null,null,null,null,null,null,null,null,null,null,null,"HI21RMAN","__HI_21__RMA_N"]
[null,null,null,null,null,null,null,null,null,null,null,null,null,null,null,null,null,null,null,null,null,null,null,null,null,null,null,"HI21TRANN","__HI_21__TRAN_N"]
[null,null,null,null,null,null,null,null,null,null,null,null,null,null,null,null,null,null,null,null,null,null,null,null,null,null,null,"MDY","__MD____Y"]
[null,null,null,null,null,null,null,null,null,null,null,null,null,null,null,null,null,null,null,null,null,null,null,null,null,null,null,"MD14DN","__MD_14__D_N"]
[null,null,null,null,null,null,null,null,null,null,null,null,null,null,null,null,null,null,null,null,null,null,null,null,null,null,null,"MD14DROPOUTN","__MD_14__DROPOUT_N"]
[null,null,null,null,null,null,null,null,null,null,null,null,null,null,null,null,null,null,null,null,null,null,null,null,null,null,null,"MD14GHSN","__MD_14__GHS_N"]
[null,null,null,null,null,null,null,null,null,null,null,null,null,null,null,null,null,null,null,null,null,null,null,null,null,null,null,"MD14GRADALTDPLN","__MD_14__GRADALTDPL_N"]
[null,null,null,null,null,null,null,null,null,null,null,null,null,null,null,null,null,null,null,null,null,null,null,null,null,null,null,"MD14MKCN","__MD_14__MKC_N"]
[null,null,null,null,null,null,null,null,null,null,null,null,null,null,null,null,null,null,null,null,null,null,null,null,null,null,null,"MD14RCN","__MD_14__RC_N"]
[null,null,null,null,null,null,null,null,null,null,null,null,null,null,null,null,null,null,null,null,null,null,null,null,null,null,null,"MD14RMAN","__MD_14__RMA_N"]
[null,null,null,null,null,null,null,null,null,null,null,null,null,null,null,null,null,null,null,null,null,null,null,null,null,null,null,"MD14TRANN","__MD_14__TRAN_N"]
[null,null,null,null,null,null,null,null,null,null,null,null,null,null,null,null,null,null,null,null,null,null,null,null,null,null,null,"MD15DN","__MD_15__D_N"]
[null,null,null,null,null,null,null,null,null,null,null,null,null,null,null,null,null,null,null,null,null,null,null,null,null,null,null,"MD15DROPOUTN","__MD_15__DROPOUT_N"]
[null,null,null,null,null,null,null,null,null,null,null,null,null,null,null,null,null,null,null,null,null,null,null,null,null,null,null,"MD15GHSN","__MD_15__GHS_N"]
[null,null,null,null,null,null,null,null,null,null,null,null,null,null,null,null,null,null,null,null,null,null,null,null,null,null,null,"MD15GRADALTDPLN","__MD_15__GRADALTDPL_N"]
[null,null,null,null,null,null,null,null,null,null,null,null,null,null,null,null,null,null,null,null,null,null,null,null,null,null,null,"MD15MKCN","__MD_15__MKC_N"]
[null,null,null,null,null,null,null,null,null,null,null,null,null,null,null,null,null,null,null,null,null,null,null,null,null,null,null,"MD15RCN","__MD_15__RC_N"]
[null,null,null,null,null,null,null,null,null,null,null,null,null,null,null,null,null,null,null,null,null,null,null,null,null,null,null,"MD15RMAN","__MD_15__RMA_N"]
[null,null,null,null,null,null,null,null,null,null,null,null,null,null,null,null,null,null,null,null,null,null,null,null,null,null,null,"MD15TRANN","__MD_15__TRAN_N"]
[null,null,null,null,null,null,null,null,null,null,null,null,null,null,null,null,null,null,null,null,null,null,null,null,null,null,null,"MD16DN","__MD_16__D_N"]
[null,null,null,null,null,null,null,null,null,null,null,null,null,null,null,null,null,null,null,null,null,null,null,null,null,null,null,"MD16DROPOUTN","__MD_16__DROPOUT_N"]
[null,null,null,null,null,null,null,null,null,null,null,null,null,null,null,null,null,null,null,null,null,null,null,null,null,null,null,"MD16GHSN","__MD_16__GHS_N"]
[null,null,null,null,null,null,null,null,null,null,null,null,null,null,null,null,null,null,null,null,null,null,null,null,null,null,null,"MD16GRADALTDPLN","__MD_16__GRADALTDPL_N"]
[null,null,null,null,null,null,null,null,null,null,null,null,null,null,null,null,null,null,null,null,null,null,null,null,null,null,null,"MD16MKCN","__MD_16__MKC_N"]
[null,null,null,null,null,null,null,null,null,null,null,null,null,null,null,null,null,null,null,null,null,null,null,null,null,null,null,"MD16RCN","__MD_16__RC_N"]
[null,null,null,null,null,null,null,null,null,null,null,null,null,null,null,null,null,null,null,null,null,null,null,null,null,null,null,"MD16RMAN","__MD_16__RMA_N"]
[null,null,null,null,null,null,null,null,null,null,null,null,null,null,null,null,null,null,null,null,null,null,null,null,null,null,null,"MD16TRANN","__MD_16__TRAN_N"]
[null,null,null,null,null,null,null,null,null,null,null,null,null,null,null,null,null,null,null,null,null,null,null,null,null,null,null,"MD17DN","__MD_17__D_N"]
[null,null,null,null,null,null,null,null,null,null,null,null,null,null,null,null,null,null,null,null,null,null,null,null,null,null,null,"MD17DROPOUTN","__MD_17__DROPOUT_N"]
[null,null,null,null,null,null,null,null,null,null,null,null,null,null,null,null,null,null,null,null,null,null,null,null,null,null,null,"MD17GHSN","__MD_17__GHS_N"]
[null,null,null,null,null,null,null,null,null,null,null,null,null,null,null,null,null,null,null,null,null,null,null,null,null,null,null,"MD17GRADALTDPLN","__MD_17__GRADALTDPL_N"]
[null,null,null,null,null,null,null,null,null,null,null,null,null,null,null,null,null,null,null,null,null,null,null,null,null,null,null,"MD17MKCN","__MD_17__MKC_N"]
[null,null,null,null,null,null,null,null,null,null,null,null,null,null,null,null,null,null,null,null,null,null,null,null,null,null,null,"MD17RCN","__MD_17__RC_N"]
[null,null,null,null,null,null,null,null,null,null,null,null,null,null,null,null,null,null,null,null,null,null,null,null,null,null,null,"MD17RMAN","__MD_17__RMA_N"]
[null,null,null,null,null,null,null,null,null,null,null,null,null,null,null,null,null,null,null,null,null,null,null,null,null,null,null,"MD17TRANN","__MD_17__TRAN_N"]
[null,null,null,null,null,null,null,null,null,null,null,null,null,null,null,null,null,null,null,null,null,null,null,null,null,null,null,"MD18DN","__MD_18__D_N"]
[null,null,null,null,null,null,null,null,null,null,null,null,null,null,null,null,null,null,null,null,null,null,null,null,null,null,null,"MD18DROPOUTN","__MD_18__DROPOUT_N"]
[null,null,null,null,null,null,null,null,null,null,null,null,null,null,null,null,null,null,null,null,null,null,null,null,null,null,null,"MD18GHSN","__MD_18__GHS_N"]
[null,null,null,null,null,null,null,null,null,null,null,null,null,null,null,null,null,null,null,null,null,null,null,null,null,null,null,"MD18GRADALTDPLN","__MD_18__GRADALTDPL_N"]
[null,null,null,null,null,null,null,null,null,null,null,null,null,null,null,null,null,null,null,null,null,null,null,null,null,null,null,"MD18MKCN","__MD_18__MKC_N"]
[null,null,null,null,null,null,null,null,null,null,null,null,null,null,null,null,null,null,null,null,null,null,null,null,null,null,null,"MD18RCN","__MD_18__RC_N"]
[null,null,null,null,null,null,null,null,null,null,null,null,null,null,null,null,null,null,null,null,null,null,null,null,null,null,null,"MD18RMAN","__MD_18__RMA_N"]
[null,null,null,null,null,null,null,null,null,null,null,null,null,null,null,null,null,null,null,null,null,null,null,null,null,null,null,"MD18TRANN","__MD_18__TRAN_N"]
[null,null,null,null,null,null,null,null,null,null,null,null,null,null,null,null,null,null,null,null,null,null,null,null,null,null,null,"MD19DN","__MD_19__D_N"]
[null,null,null,null,null,null,null,null,null,null,null,null,null,null,null,null,null,null,null,null,null,null,null,null,null,null,null,"MD19DROPOUTN","__MD_19__DROPOUT_N"]
[null,null,null,null,null,null,null,null,null,null,null,null,null,null,null,null,null,null,null,null,null,null,null,null,null,null,null,"MD19GHSN","__MD_19__GHS_N"]
[null,null,null,null,null,null,null,null,null,null,null,null,null,null,null,null,null,null,null,null,null,null,null,null,null,null,null,"MD19GRADALTDPLN","__MD_19__GRADALTDPL_N"]
[null,null,null,null,null,null,null,null,null,null,null,null,null,null,null,null,null,null,null,null,null,null,null,null,null,null,null,"MD19MKCN","__MD_19__MKC_N"]
[null,null,null,null,null,null,null,null,null,null,null,null,null,null,null,null,null,null,null,null,null,null,null,null,null,null,null,"MD19RCN","__MD_19__RC_N"]
[null,null,null,null,null,null,null,null,null,null,null,null,null,null,null,null,null,null,null,null,null,null,null,null,null,null,null,"MD19RMAN","__MD_19__RMA_N"]
[null,null,null,null,null,null,null,null,null,null,null,null,null,null,null,null,null,null,null,null,null,null,null,null,null,null,null,"MD19TRANN","__MD_19__TRAN_N"]
[null,null,null,null,null,null,null,null,null,null,null,null,null,null,null,null,null,null,null,null,null,null,null,null,null,null,null,"MD20DN","__MD_20__D_N"]
[null,null,null,null,null,null,null,null,null,null,null,null,null,null,null,null,null,null,null,null,null,null,null,null,null,null,null,"MD20DROPOUTN","__MD_20__DROPOUT_N"]
[null,null,null,null,null,null,null,null,null,null,null,null,null,null,null,null,null,null,null,null,null,null,null,null,null,null,null,"MD20GHSN","__MD_20__GHS_N"]
[null,null,null,null,null,null,null,null,null,null,null,null,null,null,null,null,null,null,null,null,null,null,null,null,null,null,null,"MD20GRADALTDPLN","__MD_20__GRADALTDPL_N"]
[null,null,null,null,null,null,null,null,null,null,null,null,null,null,null,null,null,null,null,null,null,null,null,null,null,null,null,"MD20MKCN","__MD_20__MKC_N"]
[null,null,null,null,null,null,null,null,null,null,null,null,null,null,null,null,null,null,null,null,null,null,null,null,null,null,null,"MD20RCN","__MD_20__RC_N"]
[null,null,null,null,null,null,null,null,null,null,null,null,null,null,null,null,null,null,null,null,null,null,null,null,null,null,null,"MD20RMAN","__MD_20__RMA_N"]
[null,null,null,null,null,null,null,null,null,null,null,null,null,null,null,null,null,null,null,null,null,null,null,null,null,null,null,"MD20TRANN","__MD_20__TRAN_N"]
[null,null,null,null,null,null,null,null,null,null,null,null,null,null,null,null,null,null,null,null,null,null,null,null,null,null,null,"MD21DN","__MD_21__D_N"]
[null,null,null,null,null,null,null,null,null,null,null,null,null,null,null,null,null,null,null,null,null,null,null,null,null,null,null,"MD21DROPOUTN","__MD_21__DROPOUT_N"]
[null,null,null,null,null,null,null,null,null,null,null,null,null,null,null,null,null,null,null,null,null,null,null,null,null,null,null,"MD21GHSN","__MD_21__GHS_N"]
[null,null,null,null,null,null,null,null,null,null,null,null,null,null,null,null,null,null,null,null,null,null,null,null,null,null,null,"MD21GRADALTDPLN","__MD_21__GRADALTDPL_N"]
[null,null,null,null,null,null,null,null,null,null,null,null,null,null,null,null,null,null,null,null,null,null,null,null,null,null,null,"MD21MKCN","__MD_21__MKC_N"]
[null,null,null,null,null,null,null,null,null,null,null,null,null,null,null,null,null,null,null,null,null,null,null,null,null,null,null,"MD21RCN","__MD_21__RC_N"]
[null,null,null,null,null,null,null,null,null,null,null,null,null,null,null,null,null,null,null,null,null,null,null,null,null,null,null,"MD21RMAN","__MD_21__RMA_N"]
[null,null,null,null,null,null,null,null,null,null,null,null,null,null,null,null,null,null,null,null,null,null,null,null,null,null,null,"MD21TRANN","__MD_21__TRAN_N"]
[null,null,null,null,null,null,null,null,null,null,null,null,null,null,null,null,null,null,null,null,null,null,null,null,null,null,null,"MRY","__MR____Y"]
[null,null,null,null,null,null,null,null,null,null,null,null,null,null,null,null,null,null,null,null,null,null,null,null,null,null,null,"MR14DN","__MR_14__D_N"]
[null,null,null,null,null,null,null,null,null,null,null,null,null,null,null,null,null,null,null,null,null,null,null,null,null,null,null,"MR14DROPOUTN","__MR_14__DROPOUT_N"]
[null,null,null,null,null,null,null,null,null,null,null,null,null,null,null,null,null,null,null,null,null,null,null,null,null,null,null,"MR14GHSN","__MR_14__GHS_N"]
[null,null,null,null,null,null,null,null,null,null,null,null,null,null,null,null,null,null,null,null,null,null,null,null,null,null,null,"MR14GRADALTDPLN","__MR_14__GRADALTDPL_N"]
[null,null,null,null,null,null,null,null,null,null,null,null,null,null,null,null,null,null,null,null,null,null,null,null,null,null,null,"MR14MKCN","__MR_14__MKC_N"]
[null,null,null,null,null,null,null,null,null,null,null,null,null,null,null,null,null,null,null,null,null,null,null,null,null,null,null,"MR14RCN","__MR_14__RC_N"]
[null,null,null,null,null,null,null,null,null,null,null,null,null,null,null,null,null,null,null,null,null,null,null,null,null,null,null,"MR14RMAN","__MR_14__RMA_N"]
[null,null,null,null,null,null,null,null,null,null,null,null,null,null,null,null,null,null,null,null,null,null,null,null,null,null,null,"MR14TRANN","__MR_14__TRAN_N"]
[null,null,null,null,null,null,null,null,null,null,null,null,null,null,null,null,null,null,null,null,null,null,null,null,null,null,null,"MR15DN","__MR_15__D_N"]
[null,null,null,null,null,null,null,null,null,null,null,null,null,null,null,null,null,null,null,null,null,null,null,null,null,null,null,"MR15DROPOUTN","__MR_15__DROPOUT_N"]
[null,null,null,null,null,null,null,null,null,null,null,null,null,null,null,null,null,null,null,null,null,null,null,null,null,null,null,"MR15GHSN","__MR_15__GHS_N"]
[null,null,null,null,null,null,null,null,null,null,null,null,null,null,null,null,null,null,null,null,null,null,null,null,null,null,null,"MR15GRADALTDPLN","__MR_15__GRADALTDPL_N"]
[null,null,null,null,null,null,null,null,null,null,null,null,null,null,null,null,null,null,null,null,null,null,null,null,null,null,null,"MR15MKCN","__MR_15__MKC_N"]
[null,null,null,null,null,null,null,null,null,null,null,null,null,null,null,null,null,null,null,null,null,null,null,null,null,null,null,"MR15RCN","__MR_15__RC_N"]
[null,null,null,null,null,null,null,null,null,null,null,null,null,null,null,null,null,null,null,null,null,null,null,null,null,null,null,"MR15RMAN","__MR_15__RMA_N"]
[null,null,null,null,null,null,null,null,null,null,null,null,null,null,null,null,null,null,null,null,null,null,null,null,null,null,null,"MR15TRANN","__MR_15__TRAN_N"]
[null,null,null,null,null,null,null,null,null,null,null,null,null,null,null,null,null,null,null,null,null,null,null,null,null,null,null,"MR16DN","__MR_16__D_N"]
[null,null,null,null,null,null,null,null,null,null,null,null,null,null,null,null,null,null,null,null,null,null,null,null,null,null,null,"MR16DROPOUTN","__MR_16__DROPOUT_N"]
[null,null,null,null,null,null,null,null,null,null,null,null,null,null,null,null,null,null,null,null,null,null,null,null,null,null,null,"MR16GHSN","__MR_16__GHS_N"]
[null,null,null,null,null,null,null,null,null,null,null,null,null,null,null,null,null,null,null,null,null,null,null,null,null,null,null,"MR16GRADALTDPLN","__MR_16__GRADALTDPL_N"]
[null,null,null,null,null,null,null,null,null,null,null,null,null,null,null,null,null,null,null,null,null,null,null,null,null,null,null,"MR16MKCN","__MR_16__MKC_N"]
[null,null,null,null,null,null,null,null,null,null,null,null,null,null,null,null,null,null,null,null,null,null,null,null,null,null,null,"MR16RCN","__MR_16__RC_N"]
[null,null,null,null,null,null,null,null,null,null,null,null,null,null,null,null,null,null,null,null,null,null,null,null,null,null,null,"MR16RMAN","__MR_16__RMA_N"]
[null,null,null,null,null,null,null,null,null,null,null,null,null,null,null,null,null,null,null,null,null,null,null,null,null,null,null,"MR16TRANN","__MR_16__TRAN_N"]
[null,null,null,null,null,null,null,null,null,null,null,null,null,null,null,null,null,null,null,null,null,null,null,null,null,null,null,"MR17DN","__MR_17__D_N"]
[null,null,null,null,null,null,null,null,null,null,null,null,null,null,null,null,null,null,null,null,null,null,null,null,null,null,null,"MR17DROPOUTN","__MR_17__DROPOUT_N"]
[null,null,null,null,null,null,null,null,null,null,null,null,null,null,null,null,null,null,null,null,null,null,null,null,null,null,null,"MR17GHSN","__MR_17__GHS_N"]
[null,null,null,null,null,null,null,null,null,null,null,null,null,null,null,null,null,null,null,null,null,null,null,null,null,null,null,"MR17GRADALTDPLN","__MR_17__GRADALTDPL_N"]
[null,null,null,null,null,null,null,null,null,null,null,null,null,null,null,null,null,null,null,null,null,null,null,null,null,null,null,"MR17MKCN","__MR_17__MKC_N"]
[null,null,null,null,null,null,null,null,null,null,null,null,null,null,null,null,null,null,null,null,null,null,null,null,null,null,null,"MR17RCN","__MR_17__RC_N"]
[null,null,null,null,null,null,null,null,null,null,null,null,null,null,null,null,null,null,null,null,null,null,null,null,null,null,null,"MR17RMAN","__MR_17__RMA_N"]
[null,null,null,null,null,null,null,null,null,null,null,null,null,null,null,null,null,null,null,null,null,null,null,null,null,null,null,"MR17TRANN","__MR_17__TRAN_N"]
[null,null,null,null,null,null,null,null,null,null,null,null,null,null,null,null,null,null,null,null,null,null,null,null,null,null,null,"MR18DN","__MR_18__D_N"]
[null,null,null,null,null,null,null,null,null,null,null,null,null,null,null,null,null,null,null,null,null,null,null,null,null,null,null,"MR18DROPOUTN","__MR_18__DROPOUT_N"]
[null,null,null,null,null,null,null,null,null,null,null,null,null,null,null,null,null,null,null,null,null,null,null,null,null,null,null,"MR18GHSN","__MR_18__GHS_N"]
[null,null,null,null,null,null,null,null,null,null,null,null,null,null,null,null,null,null,null,null,null,null,null,null,null,null,null,"MR18GRADALTDPLN","__MR_18__GRADALTDPL_N"]
[null,null,null,null,null,null,null,null,null,null,null,null,null,null,null,null,null,null,null,null,null,null,null,null,null,null,null,"MR18MKCN","__MR_18__MKC_N"]
[null,null,null,null,null,null,null,null,null,null,null,null,null,null,null,null,null,null,null,null,null,null,null,null,null,null,null,"MR18RCN","__MR_18__RC_N"]
[null,null,null,null,null,null,null,null,null,null,null,null,null,null,null,null,null,null,null,null,null,null,null,null,null,null,null,"MR18RMAN","__MR_18__RMA_N"]
[null,null,null,null,null,null,null,null,null,null,null,null,null,null,null,null,null,null,null,null,null,null,null,null,null,null,null,"MR18TRANN","__MR_18__TRAN_N"]
[null,null,null,null,null,null,null,null,null,null,null,null,null,null,null,null,null,null,null,null,null,null,null,null,null,null,null,"MR19DN","__MR_19__D_N"]
[null,null,null,null,null,null,null,null,null,null,null,null,null,null,null,null,null,null,null,null,null,null,null,null,null,null,null,"MR19DROPOUTN","__MR_19__DROPOUT_N"]
[null,null,null,null,null,null,null,null,null,null,null,null,null,null,null,null,null,null,null,null,null,null,null,null,null,null,null,"MR19GHSN","__MR_19__GHS_N"]
[null,null,null,null,null,null,null,null,null,null,null,null,null,null,null,null,null,null,null,null,null,null,null,null,null,null,null,"MR19GRADALTDPLN","__MR_19__GRADALTDPL_N"]
[null,null,null,null,null,null,null,null,null,null,null,null,null,null,null,null,null,null,null,null,null,null,null,null,null,null,null,"MR19MKCN","__MR_19__MKC_N"]
[null,null,null,null,null,null,null,null,null,null,null,null,null,null,null,null,null,null,null,null,null,null,null,null,null,null,null,"MR19RCN","__MR_19__RC_N"]
[null,null,null,null,null,null,null,null,null,null,null,null,null,null,null,null,null,null,null,null,null,null,null,null,null,null,null,"MR19RMAN","__MR_19__RMA_N"]
[null,null,null,null,null,null,null,null,null,null,null,null,null,null,null,null,null,null,null,null,null,null,null,null,null,null,null,"MR19TRANN","__MR_19__TRAN_N"]
[null,null,null,null,null,null,null,null,null,null,null,null,null,null,null,null,null,null,null,null,null,null,null,null,null,null,null,"MR20DN","__MR_20__D_N"]
[null,null,null,null,null,null,null,null,null,null,null,null,null,null,null,null,null,null,null,null,null,null,null,null,null,null,null,"MR20DROPOUTN","__MR_20__DROPOUT_N"]
[null,null,null,null,null,null,null,null,null,null,null,null,null,null,null,null,null,null,null,null,null,null,null,null,null,null,null,"MR20GHSN","__MR_20__GHS_N"]
[null,null,null,null,null,null,null,null,null,null,null,null,null,null,null,null,null,null,null,null,null,null,null,null,null,null,null,"MR20GRADALTDPLN","__MR_20__GRADALTDPL_N"]
[null,null,null,null,null,null,null,null,null,null,null,null,null,null,null,null,null,null,null,null,null,null,null,null,null,null,null,"MR20MKCN","__MR_20__MKC_N"]
[null,null,null,null,null,null,null,null,null,null,null,null,null,null,null,null,null,null,null,null,null,null,null,null,null,null,null,"MR20RCN","__MR_20__RC_N"]
[null,null,null,null,null,null,null,null,null,null,null,null,null,null,null,null,null,null,null,null,null,null,null,null,null,null,null,"MR20RMAN","__MR_20__RMA_N"]
[null,null,null,null,null,null,null,null,null,null,null,null,null,null,null,null,null,null,null,null,null,null,null,null,null,null,null,"MR20TRANN","__MR_20__TRAN_N"]
[null,null,null,null,null,null,null,null,null,null,null,null,null,null,null,null,null,null,null,null,null,null,null,null,null,null,null,"MR21DN","__MR_21__D_N"]
[null,null,null,null,null,null,null,null,null,null,null,null,null,null,null,null,null,null,null,null,null,null,null,null,null,null,null,"MR21DROPOUTN","__MR_21__DROPOUT_N"]
[null,null,null,null,null,null,null,null,null,null,null,null,null,null,null,null,null,null,null,null,null,null,null,null,null,null,null,"MR21GHSN","__MR_21__GHS_N"]
[null,null,null,null,null,null,null,null,null,null,null,null,null,null,null,null,null,null,null,null,null,null,null,null,null,null,null,"MR21GRADALTDPLN","__MR_21__GRADALTDPL_N"]
[null,null,null,null,null,null,null,null,null,null,null,null,null,null,null,null,null,null,null,null,null,null,null,null,null,null,null,"MR21MKCN","__MR_21__MKC_N"]
[null,null,null,null,null,null,null,null,null,null,null,null,null,null,null,null,null,null,null,null,null,null,null,null,null,null,null,"MR21RCN","__MR_21__RC_N"]
[null,null,null,null,null,null,null,null,null,null,null,null,null,null,null,null,null,null,null,null,null,null,null,null,null,null,null,"MR21RMAN","__MR_21__RMA_N"]
[null,null,null,null,null,null,null,null,null,null,null,null,null,null,null,null,null,null,null,null,null,null,null,null,null,null,null,"MR21TRANN","__MR_21__TRAN_N"]
[null,null,null,null,null,null,null,null,null,null,null,null,null,null,null,null,null,null,null,null,null,null,null,null,null,null,null,"OHIY","__OHI____Y"]
[null,null,null,null,null,null,null,null,null,null,null,null,null,null,null,null,null,null,null,null,null,null,null,null,null,null,null,"OHI14DN","__OHI_14__D_N"]
[null,null,null,null,null,null,null,null,null,null,null,null,null,null,null,null,null,null,null,null,null,null,null,null,null,null,null,"OHI14DROPOUTN","__OHI_14__DROPOUT_N"]
[null,null,null,null,null,null,null,null,null,null,null,null,null,null,null,null,null,null,null,null,null,null,null,null,null,null,null,"OHI14GHSN","__OHI_14__GHS_N"]
[null,null,null,null,null,null,null,null,null,null,null,null,null,null,null,null,null,null,null,null,null,null,null,null,null,null,null,"OHI14GRADALTDPLN","__OHI_14__GRADALTDPL_N"]
[null,null,null,null,null,null,null,null,null,null,null,null,null,null,null,null,null,null,null,null,null,null,null,null,null,null,null,"OHI14MKCN","__OHI_14__MKC_N"]
[null,null,null,null,null,null,null,null,null,null,null,null,null,null,null,null,null,null,null,null,null,null,null,null,null,null,null,"OHI14RCN","__OHI_14__RC_N"]
[null,null,null,null,null,null,null,null,null,null,null,null,null,null,null,null,null,null,null,null,null,null,null,null,null,null,null,"OHI14RMAN","__OHI_14__RMA_N"]
[null,null,null,null,null,null,null,null,null,null,null,null,null,null,null,null,null,null,null,null,null,null,null,null,null,null,null,"OHI14TRANN","__OHI_14__TRAN_N"]
[null,null,null,null,null,null,null,null,null,null,null,null,null,null,null,null,null,null,null,null,null,null,null,null,null,null,null,"OHI15DN","__OHI_15__D_N"]
[null,null,null,null,null,null,null,null,null,null,null,null,null,null,null,null,null,null,null,null,null,null,null,null,null,null,null,"OHI15DROPOUTN","__OHI_15__DROPOUT_N"]
[null,null,null,null,null,null,null,null,null,null,null,null,null,null,null,null,null,null,null,null,null,null,null,null,null,null,null,"OHI15GHSN","__OHI_15__GHS_N"]
[null,null,null,null,null,null,null,null,null,null,null,null,null,null,null,null,null,null,null,null,null,null,null,null,null,null,null,"OHI15GRADALTDPLN","__OHI_15__GRADALTDPL_N"]
[null,null,null,null,null,null,null,null,null,null,null,null,null,null,null,null,null,null,null,null,null,null,null,null,null,null,null,"OHI15MKCN","__OHI_15__MKC_N"]
[null,null,null,null,null,null,null,null,null,null,null,null,null,null,null,null,null,null,null,null,null,null,null,null,null,null,null,"OHI15RCN","__OHI_15__RC_N"]
[null,null,null,null,null,null,null,null,null,null,null,null,null,null,null,null,null,null,null,null,null,null,null,null,null,null,null,"OHI15RMAN","__OHI_15__RMA_N"]
[null,null,null,null,null,null,null,null,null,null,null,null,null,null,null,null,null,null,null,null,null,null,null,null,null,null,null,"OHI15TRANN","__OHI_15__TRAN_N"]
[null,null,null,null,null,null,null,null,null,null,null,null,null,null,null,null,null,null,null,null,null,null,null,null,null,null,null,"OHI16DN","__OHI_16__D_N"]
[null,null,null,null,null,null,null,null,null,null,null,null,null,null,null,null,null,null,null,null,null,null,null,null,null,null,null,"OHI16DROPOUTN","__OHI_16__DROPOUT_N"]
[null,null,null,null,null,null,null,null,null,null,null,null,null,null,null,null,null,null,null,null,null,null,null,null,null,null,null,"OHI16GHSN","__OHI_16__GHS_N"]
[null,null,null,null,null,null,null,null,null,null,null,null,null,null,null,null,null,null,null,null,null,null,null,null,null,null,null,"OHI16GRADALTDPLN","__OHI_16__GRADALTDPL_N"]
[null,null,null,null,null,null,null,null,null,null,null,null,null,null,null,null,null,null,null,null,null,null,null,null,null,null,null,"OHI16MKCN","__OHI_16__MKC_N"]
[null,null,null,null,null,null,null,null,null,null,null,null,null,null,null,null,null,null,null,null,null,null,null,null,null,null,null,"OHI16RCN","__OHI_16__RC_N"]
[null,null,null,null,null,null,null,null,null,null,null,null,null,null,null,null,null,null,null,null,null,null,null,null,null,null,null,"OHI16RMAN","__OHI_16__RMA_N"]
[null,null,null,null,null,null,null,null,null,null,null,null,null,null,null,null,null,null,null,null,null,null,null,null,null,null,null,"OHI16TRANN","__OHI_16__TRAN_N"]
[null,null,null,null,null,null,null,null,null,null,null,null,null,null,null,null,null,null,null,null,null,null,null,null,null,null,null,"OHI17DN","__OHI_17__D_N"]
[null,null,null,null,null,null,null,null,null,null,null,null,null,null,null,null,null,null,null,null,null,null,null,null,null,null,null,"OHI17DROPOUTN","__OHI_17__DROPOUT_N"]
[null,null,null,null,null,null,null,null,null,null,null,null,null,null,null,null,null,null,null,null,null,null,null,null,null,null,null,"OHI17GHSN","__OHI_17__GHS_N"]
[null,null,null,null,null,null,null,null,null,null,null,null,null,null,null,null,null,null,null,null,null,null,null,null,null,null,null,"OHI17GRADALTDPLN","__OHI_17__GRADALTDPL_N"]
[null,null,null,null,null,null,null,null,null,null,null,null,null,null,null,null,null,null,null,null,null,null,null,null,null,null,null,"OHI17MKCN","__OHI_17__MKC_N"]
[null,null,null,null,null,null,null,null,null,null,null,null,null,null,null,null,null,null,null,null,null,null,null,null,null,null,null,"OHI17RCN","__OHI_17__RC_N"]
[null,null,null,null,null,null,null,null,null,null,null,null,null,null,null,null,null,null,null,null,null,null,null,null,null,null,null,"OHI17RMAN","__OHI_17__RMA_N"]
[null,null,null,null,null,null,null,null,null,null,null,null,null,null,null,null,null,null,null,null,null,null,null,null,null,null,null,"OHI17TRANN","__OHI_17__TRAN_N"]
[null,null,null,null,null,null,null,null,null,null,null,null,null,null,null,null,null,null,null,null,null,null,null,null,null,null,null,"OHI18DN","__OHI_18__D_N"]
[null,null,null,null,null,null,null,null,null,null,null,null,null,null,null,null,null,null,null,null,null,null,null,null,null,null,null,"OHI18DROPOUTN","__OHI_18__DROPOUT_N"]
[null,null,null,null,null,null,null,null,null,null,null,null,null,null,null,null,null,null,null,null,null,null,null,null,null,null,null,"OHI18GHSN","__OHI_18__GHS_N"]
[null,null,null,null,null,null,null,null,null,null,null,null,null,null,null,null,null,null,null,null,null,null,null,null,null,null,null,"OHI18GRADALTDPLN","__OHI_18__GRADALTDPL_N"]
[null,null,null,null,null,null,null,null,null,null,null,null,null,null,null,null,null,null,null,null,null,null,null,null,null,null,null,"OHI18MKCN","__OHI_18__MKC_N"]
[null,null,null,null,null,null,null,null,null,null,null,null,null,null,null,null,null,null,null,null,null,null,null,null,null,null,null,"OHI18RCN","__OHI_18__RC_N"]
[null,null,null,null,null,null,null,null,null,null,null,null,null,null,null,null,null,null,null,null,null,null,null,null,null,null,null,"OHI18RMAN","__OHI_18__RMA_N"]
[null,null,null,null,null,null,null,null,null,null,null,null,null,null,null,null,null,null,null,null,null,null,null,null,null,null,null,"OHI18TRANN","__OHI_18__TRAN_N"]
[null,null,null,null,null,null,null,null,null,null,null,null,null,null,null,null,null,null,null,null,null,null,null,null,null,null,null,"OHI19DN","__OHI_19__D_N"]
[null,null,null,null,null,null,null,null,null,null,null,null,null,null,null,null,null,null,null,null,null,null,null,null,null,null,null,"OHI19DROPOUTN","__OHI_19__DROPOUT_N"]
[null,null,null,null,null,null,null,null,null,null,null,null,null,null,null,null,null,null,null,null,null,null,null,null,null,null,null,"OHI19GHSN","__OHI_19__GHS_N"]
[null,null,null,null,null,null,null,null,null,null,null,null,null,null,null,null,null,null,null,null,null,null,null,null,null,null,null,"OHI19GRADALTDPLN","__OHI_19__GRADALTDPL_N"]
[null,null,null,null,null,null,null,null,null,null,null,null,null,null,null,null,null,null,null,null,null,null,null,null,null,null,null,"OHI19MKCN","__OHI_19__MKC_N"]
[null,null,null,null,null,null,null,null,null,null,null,null,null,null,null,null,null,null,null,null,null,null,null,null,null,null,null,"OHI19RCN","__OHI_19__RC_N"]
[null,null,null,null,null,null,null,null,null,null,null,null,null,null,null,null,null,null,null,null,null,null,null,null,null,null,null,"OHI19RMAN","__OHI_19__RMA_N"]
[null,null,null,null,null,null,null,null,null,null,null,null,null,null,null,null,null,null,null,null,null,null,null,null,null,null,null,"OHI19TRANN","__OHI_19__TRAN_N"]
[null,null,null,null,null,null,null,null,null,null,null,null,null,null,null,null,null,null,null,null,null,null,null,null,null,null,null,"OHI20DN","__OHI_20__D_N"]
[null,null,null,null,null,null,null,null,null,null,null,null,null,null,null,null,null,null,null,null,null,null,null,null,null,null,null,"OHI20DROPOUTN","__OHI_20__DROPOUT_N"]
[null,null,null,null,null,null,null,null,null,null,null,null,null,null,null,null,null,null,null,null,null,null,null,null,null,null,null,"OHI20GHSN","__OHI_20__GHS_N"]
[null,null,null,null,null,null,null,null,null,null,null,null,null,null,null,null,null,null,null,null,null,null,null,null,null,null,null,"OHI20GRADALTDPLN","__OHI_20__GRADALTDPL_N"]
[null,null,null,null,null,null,null,null,null,null,null,null,null,null,null,null,null,null,null,null,null,null,null,null,null,null,null,"OHI20MKCN","__OHI_20__MKC_N"]
[null,null,null,null,null,null,null,null,null,null,null,null,null,null,null,null,null,null,null,null,null,null,null,null,null,null,null,"OHI20RCN","__OHI_20__RC_N"]
[null,null,null,null,null,null,null,null,null,null,null,null,null,null,null,null,null,null,null,null,null,null,null,null,null,null,null,"OHI20RMAN","__OHI_20__RMA_N"]
[null,null,null,null,null,null,null,null,null,null,null,null,null,null,null,null,null,null,null,null,null,null,null,null,null,null,null,"OHI20TRANN","__OHI_20__TRAN_N"]
[null,null,null,null,null,null,null,null,null,null,null,null,null,null,null,null,null,null,null,null,null,null,null,null,null,null,null,"OHI21DN","__OHI_21__D_N"]
[null,null,null,null,null,null,null,null,null,null,null,null,null,null,null,null,null,null,null,null,null,null,null,null,null,null,null,"OHI21DROPOUTN","__OHI_21__DROPOUT_N"]
[null,null,null,null,null,null,null,null,null,null,null,null,null,null,null,null,null,null,null,null,null,null,null,null,null,null,null,"OHI21GHSN","__OHI_21__GHS_N"]
[null,null,null,null,null,null,null,null,null,null,null,null,null,null,null,null,null,null,null,null,null,null,null,null,null,null,null,"OHI21GRADALTDPLN","__OHI_21__GRADALTDPL_N"]
[null,null,null,null,null,null,null,null,null,null,null,null,null,null,null,null,null,null,null,null,null,null,null,null,null,null,null,"OHI21MKCN","__OHI_21__MKC_N"]
[null,null,null,null,null,null,null,null,null,null,null,null,null,null,null,null,null,null,null,null,null,null,null,null,null,null,null,"OHI21RCN","__OHI_21__RC_N"]
[null,null,null,null,null,null,null,null,null,null,null,null,null,null,null,null,null,null,null,null,null,null,null,null,null,null,null,"OHI21RMAN","__OHI_21__RMA_N"]
[null,null,null,null,null,null,null,null,null,null,null,null,null,null,null,null,null,null,null,null,null,null,null,null,null,null,null,"OHI21TRANN","__OHI_21__TRAN_N"]
[null,null,null,null,null,null,null,null,null,null,null,null,null,null,null,null,null,null,null,null,null,null,null,null,null,null,null,"OIY","__OI____Y"]
[null,null,null,null,null,null,null,null,null,null,null,null,null,null,null,null,null,null,null,null,null,null,null,null,null,null,null,"OI14DN","__OI_14__D_N"]
[null,null,null,null,null,null,null,null,null,null,null,null,null,null,null,null,null,null,null,null,null,null,null,null,null,null,null,"OI14DROPOUTN","__OI_14__DROPOUT_N"]
[null,null,null,null,null,null,null,null,null,null,null,null,null,null,null,null,null,null,null,null,null,null,null,null,null,null,null,"OI14GHSN","__OI_14__GHS_N"]
[null,null,null,null,null,null,null,null,null,null,null,null,null,null,null,null,null,null,null,null,null,null,null,null,null,null,null,"OI14GRADALTDPLN","__OI_14__GRADALTDPL_N"]
[null,null,null,null,null,null,null,null,null,null,null,null,null,null,null,null,null,null,null,null,null,null,null,null,null,null,null,"OI14MKCN","__OI_14__MKC_N"]
[null,null,null,null,null,null,null,null,null,null,null,null,null,null,null,null,null,null,null,null,null,null,null,null,null,null,null,"OI14RCN","__OI_14__RC_N"]
[null,null,null,null,null,null,null,null,null,null,null,null,null,null,null,null,null,null,null,null,null,null,null,null,null,null,null,"OI14RMAN","__OI_14__RMA_N"]
[null,null,null,null,null,null,null,null,null,null,null,null,null,null,null,null,null,null,null,null,null,null,null,null,null,null,null,"OI14TRANN","__OI_14__TRAN_N"]
[null,null,null,null,null,null,null,null,null,null,null,null,null,null,null,null,null,null,null,null,null,null,null,null,null,null,null,"OI15DN","__OI_15__D_N"]
[null,null,null,null,null,null,null,null,null,null,null,null,null,null,null,null,null,null,null,null,null,null,null,null,null,null,null,"OI15DROPOUTN","__OI_15__DROPOUT_N"]
[null,null,null,null,null,null,null,null,null,null,null,null,null,null,null,null,null,null,null,null,null,null,null,null,null,null,null,"OI15GHSN","__OI_15__GHS_N"]
[null,null,null,null,null,null,null,null,null,null,null,null,null,null,null,null,null,null,null,null,null,null,null,null,null,null,null,"OI15GRADALTDPLN","__OI_15__GRADALTDPL_N"]
[null,null,null,null,null,null,null,null,null,null,null,null,null,null,null,null,null,null,null,null,null,null,null,null,null,null,null,"OI15MKCN","__OI_15__MKC_N"]
[null,null,null,null,null,null,null,null,null,null,null,null,null,null,null,null,null,null,null,null,null,null,null,null,null,null,null,"OI15RCN","__OI_15__RC_N"]
[null,null,null,null,null,null,null,null,null,null,null,null,null,null,null,null,null,null,null,null,null,null,null,null,null,null,null,"OI15RMAN","__OI_15__RMA_N"]
[null,null,null,null,null,null,null,null,null,null,null,null,null,null,null,null,null,null,null,null,null,null,null,null,null,null,null,"OI15TRANN","__OI_15__TRAN_N"]
[null,null,null,null,null,null,null,null,null,null,null,null,null,null,null,null,null,null,null,null,null,null,null,null,null,null,null,"OI16DN","__OI_16__D_N"]
[null,null,null,null,null,null,null,null,null,null,null,null,null,null,null,null,null,null,null,null,null,null,null,null,null,null,null,"OI16DROPOUTN","__OI_16__DROPOUT_N"]
[null,null,null,null,null,null,null,null,null,null,null,null,null,null,null,null,null,null,null,null,null,null,null,null,null,null,null,"OI16GHSN","__OI_16__GHS_N"]
[null,null,null,null,null,null,null,null,null,null,null,null,null,null,null,null,null,null,null,null,null,null,null,null,null,null,null,"OI16GRADALTDPLN","__OI_16__GRADALTDPL_N"]
[null,null,null,null,null,null,null,null,null,null,null,null,null,null,null,null,null,null,null,null,null,null,null,null,null,null,null,"OI16MKCN","__OI_16__MKC_N"]
[null,null,null,null,null,null,null,null,null,null,null,null,null,null,null,null,null,null,null,null,null,null,null,null,null,null,null,"OI16RCN","__OI_16__RC_N"]
[null,null,null,null,null,null,null,null,null,null,null,null,null,null,null,null,null,null,null,null,null,null,null,null,null,null,null,"OI16RMAN","__OI_16__RMA_N"]
[null,null,null,null,null,null,null,null,null,null,null,null,null,null,null,null,null,null,null,null,null,null,null,null,null,null,null,"OI16TRANN","__OI_16__TRAN_N"]
[null,null,null,null,null,null,null,null,null,null,null,null,null,null,null,null,null,null,null,null,null,null,null,null,null,null,null,"OI17DN","__OI_17__D_N"]
[null,null,null,null,null,null,null,null,null,null,null,null,null,null,null,null,null,null,null,null,null,null,null,null,null,null,null,"OI17DROPOUTN","__OI_17__DROPOUT_N"]
[null,null,null,null,null,null,null,null,null,null,null,null,null,null,null,null,null,null,null,null,null,null,null,null,null,null,null,"OI17GHSN","__OI_17__GHS_N"]
[null,null,null,null,null,null,null,null,null,null,null,null,null,null,null,null,null,null,null,null,null,null,null,null,null,null,null,"OI17GRADALTDPLN","__OI_17__GRADALTDPL_N"]
[null,null,null,null,null,null,null,null,null,null,null,null,null,null,null,null,null,null,null,null,null,null,null,null,null,null,null,"OI17MKCN","__OI_17__MKC_N"]
[null,null,null,null,null,null,null,null,null,null,null,null,null,null,null,null,null,null,null,null,null,null,null,null,null,null,null,"OI17RCN","__OI_17__RC_N"]
[null,null,null,null,null,null,null,null,null,null,null,null,null,null,null,null,null,null,null,null,null,null,null,null,null,null,null,"OI17RMAN","__OI_17__RMA_N"]
[null,null,null,null,null,null,null,null,null,null,null,null,null,null,null,null,null,null,null,null,null,null,null,null,null,null,null,"OI17TRANN","__OI_17__TRAN_N"]
[null,null,null,null,null,null,null,null,null,null,null,null,null,null,null,null,null,null,null,null,null,null,null,null,null,null,null,"OI18DN","__OI_18__D_N"]
[null,null,null,null,null,null,null,null,null,null,null,null,null,null,null,null,null,null,null,null,null,null,null,null,null,null,null,"OI18DROPOUTN","__OI_18__DROPOUT_N"]
[null,null,null,null,null,null,null,null,null,null,null,null,null,null,null,null,null,null,null,null,null,null,null,null,null,null,null,"OI18GHSN","__OI_18__GHS_N"]
[null,null,null,null,null,null,null,null,null,null,null,null,null,null,null,null,null,null,null,null,null,null,null,null,null,null,null,"OI18GRADALTDPLN","__OI_18__GRADALTDPL_N"]
[null,null,null,null,null,null,null,null,null,null,null,null,null,null,null,null,null,null,null,null,null,null,null,null,null,null,null,"OI18MKCN","__OI_18__MKC_N"]
[null,null,null,null,null,null,null,null,null,null,null,null,null,null,null,null,null,null,null,null,null,null,null,null,null,null,null,"OI18RCN","__OI_18__RC_N"]
[null,null,null,null,null,null,null,null,null,null,null,null,null,null,null,null,null,null,null,null,null,null,null,null,null,null,null,"OI18RMAN","__OI_18__RMA_N"]
[null,null,null,null,null,null,null,null,null,null,null,null,null,null,null,null,null,null,null,null,null,null,null,null,null,null,null,"OI18TRANN","__OI_18__TRAN_N"]
[null,null,null,null,null,null,null,null,null,null,null,null,null,null,null,null,null,null,null,null,null,null,null,null,null,null,null,"OI19DN","__OI_19__D_N"]
[null,null,null,null,null,null,null,null,null,null,null,null,null,null,null,null,null,null,null,null,null,null,null,null,null,null,null,"OI19DROPOUTN","__OI_19__DROPOUT_N"]
[null,null,null,null,null,null,null,null,null,null,null,null,null,null,null,null,null,null,null,null,null,null,null,null,null,null,null,"OI19GHSN","__OI_19__GHS_N"]
[null,null,null,null,null,null,null,null,null,null,null,null,null,null,null,null,null,null,null,null,null,null,null,null,null,null,null,"OI19GRADALTDPLN","__OI_19__GRADALTDPL_N"]
[null,null,null,null,null,null,null,null,null,null,null,null,null,null,null,null,null,null,null,null,null,null,null,null,null,null,null,"OI19MKCN","__OI_19__MKC_N"]
[null,null,null,null,null,null,null,null,null,null,null,null,null,null,null,null,null,null,null,null,null,null,null,null,null,null,null,"OI19RCN","__OI_19__RC_N"]
[null,null,null,null,null,null,null,null,null,null,null,null,null,null,null,null,null,null,null,null,null,null,null,null,null,null,null,"OI19RMAN","__OI_19__RMA_N"]
[null,null,null,null,null,null,null,null,null,null,null,null,null,null,null,null,null,null,null,null,null,null,null,null,null,null,null,"OI19TRANN","__OI_19__TRAN_N"]
[null,null,null,null,null,null,null,null,null,null,null,null,null,null,null,null,null,null,null,null,null,null,null,null,null,null,null,"OI20DN","__OI_20__D_N"]
[null,null,null,null,null,null,null,null,null,null,null,null,null,null,null,null,null,null,null,null,null,null,null,null,null,null,null,"OI20DROPOUTN","__OI_20__DROPOUT_N"]
[null,null,null,null,null,null,null,null,null,null,null,null,null,null,null,null,null,null,null,null,null,null,null,null,null,null,null,"OI20GHSN","__OI_20__GHS_N"]
[null,null,null,null,null,null,null,null,null,null,null,null,null,null,null,null,null,null,null,null,null,null,null,null,null,null,null,"OI20GRADALTDPLN","__OI_20__GRADALTDPL_N"]
[null,null,null,null,null,null,null,null,null,null,null,null,null,null,null,null,null,null,null,null,null,null,null,null,null,null,null,"OI20MKCN","__OI_20__MKC_N"]
[null,null,null,null,null,null,null,null,null,null,null,null,null,null,null,null,null,null,null,null,null,null,null,null,null,null,null,"OI20RCN","__OI_20__RC_N"]
[null,null,null,null,null,null,null,null,null,null,null,null,null,null,null,null,null,null,null,null,null,null,null,null,null,null,null,"OI20RMAN","__OI_20__RMA_N"]
[null,null,null,null,null,null,null,null,null,null,null,null,null,null,null,null,null,null,null,null,null,null,null,null,null,null,null,"OI20TRANN","__OI_20__TRAN_N"]
[null,null,null,null,null,null,null,null,null,null,null,null,null,null,null,null,null,null,null,null,null,null,null,null,null,null,null,"OI21DN","__OI_21__D_N"]
[null,null,null,null,null,null,null,null,null,null,null,null,null,null,null,null,null,null,null,null,null,null,null,null,null,null,null,"OI21DROPOUTN","__OI_21__DROPOUT_N"]
[null,null,null,null,null,null,null,null,null,null,null,null,null,null,null,null,null,null,null,null,null,null,null,null,null,null,null,"OI21GHSN","__OI_21__GHS_N"]
[null,null,null,null,null,null,null,null,null,null,null,null,null,null,null,null,null,null,null,null,null,null,null,null,null,null,null,"OI21GRADALTDPLN","__OI_21__GRADALTDPL_N"]
[null,null,null,null,null,null,null,null,null,null,null,null,null,null,null,null,null,null,null,null,null,null,null,null,null,null,null,"OI21MKCN","__OI_21__MKC_N"]
[null,null,null,null,null,null,null,null,null,null,null,null,null,null,null,null,null,null,null,null,null,null,null,null,null,null,null,"OI21RCN","__OI_21__RC_N"]
[null,null,null,null,null,null,null,null,null,null,null,null,null,null,null,null,null,null,null,null,null,null,null,null,null,null,null,"OI21RMAN","__OI_21__RMA_N"]
[null,null,null,null,null,null,null,null,null,null,null,null,null,null,null,null,null,null,null,null,null,null,null,null,null,null,null,"OI21TRANN","__OI_21__TRAN_N"]
[null,null,null,null,null,null,null,null,null,null,null,null,null,null,null,null,null,null,null,null,null,null,null,null,null,null,null,"SLDY","__SLD____Y"]
[null,null,null,null,null,null,null,null,null,null,null,null,null,null,null,null,null,null,null,null,null,null,null,null,null,null,null,"SLD14DN","__SLD_14__D_N"]
[null,null,null,null,null,null,null,null,null,null,null,null,null,null,null,null,null,null,null,null,null,null,null,null,null,null,null,"SLD14DROPOUTN","__SLD_14__DROPOUT_N"]
[null,null,null,null,null,null,null,null,null,null,null,null,null,null,null,null,null,null,null,null,null,null,null,null,null,null,null,"SLD14GHSN","__SLD_14__GHS_N"]
[null,null,null,null,null,null,null,null,null,null,null,null,null,null,null,null,null,null,null,null,null,null,null,null,null,null,null,"SLD14GRADALTDPLN","__SLD_14__GRADALTDPL_N"]
[null,null,null,null,null,null,null,null,null,null,null,null,null,null,null,null,null,null,null,null,null,null,null,null,null,null,null,"SLD14MKCN","__SLD_14__MKC_N"]
[null,null,null,null,null,null,null,null,null,null,null,null,null,null,null,null,null,null,null,null,null,null,null,null,null,null,null,"SLD14RCN","__SLD_14__RC_N"]
[null,null,null,null,null,null,null,null,null,null,null,null,null,null,null,null,null,null,null,null,null,null,null,null,null,null,null,"SLD14RMAN","__SLD_14__RMA_N"]
[null,null,null,null,null,null,null,null,null,null,null,null,null,null,null,null,null,null,null,null,null,null,null,null,null,null,null,"SLD14TRANN","__SLD_14__TRAN_N"]
[null,null,null,null,null,null,null,null,null,null,null,null,null,null,null,null,null,null,null,null,null,null,null,null,null,null,null,"SLD15DN","__SLD_15__D_N"]
[null,null,null,null,null,null,null,null,null,null,null,null,null,null,null,null,null,null,null,null,null,null,null,null,null,null,null,"SLD15DROPOUTN","__SLD_15__DROPOUT_N"]
[null,null,null,null,null,null,null,null,null,null,null,null,null,null,null,null,null,null,null,null,null,null,null,null,null,null,null,"SLD15GHSN","__SLD_15__GHS_N"]
[null,null,null,null,null,null,null,null,null,null,null,null,null,null,null,null,null,null,null,null,null,null,null,null,null,null,null,"SLD15GRADALTDPLN","__SLD_15__GRADALTDPL_N"]
[null,null,null,null,null,null,null,null,null,null,null,null,null,null,null,null,null,null,null,null,null,null,null,null,null,null,null,"SLD15MKCN","__SLD_15__MKC_N"]
[null,null,null,null,null,null,null,null,null,null,null,null,null,null,null,null,null,null,null,null,null,null,null,null,null,null,null,"SLD15RCN","__SLD_15__RC_N"]
[null,null,null,null,null,null,null,null,null,null,null,null,null,null,null,null,null,null,null,null,null,null,null,null,null,null,null,"SLD15RMAN","__SLD_15__RMA_N"]
[null,null,null,null,null,null,null,null,null,null,null,null,null,null,null,null,null,null,null,null,null,null,null,null,null,null,null,"SLD15TRANN","__SLD_15__TRAN_N"]
[null,null,null,null,null,null,null,null,null,null,null,null,null,null,null,null,null,null,null,null,null,null,null,null,null,null,null,"SLD16DN","__SLD_16__D_N"]
[null,null,null,null,null,null,null,null,null,null,null,null,null,null,null,null,null,null,null,null,null,null,null,null,null,null,null,"SLD16DROPOUTN","__SLD_16__DROPOUT_N"]
[null,null,null,null,null,null,null,null,null,null,null,null,null,null,null,null,null,null,null,null,null,null,null,null,null,null,null,"SLD16GHSN","__SLD_16__GHS_N"]
[null,null,null,null,null,null,null,null,null,null,null,null,null,null,null,null,null,null,null,null,null,null,null,null,null,null,null,"SLD16GRADALTDPLN","__SLD_16__GRADALTDPL_N"]
[null,null,null,null,null,null,null,null,null,null,null,null,null,null,null,null,null,null,null,null,null,null,null,null,null,null,null,"SLD16MKCN","__SLD_16__MKC_N"]
[null,null,null,null,null,null,null,null,null,null,null,null,null,null,null,null,null,null,null,null,null,null,null,null,null,null,null,"SLD16RCN","__SLD_16__RC_N"]
[null,null,null,null,null,null,null,null,null,null,null,null,null,null,null,null,null,null,null,null,null,null,null,null,null,null,null,"SLD16RMAN","__SLD_16__RMA_N"]
[null,null,null,null,null,null,null,null,null,null,null,null,null,null,null,null,null,null,null,null,null,null,null,null,null,null,null,"SLD16TRANN","__SLD_16__TRAN_N"]
[null,null,null,null,null,null,null,null,null,null,null,null,null,null,null,null,null,null,null,null,null,null,null,null,null,null,null,"SLD17DN","__SLD_17__D_N"]
[null,null,null,null,null,null,null,null,null,null,null,null,null,null,null,null,null,null,null,null,null,null,null,null,null,null,null,"SLD17DROPOUTN","__SLD_17__DROPOUT_N"]
[null,null,null,null,null,null,null,null,null,null,null,null,null,null,null,null,null,null,null,null,null,null,null,null,null,null,null,"SLD17GHSN","__SLD_17__GHS_N"]
[null,null,null,null,null,null,null,null,null,null,null,null,null,null,null,null,null,null,null,null,null,null,null,null,null,null,null,"SLD17GRADALTDPLN","__SLD_17__GRADALTDPL_N"]
[null,null,null,null,null,null,null,null,null,null,null,null,null,null,null,null,null,null,null,null,null,null,null,null,null,null,null,"SLD17MKCN","__SLD_17__MKC_N"]
[null,null,null,null,null,null,null,null,null,null,null,null,null,null,null,null,null,null,null,null,null,null,null,null,null,null,null,"SLD17RCN","__SLD_17__RC_N"]
[null,null,null,null,null,null,null,null,null,null,null,null,null,null,null,null,null,null,null,null,null,null,null,null,null,null,null,"SLD17RMAN","__SLD_17__RMA_N"]
[null,null,null,null,null,null,null,null,null,null,null,null,null,null,null,null,null,null,null,null,null,null,null,null,null,null,null,"SLD17TRANN","__SLD_17__TRAN_N"]
[null,null,null,null,null,null,null,null,null,null,null,null,null,null,null,null,null,null,null,null,null,null,null,null,null,null,null,"SLD18DN","__SLD_18__D_N"]
[null,null,null,null,null,null,null,null,null,null,null,null,null,null,null,null,null,null,null,null,null,null,null,null,null,null,null,"SLD18DROPOUTN","__SLD_18__DROPOUT_N"]
[null,null,null,null,null,null,null,null,null,null,null,null,null,null,null,null,null,null,null,null,null,null,null,null,null,null,null,"SLD18GHSN","__SLD_18__GHS_N"]
[null,null,null,null,null,null,null,null,null,null,null,null,null,null,null,null,null,null,null,null,null,null,null,null,null,null,null,"SLD18GRADALTDPLN","__SLD_18__GRADALTDPL_N"]
[null,null,null,null,null,null,null,null,null,null,null,null,null,null,null,null,null,null,null,null,null,null,null,null,null,null,null,"SLD18MKCN","__SLD_18__MKC_N"]
[null,null,null,null,null,null,null,null,null,null,null,null,null,null,null,null,null,null,null,null,null,null,null,null,null,null,null,"SLD18RCN","__SLD_18__RC_N"]
[null,null,null,null,null,null,null,null,null,null,null,null,null,null,null,null,null,null,null,null,null,null,null,null,null,null,null,"SLD18RMAN","__SLD_18__RMA_N"]
[null,null,null,null,null,null,null,null,null,null,null,null,null,null,null,null,null,null,null,null,null,null,null,null,null,null,null,"SLD18TRANN","__SLD_18__TRAN_N"]
[null,null,null,null,null,null,null,null,null,null,null,null,null,null,null,null,null,null,null,null,null,null,null,null,null,null,null,"SLD19DN","__SLD_19__D_N"]
[null,null,null,null,null,null,null,null,null,null,null,null,null,null,null,null,null,null,null,null,null,null,null,null,null,null,null,"SLD19DROPOUTN","__SLD_19__DROPOUT_N"]
[null,null,null,null,null,null,null,null,null,null,null,null,null,null,null,null,null,null,null,null,null,null,null,null,null,null,null,"SLD19GHSN","__SLD_19__GHS_N"]
[null,null,null,null,null,null,null,null,null,null,null,null,null,null,null,null,null,null,null,null,null,null,null,null,null,null,null,"SLD19GRADALTDPLN","__SLD_19__GRADALTDPL_N"]
[null,null,null,null,null,null,null,null,null,null,null,null,null,null,null,null,null,null,null,null,null,null,null,null,null,null,null,"SLD19MKCN","__SLD_19__MKC_N"]
[null,null,null,null,null,null,null,null,null,null,null,null,null,null,null,null,null,null,null,null,null,null,null,null,null,null,null,"SLD19RCN","__SLD_19__RC_N"]
[null,null,null,null,null,null,null,null,null,null,null,null,null,null,null,null,null,null,null,null,null,null,null,null,null,null,null,"SLD19RMAN","__SLD_19__RMA_N"]
[null,null,null,null,null,null,null,null,null,null,null,null,null,null,null,null,null,null,null,null,null,null,null,null,null,null,null,"SLD19TRANN","__SLD_19__TRAN_N"]
[null,null,null,null,null,null,null,null,null,null,null,null,null,null,null,null,null,null,null,null,null,null,null,null,null,null,null,"SLD20DN","__SLD_20__D_N"]
[null,null,null,null,null,null,null,null,null,null,null,null,null,null,null,null,null,null,null,null,null,null,null,null,null,null,null,"SLD20DROPOUTN","__SLD_20__DROPOUT_N"]
[null,null,null,null,null,null,null,null,null,null,null,null,null,null,null,null,null,null,null,null,null,null,null,null,null,null,null,"SLD20GHSN","__SLD_20__GHS_N"]
[null,null,null,null,null,null,null,null,null,null,null,null,null,null,null,null,null,null,null,null,null,null,null,null,null,null,null,"SLD20GRADALTDPLN","__SLD_20__GRADALTDPL_N"]
[null,null,null,null,null,null,null,null,null,null,null,null,null,null,null,null,null,null,null,null,null,null,null,null,null,null,null,"SLD20MKCN","__SLD_20__MKC_N"]
[null,null,null,null,null,null,null,null,null,null,null,null,null,null,null,null,null,null,null,null,null,null,null,null,null,null,null,"SLD20RCN","__SLD_20__RC_N"]
[null,null,null,null,null,null,null,null,null,null,null,null,null,null,null,null,null,null,null,null,null,null,null,null,null,null,null,"SLD20RMAN","__SLD_20__RMA_N"]
[null,null,null,null,null,null,null,null,null,null,null,null,null,null,null,null,null,null,null,null,null,null,null,null,null,null,null,"SLD20TRANN","__SLD_20__TRAN_N"]
[null,null,null,null,null,null,null,null,null,null,null,null,null,null,null,null,null,null,null,null,null,null,null,null,null,null,null,"SLD21DN","__SLD_21__D_N"]
[null,null,null,null,null,null,null,null,null,null,null,null,null,null,null,null,null,null,null,null,null,null,null,null,null,null,null,"SLD21DROPOUTN","__SLD_21__DROPOUT_N"]
[null,null,null,null,null,null,null,null,null,null,null,null,null,null,null,null,null,null,null,null,null,null,null,null,null,null,null,"SLD21GHSN","__SLD_21__GHS_N"]
[null,null,null,null,null,null,null,null,null,null,null,null,null,null,null,null,null,null,null,null,null,null,null,null,null,null,null,"SLD21GRADALTDPLN","__SLD_21__GRADALTDPL_N"]
[null,null,null,null,null,null,null,null,null,null,null,null,null,null,null,null,null,null,null,null,null,null,null,null,null,null,null,"SLD21MKCN","__SLD_21__MKC_N"]
[null,null,null,null,null,null,null,null,null,null,null,null,null,null,null,null,null,null,null,null,null,null,null,null,null,null,null,"SLD21RCN","__SLD_21__RC_N"]
[null,null,null,null,null,null,null,null,null,null,null,null,null,null,null,null,null,null,null,null,null,null,null,null,null,null,null,"SLD21RMAN","__SLD_21__RMA_N"]
[null,null,null,null,null,null,null,null,null,null,null,null,null,null,null,null,null,null,null,null,null,null,null,null,null,null,null,"SLD21TRANN","__SLD_21__TRAN_N"]
[null,null,null,null,null,null,null,null,null,null,null,null,null,null,null,null,null,null,null,null,null,null,null,null,null,null,null,"SLIY","__SLI____Y"]
[null,null,null,null,null,null,null,null,null,null,null,null,null,null,null,null,null,null,null,null,null,null,null,null,null,null,null,"SLI14DN","__SLI_14__D_N"]
[null,null,null,null,null,null,null,null,null,null,null,null,null,null,null,null,null,null,null,null,null,null,null,null,null,null,null,"SLI14DROPOUTN","__SLI_14__DROPOUT_N"]
[null,null,null,null,null,null,null,null,null,null,null,null,null,null,null,null,null,null,null,null,null,null,null,null,null,null,null,"SLI14GHSN","__SLI_14__GHS_N"]
[null,null,null,null,null,null,null,null,null,null,null,null,null,null,null,null,null,null,null,null,null,null,null,null,null,null,null,"SLI14GRADALTDPLN","__SLI_14__GRADALTDPL_N"]
[null,null,null,null,null,null,null,null,null,null,null,null,null,null,null,null,null,null,null,null,null,null,null,null,null,null,null,"SLI14MKCN","__SLI_14__MKC_N"]
[null,null,null,null,null,null,null,null,null,null,null,null,null,null,null,null,null,null,null,null,null,null,null,null,null,null,null,"SLI14RCN","__SLI_14__RC_N"]
[null,null,null,null,null,null,null,null,null,null,null,null,null,null,null,null,null,null,null,null,null,null,null,null,null,null,null,"SLI14RMAN","__SLI_14__RMA_N"]
[null,null,null,null,null,null,null,null,null,null,null,null,null,null,null,null,null,null,null,null,null,null,null,null,null,null,null,"SLI14TRANN","__SLI_14__TRAN_N"]
[null,null,null,null,null,null,null,null,null,null,null,null,null,null,null,null,null,null,null,null,null,null,null,null,null,null,null,"SLI15DN","__SLI_15__D_N"]
[null,null,null,null,null,null,null,null,null,null,null,null,null,null,null,null,null,null,null,null,null,null,null,null,null,null,null,"SLI15DROPOUTN","__SLI_15__DROPOUT_N"]
[null,null,null,null,null,null,null,null,null,null,null,null,null,null,null,null,null,null,null,null,null,null,null,null,null,null,null,"SLI15GHSN","__SLI_15__GHS_N"]
[null,null,null,null,null,null,null,null,null,null,null,null,null,null,null,null,null,null,null,null,null,null,null,null,null,null,null,"SLI15GRADALTDPLN","__SLI_15__GRADALTDPL_N"]
[null,null,null,null,null,null,null,null,null,null,null,null,null,null,null,null,null,null,null,null,null,null,null,null,null,null,null,"SLI15MKCN","__SLI_15__MKC_N"]
[null,null,null,null,null,null,null,null,null,null,null,null,null,null,null,null,null,null,null,null,null,null,null,null,null,null,null,"SLI15RCN","__SLI_15__RC_N"]
[null,null,null,null,null,null,null,null,null,null,null,null,null,null,null,null,null,null,null,null,null,null,null,null,null,null,null,"SLI15RMAN","__SLI_15__RMA_N"]
[null,null,null,null,null,null,null,null,null,null,null,null,null,null,null,null,null,null,null,null,null,null,null,null,null,null,null,"SLI15TRANN","__SLI_15__TRAN_N"]
[null,null,null,null,null,null,null,null,null,null,null,null,null,null,null,null,null,null,null,null,null,null,null,null,null,null,null,"SLI16DN","__SLI_16__D_N"]
[null,null,null,null,null,null,null,null,null,null,null,null,null,null,null,null,null,null,null,null,null,null,null,null,null,null,null,"SLI16DROPOUTN","__SLI_16__DROPOUT_N"]
[null,null,null,null,null,null,null,null,null,null,null,null,null,null,null,null,null,null,null,null,null,null,null,null,null,null,null,"SLI16GHSN","__SLI_16__GHS_N"]
[null,null,null,null,null,null,null,null,null,null,null,null,null,null,null,null,null,null,null,null,null,null,null,null,null,null,null,"SLI16GRADALTDPLN","__SLI_16__GRADALTDPL_N"]
[null,null,null,null,null,null,null,null,null,null,null,null,null,null,null,null,null,null,null,null,null,null,null,null,null,null,null,"SLI16MKCN","__SLI_16__MKC_N"]
[null,null,null,null,null,null,null,null,null,null,null,null,null,null,null,null,null,null,null,null,null,null,null,null,null,null,null,"SLI16RCN","__SLI_16__RC_N"]
[null,null,null,null,null,null,null,null,null,null,null,null,null,null,null,null,null,null,null,null,null,null,null,null,null,null,null,"SLI16RMAN","__SLI_16__RMA_N"]
[null,null,null,null,null,null,null,null,null,null,null,null,null,null,null,null,null,null,null,null,null,null,null,null,null,null,null,"SLI16TRANN","__SLI_16__TRAN_N"]
[null,null,null,null,null,null,null,null,null,null,null,null,null,null,null,null,null,null,null,null,null,null,null,null,null,null,null,"SLI17DN","__SLI_17__D_N"]
[null,null,null,null,null,null,null,null,null,null,null,null,null,null,null,null,null,null,null,null,null,null,null,null,null,null,null,"SLI17DROPOUTN","__SLI_17__DROPOUT_N"]
[null,null,null,null,null,null,null,null,null,null,null,null,null,null,null,null,null,null,null,null,null,null,null,null,null,null,null,"SLI17GHSN","__SLI_17__GHS_N"]
[null,null,null,null,null,null,null,null,null,null,null,null,null,null,null,null,null,null,null,null,null,null,null,null,null,null,null,"SLI17GRADALTDPLN","__SLI_17__GRADALTDPL_N"]
[null,null,null,null,null,null,null,null,null,null,null,null,null,null,null,null,null,null,null,null,null,null,null,null,null,null,null,"SLI17MKCN","__SLI_17__MKC_N"]
[null,null,null,null,null,null,null,null,null,null,null,null,null,null,null,null,null,null,null,null,null,null,null,null,null,null,null,"SLI17RCN","__SLI_17__RC_N"]
[null,null,null,null,null,null,null,null,null,null,null,null,null,null,null,null,null,null,null,null,null,null,null,null,null,null,null,"SLI17RMAN","__SLI_17__RMA_N"]
[null,null,null,null,null,null,null,null,null,null,null,null,null,null,null,null,null,null,null,null,null,null,null,null,null,null,null,"SLI17TRANN","__SLI_17__TRAN_N"]
[null,null,null,null,null,null,null,null,null,null,null,null,null,null,null,null,null,null,null,null,null,null,null,null,null,null,null,"SLI18DN","__SLI_18__D_N"]
[null,null,null,null,null,null,null,null,null,null,null,null,null,null,null,null,null,null,null,null,null,null,null,null,null,null,null,"SLI18DROPOUTN","__SLI_18__DROPOUT_N"]
[null,null,null,null,null,null,null,null,null,null,null,null,null,null,null,null,null,null,null,null,null,null,null,null,null,null,null,"SLI18GHSN","__SLI_18__GHS_N"]
[null,null,null,null,null,null,null,null,null,null,null,null,null,null,null,null,null,null,null,null,null,null,null,null,null,null,null,"SLI18GRADALTDPLN","__SLI_18__GRADALTDPL_N"]
[null,null,null,null,null,null,null,null,null,null,null,null,null,null,null,null,null,null,null,null,null,null,null,null,null,null,null,"SLI18MKCN","__SLI_18__MKC_N"]
[null,null,null,null,null,null,null,null,null,null,null,null,null,null,null,null,null,null,null,null,null,null,null,null,null,null,null,"SLI18RCN","__SLI_18__RC_N"]
[null,null,null,null,null,null,null,null,null,null,null,null,null,null,null,null,null,null,null,null,null,null,null,null,null,null,null,"SLI18RMAN","__SLI_18__RMA_N"]
[null,null,null,null,null,null,null,null,null,null,null,null,null,null,null,null,null,null,null,null,null,null,null,null,null,null,null,"SLI18TRANN","__SLI_18__TRAN_N"]
[null,null,null,null,null,null,null,null,null,null,null,null,null,null,null,null,null,null,null,null,null,null,null,null,null,null,null,"SLI19DN","__SLI_19__D_N"]
[null,null,null,null,null,null,null,null,null,null,null,null,null,null,null,null,null,null,null,null,null,null,null,null,null,null,null,"SLI19DROPOUTN","__SLI_19__DROPOUT_N"]
[null,null,null,null,null,null,null,null,null,null,null,null,null,null,null,null,null,null,null,null,null,null,null,null,null,null,null,"SLI19GHSN","__SLI_19__GHS_N"]
[null,null,null,null,null,null,null,null,null,null,null,null,null,null,null,null,null,null,null,null,null,null,null,null,null,null,null,"SLI19GRADALTDPLN","__SLI_19__GRADALTDPL_N"]
[null,null,null,null,null,null,null,null,null,null,null,null,null,null,null,null,null,null,null,null,null,null,null,null,null,null,null,"SLI19MKCN","__SLI_19__MKC_N"]
[null,null,null,null,null,null,null,null,null,null,null,null,null,null,null,null,null,null,null,null,null,null,null,null,null,null,null,"SLI19RCN","__SLI_19__RC_N"]
[null,null,null,null,null,null,null,null,null,null,null,null,null,null,null,null,null,null,null,null,null,null,null,null,null,null,null,"SLI19RMAN","__SLI_19__RMA_N"]
[null,null,null,null,null,null,null,null,null,null,null,null,null,null,null,null,null,null,null,null,null,null,null,null,null,null,null,"SLI19TRANN","__SLI_19__TRAN_N"]
[null,null,null,null,null,null,null,null,null,null,null,null,null,null,null,null,null,null,null,null,null,null,null,null,null,null,null,"SLI20DN","__SLI_20__D_N"]
[null,null,null,null,null,null,null,null,null,null,null,null,null,null,null,null,null,null,null,null,null,null,null,null,null,null,null,"SLI20DROPOUTN","__SLI_20__DROPOUT_N"]
[null,null,null,null,null,null,null,null,null,null,null,null,null,null,null,null,null,null,null,null,null,null,null,null,null,null,null,"SLI20GHSN","__SLI_20__GHS_N"]
[null,null,null,null,null,null,null,null,null,null,null,null,null,null,null,null,null,null,null,null,null,null,null,null,null,null,null,"SLI20GRADALTDPLN","__SLI_20__GRADALTDPL_N"]
[null,null,null,null,null,null,null,null,null,null,null,null,null,null,null,null,null,null,null,null,null,null,null,null,null,null,null,"SLI20MKCN","__SLI_20__MKC_N"]
[null,null,null,null,null,null,null,null,null,null,null,null,null,null,null,null,null,null,null,null,null,null,null,null,null,null,null,"SLI20RCN","__SLI_20__RC_N"]
[null,null,null,null,null,null,null,null,null,null,null,null,null,null,null,null,null,null,null,null,null,null,null,null,null,null,null,"SLI20RMAN","__SLI_20__RMA_N"]
[null,null,null,null,null,null,null,null,null,null,null,null,null,null,null,null,null,null,null,null,null,null,null,null,null,null,null,"SLI20TRANN","__SLI_20__TRAN_N"]
[null,null,null,null,null,null,null,null,null,null,null,null,null,null,null,null,null,null,null,null,null,null,null,null,null,null,null,"SLI21DN","__SLI_21__D_N"]
[null,null,null,null,null,null,null,null,null,null,null,null,null,null,null,null,null,null,null,null,null,null,null,null,null,null,null,"SLI21DROPOUTN","__SLI_21__DROPOUT_N"]
[null,null,null,null,null,null,null,null,null,null,null,null,null,null,null,null,null,null,null,null,null,null,null,null,null,null,null,"SLI21GHSN","__SLI_21__GHS_N"]
[null,null,null,null,null,null,null,null,null,null,null,null,null,null,null,null,null,null,null,null,null,null,null,null,null,null,null,"SLI21GRADALTDPLN","__SLI_21__GRADALTDPL_N"]
[null,null,null,null,null,null,null,null,null,null,null,null,null,null,null,null,null,null,null,null,null,null,null,null,null,null,null,"SLI21MKCN","__SLI_21__MKC_N"]
[null,null,null,null,null,null,null,null,null,null,null,null,null,null,null,null,null,null,null,null,null,null,null,null,null,null,null,"SLI21RCN","__SLI_21__RC_N"]
[null,null,null,null,null,null,null,null,null,null,null,null,null,null,null,null,null,null,null,null,null,null,null,null,null,null,null,"SLI21RMAN","__SLI_21__RMA_N"]
[null,null,null,null,null,null,null,null,null,null,null,null,null,null,null,null,null,null,null,null,null,null,null,null,null,null,null,"SLI21TRANN","__SLI_21__TRAN_N"]
[null,null,null,null,null,null,null,null,null,null,null,null,null,null,null,null,null,null,null,null,null,null,null,null,null,null,null,"TBIY","__TBI____Y"]
[null,null,null,null,null,null,null,null,null,null,null,null,null,null,null,null,null,null,null,null,null,null,null,null,null,null,null,"TBI14DN","__TBI_14__D_N"]
[null,null,null,null,null,null,null,null,null,null,null,null,null,null,null,null,null,null,null,null,null,null,null,null,null,null,null,"TBI14DROPOUTN","__TBI_14__DROPOUT_N"]
[null,null,null,null,null,null,null,null,null,null,null,null,null,null,null,null,null,null,null,null,null,null,null,null,null,null,null,"TBI14GHSN","__TBI_14__GHS_N"]
[null,null,null,null,null,null,null,null,null,null,null,null,null,null,null,null,null,null,null,null,null,null,null,null,null,null,null,"TBI14GRADALTDPLN","__TBI_14__GRADALTDPL_N"]
[null,null,null,null,null,null,null,null,null,null,null,null,null,null,null,null,null,null,null,null,null,null,null,null,null,null,null,"TBI14MKCN","__TBI_14__MKC_N"]
[null,null,null,null,null,null,null,null,null,null,null,null,null,null,null,null,null,null,null,null,null,null,null,null,null,null,null,"TBI14RCN","__TBI_14__RC_N"]
[null,null,null,null,null,null,null,null,null,null,null,null,null,null,null,null,null,null,null,null,null,null,null,null,null,null,null,"TBI14RMAN","__TBI_14__RMA_N"]
[null,null,null,null,null,null,null,null,null,null,null,null,null,null,null,null,null,null,null,null,null,null,null,null,null,null,null,"TBI14TRANN","__TBI_14__TRAN_N"]
[null,null,null,null,null,null,null,null,null,null,null,null,null,null,null,null,null,null,null,null,null,null,null,null,null,null,null,"TBI15DN","__TBI_15__D_N"]
[null,null,null,null,null,null,null,null,null,null,null,null,null,null,null,null,null,null,null,null,null,null,null,null,null,null,null,"TBI15DROPOUTN","__TBI_15__DROPOUT_N"]
[null,null,null,null,null,null,null,null,null,null,null,null,null,null,null,null,null,null,null,null,null,null,null,null,null,null,null,"TBI15GHSN","__TBI_15__GHS_N"]
[null,null,null,null,null,null,null,null,null,null,null,null,null,null,null,null,null,null,null,null,null,null,null,null,null,null,null,"TBI15GRADALTDPLN","__TBI_15__GRADALTDPL_N"]
[null,null,null,null,null,null,null,null,null,null,null,null,null,null,null,null,null,null,null,null,null,null,null,null,null,null,null,"TBI15MKCN","__TBI_15__MKC_N"]
[null,null,null,null,null,null,null,null,null,null,null,null,null,null,null,null,null,null,null,null,null,null,null,null,null,null,null,"TBI15RCN","__TBI_15__RC_N"]
[null,null,null,null,null,null,null,null,null,null,null,null,null,null,null,null,null,null,null,null,null,null,null,null,null,null,null,"TBI15RMAN","__TBI_15__RMA_N"]
[null,null,null,null,null,null,null,null,null,null,null,null,null,null,null,null,null,null,null,null,null,null,null,null,null,null,null,"TBI15TRANN","__TBI_15__TRAN_N"]
[null,null,null,null,null,null,null,null,null,null,null,null,null,null,null,null,null,null,null,null,null,null,null,null,null,null,null,"TBI16DN","__TBI_16__D_N"]
[null,null,null,null,null,null,null,null,null,null,null,null,null,null,null,null,null,null,null,null,null,null,null,null,null,null,null,"TBI16DROPOUTN","__TBI_16__DROPOUT_N"]
[null,null,null,null,null,null,null,null,null,null,null,null,null,null,null,null,null,null,null,null,null,null,null,null,null,null,null,"TBI16GHSN","__TBI_16__GHS_N"]
[null,null,null,null,null,null,null,null,null,null,null,null,null,null,null,null,null,null,null,null,null,null,null,null,null,null,null,"TBI16GRADALTDPLN","__TBI_16__GRADALTDPL_N"]
[null,null,null,null,null,null,null,null,null,null,null,null,null,null,null,null,null,null,null,null,null,null,null,null,null,null,null,"TBI16MKCN","__TBI_16__MKC_N"]
[null,null,null,null,null,null,null,null,null,null,null,null,null,null,null,null,null,null,null,null,null,null,null,null,null,null,null,"TBI16RCN","__TBI_16__RC_N"]
[null,null,null,null,null,null,null,null,null,null,null,null,null,null,null,null,null,null,null,null,null,null,null,null,null,null,null,"TBI16RMAN","__TBI_16__RMA_N"]
[null,null,null,null,null,null,null,null,null,null,null,null,null,null,null,null,null,null,null,null,null,null,null,null,null,null,null,"TBI16TRANN","__TBI_16__TRAN_N"]
[null,null,null,null,null,null,null,null,null,null,null,null,null,null,null,null,null,null,null,null,null,null,null,null,null,null,null,"TBI17DN","__TBI_17__D_N"]
[null,null,null,null,null,null,null,null,null,null,null,null,null,null,null,null,null,null,null,null,null,null,null,null,null,null,null,"TBI17DROPOUTN","__TBI_17__DROPOUT_N"]
[null,null,null,null,null,null,null,null,null,null,null,null,null,null,null,null,null,null,null,null,null,null,null,null,null,null,null,"TBI17GHSN","__TBI_17__GHS_N"]
[null,null,null,null,null,null,null,null,null,null,null,null,null,null,null,null,null,null,null,null,null,null,null,null,null,null,null,"TBI17GRADALTDPLN","__TBI_17__GRADALTDPL_N"]
[null,null,null,null,null,null,null,null,null,null,null,null,null,null,null,null,null,null,null,null,null,null,null,null,null,null,null,"TBI17MKCN","__TBI_17__MKC_N"]
[null,null,null,null,null,null,null,null,null,null,null,null,null,null,null,null,null,null,null,null,null,null,null,null,null,null,null,"TBI17RCN","__TBI_17__RC_N"]
[null,null,null,null,null,null,null,null,null,null,null,null,null,null,null,null,null,null,null,null,null,null,null,null,null,null,null,"TBI17RMAN","__TBI_17__RMA_N"]
[null,null,null,null,null,null,null,null,null,null,null,null,null,null,null,null,null,null,null,null,null,null,null,null,null,null,null,"TBI17TRANN","__TBI_17__TRAN_N"]
[null,null,null,null,null,null,null,null,null,null,null,null,null,null,null,null,null,null,null,null,null,null,null,null,null,null,null,"TBI18DN","__TBI_18__D_N"]
[null,null,null,null,null,null,null,null,null,null,null,null,null,null,null,null,null,null,null,null,null,null,null,null,null,null,null,"TBI18DROPOUTN","__TBI_18__DROPOUT_N"]
[null,null,null,null,null,null,null,null,null,null,null,null,null,null,null,null,null,null,null,null,null,null,null,null,null,null,null,"TBI18GHSN","__TBI_18__GHS_N"]
[null,null,null,null,null,null,null,null,null,null,null,null,null,null,null,null,null,null,null,null,null,null,null,null,null,null,null,"TBI18GRADALTDPLN","__TBI_18__GRADALTDPL_N"]
[null,null,null,null,null,null,null,null,null,null,null,null,null,null,null,null,null,null,null,null,null,null,null,null,null,null,null,"TBI18MKCN","__TBI_18__MKC_N"]
[null,null,null,null,null,null,null,null,null,null,null,null,null,null,null,null,null,null,null,null,null,null,null,null,null,null,null,"TBI18RCN","__TBI_18__RC_N"]
[null,null,null,null,null,null,null,null,null,null,null,null,null,null,null,null,null,null,null,null,null,null,null,null,null,null,null,"TBI18RMAN","__TBI_18__RMA_N"]
[null,null,null,null,null,null,null,null,null,null,null,null,null,null,null,null,null,null,null,null,null,null,null,null,null,null,null,"TBI18TRANN","__TBI_18__TRAN_N"]
[null,null,null,null,null,null,null,null,null,null,null,null,null,null,null,null,null,null,null,null,null,null,null,null,null,null,null,"TBI19DN","__TBI_19__D_N"]
[null,null,null,null,null,null,null,null,null,null,null,null,null,null,null,null,null,null,null,null,null,null,null,null,null,null,null,"TBI19DROPOUTN","__TBI_19__DROPOUT_N"]
[null,null,null,null,null,null,null,null,null,null,null,null,null,null,null,null,null,null,null,null,null,null,null,null,null,null,null,"TBI19GHSN","__TBI_19__GHS_N"]
[null,null,null,null,null,null,null,null,null,null,null,null,null,null,null,null,null,null,null,null,null,null,null,null,null,null,null,"TBI19GRADALTDPLN","__TBI_19__GRADALTDPL_N"]
[null,null,null,null,null,null,null,null,null,null,null,null,null,null,null,null,null,null,null,null,null,null,null,null,null,null,null,"TBI19MKCN","__TBI_19__MKC_N"]
[null,null,null,null,null,null,null,null,null,null,null,null,null,null,null,null,null,null,null,null,null,null,null,null,null,null,null,"TBI19RCN","__TBI_19__RC_N"]
[null,null,null,null,null,null,null,null,null,null,null,null,null,null,null,null,null,null,null,null,null,null,null,null,null,null,null,"TBI19RMAN","__TBI_19__RMA_N"]
[null,null,null,null,null,null,null,null,null,null,null,null,null,null,null,null,null,null,null,null,null,null,null,null,null,null,null,"TBI19TRANN","__TBI_19__TRAN_N"]
[null,null,null,null,null,null,null,null,null,null,null,null,null,null,null,null,null,null,null,null,null,null,null,null,null,null,null,"TBI20DN","__TBI_20__D_N"]
[null,null,null,null,null,null,null,null,null,null,null,null,null,null,null,null,null,null,null,null,null,null,null,null,null,null,null,"TBI20DROPOUTN","__TBI_20__DROPOUT_N"]
[null,null,null,null,null,null,null,null,null,null,null,null,null,null,null,null,null,null,null,null,null,null,null,null,null,null,null,"TBI20GHSN","__TBI_20__GHS_N"]
[null,null,null,null,null,null,null,null,null,null,null,null,null,null,null,null,null,null,null,null,null,null,null,null,null,null,null,"TBI20GRADALTDPLN","__TBI_20__GRADALTDPL_N"]
[null,null,null,null,null,null,null,null,null,null,null,null,null,null,null,null,null,null,null,null,null,null,null,null,null,null,null,"TBI20MKCN","__TBI_20__MKC_N"]
[null,null,null,null,null,null,null,null,null,null,null,null,null,null,null,null,null,null,null,null,null,null,null,null,null,null,null,"TBI20RCN","__TBI_20__RC_N"]
[null,null,null,null,null,null,null,null,null,null,null,null,null,null,null,null,null,null,null,null,null,null,null,null,null,null,null,"TBI20RMAN","__TBI_20__RMA_N"]
[null,null,null,null,null,null,null,null,null,null,null,null,null,null,null,null,null,null,null,null,null,null,null,null,null,null,null,"TBI20TRANN","__TBI_20__TRAN_N"]
[null,null,null,null,null,null,null,null,null,null,null,null,null,null,null,null,null,null,null,null,null,null,null,null,null,null,null,"TBI21DN","__TBI_21__D_N"]
[null,null,null,null,null,null,null,null,null,null,null,null,null,null,null,null,null,null,null,null,null,null,null,null,null,null,null,"TBI21DROPOUTN","__TBI_21__DROPOUT_N"]
[null,null,null,null,null,null,null,null,null,null,null,null,null,null,null,null,null,null,null,null,null,null,null,null,null,null,null,"TBI21GHSN","__TBI_21__GHS_N"]
[null,null,null,null,null,null,null,null,null,null,null,null,null,null,null,null,null,null,null,null,null,null,null,null,null,null,null,"TBI21GRADALTDPLN","__TBI_21__GRADALTDPL_N"]
[null,null,null,null,null,null,null,null,null,null,null,null,null,null,null,null,null,null,null,null,null,null,null,null,null,null,null,"TBI21MKCN","__TBI_21__MKC_N"]
[null,null,null,null,null,null,null,null,null,null,null,null,null,null,null,null,null,null,null,null,null,null,null,null,null,null,null,"TBI21RCN","__TBI_21__RC_N"]
[null,null,null,null,null,null,null,null,null,null,null,null,null,null,null,null,null,null,null,null,null,null,null,null,null,null,null,"TBI21RMAN","__TBI_21__RMA_N"]
[null,null,null,null,null,null,null,null,null,null,null,null,null,null,null,null,null,null,null,null,null,null,null,null,null,null,null,"TBI21TRANN","__TBI_21__TRAN_N"]
[null,null,null,null,null,null,null,null,null,null,null,null,null,null,null,null,null,null,null,null,null,null,null,null,null,null,null,"VIY","__VI____Y"]
[null,null,null,null,null,null,null,null,null,null,null,null,null,null,null,null,null,null,null,null,null,null,null,null,null,null,null,"VI14DN","__VI_14__D_N"]
[null,null,null,null,null,null,null,null,null,null,null,null,null,null,null,null,null,null,null,null,null,null,null,null,null,null,null,"VI14DROPOUTN","__VI_14__DROPOUT_N"]
[null,null,null,null,null,null,null,null,null,null,null,null,null,null,null,null,null,null,null,null,null,null,null,null,null,null,null,"VI14GHSN","__VI_14__GHS_N"]
[null,null,null,null,null,null,null,null,null,null,null,null,null,null,null,null,null,null,null,null,null,null,null,null,null,null,null,"VI14GRADALTDPLN","__VI_14__GRADALTDPL_N"]
[null,null,null,null,null,null,null,null,null,null,null,null,null,null,null,null,null,null,null,null,null,null,null,null,null,null,null,"VI14MKCN","__VI_14__MKC_N"]
[null,null,null,null,null,null,null,null,null,null,null,null,null,null,null,null,null,null,null,null,null,null,null,null,null,null,null,"VI14RCN","__VI_14__RC_N"]
[null,null,null,null,null,null,null,null,null,null,null,null,null,null,null,null,null,null,null,null,null,null,null,null,null,null,null,"VI14RMAN","__VI_14__RMA_N"]
[null,null,null,null,null,null,null,null,null,null,null,null,null,null,null,null,null,null,null,null,null,null,null,null,null,null,null,"VI14TRANN","__VI_14__TRAN_N"]
[null,null,null,null,null,null,null,null,null,null,null,null,null,null,null,null,null,null,null,null,null,null,null,null,null,null,null,"VI15DN","__VI_15__D_N"]
[null,null,null,null,null,null,null,null,null,null,null,null,null,null,null,null,null,null,null,null,null,null,null,null,null,null,null,"VI15DROPOUTN","__VI_15__DROPOUT_N"]
[null,null,null,null,null,null,null,null,null,null,null,null,null,null,null,null,null,null,null,null,null,null,null,null,null,null,null,"VI15GHSN","__VI_15__GHS_N"]
[null,null,null,null,null,null,null,null,null,null,null,null,null,null,null,null,null,null,null,null,null,null,null,null,null,null,null,"VI15GRADALTDPLN","__VI_15__GRADALTDPL_N"]
[null,null,null,null,null,null,null,null,null,null,null,null,null,null,null,null,null,null,null,null,null,null,null,null,null,null,null,"VI15MKCN","__VI_15__MKC_N"]
[null,null,null,null,null,null,null,null,null,null,null,null,null,null,null,null,null,null,null,null,null,null,null,null,null,null,null,"VI15RCN","__VI_15__RC_N"]
[null,null,null,null,null,null,null,null,null,null,null,null,null,null,null,null,null,null,null,null,null,null,null,null,null,null,null,"VI15RMAN","__VI_15__RMA_N"]
[null,null,null,null,null,null,null,null,null,null,null,null,null,null,null,null,null,null,null,null,null,null,null,null,null,null,null,"VI15TRANN","__VI_15__TRAN_N"]
[null,null,null,null,null,null,null,null,null,null,null,null,null,null,null,null,null,null,null,null,null,null,null,null,null,null,null,"VI16DN","__VI_16__D_N"]
[null,null,null,null,null,null,null,null,null,null,null,null,null,null,null,null,null,null,null,null,null,null,null,null,null,null,null,"VI16DROPOUTN","__VI_16__DROPOUT_N"]
[null,null,null,null,null,null,null,null,null,null,null,null,null,null,null,null,null,null,null,null,null,null,null,null,null,null,null,"VI16GHSN","__VI_16__GHS_N"]
[null,null,null,null,null,null,null,null,null,null,null,null,null,null,null,null,null,null,null,null,null,null,null,null,null,null,null,"VI16GRADALTDPLN","__VI_16__GRADALTDPL_N"]
[null,null,null,null,null,null,null,null,null,null,null,null,null,null,null,null,null,null,null,null,null,null,null,null,null,null,null,"VI16MKCN","__VI_16__MKC_N"]
[null,null,null,null,null,null,null,null,null,null,null,null,null,null,null,null,null,null,null,null,null,null,null,null,null,null,null,"VI16RCN","__VI_16__RC_N"]
[null,null,null,null,null,null,null,null,null,null,null,null,null,null,null,null,null,null,null,null,null,null,null,null,null,null,null,"VI16RMAN","__VI_16__RMA_N"]
[null,null,null,null,null,null,null,null,null,null,null,null,null,null,null,null,null,null,null,null,null,null,null,null,null,null,null,"VI16TRANN","__VI_16__TRAN_N"]
[null,null,null,null,null,null,null,null,null,null,null,null,null,null,null,null,null,null,null,null,null,null,null,null,null,null,null,"VI17DN","__VI_17__D_N"]
[null,null,null,null,null,null,null,null,null,null,null,null,null,null,null,null,null,null,null,null,null,null,null,null,null,null,null,"VI17DROPOUTN","__VI_17__DROPOUT_N"]
[null,null,null,null,null,null,null,null,null,null,null,null,null,null,null,null,null,null,null,null,null,null,null,null,null,null,null,"VI17GHSN","__VI_17__GHS_N"]
[null,null,null,null,null,null,null,null,null,null,null,null,null,null,null,null,null,null,null,null,null,null,null,null,null,null,null,"VI17GRADALTDPLN","__VI_17__GRADALTDPL_N"]
[null,null,null,null,null,null,null,null,null,null,null,null,null,null,null,null,null,null,null,null,null,null,null,null,null,null,null,"VI17MKCN","__VI_17__MKC_N"]
[null,null,null,null,null,null,null,null,null,null,null,null,null,null,null,null,null,null,null,null,null,null,null,null,null,null,null,"VI17RCN","__VI_17__RC_N"]
[null,null,null,null,null,null,null,null,null,null,null,null,null,null,null,null,null,null,null,null,null,null,null,null,null,null,null,"VI17RMAN","__VI_17__RMA_N"]
[null,null,null,null,null,null,null,null,null,null,null,null,null,null,null,null,null,null,null,null,null,null,null,null,null,null,null,"VI17TRANN","__VI_17__TRAN_N"]
[null,null,null,null,null,null,null,null,null,null,null,null,null,null,null,null,null,null,null,null,null,null,null,null,null,null,null,"VI18DN","__VI_18__D_N"]
[null,null,null,null,null,null,null,null,null,null,null,null,null,null,null,null,null,null,null,null,null,null,null,null,null,null,null,"VI18DROPOUTN","__VI_18__DROPOUT_N"]
[null,null,null,null,null,null,null,null,null,null,null,null,null,null,null,null,null,null,null,null,null,null,null,null,null,null,null,"VI18GHSN","__VI_18__GHS_N"]
[null,null,null,null,null,null,null,null,null,null,null,null,null,null,null,null,null,null,null,null,null,null,null,null,null,null,null,"VI18GRADALTDPLN","__VI_18__GRADALTDPL_N"]
[null,null,null,null,null,null,null,null,null,null,null,null,null,null,null,null,null,null,null,null,null,null,null,null,null,null,null,"VI18MKCN","__VI_18__MKC_N"]
[null,null,null,null,null,null,null,null,null,null,null,null,null,null,null,null,null,null,null,null,null,null,null,null,null,null,null,"VI18RCN","__VI_18__RC_N"]
[null,null,null,null,null,null,null,null,null,null,null,null,null,null,null,null,null,null,null,null,null,null,null,null,null,null,null,"VI18RMAN","__VI_18__RMA_N"]
[null,null,null,null,null,null,null,null,null,null,null,null,null,null,null,null,null,null,null,null,null,null,null,null,null,null,null,"VI18TRANN","__VI_18__TRAN_N"]
[null,null,null,null,null,null,null,null,null,null,null,null,null,null,null,null,null,null,null,null,null,null,null,null,null,null,null,"VI19DN","__VI_19__D_N"]
[null,null,null,null,null,null,null,null,null,null,null,null,null,null,null,null,null,null,null,null,null,null,null,null,null,null,null,"VI19DROPOUTN","__VI_19__DROPOUT_N"]
[null,null,null,null,null,null,null,null,null,null,null,null,null,null,null,null,null,null,null,null,null,null,null,null,null,null,null,"VI19GHSN","__VI_19__GHS_N"]
[null,null,null,null,null,null,null,null,null,null,null,null,null,null,null,null,null,null,null,null,null,null,null,null,null,null,null,"VI19GRADALTDPLN","__VI_19__GRADALTDPL_N"]
[null,null,null,null,null,null,null,null,null,null,null,null,null,null,null,null,null,null,null,null,null,null,null,null,null,null,null,"VI19MKCN","__VI_19__MKC_N"]
[null,null,null,null,null,null,null,null,null,null,null,null,null,null,null,null,null,null,null,null,null,null,null,null,null,null,null,"VI19RCN","__VI_19__RC_N"]
[null,null,null,null,null,null,null,null,null,null,null,null,null,null,null,null,null,null,null,null,null,null,null,null,null,null,null,"VI19RMAN","__VI_19__RMA_N"]
[null,null,null,null,null,null,null,null,null,null,null,null,null,null,null,null,null,null,null,null,null,null,null,null,null,null,null,"VI19TRANN","__VI_19__TRAN_N"]
[null,null,null,null,null,null,null,null,null,null,null,null,null,null,null,null,null,null,null,null,null,null,null,null,null,null,null,"VI20DN","__VI_20__D_N"]
[null,null,null,null,null,null,null,null,null,null,null,null,null,null,null,null,null,null,null,null,null,null,null,null,null,null,null,"VI20DROPOUTN","__VI_20__DROPOUT_N"]
[null,null,null,null,null,null,null,null,null,null,null,null,null,null,null,null,null,null,null,null,null,null,null,null,null,null,null,"VI20GHSN","__VI_20__GHS_N"]
[null,null,null,null,null,null,null,null,null,null,null,null,null,null,null,null,null,null,null,null,null,null,null,null,null,null,null,"VI20GRADALTDPLN","__VI_20__GRADALTDPL_N"]
[null,null,null,null,null,null,null,null,null,null,null,null,null,null,null,null,null,null,null,null,null,null,null,null,null,null,null,"VI20MKCN","__VI_20__MKC_N"]
[null,null,null,null,null,null,null,null,null,null,null,null,null,null,null,null,null,null,null,null,null,null,null,null,null,null,null,"VI20RCN","__VI_20__RC_N"]
[null,null,null,null,null,null,null,null,null,null,null,null,null,null,null,null,null,null,null,null,null,null,null,null,null,null,null,"VI20RMAN","__VI_20__RMA_N"]
[null,null,null,null,null,null,null,null,null,null,null,null,null,null,null,null,null,null,null,null,null,null,null,null,null,null,null,"VI20TRANN","__VI_20__TRAN_N"]
[null,null,null,null,null,null,null,null,null,null,null,null,null,null,null,null,null,null,null,null,null,null,null,null,null,null,null,"VI21DN","__VI_21__D_N"]
[null,null,null,null,null,null,null,null,null,null,null,null,null,null,null,null,null,null,null,null,null,null,null,null,null,null,null,"VI21DROPOUTN","__VI_21__DROPOUT_N"]
[null,null,null,null,null,null,null,null,null,null,null,null,null,null,null,null,null,null,null,null,null,null,null,null,null,null,null,"VI21GHSN","__VI_21__GHS_N"]
[null,null,null,null,null,null,null,null,null,null,null,null,null,null,null,null,null,null,null,null,null,null,null,null,null,null,null,"VI21GRADALTDPLN","__VI_21__GRADALTDPL_N"]
[null,null,null,null,null,null,null,null,null,null,null,null,null,null,null,null,null,null,null,null,null,null,null,null,null,null,null,"VI21MKCN","__VI_21__MKC_N"]
[null,null,null,null,null,null,null,null,null,null,null,null,null,null,null,null,null,null,null,null,null,null,null,null,null,null,null,"VI21RCN","__VI_21__RC_N"]
[null,null,null,null,null,null,null,null,null,null,null,null,null,null,null,null,null,null,null,null,null,null,null,null,null,null,null,"VI21RMAN","__VI_21__RMA_N"]
[null,null,null,null,null,null,null,null,null,null,null,null,null,null,null,null,null,null,null,null,null,null,null,null,null,null,null,"VI21TRANN","__VI_21__TRAN_N"]
[null,null,null,null,null,null,null,null,null,null,null,null,null,null,null,null,null,null,null,null,null,null,null,null,null,null,null,"FY","_F_____Y"]
[null,null,null,null,null,null,null,null,null,null,null,null,null,null,null,null,null,null,null,null,null,null,null,null,null,null,null,"FDN","_F____D_N"]
[null,null,null,null,null,null,null,null,null,null,null,null,null,null,null,null,null,null,null,null,null,null,null,null,null,null,null,"FDROPOUTN","_F____DROPOUT_N"]
[null,null,null,null,null,null,null,null,null,null,null,null,null,null,null,null,null,null,null,null,null,null,null,null,null,null,null,"FGHSN","_F____GHS_N"]
[null,null,null,null,null,null,null,null,null,null,null,null,null,null,null,null,null,null,null,null,null,null,null,null,null,null,null,"FGRADALTDPLN","_F____GRADALTDPL_N"]
[null,null,null,null,null,null,null,null,null,null,null,null,null,null,null,null,null,null,null,null,null,null,null,null,null,null,null,"FMKCN","_F____MKC_N"]
[null,null,null,null,null,null,null,null,null,null,null,null,null,null,null,null,null,null,null,null,null,null,null,null,null,null,null,"FRCN","_F____RC_N"]
[null,null,null,null,null,null,null,null,null,null,null,null,null,null,null,null,null,null,null,null,null,null,null,null,null,null,null,"FRMAN","_F____RMA_N"]
[null,null,null,null,null,null,null,null,null,null,null,null,null,null,null,null,null,null,null,null,null,null,null,null,null,null,null,"FTRANN","_F____TRAN_N"]
[null,null,null,null,null,null,null,null,null,null,null,null,null,null,null,null,null,null,null,null,null,null,null,null,null,null,null,"MY","_M_____Y"]
[null,null,null,null,null,null,null,null,null,null,null,null,null,null,null,null,null,null,null,null,null,null,null,null,null,null,null,"MDN","_M____D_N"]
[null,null,null,null,null,null,null,null,null,null,null,null,null,null,null,null,null,null,null,null,null,null,null,null,null,null,null,"MDROPOUTN","_M____DROPOUT_N"]
[null,null,null,null,null,null,null,null,null,null,null,null,null,null,null,null,null,null,null,null,null,null,null,null,null,null,null,"MGHSN","_M____GHS_N"]
[null,null,null,null,null,null,null,null,null,null,null,null,null,null,null,null,null,null,null,null,null,null,null,null,null,null,null,"MGRADALTDPLN","_M____GRADALTDPL_N"]
[null,null,null,null,null,null,null,null,null,null,null,null,null,null,null,null,null,null,null,null,null,null,null,null,null,null,null,"MMKCN","_M____MKC_N"]
[null,null,null,null,null,null,null,null,null,null,null,null,null,null,null,null,null,null,null,null,null,null,null,null,null,null,null,"MRCN","_M____RC_N"]
[null,null,null,null,null,null,null,null,null,null,null,null,null,null,null,null,null,null,null,null,null,null,null,null,null,null,null,"MRMAN","_M____RMA_N"]
[null,null,null,null,null,null,null,null,null,null,null,null,null,null,null,null,null,null,null,null,null,null,null,null,null,null,null,"MTRANN","_M____TRAN_N"]
[null,null,null,null,null,null,null,null,null,null,null,null,null,null,null,null,null,null,null,null,null,null,null,null,null,null,null,"AM7Y","AM7______Y"]
[null,null,null,null,null,null,null,null,null,null,null,null,null,null,null,null,null,null,null,null,null,null,null,null,null,null,null,"AM7DN","AM7_____D_N"]
[null,null,null,null,null,null,null,null,null,null,null,null,null,null,null,null,null,null,null,null,null,null,null,null,null,null,null,"AM7DROPOUTN","AM7_____DROPOUT_N"]
[null,null,null,null,null,null,null,null,null,null,null,null,null,null,null,null,null,null,null,null,null,null,null,null,null,null,null,"AM7GHSN","AM7_____GHS_N"]
[null,null,null,null,null,null,null,null,null,null,null,null,null,null,null,null,null,null,null,null,null,null,null,null,null,null,null,"AM7GRADALTDPLN","AM7_____GRADALTDPL_N"]
[null,null,null,null,null,null,null,null,null,null,null,null,null,null,null,null,null,null,null,null,null,null,null,null,null,null,null,"AM7MKCN","AM7_____MKC_N"]
[null,null,null,null,null,null,null,null,null,null,null,null,null,null,null,null,null,null,null,null,null,null,null,null,null,null,null,"AM7RCN","AM7_____RC_N"]
[null,null,null,null,null,null,null,null,null,null,null,null,null,null,null,null,null,null,null,null,null,null,null,null,null,null,null,"AM7RMAN","AM7_____RMA_N"]
[null,null,null,null,null,null,null,null,null,null,null,null,null,null,null,null,null,null,null,null,null,null,null,null,null,null,null,"AM7TRANN","AM7_____TRAN_N"]
[null,null,null,null,null,null,null,null,null,null,null,null,null,null,null,null,null,null,null,null,null,null,null,null,null,null,null,"AS7Y","AS7______Y"]
[null,null,null,null,null,null,null,null,null,null,null,null,null,null,null,null,null,null,null,null,null,null,null,null,null,null,null,"AS7DN","AS7_____D_N"]
[null,null,null,null,null,null,null,null,null,null,null,null,null,null,null,null,null,null,null,null,null,null,null,null,null,null,null,"AS7DROPOUTN","AS7_____DROPOUT_N"]
[null,null,null,null,null,null,null,null,null,null,null,null,null,null,null,null,null,null,null,null,null,null,null,null,null,null,null,"AS7GHSN","AS7_____GHS_N"]
[null,null,null,null,null,null,null,null,null,null,null,null,null,null,null,null,null,null,null,null,null,null,null,null,null,null,null,"AS7GRADALTDPLN","AS7_____GRADALTDPL_N"]
[null,null,null,null,null,null,null,null,null,null,null,null,null,null,null,null,null,null,null,null,null,null,null,null,null,null,null,"AS7MKCN","AS7_____MKC_N"]
[null,null,null,null,null,null,null,null,null,null,null,null,null,null,null,null,null,null,null,null,null,null,null,null,null,null,null,"AS7RCN","AS7_____RC_N"]
[null,null,null,null,null,null,null,null,null,null,null,null,null,null,null,null,null,null,null,null,null,null,null,null,null,null,null,"AS7RMAN","AS7_____RMA_N"]
[null,null,null,null,null,null,null,null,null,null,null,null,null,null,null,null,null,null,null,null,null,null,null,null,null,null,null,"AS7TRANN","AS7_____TRAN_N"]
[null,null,null,null,null,null,null,null,null,null,null,null,null,null,null,null,null,null,null,null,null,null,null,null,null,null,null,"BL7Y","BL7______Y"]
[null,null,null,null,null,null,null,null,null,null,null,null,null,null,null,null,null,null,null,null,null,null,null,null,null,null,null,"BL7DN","BL7_____D_N"]
[null,null,null,null,null,null,null,null,null,null,null,null,null,null,null,null,null,null,null,null,null,null,null,null,null,null,null,"BL7DROPOUTN","BL7_____DROPOUT_N"]
[null,null,null,null,null,null,null,null,null,null,null,null,null,null,null,null,null,null,null,null,null,null,null,null,null,null,null,"BL7GHSN","BL7_____GHS_N"]
[null,null,null,null,null,null,null,null,null,null,null,null,null,null,null,null,null,null,null,null,null,null,null,null,null,null,null,"BL7GRADALTDPLN","BL7_____GRADALTDPL_N"]
[null,null,null,null,null,null,null,null,null,null,null,null,null,null,null,null,null,null,null,null,null,null,null,null,null,null,null,"BL7MKCN","BL7_____MKC_N"]
[null,null,null,null,null,null,null,null,null,null,null,null,null,null,null,null,null,null,null,null,null,null,null,null,null,null,null,"BL7RCN","BL7_____RC_N"]
[null,null,null,null,null,null,null,null,null,null,null,null,null,null,null,null,null,null,null,null,null,null,null,null,null,null,null,"BL7RMAN","BL7_____RMA_N"]
[null,null,null,null,null,null,null,null,null,null,null,null,null,null,null,null,null,null,null,null,null,null,null,null,null,null,null,"BL7TRANN","BL7_____TRAN_N"]
[null,null,null,null,null,null,null,null,null,null,null,null,null,null,null,null,null,null,null,null,null,null,null,null,null,null,null,"HI7Y","HI7______Y"]
[null,null,null,null,null,null,null,null,null,null,null,null,null,null,null,null,null,null,null,null,null,null,null,null,null,null,null,"HI7DN","HI7_____D_N"]
[null,null,null,null,null,null,null,null,null,null,null,null,null,null,null,null,null,null,null,null,null,null,null,null,null,null,null,"HI7DROPOUTN","HI7_____DROPOUT_N"]
[null,null,null,null,null,null,null,null,null,null,null,null,null,null,null,null,null,null,null,null,null,null,null,null,null,null,null,"HI7GHSN","HI7_____GHS_N"]
[null,null,null,null,null,null,null,null,null,null,null,null,null,null,null,null,null,null,null,null,null,null,null,null,null,null,null,"HI7GRADALTDPLN","HI7_____GRADALTDPL_N"]
[null,null,null,null,null,null,null,null,null,null,null,null,null,null,null,null,null,null,null,null,null,null,null,null,null,null,null,"HI7MKCN","HI7_____MKC_N"]
[null,null,null,null,null,null,null,null,null,null,null,null,null,null,null,null,null,null,null,null,null,null,null,null,null,null,null,"HI7RCN","HI7_____RC_N"]
[null,null,null,null,null,null,null,null,null,null,null,null,null,null,null,null,null,null,null,null,null,null,null,null,null,null,null,"HI7RMAN","HI7_____RMA_N"]
[null,null,null,null,null,null,null,null,null,null,null,null,null,null,null,null,null,null,null,null,null,null,null,null,null,null,null,"HI7TRANN","HI7_____TRAN_N"]
[null,null,null,null,null,null,null,null,null,null,null,null,null,null,null,null,null,null,null,null,null,null,null,null,null,null,null,"MU7Y","MU7______Y"]
[null,null,null,null,null,null,null,null,null,null,null,null,null,null,null,null,null,null,null,null,null,null,null,null,null,null,null,"MU7DN","MU7_____D_N"]
[null,null,null,null,null,null,null,null,null,null,null,null,null,null,null,null,null,null,null,null,null,null,null,null,null,null,null,"MU7DROPOUTN","MU7_____DROPOUT_N"]
[null,null,null,null,null,null,null,null,null,null,null,null,null,null,null,null,null,null,null,null,null,null,null,null,null,null,null,"MU7GHSN","MU7_____GHS_N"]
[null,null,null,null,null,null,null,null,null,null,null,null,null,null,null,null,null,null,null,null,null,null,null,null,null,null,null,"MU7GRADALTDPLN","MU7_____GRADALTDPL_N"]
[null,null,null,null,null,null,null,null,null,null,null,null,null,null,null,null,null,null,null,null,null,null,null,null,null,null,null,"MU7MKCN","MU7_____MKC_N"]
[null,null,null,null,null,null,null,null,null,null,null,null,null,null,null,null,null,null,null,null,null,null,null,null,null,null,null,"MU7RCN","MU7_____RC_N"]
[null,null,null,null,null,null,null,null,null,null,null,null,null,null,null,null,null,null,null,null,null,null,null,null,null,null,null,"MU7RMAN","MU7_____RMA_N"]
[null,null,null,null,null,null,null,null,null,null,null,null,null,null,null,null,null,null,null,null,null,null,null,null,null,null,null,"MU7TRANN","MU7_____TRAN_N"]
[null,null,null,null,null,null,null,null,null,null,null,null,null,null,null,null,null,null,null,null,null,null,null,null,null,null,null,"PI7Y","PI7______Y"]
[null,null,null,null,null,null,null,null,null,null,null,null,null,null,null,null,null,null,null,null,null,null,null,null,null,null,null,"PI7DN","PI7_____D_N"]
[null,null,null,null,null,null,null,null,null,null,null,null,null,null,null,null,null,null,null,null,null,null,null,null,null,null,null,"PI7DROPOUTN","PI7_____DROPOUT_N"]
[null,null,null,null,null,null,null,null,null,null,null,null,null,null,null,null,null,null,null,null,null,null,null,null,null,null,null,"PI7GHSN","PI7_____GHS_N"]
[null,null,null,null,null,null,null,null,null,null,null,null,null,null,null,null,null,null,null,null,null,null,null,null,null,null,null,"PI7GRADALTDPLN","PI7_____GRADALTDPL_N"]
[null,null,null,null,null,null,null,null,null,null,null,null,null,null,null,null,null,null,null,null,null,null,null,null,null,null,null,"PI7MKCN","PI7_____MKC_N"]
[null,null,null,null,null,null,null,null,null,null,null,null,null,null,null,null,null,null,null,null,null,null,null,null,null,null,null,"PI7RCN","PI7_____RC_N"]
[null,null,null,null,null,null,null,null,null,null,null,null,null,null,null,null,null,null,null,null,null,null,null,null,null,null,null,"PI7RMAN","PI7_____RMA_N"]
[null,null,null,null,null,null,null,null,null,null,null,null,null,null,null,null,null,null,null,null,null,null,null,null,null,null,null,"PI7TRANN","PI7_____TRAN_N"]
[null,null,null,null,null,null,null,null,null,null,null,null,null,null,null,null,null,null,null,null,null,null,null,null,null,null,null,"WH7Y","WH7______Y"]
[null,null,null,null,null,null,null,null,null,null,null,null,null,null,null,null,null,null,null,null,null,null,null,null,null,null,null,"WH7DN","WH7_____D_N"]
[null,null,null,null,null,null,null,null,null,null,null,null,null,null,null,null,null,null,null,null,null,null,null,null,null,null,null,"WH7DROPOUTN","WH7_____DROPOUT_N"]
[null,null,null,null,null,null,null,null,null,null,null,null,null,null,null,null,null,null,null,null,null,null,null,null,null,null,null,"WH7GHSN","WH7_____GHS_N"]
[null,null,null,null,null,null,null,null,null,null,null,null,null,null,null,null,null,null,null,null,null,null,null,null,null,null,null,"WH7GRADALTDPLN","WH7_____GRADALTDPL_N"]
[null,null,null,null,null,null,null,null,null,null,null,null,null,null,null,null,null,null,null,null,null,null,null,null,null,null,null,"WH7MKCN","WH7_____MKC_N"]
[null,null,null,null,null,null,null,null,null,null,null,null,null,null,null,null,null,null,null,null,null,null,null,null,null,null,null,"WH7RCN","WH7_____RC_N"]
[null,null,null,null,null,null,null,null,null,null,null,null,null,null,null,null,null,null,null,null,null,null,null,null,null,null,null,"WH7RMAN","WH7_____RMA_N"]
[null,null,null,null,null,null,null,null,null,null,null,null,null,null,null,null,null,null,null,null,null,null,null,null,null,null,null,"WH7TRANN","WH7_____TRAN_N"]
[null,null,null,null,null,null,null,null,null,null,null,null,null,null,null,null,null,null,null,null,null,null,null,null,null,null,null,null,"______"]
[null,null,null,null,null,null,null,null,null,null,null,null,null,null,null,null,null,null,null,null,null,null,null,null,null,null,null,null,"______"]
[null,null,null,null,null,null,null,null,null,null,null,null,null,null,null,null,null,null,null,null,null,null,null,null,null,null,null,null,"______"]
[null,null,null,null,null,null,null,null,null,null,null,null,null,null,null,null,null,null,null,null,null,null,null,null,null,null,null,null,"______"]
[null,null,null,null,null,null,null,null,null,null,null,null,null,null,null,null,null,null,null,null,null,null,null,null,null,null,null,null,"______"]
[null,null,null,null,null,null,null,null,null,null,null,null,null,null,null,null,null,null,null,null,null,null,null,null,null,null,null,null,"______"]
[null,null,null,null,null,null,null,null,null,null,null,null,null,null,null,null,null,null,null,null,null,null,null,null,null,null,null,null,"______"]
[null,null,null,null,null,null,null,null,null,null,null,null,null,null,null,null,null,null,null,null,null,null,null,null,null,null,null,null,"______"]
[null,null,null,null,null,null,null,null,null,null,null,null,null,null,null,null,null,null,null,null,null,null,null,null,null,null,null,null,"______"]
[null,null,null,null,null,null,null,null,null,null,null,null,null,null,null,null,null,null,null,null,null,null,null,null,null,null,null,null,"______"]
[null,null,null,null,null,null,null,null,null,null,null,null,null,null,null,null,null,null,null,null,null,null,null,null,null,null,null,null,"______"]
[null,null,null,null,null,null,null,null,null,null,null,null,null,null,null,null,null,null,null,null,null,null,null,null,null,null,null,null,"______"]
[null,null,null,null,null,null,null,null,null,null,null,null,null,null,null,null,null,null,null,null,null,null,null,null,null,null,null,null,"______"]
[null,null,null,null,null,null,null,null,null,null,null,null,null,null,null,null,null,null,null,null,null,null,null,null,null,null,null,null,"______"]
[null,null,null,null,null,null,null,null,null,null,null,null,null,null,null,null,null,null,null,null,null,null,null,null,null,null,null,null,"______"]
[null,null,null,null,null,null,null,null,null,null,null,null,null,null,null,null,null,null,null,null,null,null,null,null,null,null,null,null,"______"]
[null,null,null,null,null,null,null,null,null,null,null,null,null,null,null,null,null,null,null,null,null,null,null,null,null,null,null,null,"______"]
[null,null,null,null,null,null,null,null,null,null,null,null,null,null,null,null,null,null,null,null,null,null,null,null,null,null,null,null,"______"]
[null,null,null,null,null,null,null,null,null,null,null,null,null,null,null,null,null,null,null,null,null,null,null,null,null,null,null,null,"______"]
[null,null,null,null,null,null,null,null,null,null,null,null,null,null,null,null,null,null,null,null,null,null,null,null,null,null,null,null,"______"]
[null,null,null,null,null,null,null,null,null,null,null,null,null,null,null,null,null,null,null,null,null,null,null,null,null,null,null,null,"______"]
[null,null,null,null,null,null,null,null,null,null,null,null,null,null,null,null,null,null,null,null,null,null,null,null,null,null,null,null,"______"]
[null,null,null,null,null,null,null,null,null,null,null,null,null,null,null,null,null,null,null,null,null,null,null,null,null,null,null,null,"______"]
[null,null,null,null,null,null,null,null,null,null,null,null,null,null,null,null,null,null,null,null,null,null,null,null,null,null,null,null,"______"]
[null,null,null,null,null,null,null,null,null,null,null,null,null,null,null,null,null,null,null,null,null,null,null,null,null,null,null,null,"______"]
[null,null,null,null,null,null,null,null,null,null,null,null,null,null,null,null,null,null,null,null,null,null,null,null,null,null,null,null,"______"]
[null,null,null,null,null,null,null,null,null,null,null,null,null,null,null,null,null,null,null,null,null,null,null,null,null,null,null,null,"______"]
[null,null,null,null,null,null,null,null,null,null,null,null,null,null,null,null,null,null,null,null,null,null,null,null,null,null,null,null,"______"]
[null,null,null,null,null,null,null,null,null,null,null,null,null,null,null,null,null,null,null,null,null,null,null,null,null,null,null,null,"______"]
[null,null,null,null,null,null,null,null,null,null,null,null,null,null,null,null,null,null,null,null,null,null,null,null,null,null,null,null,"______"]
[null,null,null,null,null,null,null,null,null,null,null,null,null,null,null,null,null,null,null,null,null,null,null,null,null,null,null,null,"______"]
[null,null,null,null,null,null,null,null,null,null,null,null,null,null,null,null,null,null,null,null,null,null,null,null,null,null,null,null,"______"]
[null,null,null,null,null,null,null,null,null,null,null,null,null,null,null,null,null,null,null,null,null,null,null,null,null,null,null,null,"______"]
[null,null,null,null,null,null,null,null,null,null,null,null,null,null,null,null,null,null,null,null,null,null,null,null,null,null,null,null,"______"]
[null,null,null,null,null,null,null,null,null,null,null,null,null,null,null,null,null,null,null,null,null,null,null,null,null,null,null,null,"______"]
[null,null,null,null,null,null,null,null,null,null,null,null,null,null,null,null,null,null,null,null,null,null,null,null,null,null,null,null,"______"]
[null,null,null,null,null,null,null,null,null,null,null,null,null,null,null,null,null,null,null,null,null,null,null,null,null,null,null,null,"______"]
[null,null,null,null,null,null,null,null,null,null,null,null,null,null,null,null,null,null,null,null,null,null,null,null,null,null,null,null,"______"]
[null,null,null,null,null,null,null,null,null,null,null,null,null,null,null,null,null,null,null,null,null,null,null,null,null,null,null,null,"______"]
[null,null,null,null,null,null,null,null,null,null,null,null,null,null,null,null,null,null,null,null,null,null,null,null,null,null,null,null,"______"]
[null,null,null,null,null,null,null,null,null,null,null,null,null,null,null,null,null,null,null,null,null,null,null,null,null,null,null,null,"______"]
[null,null,null,null,null,null,null,null,null,null,null,null,null,null,null,null,null,null,null,null,null,null,null,null,null,null,null,null,"______"]
[null,null,null,null,null,null,null,null,null,null,null,null,null,null,null,null,null,null,null,null,null,null,null,null,null,null,null,null,"______"]
[null,null,null,null,null,null,null,null,null,null,null,null,null,null,null,null,null,null,null,null,null,null,null,null,null,null,null,null,"______"]
[null,null,null,null,null,null,null,null,null,null,null,null,null,null,null,null,null,null,null,null,null,null,null,null,null,null,null,null,"______"]
[null,null,null,null,null,null,null,null,null,null,null,null,null,null,null,null,null,null,null,null,null,null,null,null,null,null,null,null,"______"]
[null,null,null,null,null,null,null,null,null,null,null,null,null,null,null,null,null,null,null,null,null,null,null,null,null,null,null,null,"______"]
[null,null,null,null,null,null,null,null,null,null,null,null,null,null,null,null,null,null,null,null,null,null,null,null,null,null,null,null,"______"]
[null,null,null,null,null,null,null,null,null,null,null,null,null,null,null,null,null,null,null,null,null,null,null,null,null,null,null,null,"______"]
[null,null,null,null,null,null,null,null,null,null,null,null,null,null,null,null,null,null,null,null,null,null,null,null,null,null,null,null,"______"]
[null,null,null,null,null,null,null,null,null,null,null,null,null,null,null,null,null,null,null,null,null,null,null,null,null,null,null,null,"______"]
[null,null,null,null,null,null,null,null,null,null,null,null,null,null,null,null,null,null,null,null,null,null,null,null,null,null,null,null,"______"]
[null,null,null,null,null,null,null,null,null,null,null,null,null,null,null,null,null,null,null,null,null,null,null,null,null,null,null,null,"______"]
[null,null,null,null,null,null,null,null,null,null,null,null,null,null,null,null,null,null,null,null,null,null,null,null,null,null,null,null,"______"]
[null,null,null,null,null,null,null,null,null,null,null,null,null,null,null,null,null,null,null,null,null,null,null,null,null,null,null,null,"______"]
[null,null,null,null,null,null,null,null,null,null,null,null,null,null,null,null,null,null,null,null,null,null,null,null,null,null,null,null,"______"]
[null,null,null,null,null,null,null,null,null,null,null,null,null,null,null,null,null,null,null,null,null,null,null,null,null,null,null,null,"______"]
[null,null,null,null,null,null,null,null,null,null,null,null,null,null,null,null,null,null,null,null,null,null,null,null,null,null,null,null,"______"]
[null,null,null,null,null,null,null,null,null,null,null,null,null,null,null,null,null,null,null,null,null,null,null,null,null,null,null,null,"______"]
[null,null,null,null,null,null,null,null,null,null,null,null,null,null,null,null,null,null,null,null,null,null,null,null,null,null,null,null,"______"]
[null,null,null,null,null,null,null,null,null,null,null,null,null,null,null,null,null,null,null,null,null,null,null,null,null,null,null,null,"______"]
[null,null,null,null,null,null,null,null,null,null,null,null,null,null,null,null,null,null,null,null,null,null,null,null,null,null,null,null,"______"]
[null,null,null,null,null,null,null,null,null,null,null,null,null,null,null,null,null,null,null,null,null,null,null,null,null,null,null,null,"______"]
[null,null,null,null,null,null,null,null,null,null,null,null,null,null,null,null,null,null,null,null,null,null,null,null,null,null,null,null,"______"]
[null,null,null,null,null,null,null,null,null,null,null,null,null,null,null,null,null,null,null,null,null,null,null,null,null,null,null,null,"______"]
[null,null,null,null,null,null,null,null,null,null,null,null,null,null,null,null,null,null,null,null,null,null,null,null,null,null,null,null,"______"]
[null,null,null,null,null,null,null,null,null,null,null,null,null,null,null,null,null,null,null,null,null,null,null,null,null,null,null,null,"______"]
[null,null,null,null,null,null,null,null,null,null,null,null,null,null,null,null,null,null,null,null,null,null,null,null,null,null,null,null,"______"]
[null,null,null,null,null,null,null,null,null,null,null,null,null,null,null,null,null,null,null,null,null,null,null,null,null,null,null,null,"______"]
[null,null,null,null,null,null,null,null,null,null,null,null,null,null,null,null,null,null,null,null,null,null,null,null,null,null,null,null,"______"]
[null,null,null,null,null,null,null,null,null,null,null,null,null,null,null,null,null,null,null,null,null,null,null,null,null,null,null,null,"______"]
[null,null,null,null,null,null,null,null,null,null,null,null,null,null,null,null,null,null,null,null,null,null,null,null,null,null,null,null,"______"]
[null,null,null,null,null,null,null,null,null,null,null,null,null,null,null,null,null,null,null,null,null,null,null,null,null,null,null,null,"______"]
[null,null,null,null,null,null,null,null,null,null,null,null,null,null,null,null,null,null,null,null,null,null,null,null,null,null,null,null,"______"]
[null,null,null,null,null,null,null,null,null,null,null,null,null,null,null,null,null,null,null,null,null,null,null,null,null,null,null,null,"______"]
[null,null,null,null,null,null,null,null,null,null,null,null,null,null,null,null,null,null,null,null,null,null,null,null,null,null,null,null,"______"]
[null,null,null,null,null,null,null,null,null,null,null,null,null,null,null,null,null,null,null,null,null,null,null,null,null,null,null,null,"______"]
[null,null,null,null,null,null,null,null,null,null,null,null,null,null,null,null,null,null,null,null,null,null,null,null,null,null,null,null,"______"]
[null,null,null,null,null,null,null,null,null,null,null,null,null,null,null,null,null,null,null,null,null,null,null,null,null,null,null,null,"______"]
[null,null,null,null,null,null,null,null,null,null,null,null,null,null,null,null,null,null,null,null,null,null,null,null,null,null,null,null,"______"]
[null,null,null,null,null,null,null,null,null,null,null,null,null,null,null,null,null,null,null,null,null,null,null,null,null,null,null,null,"______"]
[null,null,null,null,null,null,null,null,null,null,null,null,null,null,null,null,null,null,null,null,null,null,null,null,null,null,null,null,"______"]
[null,null,null,null,null,null,null,null,null,null,null,null,null,null,null,null,null,null,null,null,null,null,null,null,null,null,null,null,"______"]
[null,null,null,null,null,null,null,null,null,null,null,null,null,null,null,null,null,null,null,null,null,null,null,null,null,null,null,null,"______"]
[null,null,null,null,null,null,null,null,null,null,null,null,null,null,null,null,null,null,null,null,null,null,null,null,null,null,null,null,"______"]
[null,null,null,null,null,null,null,null,null,null,null,null,null,null,null,null,null,null,null,null,null,null,null,null,null,null,null,null,"______"]
[null,null,null,null,null,null,null,null,null,null,null,null,null,null,null,null,null,null,null,null,null,null,null,null,null,null,null,null,"______"]
[null,null,null,null,null,null,null,null,null,null,null,null,null,null,null,null,null,null,null,null,null,null,null,null,null,null,null,null,"______"]
[null,null,null,null,null,null,null,null,null,null,null,null,null,null,null,null,null,null,null,null,null,null,null,null,null,null,null,null,"______"]
[null,null,null,null,null,null,null,null,null,null,null,null,null,null,null,null,null,null,null,null,null,null,null,null,null,null,null,null,"______"]
[null,null,null,null,null,null,null,null,null,null,null,null,null,null,null,null,null,null,null,null,null,null,null,null,null,null,null,null,"______"]
[null,null,null,null,null,null,null,null,null,null,null,null,null,null,null,null,null,null,null,null,null,null,null,null,null,null,null,null,"______"]
[null,null,null,null,null,null,null,null,null,null,null,null,null,null,null,null,null,null,null,null,null,null,null,null,null,null,null,null,"______"]
[null,null,null,null,null,null,null,null,null,null,null,null,null,null,null,null,null,null,null,null,null,null,null,null,null,null,null,null,"______"]
[null,null,null,null,null,null,null,null,null,null,null,null,null,null,null,null,null,null,null,null,null,null,null,null,null,null,null,null,"______"]

{"sheet":"Select LEA","index":3,"n_rows":4006,"n_cols":44,"rows_kept":2250,"cut":true,"hidden":false,"merged":[[0,0,0,24],[0,29,999,29],[2,22,2,24],[3,22,3,23],[4,22,4,23],[5,22,5,23],[6,22,6,23],[9,0,9,24],[9,26,9,28],[5,3,6,4],[5,5,6,12],[7,3,7,4]],"bounds":{"rows_first":1000,"rows_last":250,"rows_between":1000,"halvings":1}}
[{"$f":"\"IDEA LEA Exiting Data for School Year \"&'Exiting (LEA FS009)'!E12&\" - \"&F6","v":"IDEA LEA Exiting Data for School Year  - "},null,null,null,null,null,null,null,null,null,null,null,null,null,null,null,null,null,null,null,null,null,null,null,null,null,null,null,null,"End of worksheet"]
[]
[null,null,null,null,null,null,null,null,null,null,null,null,null,null,null,null,null,null,null,null,null,null,"Data quality checks"]
[null,null,null,null,null,null,null,null,null,null,null,null,null,null,null,null,null,null,null,null,null,null,"Type",null,"Total"]
[null,null,null,null,null,null,null,null,null,null,null,null,null,null,null,null,null,null,null,null,null,null,"Data elements not included for this LEA",null,{"$f":"COUNTIF(AA13:AA1003,\"?*\")","v":895}]
[null,null,null,"Select LEA:",null,null,null,null,null,null,null,null,null,null,null,null,null,null,null,null,null,null,"Duplicate row elements",null,{"$f":"COUNTIF(AB12:AB1003,\"?*\")","v":0}]
[null,null,null,null,null,null,null,null,null,null,null,null,null,null,null,null,null,null,null,null,null,null,"Invalid data elements",null,{"$f":"COUNTIF(AC12:AC1003,\"?*\")","v":0}]
[null,null,null,"LEA identifier:",null,{"$f":"IFERROR(IF(F6=\"\", \"\", INDEX(LEA_identifier,MATCH($F$6,LEA_Name_009,0))),\"\")","v":""}]
[]
["FS009 – Children with Disabilities (IDEA) Exiting Special Education ",null,null,null,null,null,null,null,null,null,null,null,null,null,null,null,null,null,null,null,null,null,null,null,null,null,"Data quality checks",null,null,null,"Count of Missing Data:",{"$f":"SUM(AI13:AI1003)","v":895},null,null,null,null,null,null,null,null,{"$f":"COUNTIF(AR12:AR3014,\"?*\")","v":0},null,null,"x =IFERROR(VLOOKUP(ROWS($AR$13:AR13),$AO$13:$AP$3014,2,0),\"\")"]
["File record \nnumber","State code","State agency number","LEA identifier (state)","Filler","Table name","Filler","Racial\nethnic","Sex (membership)","Filler","Filler","Filler","Filler","Filler","Filler","Disability category (IDEA) exiting","Age (exiting)","English learner status (both)","Filler","Filler","Filler","Basis of exit","Total indicator","Explanation","Student count",null,"Data elements not included for this LEA (formatted)","Duplicate row elements","Invalid data elements",null,"Missing\nData ","Current\nListing","Master\nListing\n(For lookup)","Master\nListing\n(For output)","Is Missing Data Element","Current\nListing\n(For output)","Current Listing for INDEX"]
[null,null,null,null,null,null,null,null,null,null,null,null,null,null,null,null,null,null,null,null,null,null,null,null,null,null,{"$f":"IFERROR(INDEX($AE$13:$AE$1003, SMALL(IF(ISBLANK($AE$13:$AE$1003)+ISERROR($AE$13:$AE$1003)+LEN($AE$13:$AE$1003)=0, \"\", ROW($AE$13:$AE$1003)-MIN(ROW($AE$13:$AE$1003))+1), ROW(1:1))),\"\")","v":"______Y"},{"$f":"IF(AF13=\"\",\"\",IF(COUNTIF(CurrentListing,AF13)>1,AJ13,\"\"))","v":""},{"$f":"IF(LEN(AF13)=0,\"\",IF(ISNA(MATCH(AF13,MasterListing,0)),AJ13,\"\"))","v":""},null,{"$f":"IF(LEN(AG12)=0,\"\",IF(ISNA(MATCH(AG12,CurrentListing,0)),AH12,\"\"))","v":""},{"$f":"H12&I12&P12&Q12&R12&V12&W12","v":""},null,null,{"$f":"IF(LEN(AA12)>0,1,0)","v":1},{"$f":"H12&\"_\"&I12&\"_\"&P12&\"_\"&Q12&\"_\"&R12&\"_\"&V12&\"_\"&W12","v":"______"},null,null,null,null,{"$f":"IF(ISNUMBER(SEARCH($F$6,AP12)),MAX($AO$11:AO11)+1,0)","v":1},{"$f":"LEA_Name_009","v":0},{"$f":"ROWS($AQ$12:AQ12)","v":1},{"$f":"IFERROR(VLOOKUP(ROWS($AR$12:AR12),$AO$12:$AP$3014,2,0),\"\")","v":0}]
[null,null,null,null,null,null,null,null,null,null,null,null,null,null,null,null,null,null,null,null,null,null,null,null,null,null,{"$f":"IFERROR(INDEX($AE$13:$AE$1003, SMALL(IF(ISBLANK($AE$13:$AE$1003)+ISERROR($AE$13:$AE$1003)+LEN($AE$13:$AE$1003)=0, \"\", ROW($AE$13:$AE$1003)-MIN(ROW($AE$13:$AE$1003))+1), ROW(2:2))),\"\")","v":"_____D_Y"},{"$f":"IF(AF14=\"\",\"\",IF(COUNTIF(CurrentListing,AF14)>1,AJ14,\"\"))","v":""},{"$f":"IF(LEN(AF14)=0,\"\",IF(ISNA(MATCH(AF14,MasterListing,0)),AJ14,\"\"))","v":""},null,"______Y","","Y","______Y",{"$f":"IF(LEN(AA13)>0,1,0)","v":1},{"$f":"H13&\"_\"&I13&\"_\"&P13&\"_\"&Q13&\"_\"&R13&\"_\"&V13&\"_\"&W13","v":"______"},{"$f":"AF13","v":""},null,null,null,{"$f":"IF(ISNUMBER(SEARCH($F$6,AP13)),MAX($AO$11:AO12)+1,0)","v":2},0,{"$f":"ROWS($AQ$12:AQ13)","v":2},{"$f":"IFERROR(VLOOKUP(ROWS($AR$12:AR13),$AO$12:$AP$3014,2,0),\"\")","v":0}]
[null,null,null,null,null,null,null,null,null,null,null,null,null,null,null,null,null,null,null,null,null,null,null,null,null,null,{"$f":"IFERROR(INDEX($AE$13:$AE$1003, SMALL(IF(ISBLANK($AE$13:$AE$1003)+ISERROR($AE$13:$AE$1003)+LEN($AE$13:$AE$1003)=0, \"\", ROW($AE$13:$AE$1003)-MIN(ROW($AE$13:$AE$1003))+1), ROW(3:3))),\"\")","v":"_____DROPOUT_Y"},{"$f":"IF(AF15=\"\",\"\",IF(COUNTIF(CurrentListing,AF15)>1,AJ15,\"\"))","v":""},{"$f":"IF(LEN(AF15)=0,\"\",IF(ISNA(MATCH(AF15,MasterListing,0)),AJ15,\"\"))","v":""},null,"_____D_Y","","DY","_____D_Y",{"$f":"IF(LEN(AA14)>0,1,0)","v":1},{"$f":"H14&\"_\"&I14&\"_\"&P14&\"_\"&Q14&\"_\"&R14&\"_\"&V14&\"_\"&W14","v":"______"},null,null,null,null,{"$f":"IF(ISNUMBER(SEARCH($F$6,AP14)),MAX($AO$11:AO13)+1,0)","v":3},0,{"$f":"ROWS($AQ$12:AQ14)","v":3},{"$f":"IFERROR(VLOOKUP(ROWS($AR$12:AR14),$AO$12:$AP$3014,2,0),\"\")","v":0}]
[null,null,null,null,null,null,null,null,null,null,null,null,null,null,null,null,null,null,null,null,null,null,null,null,null,null,{"$f":"IFERROR(INDEX($AE$13:$AE$1003, SMALL(IF(ISBLANK($AE$13:$AE$1003)+ISERROR($AE$13:$AE$1003)+LEN($AE$13:$AE$1003)=0, \"\", ROW($AE$13:$AE$1003)-MIN(ROW($AE$13:$AE$1003))+1), ROW(4:4))),\"\")","v":"_____GHS_Y"},{"$f":"IF(AF16=\"\",\"\",IF(COUNTIF(CurrentListing,AF16)>1,AJ16,\"\"))","v":""},{"$f":"IF(LEN(AF16)=0,\"\",IF(ISNA(MATCH(AF16,MasterListing,0)),AJ16,\"\"))","v":""},null,"_____DROPOUT_Y","","DROPOUTY","_____DROPOUT_Y",1,"______",null,null,null,null,{"$f":"IF(ISNUMBER(SEARCH($F$6,AP15)),MAX($AO$11:AO14)+1,0)","v":4},0,{"$f":"ROWS($AQ$12:AQ15)","v":4},{"$f":"IFERROR(VLOOKUP(ROWS($AR$12:AR15),$AO$12:$AP$3014,2,0),\"\")","v":0}]
[null,null,null,null,null,null,null,null,null,null,null,null,null,null,null,null,null,null,null,null,null,null,null,null,null,null,{"$f":"IFERROR(INDEX($AE$13:$AE$1003, SMALL(IF(ISBLANK($AE$13:$AE$1003)+ISERROR($AE$13:$AE$1003)+LEN($AE$13:$AE$1003)=0, \"\", ROW($AE$13:$AE$1003)-MIN(ROW($AE$13:$AE$1003))+1), ROW(5:5))),\"\")","v":"_____GRADALTDPL_Y"},{"$f":"IF(AF17=\"\",\"\",IF(COUNTIF(CurrentListing,AF17)>1,AJ17,\"\"))","v":""},{"$f":"IF(LEN(AF17)=0,\"\",IF(ISNA(MATCH(AF17,MasterListing,0)),AJ17,\"\"))","v":""},null,"_____GHS_Y","","GHSY","_____GHS_Y",1,"______",null,null,null,null,{"$f":"IF(ISNUMBER(SEARCH($F$6,AP16)),MAX($AO$11:AO15)+1,0)","v":5},0,{"$f":"ROWS($AQ$12:AQ16)","v":5},{"$f":"IFERROR(VLOOKUP(ROWS($AR$12:AR16),$AO$12:$AP$3014,2,0),\"\")","v":0}]
[null,null,null,null,null,null,null,null,null,null,null,null,null,null,null,null,null,null,null,null,null,null,null,null,null,null,{"$f":"IFERROR(INDEX($AE$13:$AE$1003, SMALL(IF(ISBLANK($AE$13:$AE$1003)+ISERROR($AE$13:$AE$1003)+LEN($AE$13:$AE$1003)=0, \"\", ROW($AE$13:$AE$1003)-MIN(ROW($AE$13:$AE$1003))+1), ROW(6:6))),\"\")","v":"_____MKC_Y"},{"$f":"IF(AF18=\"\",\"\",IF(COUNTIF(CurrentListing,AF18)>1,AJ18,\"\"))","v":""},{"$f":"IF(LEN(AF18)=0,\"\",IF(ISNA(MATCH(AF18,MasterListing,0)),AJ18,\"\"))","v":""},null,"_____GRADALTDPL_Y","","GRADALTDPLY","_____GRADALTDPL_Y",1,"______",null,null,null,null,{"$f":"IF(ISNUMBER(SEARCH($F$6,AP17)),MAX($AO$11:AO16)+1,0)","v":6},0,{"$f":"ROWS($AQ$12:AQ17)","v":6},{"$f":"IFERROR(VLOOKUP(ROWS($AR$12:AR17),$AO$12:$AP$3014,2,0),\"\")","v":0}]
[null,null,null,null,null,null,null,null,null,null,null,null,null,null,null,null,null,null,null,null,null,null,null,null,null,null,{"$f":"IFERROR(INDEX($AE$13:$AE$1003, SMALL(IF(ISBLANK($AE$13:$AE$1003)+ISERROR($AE$13:$AE$1003)+LEN($AE$13:$AE$1003)=0, \"\", ROW($AE$13:$AE$1003)-MIN(ROW($AE$13:$AE$1003))+1), ROW(7:7))),\"\")","v":"_____RC_Y"},{"$f":"IF(AF19=\"\",\"\",IF(COUNTIF(CurrentListing,AF19)>1,AJ19,\"\"))","v":""},{"$f":"IF(LEN(AF19)=0,\"\",IF(ISNA(MATCH(AF19,MasterListing,0)),AJ19,\"\"))","v":""},null,"_____MKC_Y","","MKCY","_____MKC_Y",1,"______",null,null,null,null,{"$f":"IF(ISNUMBER(SEARCH($F$6,AP18)),MAX($AO$11:AO17)+1,0)","v":7},0,{"$f":"ROWS($AQ$12:AQ18)","v":7},{"$f":"IFERROR(VLOOKUP(ROWS($AR$12:AR18),$AO$12:$AP$3014,2,0),\"\")","v":0}]
[null,null,null,null,null,null,null,null,null,null,null,null,null,null,null,null,null,null,null,null,null,null,null,null,null,null,{"$f":"IFERROR(INDEX($AE$13:$AE$1003, SMALL(IF(ISBLANK($AE$13:$AE$1003)+ISERROR($AE$13:$AE$1003)+LEN($AE$13:$AE$1003)=0, \"\", ROW($AE$13:$AE$1003)-MIN(ROW($AE$13:$AE$1003))+1), ROW(8:8))),\"\")","v":"_____RMA_Y"},{"$f":"IF(AF20=\"\",\"\",IF(COUNTIF(CurrentListing,AF20)>1,AJ20,\"\"))","v":""},{"$f":"IF(LEN(AF20)=0,\"\",IF(ISNA(MATCH(AF20,MasterListing,0)),AJ20,\"\"))","v":""},null,"_____RC_Y","","RCY","_____RC_Y",1,"______",null,null,null,null,{"$f":"IF(ISNUMBER(SEARCH($F$6,AP19)),MAX($AO$11:AO18)+1,0)","v":8},0,{"$f":"ROWS($AQ$12:AQ19)","v":8},{"$f":"IFERROR(VLOOKUP(ROWS($AR$12:AR19),$AO$12:$AP$3014,2,0),\"\")","v":0}]
[null,null,null,null,null,null,null,null,null,null,null,null,null,null,null,null,null,null,null,null,null,null,null,null,null,null,{"$f":"IFERROR(INDEX($AE$13:$AE$1003, SMALL(IF(ISBLANK($AE$13:$AE$1003)+ISERROR($AE$13:$AE$1003)+LEN($AE$13:$AE$1003)=0, \"\", ROW($AE$13:$AE$1003)-MIN(ROW($AE$13:$AE$1003))+1), ROW(9:9))),\"\")","v":"_____TRAN_Y"},{"$f":"IF(AF21=\"\",\"\",IF(COUNTIF(CurrentListing,AF21)>1,AJ21,\"\"))","v":""},{"$f":"IF(LEN(AF21)=0,\"\",IF(ISNA(MATCH(AF21,MasterListing,0)),AJ21,\"\"))","v":""},null,"_____RMA_Y","","RMAY","_____RMA_Y",1,"______",null,null,null,null,{"$f":"IF(ISNUMBER(SEARCH($F$6,AP20)),MAX($AO$11:AO19)+1,0)","v":9},0,{"$f":"ROWS($AQ$12:AQ20)","v":9},{"$f":"IFERROR(VLOOKUP(ROWS($AR$12:AR20),$AO$12:$AP$3014,2,0),\"\")","v":0}]
[null,null,null,null,null,null,null,null,null,null,null,null,null,null,null,null,null,null,null,null,null,null,null,null,null,null,{"$f":"IFERROR(INDEX($AE$13:$AE$1003, SMALL(IF(ISBLANK($AE$13:$AE$1003)+ISERROR($AE$13:$AE$1003)+LEN($AE$13:$AE$1003)=0, \"\", ROW($AE$13:$AE$1003)-MIN(ROW($AE$13:$AE$1003))+1), ROW(10:10))),\"\")","v":"____LEP__Y"},{"$f":"IF(AF22=\"\",\"\",IF(COUNTIF(CurrentListing,AF22)>1,AJ22,\"\"))","v":""},{"$f":"IF(LEN(AF22)=0,\"\",IF(ISNA(MATCH(AF22,MasterListing,0)),AJ22,\"\"))","v":""},null,"_____TRAN_Y","","TRANY","_____TRAN_Y",1,"______",null,null,null,null,{"$f":"IF(ISNUMBER(SEARCH($F$6,AP21)),MAX($AO$11:AO20)+1,0)","v":10},0,{"$f":"ROWS($AQ$12:AQ21)","v":10},{"$f":"IFERROR(VLOOKUP(ROWS($AR$12:AR21),$AO$12:$AP$3014,2,0),\"\")","v":0}]
[null,null,null,null,null,null,null,null,null,null,null,null,null,null,null,null,null,null,null,null,null,null,null,null,null,null,{"$f":"IFERROR(INDEX($AE$13:$AE$1003, SMALL(IF(ISBLANK($AE$13:$AE$1003)+ISERROR($AE$13:$AE$1003)+LEN($AE$13:$AE$1003)=0, \"\", ROW($AE$13:$AE$1003)-MIN(ROW($AE$13:$AE$1003))+1), ROW(11:11))),\"\")","v":"____LEP_D_N"},{"$f":"IF(AF23=\"\",\"\",IF(COUNTIF(CurrentListing,AF23)>1,AJ23,\"\"))","v":""},{"$f":"IF(LEN(AF23)=0,\"\",IF(ISNA(MATCH(AF23,MasterListing,0)),AJ23,\"\"))","v":""},null,"____LEP__Y","","LEPY","____LEP__Y",1,"______",null,null,null,null,{"$f":"IF(ISNUMBER(SEARCH($F$6,AP22)),MAX($AO$11:AO21)+1,0)","v":11},0,{"$f":"ROWS($AQ$12:AQ22)","v":11},{"$f":"IFERROR(VLOOKUP(ROWS($AR$12:AR22),$AO$12:$AP$3014,2,0),\"\")","v":0}]
[null,null,null,null,null,null,null,null,null,null,null,null,null,null,null,null,null,null,null,null,null,null,null,null,null,null,{"$f":"IFERROR(INDEX($AE$13:$AE$1003, SMALL(IF(ISBLANK($AE$13:$AE$1003)+ISERROR($AE$13:$AE$1003)+LEN($AE$13:$AE$1003)=0, \"\", ROW($AE$13:$AE$1003)-MIN(ROW($AE$13:$AE$1003))+1), ROW(12:12))),\"\")","v":"____LEP_DROPOUT_N"},{"$f":"IF(AF24=\"\",\"\",IF(COUNTIF(CurrentListing,AF24)>1,AJ24,\"\"))","v":""},{"$f":"IF(LEN(AF24)=0,\"\",IF(ISNA(MATCH(AF24,MasterListing,0)),AJ24,\"\"))","v":""},null,"____LEP_D_N","","LEPDN","____LEP_D_N",1,"______",null,null,null,null,{"$f":"IF(ISNUMBER(SEARCH($F$6,AP23)),MAX($AO$11:AO22)+1,0)","v":12},0,{"$f":"ROWS($AQ$12:AQ23)","v":12},{"$f":"IFERROR(VLOOKUP(ROWS($AR$12:AR23),$AO$12:$AP$3014,2,0),\"\")","v":0}]
[null,null,null,null,null,null,null,null,null,null,null,null,null,null,null,null,null,null,null,null,null,null,null,null,null,null,{"$f":"IFERROR(INDEX($AE$13:$AE$1003, SMALL(IF(ISBLANK($AE$13:$AE$1003)+ISERROR($AE$13:$AE$1003)+LEN($AE$13:$AE$1003)=0, \"\", ROW($AE$13:$AE$1003)-MIN(ROW($AE$13:$AE$1003))+1), ROW(13:13))),\"\")","v":"____LEP_GHS_N"},{"$f":"IF(AF25=\"\",\"\",IF(COUNTIF(CurrentListing,AF25)>1,AJ25,\"\"))","v":""},{"$f":"IF(LEN(AF25)=0,\"\",IF(ISNA(MATCH(AF25,MasterListing,0)),AJ25,\"\"))","v":""},null,"____LEP_DROPOUT_N","","LEPDROPOUTN","____LEP_DROPOUT_N",1,"______",null,null,null,null,{"$f":"IF(ISNUMBER(SEARCH($F$6,AP24)),MAX($AO$11:AO23)+1,0)","v":13},0,{"$f":"ROWS($AQ$12:AQ24)","v":13},{"$f":"IFERROR(VLOOKUP(ROWS($AR$12:AR24),$AO$12:$AP$3014,2,0),\"\")","v":0}]
[null,null,null,null,null,null,null,null,null,null,null,null,null,null,null,null,null,null,null,null,null,null,null,null,null,null,{"$f":"IFERROR(INDEX($AE$13:$AE$1003, SMALL(IF(ISBLANK($AE$13:$AE$1003)+ISERROR($AE$13:$AE$1003)+LEN($AE$13:$AE$1003)=0, \"\", ROW($AE$13:$AE$1003)-MIN(ROW($AE$13:$AE$1003))+1), ROW(14:14))),\"\")","v":"____LEP_GRADALTDPL_N"},{"$f":"IF(AF26=\"\",\"\",IF(COUNTIF(CurrentListing,AF26)>1,AJ26,\"\"))","v":""},{"$f":"IF(LEN(AF26)=0,\"\",IF(ISNA(MATCH(AF26,MasterListing,0)),AJ26,\"\"))","v":""},null,"____LEP_GHS_N","","LEPGHSN","____LEP_GHS_N",1,"______",null,null,null,null,{"$f":"IF(ISNUMBER(SEARCH($F$6,AP25)),MAX($AO$11:AO24)+1,0)","v":14},0,{"$f":"ROWS($AQ$12:AQ25)","v":14},{"$f":"IFERROR(VLOOKUP(ROWS($AR$12:AR25),$AO$12:$AP$3014,2,0),\"\")","v":0}]
[null,null,null,null,null,null,null,null,null,null,null,null,null,null,null,null,null,null,null,null,null,null,null,null,null,null,{"$f":"IFERROR(INDEX($AE$13:$AE$1003, SMALL(IF(ISBLANK($AE$13:$AE$1003)+ISERROR($AE$13:$AE$1003)+LEN($AE$13:$AE$1003)=0, \"\", ROW($AE$13:$AE$1003)-MIN(ROW($AE$13:$AE$1003))+1), ROW(15:15))),\"\")","v":"____LEP_MKC_N"},{"$f":"IF(AF27=\"\",\"\",IF(COUNTIF(CurrentListing,AF27)>1,AJ27,\"\"))","v":""},{"$f":"IF(LEN(AF27)=0,\"\",IF(ISNA(MATCH(AF27,MasterListing,0)),AJ27,\"\"))","v":""},null,"____LEP_GRADALTDPL_N","","LEPGRADALTDPLN","____LEP_GRADALTDPL_N",1,"______",null,null,null,null,{"$f":"IF(ISNUMBER(SEARCH($F$6,AP26)),MAX($AO$11:AO25)+1,0)","v":15},0,{"$f":"ROWS($AQ$12:AQ26)","v":15},{"$f":"IFERROR(VLOOKUP(ROWS($AR$12:AR26),$AO$12:$AP$3014,2,0),\"\")","v":0}]
[null,null,null,null,null,null,null,null,null,null,null,null,null,null,null,null,null,null,null,null,null,null,null,null,null,null,{"$f":"IFERROR(INDEX($AE$13:$AE$1003, SMALL(IF(ISBLANK($AE$13:$AE$1003)+ISERROR($AE$13:$AE$1003)+LEN($AE$13:$AE$1003)=0, \"\", ROW($AE$13:$AE$1003)-MIN(ROW($AE$13:$AE$1003))+1), ROW(16:16))),\"\")","v":"____LEP_RC_N"},{"$f":"IF(AF28=\"\",\"\",IF(COUNTIF(CurrentListing,AF28)>1,AJ28,\"\"))","v":""},{"$f":"IF(LEN(AF28)=0,\"\",IF(ISNA(MATCH(AF28,MasterListing,0)),AJ28,\"\"))","v":""},null,"____LEP_MKC_N","","LEPMKCN","____LEP_MKC_N",1,"______",null,null,null,null,{"$f":"IF(ISNUMBER(SEARCH($F$6,AP27)),MAX($AO$11:AO26)+1,0)","v":16},0,{"$f":"ROWS($AQ$12:AQ27)","v":16},{"$f":"IFERROR(VLOOKUP(ROWS($AR$12:AR27),$AO$12:$AP$3014,2,0),\"\")","v":0}]
[null,null,null,null,null,null,null,null,null,null,null,null,null,null,null,null,null,null,null,null,null,null,null,null,null,null,{"$f":"IFERROR(INDEX($AE$13:$AE$1003, SMALL(IF(ISBLANK($AE$13:$AE$1003)+ISERROR($AE$13:$AE$1003)+LEN($AE$13:$AE$1003)=0, \"\", ROW($AE$13:$AE$1003)-MIN(ROW($AE$13:$AE$1003))+1), ROW(17:17))),\"\")","v":"____LEP_RMA_N"},{"$f":"IF(AF29=\"\",\"\",IF(COUNTIF(CurrentListing,AF29)>1,AJ29,\"\"))","v":""},{"$f":"IF(LEN(AF29)=0,\"\",IF(ISNA(MATCH(AF29,MasterListing,0)),AJ29,\"\"))","v":""},null,"____LEP_RC_N","","LEPRCN","____LEP_RC_N",1,"______",null,null,null,null,{"$f":"IF(ISNUMBER(SEARCH($F$6,AP28)),MAX($AO$11:AO27)+1,0)","v":17},0,{"$f":"ROWS($AQ$12:AQ28)","v":17},{"$f":"IFERROR(VLOOKUP(ROWS($AR$12:AR28),$AO$12:$AP$3014,2,0),\"\")","v":0}]
[null,null,null,null,null,null,null,null,null,null,null,null,null,null,null,null,null,null,null,null,null,null,null,null,null,null,{"$f":"IFERROR(INDEX($AE$13:$AE$1003, SMALL(IF(ISBLANK($AE$13:$AE$1003)+ISERROR($AE$13:$AE$1003)+LEN($AE$13:$AE$1003)=0, \"\", ROW($AE$13:$AE$1003)-MIN(ROW($AE$13:$AE$1003))+1), ROW(18:18))),\"\")","v":"____LEP_TRAN_N"},{"$f":"IF(AF30=\"\",\"\",IF(COUNTIF(CurrentListing,AF30)>1,AJ30,\"\"))","v":""},{"$f":"IF(LEN(AF30)=0,\"\",IF(ISNA(MATCH(AF30,MasterListing,0)),AJ30,\"\"))","v":""},null,"____LEP_RMA_N","","LEPRMAN","____LEP_RMA_N",1,"______",null,null,null,null,{"$f":"IF(ISNUMBER(SEARCH($F$6,AP29)),MAX($AO$11:AO28)+1,0)","v":18},0,{"$f":"ROWS($AQ$12:AQ29)","v":18},{"$f":"IFERROR(VLOOKUP(ROWS($AR$12:AR29),$AO$12:$AP$3014,2,0),\"\")","v":0}]
[null,null,null,null,null,null,null,null,null,null,null,null,null,null,null,null,null,null,null,null,null,null,null,null,null,null,{"$f":"IFERROR(INDEX($AE$13:$AE$1003, SMALL(IF(ISBLANK($AE$13:$AE$1003)+ISERROR($AE$13:$AE$1003)+LEN($AE$13:$AE$1003)=0, \"\", ROW($AE$13:$AE$1003)-MIN(ROW($AE$13:$AE$1003))+1), ROW(19:19))),\"\")","v":"____NLEP__Y"},{"$f":"IF(AF31=\"\",\"\",IF(COUNTIF(CurrentListing,AF31)>1,AJ31,\"\"))","v":""},{"$f":"IF(LEN(AF31)=0,\"\",IF(ISNA(MATCH(AF31,MasterListing,0)),AJ31,\"\"))","v":""},null,"____LEP_TRAN_N","","LEPTRANN","____LEP_TRAN_N",1,"______",null,null,null,null,{"$f":"IF(ISNUMBER(SEARCH($F$6,AP30)),MAX($AO$11:AO29)+1,0)","v":19},0,{"$f":"ROWS($AQ$12:AQ30)","v":19},{"$f":"IFERROR(VLOOKUP(ROWS($AR$12:AR30),$AO$12:$AP$3014,2,0),\"\")","v":0}]
[null,null,null,null,null,null,null,null,null,null,null,null,null,null,null,null,null,null,null,null,null,null,null,null,null,null,{"$f":"IFERROR(INDEX($AE$13:$AE$1003, SMALL(IF(ISBLANK($AE$13:$AE$1003)+ISERROR($AE$13:$AE$1003)+LEN($AE$13:$AE$1003)=0, \"\", ROW($AE$13:$AE$1003)-MIN(ROW($AE$13:$AE$1003))+1), ROW(20:20))),\"\")","v":"____NLEP_D_N"},{"$f":"IF(AF32=\"\",\"\",IF(COUNTIF(CurrentListing,AF32)>1,AJ32,\"\"))","v":""},{"$f":"IF(LEN(AF32)=0,\"\",IF(ISNA(MATCH(AF32,MasterListing,0)),AJ32,\"\"))","v":""},null,"____NLEP__Y","","NLEPY","____NLEP__Y",1,"______",null,null,null,null,{"$f":"IF(ISNUMBER(SEARCH($F$6,AP31)),MAX($AO$11:AO30)+1,0)","v":20},0,{"$f":"ROWS($AQ$12:AQ31)","v":20},{"$f":"IFERROR(VLOOKUP(ROWS($AR$12:AR31),$AO$12:$AP$3014,2,0),\"\")","v":0}]
[null,null,null,null,null,null,null,null,null,null,null,null,null,null,null,null,null,null,null,null,null,null,null,null,null,null,{"$f":"IFERROR(INDEX($AE$13:$AE$1003, SMALL(IF(ISBLANK($AE$13:$AE$1003)+ISERROR($AE$13:$AE$1003)+LEN($AE$13:$AE$1003)=0, \"\", ROW($AE$13:$AE$1003)-MIN(ROW($AE$13:$AE$1003))+1), ROW(21:21))),\"\")","v":"____NLEP_DROPOUT_N"},{"$f":"IF(AF33=\"\",\"\",IF(COUNTIF(CurrentListing,AF33)>1,AJ33,\"\"))","v":""},{"$f":"IF(LEN(AF33)=0,\"\",IF(ISNA(MATCH(AF33,MasterListing,0)),AJ33,\"\"))","v":""},null,"____NLEP_D_N","","NLEPDN","____NLEP_D_N",1,"______",null,null,null,null,{"$f":"IF(ISNUMBER(SEARCH($F$6,AP32)),MAX($AO$11:AO31)+1,0)","v":21},0,{"$f":"ROWS($AQ$12:AQ32)","v":21},{"$f":"IFERROR(VLOOKUP(ROWS($AR$12:AR32),$AO$12:$AP$3014,2,0),\"\")","v":0}]
[null,null,null,null,null,null,null,null,null,null,null,null,null,null,null,null,null,null,null,null,null,null,null,null,null,null,{"$f":"IFERROR(INDEX($AE$13:$AE$1003, SMALL(IF(ISBLANK($AE$13:$AE$1003)+ISERROR($AE$13:$AE$1003)+LEN($AE$13:$AE$1003)=0, \"\", ROW($AE$13:$AE$1003)-MIN(ROW($AE$13:$AE$1003))+1), ROW(22:22))),\"\")","v":"____NLEP_GHS_N"},{"$f":"IF(AF34=\"\",\"\",IF(COUNTIF(CurrentListing,AF34)>1,AJ34,\"\"))","v":""},{"$f":"IF(LEN(AF34)=0,\"\",IF(ISNA(MATCH(AF34,MasterListing,0)),AJ34,\"\"))","v":""},null,"____NLEP_DROPOUT_N","","NLEPDROPOUTN","____NLEP_DROPOUT_N",1,"______",null,null,null,null,{"$f":"IF(ISNUMBER(SEARCH($F$6,AP33)),MAX($AO$11:AO32)+1,0)","v":22},0,{"$f":"ROWS($AQ$12:AQ33)","v":22},{"$f":"IFERROR(VLOOKUP(ROWS($AR$12:AR33),$AO$12:$AP$3014,2,0),\"\")","v":0}]
[null,null,null,null,null,null,null,null,null,null,null,null,null,null,null,null,null,null,null,null,null,null,null,null,null,null,{"$f":"IFERROR(INDEX($AE$13:$AE$1003, SMALL(IF(ISBLANK($AE$13:$AE$1003)+ISERROR($AE$13:$AE$1003)+LEN($AE$13:$AE$1003)=0, \"\", ROW($AE$13:$AE$1003)-MIN(ROW($AE$13:$AE$1003))+1), ROW(23:23))),\"\")","v":"____NLEP_GRADALTDPL_N"},{"$f":"IF(AF35=\"\",\"\",IF(COUNTIF(CurrentListing,AF35)>1,AJ35,\"\"))","v":""},{"$f":"IF(LEN(AF35)=0,\"\",IF(ISNA(MATCH(AF35,MasterListing,0)),AJ35,\"\"))","v":""},null,"____NLEP_GHS_N","","NLEPGHSN","____NLEP_GHS_N",1,"______",null,null,null,null,{"$f":"IF(ISNUMBER(SEARCH($F$6,AP34)),MAX($AO$11:AO33)+1,0)","v":23},0,{"$f":"ROWS($AQ$12:AQ34)","v":23},{"$f":"IFERROR(VLOOKUP(ROWS($AR$12:AR34),$AO$12:$AP$3014,2,0),\"\")","v":0}]
[null,null,null,null,null,null,null,null,null,null,null,null,null,null,null,null,null,null,null,null,null,null,null,null,null,null,{"$f":"IFERROR(INDEX($AE$13:$AE$1003, SMALL(IF(ISBLANK($AE$13:$AE$1003)+ISERROR($AE$13:$AE$1003)+LEN($AE$13:$AE$1003)=0, \"\", ROW($AE$13:$AE$1003)-MIN(ROW($AE$13:$AE$1003))+1), ROW(24:24))),\"\")","v":"____NLEP_MKC_N"},{"$f":"IF(AF36=\"\",\"\",IF(COUNTIF(CurrentListing,AF36)>1,AJ36,\"\"))","v":""},{"$f":"IF(LEN(AF36)=0,\"\",IF(ISNA(MATCH(AF36,MasterListing,0)),AJ36,\"\"))","v":""},null,"____NLEP_GRADALTDPL_N","","NLEPGRADALTDPLN","____NLEP_GRADALTDPL_N",1,"______",null,null,null,null,{"$f":"IF(ISNUMBER(SEARCH($F$6,AP35)),MAX($AO$11:AO34)+1,0)","v":24},0,{"$f":"ROWS($AQ$12:AQ35)","v":24},{"$f":"IFERROR(VLOOKUP(ROWS($AR$12:AR35),$AO$12:$AP$3014,2,0),\"\")","v":0}]
[null,null,null,null,null,null,null,null,null,null,null,null,null,null,null,null,null,null,null,null,null,null,null,null,null,null,{"$f":"IFERROR(INDEX($AE$13:$AE$1003, SMALL(IF(ISBLANK($AE$13:$AE$1003)+ISERROR($AE$13:$AE$1003)+LEN($AE$13:$AE$1003)=0, \"\", ROW($AE$13:$AE$1003)-MIN(ROW($AE$13:$AE$1003))+1), ROW(25:25))),\"\")","v":"____NLEP_RC_N"},{"$f":"IF(AF37=\"\",\"\",IF(COUNTIF(CurrentListing,AF37)>1,AJ37,\"\"))","v":""},{"$f":"IF(LEN(AF37)=0,\"\",IF(ISNA(MATCH(AF37,MasterListing,0)),AJ37,\"\"))","v":""},null,"____NLEP_MKC_N","","NLEPMKCN","____NLEP_MKC_N",1,"______",null,null,null,null,{"$f":"IF(ISNUMBER(SEARCH($F$6,AP36)),MAX($AO$11:AO35)+1,0)","v":25},0,{"$f":"ROWS($AQ$12:AQ36)","v":25},{"$f":"IFERROR(VLOOKUP(ROWS($AR$12:AR36),$AO$12:$AP$3014,2,0),\"\")","v":0}]
[null,null,null,null,null,null,null,null,null,null,null,null,null,null,null,null,null,null,null,null,null,null,null,null,null,null,{"$f":"IFERROR(INDEX($AE$13:$AE$1003, SMALL(IF(ISBLANK($AE$13:$AE$1003)+ISERROR($AE$13:$AE$1003)+LEN($AE$13:$AE$1003)=0, \"\", ROW($AE$13:$AE$1003)-MIN(ROW($AE$13:$AE$1003))+1), ROW(26:26))),\"\")","v":"____NLEP_RMA_N"},{"$f":"IF(AF38=\"\",\"\",IF(COUNTIF(CurrentListing,AF38)>1,AJ38,\"\"))","v":""},{"$f":"IF(LEN(AF38)=0,\"\",IF(ISNA(MATCH(AF38,MasterListing,0)),AJ38,\"\"))","v":""},null,"____NLEP_RC_N","","NLEPRCN","____NLEP_RC_N",1,"______",null,null,null,null,{"$f":"IF(ISNUMBER(SEARCH($F$6,AP37)),MAX($AO$11:AO36)+1,0)","v":26},0,{"$f":"ROWS($AQ$12:AQ37)","v":26},{"$f":"IFERROR(VLOOKUP(ROWS($AR$12:AR37),$AO$12:$AP$3014,2,0),\"\")","v":0}]
[null,null,null,null,null,null,null,null,null,null,null,null,null,null,null,null,null,null,null,null,null,null,null,null,null,null,{"$f":"IFERROR(INDEX($AE$13:$AE$1003, SMALL(IF(ISBLANK($AE$13:$AE$1003)+ISERROR($AE$13:$AE$1003)+LEN($AE$13:$AE$1003)=0, \"\", ROW($AE$13:$AE$1003)-MIN(ROW($AE$13:$AE$1003))+1), ROW(27:27))),\"\")","v":"____NLEP_TRAN_N"},{"$f":"IF(AF39=\"\",\"\",IF(COUNTIF(CurrentListing,AF39)>1,AJ39,\"\"))","v":""},{"$f":"IF(LEN(AF39)=0,\"\",IF(ISNA(MATCH(AF39,MasterListing,0)),AJ39,\"\"))","v":""},null,"____NLEP_RMA_N","","NLEPRMAN","____NLEP_RMA_N",1,"______",null,null,null,null,{"$f":"IF(ISNUMBER(SEARCH($F$6,AP38)),MAX($AO$11:AO37)+1,0)","v":27},0,{"$f":"ROWS($AQ$12:AQ38)","v":27},{"$f":"IFERROR(VLOOKUP(ROWS($AR$12:AR38),$AO$12:$AP$3014,2,0),\"\")","v":0}]
[null,null,null,null,null,null,null,null,null,null,null,null,null,null,null,null,null,null,null,null,null,null,null,null,null,null,{"$f":"IFERROR(INDEX($AE$13:$AE$1003, SMALL(IF(ISBLANK($AE$13:$AE$1003)+ISERROR($AE$13:$AE$1003)+LEN($AE$13:$AE$1003)=0, \"\", ROW($AE$13:$AE$1003)-MIN(ROW($AE$13:$AE$1003))+1), ROW(28:28))),\"\")","v":"___14___Y"},{"$f":"IF(AF40=\"\",\"\",IF(COUNTIF(CurrentListing,AF40)>1,AJ40,\"\"))","v":""},{"$f":"IF(LEN(AF40)=0,\"\",IF(ISNA(MATCH(AF40,MasterListing,0)),AJ40,\"\"))","v":""},null,"____NLEP_TRAN_N","","NLEPTRANN","____NLEP_TRAN_N",1,"______",null,null,null,null,{"$f":"IF(ISNUMBER(SEARCH($F$6,AP39)),MAX($AO$11:AO38)+1,0)","v":28},0,{"$f":"ROWS($AQ$12:AQ39)","v":28},{"$f":"IFERROR(VLOOKUP(ROWS($AR$12:AR39),$AO$12:$AP$3014,2,0),\"\")","v":0}]
[null,null,null,null,null,null,null,null,null,null,null,null,null,null,null,null,null,null,null,null,null,null,null,null,null,null,{"$f":"IFERROR(INDEX($AE$13:$AE$1003, SMALL(IF(ISBLANK($AE$13:$AE$1003)+ISERROR($AE$13:$AE$1003)+LEN($AE$13:$AE$1003)=0, \"\", ROW($AE$13:$AE$1003)-MIN(ROW($AE$13:$AE$1003))+1), ROW(29:29))),\"\")","v":"___15___Y"},{"$f":"IF(AF41=\"\",\"\",IF(COUNTIF(CurrentListing,AF41)>1,AJ41,\"\"))","v":""},{"$f":"IF(LEN(AF41)=0,\"\",IF(ISNA(MATCH(AF41,MasterListing,0)),AJ41,\"\"))","v":""},null,"___14___Y","","14Y","___14___Y",1,"______",null,null,null,null,{"$f":"IF(ISNUMBER(SEARCH($F$6,AP40)),MAX($AO$11:AO39)+1,0)","v":29},0,{"$f":"ROWS($AQ$12:AQ40)","v":29},{"$f":"IFERROR(VLOOKUP(ROWS($AR$12:AR40),$AO$12:$AP$3014,2,0),\"\")","v":0}]
[null,null,null,null,null,null,null,null,null,null,null,null,null,null,null,null,null,null,null,null,null,null,null,null,null,null,{"$f":"IFERROR(INDEX($AE$13:$AE$1003, SMALL(IF(ISBLANK($AE$13:$AE$1003)+ISERROR($AE$13:$AE$1003)+LEN($AE$13:$AE$1003)=0, \"\", ROW($AE$13:$AE$1003)-MIN(ROW($AE$13:$AE$1003))+1), ROW(30:30))),\"\")","v":"___16___Y"},{"$f":"IF(AF42=\"\",\"\",IF(COUNTIF(CurrentListing,AF42)>1,AJ42,\"\"))","v":""},{"$f":"IF(LEN(AF42)=0,\"\",IF(ISNA(MATCH(AF42,MasterListing,0)),AJ42,\"\"))","v":""},null,"___15___Y","","15Y","___15___Y",1,"______",null,null,null,null,{"$f":"IF(ISNUMBER(SEARCH($F$6,AP41)),MAX($AO$11:AO40)+1,0)","v":30},0,{"$f":"ROWS($AQ$12:AQ41)","v":30},{"$f":"IFERROR(VLOOKUP(ROWS($AR$12:AR41),$AO$12:$AP$3014,2,0),\"\")","v":0}]
[null,null,null,null,null,null,null,null,null,null,null,null,null,null,null,null,null,null,null,null,null,null,null,null,null,null,{"$f":"IFERROR(INDEX($AE$13:$AE$1003, SMALL(IF(ISBLANK($AE$13:$AE$1003)+ISERROR($AE$13:$AE$1003)+LEN($AE$13:$AE$1003)=0, \"\", ROW($AE$13:$AE$1003)-MIN(ROW($AE$13:$AE$1003))+1), ROW(31:31))),\"\")","v":"___17___Y"},{"$f":"IF(AF43=\"\",\"\",IF(COUNTIF(CurrentListing,AF43)>1,AJ43,\"\"))","v":""},{"$f":"IF(LEN(AF43)=0,\"\",IF(ISNA(MATCH(AF43,MasterListing,0)),AJ43,\"\"))","v":""},null,"___16___Y","","16Y","___16___Y",1,"______",null,null,null,null,{"$f":"IF(ISNUMBER(SEARCH($F$6,AP42)),MAX($AO$11:AO41)+1,0)","v":31},0,{"$f":"ROWS($AQ$12:AQ42)","v":31},{"$f":"IFERROR(VLOOKUP(ROWS($AR$12:AR42),$AO$12:$AP$3014,2,0),\"\")","v":0}]
[null,null,null,null,null,null,null,null,null,null,null,null,null,null,null,null,null,null,null,null,null,null,null,null,null,null,{"$f":"IFERROR(INDEX($AE$13:$AE$1003, SMALL(IF(ISBLANK($AE$13:$AE$1003)+ISERROR($AE$13:$AE$1003)+LEN($AE$13:$AE$1003)=0, \"\", ROW($AE$13:$AE$1003)-MIN(ROW($AE$13:$AE$1003))+1), ROW(32:32))),\"\")","v":"___18___Y"},{"$f":"IF(AF44=\"\",\"\",IF(COUNTIF(CurrentListing,AF44)>1,AJ44,\"\"))","v":""},{"$f":"IF(LEN(AF44)=0,\"\",IF(ISNA(MATCH(AF44,MasterListing,0)),AJ44,\"\"))","v":""},null,"___17___Y","","17Y","___17___Y",1,"______",null,null,null,null,{"$f":"IF(ISNUMBER(SEARCH($F$6,AP43)),MAX($AO$11:AO42)+1,0)","v":32},0,{"$f":"ROWS($AQ$12:AQ43)","v":32},{"$f":"IFERROR(VLOOKUP(ROWS($AR$12:AR43),$AO$12:$AP$3014,2,0),\"\")","v":0}]
[null,null,null,null,null,null,null,null,null,null,null,null,null,null,null,null,null,null,null,null,null,null,null,null,null,null,{"$f":"IFERROR(INDEX($AE$13:$AE$1003, SMALL(IF(ISBLANK($AE$13:$AE$1003)+ISERROR($AE$13:$AE$1003)+LEN($AE$13:$AE$1003)=0, \"\", ROW($AE$13:$AE$1003)-MIN(ROW($AE$13:$AE$1003))+1), ROW(33:33))),\"\")","v":"___19___Y"},{"$f":"IF(AF45=\"\",\"\",IF(COUNTIF(CurrentListing,AF45)>1,AJ45,\"\"))","v":""},{"$f":"IF(LEN(AF45)=0,\"\",IF(ISNA(MATCH(AF45,MasterListing,0)),AJ45,\"\"))","v":""},null,"___18___Y","","18Y","___18___Y",1,"______",null,null,null,null,{"$f":"IF(ISNUMBER(SEARCH($F$6,AP44)),MAX($AO$11:AO43)+1,0)","v":33},0,{"$f":"ROWS($AQ$12:AQ44)","v":33},{"$f":"IFERROR(VLOOKUP(ROWS($AR$12:AR44),$AO$12:$AP$3014,2,0),\"\")","v":0}]
[null,null,null,null,null,null,null,null,null,null,null,null,null,null,null,null,null,null,null,null,null,null,null,null,null,null,{"$f":"IFERROR(INDEX($AE$13:$AE$1003, SMALL(IF(ISBLANK($AE$13:$AE$1003)+ISERROR($AE$13:$AE$1003)+LEN($AE$13:$AE$1003)=0, \"\", ROW($AE$13:$AE$1003)-MIN(ROW($AE$13:$AE$1003))+1), ROW(34:34))),\"\")","v":"___20___Y"},{"$f":"IF(AF46=\"\",\"\",IF(COUNTIF(CurrentListing,AF46)>1,AJ46,\"\"))","v":""},{"$f":"IF(LEN(AF46)=0,\"\",IF(ISNA(MATCH(AF46,MasterListing,0)),AJ46,\"\"))","v":""},null,"___19___Y","","19Y","___19___Y",1,"______",null,null,null,null,{"$f":"IF(ISNUMBER(SEARCH($F$6,AP45)),MAX($AO$11:AO44)+1,0)","v":34},0,{"$f":"ROWS($AQ$12:AQ45)","v":34},{"$f":"IFERROR(VLOOKUP(ROWS($AR$12:AR45),$AO$12:$AP$3014,2,0),\"\")","v":0}]
[null,null,null,null,null,null,null,null,null,null,null,null,null,null,null,null,null,null,null,null,null,null,null,null,null,null,{"$f":"IFERROR(INDEX($AE$13:$AE$1003, SMALL(IF(ISBLANK($AE$13:$AE$1003)+ISERROR($AE$13:$AE$1003)+LEN($AE$13:$AE$1003)=0, \"\", ROW($AE$13:$AE$1003)-MIN(ROW($AE$13:$AE$1003))+1), ROW(35:35))),\"\")","v":"___21___Y"},{"$f":"IF(AF47=\"\",\"\",IF(COUNTIF(CurrentListing,AF47)>1,AJ47,\"\"))","v":""},{"$f":"IF(LEN(AF47)=0,\"\",IF(ISNA(MATCH(AF47,MasterListing,0)),AJ47,\"\"))","v":""},null,"___20___Y","","20Y","___20___Y",1,"______",null,null,null,null,{"$f":"IF(ISNUMBER(SEARCH($F$6,AP46)),MAX($AO$11:AO45)+1,0)","v":35},0,{"$f":"ROWS($AQ$12:AQ46)","v":35},{"$f":"IFERROR(VLOOKUP(ROWS($AR$12:AR46),$AO$12:$AP$3014,2,0),\"\")","v":0}]
[null,null,null,null,null,null,null,null,null,null,null,null,null,null,null,null,null,null,null,null,null,null,null,null,null,null,{"$f":"IFERROR(INDEX($AE$13:$AE$1003, SMALL(IF(ISBLANK($AE$13:$AE$1003)+ISERROR($AE$13:$AE$1003)+LEN($AE$13:$AE$1003)=0, \"\", ROW($AE$13:$AE$1003)-MIN(ROW($AE$13:$AE$1003))+1), ROW(36:36))),\"\")","v":"__AUT____Y"},{"$f":"IF(AF48=\"\",\"\",IF(COUNTIF(CurrentListing,AF48)>1,AJ48,\"\"))","v":""},{"$f":"IF(LEN(AF48)=0,\"\",IF(ISNA(MATCH(AF48,MasterListing,0)),AJ48,\"\"))","v":""},null,"___21___Y","","21Y","___21___Y",1,"______",null,null,null,null,{"$f":"IF(ISNUMBER(SEARCH($F$6,AP47)),MAX($AO$11:AO46)+1,0)","v":36},0,{"$f":"ROWS($AQ$12:AQ47)","v":36},{"$f":"IFERROR(VLOOKUP(ROWS($AR$12:AR47),$AO$12:$AP$3014,2,0),\"\")","v":0}]
[null,null,null,null,null,null,null,null,null,null,null,null,null,null,null,null,null,null,null,null,null,null,null,null,null,null,{"$f":"IFERROR(INDEX($AE$13:$AE$1003, SMALL(IF(ISBLANK($AE$13:$AE$1003)+ISERROR($AE$13:$AE$1003)+LEN($AE$13:$AE$1003)=0, \"\", ROW($AE$13:$AE$1003)-MIN(ROW($AE$13:$AE$1003))+1), ROW(37:37))),\"\")","v":"__AUT_14__D_N"},{"$f":"IF(AF49=\"\",\"\",IF(COUNTIF(CurrentListing,AF49)>1,AJ49,\"\"))","v":""},{"$f":"IF(LEN(AF49)=0,\"\",IF(ISNA(MATCH(AF49,MasterListing,0)),AJ49,\"\"))","v":""},null,"__AUT____Y","","AUTY","__AUT____Y",1,"______",null,null,null,null,{"$f":"IF(ISNUMBER(SEARCH($F$6,AP48)),MAX($AO$11:AO47)+1,0)","v":37},0,{"$f":"ROWS($AQ$12:AQ48)","v":37},{"$f":"IFERROR(VLOOKUP(ROWS($AR$12:AR48),$AO$12:$AP$3014,2,0),\"\")","v":0}]
[null,null,null,null,null,null,null,null,null,null,null,null,null,null,null,null,null,null,null,null,null,null,null,null,null,null,{"$f":"IFERROR(INDEX($AE$13:$AE$1003, SMALL(IF(ISBLANK($AE$13:$AE$1003)+ISERROR($AE$13:$AE$1003)+LEN($AE$13:$AE$1003)=0, \"\", ROW($AE$13:$AE$1003)-MIN(ROW($AE$13:$AE$1003))+1), ROW(38:38))),\"\")","v":"__AUT_14__DROPOUT_N"},{"$f":"IF(AF50=\"\",\"\",IF(COUNTIF(CurrentListing,AF50)>1,AJ50,\"\"))","v":""},{"$f":"IF(LEN(AF50)=0,\"\",IF(ISNA(MATCH(AF50,MasterListing,0)),AJ50,\"\"))","v":""},null,"__AUT_14__D_N","","AUT14DN","__AUT_14__D_N",1,"______",null,null,null,null,{"$f":"IF(ISNUMBER(SEARCH($F$6,AP49)),MAX($AO$11:AO48)+1,0)","v":38},0,{"$f":"ROWS($AQ$12:AQ49)","v":38},{"$f":"IFERROR(VLOOKUP(ROWS($AR$12:AR49),$AO$12:$AP$3014,2,0),\"\")","v":0}]
[null,null,null,null,null,null,null,null,null,null,null,null,null,null,null,null,null,null,null,null,null,null,null,null,null,null,{"$f":"IFERROR(INDEX($AE$13:$AE$1003, SMALL(IF(ISBLANK($AE$13:$AE$1003)+ISERROR($AE$13:$AE$1003)+LEN($AE$13:$AE$1003)=0, \"\", ROW($AE$13:$AE$1003)-MIN(ROW($AE$13:$AE$1003))+1), ROW(39:39))),\"\")","v":"__AUT_14__GHS_N"},{"$f":"IF(AF51=\"\",\"\",IF(COUNTIF(CurrentListing,AF51)>1,AJ51,\"\"))","v":""},{"$f":"IF(LEN(AF51)=0,\"\",IF(ISNA(MATCH(AF51,MasterListing,0)),AJ51,\"\"))","v":""},null,"__AUT_14__DROPOUT_N","","AUT14DROPOUTN","__AUT_14__DROPOUT_N",1,"______",null,null,null,null,{"$f":"IF(ISNUMBER(SEARCH($F$6,AP50)),MAX($AO$11:AO49)+1,0)","v":39},0,{"$f":"ROWS($AQ$12:AQ50)","v":39},{"$f":"IFERROR(VLOOKUP(ROWS($AR$12:AR50),$AO$12:$AP$3014,2,0),\"\")","v":0}]
[null,null,null,null,null,null,null,null,null,null,null,null,null,null,null,null,null,null,null,null,null,null,null,null,null,null,{"$f":"IFERROR(INDEX($AE$13:$AE$1003, SMALL(IF(ISBLANK($AE$13:$AE$1003)+ISERROR($AE$13:$AE$1003)+LEN($AE$13:$AE$1003)=0, \"\", ROW($AE$13:$AE$1003)-MIN(ROW($AE$13:$AE$1003))+1), ROW(40:40))),\"\")","v":"__AUT_14__GRADALTDPL_N"},{"$f":"IF(AF52=\"\",\"\",IF(COUNTIF(CurrentListing,AF52)>1,AJ52,\"\"))","v":""},{"$f":"IF(LEN(AF52)=0,\"\",IF(ISNA(MATCH(AF52,MasterListing,0)),AJ52,\"\"))","v":""},null,"__AUT_14__GHS_N","","AUT14GHSN","__AUT_14__GHS_N",1,"______",null,null,null,null,{"$f":"IF(ISNUMBER(SEARCH($F$6,AP51)),MAX($AO$11:AO50)+1,0)","v":40},0,{"$f":"ROWS($AQ$12:AQ51)","v":40},{"$f":"IFERROR(VLOOKUP(ROWS($AR$12:AR51),$AO$12:$AP$3014,2,0),\"\")","v":0}]
[null,null,null,null,null,null,null,null,null,null,null,null,null,null,null,null,null,null,null,null,null,null,null,null,null,null,{"$f":"IFERROR(INDEX($AE$13:$AE$1003, SMALL(IF(ISBLANK($AE$13:$AE$1003)+ISERROR($AE$13:$AE$1003)+LEN($AE$13:$AE$1003)=0, \"\", ROW($AE$13:$AE$1003)-MIN(ROW($AE$13:$AE$1003))+1), ROW(41:41))),\"\")","v":"__AUT_14__MKC_N"},{"$f":"IF(AF53=\"\",\"\",IF(COUNTIF(CurrentListing,AF53)>1,AJ53,\"\"))","v":""},{"$f":"IF(LEN(AF53)=0,\"\",IF(ISNA(MATCH(AF53,MasterListing,0)),AJ53,\"\"))","v":""},null,"__AUT_14__GRADALTDPL_N","","AUT14GRADALTDPLN","__AUT_14__GRADALTDPL_N",1,"______",null,null,null,null,{"$f":"IF(ISNUMBER(SEARCH($F$6,AP52)),MAX($AO$11:AO51)+1,0)","v":41},0,{"$f":"ROWS($AQ$12:AQ52)","v":41},{"$f":"IFERROR(VLOOKUP(ROWS($AR$12:AR52),$AO$12:$AP$3014,2,0),\"\")","v":0}]
[null,null,null,null,null,null,null,null,null,null,null,null,null,null,null,null,null,null,null,null,null,null,null,null,null,null,{"$f":"IFERROR(INDEX($AE$13:$AE$1003, SMALL(IF(ISBLANK($AE$13:$AE$1003)+ISERROR($AE$13:$AE$1003)+LEN($AE$13:$AE$1003)=0, \"\", ROW($AE$13:$AE$1003)-MIN(ROW($AE$13:$AE$1003))+1), ROW(42:42))),\"\")","v":"__AUT_14__RC_N"},{"$f":"IF(AF54=\"\",\"\",IF(COUNTIF(CurrentListing,AF54)>1,AJ54,\"\"))","v":""},{"$f":"IF(LEN(AF54)=0,\"\",IF(ISNA(MATCH(AF54,MasterListing,0)),AJ54,\"\"))","v":""},null,"__AUT_14__MKC_N","","AUT14MKCN","__AUT_14__MKC_N",1,"______",null,null,null,null,{"$f":"IF(ISNUMBER(SEARCH($F$6,AP53)),MAX($AO$11:AO52)+1,0)","v":42},0,{"$f":"ROWS($AQ$12:AQ53)","v":42},{"$f":"IFERROR(VLOOKUP(ROWS($AR$12:AR53),$AO$12:$AP$3014,2,0),\"\")","v":0}]
[null,null,null,null,null,null,null,null,null,null,null,null,null,null,null,null,null,null,null,null,null,null,null,null,null,null,{"$f":"IFERROR(INDEX($AE$13:$AE$1003, SMALL(IF(ISBLANK($AE$13:$AE$1003)+ISERROR($AE$13:$AE$1003)+LEN($AE$13:$AE$1003)=0, \"\", ROW($AE$13:$AE$1003)-MIN(ROW($AE$13:$AE$1003))+1), ROW(43:43))),\"\")","v":"__AUT_14__RMA_N"},{"$f":"IF(AF55=\"\",\"\",IF(COUNTIF(CurrentListing,AF55)>1,AJ55,\"\"))","v":""},{"$f":"IF(LEN(AF55)=0,\"\",IF(ISNA(MATCH(AF55,MasterListing,0)),AJ55,\"\"))","v":""},null,"__AUT_14__RC_N","","AUT14RCN","__AUT_14__RC_N",1,"______",null,null,null,null,{"$f":"IF(ISNUMBER(SEARCH($F$6,AP54)),MAX($AO$11:AO53)+1,0)","v":43},0,{"$f":"ROWS($AQ$12:AQ54)","v":43},{"$f":"IFERROR(VLOOKUP(ROWS($AR$12:AR54),$AO$12:$AP$3014,2,0),\"\")","v":0}]
[null,null,null,null,null,null,null,null,null,null,null,null,null,null,null,null,null,null,null,null,null,null,null,null,null,null,{"$f":"IFERROR(INDEX($AE$13:$AE$1003, SMALL(IF(ISBLANK($AE$13:$AE$1003)+ISERROR($AE$13:$AE$1003)+LEN($AE$13:$AE$1003)=0, \"\", ROW($AE$13:$AE$1003)-MIN(ROW($AE$13:$AE$1003))+1), ROW(44:44))),\"\")","v":"__AUT_14__TRAN_N"},{"$f":"IF(AF56=\"\",\"\",IF(COUNTIF(CurrentListing,AF56)>1,AJ56,\"\"))","v":""},{"$f":"IF(LEN(AF56)=0,\"\",IF(ISNA(MATCH(AF56,MasterListing,0)),AJ56,\"\"))","v":""},null,"__AUT_14__RMA_N","","AUT14RMAN","__AUT_14__RMA_N",1,"______",null,null,null,null,{"$f":"IF(ISNUMBER(SEARCH($F$6,AP55)),MAX($AO$11:AO54)+1,0)","v":44},0,{"$f":"ROWS($AQ$12:AQ55)","v":44},{"$f":"IFERROR(VLOOKUP(ROWS($AR$12:AR55),$AO$12:$AP$3014,2,0),\"\")","v":0}]
[null,null,null,null,null,null,null,null,null,null,null,null,null,null,null,null,null,null,null,null,null,null,null,null,null,null,{"$f":"IFERROR(INDEX($AE$13:$AE$1003, SMALL(IF(ISBLANK($AE$13:$AE$1003)+ISERROR($AE$13:$AE$1003)+LEN($AE$13:$AE$1003)=0, \"\", ROW($AE$13:$AE$1003)-MIN(ROW($AE$13:$AE$1003))+1), ROW(45:45))),\"\")","v":"__AUT_15__D_N"},{"$f":"IF(AF57=\"\",\"\",IF(COUNTIF(CurrentListing,AF57)>1,AJ57,\"\"))","v":""},{"$f":"IF(LEN(AF57)=0,\"\",IF(ISNA(MATCH(AF57,MasterListing,0)),AJ57,\"\"))","v":""},null,"__AUT_14__TRAN_N","","AUT14TRANN","__AUT_14__TRAN_N",1,"______",null,null,null,null,{"$f":"IF(ISNUMBER(SEARCH($F$6,AP56)),MAX($AO$11:AO55)+1,0)","v":45},0,{"$f":"ROWS($AQ$12:AQ56)","v":45},{"$f":"IFERROR(VLOOKUP(ROWS($AR$12:AR56),$AO$12:$AP$3014,2,0),\"\")","v":0}]
[null,null,null,null,null,null,null,null,null,null,null,null,null,null,null,null,null,null,null,null,null,null,null,null,null,null,{"$f":"IFERROR(INDEX($AE$13:$AE$1003, SMALL(IF(ISBLANK($AE$13:$AE$1003)+ISERROR($AE$13:$AE$1003)+LEN($AE$13:$AE$1003)=0, \"\", ROW($AE$13:$AE$1003)-MIN(ROW($AE$13:$AE$1003))+1), ROW(46:46))),\"\")","v":"__AUT_15__DROPOUT_N"},{"$f":"IF(AF58=\"\",\"\",IF(COUNTIF(CurrentListing,AF58)>1,AJ58,\"\"))","v":""},{"$f":"IF(LEN(AF58)=0,\"\",IF(ISNA(MATCH(AF58,MasterListing,0)),AJ58,\"\"))","v":""},null,"__AUT_15__D_N","","AUT15DN","__AUT_15__D_N",1,"______",null,null,null,null,{"$f":"IF(ISNUMBER(SEARCH($F$6,AP57)),MAX($AO$11:AO56)+1,0)","v":46},0,{"$f":"ROWS($AQ$12:AQ57)","v":46},{"$f":"IFERROR(VLOOKUP(ROWS($AR$12:AR57),$AO$12:$AP$3014,2,0),\"\")","v":0}]
[null,null,null,null,null,null,null,null,null,null,null,null,null,null,null,null,null,null,null,null,null,null,null,null,null,null,{"$f":"IFERROR(INDEX($AE$13:$AE$1003, SMALL(IF(ISBLANK($AE$13:$AE$1003)+ISERROR($AE$13:$AE$1003)+LEN($AE$13:$AE$1003)=0, \"\", ROW($AE$13:$AE$1003)-MIN(ROW($AE$13:$AE$1003))+1), ROW(47:47))),\"\")","v":"__AUT_15__GHS_N"},{"$f":"IF(AF59=\"\",\"\",IF(COUNTIF(CurrentListing,AF59)>1,AJ59,\"\"))","v":""},{"$f":"IF(LEN(AF59)=0,\"\",IF(ISNA(MATCH(AF59,MasterListing,0)),AJ59,\"\"))","v":""},null,"__AUT_15__DROPOUT_N","","AUT15DROPOUTN","__AUT_15__DROPOUT_N",1,"______",null,null,null,null,{"$f":"IF(ISNUMBER(SEARCH($F$6,AP58)),MAX($AO$11:AO57)+1,0)","v":47},0,{"$f":"ROWS($AQ$12:AQ58)","v":47},{"$f":"IFERROR(VLOOKUP(ROWS($AR$12:AR58),$AO$12:$AP$3014,2,0),\"\")","v":0}]
[null,null,null,null,null,null,null,null,null,null,null,null,null,null,null,null,null,null,null,null,null,null,null,null,null,null,{"$f":"IFERROR(INDEX($AE$13:$AE$1003, SMALL(IF(ISBLANK($AE$13:$AE$1003)+ISERROR($AE$13:$AE$1003)+LEN($AE$13:$AE$1003)=0, \"\", ROW($AE$13:$AE$1003)-MIN(ROW($AE$13:$AE$1003))+1), ROW(48:48))),\"\")","v":"__AUT_15__GRADALTDPL_N"},{"$f":"IF(AF60=\"\",\"\",IF(COUNTIF(CurrentListing,AF60)>1,AJ60,\"\"))","v":""},{"$f":"IF(LEN(AF60)=0,\"\",IF(ISNA(MATCH(AF60,MasterListing,0)),AJ60,\"\"))","v":""},null,"__AUT_15__GHS_N","","AUT15GHSN","__AUT_15__GHS_N",1,"______",null,null,null,null,{"$f":"IF(ISNUMBER(SEARCH($F$6,AP59)),MAX($AO$11:AO58)+1,0)","v":48},0,{"$f":"ROWS($AQ$12:AQ59)","v":48},{"$f":"IFERROR(VLOOKUP(ROWS($AR$12:AR59),$AO$12:$AP$3014,2,0),\"\")","v":0}]
[null,null,null,null,null,null,null,null,null,null,null,null,null,null,null,null,null,null,null,null,null,null,null,null,null,null,{"$f":"IFERROR(INDEX($AE$13:$AE$1003, SMALL(IF(ISBLANK($AE$13:$AE$1003)+ISERROR($AE$13:$AE$1003)+LEN($AE$13:$AE$1003)=0, \"\", ROW($AE$13:$AE$1003)-MIN(ROW($AE$13:$AE$1003))+1), ROW(49:49))),\"\")","v":"__AUT_15__MKC_N"},{"$f":"IF(AF61=\"\",\"\",IF(COUNTIF(CurrentListing,AF61)>1,AJ61,\"\"))","v":""},{"$f":"IF(LEN(AF61)=0,\"\",IF(ISNA(MATCH(AF61,MasterListing,0)),AJ61,\"\"))","v":""},null,"__AUT_15__GRADALTDPL_N","","AUT15GRADALTDPLN","__AUT_15__GRADALTDPL_N",1,"______",null,null,null,null,{"$f":"IF(ISNUMBER(SEARCH($F$6,AP60)),MAX($AO$11:AO59)+1,0)","v":49},0,{"$f":"ROWS($AQ$12:AQ60)","v":49},{"$f":"IFERROR(VLOOKUP(ROWS($AR$12:AR60),$AO$12:$AP$3014,2,0),\"\")","v":0}]
[null,null,null,null,null,null,null,null,null,null,null,null,null,null,null,null,null,null,null,null,null,null,null,null,null,null,{"$f":"IFERROR(INDEX($AE$13:$AE$1003, SMALL(IF(ISBLANK($AE$13:$AE$1003)+ISERROR($AE$13:$AE$1003)+LEN($AE$13:$AE$1003)=0, \"\", ROW($AE$13:$AE$1003)-MIN(ROW($AE$13:$AE$1003))+1), ROW(50:50))),\"\")","v":"__AUT_15__RC_N"},{"$f":"IF(AF62=\"\",\"\",IF(COUNTIF(CurrentListing,AF62)>1,AJ62,\"\"))","v":""},{"$f":"IF(LEN(AF62)=0,\"\",IF(ISNA(MATCH(AF62,MasterListing,0)),AJ62,\"\"))","v":""},null,"__AUT_15__MKC_N","","AUT15MKCN","__AUT_15__MKC_N",1,"______",null,null,null,null,{"$f":"IF(ISNUMBER(SEARCH($F$6,AP61)),MAX($AO$11:AO60)+1,0)","v":50},0,{"$f":"ROWS($AQ$12:AQ61)","v":50},{"$f":"IFERROR(VLOOKUP(ROWS($AR$12:AR61),$AO$12:$AP$3014,2,0),\"\")","v":0}]
[null,null,null,null,null,null,null,null,null,null,null,null,null,null,null,null,null,null,null,null,null,null,null,null,null,null,{"$f":"IFERROR(INDEX($AE$13:$AE$1003, SMALL(IF(ISBLANK($AE$13:$AE$1003)+ISERROR($AE$13:$AE$1003)+LEN($AE$13:$AE$1003)=0, \"\", ROW($AE$13:$AE$1003)-MIN(ROW($AE$13:$AE$1003))+1), ROW(51:51))),\"\")","v":"__AUT_15__RMA_N"},{"$f":"IF(AF63=\"\",\"\",IF(COUNTIF(CurrentListing,AF63)>1,AJ63,\"\"))","v":""},{"$f":"IF(LEN(AF63)=0,\"\",IF(ISNA(MATCH(AF63,MasterListing,0)),AJ63,\"\"))","v":""},null,"__AUT_15__RC_N","","AUT15RCN","__AUT_15__RC_N",1,"______",null,null,null,null,{"$f":"IF(ISNUMBER(SEARCH($F$6,AP62)),MAX($AO$11:AO61)+1,0)","v":51},0,{"$f":"ROWS($AQ$12:AQ62)","v":51},{"$f":"IFERROR(VLOOKUP(ROWS($AR$12:AR62),$AO$12:$AP$3014,2,0),\"\")","v":0}]
[null,null,null,null,null,null,null,null,null,null,null,null,null,null,null,null,null,null,null,null,null,null,null,null,null,null,{"$f":"IFERROR(INDEX($AE$13:$AE$1003, SMALL(IF(ISBLANK($AE$13:$AE$1003)+ISERROR($AE$13:$AE$1003)+LEN($AE$13:$AE$1003)=0, \"\", ROW($AE$13:$AE$1003)-MIN(ROW($AE$13:$AE$1003))+1), ROW(52:52))),\"\")","v":"__AUT_15__TRAN_N"},{"$f":"IF(AF64=\"\",\"\",IF(COUNTIF(CurrentListing,AF64)>1,AJ64,\"\"))","v":""},{"$f":"IF(LEN(AF64)=0,\"\",IF(ISNA(MATCH(AF64,MasterListing,0)),AJ64,\"\"))","v":""},null,"__AUT_15__RMA_N","","AUT15RMAN","__AUT_15__RMA_N",1,"______",null,null,null,null,{"$f":"IF(ISNUMBER(SEARCH($F$6,AP63)),MAX($AO$11:AO62)+1,0)","v":52},0,{"$f":"ROWS($AQ$12:AQ63)","v":52},{"$f":"IFERROR(VLOOKUP(ROWS($AR$12:AR63),$AO$12:$AP$3014,2,0),\"\")","v":0}]
[null,null,null,null,null,null,null,null,null,null,null,null,null,null,null,null,null,null,null,null,null,null,null,null,null,null,{"$f":"IFERROR(INDEX($AE$13:$AE$1003, SMALL(IF(ISBLANK($AE$13:$AE$1003)+ISERROR($AE$13:$AE$1003)+LEN($AE$13:$AE$1003)=0, \"\", ROW($AE$13:$AE$1003)-MIN(ROW($AE$13:$AE$1003))+1), ROW(53:53))),\"\")","v":"__AUT_16__D_N"},{"$f":"IF(AF65=\"\",\"\",IF(COUNTIF(CurrentListing,AF65)>1,AJ65,\"\"))","v":""},{"$f":"IF(LEN(AF65)=0,\"\",IF(ISNA(MATCH(AF65,MasterListing,0)),AJ65,\"\"))","v":""},null,"__AUT_15__TRAN_N","","AUT15TRANN","__AUT_15__TRAN_N",1,"______",null,null,null,null,{"$f":"IF(ISNUMBER(SEARCH($F$6,AP64)),MAX($AO$11:AO63)+1,0)","v":53},0,{"$f":"ROWS($AQ$12:AQ64)","v":53},{"$f":"IFERROR(VLOOKUP(ROWS($AR$12:AR64),$AO$12:$AP$3014,2,0),\"\")","v":0}]
[null,null,null,null,null,null,null,null,null,null,null,null,null,null,null,null,null,null,null,null,null,null,null,null,null,null,{"$f":"IFERROR(INDEX($AE$13:$AE$1003, SMALL(IF(ISBLANK($AE$13:$AE$1003)+ISERROR($AE$13:$AE$1003)+LEN($AE$13:$AE$1003)=0, \"\", ROW($AE$13:$AE$1003)-MIN(ROW($AE$13:$AE$1003))+1), ROW(54:54))),\"\")","v":"__AUT_16__DROPOUT_N"},{"$f":"IF(AF66=\"\",\"\",IF(COUNTIF(CurrentListing,AF66)>1,AJ66,\"\"))","v":""},{"$f":"IF(LEN(AF66)=0,\"\",IF(ISNA(MATCH(AF66,MasterListing,0)),AJ66,\"\"))","v":""},null,"__AUT_16__D_N","","AUT16DN","__AUT_16__D_N",1,"______",null,null,null,null,{"$f":"IF(ISNUMBER(SEARCH($F$6,AP65)),MAX($AO$11:AO64)+1,0)","v":54},0,{"$f":"ROWS($AQ$12:AQ65)","v":54},{"$f":"IFERROR(VLOOKUP(ROWS($AR$12:AR65),$AO$12:$AP$3014,2,0),\"\")","v":0}]
[null,null,null,null,null,null,null,null,null,null,null,null,null,null,null,null,null,null,null,null,null,null,null,null,null,null,{"$f":"IFERROR(INDEX($AE$13:$AE$1003, SMALL(IF(ISBLANK($AE$13:$AE$1003)+ISERROR($AE$13:$AE$1003)+LEN($AE$13:$AE$1003)=0, \"\", ROW($AE$13:$AE$1003)-MIN(ROW($AE$13:$AE$1003))+1), ROW(55:55))),\"\")","v":"__AUT_16__GHS_N"},{"$f":"IF(AF67=\"\",\"\",IF(COUNTIF(CurrentListing,AF67)>1,AJ67,\"\"))","v":""},{"$f":"IF(LEN(AF67)=0,\"\",IF(ISNA(MATCH(AF67,MasterListing,0)),AJ67,\"\"))","v":""},null,"__AUT_16__DROPOUT_N","","AUT16DROPOUTN","__AUT_16__DROPOUT_N",1,"______",null,null,null,null,{"$f":"IF(ISNUMBER(SEARCH($F$6,AP66)),MAX($AO$11:AO65)+1,0)","v":55},0,{"$f":"ROWS($AQ$12:AQ66)","v":55},{"$f":"IFERROR(VLOOKUP(ROWS($AR$12:AR66),$AO$12:$AP$3014,2,0),\"\")","v":0}]
[null,null,null,null,null,null,null,null,null,null,null,null,null,null,null,null,null,null,null,null,null,null,null,null,null,null,{"$f":"IFERROR(INDEX($AE$13:$AE$1003, SMALL(IF(ISBLANK($AE$13:$AE$1003)+ISERROR($AE$13:$AE$1003)+LEN($AE$13:$AE$1003)=0, \"\", ROW($AE$13:$AE$1003)-MIN(ROW($AE$13:$AE$1003))+1), ROW(56:56))),\"\")","v":"__AUT_16__GRADALTDPL_N"},{"$f":"IF(AF68=\"\",\"\",IF(COUNTIF(CurrentListing,AF68)>1,AJ68,\"\"))","v":""},{"$f":"IF(LEN(AF68)=0,\"\",IF(ISNA(MATCH(AF68,MasterListing,0)),AJ68,\"\"))","v":""},null,"__AUT_16__GHS_N","","AUT16GHSN","__AUT_16__GHS_N",1,"______",null,null,null,null,{"$f":"IF(ISNUMBER(SEARCH($F$6,AP67)),MAX($AO$11:AO66)+1,0)","v":56},0,{"$f":"ROWS($AQ$12:AQ67)","v":56},{"$f":"IFERROR(VLOOKUP(ROWS($AR$12:AR67),$AO$12:$AP$3014,2,0),\"\")","v":0}]
[null,null,null,null,null,null,null,null,null,null,null,null,null,null,null,null,null,null,null,null,null,null,null,null,null,null,{"$f":"IFERROR(INDEX($AE$13:$AE$1003, SMALL(IF(ISBLANK($AE$13:$AE$1003)+ISERROR($AE$13:$AE$1003)+LEN($AE$13:$AE$1003)=0, \"\", ROW($AE$13:$AE$1003)-MIN(ROW($AE$13:$AE$1003))+1), ROW(57:57))),\"\")","v":"__AUT_16__MKC_N"},{"$f":"IF(AF69=\"\",\"\",IF(COUNTIF(CurrentListing,AF69)>1,AJ69,\"\"))","v":""},{"$f":"IF(LEN(AF69)=0,\"\",IF(ISNA(MATCH(AF69,MasterListing,0)),AJ69,\"\"))","v":""},null,"__AUT_16__GRADALTDPL_N","","AUT16GRADALTDPLN","__AUT_16__GRADALTDPL_N",1,"______",null,null,null,null,{"$f":"IF(ISNUMBER(SEARCH($F$6,AP68)),MAX($AO$11:AO67)+1,0)","v":57},0,{"$f":"ROWS($AQ$12:AQ68)","v":57},{"$f":"IFERROR(VLOOKUP(ROWS($AR$12:AR68),$AO$12:$AP$3014,2,0),\"\")","v":0}]
[null,null,null,null,null,null,null,null,null,null,null,null,null,null,null,null,null,null,null,null,null,null,null,null,null,null,{"$f":"IFERROR(INDEX($AE$13:$AE$1003, SMALL(IF(ISBLANK($AE$13:$AE$1003)+ISERROR($AE$13:$AE$1003)+LEN($AE$13:$AE$1003)=0, \"\", ROW($AE$13:$AE$1003)-MIN(ROW($AE$13:$AE$1003))+1), ROW(58:58))),\"\")","v":"__AUT_16__RC_N"},{"$f":"IF(AF70=\"\",\"\",IF(COUNTIF(CurrentListing,AF70)>1,AJ70,\"\"))","v":""},{"$f":"IF(LEN(AF70)=0,\"\",IF(ISNA(MATCH(AF70,MasterListing,0)),AJ70,\"\"))","v":""},null,"__AUT_16__MKC_N","","AUT16MKCN","__AUT_16__MKC_N",1,"______",null,null,null,null,{"$f":"IF(ISNUMBER(SEARCH($F$6,AP69)),MAX($AO$11:AO68)+1,0)","v":58},0,{"$f":"ROWS($AQ$12:AQ69)","v":58},{"$f":"IFERROR(VLOOKUP(ROWS($AR$12:AR69),$AO$12:$AP$3014,2,0),\"\")","v":0}]
[null,null,null,null,null,null,null,null,null,null,null,null,null,null,null,null,null,null,null,null,null,null,null,null,null,null,{"$f":"IFERROR(INDEX($AE$13:$AE$1003, SMALL(IF(ISBLANK($AE$13:$AE$1003)+ISERROR($AE$13:$AE$1003)+LEN($AE$13:$AE$1003)=0, \"\", ROW($AE$13:$AE$1003)-MIN(ROW($AE$13:$AE$1003))+1), ROW(59:59))),\"\")","v":"__AUT_16__RMA_N"},{"$f":"IF(AF71=\"\",\"\",IF(COUNTIF(CurrentListing,AF71)>1,AJ71,\"\"))","v":""},{"$f":"IF(LEN(AF71)=0,\"\",IF(ISNA(MATCH(AF71,MasterListing,0)),AJ71,\"\"))","v":""},null,"__AUT_16__RC_N","","AUT16RCN","__AUT_16__RC_N",1,"______",null,null,null,null,{"$f":"IF(ISNUMBER(SEARCH($F$6,AP70)),MAX($AO$11:AO69)+1,0)","v":59},0,{"$f":"ROWS($AQ$12:AQ70)","v":59},{"$f":"IFERROR(VLOOKUP(ROWS($AR$12:AR70),$AO$12:$AP$3014,2,0),\"\")","v":0}]
[null,null,null,null,null,null,null,null,null,null,null,null,null,null,null,null,null,null,null,null,null,null,null,null,null,null,{"$f":"IFERROR(INDEX($AE$13:$AE$1003, SMALL(IF(ISBLANK($AE$13:$AE$1003)+ISERROR($AE$13:$AE$1003)+LEN($AE$13:$AE$1003)=0, \"\", ROW($AE$13:$AE$1003)-MIN(ROW($AE$13:$AE$1003))+1), ROW(60:60))),\"\")","v":"__AUT_16__TRAN_N"},{"$f":"IF(AF72=\"\",\"\",IF(COUNTIF(CurrentListing,AF72)>1,AJ72,\"\"))","v":""},{"$f":"IF(LEN(AF72)=0,\"\",IF(ISNA(MATCH(AF72,MasterListing,0)),AJ72,\"\"))","v":""},null,"__AUT_16__RMA_N","","AUT16RMAN","__AUT_16__RMA_N",1,"______",null,null,null,null,{"$f":"IF(ISNUMBER(SEARCH($F$6,AP71)),MAX($AO$11:AO70)+1,0)","v":60},0,{"$f":"ROWS($AQ$12:AQ71)","v":60},{"$f":"IFERROR(VLOOKUP(ROWS($AR$12:AR71),$AO$12:$AP$3014,2,0),\"\")","v":0}]
[null,null,null,null,null,null,null,null,null,null,null,null,null,null,null,null,null,null,null,null,null,null,null,null,null,null,{"$f":"IFERROR(INDEX($AE$13:$AE$1003, SMALL(IF(ISBLANK($AE$13:$AE$1003)+ISERROR($AE$13:$AE$1003)+LEN($AE$13:$AE$1003)=0, \"\", ROW($AE$13:$AE$1003)-MIN(ROW($AE$13:$AE$1003))+1), ROW(61:61))),\"\")","v":"__AUT_17__D_N"},{"$f":"IF(AF73=\"\",\"\",IF(COUNTIF(CurrentListing,AF73)>1,AJ73,\"\"))","v":""},{"$f":"IF(LEN(AF73)=0,\"\",IF(ISNA(MATCH(AF73,MasterListing,0)),AJ73,\"\"))","v":""},null,"__AUT_16__TRAN_N","","AUT16TRANN","__AUT_16__TRAN_N",1,"______",null,null,null,null,{"$f":"IF(ISNUMBER(SEARCH($F$6,AP72)),MAX($AO$11:AO71)+1,0)","v":61},0,{"$f":"ROWS($AQ$12:AQ72)","v":61},{"$f":"IFERROR(VLOOKUP(ROWS($AR$12:AR72),$AO$12:$AP$3014,2,0),\"\")","v":0}]
[null,null,null,null,null,null,null,null,null,null,null,null,null,null,null,null,null,null,null,null,null,null,null,null,null,null,{"$f":"IFERROR(INDEX($AE$13:$AE$1003, SMALL(IF(ISBLANK($AE$13:$AE$1003)+ISERROR($AE$13:$AE$1003)+LEN($AE$13:$AE$1003)=0, \"\", ROW($AE$13:$AE$1003)-MIN(ROW($AE$13:$AE$1003))+1), ROW(62:62))),\"\")","v":"__AUT_17__DROPOUT_N"},{"$f":"IF(AF74=\"\",\"\",IF(COUNTIF(CurrentListing,AF74)>1,AJ74,\"\"))","v":""},{"$f":"IF(LEN(AF74)=0,\"\",IF(ISNA(MATCH(AF74,MasterListing,0)),AJ74,\"\"))","v":""},null,"__AUT_17__D_N","","AUT17DN","__AUT_17__D_N",1,"______",null,null,null,null,{"$f":"IF(ISNUMBER(SEARCH($F$6,AP73)),MAX($AO$11:AO72)+1,0)","v":62},0,{"$f":"ROWS($AQ$12:AQ73)","v":62},{"$f":"IFERROR(VLOOKUP(ROWS($AR$12:AR73),$AO$12:$AP$3014,2,0),\"\")","v":0}]
[null,null,null,null,null,null,null,null,null,null,null,null,null,null,null,null,null,null,null,null,null,null,null,null,null,null,{"$f":"IFERROR(INDEX($AE$13:$AE$1003, SMALL(IF(ISBLANK($AE$13:$AE$1003)+ISERROR($AE$13:$AE$1003)+LEN($AE$13:$AE$1003)=0, \"\", ROW($AE$13:$AE$1003)-MIN(ROW($AE$13:$AE$1003))+1), ROW(63:63))),\"\")","v":"__AUT_17__GHS_N"},{"$f":"IF(AF75=\"\",\"\",IF(COUNTIF(CurrentListing,AF75)>1,AJ75,\"\"))","v":""},{"$f":"IF(LEN(AF75)=0,\"\",IF(ISNA(MATCH(AF75,MasterListing,0)),AJ75,\"\"))","v":""},null,"__AUT_17__DROPOUT_N","","AUT17DROPOUTN","__AUT_17__DROPOUT_N",1,"______",null,null,null,null,{"$f":"IF(ISNUMBER(SEARCH($F$6,AP74)),MAX($AO$11:AO73)+1,0)","v":63},0,{"$f":"ROWS($AQ$12:AQ74)","v":63},{"$f":"IFERROR(VLOOKUP(ROWS($AR$12:AR74),$AO$12:$AP$3014,2,0),\"\")","v":0}]
[null,null,null,null,null,null,null,null,null,null,null,null,null,null,null,null,null,null,null,null,null,null,null,null,null,null,{"$f":"IFERROR(INDEX($AE$13:$AE$1003, SMALL(IF(ISBLANK($AE$13:$AE$1003)+ISERROR($AE$13:$AE$1003)+LEN($AE$13:$AE$1003)=0, \"\", ROW($AE$13:$AE$1003)-MIN(ROW($AE$13:$AE$1003))+1), ROW(64:64))),\"\")","v":"__AUT_17__GRADALTDPL_N"},{"$f":"IF(AF76=\"\",\"\",IF(COUNTIF(CurrentListing,AF76)>1,AJ76,\"\"))","v":""},{"$f":"IF(LEN(AF76)=0,\"\",IF(ISNA(MATCH(AF76,MasterListing,0)),AJ76,\"\"))","v":""},null,"__AUT_17__GHS_N","","AUT17GHSN","__AUT_17__GHS_N",1,"______",null,null,null,null,{"$f":"IF(ISNUMBER(SEARCH($F$6,AP75)),MAX($AO$11:AO74)+1,0)","v":64},0,{"$f":"ROWS($AQ$12:AQ75)","v":64},{"$f":"IFERROR(VLOOKUP(ROWS($AR$12:AR75),$AO$12:$AP$3014,2,0),\"\")","v":0}]
[null,null,null,null,null,null,null,null,null,null,null,null,null,null,null,null,null,null,null,null,null,null,null,null,null,null,{"$f":"IFERROR(INDEX($AE$13:$AE$1003, SMALL(IF(ISBLANK($AE$13:$AE$1003)+ISERROR($AE$13:$AE$1003)+LEN($AE$13:$AE$1003)=0, \"\", ROW($AE$13:$AE$1003)-MIN(ROW($AE$13:$AE$1003))+1), ROW(65:65))),\"\")","v":"__AUT_17__MKC_N"},{"$f":"IF(AF77=\"\",\"\",IF(COUNTIF(CurrentListing,AF77)>1,AJ77,\"\"))","v":""},{"$f":"IF(LEN(AF77)=0,\"\",IF(ISNA(MATCH(AF77,MasterListing,0)),AJ77,\"\"))","v":""},null,{"$f":"IF(LEN(AG76)=0,\"\",IF(ISNA(MATCH(AG76,CurrentListing,0)),AH76,\"\"))","v":"__AUT_17__GRADALTDPL_N"},"","AUT17GRADALTDPLN","__AUT_17__GRADALTDPL_N",1,"______",null,null,null,null,{"$f":"IF(ISNUMBER(SEARCH($F$6,AP76)),MAX($AO$11:AO75)+1,0)","v":65},0,{"$f":"ROWS($AQ$12:AQ76)","v":65},{"$f":"IFERROR(VLOOKUP(ROWS($AR$12:AR76),$AO$12:$AP$3014,2,0),\"\")","v":0}]
[null,null,null,null,null,null,null,null,null,null,null,null,null,null,null,null,null,null,null,null,null,null,null,null,null,null,{"$f":"IFERROR(INDEX($AE$13:$AE$1003, SMALL(IF(ISBLANK($AE$13:$AE$1003)+ISERROR($AE$13:$AE$1003)+LEN($AE$13:$AE$1003)=0, \"\", ROW($AE$13:$AE$1003)-MIN(ROW($AE$13:$AE$1003))+1), ROW(66:66))),\"\")","v":"__AUT_17__RC_N"},{"$f":"IF(AF78=\"\",\"\",IF(COUNTIF(CurrentListing,AF78)>1,AJ78,\"\"))","v":""},{"$f":"IF(LEN(AF78)=0,\"\",IF(ISNA(MATCH(AF78,MasterListing,0)),AJ78,\"\"))","v":""},null,"__AUT_17__MKC_N",{"$f":"H77&I77&P77&Q77&R77&V77&W77","v":""},"AUT17MKCN","__AUT_17__MKC_N",1,"______",null,null,null,null,{"$f":"IF(ISNUMBER(SEARCH($F$6,AP77)),MAX($AO$11:AO76)+1,0)","v":66},0,{"$f":"ROWS($AQ$12:AQ77)","v":66},{"$f":"IFERROR(VLOOKUP(ROWS($AR$12:AR77),$AO$12:$AP$3014,2,0),\"\")","v":0}]
[null,null,null,null,null,null,null,null,null,null,null,null,null,null,null,null,null,null,null,null,null,null,null,null,null,null,{"$f":"IFERROR(INDEX($AE$13:$AE$1003, SMALL(IF(ISBLANK($AE$13:$AE$1003)+ISERROR($AE$13:$AE$1003)+LEN($AE$13:$AE$1003)=0, \"\", ROW($AE$13:$AE$1003)-MIN(ROW($AE$13:$AE$1003))+1), ROW(67:67))),\"\")","v":"__AUT_17__RMA_N"},{"$f":"IF(AF79=\"\",\"\",IF(COUNTIF(CurrentListing,AF79)>1,AJ79,\"\"))","v":""},{"$f":"IF(LEN(AF79)=0,\"\",IF(ISNA(MATCH(AF79,MasterListing,0)),AJ79,\"\"))","v":""},null,"__AUT_17__RC_N","","AUT17RCN","__AUT_17__RC_N",{"$f":"IF(LEN(AA78)>0,1,0)","v":1},{"$f":"H78&\"_\"&I78&\"_\"&P78&\"_\"&Q78&\"_\"&R78&\"_\"&V78&\"_\"&W78","v":"______"},null,null,null,null,{"$f":"IF(ISNUMBER(SEARCH($F$6,AP78)),MAX($AO$11:AO77)+1,0)","v":67},0,{"$f":"ROWS($AQ$12:AQ78)","v":67},{"$f":"IFERROR(VLOOKUP(ROWS($AR$12:AR78),$AO$12:$AP$3014,2,0),\"\")","v":0}]
[null,null,null,null,null,null,null,null,null,null,null,null,null,null,null,null,null,null,null,null,null,null,null,null,null,null,{"$f":"IFERROR(INDEX($AE$13:$AE$1003, SMALL(IF(ISBLANK($AE$13:$AE$1003)+ISERROR($AE$13:$AE$1003)+LEN($AE$13:$AE$1003)=0, \"\", ROW($AE$13:$AE$1003)-MIN(ROW($AE$13:$AE$1003))+1), ROW(68:68))),\"\")","v":"__AUT_17__TRAN_N"},{"$f":"IF(AF80=\"\",\"\",IF(COUNTIF(CurrentListing,AF80)>1,AJ80,\"\"))","v":""},{"$f":"IF(LEN(AF80)=0,\"\",IF(ISNA(MATCH(AF80,MasterListing,0)),AJ80,\"\"))","v":""},null,"__AUT_17__RMA_N","","AUT17RMAN","__AUT_17__RMA_N",1,"______",null,null,null,null,{"$f":"IF(ISNUMBER(SEARCH($F$6,AP79)),MAX($AO$11:AO78)+1,0)","v":68},0,{"$f":"ROWS($AQ$12:AQ79)","v":68},{"$f":"IFERROR(VLOOKUP(ROWS($AR$12:AR79),$AO$12:$AP$3014,2,0),\"\")","v":0}]
[null,null,null,null,null,null,null,null,null,null,null,null,null,null,null,null,null,null,null,null,null,null,null,null,null,null,{"$f":"IFERROR(INDEX($AE$13:$AE$1003, SMALL(IF(ISBLANK($AE$13:$AE$1003)+ISERROR($AE$13:$AE$1003)+LEN($AE$13:$AE$1003)=0, \"\", ROW($AE$13:$AE$1003)-MIN(ROW($AE$13:$AE$1003))+1), ROW(69:69))),\"\")","v":"__AUT_18__D_N"},{"$f":"IF(AF81=\"\",\"\",IF(COUNTIF(CurrentListing,AF81)>1,AJ81,\"\"))","v":""},{"$f":"IF(LEN(AF81)=0,\"\",IF(ISNA(MATCH(AF81,MasterListing,0)),AJ81,\"\"))","v":""},null,"__AUT_17__TRAN_N","","AUT17TRANN","__AUT_17__TRAN_N",1,"______",null,null,null,null,{"$f":"IF(ISNUMBER(SEARCH($F$6,AP80)),MAX($AO$11:AO79)+1,0)","v":69},0,{"$f":"ROWS($AQ$12:AQ80)","v":69},{"$f":"IFERROR(VLOOKUP(ROWS($AR$12:AR80),$AO$12:$AP$3014,2,0),\"\")","v":0}]
[null,null,null,null,null,null,null,null,null,null,null,null,null,null,null,null,null,null,null,null,null,null,null,null,null,null,{"$f":"IFERROR(INDEX($AE$13:$AE$1003, SMALL(IF(ISBLANK($AE$13:$AE$1003)+ISERROR($AE$13:$AE$1003)+LEN($AE$13:$AE$1003)=0, \"\", ROW($AE$13:$AE$1003)-MIN(ROW($AE$13:$AE$1003))+1), ROW(70:70))),\"\")","v":"__AUT_18__DROPOUT_N"},{"$f":"IF(AF82=\"\",\"\",IF(COUNTIF(CurrentListing,AF82)>1,AJ82,\"\"))","v":""},{"$f":"IF(LEN(AF82)=0,\"\",IF(ISNA(MATCH(AF82,MasterListing,0)),AJ82,\"\"))","v":""},null,"__AUT_18__D_N","","AUT18DN","__AUT_18__D_N",1,"______",null,null,null,null,{"$f":"IF(ISNUMBER(SEARCH($F$6,AP81)),MAX($AO$11:AO80)+1,0)","v":70},0,{"$f":"ROWS($AQ$12:AQ81)","v":70},{"$f":"IFERROR(VLOOKUP(ROWS($AR$12:AR81),$AO$12:$AP$3014,2,0),\"\")","v":0}]
[null,null,null,null,null,null,null,null,null,null,null,null,null,null,null,null,null,null,null,null,null,null,null,null,null,null,{"$f":"IFERROR(INDEX($AE$13:$AE$1003, SMALL(IF(ISBLANK($AE$13:$AE$1003)+ISERROR($AE$13:$AE$1003)+LEN($AE$13:$AE$1003)=0, \"\", ROW($AE$13:$AE$1003)-MIN(ROW($AE$13:$AE$1003))+1), ROW(71:71))),\"\")","v":"__AUT_18__GHS_N"},{"$f":"IF(AF83=\"\",\"\",IF(COUNTIF(CurrentListing,AF83)>1,AJ83,\"\"))","v":""},{"$f":"IF(LEN(AF83)=0,\"\",IF(ISNA(MATCH(AF83,MasterListing,0)),AJ83,\"\"))","v":""},null,"__AUT_18__DROPOUT_N","","AUT18DROPOUTN","__AUT_18__DROPOUT_N",1,"______",null,null,null,null,{"$f":"IF(ISNUMBER(SEARCH($F$6,AP82)),MAX($AO$11:AO81)+1,0)","v":71},0,{"$f":"ROWS($AQ$12:AQ82)","v":71},{"$f":"IFERROR(VLOOKUP(ROWS($AR$12:AR82),$AO$12:$AP$3014,2,0),\"\")","v":0}]
[null,null,null,null,null,null,null,null,null,null,null,null,null,null,null,null,null,null,null,null,null,null,null,null,null,null,{"$f":"IFERROR(INDEX($AE$13:$AE$1003, SMALL(IF(ISBLANK($AE$13:$AE$1003)+ISERROR($AE$13:$AE$1003)+LEN($AE$13:$AE$1003)=0, \"\", ROW($AE$13:$AE$1003)-MIN(ROW($AE$13:$AE$1003))+1), ROW(72:72))),\"\")","v":"__AUT_18__GRADALTDPL_N"},{"$f":"IF(AF84=\"\",\"\",IF(COUNTIF(CurrentListing,AF84)>1,AJ84,\"\"))","v":""},{"$f":"IF(LEN(AF84)=0,\"\",IF(ISNA(MATCH(AF84,MasterListing,0)),AJ84,\"\"))","v":""},null,"__AUT_18__GHS_N","","AUT18GHSN","__AUT_18__GHS_N",1,"______",null,null,null,null,{"$f":"IF(ISNUMBER(SEARCH($F$6,AP83)),MAX($AO$11:AO82)+1,0)","v":72},0,{"$f":"ROWS($AQ$12:AQ83)","v":72},{"$f":"IFERROR(VLOOKUP(ROWS($AR$12:AR83),$AO$12:$AP$3014,2,0),\"\")","v":0}]
[null,null,null,null,null,null,null,null,null,null,null,null,null,null,null,null,null,null,null,null,null,null,null,null,null,null,{"$f":"IFERROR(INDEX($AE$13:$AE$1003, SMALL(IF(ISBLANK($AE$13:$AE$1003)+ISERROR($AE$13:$AE$1003)+LEN($AE$13:$AE$1003)=0, \"\", ROW($AE$13:$AE$1003)-MIN(ROW($AE$13:$AE$1003))+1), ROW(73:73))),\"\")","v":"__AUT_18__MKC_N"},{"$f":"IF(AF85=\"\",\"\",IF(COUNTIF(CurrentListing,AF85)>1,AJ85,\"\"))","v":""},{"$f":"IF(LEN(AF85)=0,\"\",IF(ISNA(MATCH(AF85,MasterListing,0)),AJ85,\"\"))","v":""},null,"__AUT_18__GRADALTDPL_N","","AUT18GRADALTDPLN","__AUT_18__GRADALTDPL_N",1,"______",null,null,null,null,{"$f":"IF(ISNUMBER(SEARCH($F$6,AP84)),MAX($AO$11:AO83)+1,0)","v":73},0,{"$f":"ROWS($AQ$12:AQ84)","v":73},{"$f":"IFERROR(VLOOKUP(ROWS($AR$12:AR84),$AO$12:$AP$3014,2,0),\"\")","v":0}]
[null,null,null,null,null,null,null,null,null,null,null,null,null,null,null,null,null,null,null,null,null,null,null,null,null,null,{"$f":"IFERROR(INDEX($AE$13:$AE$1003, SMALL(IF(ISBLANK($AE$13:$AE$1003)+ISERROR($AE$13:$AE$1003)+LEN($AE$13:$AE$1003)=0, \"\", ROW($AE$13:$AE$1003)-MIN(ROW($AE$13:$AE$1003))+1), ROW(74:74))),\"\")","v":"__AUT_18__RC_N"},{"$f":"IF(AF86=\"\",\"\",IF(COUNTIF(CurrentListing,AF86)>1,AJ86,\"\"))","v":""},{"$f":"IF(LEN(AF86)=0,\"\",IF(ISNA(MATCH(AF86,MasterListing,0)),AJ86,\"\"))","v":""},null,"__AUT_18__MKC_N","","AUT18MKCN","__AUT_18__MKC_N",1,"______",null,null,null,null,{"$f":"IF(ISNUMBER(SEARCH($F$6,AP85)),MAX($AO$11:AO84)+1,0)","v":74},0,{"$f":"ROWS($AQ$12:AQ85)","v":74},{"$f":"IFERROR(VLOOKUP(ROWS($AR$12:AR85),$AO$12:$AP$3014,2,0),\"\")","v":0}]
[null,null,null,null,null,null,null,null,null,null,null,null,null,null,null,null,null,null,null,null,null,null,null,null,null,null,{"$f":"IFERROR(INDEX($AE$13:$AE$1003, SMALL(IF(ISBLANK($AE$13:$AE$1003)+ISERROR($AE$13:$AE$1003)+LEN($AE$13:$AE$1003)=0, \"\", ROW($AE$13:$AE$1003)-MIN(ROW($AE$13:$AE$1003))+1), ROW(75:75))),\"\")","v":"__AUT_18__RMA_N"},{"$f":"IF(AF87=\"\",\"\",IF(COUNTIF(CurrentListing,AF87)>1,AJ87,\"\"))","v":""},{"$f":"IF(LEN(AF87)=0,\"\",IF(ISNA(MATCH(AF87,MasterListing,0)),AJ87,\"\"))","v":""},null,"__AUT_18__RC_N","","AUT18RCN","__AUT_18__RC_N",1,"______",null,null,null,null,{"$f":"IF(ISNUMBER(SEARCH($F$6,AP86)),MAX($AO$11:AO85)+1,0)","v":75},0,{"$f":"ROWS($AQ$12:AQ86)","v":75},{"$f":"IFERROR(VLOOKUP(ROWS($AR$12:AR86),$AO$12:$AP$3014,2,0),\"\")","v":0}]
[null,null,null,null,null,null,null,null,null,null,null,null,null,null,null,null,null,null,null,null,null,null,null,null,null,null,{"$f":"IFERROR(INDEX($AE$13:$AE$1003, SMALL(IF(ISBLANK($AE$13:$AE$1003)+ISERROR($AE$13:$AE$1003)+LEN($AE$13:$AE$1003)=0, \"\", ROW($AE$13:$AE$1003)-MIN(ROW($AE$13:$AE$1003))+1), ROW(76:76))),\"\")","v":"__AUT_18__TRAN_N"},{"$f":"IF(AF88=\"\",\"\",IF(COUNTIF(CurrentListing,AF88)>1,AJ88,\"\"))","v":""},{"$f":"IF(LEN(AF88)=0,\"\",IF(ISNA(MATCH(AF88,MasterListing,0)),AJ88,\"\"))","v":""},null,"__AUT_18__RMA_N","","AUT18RMAN","__AUT_18__RMA_N",1,"______",null,null,null,null,{"$f":"IF(ISNUMBER(SEARCH($F$6,AP87)),MAX($AO$11:AO86)+1,0)","v":76},0,{"$f":"ROWS($AQ$12:AQ87)","v":76},{"$f":"IFERROR(VLOOKUP(ROWS($AR$12:AR87),$AO$12:$AP$3014,2,0),\"\")","v":0}]
[null,null,null,null,null,null,null,null,null,null,null,null,null,null,null,null,null,null,null,null,null,null,null,null,null,null,{"$f":"IFERROR(INDEX($AE$13:$AE$1003, SMALL(IF(ISBLANK($AE$13:$AE$1003)+ISERROR($AE$13:$AE$1003)+LEN($AE$13:$AE$1003)=0, \"\", ROW($AE$13:$AE$1003)-MIN(ROW($AE$13:$AE$1003))+1), ROW(77:77))),\"\")","v":"__AUT_19__D_N"},{"$f":"IF(AF89=\"\",\"\",IF(COUNTIF(CurrentListing,AF89)>1,AJ89,\"\"))","v":""},{"$f":"IF(LEN(AF89)=0,\"\",IF(ISNA(MATCH(AF89,MasterListing,0)),AJ89,\"\"))","v":""},null,"__AUT_18__TRAN_N","","AUT18TRANN","__AUT_18__TRAN_N",1,"______",null,null,null,null,{"$f":"IF(ISNUMBER(SEARCH($F$6,AP88)),MAX($AO$11:AO87)+1,0)","v":77},0,{"$f":"ROWS($AQ$12:AQ88)","v":77},{"$f":"IFERROR(VLOOKUP(ROWS($AR$12:AR88),$AO$12:$AP$3014,2,0),\"\")","v":0}]
[null,null,null,null,null,null,null,null,null,null,null,null,null,null,null,null,null,null,null,null,null,null,null,null,null,null,{"$f":"IFERROR(INDEX($AE$13:$AE$1003, SMALL(IF(ISBLANK($AE$13:$AE$1003)+ISERROR($AE$13:$AE$1003)+LEN($AE$13:$AE$1003)=0, \"\", ROW($AE$13:$AE$1003)-MIN(ROW($AE$13:$AE$1003))+1), ROW(78:78))),\"\")","v":"__AUT_19__DROPOUT_N"},{"$f":"IF(AF90=\"\",\"\",IF(COUNTIF(CurrentListing,AF90)>1,AJ90,\"\"))","v":""},{"$f":"IF(LEN(AF90)=0,\"\",IF(ISNA(MATCH(AF90,MasterListing,0)),AJ90,\"\"))","v":""},null,"__AUT_19__D_N","","AUT19DN","__AUT_19__D_N",1,"______",null,null,null,null,{"$f":"IF(ISNUMBER(SEARCH($F$6,AP89)),MAX($AO$11:AO88)+1,0)","v":78},0,{"$f":"ROWS($AQ$12:AQ89)","v":78},{"$f":"IFERROR(VLOOKUP(ROWS($AR$12:AR89),$AO$12:$AP$3014,2,0),\"\")","v":0}]
[null,null,null,null,null,null,null,null,null,null,null,null,null,null,null,null,null,null,null,null,null,null,null,null,null,null,{"$f":"IFERROR(INDEX($AE$13:$AE$1003, SMALL(IF(ISBLANK($AE$13:$AE$1003)+ISERROR($AE$13:$AE$1003)+LEN($AE$13:$AE$1003)=0, \"\", ROW($AE$13:$AE$1003)-MIN(ROW($AE$13:$AE$1003))+1), ROW(79:79))),\"\")","v":"__AUT_19__GHS_N"},{"$f":"IF(AF91=\"\",\"\",IF(COUNTIF(CurrentListing,AF91)>1,AJ91,\"\"))","v":""},{"$f":"IF(LEN(AF91)=0,\"\",IF(ISNA(MATCH(AF91,MasterListing,0)),AJ91,\"\"))","v":""},null,"__AUT_19__DROPOUT_N","","AUT19DROPOUTN","__AUT_19__DROPOUT_N",1,"______",null,null,null,null,{"$f":"IF(ISNUMBER(SEARCH($F$6,AP90)),MAX($AO$11:AO89)+1,0)","v":79},0,{"$f":"ROWS($AQ$12:AQ90)","v":79},{"$f":"IFERROR(VLOOKUP(ROWS($AR$12:AR90),$AO$12:$AP$3014,2,0),\"\")","v":0}]
[null,null,null,null,null,null,null,null,null,null,null,null,null,null,null,null,null,null,null,null,null,null,null,null,null,null,{"$f":"IFERROR(INDEX($AE$13:$AE$1003, SMALL(IF(ISBLANK($AE$13:$AE$1003)+ISERROR($AE$13:$AE$1003)+LEN($AE$13:$AE$1003)=0, \"\", ROW($AE$13:$AE$1003)-MIN(ROW($AE$13:$AE$1003))+1), ROW(80:80))),\"\")","v":"__AUT_19__GRADALTDPL_N"},{"$f":"IF(AF92=\"\",\"\",IF(COUNTIF(CurrentListing,AF92)>1,AJ92,\"\"))","v":""},{"$f":"IF(LEN(AF92)=0,\"\",IF(ISNA(MATCH(AF92,MasterListing,0)),AJ92,\"\"))","v":""},null,"__AUT_19__GHS_N","","AUT19GHSN","__AUT_19__GHS_N",1,"______",null,null,null,null,{"$f":"IF(ISNUMBER(SEARCH($F$6,AP91)),MAX($AO$11:AO90)+1,0)","v":80},0,{"$f":"ROWS($AQ$12:AQ91)","v":80},{"$f":"IFERROR(VLOOKUP(ROWS($AR$12:AR91),$AO$12:$AP$3014,2,0),\"\")","v":0}]
[null,null,null,null,null,null,null,null,null,null,null,null,null,null,null,null,null,null,null,null,null,null,null,null,null,null,{"$f":"IFERROR(INDEX($AE$13:$AE$1003, SMALL(IF(ISBLANK($AE$13:$AE$1003)+ISERROR($AE$13:$AE$1003)+LEN($AE$13:$AE$1003)=0, \"\", ROW($AE$13:$AE$1003)-MIN(ROW($AE$13:$AE$1003))+1), ROW(81:81))),\"\")","v":"__AUT_19__MKC_N"},{"$f":"IF(AF93=\"\",\"\",IF(COUNTIF(CurrentListing,AF93)>1,AJ93,\"\"))","v":""},{"$f":"IF(LEN(AF93)=0,\"\",IF(ISNA(MATCH(AF93,MasterListing,0)),AJ93,\"\"))","v":""},null,"__AUT_19__GRADALTDPL_N","","AUT19GRADALTDPLN","__AUT_19__GRADALTDPL_N",1,"______",null,null,null,null,{"$f":"IF(ISNUMBER(SEARCH($F$6,AP92)),MAX($AO$11:AO91)+1,0)","v":81},0,{"$f":"ROWS($AQ$12:AQ92)","v":81},{"$f":"IFERROR(VLOOKUP(ROWS($AR$12:AR92),$AO$12:$AP$3014,2,0),\"\")","v":0}]
[null,null,null,null,null,null,null,null,null,null,null,null,null,null,null,null,null,null,null,null,null,null,null,null,null,null,{"$f":"IFERROR(INDEX($AE$13:$AE$1003, SMALL(IF(ISBLANK($AE$13:$AE$1003)+ISERROR($AE$13:$AE$1003)+LEN($AE$13:$AE$1003)=0, \"\", ROW($AE$13:$AE$1003)-MIN(ROW($AE$13:$AE$1003))+1), ROW(82:82))),\"\")","v":"__AUT_19__RC_N"},{"$f":"IF(AF94=\"\",\"\",IF(COUNTIF(CurrentListing,AF94)>1,AJ94,\"\"))","v":""},{"$f":"IF(LEN(AF94)=0,\"\",IF(ISNA(MATCH(AF94,MasterListing,0)),AJ94,\"\"))","v":""},null,"__AUT_19__MKC_N","","AUT19MKCN","__AUT_19__MKC_N",1,"______",null,null,null,null,{"$f":"IF(ISNUMBER(SEARCH($F$6,AP93)),MAX($AO$11:AO92)+1,0)","v":82},0,{"$f":"ROWS($AQ$12:AQ93)","v":82},{"$f":"IFERROR(VLOOKUP(ROWS($AR$12:AR93),$AO$12:$AP$3014,2,0),\"\")","v":0}]
[null,null,null,null,null,null,null,null,null,null,null,null,null,null,null,null,null,null,null,null,null,null,null,null,null,null,{"$f":"IFERROR(INDEX($AE$13:$AE$1003, SMALL(IF(ISBLANK($AE$13:$AE$1003)+ISERROR($AE$13:$AE$1003)+LEN($AE$13:$AE$1003)=0, \"\", ROW($AE$13:$AE$1003)-MIN(ROW($AE$13:$AE$1003))+1), ROW(83:83))),\"\")","v":"__AUT_19__RMA_N"},{"$f":"IF(AF95=\"\",\"\",IF(COUNTIF(CurrentListing,AF95)>1,AJ95,\"\"))","v":""},{"$f":"IF(LEN(AF95)=0,\"\",IF(ISNA(MATCH(AF95,MasterListing,0)),AJ95,\"\"))","v":""},null,"__AUT_19__RC_N","","AUT19RCN","__AUT_19__RC_N",1,"______",null,null,null,null,{"$f":"IF(ISNUMBER(SEARCH($F$6,AP94)),MAX($AO$11:AO93)+1,0)","v":83},0,{"$f":"ROWS($AQ$12:AQ94)","v":83},{"$f":"IFERROR(VLOOKUP(ROWS($AR$12:AR94),$AO$12:$AP$3014,2,0),\"\")","v":0}]
[null,null,null,null,null,null,null,null,null,null,null,null,null,null,null,null,null,null,null,null,null,null,null,null,null,null,{"$f":"IFERROR(INDEX($AE$13:$AE$1003, SMALL(IF(ISBLANK($AE$13:$AE$1003)+ISERROR($AE$13:$AE$1003)+LEN($AE$13:$AE$1003)=0, \"\", ROW($AE$13:$AE$1003)-MIN(ROW($AE$13:$AE$1003))+1), ROW(84:84))),\"\")","v":"__AUT_19__TRAN_N"},{"$f":"IF(AF96=\"\",\"\",IF(COUNTIF(CurrentListing,AF96)>1,AJ96,\"\"))","v":""},{"$f":"IF(LEN(AF96)=0,\"\",IF(ISNA(MATCH(AF96,MasterListing,0)),AJ96,\"\"))","v":""},null,"__AUT_19__RMA_N","","AUT19RMAN","__AUT_19__RMA_N",1,"______",null,null,null,null,{"$f":"IF(ISNUMBER(SEARCH($F$6,AP95)),MAX($AO$11:AO94)+1,0)","v":84},0,{"$f":"ROWS($AQ$12:AQ95)","v":84},{"$f":"IFERROR(VLOOKUP(ROWS($AR$12:AR95),$AO$12:$AP$3014,2,0),\"\")","v":0}]
[null,null,null,null,null,null,null,null,null,null,null,null,null,null,null,null,null,null,null,null,null,null,null,null,null,null,{"$f":"IFERROR(INDEX($AE$13:$AE$1003, SMALL(IF(ISBLANK($AE$13:$AE$1003)+ISERROR($AE$13:$AE$1003)+LEN($AE$13:$AE$1003)=0, \"\", ROW($AE$13:$AE$1003)-MIN(ROW($AE$13:$AE$1003))+1), ROW(85:85))),\"\")","v":"__AUT_20__D_N"},{"$f":"IF(AF97=\"\",\"\",IF(COUNTIF(CurrentListing,AF97)>1,AJ97,\"\"))","v":""},{"$f":"IF(LEN(AF97)=0,\"\",IF(ISNA(MATCH(AF97,MasterListing,0)),AJ97,\"\"))","v":""},null,"__AUT_19__TRAN_N","","AUT19TRANN","__AUT_19__TRAN_N",1,"______",null,null,null,null,{"$f":"IF(ISNUMBER(SEARCH($F$6,AP96)),MAX($AO$11:AO95)+1,0)","v":85},0,{"$f":"ROWS($AQ$12:AQ96)","v":85},{"$f":"IFERROR(VLOOKUP(ROWS($AR$12:AR96),$AO$12:$AP$3014,2,0),\"\")","v":0}]
[null,null,null,null,null,null,null,null,null,null,null,null,null,null,null,null,null,null,null,null,null,null,null,null,null,null,{"$f":"IFERROR(INDEX($AE$13:$AE$1003, SMALL(IF(ISBLANK($AE$13:$AE$1003)+ISERROR($AE$13:$AE$1003)+LEN($AE$13:$AE$1003)=0, \"\", ROW($AE$13:$AE$1003)-MIN(ROW($AE$13:$AE$1003))+1), ROW(86:86))),\"\")","v":"__AUT_20__DROPOUT_N"},{"$f":"IF(AF98=\"\",\"\",IF(COUNTIF(CurrentListing,AF98)>1,AJ98,\"\"))","v":""},{"$f":"IF(LEN(AF98)=0,\"\",IF(ISNA(MATCH(AF98,MasterListing,0)),AJ98,\"\"))","v":""},null,"__AUT_20__D_N","","AUT20DN","__AUT_20__D_N",1,"______",null,null,null,null,{"$f":"IF(ISNUMBER(SEARCH($F$6,AP97)),MAX($AO$11:AO96)+1,0)","v":86},0,{"$f":"ROWS($AQ$12:AQ97)","v":86},{"$f":"IFERROR(VLOOKUP(ROWS($AR$12:AR97),$AO$12:$AP$3014,2,0),\"\")","v":0}]
[null,null,null,null,null,null,null,null,null,null,null,null,null,null,null,null,null,null,null,null,null,null,null,null,null,null,{"$f":"IFERROR(INDEX($AE$13:$AE$1003, SMALL(IF(ISBLANK($AE$13:$AE$1003)+ISERROR($AE$13:$AE$1003)+LEN($AE$13:$AE$1003)=0, \"\", ROW($AE$13:$AE$1003)-MIN(ROW($AE$13:$AE$1003))+1), ROW(87:87))),\"\")","v":"__AUT_20__GHS_N"},{"$f":"IF(AF99=\"\",\"\",IF(COUNTIF(CurrentListing,AF99)>1,AJ99,\"\"))","v":""},{"$f":"IF(LEN(AF99)=0,\"\",IF(ISNA(MATCH(AF99,MasterListing,0)),AJ99,\"\"))","v":""},null,"__AUT_20__DROPOUT_N","","AUT20DROPOUTN","__AUT_20__DROPOUT_N",1,"______",null,null,null,null,{"$f":"IF(ISNUMBER(SEARCH($F$6,AP98)),MAX($AO$11:AO97)+1,0)","v":87},0,{"$f":"ROWS($AQ$12:AQ98)","v":87},{"$f":"IFERROR(VLOOKUP(ROWS($AR$12:AR98),$AO$12:$AP$3014,2,0),\"\")","v":0}]
[null,null,null,null,null,null,null,null,null,null,null,null,null,null,null,null,null,null,null,null,null,null,null,null,null,null,{"$f":"IFERROR(INDEX($AE$13:$AE$1003, SMALL(IF(ISBLANK($AE$13:$AE$1003)+ISERROR($AE$13:$AE$1003)+LEN($AE$13:$AE$1003)=0, \"\", ROW($AE$13:$AE$1003)-MIN(ROW($AE$13:$AE$1003))+1), ROW(88:88))),\"\")","v":"__AUT_20__GRADALTDPL_N"},{"$f":"IF(AF100=\"\",\"\",IF(COUNTIF(CurrentListing,AF100)>1,AJ100,\"\"))","v":""},{"$f":"IF(LEN(AF100)=0,\"\",IF(ISNA(MATCH(AF100,MasterListing,0)),AJ100,\"\"))","v":""},null,"__AUT_20__GHS_N","","AUT20GHSN","__AUT_20__GHS_N",1,"______",null,null,null,null,{"$f":"IF(ISNUMBER(SEARCH($F$6,AP99)),MAX($AO$11:AO98)+1,0)","v":88},0,{"$f":"ROWS($AQ$12:AQ99)","v":88},{"$f":"IFERROR(VLOOKUP(ROWS($AR$12:AR99),$AO$12:$AP$3014,2,0),\"\")","v":0}]
[null,null,null,null,null,null,null,null,null,null,null,null,null,null,null,null,null,null,null,null,null,null,null,null,null,null,{"$f":"IFERROR(INDEX($AE$13:$AE$1003, SMALL(IF(ISBLANK($AE$13:$AE$1003)+ISERROR($AE$13:$AE$1003)+LEN($AE$13:$AE$1003)=0, \"\", ROW($AE$13:$AE$1003)-MIN(ROW($AE$13:$AE$1003))+1), ROW(89:89))),\"\")","v":"__AUT_20__MKC_N"},{"$f":"IF(AF101=\"\",\"\",IF(COUNTIF(CurrentListing,AF101)>1,AJ101,\"\"))","v":""},{"$f":"IF(LEN(AF101)=0,\"\",IF(ISNA(MATCH(AF101,MasterListing,0)),AJ101,\"\"))","v":""},null,"__AUT_20__GRADALTDPL_N","","AUT20GRADALTDPLN","__AUT_20__GRADALTDPL_N",1,"______",null,null,null,null,{"$f":"IF(ISNUMBER(SEARCH($F$6,AP100)),MAX($AO$11:AO99)+1,0)","v":89},0,{"$f":"ROWS($AQ$12:AQ100)","v":89},{"$f":"IFERROR(VLOOKUP(ROWS($AR$12:AR100),$AO$12:$AP$3014,2,0),\"\")","v":0}]
[null,null,null,null,null,null,null,null,null,null,null,null,null,null,null,null,null,null,null,null,null,null,null,null,null,null,{"$f":"IFERROR(INDEX($AE$13:$AE$1003, SMALL(IF(ISBLANK($AE$13:$AE$1003)+ISERROR($AE$13:$AE$1003)+LEN($AE$13:$AE$1003)=0, \"\", ROW($AE$13:$AE$1003)-MIN(ROW($AE$13:$AE$1003))+1), ROW(90:90))),\"\")","v":"__AUT_20__RC_N"},{"$f":"IF(AF102=\"\",\"\",IF(COUNTIF(CurrentListing,AF102)>1,AJ102,\"\"))","v":""},{"$f":"IF(LEN(AF102)=0,\"\",IF(ISNA(MATCH(AF102,MasterListing,0)),AJ102,\"\"))","v":""},null,"__AUT_20__MKC_N","","AUT20MKCN","__AUT_20__MKC_N",1,"______",null,null,null,null,{"$f":"IF(ISNUMBER(SEARCH($F$6,AP101)),MAX($AO$11:AO100)+1,0)","v":90},0,{"$f":"ROWS($AQ$12:AQ101)","v":90},{"$f":"IFERROR(VLOOKUP(ROWS($AR$12:AR101),$AO$12:$AP$3014,2,0),\"\")","v":0}]
[null,null,null,null,null,null,null,null,null,null,null,null,null,null,null,null,null,null,null,null,null,null,null,null,null,null,{"$f":"IFERROR(INDEX($AE$13:$AE$1003, SMALL(IF(ISBLANK($AE$13:$AE$1003)+ISERROR($AE$13:$AE$1003)+LEN($AE$13:$AE$1003)=0, \"\", ROW($AE$13:$AE$1003)-MIN(ROW($AE$13:$AE$1003))+1), ROW(91:91))),\"\")","v":"__AUT_20__RMA_N"},{"$f":"IF(AF103=\"\",\"\",IF(COUNTIF(CurrentListing,AF103)>1,AJ103,\"\"))","v":""},{"$f":"IF(LEN(AF103)=0,\"\",IF(ISNA(MATCH(AF103,MasterListing,0)),AJ103,\"\"))","v":""},null,"__AUT_20__RC_N","","AUT20RCN","__AUT_20__RC_N",1,"______",null,null,null,null,{"$f":"IF(ISNUMBER(SEARCH($F$6,AP102)),MAX($AO$11:AO101)+1,0)","v":91},0,{"$f":"ROWS($AQ$12:AQ102)","v":91},{"$f":"IFERROR(VLOOKUP(ROWS($AR$12:AR102),$AO$12:$AP$3014,2,0),\"\")","v":0}]
[null,null,null,null,null,null,null,null,null,null,null,null,null,null,null,null,null,null,null,null,null,null,null,null,null,null,{"$f":"IFERROR(INDEX($AE$13:$AE$1003, SMALL(IF(ISBLANK($AE$13:$AE$1003)+ISERROR($AE$13:$AE$1003)+LEN($AE$13:$AE$1003)=0, \"\", ROW($AE$13:$AE$1003)-MIN(ROW($AE$13:$AE$1003))+1), ROW(92:92))),\"\")","v":"__AUT_20__TRAN_N"},{"$f":"IF(AF104=\"\",\"\",IF(COUNTIF(CurrentListing,AF104)>1,AJ104,\"\"))","v":""},{"$f":"IF(LEN(AF104)=0,\"\",IF(ISNA(MATCH(AF104,MasterListing,0)),AJ104,\"\"))","v":""},null,"__AUT_20__RMA_N","","AUT20RMAN","__AUT_20__RMA_N",1,"______",null,null,null,null,{"$f":"IF(ISNUMBER(SEARCH($F$6,AP103)),MAX($AO$11:AO102)+1,0)","v":92},0,{"$f":"ROWS($AQ$12:AQ103)","v":92},{"$f":"IFERROR(VLOOKUP(ROWS($AR$12:AR103),$AO$12:$AP$3014,2,0),\"\")","v":0}]
[null,null,null,null,null,null,null,null,null,null,null,null,null,null,null,null,null,null,null,null,null,null,null,null,null,null,{"$f":"IFERROR(INDEX($AE$13:$AE$1003, SMALL(IF(ISBLANK($AE$13:$AE$1003)+ISERROR($AE$13:$AE$1003)+LEN($AE$13:$AE$1003)=0, \"\", ROW($AE$13:$AE$1003)-MIN(ROW($AE$13:$AE$1003))+1), ROW(93:93))),\"\")","v":"__AUT_21__D_N"},{"$f":"IF(AF105=\"\",\"\",IF(COUNTIF(CurrentListing,AF105)>1,AJ105,\"\"))","v":""},{"$f":"IF(LEN(AF105)=0,\"\",IF(ISNA(MATCH(AF105,MasterListing,0)),AJ105,\"\"))","v":""},null,"__AUT_20__TRAN_N","","AUT20TRANN","__AUT_20__TRAN_N",1,"______",null,null,null,null,{"$f":"IF(ISNUMBER(SEARCH($F$6,AP104)),MAX($AO$11:AO103)+1,0)","v":93},0,{"$f":"ROWS($AQ$12:AQ104)","v":93},{"$f":"IFERROR(VLOOKUP(ROWS($AR$12:AR104),$AO$12:$AP$3014,2,0),\"\")","v":0}]
[null,null,null,null,null,null,null,null,null,null,null,null,null,null,null,null,null,null,null,null,null,null,null,null,null,null,{"$f":"IFERROR(INDEX($AE$13:$AE$1003, SMALL(IF(ISBLANK($AE$13:$AE$1003)+ISERROR($AE$13:$AE$1003)+LEN($AE$13:$AE$1003)=0, \"\", ROW($AE$13:$AE$1003)-MIN(ROW($AE$13:$AE$1003))+1), ROW(94:94))),\"\")","v":"__AUT_21__DROPOUT_N"},{"$f":"IF(AF106=\"\",\"\",IF(COUNTIF(CurrentListing,AF106)>1,AJ106,\"\"))","v":""},{"$f":"IF(LEN(AF106)=0,\"\",IF(ISNA(MATCH(AF106,MasterListing,0)),AJ106,\"\"))","v":""},null,"__AUT_21__D_N","","AUT21DN","__AUT_21__D_N",1,"______",null,null,null,null,{"$f":"IF(ISNUMBER(SEARCH($F$6,AP105)),MAX($AO$11:AO104)+1,0)","v":94},0,{"$f":"ROWS($AQ$12:AQ105)","v":94},{"$f":"IFERROR(VLOOKUP(ROWS($AR$12:AR105),$AO$12:$AP$3014,2,0),\"\")","v":0}]
[null,null,null,null,null,null,null,null,null,null,null,null,null,null,null,null,null,null,null,null,null,null,null,null,null,null,{"$f":"IFERROR(INDEX($AE$13:$AE$1003, SMALL(IF(ISBLANK($AE$13:$AE$1003)+ISERROR($AE$13:$AE$1003)+LEN($AE$13:$AE$1003)=0, \"\", ROW($AE$13:$AE$1003)-MIN(ROW($AE$13:$AE$1003))+1), ROW(95:95))),\"\")","v":"__AUT_21__GHS_N"},{"$f":"IF(AF107=\"\",\"\",IF(COUNTIF(CurrentListing,AF107)>1,AJ107,\"\"))","v":""},{"$f":"IF(LEN(AF107)=0,\"\",IF(ISNA(MATCH(AF107,MasterListing,0)),AJ107,\"\"))","v":""},null,"__AUT_21__DROPOUT_N","","AUT21DROPOUTN","__AUT_21__DROPOUT_N",1,"______",null,null,null,null,{"$f":"IF(ISNUMBER(SEARCH($F$6,AP106)),MAX($AO$11:AO105)+1,0)","v":95},0,{"$f":"ROWS($AQ$12:AQ106)","v":95},{"$f":"IFERROR(VLOOKUP(ROWS($AR$12:AR106),$AO$12:$AP$3014,2,0),\"\")","v":0}]
[null,null,null,null,null,null,null,null,null,null,null,null,null,null,null,null,null,null,null,null,null,null,null,null,null,null,{"$f":"IFERROR(INDEX($AE$13:$AE$1003, SMALL(IF(ISBLANK($AE$13:$AE$1003)+ISERROR($AE$13:$AE$1003)+LEN($AE$13:$AE$1003)=0, \"\", ROW($AE$13:$AE$1003)-MIN(ROW($AE$13:$AE$1003))+1), ROW(96:96))),\"\")","v":"__AUT_21__GRADALTDPL_N"},{"$f":"IF(AF108=\"\",\"\",IF(COUNTIF(CurrentListing,AF108)>1,AJ108,\"\"))","v":""},{"$f":"IF(LEN(AF108)=0,\"\",IF(ISNA(MATCH(AF108,MasterListing,0)),AJ108,\"\"))","v":""},null,"__AUT_21__GHS_N","","AUT21GHSN","__AUT_21__GHS_N",1,"______",null,null,null,null,{"$f":"IF(ISNUMBER(SEARCH($F$6,AP107)),MAX($AO$11:AO106)+1,0)","v":96},0,{"$f":"ROWS($AQ$12:AQ107)","v":96},{"$f":"IFERROR(VLOOKUP(ROWS($AR$12:AR107),$AO$12:$AP$3014,2,0),\"\")","v":0}]
[null,null,null,null,null,null,null,null,null,null,null,null,null,null,null,null,null,null,null,null,null,null,null,null,null,null,{"$f":"IFERROR(INDEX($AE$13:$AE$1003, SMALL(IF(ISBLANK($AE$13:$AE$1003)+ISERROR($AE$13:$AE$1003)+LEN($AE$13:$AE$1003)=0, \"\", ROW($AE$13:$AE$1003)-MIN(ROW($AE$13:$AE$1003))+1), ROW(97:97))),\"\")","v":"__AUT_21__MKC_N"},{"$f":"IF(AF109=\"\",\"\",IF(COUNTIF(CurrentListing,AF109)>1,AJ109,\"\"))","v":""},{"$f":"IF(LEN(AF109)=0,\"\",IF(ISNA(MATCH(AF109,MasterListing,0)),AJ109,\"\"))","v":""},null,"__AUT_21__GRADALTDPL_N","","AUT21GRADALTDPLN","__AUT_21__GRADALTDPL_N",1,"______",null,null,null,null,{"$f":"IF(ISNUMBER(SEARCH($F$6,AP108)),MAX($AO$11:AO107)+1,0)","v":97},0,{"$f":"ROWS($AQ$12:AQ108)","v":97},{"$f":"IFERROR(VLOOKUP(ROWS($AR$12:AR108),$AO$12:$AP$3014,2,0),\"\")","v":0}]
[null,null,null,null,null,null,null,null,null,null,null,null,null,null,null,null,null,null,null,null,null,null,null,null,null,null,{"$f":"IFERROR(INDEX($AE$13:$AE$1003, SMALL(IF(ISBLANK($AE$13:$AE$1003)+ISERROR($AE$13:$AE$1003)+LEN($AE$13:$AE$1003)=0, \"\", ROW($AE$13:$AE$1003)-MIN(ROW($AE$13:$AE$1003))+1), ROW(98:98))),\"\")","v":"__AUT_21__RC_N"},{"$f":"IF(AF110=\"\",\"\",IF(COUNTIF(CurrentListing,AF110)>1,AJ110,\"\"))","v":""},{"$f":"IF(LEN(AF110)=0,\"\",IF(ISNA(MATCH(AF110,MasterListing,0)),AJ110,\"\"))","v":""},null,"__AUT_21__MKC_N","","AUT21MKCN","__AUT_21__MKC_N",1,"______",null,null,null,null,{"$f":"IF(ISNUMBER(SEARCH($F$6,AP109)),MAX($AO$11:AO108)+1,0)","v":98},0,{"$f":"ROWS($AQ$12:AQ109)","v":98},{"$f":"IFERROR(VLOOKUP(ROWS($AR$12:AR109),$AO$12:$AP$3014,2,0),\"\")","v":0}]
[null,null,null,null,null,null,null,null,null,null,null,null,null,null,null,null,null,null,null,null,null,null,null,null,null,null,{"$f":"IFERROR(INDEX($AE$13:$AE$1003, SMALL(IF(ISBLANK($AE$13:$AE$1003)+ISERROR($AE$13:$AE$1003)+LEN($AE$13:$AE$1003)=0, \"\", ROW($AE$13:$AE$1003)-MIN(ROW($AE$13:$AE$1003))+1), ROW(99:99))),\"\")","v":"__AUT_21__RMA_N"},{"$f":"IF(AF111=\"\",\"\",IF(COUNTIF(CurrentListing,AF111)>1,AJ111,\"\"))","v":""},{"$f":"IF(LEN(AF111)=0,\"\",IF(ISNA(MATCH(AF111,MasterListing,0)),AJ111,\"\"))","v":""},null,"__AUT_21__RC_N","","AUT21RCN","__AUT_21__RC_N",1,"______",null,null,null,null,{"$f":"IF(ISNUMBER(SEARCH($F$6,AP110)),MAX($AO$11:AO109)+1,0)","v":99},0,{"$f":"ROWS($AQ$12:AQ110)","v":99},{"$f":"IFERROR(VLOOKUP(ROWS($AR$12:AR110),$AO$12:$AP$3014,2,0),\"\")","v":0}]
[null,null,null,null,null,null,null,null,null,null,null,null,null,null,null,null,null,null,null,null,null,null,null,null,null,null,{"$f":"IFERROR(INDEX($AE$13:$AE$1003, SMALL(IF(ISBLANK($AE$13:$AE$1003)+ISERROR($AE$13:$AE$1003)+LEN($AE$13:$AE$1003)=0, \"\", ROW($AE$13:$AE$1003)-MIN(ROW($AE$13:$AE$1003))+1), ROW(100:100))),\"\")","v":"__AUT_21__TRAN_N"},{"$f":"IF(AF112=\"\",\"\",IF(COUNTIF(CurrentListing,AF112)>1,AJ112,\"\"))","v":""},{"$f":"IF(LEN(AF112)=0,\"\",IF(ISNA(MATCH(AF112,MasterListing,0)),AJ112,\"\"))","v":""},null,"__AUT_21__RMA_N","","AUT21RMAN","__AUT_21__RMA_N",1,"______",null,null,null,null,{"$f":"IF(ISNUMBER(SEARCH($F$6,AP111)),MAX($AO$11:AO110)+1,0)","v":100},0,{"$f":"ROWS($AQ$12:AQ111)","v":100},{"$f":"IFERROR(VLOOKUP(ROWS($AR$12:AR111),$AO$12:$AP$3014,2,0),\"\")","v":0}]
[null,null,null,null,null,null,null,null,null,null,null,null,null,null,null,null,null,null,null,null,null,null,null,null,null,null,{"$f":"IFERROR(INDEX($AE$13:$AE$1003, SMALL(IF(ISBLANK($AE$13:$AE$1003)+ISERROR($AE$13:$AE$1003)+LEN($AE$13:$AE$1003)=0, \"\", ROW($AE$13:$AE$1003)-MIN(ROW($AE$13:$AE$1003))+1), ROW(101:101))),\"\")","v":"__DB____Y"},{"$f":"IF(AF113=\"\",\"\",IF(COUNTIF(CurrentListing,AF113)>1,AJ113,\"\"))","v":""},{"$f":"IF(LEN(AF113)=0,\"\",IF(ISNA(MATCH(AF113,MasterListing,0)),AJ113,\"\"))","v":""},null,"__AUT_21__TRAN_N","","AUT21TRANN","__AUT_21__TRAN_N",1,"______",null,null,null,null,{"$f":"IF(ISNUMBER(SEARCH($F$6,AP112)),MAX($AO$11:AO111)+1,0)","v":101},0,{"$f":"ROWS($AQ$12:AQ112)","v":101},{"$f":"IFERROR(VLOOKUP(ROWS($AR$12:AR112),$AO$12:$AP$3014,2,0),\"\")","v":0}]
[null,null,null,null,null,null,null,null,null,null,null,null,null,null,null,null,null,null,null,null,null,null,null,null,null,null,{"$f":"IFERROR(INDEX($AE$13:$AE$1003, SMALL(IF(ISBLANK($AE$13:$AE$1003)+ISERROR($AE$13:$AE$1003)+LEN($AE$13:$AE$1003)=0, \"\", ROW($AE$13:$AE$1003)-MIN(ROW($AE$13:$AE$1003))+1), ROW(102:102))),\"\")","v":"__DB_14__D_N"},{"$f":"IF(AF114=\"\",\"\",IF(COUNTIF(CurrentListing,AF114)>1,AJ114,\"\"))","v":""},{"$f":"IF(LEN(AF114)=0,\"\",IF(ISNA(MATCH(AF114,MasterListing,0)),AJ114,\"\"))","v":""},null,"__DB____Y","","DBY","__DB____Y",1,"______",null,null,null,null,{"$f":"IF(ISNUMBER(SEARCH($F$6,AP113)),MAX($AO$11:AO112)+1,0)","v":102},0,{"$f":"ROWS($AQ$12:AQ113)","v":102},{"$f":"IFERROR(VLOOKUP(ROWS($AR$12:AR113),$AO$12:$AP$3014,2,0),\"\")","v":0}]
[null,null,null,null,null,null,null,null,null,null,null,null,null,null,null,null,null,null,null,null,null,null,null,null,null,null,{"$f":"IFERROR(INDEX($AE$13:$AE$1003, SMALL(IF(ISBLANK($AE$13:$AE$1003)+ISERROR($AE$13:$AE$1003)+LEN($AE$13:$AE$1003)=0, \"\", ROW($AE$13:$AE$1003)-MIN(ROW($AE$13:$AE$1003))+1), ROW(103:103))),\"\")","v":"__DB_14__DROPOUT_N"},{"$f":"IF(AF115=\"\",\"\",IF(COUNTIF(CurrentListing,AF115)>1,AJ115,\"\"))","v":""},{"$f":"IF(LEN(AF115)=0,\"\",IF(ISNA(MATCH(AF115,MasterListing,0)),AJ115,\"\"))","v":""},null,"__DB_14__D_N","","DB14DN","__DB_14__D_N",1,"______",null,null,null,null,{"$f":"IF(ISNUMBER(SEARCH($F$6,AP114)),MAX($AO$11:AO113)+1,0)","v":103},0,{"$f":"ROWS($AQ$12:AQ114)","v":103},{"$f":"IFERROR(VLOOKUP(ROWS($AR$12:AR114),$AO$12:$AP$3014,2,0),\"\")","v":0}]
[null,null,null,null,null,null,null,null,null,null,null,null,null,null,null,null,null,null,null,null,null,null,null,null,null,null,{"$f":"IFERROR(INDEX($AE$13:$AE$1003, SMALL(IF(ISBLANK($AE$13:$AE$1003)+ISERROR($AE$13:$AE$1003)+LEN($AE$13:$AE$1003)=0, \"\", ROW($AE$13:$AE$1003)-MIN(ROW($AE$13:$AE$1003))+1), ROW(104:104))),\"\")","v":"__DB_14__GHS_N"},{"$f":"IF(AF116=\"\",\"\",IF(COUNTIF(CurrentListing,AF116)>1,AJ116,\"\"))","v":""},{"$f":"IF(LEN(AF116)=0,\"\",IF(ISNA(MATCH(AF116,MasterListing,0)),AJ116,\"\"))","v":""},null,"__DB_14__DROPOUT_N","","DB14DROPOUTN","__DB_14__DROPOUT_N",1,"______",null,null,null,null,{"$f":"IF(ISNUMBER(SEARCH($F$6,AP115)),MAX($AO$11:AO114)+1,0)","v":104},0,{"$f":"ROWS($AQ$12:AQ115)","v":104},{"$f":"IFERROR(VLOOKUP(ROWS($AR$12:AR115),$AO$12:$AP$3014,2,0),\"\")","v":0}]
[null,null,null,null,null,null,null,null,null,null,null,null,null,null,null,null,null,null,null,null,null,null,null,null,null,null,{"$f":"IFERROR(INDEX($AE$13:$AE$1003, SMALL(IF(ISBLANK($AE$13:$AE$1003)+ISERROR($AE$13:$AE$1003)+LEN($AE$13:$AE$1003)=0, \"\", ROW($AE$13:$AE$1003)-MIN(ROW($AE$13:$AE$1003))+1), ROW(105:105))),\"\")","v":"__DB_14__GRADALTDPL_N"},{"$f":"IF(AF117=\"\",\"\",IF(COUNTIF(CurrentListing,AF117)>1,AJ117,\"\"))","v":""},{"$f":"IF(LEN(AF117)=0,\"\",IF(ISNA(MATCH(AF117,MasterListing,0)),AJ117,\"\"))","v":""},null,"__DB_14__GHS_N","","DB14GHSN","__DB_14__GHS_N",1,"______",null,null,null,null,{"$f":"IF(ISNUMBER(SEARCH($F$6,AP116)),MAX($AO$11:AO115)+1,0)","v":105},0,{"$f":"ROWS($AQ$12:AQ116)","v":105},{"$f":"IFERROR(VLOOKUP(ROWS($AR$12:AR116),$AO$12:$AP$3014,2,0),\"\")","v":0}]
[null,null,null,null,null,null,null,null,null,null,null,null,null,null,null,null,null,null,null,null,null,null,null,null,null,null,{"$f":"IFERROR(INDEX($AE$13:$AE$1003, SMALL(IF(ISBLANK($AE$13:$AE$1003)+ISERROR($AE$13:$AE$1003)+LEN($AE$13:$AE$1003)=0, \"\", ROW($AE$13:$AE$1003)-MIN(ROW($AE$13:$AE$1003))+1), ROW(106:106))),\"\")","v":"__DB_14__MKC_N"},{"$f":"IF(AF118=\"\",\"\",IF(COUNTIF(CurrentListing,AF118)>1,AJ118,\"\"))","v":""},{"$f":"IF(LEN(AF118)=0,\"\",IF(ISNA(MATCH(AF118,MasterListing,0)),AJ118,\"\"))","v":""},null,"__DB_14__GRADALTDPL_N","","DB14GRADALTDPLN","__DB_14__GRADALTDPL_N",1,"______",null,null,null,null,{"$f":"IF(ISNUMBER(SEARCH($F$6,AP117)),MAX($AO$11:AO116)+1,0)","v":106},0,{"$f":"ROWS($AQ$12:AQ117)","v":106},{"$f":"IFERROR(VLOOKUP(ROWS($AR$12:AR117),$AO$12:$AP$3014,2,0),\"\")","v":0}]
[null,null,null,null,null,null,null,null,null,null,null,null,null,null,null,null,null,null,null,null,null,null,null,null,null,null,{"$f":"IFERROR(INDEX($AE$13:$AE$1003, SMALL(IF(ISBLANK($AE$13:$AE$1003)+ISERROR($AE$13:$AE$1003)+LEN($AE$13:$AE$1003)=0, \"\", ROW($AE$13:$AE$1003)-MIN(ROW($AE$13:$AE$1003))+1), ROW(107:107))),\"\")","v":"__DB_14__RC_N"},{"$f":"IF(AF119=\"\",\"\",IF(COUNTIF(CurrentListing,AF119)>1,AJ119,\"\"))","v":""},{"$f":"IF(LEN(AF119)=0,\"\",IF(ISNA(MATCH(AF119,MasterListing,0)),AJ119,\"\"))","v":""},null,"__DB_14__MKC_N","","DB14MKCN","__DB_14__MKC_N",1,"______",null,null,null,null,{"$f":"IF(ISNUMBER(SEARCH($F$6,AP118)),MAX($AO$11:AO117)+1,0)","v":107},0,{"$f":"ROWS($AQ$12:AQ118)","v":107},{"$f":"IFERROR(VLOOKUP(ROWS($AR$12:AR118),$AO$12:$AP$3014,2,0),\"\")","v":0}]
[null,null,null,null,null,null,null,null,null,null,null,null,null,null,null,null,null,null,null,null,null,null,null,null,null,null,{"$f":"IFERROR(INDEX($AE$13:$AE$1003, SMALL(IF(ISBLANK($AE$13:$AE$1003)+ISERROR($AE$13:$AE$1003)+LEN($AE$13:$AE$1003)=0, \"\", ROW($AE$13:$AE$1003)-MIN(ROW($AE$13:$AE$1003))+1), ROW(108:108))),\"\")","v":"__DB_14__RMA_N"},{"$f":"IF(AF120=\"\",\"\",IF(COUNTIF(CurrentListing,AF120)>1,AJ120,\"\"))","v":""},{"$f":"IF(LEN(AF120)=0,\"\",IF(ISNA(MATCH(AF120,MasterListing,0)),AJ120,\"\"))","v":""},null,"__DB_14__RC_N","","DB14RCN","__DB_14__RC_N",1,"______",null,null,null,null,{"$f":"IF(ISNUMBER(SEARCH($F$6,AP119)),MAX($AO$11:AO118)+1,0)","v":108},0,{"$f":"ROWS($AQ$12:AQ119)","v":108},{"$f":"IFERROR(VLOOKUP(ROWS($AR$12:AR119),$AO$12:$AP$3014,2,0),\"\")","v":0}]
[null,null,null,null,null,null,null,null,null,null,null,null,null,null,null,null,null,null,null,null,null,null,null,null,null,null,{"$f":"IFERROR(INDEX($AE$13:$AE$1003, SMALL(IF(ISBLANK($AE$13:$AE$1003)+ISERROR($AE$13:$AE$1003)+LEN($AE$13:$AE$1003)=0, \"\", ROW($AE$13:$AE$1003)-MIN(ROW($AE$13:$AE$1003))+1), ROW(109:109))),\"\")","v":"__DB_14__TRAN_N"},{"$f":"IF(AF121=\"\",\"\",IF(COUNTIF(CurrentListing,AF121)>1,AJ121,\"\"))","v":""},{"$f":"IF(LEN(AF121)=0,\"\",IF(ISNA(MATCH(AF121,MasterListing,0)),AJ121,\"\"))","v":""},null,"__DB_14__RMA_N","","DB14RMAN","__DB_14__RMA_N",1,"______",null,null,null,null,{"$f":"IF(ISNUMBER(SEARCH($F$6,AP120)),MAX($AO$11:AO119)+1,0)","v":109},0,{"$f":"ROWS($AQ$12:AQ120)","v":109},{"$f":"IFERROR(VLOOKUP(ROWS($AR$12:AR120),$AO$12:$AP$3014,2,0),\"\")","v":0}]
[null,null,null,null,null,null,null,null,null,null,null,null,null,null,null,null,null,null,null,null,null,null,null,null,null,null,{"$f":"IFERROR(INDEX($AE$13:$AE$1003, SMALL(IF(ISBLANK($AE$13:$AE$1003)+ISERROR($AE$13:$AE$1003)+LEN($AE$13:$AE$1003)=0, \"\", ROW($AE$13:$AE$1003)-MIN(ROW($AE$13:$AE$1003))+1), ROW(110:110))),\"\")","v":"__DB_15__D_N"},{"$f":"IF(AF122=\"\",\"\",IF(COUNTIF(CurrentListing,AF122)>1,AJ122,\"\"))","v":""},{"$f":"IF(LEN(AF122)=0,\"\",IF(ISNA(MATCH(AF122,MasterListing,0)),AJ122,\"\"))","v":""},null,"__DB_14__TRAN_N","","DB14TRANN","__DB_14__TRAN_N",1,"______",null,null,null,null,{"$f":"IF(ISNUMBER(SEARCH($F$6,AP121)),MAX($AO$11:AO120)+1,0)","v":110},0,{"$f":"ROWS($AQ$12:AQ121)","v":110},{"$f":"IFERROR(VLOOKUP(ROWS($AR$12:AR121),$AO$12:$AP$3014,2,0),\"\")","v":0}]
[null,null,null,null,null,null,null,null,null,null,null,null,null,null,null,null,null,null,null,null,null,null,null,null,null,null,{"$f":"IFERROR(INDEX($AE$13:$AE$1003, SMALL(IF(ISBLANK($AE$13:$AE$1003)+ISERROR($AE$13:$AE$1003)+LEN($AE$13:$AE$1003)=0, \"\", ROW($AE$13:$AE$1003)-MIN(ROW($AE$13:$AE$1003))+1), ROW(111:111))),\"\")","v":"__DB_15__DROPOUT_N"},{"$f":"IF(AF123=\"\",\"\",IF(COUNTIF(CurrentListing,AF123)>1,AJ123,\"\"))","v":""},{"$f":"IF(LEN(AF123)=0,\"\",IF(ISNA(MATCH(AF123,MasterListing,0)),AJ123,\"\"))","v":""},null,"__DB_15__D_N","","DB15DN","__DB_15__D_N",1,"______",null,null,null,null,{"$f":"IF(ISNUMBER(SEARCH($F$6,AP122)),MAX($AO$11:AO121)+1,0)","v":111},0,{"$f":"ROWS($AQ$12:AQ122)","v":111},{"$f":"IFERROR(VLOOKUP(ROWS($AR$12:AR122),$AO$12:$AP$3014,2,0),\"\")","v":0}]
[null,null,null,null,null,null,null,null,null,null,null,null,null,null,null,null,null,null,null,null,null,null,null,null,null,null,{"$f":"IFERROR(INDEX($AE$13:$AE$1003, SMALL(IF(ISBLANK($AE$13:$AE$1003)+ISERROR($AE$13:$AE$1003)+LEN($AE$13:$AE$1003)=0, \"\", ROW($AE$13:$AE$1003)-MIN(ROW($AE$13:$AE$1003))+1), ROW(112:112))),\"\")","v":"__DB_15__GHS_N"},{"$f":"IF(AF124=\"\",\"\",IF(COUNTIF(CurrentListing,AF124)>1,AJ124,\"\"))","v":""},{"$f":"IF(LEN(AF124)=0,\"\",IF(ISNA(MATCH(AF124,MasterListing,0)),AJ124,\"\"))","v":""},null,"__DB_15__DROPOUT_N","","DB15DROPOUTN","__DB_15__DROPOUT_N",1,"______",null,null,null,null,{"$f":"IF(ISNUMBER(SEARCH($F$6,AP123)),MAX($AO$11:AO122)+1,0)","v":112},0,{"$f":"ROWS($AQ$12:AQ123)","v":112},{"$f":"IFERROR(VLOOKUP(ROWS($AR$12:AR123),$AO$12:$AP$3014,2,0),\"\")","v":0}]
[null,null,null,null,null,null,null,null,null,null,null,null,null,null,null,null,null,null,null,null,null,null,null,null,null,null,{"$f":"IFERROR(INDEX($AE$13:$AE$1003, SMALL(IF(ISBLANK($AE$13:$AE$1003)+ISERROR($AE$13:$AE$1003)+LEN($AE$13:$AE$1003)=0, \"\", ROW($AE$13:$AE$1003)-MIN(ROW($AE$13:$AE$1003))+1), ROW(113:113))),\"\")","v":"__DB_15__GRADALTDPL_N"},{"$f":"IF(AF125=\"\",\"\",IF(COUNTIF(CurrentListing,AF125)>1,AJ125,\"\"))","v":""},{"$f":"IF(LEN(AF125)=0,\"\",IF(ISNA(MATCH(AF125,MasterListing,0)),AJ125,\"\"))","v":""},null,"__DB_15__GHS_N","","DB15GHSN","__DB_15__GHS_N",1,"______",null,null,null,null,{"$f":"IF(ISNUMBER(SEARCH($F$6,AP124)),MAX($AO$11:AO123)+1,0)","v":113},0,{"$f":"ROWS($AQ$12:AQ124)","v":113},{"$f":"IFERROR(VLOOKUP(ROWS($AR$12:AR124),$AO$12:$AP$3014,2,0),\"\")","v":0}]
[null,null,null,null,null,null,null,null,null,null,null,null,null,null,null,null,null,null,null,null,null,null,null,null,null,null,{"$f":"IFERROR(INDEX($AE$13:$AE$1003, SMALL(IF(ISBLANK($AE$13:$AE$1003)+ISERROR($AE$13:$AE$1003)+LEN($AE$13:$AE$1003)=0, \"\", ROW($AE$13:$AE$1003)-MIN(ROW($AE$13:$AE$1003))+1), ROW(114:114))),\"\")","v":"__DB_15__MKC_N"},{"$f":"IF(AF126=\"\",\"\",IF(COUNTIF(CurrentListing,AF126)>1,AJ126,\"\"))","v":""},{"$f":"IF(LEN(AF126)=0,\"\",IF(ISNA(MATCH(AF126,MasterListing,0)),AJ126,\"\"))","v":""},null,"__DB_15__GRADALTDPL_N","","DB15GRADALTDPLN","__DB_15__GRADALTDPL_N",1,"______",null,null,null,null,{"$f":"IF(ISNUMBER(SEARCH($F$6,AP125)),MAX($AO$11:AO124)+1,0)","v":114},0,{"$f":"ROWS($AQ$12:AQ125)","v":114},{"$f":"IFERROR(VLOOKUP(ROWS($AR$12:AR125),$AO$12:$AP$3014,2,0),\"\")","v":0}]
[null,null,null,null,null,null,null,null,null,null,null,null,null,null,null,null,null,null,null,null,null,null,null,null,null,null,{"$f":"IFERROR(INDEX($AE$13:$AE$1003, SMALL(IF(ISBLANK($AE$13:$AE$1003)+ISERROR($AE$13:$AE$1003)+LEN($AE$13:$AE$1003)=0, \"\", ROW($AE$13:$AE$1003)-MIN(ROW($AE$13:$AE$1003))+1), ROW(115:115))),\"\")","v":"__DB_15__RC_N"},{"$f":"IF(AF127=\"\",\"\",IF(COUNTIF(CurrentListing,AF127)>1,AJ127,\"\"))","v":""},{"$f":"IF(LEN(AF127)=0,\"\",IF(ISNA(MATCH(AF127,MasterListing,0)),AJ127,\"\"))","v":""},null,"__DB_15__MKC_N","","DB15MKCN","__DB_15__MKC_N",1,"______",null,null,null,null,{"$f":"IF(ISNUMBER(SEARCH($F$6,AP126)),MAX($AO$11:AO125)+1,0)","v":115},0,{"$f":"ROWS($AQ$12:AQ126)","v":115},{"$f":"IFERROR(VLOOKUP(ROWS($AR$12:AR126),$AO$12:$AP$3014,2,0),\"\")","v":0}]
[null,null,null,null,null,null,null,null,null,null,null,null,null,null,null,null,null,null,null,null,null,null,null,null,null,null,{"$f":"IFERROR(INDEX($AE$13:$AE$1003, SMALL(IF(ISBLANK($AE$13:$AE$1003)+ISERROR($AE$13:$AE$1003)+LEN($AE$13:$AE$1003)=0, \"\", ROW($AE$13:$AE$1003)-MIN(ROW($AE$13:$AE$1003))+1), ROW(116:116))),\"\")","v":"__DB_15__RMA_N"},{"$f":"IF(AF128=\"\",\"\",IF(COUNTIF(CurrentListing,AF128)>1,AJ128,\"\"))","v":""},{"$f":"IF(LEN(AF128)=0,\"\",IF(ISNA(MATCH(AF128,MasterListing,0)),AJ128,\"\"))","v":""},null,"__DB_15__RC_N","","DB15RCN","__DB_15__RC_N",1,"______",null,null,null,null,{"$f":"IF(ISNUMBER(SEARCH($F$6,AP127)),MAX($AO$11:AO126)+1,0)","v":116},0,{"$f":"ROWS($AQ$12:AQ127)","v":116},{"$f":"IFERROR(VLOOKUP(ROWS($AR$12:AR127),$AO$12:$AP$3014,2,0),\"\")","v":0}]
[null,null,null,null,null,null,null,null,null,null,null,null,null,null,null,null,null,null,null,null,null,null,null,null,null,null,{"$f":"IFERROR(INDEX($AE$13:$AE$1003, SMALL(IF(ISBLANK($AE$13:$AE$1003)+ISERROR($AE$13:$AE$1003)+LEN($AE$13:$AE$1003)=0, \"\", ROW($AE$13:$AE$1003)-MIN(ROW($AE$13:$AE$1003))+1), ROW(117:117))),\"\")","v":"__DB_15__TRAN_N"},{"$f":"IF(AF129=\"\",\"\",IF(COUNTIF(CurrentListing,AF129)>1,AJ129,\"\"))","v":""},{"$f":"IF(LEN(AF129)=0,\"\",IF(ISNA(MATCH(AF129,MasterListing,0)),AJ129,\"\"))","v":""},null,"__DB_15__RMA_N","","DB15RMAN","__DB_15__RMA_N",1,"______",null,null,null,null,{"$f":"IF(ISNUMBER(SEARCH($F$6,AP128)),MAX($AO$11:AO127)+1,0)","v":117},0,{"$f":"ROWS($AQ$12:AQ128)","v":117},{"$f":"IFERROR(VLOOKUP(ROWS($AR$12:AR128),$AO$12:$AP$3014,2,0),\"\")","v":0}]
[null,null,null,null,null,null,null,null,null,null,null,null,null,null,null,null,null,null,null,null,null,null,null,null,null,null,{"$f":"IFERROR(INDEX($AE$13:$AE$1003, SMALL(IF(ISBLANK($AE$13:$AE$1003)+ISERROR($AE$13:$AE$1003)+LEN($AE$13:$AE$1003)=0, \"\", ROW($AE$13:$AE$1003)-MIN(ROW($AE$13:$AE$1003))+1), ROW(118:118))),\"\")","v":"__DB_16__D_N"},{"$f":"IF(AF130=\"\",\"\",IF(COUNTIF(CurrentListing,AF130)>1,AJ130,\"\"))","v":""},{"$f":"IF(LEN(AF130)=0,\"\",IF(ISNA(MATCH(AF130,MasterListing,0)),AJ130,\"\"))","v":""},null,"__DB_15__TRAN_N","","DB15TRANN","__DB_15__TRAN_N",1,"______",null,null,null,null,{"$f":"IF(ISNUMBER(SEARCH($F$6,AP129)),MAX($AO$11:AO128)+1,0)","v":118},0,{"$f":"ROWS($AQ$12:AQ129)","v":118},{"$f":"IFERROR(VLOOKUP(ROWS($AR$12:AR129),$AO$12:$AP$3014,2,0),\"\")","v":0}]
[null,null,null,null,null,null,null,null,null,null,null,null,null,null,null,null,null,null,null,null,null,null,null,null,null,null,{"$f":"IFERROR(INDEX($AE$13:$AE$1003, SMALL(IF(ISBLANK($AE$13:$AE$1003)+ISERROR($AE$13:$AE$1003)+LEN($AE$13:$AE$1003)=0, \"\", ROW($AE$13:$AE$1003)-MIN(ROW($AE$13:$AE$1003))+1), ROW(119:119))),\"\")","v":"__DB_16__DROPOUT_N"},{"$f":"IF(AF131=\"\",\"\",IF(COUNTIF(CurrentListing,AF131)>1,AJ131,\"\"))","v":""},{"$f":"IF(LEN(AF131)=0,\"\",IF(ISNA(MATCH(AF131,MasterListing,0)),AJ131,\"\"))","v":""},null,"__DB_16__D_N","","DB16DN","__DB_16__D_N",1,"______",null,null,null,null,{"$f":"IF(ISNUMBER(SEARCH($F$6,AP130)),MAX($AO$11:AO129)+1,0)","v":119},0,{"$f":"ROWS($AQ$12:AQ130)","v":119},{"$f":"IFERROR(VLOOKUP(ROWS($AR$12:AR130),$AO$12:$AP$3014,2,0),\"\")","v":0}]
[null,null,null,null,null,null,null,null,null,null,null,null,null,null,null,null,null,null,null,null,null,null,null,null,null,null,{"$f":"IFERROR(INDEX($AE$13:$AE$1003, SMALL(IF(ISBLANK($AE$13:$AE$1003)+ISERROR($AE$13:$AE$1003)+LEN($AE$13:$AE$1003)=0, \"\", ROW($AE$13:$AE$1003)-MIN(ROW($AE$13:$AE$1003))+1), ROW(120:120))),\"\")","v":"__DB_16__GHS_N"},{"$f":"IF(AF132=\"\",\"\",IF(COUNTIF(CurrentListing,AF132)>1,AJ132,\"\"))","v":""},{"$f":"IF(LEN(AF132)=0,\"\",IF(ISNA(MATCH(AF132,MasterListing,0)),AJ132,\"\"))","v":""},null,"__DB_16__DROPOUT_N","","DB16DROPOUTN","__DB_16__DROPOUT_N",1,"______",null,null,null,null,{"$f":"IF(ISNUMBER(SEARCH($F$6,AP131)),MAX($AO$11:AO130)+1,0)","v":120},0,{"$f":"ROWS($AQ$12:AQ131)","v":120},{"$f":"IFERROR(VLOOKUP(ROWS($AR$12:AR131),$AO$12:$AP$3014,2,0),\"\")","v":0}]
[null,null,null,null,null,null,null,null,null,null,null,null,null,null,null,null,null,null,null,null,null,null,null,null,null,null,{"$f":"IFERROR(INDEX($AE$13:$AE$1003, SMALL(IF(ISBLANK($AE$13:$AE$1003)+ISERROR($AE$13:$AE$1003)+LEN($AE$13:$AE$1003)=0, \"\", ROW($AE$13:$AE$1003)-MIN(ROW($AE$13:$AE$1003))+1), ROW(121:121))),\"\")","v":"__DB_16__GRADALTDPL_N"},{"$f":"IF(AF133=\"\",\"\",IF(COUNTIF(CurrentListing,AF133)>1,AJ133,\"\"))","v":""},{"$f":"IF(LEN(AF133)=0,\"\",IF(ISNA(MATCH(AF133,MasterListing,0)),AJ133,\"\"))","v":""},null,"__DB_16__GHS_N","","DB16GHSN","__DB_16__GHS_N",1,"______",null,null,null,null,{"$f":"IF(ISNUMBER(SEARCH($F$6,AP132)),MAX($AO$11:AO131)+1,0)","v":121},0,{"$f":"ROWS($AQ$12:AQ132)","v":121},{"$f":"IFERROR(VLOOKUP(ROWS($AR$12:AR132),$AO$12:$AP$3014,2,0),\"\")","v":0}]
[null,null,null,null,null,null,null,null,null,null,null,null,null,null,null,null,null,null,null,null,null,null,null,null,null,null,{"$f":"IFERROR(INDEX($AE$13:$AE$1003, SMALL(IF(ISBLANK($AE$13:$AE$1003)+ISERROR($AE$13:$AE$1003)+LEN($AE$13:$AE$1003)=0, \"\", ROW($AE$13:$AE$1003)-MIN(ROW($AE$13:$AE$1003))+1), ROW(122:122))),\"\")","v":"__DB_16__MKC_N"},{"$f":"IF(AF134=\"\",\"\",IF(COUNTIF(CurrentListing,AF134)>1,AJ134,\"\"))","v":""},{"$f":"IF(LEN(AF134)=0,\"\",IF(ISNA(MATCH(AF134,MasterListing,0)),AJ134,\"\"))","v":""},null,"__DB_16__GRADALTDPL_N","","DB16GRADALTDPLN","__DB_16__GRADALTDPL_N",1,"______",null,null,null,null,{"$f":"IF(ISNUMBER(SEARCH($F$6,AP133)),MAX($AO$11:AO132)+1,0)","v":122},0,{"$f":"ROWS($AQ$12:AQ133)","v":122},{"$f":"IFERROR(VLOOKUP(ROWS($AR$12:AR133),$AO$12:$AP$3014,2,0),\"\")","v":0}]
[null,null,null,null,null,null,null,null,null,null,null,null,null,null,null,null,null,null,null,null,null,null,null,null,null,null,{"$f":"IFERROR(INDEX($AE$13:$AE$1003, SMALL(IF(ISBLANK($AE$13:$AE$1003)+ISERROR($AE$13:$AE$1003)+LEN($AE$13:$AE$1003)=0, \"\", ROW($AE$13:$AE$1003)-MIN(ROW($AE$13:$AE$1003))+1), ROW(123:123))),\"\")","v":"__DB_16__RC_N"},{"$f":"IF(AF135=\"\",\"\",IF(COUNTIF(CurrentListing,AF135)>1,AJ135,\"\"))","v":""},{"$f":"IF(LEN(AF135)=0,\"\",IF(ISNA(MATCH(AF135,MasterListing,0)),AJ135,\"\"))","v":""},null,"__DB_16__MKC_N","","DB16MKCN","__DB_16__MKC_N",1,"______",null,null,null,null,{"$f":"IF(ISNUMBER(SEARCH($F$6,AP134)),MAX($AO$11:AO133)+1,0)","v":123},0,{"$f":"ROWS($AQ$12:AQ134)","v":123},{"$f":"IFERROR(VLOOKUP(ROWS($AR$12:AR134),$AO$12:$AP$3014,2,0),\"\")","v":0}]
[null,null,null,null,null,null,null,null,null,null,null,null,null,null,null,null,null,null,null,null,null,null,null,null,null,null,{"$f":"IFERROR(INDEX($AE$13:$AE$1003, SMALL(IF(ISBLANK($AE$13:$AE$1003)+ISERROR($AE$13:$AE$1003)+LEN($AE$13:$AE$1003)=0, \"\", ROW($AE$13:$AE$1003)-MIN(ROW($AE$13:$AE$1003))+1), ROW(124:124))),\"\")","v":"__DB_16__RMA_N"},{"$f":"IF(AF136=\"\",\"\",IF(COUNTIF(CurrentListing,AF136)>1,AJ136,\"\"))","v":""},{"$f":"IF(LEN(AF136)=0,\"\",IF(ISNA(MATCH(AF136,MasterListing,0)),AJ136,\"\"))","v":""},null,"__DB_16__RC_N","","DB16RCN","__DB_16__RC_N",1,"______",null,null,null,null,{"$f":"IF(ISNUMBER(SEARCH($F$6,AP135)),MAX($AO$11:AO134)+1,0)","v":124},0,{"$f":"ROWS($AQ$12:AQ135)","v":124},{"$f":"IFERROR(VLOOKUP(ROWS($AR$12:AR135),$AO$12:$AP$3014,2,0),\"\")","v":0}]
[null,null,null,null,null,null,null,null,null,null,null,null,null,null,null,null,null,null,null,null,null,null,null,null,null,null,{"$f":"IFERROR(INDEX($AE$13:$AE$1003, SMALL(IF(ISBLANK($AE$13:$AE$1003)+ISERROR($AE$13:$AE$1003)+LEN($AE$13:$AE$1003)=0, \"\", ROW($AE$13:$AE$1003)-MIN(ROW($AE$13:$AE$1003))+1), ROW(125:125))),\"\")","v":"__DB_16__TRAN_N"},{"$f":"IF(AF137=\"\",\"\",IF(COUNTIF(CurrentListing,AF137)>1,AJ137,\"\"))","v":""},{"$f":"IF(LEN(AF137)=0,\"\",IF(ISNA(MATCH(AF137,MasterListing,0)),AJ137,\"\"))","v":""},null,"__DB_16__RMA_N","","DB16RMAN","__DB_16__RMA_N",1,"______",null,null,null,null,{"$f":"IF(ISNUMBER(SEARCH($F$6,AP136)),MAX($AO$11:AO135)+1,0)","v":125},0,{"$f":"ROWS($AQ$12:AQ136)","v":125},{"$f":"IFERROR(VLOOKUP(ROWS($AR$12:AR136),$AO$12:$AP$3014,2,0),\"\")","v":0}]
[null,null,null,null,null,null,null,null,null,null,null,null,null,null,null,null,null,null,null,null,null,null,null,null,null,null,{"$f":"IFERROR(INDEX($AE$13:$AE$1003, SMALL(IF(ISBLANK($AE$13:$AE$1003)+ISERROR($AE$13:$AE$1003)+LEN($AE$13:$AE$1003)=0, \"\", ROW($AE$13:$AE$1003)-MIN(ROW($AE$13:$AE$1003))+1), ROW(126:126))),\"\")","v":"__DB_17__D_N"},{"$f":"IF(AF138=\"\",\"\",IF(COUNTIF(CurrentListing,AF138)>1,AJ138,\"\"))","v":""},{"$f":"IF(LEN(AF138)=0,\"\",IF(ISNA(MATCH(AF138,MasterListing,0)),AJ138,\"\"))","v":""},null,"__DB_16__TRAN_N","","DB16TRANN","__DB_16__TRAN_N",1,"______",null,null,null,null,{"$f":"IF(ISNUMBER(SEARCH($F$6,AP137)),MAX($AO$11:AO136)+1,0)","v":126},0,{"$f":"ROWS($AQ$12:AQ137)","v":126},{"$f":"IFERROR(VLOOKUP(ROWS($AR$12:AR137),$AO$12:$AP$3014,2,0),\"\")","v":0}]
[null,null,null,null,null,null,null,null,null,null,null,null,null,null,null,null,null,null,null,null,null,null,null,null,null,null,{"$f":"IFERROR(INDEX($AE$13:$AE$1003, SMALL(IF(ISBLANK($AE$13:$AE$1003)+ISERROR($AE$13:$AE$1003)+LEN($AE$13:$AE$1003)=0, \"\", ROW($AE$13:$AE$1003)-MIN(ROW($AE$13:$AE$1003))+1), ROW(127:127))),\"\")","v":"__DB_17__DROPOUT_N"},{"$f":"IF(AF139=\"\",\"\",IF(COUNTIF(CurrentListing,AF139)>1,AJ139,\"\"))","v":""},{"$f":"IF(LEN(AF139)=0,\"\",IF(ISNA(MATCH(AF139,MasterListing,0)),AJ139,\"\"))","v":""},null,"__DB_17__D_N","","DB17DN","__DB_17__D_N",1,"______",null,null,null,null,{"$f":"IF(ISNUMBER(SEARCH($F$6,AP138)),MAX($AO$11:AO137)+1,0)","v":127},0,{"$f":"ROWS($AQ$12:AQ138)","v":127},{"$f":"IFERROR(VLOOKUP(ROWS($AR$12:AR138),$AO$12:$AP$3014,2,0),\"\")","v":0}]
[null,null,null,null,null,null,null,null,null,null,null,null,null,null,null,null,null,null,null,null,null,null,null,null,null,null,{"$f":"IFERROR(INDEX($AE$13:$AE$1003, SMALL(IF(ISBLANK($AE$13:$AE$1003)+ISERROR($AE$13:$AE$1003)+LEN($AE$13:$AE$1003)=0, \"\", ROW($AE$13:$AE$1003)-MIN(ROW($AE$13:$AE$1003))+1), ROW(128:128))),\"\")","v":"__DB_17__GHS_N"},{"$f":"IF(AF140=\"\",\"\",IF(COUNTIF(CurrentListing,AF140)>1,AJ140,\"\"))","v":""},{"$f":"IF(LEN(AF140)=0,\"\",IF(ISNA(MATCH(AF140,MasterListing,0)),AJ140,\"\"))","v":""},null,"__DB_17__DROPOUT_N","","DB17DROPOUTN","__DB_17__DROPOUT_N",1,"______",null,null,null,null,{"$f":"IF(ISNUMBER(SEARCH($F$6,AP139)),MAX($AO$11:AO138)+1,0)","v":128},0,{"$f":"ROWS($AQ$12:AQ139)","v":128},{"$f":"IFERROR(VLOOKUP(ROWS($AR$12:AR139),$AO$12:$AP$3014,2,0),\"\")","v":0}]
[null,null,null,null,null,null,null,null,null,null,null,null,null,null,null,null,null,null,null,null,null,null,null,null,null,null,{"$f":"IFERROR(INDEX($AE$13:$AE$1003, SMALL(IF(ISBLANK($AE$13:$AE$1003)+ISERROR($AE$13:$AE$1003)+LEN($AE$13:$AE$1003)=0, \"\", ROW($AE$13:$AE$1003)-MIN(ROW($AE$13:$AE$1003))+1), ROW(129:129))),\"\")","v":"__DB_17__GRADALTDPL_N"},{"$f":"IF(AF141=\"\",\"\",IF(COUNTIF(CurrentListing,AF141)>1,AJ141,\"\"))","v":""},{"$f":"IF(LEN(AF141)=0,\"\",IF(ISNA(MATCH(AF141,MasterListing,0)),AJ141,\"\"))","v":""},null,{"$f":"IF(LEN(AG140)=0,\"\",IF(ISNA(MATCH(AG140,CurrentListing,0)),AH140,\"\"))","v":"__DB_17__GHS_N"},"","DB17GHSN","__DB_17__GHS_N",1,"______",null,null,null,null,{"$f":"IF(ISNUMBER(SEARCH($F$6,AP140)),MAX($AO$11:AO139)+1,0)","v":129},0,{"$f":"ROWS($AQ$12:AQ140)","v":129},{"$f":"IFERROR(VLOOKUP(ROWS($AR$12:AR140),$AO$12:$AP$3014,2,0),\"\")","v":0}]
[null,null,null,null,null,null,null,null,null,null,null,null,null,null,null,null,null,null,null,null,null,null,null,null,null,null,{"$f":"IFERROR(INDEX($AE$13:$AE$1003, SMALL(IF(ISBLANK($AE$13:$AE$1003)+ISERROR($AE$13:$AE$1003)+LEN($AE$13:$AE$1003)=0, \"\", ROW($AE$13:$AE$1003)-MIN(ROW($AE$13:$AE$1003))+1), ROW(130:130))),\"\")","v":"__DB_17__MKC_N"},{"$f":"IF(AF142=\"\",\"\",IF(COUNTIF(CurrentListing,AF142)>1,AJ142,\"\"))","v":""},{"$f":"IF(LEN(AF142)=0,\"\",IF(ISNA(MATCH(AF142,MasterListing,0)),AJ142,\"\"))","v":""},null,"__DB_17__GRADALTDPL_N",{"$f":"H141&I141&P141&Q141&R141&V141&W141","v":""},"DB17GRADALTDPLN","__DB_17__GRADALTDPL_N",1,"______",null,null,null,null,{"$f":"IF(ISNUMBER(SEARCH($F$6,AP141)),MAX($AO$11:AO140)+1,0)","v":130},0,{"$f":"ROWS($AQ$12:AQ141)","v":130},{"$f":"IFERROR(VLOOKUP(ROWS($AR$12:AR141),$AO$12:$AP$3014,2,0),\"\")","v":0}]
[null,null,null,null,null,null,null,null,null,null,null,null,null,null,null,null,null,null,null,null,null,null,null,null,null,null,{"$f":"IFERROR(INDEX($AE$13:$AE$1003, SMALL(IF(ISBLANK($AE$13:$AE$1003)+ISERROR($AE$13:$AE$1003)+LEN($AE$13:$AE$1003)=0, \"\", ROW($AE$13:$AE$1003)-MIN(ROW($AE$13:$AE$1003))+1), ROW(131:131))),\"\")","v":"__DB_17__RC_N"},{"$f":"IF(AF143=\"\",\"\",IF(COUNTIF(CurrentListing,AF143)>1,AJ143,\"\"))","v":""},{"$f":"IF(LEN(AF143)=0,\"\",IF(ISNA(MATCH(AF143,MasterListing,0)),AJ143,\"\"))","v":""},null,"__DB_17__MKC_N","","DB17MKCN","__DB_17__MKC_N",{"$f":"IF(LEN(AA142)>0,1,0)","v":1},{"$f":"H142&\"_\"&I142&\"_\"&P142&\"_\"&Q142&\"_\"&R142&\"_\"&V142&\"_\"&W142","v":"______"},null,null,null,null,{"$f":"IF(ISNUMBER(SEARCH($F$6,AP142)),MAX($AO$11:AO141)+1,0)","v":131},0,{"$f":"ROWS($AQ$12:AQ142)","v":131},{"$f":"IFERROR(VLOOKUP(ROWS($AR$12:AR142),$AO$12:$AP$3014,2,0),\"\")","v":0}]
[null,null,null,null,null,null,null,null,null,null,null,null,null,null,null,null,null,null,null,null,null,null,null,null,null,null,{"$f":"IFERROR(INDEX($AE$13:$AE$1003, SMALL(IF(ISBLANK($AE$13:$AE$1003)+ISERROR($AE$13:$AE$1003)+LEN($AE$13:$AE$1003)=0, \"\", ROW($AE$13:$AE$1003)-MIN(ROW($AE$13:$AE$1003))+1), ROW(132:132))),\"\")","v":"__DB_17__RMA_N"},{"$f":"IF(AF144=\"\",\"\",IF(COUNTIF(CurrentListing,AF144)>1,AJ144,\"\"))","v":""},{"$f":"IF(LEN(AF144)=0,\"\",IF(ISNA(MATCH(AF144,MasterListing,0)),AJ144,\"\"))","v":""},null,"__DB_17__RC_N","","DB17RCN","__DB_17__RC_N",1,"______",null,null,null,null,{"$f":"IF(ISNUMBER(SEARCH($F$6,AP143)),MAX($AO$11:AO142)+1,0)","v":132},0,{"$f":"ROWS($AQ$12:AQ143)","v":132},{"$f":"IFERROR(VLOOKUP(ROWS($AR$12:AR143),$AO$12:$AP$3014,2,0),\"\")","v":0}]
[null,null,null,null,null,null,null,null,null,null,null,null,null,null,null,null,null,null,null,null,null,null,null,null,null,null,{"$f":"IFERROR(INDEX($AE$13:$AE$1003, SMALL(IF(ISBLANK($AE$13:$AE$1003)+ISERROR($AE$13:$AE$1003)+LEN($AE$13:$AE$1003)=0, \"\", ROW($AE$13:$AE$1003)-MIN(ROW($AE$13:$AE$1003))+1), ROW(133:133))),\"\")","v":"__DB_17__TRAN_N"},{"$f":"IF(AF145=\"\",\"\",IF(COUNTIF(CurrentListing,AF145)>1,AJ145,\"\"))","v":""},{"$f":"IF(LEN(AF145)=0,\"\",IF(ISNA(MATCH(AF145,MasterListing,0)),AJ145,\"\"))","v":""},null,"__DB_17__RMA_N","","DB17RMAN","__DB_17__RMA_N",1,"______",null,null,null,null,{"$f":"IF(ISNUMBER(SEARCH($F$6,AP144)),MAX($AO$11:AO143)+1,0)","v":133},0,{"$f":"ROWS($AQ$12:AQ144)","v":133},{"$f":"IFERROR(VLOOKUP(ROWS($AR$12:AR144),$AO$12:$AP$3014,2,0),\"\")","v":0}]
[null,null,null,null,null,null,null,null,null,null,null,null,null,null,null,null,null,null,null,null,null,null,null,null,null,null,{"$f":"IFERROR(INDEX($AE$13:$AE$1003, SMALL(IF(ISBLANK($AE$13:$AE$1003)+ISERROR($AE$13:$AE$1003)+LEN($AE$13:$AE$1003)=0, \"\", ROW($AE$13:$AE$1003)-MIN(ROW($AE$13:$AE$1003))+1), ROW(134:134))),\"\")","v":"__DB_18__D_N"},{"$f":"IF(AF146=\"\",\"\",IF(COUNTIF(CurrentListing,AF146)>1,AJ146,\"\"))","v":""},{"$f":"IF(LEN(AF146)=0,\"\",IF(ISNA(MATCH(AF146,MasterListing,0)),AJ146,\"\"))","v":""},null,"__DB_17__TRAN_N","","DB17TRANN","__DB_17__TRAN_N",1,"______",null,null,null,null,{"$f":"IF(ISNUMBER(SEARCH($F$6,AP145)),MAX($AO$11:AO144)+1,0)","v":134},0,{"$f":"ROWS($AQ$12:AQ145)","v":134},{"$f":"IFERROR(VLOOKUP(ROWS($AR$12:AR145),$AO$12:$AP$3014,2,0),\"\")","v":0}]
[null,null,null,null,null,null,null,null,null,null,null,null,null,null,null,null,null,null,null,null,null,null,null,null,null,null,{"$f":"IFERROR(INDEX($AE$13:$AE$1003, SMALL(IF(ISBLANK($AE$13:$AE$1003)+ISERROR($AE$13:$AE$1003)+LEN($AE$13:$AE$1003)=0, \"\", ROW($AE$13:$AE$1003)-MIN(ROW($AE$13:$AE$1003))+1), ROW(135:135))),\"\")","v":"__DB_18__DROPOUT_N"},{"$f":"IF(AF147=\"\",\"\",IF(COUNTIF(CurrentListing,AF147)>1,AJ147,\"\"))","v":""},{"$f":"IF(LEN(AF147)=0,\"\",IF(ISNA(MATCH(AF147,MasterListing,0)),AJ147,\"\"))","v":""},null,"__DB_18__D_N","","DB18DN","__DB_18__D_N",1,"______",null,null,null,null,{"$f":"IF(ISNUMBER(SEARCH($F$6,AP146)),MAX($AO$11:AO145)+1,0)","v":135},0,{"$f":"ROWS($AQ$12:AQ146)","v":135},{"$f":"IFERROR(VLOOKUP(ROWS($AR$12:AR146),$AO$12:$AP$3014,2,0),\"\")","v":0}]
[null,null,null,null,null,null,null,null,null,null,null,null,null,null,null,null,null,null,null,null,null,null,null,null,null,null,{"$f":"IFERROR(INDEX($AE$13:$AE$1003, SMALL(IF(ISBLANK($AE$13:$AE$1003)+ISERROR($AE$13:$AE$1003)+LEN($AE$13:$AE$1003)=0, \"\", ROW($AE$13:$AE$1003)-MIN(ROW($AE$13:$AE$1003))+1), ROW(136:136))),\"\")","v":"__DB_18__GHS_N"},{"$f":"IF(AF148=\"\",\"\",IF(COUNTIF(CurrentListing,AF148)>1,AJ148,\"\"))","v":""},{"$f":"IF(LEN(AF148)=0,\"\",IF(ISNA(MATCH(AF148,MasterListing,0)),AJ148,\"\"))","v":""},null,"__DB_18__DROPOUT_N","","DB18DROPOUTN","__DB_18__DROPOUT_N",1,"______",null,null,null,null,{"$f":"IF(ISNUMBER(SEARCH($F$6,AP147)),MAX($AO$11:AO146)+1,0)","v":136},0,{"$f":"ROWS($AQ$12:AQ147)","v":136},{"$f":"IFERROR(VLOOKUP(ROWS($AR$12:AR147),$AO$12:$AP$3014,2,0),\"\")","v":0}]
[null,null,null,null,null,null,null,null,null,null,null,null,null,null,null,null,null,null,null,null,null,null,null,null,null,null,{"$f":"IFERROR(INDEX($AE$13:$AE$1003, SMALL(IF(ISBLANK($AE$13:$AE$1003)+ISERROR($AE$13:$AE$1003)+LEN($AE$13:$AE$1003)=0, \"\", ROW($AE$13:$AE$1003)-MIN(ROW($AE$13:$AE$1003))+1), ROW(137:137))),\"\")","v":"__DB_18__GRADALTDPL_N"},{"$f":"IF(AF149=\"\",\"\",IF(COUNTIF(CurrentListing,AF149)>1,AJ149,\"\"))","v":""},{"$f":"IF(LEN(AF149)=0,\"\",IF(ISNA(MATCH(AF149,MasterListing,0)),AJ149,\"\"))","v":""},null,"__DB_18__GHS_N","","DB18GHSN","__DB_18__GHS_N",1,"______",null,null,null,null,{"$f":"IF(ISNUMBER(SEARCH($F$6,AP148)),MAX($AO$11:AO147)+1,0)","v":137},0,{"$f":"ROWS($AQ$12:AQ148)","v":137},{"$f":"IFERROR(VLOOKUP(ROWS($AR$12:AR148),$AO$12:$AP$3014,2,0),\"\")","v":0}]
[null,null,null,null,null,null,null,null,null,null,null,null,null,null,null,null,null,null,null,null,null,null,null,null,null,null,{"$f":"IFERROR(INDEX($AE$13:$AE$1003, SMALL(IF(ISBLANK($AE$13:$AE$1003)+ISERROR($AE$13:$AE$1003)+LEN($AE$13:$AE$1003)=0, \"\", ROW($AE$13:$AE$1003)-MIN(ROW($AE$13:$AE$1003))+1), ROW(138:138))),\"\")","v":"__DB_18__MKC_N"},{"$f":"IF(AF150=\"\",\"\",IF(COUNTIF(CurrentListing,AF150)>1,AJ150,\"\"))","v":""},{"$f":"IF(LEN(AF150)=0,\"\",IF(ISNA(MATCH(AF150,MasterListing,0)),AJ150,\"\"))","v":""},null,"__DB_18__GRADALTDPL_N","","DB18GRADALTDPLN","__DB_18__GRADALTDPL_N",1,"______",null,null,null,null,{"$f":"IF(ISNUMBER(SEARCH($F$6,AP149)),MAX($AO$11:AO148)+1,0)","v":138},0,{"$f":"ROWS($AQ$12:AQ149)","v":138},{"$f":"IFERROR(VLOOKUP(ROWS($AR$12:AR149),$AO$12:$AP$3014,2,0),\"\")","v":0}]
[null,null,null,null,null,null,null,null,null,null,null,null,null,null,null,null,null,null,null,null,null,null,null,null,null,null,{"$f":"IFERROR(INDEX($AE$13:$AE$1003, SMALL(IF(ISBLANK($AE$13:$AE$1003)+ISERROR($AE$13:$AE$1003)+LEN($AE$13:$AE$1003)=0, \"\", ROW($AE$13:$AE$1003)-MIN(ROW($AE$13:$AE$1003))+1), ROW(139:139))),\"\")","v":"__DB_18__RC_N"},{"$f":"IF(AF151=\"\",\"\",IF(COUNTIF(CurrentListing,AF151)>1,AJ151,\"\"))","v":""},{"$f":"IF(LEN(AF151)=0,\"\",IF(ISNA(MATCH(AF151,MasterListing,0)),AJ151,\"\"))","v":""},null,"__DB_18__MKC_N","","DB18MKCN","__DB_18__MKC_N",1,"______",null,null,null,null,{"$f":"IF(ISNUMBER(SEARCH($F$6,AP150)),MAX($AO$11:AO149)+1,0)","v":139},0,{"$f":"ROWS($AQ$12:AQ150)","v":139},{"$f":"IFERROR(VLOOKUP(ROWS($AR$12:AR150),$AO$12:$AP$3014,2,0),\"\")","v":0}]
[null,null,null,null,null,null,null,null,null,null,null,null,null,null,null,null,null,null,null,null,null,null,null,null,null,null,{"$f":"IFERROR(INDEX($AE$13:$AE$1003, SMALL(IF(ISBLANK($AE$13:$AE$1003)+ISERROR($AE$13:$AE$1003)+LEN($AE$13:$AE$1003)=0, \"\", ROW($AE$13:$AE$1003)-MIN(ROW($AE$13:$AE$1003))+1), ROW(140:140))),\"\")","v":"__DB_18__RMA_N"},{"$f":"IF(AF152=\"\",\"\",IF(COUNTIF(CurrentListing,AF152)>1,AJ152,\"\"))","v":""},{"$f":"IF(LEN(AF152)=0,\"\",IF(ISNA(MATCH(AF152,MasterListing,0)),AJ152,\"\"))","v":""},null,"__DB_18__RC_N","","DB18RCN","__DB_18__RC_N",1,"______",null,null,null,null,{"$f":"IF(ISNUMBER(SEARCH($F$6,AP151)),MAX($AO$11:AO150)+1,0)","v":140},0,{"$f":"ROWS($AQ$12:AQ151)","v":140},{"$f":"IFERROR(VLOOKUP(ROWS($AR$12:AR151),$AO$12:$AP$3014,2,0),\"\")","v":0}]
[null,null,null,null,null,null,null,null,null,null,null,null,null,null,null,null,null,null,null,null,null,null,null,null,null,null,{"$f":"IFERROR(INDEX($AE$13:$AE$1003, SMALL(IF(ISBLANK($AE$13:$AE$1003)+ISERROR($AE$13:$AE$1003)+LEN($AE$13:$AE$1003)=0, \"\", ROW($AE$13:$AE$1003)-MIN(ROW($AE$13:$AE$1003))+1), ROW(141:141))),\"\")","v":"__DB_18__TRAN_N"},{"$f":"IF(AF153=\"\",\"\",IF(COUNTIF(CurrentListing,AF153)>1,AJ153,\"\"))","v":""},{"$f":"IF(LEN(AF153)=0,\"\",IF(ISNA(MATCH(AF153,MasterListing,0)),AJ153,\"\"))","v":""},null,"__DB_18__RMA_N","","DB18RMAN","__DB_18__RMA_N",1,"______",null,null,null,null,{"$f":"IF(ISNUMBER(SEARCH($F$6,AP152)),MAX($AO$11:AO151)+1,0)","v":141},0,{"$f":"ROWS($AQ$12:AQ152)","v":141},{"$f":"IFERROR(VLOOKUP(ROWS($AR$12:AR152),$AO$12:$AP$3014,2,0),\"\")","v":0}]
[null,null,null,null,null,null,null,null,null,null,null,null,null,null,null,null,null,null,null,null,null,null,null,null,null,null,{"$f":"IFERROR(INDEX($AE$13:$AE$1003, SMALL(IF(ISBLANK($AE$13:$AE$1003)+ISERROR($AE$13:$AE$1003)+LEN($AE$13:$AE$1003)=0, \"\", ROW($AE$13:$AE$1003)-MIN(ROW($AE$13:$AE$1003))+1), ROW(142:142))),\"\")","v":"__DB_19__D_N"},{"$f":"IF(AF154=\"\",\"\",IF(COUNTIF(CurrentListing,AF154)>1,AJ154,\"\"))","v":""},{"$f":"IF(LEN(AF154)=0,\"\",IF(ISNA(MATCH(AF154,MasterListing,0)),AJ154,\"\"))","v":""},null,"__DB_18__TRAN_N","","DB18TRANN","__DB_18__TRAN_N",1,"______",null,null,null,null,{"$f":"IF(ISNUMBER(SEARCH($F$6,AP153)),MAX($AO$11:AO152)+1,0)","v":142},0,{"$f":"ROWS($AQ$12:AQ153)","v":142},{"$f":"IFERROR(VLOOKUP(ROWS($AR$12:AR153),$AO$12:$AP$3014,2,0),\"\")","v":0}]
[null,null,null,null,null,null,null,null,null,null,null,null,null,null,null,null,null,null,null,null,null,null,null,null,null,null,{"$f":"IFERROR(INDEX($AE$13:$AE$1003, SMALL(IF(ISBLANK($AE$13:$AE$1003)+ISERROR($AE$13:$AE$1003)+LEN($AE$13:$AE$1003)=0, \"\", ROW($AE$13:$AE$1003)-MIN(ROW($AE$13:$AE$1003))+1), ROW(143:143))),\"\")","v":"__DB_19__DROPOUT_N"},{"$f":"IF(AF155=\"\",\"\",IF(COUNTIF(CurrentListing,AF155)>1,AJ155,\"\"))","v":""},{"$f":"IF(LEN(AF155)=0,\"\",IF(ISNA(MATCH(AF155,MasterListing,0)),AJ155,\"\"))","v":""},null,"__DB_19__D_N","","DB19DN","__DB_19__D_N",1,"______",null,null,null,null,{"$f":"IF(ISNUMBER(SEARCH($F$6,AP154)),MAX($AO$11:AO153)+1,0)","v":143},0,{"$f":"ROWS($AQ$12:AQ154)","v":143},{"$f":"IFERROR(VLOOKUP(ROWS($AR$12:AR154),$AO$12:$AP$3014,2,0),\"\")","v":0}]
[null,null,null,null,null,null,null,null,null,null,null,null,null,null,null,null,null,null,null,null,null,null,null,null,null,null,{"$f":"IFERROR(INDEX($AE$13:$AE$1003, SMALL(IF(ISBLANK($AE$13:$AE$1003)+ISERROR($AE$13:$AE$1003)+LEN($AE$13:$AE$1003)=0, \"\", ROW($AE$13:$AE$1003)-MIN(ROW($AE$13:$AE$1003))+1), ROW(144:144))),\"\")","v":"__DB_19__GHS_N"},{"$f":"IF(AF156=\"\",\"\",IF(COUNTIF(CurrentListing,AF156)>1,AJ156,\"\"))","v":""},{"$f":"IF(LEN(AF156)=0,\"\",IF(ISNA(MATCH(AF156,MasterListing,0)),AJ156,\"\"))","v":""},null,"__DB_19__DROPOUT_N","","DB19DROPOUTN","__DB_19__DROPOUT_N",1,"______",null,null,null,null,{"$f":"IF(ISNUMBER(SEARCH($F$6,AP155)),MAX($AO$11:AO154)+1,0)","v":144},0,{"$f":"ROWS($AQ$12:AQ155)","v":144},{"$f":"IFERROR(VLOOKUP(ROWS($AR$12:AR155),$AO$12:$AP$3014,2,0),\"\")","v":0}]
[null,null,null,null,null,null,null,null,null,null,null,null,null,null,null,null,null,null,null,null,null,null,null,null,null,null,{"$f":"IFERROR(INDEX($AE$13:$AE$1003, SMALL(IF(ISBLANK($AE$13:$AE$1003)+ISERROR($AE$13:$AE$1003)+LEN($AE$13:$AE$1003)=0, \"\", ROW($AE$13:$AE$1003)-MIN(ROW($AE$13:$AE$1003))+1), ROW(145:145))),\"\")","v":"__DB_19__GRADALTDPL_N"},{"$f":"IF(AF157=\"\",\"\",IF(COUNTIF(CurrentListing,AF157)>1,AJ157,\"\"))","v":""},{"$f":"IF(LEN(AF157)=0,\"\",IF(ISNA(MATCH(AF157,MasterListing,0)),AJ157,\"\"))","v":""},null,"__DB_19__GHS_N","","DB19GHSN","__DB_19__GHS_N",1,"______",null,null,null,null,{"$f":"IF(ISNUMBER(SEARCH($F$6,AP156)),MAX($AO$11:AO155)+1,0)","v":145},0,{"$f":"ROWS($AQ$12:AQ156)","v":145},{"$f":"IFERROR(VLOOKUP(ROWS($AR$12:AR156),$AO$12:$AP$3014,2,0),\"\")","v":0}]
[null,null,null,null,null,null,null,null,null,null,null,null,null,null,null,null,null,null,null,null,null,null,null,null,null,null,{"$f":"IFERROR(INDEX($AE$13:$AE$1003, SMALL(IF(ISBLANK($AE$13:$AE$1003)+ISERROR($AE$13:$AE$1003)+LEN($AE$13:$AE$1003)=0, \"\", ROW($AE$13:$AE$1003)-MIN(ROW($AE$13:$AE$1003))+1), ROW(146:146))),\"\")","v":"__DB_19__MKC_N"},{"$f":"IF(AF158=\"\",\"\",IF(COUNTIF(CurrentListing,AF158)>1,AJ158,\"\"))","v":""},{"$f":"IF(LEN(AF158)=0,\"\",IF(ISNA(MATCH(AF158,MasterListing,0)),AJ158,\"\"))","v":""},null,"__DB_19__GRADALTDPL_N","","DB19GRADALTDPLN","__DB_19__GRADALTDPL_N",1,"______",null,null,null,null,{"$f":"IF(ISNUMBER(SEARCH($F$6,AP157)),MAX($AO$11:AO156)+1,0)","v":146},0,{"$f":"ROWS($AQ$12:AQ157)","v":146},{"$f":"IFERROR(VLOOKUP(ROWS($AR$12:AR157),$AO$12:$AP$3014,2,0),\"\")","v":0}]
[null,null,null,null,null,null,null,null,null,null,null,null,null,null,null,null,null,null,null,null,null,null,null,null,null,null,{"$f":"IFERROR(INDEX($AE$13:$AE$1003, SMALL(IF(ISBLANK($AE$13:$AE$1003)+ISERROR($AE$13:$AE$1003)+LEN($AE$13:$AE$1003)=0, \"\", ROW($AE$13:$AE$1003)-MIN(ROW($AE$13:$AE$1003))+1), ROW(147:147))),\"\")","v":"__DB_19__RC_N"},{"$f":"IF(AF159=\"\",\"\",IF(COUNTIF(CurrentListing,AF159)>1,AJ159,\"\"))","v":""},{"$f":"IF(LEN(AF159)=0,\"\",IF(ISNA(MATCH(AF159,MasterListing,0)),AJ159,\"\"))","v":""},null,"__DB_19__MKC_N","","DB19MKCN","__DB_19__MKC_N",1,"______",null,null,null,null,{"$f":"IF(ISNUMBER(SEARCH($F$6,AP158)),MAX($AO$11:AO157)+1,0)","v":147},0,{"$f":"ROWS($AQ$12:AQ158)","v":147},{"$f":"IFERROR(VLOOKUP(ROWS($AR$12:AR158),$AO$12:$AP$3014,2,0),\"\")","v":0}]
[null,null,null,null,null,null,null,null,null,null,null,null,null,null,null,null,null,null,null,null,null,null,null,null,null,null,{"$f":"IFERROR(INDEX($AE$13:$AE$1003, SMALL(IF(ISBLANK($AE$13:$AE$1003)+ISERROR($AE$13:$AE$1003)+LEN($AE$13:$AE$1003)=0, \"\", ROW($AE$13:$AE$1003)-MIN(ROW($AE$13:$AE$1003))+1), ROW(148:148))),\"\")","v":"__DB_19__RMA_N"},{"$f":"IF(AF160=\"\",\"\",IF(COUNTIF(CurrentListing,AF160)>1,AJ160,\"\"))","v":""},{"$f":"IF(LEN(AF160)=0,\"\",IF(ISNA(MATCH(AF160,MasterListing,0)),AJ160,\"\"))","v":""},null,"__DB_19__RC_N","","DB19RCN","__DB_19__RC_N",1,"______",null,null,null,null,{"$f":"IF(ISNUMBER(SEARCH($F$6,AP159)),MAX($AO$11:AO158)+1,0)","v":148},0,{"$f":"ROWS($AQ$12:AQ159)","v":148},{"$f":"IFERROR(VLOOKUP(ROWS($AR$12:AR159),$AO$12:$AP$3014,2,0),\"\")","v":0}]
[null,null,null,null,null,null,null,null,null,null,null,null,null,null,null,null,null,null,null,null,null,null,null,null,null,null,{"$f":"IFERROR(INDEX($AE$13:$AE$1003, SMALL(IF(ISBLANK($AE$13:$AE$1003)+ISERROR($AE$13:$AE$1003)+LEN($AE$13:$AE$1003)=0, \"\", ROW($AE$13:$AE$1003)-MIN(ROW($AE$13:$AE$1003))+1), ROW(149:149))),\"\")","v":"__DB_19__TRAN_N"},{"$f":"IF(AF161=\"\",\"\",IF(COUNTIF(CurrentListing,AF161)>1,AJ161,\"\"))","v":""},{"$f":"IF(LEN(AF161)=0,\"\",IF(ISNA(MATCH(AF161,MasterListing,0)),AJ161,\"\"))","v":""},null,"__DB_19__RMA_N","","DB19RMAN","__DB_19__RMA_N",1,"______",null,null,null,null,{"$f":"IF(ISNUMBER(SEARCH($F$6,AP160)),MAX($AO$11:AO159)+1,0)","v":149},0,{"$f":"ROWS($AQ$12:AQ160)","v":149},{"$f":"IFERROR(VLOOKUP(ROWS($AR$12:AR160),$AO$12:$AP$3014,2,0),\"\")","v":0}]
[null,null,null,null,null,null,null,null,null,null,null,null,null,null,null,null,null,null,null,null,null,null,null,null,null,null,{"$f":"IFERROR(INDEX($AE$13:$AE$1003, SMALL(IF(ISBLANK($AE$13:$AE$1003)+ISERROR($AE$13:$AE$1003)+LEN($AE$13:$AE$1003)=0, \"\", ROW($AE$13:$AE$1003)-MIN(ROW($AE$13:$AE$1003))+1), ROW(150:150))),\"\")","v":"__DB_20__D_N"},{"$f":"IF(AF162=\"\",\"\",IF(COUNTIF(CurrentListing,AF162)>1,AJ162,\"\"))","v":""},{"$f":"IF(LEN(AF162)=0,\"\",IF(ISNA(MATCH(AF162,MasterListing,0)),AJ162,\"\"))","v":""},null,"__DB_19__TRAN_N","","DB19TRANN","__DB_19__TRAN_N",1,"______",null,null,null,null,{"$f":"IF(ISNUMBER(SEARCH($F$6,AP161)),MAX($AO$11:AO160)+1,0)","v":150},0,{"$f":"ROWS($AQ$12:AQ161)","v":150},{"$f":"IFERROR(VLOOKUP(ROWS($AR$12:AR161),$AO$12:$AP$3014,2,0),\"\")","v":0}]
[null,null,null,null,null,null,null,null,null,null,null,null,null,null,null,null,null,null,null,null,null,null,null,null,null,null,{"$f":"IFERROR(INDEX($AE$13:$AE$1003, SMALL(IF(ISBLANK($AE$13:$AE$1003)+ISERROR($AE$13:$AE$1003)+LEN($AE$13:$AE$1003)=0, \"\", ROW($AE$13:$AE$1003)-MIN(ROW($AE$13:$AE$1003))+1), ROW(151:151))),\"\")","v":"__DB_20__DROPOUT_N"},{"$f":"IF(AF163=\"\",\"\",IF(COUNTIF(CurrentListing,AF163)>1,AJ163,\"\"))","v":""},{"$f":"IF(LEN(AF163)=0,\"\",IF(ISNA(MATCH(AF163,MasterListing,0)),AJ163,\"\"))","v":""},null,"__DB_20__D_N","","DB20DN","__DB_20__D_N",1,"______",null,null,null,null,{"$f":"IF(ISNUMBER(SEARCH($F$6,AP162)),MAX($AO$11:AO161)+1,0)","v":151},0,{"$f":"ROWS($AQ$12:AQ162)","v":151},{"$f":"IFERROR(VLOOKUP(ROWS($AR$12:AR162),$AO$12:$AP$3014,2,0),\"\")","v":0}]
[null,null,null,null,null,null,null,null,null,null,null,null,null,null,null,null,null,null,null,null,null,null,null,null,null,null,{"$f":"IFERROR(INDEX($AE$13:$AE$1003, SMALL(IF(ISBLANK($AE$13:$AE$1003)+ISERROR($AE$13:$AE$1003)+LEN($AE$13:$AE$1003)=0, \"\", ROW($AE$13:$AE$1003)-MIN(ROW($AE$13:$AE$1003))+1), ROW(152:152))),\"\")","v":"__DB_20__GHS_N"},{"$f":"IF(AF164=\"\",\"\",IF(COUNTIF(CurrentListing,AF164)>1,AJ164,\"\"))","v":""},{"$f":"IF(LEN(AF164)=0,\"\",IF(ISNA(MATCH(AF164,MasterListing,0)),AJ164,\"\"))","v":""},null,"__DB_20__DROPOUT_N","","DB20DROPOUTN","__DB_20__DROPOUT_N",1,"______",null,null,null,null,{"$f":"IF(ISNUMBER(SEARCH($F$6,AP163)),MAX($AO$11:AO162)+1,0)","v":152},0,{"$f":"ROWS($AQ$12:AQ163)","v":152},{"$f":"IFERROR(VLOOKUP(ROWS($AR$12:AR163),$AO$12:$AP$3014,2,0),\"\")","v":0}]
[null,null,null,null,null,null,null,null,null,null,null,null,null,null,null,null,null,null,null,null,null,null,null,null,null,null,{"$f":"IFERROR(INDEX($AE$13:$AE$1003, SMALL(IF(ISBLANK($AE$13:$AE$1003)+ISERROR($AE$13:$AE$1003)+LEN($AE$13:$AE$1003)=0, \"\", ROW($AE$13:$AE$1003)-MIN(ROW($AE$13:$AE$1003))+1), ROW(153:153))),\"\")","v":"__DB_20__GRADALTDPL_N"},{"$f":"IF(AF165=\"\",\"\",IF(COUNTIF(CurrentListing,AF165)>1,AJ165,\"\"))","v":""},{"$f":"IF(LEN(AF165)=0,\"\",IF(ISNA(MATCH(AF165,MasterListing,0)),AJ165,\"\"))","v":""},null,"__DB_20__GHS_N","","DB20GHSN","__DB_20__GHS_N",1,"______",null,null,null,null,{"$f":"IF(ISNUMBER(SEARCH($F$6,AP164)),MAX($AO$11:AO163)+1,0)","v":153},0,{"$f":"ROWS($AQ$12:AQ164)","v":153},{"$f":"IFERROR(VLOOKUP(ROWS($AR$12:AR164),$AO$12:$AP$3014,2,0),\"\")","v":0}]
[null,null,null,null,null,null,null,null,null,null,null,null,null,null,null,null,null,null,null,null,null,null,null,null,null,null,{"$f":"IFERROR(INDEX($AE$13:$AE$1003, SMALL(IF(ISBLANK($AE$13:$AE$1003)+ISERROR($AE$13:$AE$1003)+LEN($AE$13:$AE$1003)=0, \"\", ROW($AE$13:$AE$1003)-MIN(ROW($AE$13:$AE$1003))+1), ROW(154:154))),\"\")","v":"__DB_20__MKC_N"},{"$f":"IF(AF166=\"\",\"\",IF(COUNTIF(CurrentListing,AF166)>1,AJ166,\"\"))","v":""},{"$f":"IF(LEN(AF166)=0,\"\",IF(ISNA(MATCH(AF166,MasterListing,0)),AJ166,\"\"))","v":""},null,"__DB_20__GRADALTDPL_N","","DB20GRADALTDPLN","__DB_20__GRADALTDPL_N",1,"______",null,null,null,null,{"$f":"IF(ISNUMBER(SEARCH($F$6,AP165)),MAX($AO$11:AO164)+1,0)","v":154},0,{"$f":"ROWS($AQ$12:AQ165)","v":154},{"$f":"IFERROR(VLOOKUP(ROWS($AR$12:AR165),$AO$12:$AP$3014,2,0),\"\")","v":0}]
[null,null,null,null,null,null,null,null,null,null,null,null,null,null,null,null,null,null,null,null,null,null,null,null,null,null,{"$f":"IFERROR(INDEX($AE$13:$AE$1003, SMALL(IF(ISBLANK($AE$13:$AE$1003)+ISERROR($AE$13:$AE$1003)+LEN($AE$13:$AE$1003)=0, \"\", ROW($AE$13:$AE$1003)-MIN(ROW($AE$13:$AE$1003))+1), ROW(155:155))),\"\")","v":"__DB_20__RC_N"},{"$f":"IF(AF167=\"\",\"\",IF(COUNTIF(CurrentListing,AF167)>1,AJ167,\"\"))","v":""},{"$f":"IF(LEN(AF167)=0,\"\",IF(ISNA(MATCH(AF167,MasterListing,0)),AJ167,\"\"))","v":""},null,"__DB_20__MKC_N","","DB20MKCN","__DB_20__MKC_N",1,"______",null,null,null,null,{"$f":"IF(ISNUMBER(SEARCH($F$6,AP166)),MAX($AO$11:AO165)+1,0)","v":155},0,{"$f":"ROWS($AQ$12:AQ166)","v":155},{"$f":"IFERROR(VLOOKUP(ROWS($AR$12:AR166),$AO$12:$AP$3014,2,0),\"\")","v":0}]
[null,null,null,null,null,null,null,null,null,null,null,null,null,null,null,null,null,null,null,null,null,null,null,null,null,null,{"$f":"IFERROR(INDEX($AE$13:$AE$1003, SMALL(IF(ISBLANK($AE$13:$AE$1003)+ISERROR($AE$13:$AE$1003)+LEN($AE$13:$AE$1003)=0, \"\", ROW($AE$13:$AE$1003)-MIN(ROW($AE$13:$AE$1003))+1), ROW(156:156))),\"\")","v":"__DB_20__RMA_N"},{"$f":"IF(AF168=\"\",\"\",IF(COUNTIF(CurrentListing,AF168)>1,AJ168,\"\"))","v":""},{"$f":"IF(LEN(AF168)=0,\"\",IF(ISNA(MATCH(AF168,MasterListing,0)),AJ168,\"\"))","v":""},null,"__DB_20__RC_N","","DB20RCN","__DB_20__RC_N",1,"______",null,null,null,null,{"$f":"IF(ISNUMBER(SEARCH($F$6,AP167)),MAX($AO$11:AO166)+1,0)","v":156},0,{"$f":"ROWS($AQ$12:AQ167)","v":156},{"$f":"IFERROR(VLOOKUP(ROWS($AR$12:AR167),$AO$12:$AP$3014,2,0),\"\")","v":0}]
[null,null,null,null,null,null,null,null,null,null,null,null,null,null,null,null,null,null,null,null,null,null,null,null,null,null,{"$f":"IFERROR(INDEX($AE$13:$AE$1003, SMALL(IF(ISBLANK($AE$13:$AE$1003)+ISERROR($AE$13:$AE$1003)+LEN($AE$13:$AE$1003)=0, \"\", ROW($AE$13:$AE$1003)-MIN(ROW($AE$13:$AE$1003))+1), ROW(157:157))),\"\")","v":"__DB_20__TRAN_N"},{"$f":"IF(AF169=\"\",\"\",IF(COUNTIF(CurrentListing,AF169)>1,AJ169,\"\"))","v":""},{"$f":"IF(LEN(AF169)=0,\"\",IF(ISNA(MATCH(AF169,MasterListing,0)),AJ169,\"\"))","v":""},null,"__DB_20__RMA_N","","DB20RMAN","__DB_20__RMA_N",1,"______",null,null,null,null,{"$f":"IF(ISNUMBER(SEARCH($F$6,AP168)),MAX($AO$11:AO167)+1,0)","v":157},0,{"$f":"ROWS($AQ$12:AQ168)","v":157},{"$f":"IFERROR(VLOOKUP(ROWS($AR$12:AR168),$AO$12:$AP$3014,2,0),\"\")","v":0}]
[null,null,null,null,null,null,null,null,null,null,null,null,null,null,null,null,null,null,null,null,null,null,null,null,null,null,{"$f":"IFERROR(INDEX($AE$13:$AE$1003, SMALL(IF(ISBLANK($AE$13:$AE$1003)+ISERROR($AE$13:$AE$1003)+LEN($AE$13:$AE$1003)=0, \"\", ROW($AE$13:$AE$1003)-MIN(ROW($AE$13:$AE$1003))+1), ROW(158:158))),\"\")","v":"__DB_21__D_N"},{"$f":"IF(AF170=\"\",\"\",IF(COUNTIF(CurrentListing,AF170)>1,AJ170,\"\"))","v":""},{"$f":"IF(LEN(AF170)=0,\"\",IF(ISNA(MATCH(AF170,MasterListing,0)),AJ170,\"\"))","v":""},null,"__DB_20__TRAN_N","","DB20TRANN","__DB_20__TRAN_N",1,"______",null,null,null,null,{"$f":"IF(ISNUMBER(SEARCH($F$6,AP169)),MAX($AO$11:AO168)+1,0)","v":158},0,{"$f":"ROWS($AQ$12:AQ169)","v":158},{"$f":"IFERROR(VLOOKUP(ROWS($AR$12:AR169),$AO$12:$AP$3014,2,0),\"\")","v":0}]
[null,null,null,null,null,null,null,null,null,null,null,null,null,null,null,null,null,null,null,null,null,null,null,null,null,null,{"$f":"IFERROR(INDEX($AE$13:$AE$1003, SMALL(IF(ISBLANK($AE$13:$AE$1003)+ISERROR($AE$13:$AE$1003)+LEN($AE$13:$AE$1003)=0, \"\", ROW($AE$13:$AE$1003)-MIN(ROW($AE$13:$AE$1003))+1), ROW(159:159))),\"\")","v":"__DB_21__DROPOUT_N"},{"$f":"IF(AF171=\"\",\"\",IF(COUNTIF(CurrentListing,AF171)>1,AJ171,\"\"))","v":""},{"$f":"IF(LEN(AF171)=0,\"\",IF(ISNA(MATCH(AF171,MasterListing,0)),AJ171,\"\"))","v":""},null,"__DB_21__D_N","","DB21DN","__DB_21__D_N",1,"______",null,null,null,null,{"$f":"IF(ISNUMBER(SEARCH($F$6,AP170)),MAX($AO$11:AO169)+1,0)","v":159},0,{"$f":"ROWS($AQ$12:AQ170)","v":159},{"$f":"IFERROR(VLOOKUP(ROWS($AR$12:AR170),$AO$12:$AP$3014,2,0),\"\")","v":0}]
[null,null,null,null,null,null,null,null,null,null,null,null,null,null,null,null,null,null,null,null,null,null,null,null,null,null,{"$f":"IFERROR(INDEX($AE$13:$AE$1003, SMALL(IF(ISBLANK($AE$13:$AE$1003)+ISERROR($AE$13:$AE$1003)+LEN($AE$13:$AE$1003)=0, \"\", ROW($AE$13:$AE$1003)-MIN(ROW($AE$13:$AE$1003))+1), ROW(160:160))),\"\")","v":"__DB_21__GHS_N"},{"$f":"IF(AF172=\"\",\"\",IF(COUNTIF(CurrentListing,AF172)>1,AJ172,\"\"))","v":""},{"$f":"IF(LEN(AF172)=0,\"\",IF(ISNA(MATCH(AF172,MasterListing,0)),AJ172,\"\"))","v":""},null,"__DB_21__DROPOUT_N","","DB21DROPOUTN","__DB_21__DROPOUT_N",1,"______",null,null,null,null,{"$f":"IF(ISNUMBER(SEARCH($F$6,AP171)),MAX($AO$11:AO170)+1,0)","v":160},0,{"$f":"ROWS($AQ$12:AQ171)","v":160},{"$f":"IFERROR(VLOOKUP(ROWS($AR$12:AR171),$AO$12:$AP$3014,2,0),\"\")","v":0}]
[null,null,null,null,null,null,null,null,null,null,null,null,null,null,null,null,null,null,null,null,null,null,null,null,null,null,{"$f":"IFERROR(INDEX($AE$13:$AE$1003, SMALL(IF(ISBLANK($AE$13:$AE$1003)+ISERROR($AE$13:$AE$1003)+LEN($AE$13:$AE$1003)=0, \"\", ROW($AE$13:$AE$1003)-MIN(ROW($AE$13:$AE$1003))+1), ROW(161:161))),\"\")","v":"__DB_21__GRADALTDPL_N"},{"$f":"IF(AF173=\"\",\"\",IF(COUNTIF(CurrentListing,AF173)>1,AJ173,\"\"))","v":""},{"$f":"IF(LEN(AF173)=0,\"\",IF(ISNA(MATCH(AF173,MasterListing,0)),AJ173,\"\"))","v":""},null,"__DB_21__GHS_N","","DB21GHSN","__DB_21__GHS_N",1,"______",null,null,null,null,{"$f":"IF(ISNUMBER(SEARCH($F$6,AP172)),MAX($AO$11:AO171)+1,0)","v":161},0,{"$f":"ROWS($AQ$12:AQ172)","v":161},{"$f":"IFERROR(VLOOKUP(ROWS($AR$12:AR172),$AO$12:$AP$3014,2,0),\"\")","v":0}]
[null,null,null,null,null,null,null,null,null,null,null,null,null,null,null,null,null,null,null,null,null,null,null,null,null,null,{"$f":"IFERROR(INDEX($AE$13:$AE$1003, SMALL(IF(ISBLANK($AE$13:$AE$1003)+ISERROR($AE$13:$AE$1003)+LEN($AE$13:$AE$1003)=0, \"\", ROW($AE$13:$AE$1003)-MIN(ROW($AE$13:$AE$1003))+1), ROW(162:162))),\"\")","v":"__DB_21__MKC_N"},{"$f":"IF(AF174=\"\",\"\",IF(COUNTIF(CurrentListing,AF174)>1,AJ174,\"\"))","v":""},{"$f":"IF(LEN(AF174)=0,\"\",IF(ISNA(MATCH(AF174,MasterListing,0)),AJ174,\"\"))","v":""},null,"__DB_21__GRADALTDPL_N","","DB21GRADALTDPLN","__DB_21__GRADALTDPL_N",1,"______",null,null,null,null,{"$f":"IF(ISNUMBER(SEARCH($F$6,AP173)),MAX($AO$11:AO172)+1,0)","v":162},0,{"$f":"ROWS($AQ$12:AQ173)","v":162},{"$f":"IFERROR(VLOOKUP(ROWS($AR$12:AR173),$AO$12:$AP$3014,2,0),\"\")","v":0}]
[null,null,null,null,null,null,null,null,null,null,null,null,null,null,null,null,null,null,null,null,null,null,null,null,null,null,{"$f":"IFERROR(INDEX($AE$13:$AE$1003, SMALL(IF(ISBLANK($AE$13:$AE$1003)+ISERROR($AE$13:$AE$1003)+LEN($AE$13:$AE$1003)=0, \"\", ROW($AE$13:$AE$1003)-MIN(ROW($AE$13:$AE$1003))+1), ROW(163:163))),\"\")","v":"__DB_21__RC_N"},{"$f":"IF(AF175=\"\",\"\",IF(COUNTIF(CurrentListing,AF175)>1,AJ175,\"\"))","v":""},{"$f":"IF(LEN(AF175)=0,\"\",IF(ISNA(MATCH(AF175,MasterListing,0)),AJ175,\"\"))","v":""},null,"__DB_21__MKC_N","","DB21MKCN","__DB_21__MKC_N",1,"______",null,null,null,null,{"$f":"IF(ISNUMBER(SEARCH($F$6,AP174)),MAX($AO$11:AO173)+1,0)","v":163},0,{"$f":"ROWS($AQ$12:AQ174)","v":163},{"$f":"IFERROR(VLOOKUP(ROWS($AR$12:AR174),$AO$12:$AP$3014,2,0),\"\")","v":0}]
[null,null,null,null,null,null,null,null,null,null,null,null,null,null,null,null,null,null,null,null,null,null,null,null,null,null,{"$f":"IFERROR(INDEX($AE$13:$AE$1003, SMALL(IF(ISBLANK($AE$13:$AE$1003)+ISERROR($AE$13:$AE$1003)+LEN($AE$13:$AE$1003)=0, \"\", ROW($AE$13:$AE$1003)-MIN(ROW($AE$13:$AE$1003))+1), ROW(164:164))),\"\")","v":"__DB_21__RMA_N"},{"$f":"IF(AF176=\"\",\"\",IF(COUNTIF(CurrentListing,AF176)>1,AJ176,\"\"))","v":""},{"$f":"IF(LEN(AF176)=0,\"\",IF(ISNA(MATCH(AF176,MasterListing,0)),AJ176,\"\"))","v":""},null,"__DB_21__RC_N","","DB21RCN","__DB_21__RC_N",1,"______",null,null,null,null,{"$f":"IF(ISNUMBER(SEARCH($F$6,AP175)),MAX($AO$11:AO174)+1,0)","v":164},0,{"$f":"ROWS($AQ$12:AQ175)","v":164},{"$f":"IFERROR(VLOOKUP(ROWS($AR$12:AR175),$AO$12:$AP$3014,2,0),\"\")","v":0}]
[null,null,null,null,null,null,null,null,null,null,null,null,null,null,null,null,null,null,null,null,null,null,null,null,null,null,{"$f":"IFERROR(INDEX($AE$13:$AE$1003, SMALL(IF(ISBLANK($AE$13:$AE$1003)+ISERROR($AE$13:$AE$1003)+LEN($AE$13:$AE$1003)=0, \"\", ROW($AE$13:$AE$1003)-MIN(ROW($AE$13:$AE$1003))+1), ROW(165:165))),\"\")","v":"__DB_21__TRAN_N"},{"$f":"IF(AF177=\"\",\"\",IF(COUNTIF(CurrentListing,AF177)>1,AJ177,\"\"))","v":""},{"$f":"IF(LEN(AF177)=0,\"\",IF(ISNA(MATCH(AF177,MasterListing,0)),AJ177,\"\"))","v":""},null,"__DB_21__RMA_N","","DB21RMAN","__DB_21__RMA_N",1,"______",null,null,null,null,{"$f":"IF(ISNUMBER(SEARCH($F$6,AP176)),MAX($AO$11:AO175)+1,0)","v":165},0,{"$f":"ROWS($AQ$12:AQ176)","v":165},{"$f":"IFERROR(VLOOKUP(ROWS($AR$12:AR176),$AO$12:$AP$3014,2,0),\"\")","v":0}]
[null,null,null,null,null,null,null,null,null,null,null,null,null,null,null,null,null,null,null,null,null,null,null,null,null,null,{"$f":"IFERROR(INDEX($AE$13:$AE$1003, SMALL(IF(ISBLANK($AE$13:$AE$1003)+ISERROR($AE$13:$AE$1003)+LEN($AE$13:$AE$1003)=0, \"\", ROW($AE$13:$AE$1003)-MIN(ROW($AE$13:$AE$1003))+1), ROW(166:166))),\"\")","v":"__EMN____Y"},{"$f":"IF(AF178=\"\",\"\",IF(COUNTIF(CurrentListing,AF178)>1,AJ178,\"\"))","v":""},{"$f":"IF(LEN(AF178)=0,\"\",IF(ISNA(MATCH(AF178,MasterListing,0)),AJ178,\"\"))","v":""},null,"__DB_21__TRAN_N","","DB21TRANN","__DB_21__TRAN_N",1,"______",null,null,null,null,{"$f":"IF(ISNUMBER(SEARCH($F$6,AP177)),MAX($AO$11:AO176)+1,0)","v":166},0,{"$f":"ROWS($AQ$12:AQ177)","v":166},{"$f":"IFERROR(VLOOKUP(ROWS($AR$12:AR177),$AO$12:$AP$3014,2,0),\"\")","v":0}]
[null,null,null,null,null,null,null,null,null,null,null,null,null,null,null,null,null,null,null,null,null,null,null,null,null,null,{"$f":"IFERROR(INDEX($AE$13:$AE$1003, SMALL(IF(ISBLANK($AE$13:$AE$1003)+ISERROR($AE$13:$AE$1003)+LEN($AE$13:$AE$1003)=0, \"\", ROW($AE$13:$AE$1003)-MIN(ROW($AE$13:$AE$1003))+1), ROW(167:167))),\"\")","v":"__EMN_14__D_N"},{"$f":"IF(AF179=\"\",\"\",IF(COUNTIF(CurrentListing,AF179)>1,AJ179,\"\"))","v":""},{"$f":"IF(LEN(AF179)=0,\"\",IF(ISNA(MATCH(AF179,MasterListing,0)),AJ179,\"\"))","v":""},null,"__EMN____Y","","EMNY","__EMN____Y",1,"______",null,null,null,null,{"$f":"IF(ISNUMBER(SEARCH($F$6,AP178)),MAX($AO$11:AO177)+1,0)","v":167},0,{"$f":"ROWS($AQ$12:AQ178)","v":167},{"$f":"IFERROR(VLOOKUP(ROWS($AR$12:AR178),$AO$12:$AP$3014,2,0),\"\")","v":0}]
[null,null,null,null,null,null,null,null,null,null,null,null,null,null,null,null,null,null,null,null,null,null,null,null,null,null,{"$f":"IFERROR(INDEX($AE$13:$AE$1003, SMALL(IF(ISBLANK($AE$13:$AE$1003)+ISERROR($AE$13:$AE$1003)+LEN($AE$13:$AE$1003)=0, \"\", ROW($AE$13:$AE$1003)-MIN(ROW($AE$13:$AE$1003))+1), ROW(168:168))),\"\")","v":"__EMN_14__DROPOUT_N"},{"$f":"IF(AF180=\"\",\"\",IF(COUNTIF(CurrentListing,AF180)>1,AJ180,\"\"))","v":""},{"$f":"IF(LEN(AF180)=0,\"\",IF(ISNA(MATCH(AF180,MasterListing,0)),AJ180,\"\"))","v":""},null,"__EMN_14__D_N","","EMN14DN","__EMN_14__D_N",1,"______",null,null,null,null,{"$f":"IF(ISNUMBER(SEARCH($F$6,AP179)),MAX($AO$11:AO178)+1,0)","v":168},0,{"$f":"ROWS($AQ$12:AQ179)","v":168},{"$f":"IFERROR(VLOOKUP(ROWS($AR$12:AR179),$AO$12:$AP$3014,2,0),\"\")","v":0}]
[null,null,null,null,null,null,null,null,null,null,null,null,null,null,null,null,null,null,null,null,null,null,null,null,null,null,{"$f":"IFERROR(INDEX($AE$13:$AE$1003, SMALL(IF(ISBLANK($AE$13:$AE$1003)+ISERROR($AE$13:$AE$1003)+LEN($AE$13:$AE$1003)=0, \"\", ROW($AE$13:$AE$1003)-MIN(ROW($AE$13:$AE$1003))+1), ROW(169:169))),\"\")","v":"__EMN_14__GHS_N"},{"$f":"IF(AF181=\"\",\"\",IF(COUNTIF(CurrentListing,AF181)>1,AJ181,\"\"))","v":""},{"$f":"IF(LEN(AF181)=0,\"\",IF(ISNA(MATCH(AF181,MasterListing,0)),AJ181,\"\"))","v":""},null,"__EMN_14__DROPOUT_N","","EMN14DROPOUTN","__EMN_14__DROPOUT_N",1,"______",null,null,null,null,{"$f":"IF(ISNUMBER(SEARCH($F$6,AP180)),MAX($AO$11:AO179)+1,0)","v":169},0,{"$f":"ROWS($AQ$12:AQ180)","v":169},{"$f":"IFERROR(VLOOKUP(ROWS($AR$12:AR180),$AO$12:$AP$3014,2,0),\"\")","v":0}]
[null,null,null,null,null,null,null,null,null,null,null,null,null,null,null,null,null,null,null,null,null,null,null,null,null,null,{"$f":"IFERROR(INDEX($AE$13:$AE$1003, SMALL(IF(ISBLANK($AE$13:$AE$1003)+ISERROR($AE$13:$AE$1003)+LEN($AE$13:$AE$1003)=0, \"\", ROW($AE$13:$AE$1003)-MIN(ROW($AE$13:$AE$1003))+1), ROW(170:170))),\"\")","v":"__EMN_14__GRADALTDPL_N"},{"$f":"IF(AF182=\"\",\"\",IF(COUNTIF(CurrentListing,AF182)>1,AJ182,\"\"))","v":""},{"$f":"IF(LEN(AF182)=0,\"\",IF(ISNA(MATCH(AF182,MasterListing,0)),AJ182,\"\"))","v":""},null,"__EMN_14__GHS_N","","EMN14GHSN","__EMN_14__GHS_N",1,"______",null,null,null,null,{"$f":"IF(ISNUMBER(SEARCH($F$6,AP181)),MAX($AO$11:AO180)+1,0)","v":170},0,{"$f":"ROWS($AQ$12:AQ181)","v":170},{"$f":"IFERROR(VLOOKUP(ROWS($AR$12:AR181),$AO$12:$AP$3014,2,0),\"\")","v":0}]
[null,null,null,null,null,null,null,null,null,null,null,null,null,null,null,null,null,null,null,null,null,null,null,null,null,null,{"$f":"IFERROR(INDEX($AE$13:$AE$1003, SMALL(IF(ISBLANK($AE$13:$AE$1003)+ISERROR($AE$13:$AE$1003)+LEN($AE$13:$AE$1003)=0, \"\", ROW($AE$13:$AE$1003)-MIN(ROW($AE$13:$AE$1003))+1), ROW(171:171))),\"\")","v":"__EMN_14__MKC_N"},{"$f":"IF(AF183=\"\",\"\",IF(COUNTIF(CurrentListing,AF183)>1,AJ183,\"\"))","v":""},{"$f":"IF(LEN(AF183)=0,\"\",IF(ISNA(MATCH(AF183,MasterListing,0)),AJ183,\"\"))","v":""},null,"__EMN_14__GRADALTDPL_N","","EMN14GRADALTDPLN","__EMN_14__GRADALTDPL_N",1,"______",null,null,null,null,{"$f":"IF(ISNUMBER(SEARCH($F$6,AP182)),MAX($AO$11:AO181)+1,0)","v":171},0,{"$f":"ROWS($AQ$12:AQ182)","v":171},{"$f":"IFERROR(VLOOKUP(ROWS($AR$12:AR182),$AO$12:$AP$3014,2,0),\"\")","v":0}]
[null,null,null,null,null,null,null,null,null,null,null,null,null,null,null,null,null,null,null,null,null,null,null,null,null,null,{"$f":"IFERROR(INDEX($AE$13:$AE$1003, SMALL(IF(ISBLANK($AE$13:$AE$1003)+ISERROR($AE$13:$AE$1003)+LEN($AE$13:$AE$1003)=0, \"\", ROW($AE$13:$AE$1003)-MIN(ROW($AE$13:$AE$1003))+1), ROW(172:172))),\"\")","v":"__EMN_14__RC_N"},{"$f":"IF(AF184=\"\",\"\",IF(COUNTIF(CurrentListing,AF184)>1,AJ184,\"\"))","v":""},{"$f":"IF(LEN(AF184)=0,\"\",IF(ISNA(MATCH(AF184,MasterListing,0)),AJ184,\"\"))","v":""},null,"__EMN_14__MKC_N","","EMN14MKCN","__EMN_14__MKC_N",1,"______",null,null,null,null,{"$f":"IF(ISNUMBER(SEARCH($F$6,AP183)),MAX($AO$11:AO182)+1,0)","v":172},0,{"$f":"ROWS($AQ$12:AQ183)","v":172},{"$f":"IFERROR(VLOOKUP(ROWS($AR$12:AR183),$AO$12:$AP$3014,2,0),\"\")","v":0}]
[null,null,null,null,null,null,null,null,null,null,null,null,null,null,null,null,null,null,null,null,null,null,null,null,null,null,{"$f":"IFERROR(INDEX($AE$13:$AE$1003, SMALL(IF(ISBLANK($AE$13:$AE$1003)+ISERROR($AE$13:$AE$1003)+LEN($AE$13:$AE$1003)=0, \"\", ROW($AE$13:$AE$1003)-MIN(ROW($AE$13:$AE$1003))+1), ROW(173:173))),\"\")","v":"__EMN_14__RMA_N"},{"$f":"IF(AF185=\"\",\"\",IF(COUNTIF(CurrentListing,AF185)>1,AJ185,\"\"))","v":""},{"$f":"IF(LEN(AF185)=0,\"\",IF(ISNA(MATCH(AF185,MasterListing,0)),AJ185,\"\"))","v":""},null,"__EMN_14__RC_N","","EMN14RCN","__EMN_14__RC_N",1,"______",null,null,null,null,{"$f":"IF(ISNUMBER(SEARCH($F$6,AP184)),MAX($AO$11:AO183)+1,0)","v":173},0,{"$f":"ROWS($AQ$12:AQ184)","v":173},{"$f":"IFERROR(VLOOKUP(ROWS($AR$12:AR184),$AO$12:$AP$3014,2,0),\"\")","v":0}]
[null,null,null,null,null,null,null,null,null,null,null,null,null,null,null,null,null,null,null,null,null,null,null,null,null,null,{"$f":"IFERROR(INDEX($AE$13:$AE$1003, SMALL(IF(ISBLANK($AE$13:$AE$1003)+ISERROR($AE$13:$AE$1003)+LEN($AE$13:$AE$1003)=0, \"\", ROW($AE$13:$AE$1003)-MIN(ROW($AE$13:$AE$1003))+1), ROW(174:174))),\"\")","v":"__EMN_14__TRAN_N"},{"$f":"IF(AF186=\"\",\"\",IF(COUNTIF(CurrentListing,AF186)>1,AJ186,\"\"))","v":""},{"$f":"IF(LEN(AF186)=0,\"\",IF(ISNA(MATCH(AF186,MasterListing,0)),AJ186,\"\"))","v":""},null,"__EMN_14__RMA_N","","EMN14RMAN","__EMN_14__RMA_N",1,"______",null,null,null,null,{"$f":"IF(ISNUMBER(SEARCH($F$6,AP185)),MAX($AO$11:AO184)+1,0)","v":174},0,{"$f":"ROWS($AQ$12:AQ185)","v":174},{"$f":"IFERROR(VLOOKUP(ROWS($AR$12:AR185),$AO$12:$AP$3014,2,0),\"\")","v":0}]
[null,null,null,null,null,null,null,null,null,null,null,null,null,null,null,null,null,null,null,null,null,null,null,null,null,null,{"$f":"IFERROR(INDEX($AE$13:$AE$1003, SMALL(IF(ISBLANK($AE$13:$AE$1003)+ISERROR($AE$13:$AE$1003)+LEN($AE$13:$AE$1003)=0, \"\", ROW($AE$13:$AE$1003)-MIN(ROW($AE$13:$AE$1003))+1), ROW(175:175))),\"\")","v":"__EMN_15__D_N"},{"$f":"IF(AF187=\"\",\"\",IF(COUNTIF(CurrentListing,AF187)>1,AJ187,\"\"))","v":""},{"$f":"IF(LEN(AF187)=0,\"\",IF(ISNA(MATCH(AF187,MasterListing,0)),AJ187,\"\"))","v":""},null,"__EMN_14__TRAN_N","","EMN14TRANN","__EMN_14__TRAN_N",1,"______",null,null,null,null,{"$f":"IF(ISNUMBER(SEARCH($F$6,AP186)),MAX($AO$11:AO185)+1,0)","v":175},0,{"$f":"ROWS($AQ$12:AQ186)","v":175},{"$f":"IFERROR(VLOOKUP(ROWS($AR$12:AR186),$AO$12:$AP$3014,2,0),\"\")","v":0}]
[null,null,null,null,null,null,null,null,null,null,null,null,null,null,null,null,null,null,null,null,null,null,null,null,null,null,{"$f":"IFERROR(INDEX($AE$13:$AE$1003, SMALL(IF(ISBLANK($AE$13:$AE$1003)+ISERROR($AE$13:$AE$1003)+LEN($AE$13:$AE$1003)=0, \"\", ROW($AE$13:$AE$1003)-MIN(ROW($AE$13:$AE$1003))+1), ROW(176:176))),\"\")","v":"__EMN_15__DROPOUT_N"},{"$f":"IF(AF188=\"\",\"\",IF(COUNTIF(CurrentListing,AF188)>1,AJ188,\"\"))","v":""},{"$f":"IF(LEN(AF188)=0,\"\",IF(ISNA(MATCH(AF188,MasterListing,0)),AJ188,\"\"))","v":""},null,"__EMN_15__D_N","","EMN15DN","__EMN_15__D_N",1,"______",null,null,null,null,{"$f":"IF(ISNUMBER(SEARCH($F$6,AP187)),MAX($AO$11:AO186)+1,0)","v":176},0,{"$f":"ROWS($AQ$12:AQ187)","v":176},{"$f":"IFERROR(VLOOKUP(ROWS($AR$12:AR187),$AO$12:$AP$3014,2,0),\"\")","v":0}]
[null,null,null,null,null,null,null,null,null,null,null,null,null,null,null,null,null,null,null,null,null,null,null,null,null,null,{"$f":"IFERROR(INDEX($AE$13:$AE$1003, SMALL(IF(ISBLANK($AE$13:$AE$1003)+ISERROR($AE$13:$AE$1003)+LEN($AE$13:$AE$1003)=0, \"\", ROW($AE$13:$AE$1003)-MIN(ROW($AE$13:$AE$1003))+1), ROW(177:177))),\"\")","v":"__EMN_15__GHS_N"},{"$f":"IF(AF189=\"\",\"\",IF(COUNTIF(CurrentListing,AF189)>1,AJ189,\"\"))","v":""},{"$f":"IF(LEN(AF189)=0,\"\",IF(ISNA(MATCH(AF189,MasterListing,0)),AJ189,\"\"))","v":""},null,"__EMN_15__DROPOUT_N","","EMN15DROPOUTN","__EMN_15__DROPOUT_N",1,"______",null,null,null,null,{"$f":"IF(ISNUMBER(SEARCH($F$6,AP188)),MAX($AO$11:AO187)+1,0)","v":177},0,{"$f":"ROWS($AQ$12:AQ188)","v":177},{"$f":"IFERROR(VLOOKUP(ROWS($AR$12:AR188),$AO$12:$AP$3014,2,0),\"\")","v":0}]
[null,null,null,null,null,null,null,null,null,null,null,null,null,null,null,null,null,null,null,null,null,null,null,null,null,null,{"$f":"IFERROR(INDEX($AE$13:$AE$1003, SMALL(IF(ISBLANK($AE$13:$AE$1003)+ISERROR($AE$13:$AE$1003)+LEN($AE$13:$AE$1003)=0, \"\", ROW($AE$13:$AE$1003)-MIN(ROW($AE$13:$AE$1003))+1), ROW(178:178))),\"\")","v":"__EMN_15__GRADALTDPL_N"},{"$f":"IF(AF190=\"\",\"\",IF(COUNTIF(CurrentListing,AF190)>1,AJ190,\"\"))","v":""},{"$f":"IF(LEN(AF190)=0,\"\",IF(ISNA(MATCH(AF190,MasterListing,0)),AJ190,\"\"))","v":""},null,"__EMN_15__GHS_N","","EMN15GHSN","__EMN_15__GHS_N",1,"______",null,null,null,null,{"$f":"IF(ISNUMBER(SEARCH($F$6,AP189)),MAX($AO$11:AO188)+1,0)","v":178},0,{"$f":"ROWS($AQ$12:AQ189)","v":178},{"$f":"IFERROR(VLOOKUP(ROWS($AR$12:AR189),$AO$12:$AP$3014,2,0),\"\")","v":0}]
[null,null,null,null,null,null,null,null,null,null,null,null,null,null,null,null,null,null,null,null,null,null,null,null,null,null,{"$f":"IFERROR(INDEX($AE$13:$AE$1003, SMALL(IF(ISBLANK($AE$13:$AE$1003)+ISERROR($AE$13:$AE$1003)+LEN($AE$13:$AE$1003)=0, \"\", ROW($AE$13:$AE$1003)-MIN(ROW($AE$13:$AE$1003))+1), ROW(179:179))),\"\")","v":"__EMN_15__MKC_N"},{"$f":"IF(AF191=\"\",\"\",IF(COUNTIF(CurrentListing,AF191)>1,AJ191,\"\"))","v":""},{"$f":"IF(LEN(AF191)=0,\"\",IF(ISNA(MATCH(AF191,MasterListing,0)),AJ191,\"\"))","v":""},null,"__EMN_15__GRADALTDPL_N","","EMN15GRADALTDPLN","__EMN_15__GRADALTDPL_N",1,"______",null,null,null,null,{"$f":"IF(ISNUMBER(SEARCH($F$6,AP190)),MAX($AO$11:AO189)+1,0)","v":179},0,{"$f":"ROWS($AQ$12:AQ190)","v":179},{"$f":"IFERROR(VLOOKUP(ROWS($AR$12:AR190),$AO$12:$AP$3014,2,0),\"\")","v":0}]
[null,null,null,null,null,null,null,null,null,null,null,null,null,null,null,null,null,null,null,null,null,null,null,null,null,null,{"$f":"IFERROR(INDEX($AE$13:$AE$1003, SMALL(IF(ISBLANK($AE$13:$AE$1003)+ISERROR($AE$13:$AE$1003)+LEN($AE$13:$AE$1003)=0, \"\", ROW($AE$13:$AE$1003)-MIN(ROW($AE$13:$AE$1003))+1), ROW(180:180))),\"\")","v":"__EMN_15__RC_N"},{"$f":"IF(AF192=\"\",\"\",IF(COUNTIF(CurrentListing,AF192)>1,AJ192,\"\"))","v":""},{"$f":"IF(LEN(AF192)=0,\"\",IF(ISNA(MATCH(AF192,MasterListing,0)),AJ192,\"\"))","v":""},null,"__EMN_15__MKC_N","","EMN15MKCN","__EMN_15__MKC_N",1,"______",null,null,null,null,{"$f":"IF(ISNUMBER(SEARCH($F$6,AP191)),MAX($AO$11:AO190)+1,0)","v":180},0,{"$f":"ROWS($AQ$12:AQ191)","v":180},{"$f":"IFERROR(VLOOKUP(ROWS($AR$12:AR191),$AO$12:$AP$3014,2,0),\"\")","v":0}]
[null,null,null,null,null,null,null,null,null,null,null,null,null,null,null,null,null,null,null,null,null,null,null,null,null,null,{"$f":"IFERROR(INDEX($AE$13:$AE$1003, SMALL(IF(ISBLANK($AE$13:$AE$1003)+ISERROR($AE$13:$AE$1003)+LEN($AE$13:$AE$1003)=0, \"\", ROW($AE$13:$AE$1003)-MIN(ROW($AE$13:$AE$1003))+1), ROW(181:181))),\"\")","v":"__EMN_15__RMA_N"},{"$f":"IF(AF193=\"\",\"\",IF(COUNTIF(CurrentListing,AF193)>1,AJ193,\"\"))","v":""},{"$f":"IF(LEN(AF193)=0,\"\",IF(ISNA(MATCH(AF193,MasterListing,0)),AJ193,\"\"))","v":""},null,"__EMN_15__RC_N","","EMN15RCN","__EMN_15__RC_N",1,"______",null,null,null,null,{"$f":"IF(ISNUMBER(SEARCH($F$6,AP192)),MAX($AO$11:AO191)+1,0)","v":181},0,{"$f":"ROWS($AQ$12:AQ192)","v":181},{"$f":"IFERROR(VLOOKUP(ROWS($AR$12:AR192),$AO$12:$AP$3014,2,0),\"\")","v":0}]
[null,null,null,null,null,null,null,null,null,null,null,null,null,null,null,null,null,null,null,null,null,null,null,null,null,null,{"$f":"IFERROR(INDEX($AE$13:$AE$1003, SMALL(IF(ISBLANK($AE$13:$AE$1003)+ISERROR($AE$13:$AE$1003)+LEN($AE$13:$AE$1003)=0, \"\", ROW($AE$13:$AE$1003)-MIN(ROW($AE$13:$AE$1003))+1), ROW(182:182))),\"\")","v":"__EMN_15__TRAN_N"},{"$f":"IF(AF194=\"\",\"\",IF(COUNTIF(CurrentListing,AF194)>1,AJ194,\"\"))","v":""},{"$f":"IF(LEN(AF194)=0,\"\",IF(ISNA(MATCH(AF194,MasterListing,0)),AJ194,\"\"))","v":""},null,"__EMN_15__RMA_N","","EMN15RMAN","__EMN_15__RMA_N",1,"______",null,null,null,null,{"$f":"IF(ISNUMBER(SEARCH($F$6,AP193)),MAX($AO$11:AO192)+1,0)","v":182},0,{"$f":"ROWS($AQ$12:AQ193)","v":182},{"$f":"IFERROR(VLOOKUP(ROWS($AR$12:AR193),$AO$12:$AP$3014,2,0),\"\")","v":0}]
[null,null,null,null,null,null,null,null,null,null,null,null,null,null,null,null,null,null,null,null,null,null,null,null,null,null,{"$f":"IFERROR(INDEX($AE$13:$AE$1003, SMALL(IF(ISBLANK($AE$13:$AE$1003)+ISERROR($AE$13:$AE$1003)+LEN($AE$13:$AE$1003)=0, \"\", ROW($AE$13:$AE$1003)-MIN(ROW($AE$13:$AE$1003))+1), ROW(183:183))),\"\")","v":"__EMN_16__D_N"},{"$f":"IF(AF195=\"\",\"\",IF(COUNTIF(CurrentListing,AF195)>1,AJ195,\"\"))","v":""},{"$f":"IF(LEN(AF195)=0,\"\",IF(ISNA(MATCH(AF195,MasterListing,0)),AJ195,\"\"))","v":""},null,"__EMN_15__TRAN_N","","EMN15TRANN","__EMN_15__TRAN_N",1,"______",null,null,null,null,{"$f":"IF(ISNUMBER(SEARCH($F$6,AP194)),MAX($AO$11:AO193)+1,0)","v":183},0,{"$f":"ROWS($AQ$12:AQ194)","v":183},{"$f":"IFERROR(VLOOKUP(ROWS($AR$12:AR194),$AO$12:$AP$3014,2,0),\"\")","v":0}]
[null,null,null,null,null,null,null,null,null,null,null,null,null,null,null,null,null,null,null,null,null,null,null,null,null,null,{"$f":"IFERROR(INDEX($AE$13:$AE$1003, SMALL(IF(ISBLANK($AE$13:$AE$1003)+ISERROR($AE$13:$AE$1003)+LEN($AE$13:$AE$1003)=0, \"\", ROW($AE$13:$AE$1003)-MIN(ROW($AE$13:$AE$1003))+1), ROW(184:184))),\"\")","v":"__EMN_16__DROPOUT_N"},{"$f":"IF(AF196=\"\",\"\",IF(COUNTIF(CurrentListing,AF196)>1,AJ196,\"\"))","v":""},{"$f":"IF(LEN(AF196)=0,\"\",IF(ISNA(MATCH(AF196,MasterListing,0)),AJ196,\"\"))","v":""},null,"__EMN_16__D_N","","EMN16DN","__EMN_16__D_N",1,"______",null,null,null,null,{"$f":"IF(ISNUMBER(SEARCH($F$6,AP195)),MAX($AO$11:AO194)+1,0)","v":184},0,{"$f":"ROWS($AQ$12:AQ195)","v":184},{"$f":"IFERROR(VLOOKUP(ROWS($AR$12:AR195),$AO$12:$AP$3014,2,0),\"\")","v":0}]
[null,null,null,null,null,null,null,null,null,null,null,null,null,null,null,null,null,null,null,null,null,null,null,null,null,null,{"$f":"IFERROR(INDEX($AE$13:$AE$1003, SMALL(IF(ISBLANK($AE$13:$AE$1003)+ISERROR($AE$13:$AE$1003)+LEN($AE$13:$AE$1003)=0, \"\", ROW($AE$13:$AE$1003)-MIN(ROW($AE$13:$AE$1003))+1), ROW(185:185))),\"\")","v":"__EMN_16__GHS_N"},{"$f":"IF(AF197=\"\",\"\",IF(COUNTIF(CurrentListing,AF197)>1,AJ197,\"\"))","v":""},{"$f":"IF(LEN(AF197)=0,\"\",IF(ISNA(MATCH(AF197,MasterListing,0)),AJ197,\"\"))","v":""},null,"__EMN_16__DROPOUT_N","","EMN16DROPOUTN","__EMN_16__DROPOUT_N",1,"______",null,null,null,null,{"$f":"IF(ISNUMBER(SEARCH($F$6,AP196)),MAX($AO$11:AO195)+1,0)","v":185},0,{"$f":"ROWS($AQ$12:AQ196)","v":185},{"$f":"IFERROR(VLOOKUP(ROWS($AR$12:AR196),$AO$12:$AP$3014,2,0),\"\")","v":0}]
[null,null,null,null,null,null,null,null,null,null,null,null,null,null,null,null,null,null,null,null,null,null,null,null,null,null,{"$f":"IFERROR(INDEX($AE$13:$AE$1003, SMALL(IF(ISBLANK($AE$13:$AE$1003)+ISERROR($AE$13:$AE$1003)+LEN($AE$13:$AE$1003)=0, \"\", ROW($AE$13:$AE$1003)-MIN(ROW($AE$13:$AE$1003))+1), ROW(186:186))),\"\")","v":"__EMN_16__GRADALTDPL_N"},{"$f":"IF(AF198=\"\",\"\",IF(COUNTIF(CurrentListing,AF198)>1,AJ198,\"\"))","v":""},{"$f":"IF(LEN(AF198)=0,\"\",IF(ISNA(MATCH(AF198,MasterListing,0)),AJ198,\"\"))","v":""},null,"__EMN_16__GHS_N","","EMN16GHSN","__EMN_16__GHS_N",1,"______",null,null,null,null,{"$f":"IF(ISNUMBER(SEARCH($F$6,AP197)),MAX($AO$11:AO196)+1,0)","v":186},0,{"$f":"ROWS($AQ$12:AQ197)","v":186},{"$f":"IFERROR(VLOOKUP(ROWS($AR$12:AR197),$AO$12:$AP$3014,2,0),\"\")","v":0}]
[null,null,null,null,null,null,null,null,null,null,null,null,null,null,null,null,null,null,null,null,null,null,null,null,null,null,{"$f":"IFERROR(INDEX($AE$13:$AE$1003, SMALL(IF(ISBLANK($AE$13:$AE$1003)+ISERROR($AE$13:$AE$1003)+LEN($AE$13:$AE$1003)=0, \"\", ROW($AE$13:$AE$1003)-MIN(ROW($AE$13:$AE$1003))+1), ROW(187:187))),\"\")","v":"__EMN_16__MKC_N"},{"$f":"IF(AF199=\"\",\"\",IF(COUNTIF(CurrentListing,AF199)>1,AJ199,\"\"))","v":""},{"$f":"IF(LEN(AF199)=0,\"\",IF(ISNA(MATCH(AF199,MasterListing,0)),AJ199,\"\"))","v":""},null,"__EMN_16__GRADALTDPL_N","","EMN16GRADALTDPLN","__EMN_16__GRADALTDPL_N",1,"______",null,null,null,null,{"$f":"IF(ISNUMBER(SEARCH($F$6,AP198)),MAX($AO$11:AO197)+1,0)","v":187},0,{"$f":"ROWS($AQ$12:AQ198)","v":187},{"$f":"IFERROR(VLOOKUP(ROWS($AR$12:AR198),$AO$12:$AP$3014,2,0),\"\")","v":0}]
[null,null,null,null,null,null,null,null,null,null,null,null,null,null,null,null,null,null,null,null,null,null,null,null,null,null,{"$f":"IFERROR(INDEX($AE$13:$AE$1003, SMALL(IF(ISBLANK($AE$13:$AE$1003)+ISERROR($AE$13:$AE$1003)+LEN($AE$13:$AE$1003)=0, \"\", ROW($AE$13:$AE$1003)-MIN(ROW($AE$13:$AE$1003))+1), ROW(188:188))),\"\")","v":"__EMN_16__RC_N"},{"$f":"IF(AF200=\"\",\"\",IF(COUNTIF(CurrentListing,AF200)>1,AJ200,\"\"))","v":""},{"$f":"IF(LEN(AF200)=0,\"\",IF(ISNA(MATCH(AF200,MasterListing,0)),AJ200,\"\"))","v":""},null,"__EMN_16__MKC_N","","EMN16MKCN","__EMN_16__MKC_N",1,"______",null,null,null,null,{"$f":"IF(ISNUMBER(SEARCH($F$6,AP199)),MAX($AO$11:AO198)+1,0)","v":188},0,{"$f":"ROWS($AQ$12:AQ199)","v":188},{"$f":"IFERROR(VLOOKUP(ROWS($AR$12:AR199),$AO$12:$AP$3014,2,0),\"\")","v":0}]
[null,null,null,null,null,null,null,null,null,null,null,null,null,null,null,null,null,null,null,null,null,null,null,null,null,null,{"$f":"IFERROR(INDEX($AE$13:$AE$1003, SMALL(IF(ISBLANK($AE$13:$AE$1003)+ISERROR($AE$13:$AE$1003)+LEN($AE$13:$AE$1003)=0, \"\", ROW($AE$13:$AE$1003)-MIN(ROW($AE$13:$AE$1003))+1), ROW(189:189))),\"\")","v":"__EMN_16__RMA_N"},{"$f":"IF(AF201=\"\",\"\",IF(COUNTIF(CurrentListing,AF201)>1,AJ201,\"\"))","v":""},{"$f":"IF(LEN(AF201)=0,\"\",IF(ISNA(MATCH(AF201,MasterListing,0)),AJ201,\"\"))","v":""},null,"__EMN_16__RC_N","","EMN16RCN","__EMN_16__RC_N",1,"______",null,null,null,null,{"$f":"IF(ISNUMBER(SEARCH($F$6,AP200)),MAX($AO$11:AO199)+1,0)","v":189},0,{"$f":"ROWS($AQ$12:AQ200)","v":189},{"$f":"IFERROR(VLOOKUP(ROWS($AR$12:AR200),$AO$12:$AP$3014,2,0),\"\")","v":0}]
[null,null,null,null,null,null,null,null,null,null,null,null,null,null,null,null,null,null,null,null,null,null,null,null,null,null,{"$f":"IFERROR(INDEX($AE$13:$AE$1003, SMALL(IF(ISBLANK($AE$13:$AE$1003)+ISERROR($AE$13:$AE$1003)+LEN($AE$13:$AE$1003)=0, \"\", ROW($AE$13:$AE$1003)-MIN(ROW($AE$13:$AE$1003))+1), ROW(190:190))),\"\")","v":"__EMN_16__TRAN_N"},{"$f":"IF(AF202=\"\",\"\",IF(COUNTIF(CurrentListing,AF202)>1,AJ202,\"\"))","v":""},{"$f":"IF(LEN(AF202)=0,\"\",IF(ISNA(MATCH(AF202,MasterListing,0)),AJ202,\"\"))","v":""},null,"__EMN_16__RMA_N","","EMN16RMAN","__EMN_16__RMA_N",1,"______",null,null,null,null,{"$f":"IF(ISNUMBER(SEARCH($F$6,AP201)),MAX($AO$11:AO200)+1,0)","v":190},0,{"$f":"ROWS($AQ$12:AQ201)","v":190},{"$f":"IFERROR(VLOOKUP(ROWS($AR$12:AR201),$AO$12:$AP$3014,2,0),\"\")","v":0}]
[null,null,null,null,null,null,null,null,null,null,null,null,null,null,null,null,null,null,null,null,null,null,null,null,null,null,{"$f":"IFERROR(INDEX($AE$13:$AE$1003, SMALL(IF(ISBLANK($AE$13:$AE$1003)+ISERROR($AE$13:$AE$1003)+LEN($AE$13:$AE$1003)=0, \"\", ROW($AE$13:$AE$1003)-MIN(ROW($AE$13:$AE$1003))+1), ROW(191:191))),\"\")","v":"__EMN_17__D_N"},{"$f":"IF(AF203=\"\",\"\",IF(COUNTIF(CurrentListing,AF203)>1,AJ203,\"\"))","v":""},{"$f":"IF(LEN(AF203)=0,\"\",IF(ISNA(MATCH(AF203,MasterListing,0)),AJ203,\"\"))","v":""},null,"__EMN_16__TRAN_N","","EMN16TRANN","__EMN_16__TRAN_N",1,"______",null,null,null,null,{"$f":"IF(ISNUMBER(SEARCH($F$6,AP202)),MAX($AO$11:AO201)+1,0)","v":191},0,{"$f":"ROWS($AQ$12:AQ202)","v":191},{"$f":"IFERROR(VLOOKUP(ROWS($AR$12:AR202),$AO$12:$AP$3014,2,0),\"\")","v":0}]
[null,null,null,null,null,null,null,null,null,null,null,null,null,null,null,null,null,null,null,null,null,null,null,null,null,null,{"$f":"IFERROR(INDEX($AE$13:$AE$1003, SMALL(IF(ISBLANK($AE$13:$AE$1003)+ISERROR($AE$13:$AE$1003)+LEN($AE$13:$AE$1003)=0, \"\", ROW($AE$13:$AE$1003)-MIN(ROW($AE$13:$AE$1003))+1), ROW(192:192))),\"\")","v":"__EMN_17__DROPOUT_N"},{"$f":"IF(AF204=\"\",\"\",IF(COUNTIF(CurrentListing,AF204)>1,AJ204,\"\"))","v":""},{"$f":"IF(LEN(AF204)=0,\"\",IF(ISNA(MATCH(AF204,MasterListing,0)),AJ204,\"\"))","v":""},null,"__EMN_17__D_N","","EMN17DN","__EMN_17__D_N",1,"______",null,null,null,null,{"$f":"IF(ISNUMBER(SEARCH($F$6,AP203)),MAX($AO$11:AO202)+1,0)","v":192},0,{"$f":"ROWS($AQ$12:AQ203)","v":192},{"$f":"IFERROR(VLOOKUP(ROWS($AR$12:AR203),$AO$12:$AP$3014,2,0),\"\")","v":0}]
[null,null,null,null,null,null,null,null,null,null,null,null,null,null,null,null,null,null,null,null,null,null,null,null,null,null,{"$f":"IFERROR(INDEX($AE$13:$AE$1003, SMALL(IF(ISBLANK($AE$13:$AE$1003)+ISERROR($AE$13:$AE$1003)+LEN($AE$13:$AE$1003)=0, \"\", ROW($AE$13:$AE$1003)-MIN(ROW($AE$13:$AE$1003))+1), ROW(193:193))),\"\")","v":"__EMN_17__GHS_N"},{"$f":"IF(AF205=\"\",\"\",IF(COUNTIF(CurrentListing,AF205)>1,AJ205,\"\"))","v":""},{"$f":"IF(LEN(AF205)=0,\"\",IF(ISNA(MATCH(AF205,MasterListing,0)),AJ205,\"\"))","v":""},null,{"$f":"IF(LEN(AG204)=0,\"\",IF(ISNA(MATCH(AG204,CurrentListing,0)),AH204,\"\"))","v":"__EMN_17__DROPOUT_N"},"","EMN17DROPOUTN","__EMN_17__DROPOUT_N",1,"______",null,null,null,null,{"$f":"IF(ISNUMBER(SEARCH($F$6,AP204)),MAX($AO$11:AO203)+1,0)","v":193},0,{"$f":"ROWS($AQ$12:AQ204)","v":193},{"$f":"IFERROR(VLOOKUP(ROWS($AR$12:AR204),$AO$12:$AP$3014,2,0),\"\")","v":0}]
[null,null,null,null,null,null,null,null,null,null,null,null,null,null,null,null,null,null,null,null,null,null,null,null,null,null,{"$f":"IFERROR(INDEX($AE$13:$AE$1003, SMALL(IF(ISBLANK($AE$13:$AE$1003)+ISERROR($AE$13:$AE$1003)+LEN($AE$13:$AE$1003)=0, \"\", ROW($AE$13:$AE$1003)-MIN(ROW($AE$13:$AE$1003))+1), ROW(194:194))),\"\")","v":"__EMN_17__GRADALTDPL_N"},{"$f":"IF(AF206=\"\",\"\",IF(COUNTIF(CurrentListing,AF206)>1,AJ206,\"\"))","v":""},{"$f":"IF(LEN(AF206)=0,\"\",IF(ISNA(MATCH(AF206,MasterListing,0)),AJ206,\"\"))","v":""},null,"__EMN_17__GHS_N",{"$f":"H205&I205&P205&Q205&R205&V205&W205","v":""},"EMN17GHSN","__EMN_17__GHS_N",1,"______",null,null,null,null,{"$f":"IF(ISNUMBER(SEARCH($F$6,AP205)),MAX($AO$11:AO204)+1,0)","v":194},0,{"$f":"ROWS($AQ$12:AQ205)","v":194},{"$f":"IFERROR(VLOOKUP(ROWS($AR$12:AR205),$AO$12:$AP$3014,2,0),\"\")","v":0}]
[null,null,null,null,null,null,null,null,null,null,null,null,null,null,null,null,null,null,null,null,null,null,null,null,null,null,{"$f":"IFERROR(INDEX($AE$13:$AE$1003, SMALL(IF(ISBLANK($AE$13:$AE$1003)+ISERROR($AE$13:$AE$1003)+LEN($AE$13:$AE$1003)=0, \"\", ROW($AE$13:$AE$1003)-MIN(ROW($AE$13:$AE$1003))+1), ROW(195:195))),\"\")","v":"__EMN_17__MKC_N"},{"$f":"IF(AF207=\"\",\"\",IF(COUNTIF(CurrentListing,AF207)>1,AJ207,\"\"))","v":""},{"$f":"IF(LEN(AF207)=0,\"\",IF(ISNA(MATCH(AF207,MasterListing,0)),AJ207,\"\"))","v":""},null,"__EMN_17__GRADALTDPL_N","","EMN17GRADALTDPLN","__EMN_17__GRADALTDPL_N",{"$f":"IF(LEN(AA206)>0,1,0)","v":1},{"$f":"H206&\"_\"&I206&\"_\"&P206&\"_\"&Q206&\"_\"&R206&\"_\"&V206&\"_\"&W206","v":"______"},null,null,null,null,{"$f":"IF(ISNUMBER(SEARCH($F$6,AP206)),MAX($AO$11:AO205)+1,0)","v":195},0,{"$f":"ROWS($AQ$12:AQ206)","v":195},{"$f":"IFERROR(VLOOKUP(ROWS($AR$12:AR206),$AO$12:$AP$3014,2,0),\"\")","v":0}]
[null,null,null,null,null,null,null,null,null,null,null,null,null,null,null,null,null,null,null,null,null,null,null,null,null,null,{"$f":"IFERROR(INDEX($AE$13:$AE$1003, SMALL(IF(ISBLANK($AE$13:$AE$1003)+ISERROR($AE$13:$AE$1003)+LEN($AE$13:$AE$1003)=0, \"\", ROW($AE$13:$AE$1003)-MIN(ROW($AE$13:$AE$1003))+1), ROW(196:196))),\"\")","v":"__EMN_17__RC_N"},{"$f":"IF(AF208=\"\",\"\",IF(COUNTIF(CurrentListing,AF208)>1,AJ208,\"\"))","v":""},{"$f":"IF(LEN(AF208)=0,\"\",IF(ISNA(MATCH(AF208,MasterListing,0)),AJ208,\"\"))","v":""},null,"__EMN_17__MKC_N","","EMN17MKCN","__EMN_17__MKC_N",1,"______",null,null,null,null,{"$f":"IF(ISNUMBER(SEARCH($F$6,AP207)),MAX($AO$11:AO206)+1,0)","v":196},0,{"$f":"ROWS($AQ$12:AQ207)","v":196},{"$f":"IFERROR(VLOOKUP(ROWS($AR$12:AR207),$AO$12:$AP$3014,2,0),\"\")","v":0}]
[null,null,null,null,null,null,null,null,null,null,null,null,null,null,null,null,null,null,null,null,null,null,null,null,null,null,{"$f":"IFERROR(INDEX($AE$13:$AE$1003, SMALL(IF(ISBLANK($AE$13:$AE$1003)+ISERROR($AE$13:$AE$1003)+LEN($AE$13:$AE$1003)=0, \"\", ROW($AE$13:$AE$1003)-MIN(ROW($AE$13:$AE$1003))+1), ROW(197:197))),\"\")","v":"__EMN_17__RMA_N"},{"$f":"IF(AF209=\"\",\"\",IF(COUNTIF(CurrentListing,AF209)>1,AJ209,\"\"))","v":""},{"$f":"IF(LEN(AF209)=0,\"\",IF(ISNA(MATCH(AF209,MasterListing,0)),AJ209,\"\"))","v":""},null,"__EMN_17__RC_N","","EMN17RCN","__EMN_17__RC_N",1,"______",null,null,null,null,{"$f":"IF(ISNUMBER(SEARCH($F$6,AP208)),MAX($AO$11:AO207)+1,0)","v":197},0,{"$f":"ROWS($AQ$12:AQ208)","v":197},{"$f":"IFERROR(VLOOKUP(ROWS($AR$12:AR208),$AO$12:$AP$3014,2,0),\"\")","v":0}]
[null,null,null,null,null,null,null,null,null,null,null,null,null,null,null,null,null,null,null,null,null,null,null,null,null,null,{"$f":"IFERROR(INDEX($AE$13:$AE$1003, SMALL(IF(ISBLANK($AE$13:$AE$1003)+ISERROR($AE$13:$AE$1003)+LEN($AE$13:$AE$1003)=0, \"\", ROW($AE$13:$AE$1003)-MIN(ROW($AE$13:$AE$1003))+1), ROW(198:198))),\"\")","v":"__EMN_17__TRAN_N"},{"$f":"IF(AF210=\"\",\"\",IF(COUNTIF(CurrentListing,AF210)>1,AJ210,\"\"))","v":""},{"$f":"IF(LEN(AF210)=0,\"\",IF(ISNA(MATCH(AF210,MasterListing,0)),AJ210,\"\"))","v":""},null,"__EMN_17__RMA_N","","EMN17RMAN","__EMN_17__RMA_N",1,"______",null,null,null,null,{"$f":"IF(ISNUMBER(SEARCH($F$6,AP209)),MAX($AO$11:AO208)+1,0)","v":198},0,{"$f":"ROWS($AQ$12:AQ209)","v":198},{"$f":"IFERROR(VLOOKUP(ROWS($AR$12:AR209),$AO$12:$AP$3014,2,0),\"\")","v":0}]
[null,null,null,null,null,null,null,null,null,null,null,null,null,null,null,null,null,null,null,null,null,null,null,null,null,null,{"$f":"IFERROR(INDEX($AE$13:$AE$1003, SMALL(IF(ISBLANK($AE$13:$AE$1003)+ISERROR($AE$13:$AE$1003)+LEN($AE$13:$AE$1003)=0, \"\", ROW($AE$13:$AE$1003)-MIN(ROW($AE$13:$AE$1003))+1), ROW(199:199))),\"\")","v":"__EMN_18__D_N"},{"$f":"IF(AF211=\"\",\"\",IF(COUNTIF(CurrentListing,AF211)>1,AJ211,\"\"))","v":""},{"$f":"IF(LEN(AF211)=0,\"\",IF(ISNA(MATCH(AF211,MasterListing,0)),AJ211,\"\"))","v":""},null,"__EMN_17__TRAN_N","","EMN17TRANN","__EMN_17__TRAN_N",1,"______",null,null,null,null,{"$f":"IF(ISNUMBER(SEARCH($F$6,AP210)),MAX($AO$11:AO209)+1,0)","v":199},0,{"$f":"ROWS($AQ$12:AQ210)","v":199},{"$f":"IFERROR(VLOOKUP(ROWS($AR$12:AR210),$AO$12:$AP$3014,2,0),\"\")","v":0}]
[null,null,null,null,null,null,null,null,null,null,null,null,null,null,null,null,null,null,null,null,null,null,null,null,null,null,{"$f":"IFERROR(INDEX($AE$13:$AE$1003, SMALL(IF(ISBLANK($AE$13:$AE$1003)+ISERROR($AE$13:$AE$1003)+LEN($AE$13:$AE$1003)=0, \"\", ROW($AE$13:$AE$1003)-MIN(ROW($AE$13:$AE$1003))+1), ROW(200:200))),\"\")","v":"__EMN_18__DROPOUT_N"},{"$f":"IF(AF212=\"\",\"\",IF(COUNTIF(CurrentListing,AF212)>1,AJ212,\"\"))","v":""},{"$f":"IF(LEN(AF212)=0,\"\",IF(ISNA(MATCH(AF212,MasterListing,0)),AJ212,\"\"))","v":""},null,"__EMN_18__D_N","","EMN18DN","__EMN_18__D_N",1,"______",null,null,null,null,{"$f":"IF(ISNUMBER(SEARCH($F$6,AP211)),MAX($AO$11:AO210)+1,0)","v":200},0,{"$f":"ROWS($AQ$12:AQ211)","v":200},{"$f":"IFERROR(VLOOKUP(ROWS($AR$12:AR211),$AO$12:$AP$3014,2,0),\"\")","v":0}]
[null,null,null,null,null,null,null,null,null,null,null,null,null,null,null,null,null,null,null,null,null,null,null,null,null,null,{"$f":"IFERROR(INDEX($AE$13:$AE$1003, SMALL(IF(ISBLANK($AE$13:$AE$1003)+ISERROR($AE$13:$AE$1003)+LEN($AE$13:$AE$1003)=0, \"\", ROW($AE$13:$AE$1003)-MIN(ROW($AE$13:$AE$1003))+1), ROW(201:201))),\"\")","v":"__EMN_18__GHS_N"},{"$f":"IF(AF213=\"\",\"\",IF(COUNTIF(CurrentListing,AF213)>1,AJ213,\"\"))","v":""},{"$f":"IF(LEN(AF213)=0,\"\",IF(ISNA(MATCH(AF213,MasterListing,0)),AJ213,\"\"))","v":""},null,"__EMN_18__DROPOUT_N","","EMN18DROPOUTN","__EMN_18__DROPOUT_N",1,"______",null,null,null,null,{"$f":"IF(ISNUMBER(SEARCH($F$6,AP212)),MAX($AO$11:AO211)+1,0)","v":201},0,{"$f":"ROWS($AQ$12:AQ212)","v":201},{"$f":"IFERROR(VLOOKUP(ROWS($AR$12:AR212),$AO$12:$AP$3014,2,0),\"\")","v":0}]
[null,null,null,null,null,null,null,null,null,null,null,null,null,null,null,null,null,null,null,null,null,null,null,null,null,null,{"$f":"IFERROR(INDEX($AE$13:$AE$1003, SMALL(IF(ISBLANK($AE$13:$AE$1003)+ISERROR($AE$13:$AE$1003)+LEN($AE$13:$AE$1003)=0, \"\", ROW($AE$13:$AE$1003)-MIN(ROW($AE$13:$AE$1003))+1), ROW(202:202))),\"\")","v":"__EMN_18__GRADALTDPL_N"},{"$f":"IF(AF214=\"\",\"\",IF(COUNTIF(CurrentListing,AF214)>1,AJ214,\"\"))","v":""},{"$f":"IF(LEN(AF214)=0,\"\",IF(ISNA(MATCH(AF214,MasterListing,0)),AJ214,\"\"))","v":""},null,"__EMN_18__GHS_N","","EMN18GHSN","__EMN_18__GHS_N",1,"______",null,null,null,null,{"$f":"IF(ISNUMBER(SEARCH($F$6,AP213)),MAX($AO$11:AO212)+1,0)","v":202},0,{"$f":"ROWS($AQ$12:AQ213)","v":202},{"$f":"IFERROR(VLOOKUP(ROWS($AR$12:AR213),$AO$12:$AP$3014,2,0),\"\")","v":0}]
[null,null,null,null,null,null,null,null,null,null,null,null,null,null,null,null,null,null,null,null,null,null,null,null,null,null,{"$f":"IFERROR(INDEX($AE$13:$AE$1003, SMALL(IF(ISBLANK($AE$13:$AE$1003)+ISERROR($AE$13:$AE$1003)+LEN($AE$13:$AE$1003)=0, \"\", ROW($AE$13:$AE$1003)-MIN(ROW($AE$13:$AE$1003))+1), ROW(203:203))),\"\")","v":"__EMN_18__MKC_N"},{"$f":"IF(AF215=\"\",\"\",IF(COUNTIF(CurrentListing,AF215)>1,AJ215,\"\"))","v":""},{"$f":"IF(LEN(AF215)=0,\"\",IF(ISNA(MATCH(AF215,MasterListing,0)),AJ215,\"\"))","v":""},null,"__EMN_18__GRADALTDPL_N","","EMN18GRADALTDPLN","__EMN_18__GRADALTDPL_N",1,"______",null,null,null,null,{"$f":"IF(ISNUMBER(SEARCH($F$6,AP214)),MAX($AO$11:AO213)+1,0)","v":203},0,{"$f":"ROWS($AQ$12:AQ214)","v":203},{"$f":"IFERROR(VLOOKUP(ROWS($AR$12:AR214),$AO$12:$AP$3014,2,0),\"\")","v":0}]
[null,null,null,null,null,null,null,null,null,null,null,null,null,null,null,null,null,null,null,null,null,null,null,null,null,null,{"$f":"IFERROR(INDEX($AE$13:$AE$1003, SMALL(IF(ISBLANK($AE$13:$AE$1003)+ISERROR($AE$13:$AE$1003)+LEN($AE$13:$AE$1003)=0, \"\", ROW($AE$13:$AE$1003)-MIN(ROW($AE$13:$AE$1003))+1), ROW(204:204))),\"\")","v":"__EMN_18__RC_N"},{"$f":"IF(AF216=\"\",\"\",IF(COUNTIF(CurrentListing,AF216)>1,AJ216,\"\"))","v":""},{"$f":"IF(LEN(AF216)=0,\"\",IF(ISNA(MATCH(AF216,MasterListing,0)),AJ216,\"\"))","v":""},null,"__EMN_18__MKC_N","","EMN18MKCN","__EMN_18__MKC_N",1,"______",null,null,null,null,{"$f":"IF(ISNUMBER(SEARCH($F$6,AP215)),MAX($AO$11:AO214)+1,0)","v":204},0,{"$f":"ROWS($AQ$12:AQ215)","v":204},{"$f":"IFERROR(VLOOKUP(ROWS($AR$12:AR215),$AO$12:$AP$3014,2,0),\"\")","v":0}]
[null,null,null,null,null,null,null,null,null,null,null,null,null,null,null,null,null,null,null,null,null,null,null,null,null,null,{"$f":"IFERROR(INDEX($AE$13:$AE$1003, SMALL(IF(ISBLANK($AE$13:$AE$1003)+ISERROR($AE$13:$AE$1003)+LEN($AE$13:$AE$1003)=0, \"\", ROW($AE$13:$AE$1003)-MIN(ROW($AE$13:$AE$1003))+1), ROW(205:205))),\"\")","v":"__EMN_18__RMA_N"},{"$f":"IF(AF217=\"\",\"\",IF(COUNTIF(CurrentListing,AF217)>1,AJ217,\"\"))","v":""},{"$f":"IF(LEN(AF217)=0,\"\",IF(ISNA(MATCH(AF217,MasterListing,0)),AJ217,\"\"))","v":""},null,"__EMN_18__RC_N","","EMN18RCN","__EMN_18__RC_N",1,"______",null,null,null,null,{"$f":"IF(ISNUMBER(SEARCH($F$6,AP216)),MAX($AO$11:AO215)+1,0)","v":205},0,{"$f":"ROWS($AQ$12:AQ216)","v":205},{"$f":"IFERROR(VLOOKUP(ROWS($AR$12:AR216),$AO$12:$AP$3014,2,0),\"\")","v":0}]
[null,null,null,null,null,null,null,null,null,null,null,null,null,null,null,null,null,null,null,null,null,null,null,null,null,null,{"$f":"IFERROR(INDEX($AE$13:$AE$1003, SMALL(IF(ISBLANK($AE$13:$AE$1003)+ISERROR($AE$13:$AE$1003)+LEN($AE$13:$AE$1003)=0, \"\", ROW($AE$13:$AE$1003)-MIN(ROW($AE$13:$AE$1003))+1), ROW(206:206))),\"\")","v":"__EMN_18__TRAN_N"},{"$f":"IF(AF218=\"\",\"\",IF(COUNTIF(CurrentListing,AF218)>1,AJ218,\"\"))","v":""},{"$f":"IF(LEN(AF218)=0,\"\",IF(ISNA(MATCH(AF218,MasterListing,0)),AJ218,\"\"))","v":""},null,"__EMN_18__RMA_N","","EMN18RMAN","__EMN_18__RMA_N",1,"______",null,null,null,null,{"$f":"IF(ISNUMBER(SEARCH($F$6,AP217)),MAX($AO$11:AO216)+1,0)","v":206},0,{"$f":"ROWS($AQ$12:AQ217)","v":206},{"$f":"IFERROR(VLOOKUP(ROWS($AR$12:AR217),$AO$12:$AP$3014,2,0),\"\")","v":0}]
[null,null,null,null,null,null,null,null,null,null,null,null,null,null,null,null,null,null,null,null,null,null,null,null,null,null,{"$f":"IFERROR(INDEX($AE$13:$AE$1003, SMALL(IF(ISBLANK($AE$13:$AE$1003)+ISERROR($AE$13:$AE$1003)+LEN($AE$13:$AE$1003)=0, \"\", ROW($AE$13:$AE$1003)-MIN(ROW($AE$13:$AE$1003))+1), ROW(207:207))),\"\")","v":"__EMN_19__D_N"},{"$f":"IF(AF219=\"\",\"\",IF(COUNTIF(CurrentListing,AF219)>1,AJ219,\"\"))","v":""},{"$f":"IF(LEN(AF219)=0,\"\",IF(ISNA(MATCH(AF219,MasterListing,0)),AJ219,\"\"))","v":""},null,"__EMN_18__TRAN_N","","EMN18TRANN","__EMN_18__TRAN_N",1,"______",null,null,null,null,{"$f":"IF(ISNUMBER(SEARCH($F$6,AP218)),MAX($AO$11:AO217)+1,0)","v":207},0,{"$f":"ROWS($AQ$12:AQ218)","v":207},{"$f":"IFERROR(VLOOKUP(ROWS($AR$12:AR218),$AO$12:$AP$3014,2,0),\"\")","v":0}]
[null,null,null,null,null,null,null,null,null,null,null,null,null,null,null,null,null,null,null,null,null,null,null,null,null,null,{"$f":"IFERROR(INDEX($AE$13:$AE$1003, SMALL(IF(ISBLANK($AE$13:$AE$1003)+ISERROR($AE$13:$AE$1003)+LEN($AE$13:$AE$1003)=0, \"\", ROW($AE$13:$AE$1003)-MIN(ROW($AE$13:$AE$1003))+1), ROW(208:208))),\"\")","v":"__EMN_19__DROPOUT_N"},{"$f":"IF(AF220=\"\",\"\",IF(COUNTIF(CurrentListing,AF220)>1,AJ220,\"\"))","v":""},{"$f":"IF(LEN(AF220)=0,\"\",IF(ISNA(MATCH(AF220,MasterListing,0)),AJ220,\"\"))","v":""},null,"__EMN_19__D_N","","EMN19DN","__EMN_19__D_N",1,"______",null,null,null,null,{"$f":"IF(ISNUMBER(SEARCH($F$6,AP219)),MAX($AO$11:AO218)+1,0)","v":208},0,{"$f":"ROWS($AQ$12:AQ219)","v":208},{"$f":"IFERROR(VLOOKUP(ROWS($AR$12:AR219),$AO$12:$AP$3014,2,0),\"\")","v":0}]
[null,null,null,null,null,null,null,null,null,null,null,null,null,null,null,null,null,null,null,null,null,null,null,null,null,null,{"$f":"IFERROR(INDEX($AE$13:$AE$1003, SMALL(IF(ISBLANK($AE$13:$AE$1003)+ISERROR($AE$13:$AE$1003)+LEN($AE$13:$AE$1003)=0, \"\", ROW($AE$13:$AE$1003)-MIN(ROW($AE$13:$AE$1003))+1), ROW(209:209))),\"\")","v":"__EMN_19__GHS_N"},{"$f":"IF(AF221=\"\",\"\",IF(COUNTIF(CurrentListing,AF221)>1,AJ221,\"\"))","v":""},{"$f":"IF(LEN(AF221)=0,\"\",IF(ISNA(MATCH(AF221,MasterListing,0)),AJ221,\"\"))","v":""},null,"__EMN_19__DROPOUT_N","","EMN19DROPOUTN","__EMN_19__DROPOUT_N",1,"______",null,null,null,null,{"$f":"IF(ISNUMBER(SEARCH($F$6,AP220)),MAX($AO$11:AO219)+1,0)","v":209},0,{"$f":"ROWS($AQ$12:AQ220)","v":209},{"$f":"IFERROR(VLOOKUP(ROWS($AR$12:AR220),$AO$12:$AP$3014,2,0),\"\")","v":0}]
[null,null,null,null,null,null,null,null,null,null,null,null,null,null,null,null,null,null,null,null,null,null,null,null,null,null,{"$f":"IFERROR(INDEX($AE$13:$AE$1003, SMALL(IF(ISBLANK($AE$13:$AE$1003)+ISERROR($AE$13:$AE$1003)+LEN($AE$13:$AE$1003)=0, \"\", ROW($AE$13:$AE$1003)-MIN(ROW($AE$13:$AE$1003))+1), ROW(210:210))),\"\")","v":"__EMN_19__GRADALTDPL_N"},{"$f":"IF(AF222=\"\",\"\",IF(COUNTIF(CurrentListing,AF222)>1,AJ222,\"\"))","v":""},{"$f":"IF(LEN(AF222)=0,\"\",IF(ISNA(MATCH(AF222,MasterListing,0)),AJ222,\"\"))","v":""},null,"__EMN_19__GHS_N","","EMN19GHSN","__EMN_19__GHS_N",1,"______",null,null,null,null,{"$f":"IF(ISNUMBER(SEARCH($F$6,AP221)),MAX($AO$11:AO220)+1,0)","v":210},0,{"$f":"ROWS($AQ$12:AQ221)","v":210},{"$f":"IFERROR(VLOOKUP(ROWS($AR$12:AR221),$AO$12:$AP$3014,2,0),\"\")","v":0}]
[null,null,null,null,null,null,null,null,null,null,null,null,null,null,null,null,null,null,null,null,null,null,null,null,null,null,{"$f":"IFERROR(INDEX($AE$13:$AE$1003, SMALL(IF(ISBLANK($AE$13:$AE$1003)+ISERROR($AE$13:$AE$1003)+LEN($AE$13:$AE$1003)=0, \"\", ROW($AE$13:$AE$1003)-MIN(ROW($AE$13:$AE$1003))+1), ROW(211:211))),\"\")","v":"__EMN_19__MKC_N"},{"$f":"IF(AF223=\"\",\"\",IF(COUNTIF(CurrentListing,AF223)>1,AJ223,\"\"))","v":""},{"$f":"IF(LEN(AF223)=0,\"\",IF(ISNA(MATCH(AF223,MasterListing,0)),AJ223,\"\"))","v":""},null,"__EMN_19__GRADALTDPL_N","","EMN19GRADALTDPLN","__EMN_19__GRADALTDPL_N",1,"______",null,null,null,null,{"$f":"IF(ISNUMBER(SEARCH($F$6,AP222)),MAX($AO$11:AO221)+1,0)","v":211},0,{"$f":"ROWS($AQ$12:AQ222)","v":211},{"$f":"IFERROR(VLOOKUP(ROWS($AR$12:AR222),$AO$12:$AP$3014,2,0),\"\")","v":0}]
[null,null,null,null,null,null,null,null,null,null,null,null,null,null,null,null,null,null,null,null,null,null,null,null,null,null,{"$f":"IFERROR(INDEX($AE$13:$AE$1003, SMALL(IF(ISBLANK($AE$13:$AE$1003)+ISERROR($AE$13:$AE$1003)+LEN($AE$13:$AE$1003)=0, \"\", ROW($AE$13:$AE$1003)-MIN(ROW($AE$13:$AE$1003))+1), ROW(212:212))),\"\")","v":"__EMN_19__RC_N"},{"$f":"IF(AF224=\"\",\"\",IF(COUNTIF(CurrentListing,AF224)>1,AJ224,\"\"))","v":""},{"$f":"IF(LEN(AF224)=0,\"\",IF(ISNA(MATCH(AF224,MasterListing,0)),AJ224,\"\"))","v":""},null,"__EMN_19__MKC_N","","EMN19MKCN","__EMN_19__MKC_N",1,"______",null,null,null,null,{"$f":"IF(ISNUMBER(SEARCH($F$6,AP223)),MAX($AO$11:AO222)+1,0)","v":212},0,{"$f":"ROWS($AQ$12:AQ223)","v":212},{"$f":"IFERROR(VLOOKUP(ROWS($AR$12:AR223),$AO$12:$AP$3014,2,0),\"\")","v":0}]
[null,null,null,null,null,null,null,null,null,null,null,null,null,null,null,null,null,null,null,null,null,null,null,null,null,null,{"$f":"IFERROR(INDEX($AE$13:$AE$1003, SMALL(IF(ISBLANK($AE$13:$AE$1003)+ISERROR($AE$13:$AE$1003)+LEN($AE$13:$AE$1003)=0, \"\", ROW($AE$13:$AE$1003)-MIN(ROW($AE$13:$AE$1003))+1), ROW(213:213))),\"\")","v":"__EMN_19__RMA_N"},{"$f":"IF(AF225=\"\",\"\",IF(COUNTIF(CurrentListing,AF225)>1,AJ225,\"\"))","v":""},{"$f":"IF(LEN(AF225)=0,\"\",IF(ISNA(MATCH(AF225,MasterListing,0)),AJ225,\"\"))","v":""},null,"__EMN_19__RC_N","","EMN19RCN","__EMN_19__RC_N",1,"______",null,null,null,null,{"$f":"IF(ISNUMBER(SEARCH($F$6,AP224)),MAX($AO$11:AO223)+1,0)","v":213},0,{"$f":"ROWS($AQ$12:AQ224)","v":213},{"$f":"IFERROR(VLOOKUP(ROWS($AR$12:AR224),$AO$12:$AP$3014,2,0),\"\")","v":0}]
[null,null,null,null,null,null,null,null,null,null,null,null,null,null,null,null,null,null,null,null,null,null,null,null,null,null,{"$f":"IFERROR(INDEX($AE$13:$AE$1003, SMALL(IF(ISBLANK($AE$13:$AE$1003)+ISERROR($AE$13:$AE$1003)+LEN($AE$13:$AE$1003)=0, \"\", ROW($AE$13:$AE$1003)-MIN(ROW($AE$13:$AE$1003))+1), ROW(214:214))),\"\")","v":"__EMN_19__TRAN_N"},{"$f":"IF(AF226=\"\",\"\",IF(COUNTIF(CurrentListing,AF226)>1,AJ226,\"\"))","v":""},{"$f":"IF(LEN(AF226)=0,\"\",IF(ISNA(MATCH(AF226,MasterListing,0)),AJ226,\"\"))","v":""},null,"__EMN_19__RMA_N","","EMN19RMAN","__EMN_19__RMA_N",1,"______",null,null,null,null,{"$f":"IF(ISNUMBER(SEARCH($F$6,AP225)),MAX($AO$11:AO224)+1,0)","v":214},0,{"$f":"ROWS($AQ$12:AQ225)","v":214},{"$f":"IFERROR(VLOOKUP(ROWS($AR$12:AR225),$AO$12:$AP$3014,2,0),\"\")","v":0}]
[null,null,null,null,null,null,null,null,null,null,null,null,null,null,null,null,null,null,null,null,null,null,null,null,null,null,{"$f":"IFERROR(INDEX($AE$13:$AE$1003, SMALL(IF(ISBLANK($AE$13:$AE$1003)+ISERROR($AE$13:$AE$1003)+LEN($AE$13:$AE$1003)=0, \"\", ROW($AE$13:$AE$1003)-MIN(ROW($AE$13:$AE$1003))+1), ROW(215:215))),\"\")","v":"__EMN_20__D_N"},{"$f":"IF(AF227=\"\",\"\",IF(COUNTIF(CurrentListing,AF227)>1,AJ227,\"\"))","v":""},{"$f":"IF(LEN(AF227)=0,\"\",IF(ISNA(MATCH(AF227,MasterListing,0)),AJ227,\"\"))","v":""},null,"__EMN_19__TRAN_N","","EMN19TRANN","__EMN_19__TRAN_N",1,"______",null,null,null,null,{"$f":"IF(ISNUMBER(SEARCH($F$6,AP226)),MAX($AO$11:AO225)+1,0)","v":215},0,{"$f":"ROWS($AQ$12:AQ226)","v":215},{"$f":"IFERROR(VLOOKUP(ROWS($AR$12:AR226),$AO$12:$AP$3014,2,0),\"\")","v":0}]
[null,null,null,null,null,null,null,null,null,null,null,null,null,null,null,null,null,null,null,null,null,null,null,null,null,null,{"$f":"IFERROR(INDEX($AE$13:$AE$1003, SMALL(IF(ISBLANK($AE$13:$AE$1003)+ISERROR($AE$13:$AE$1003)+LEN($AE$13:$AE$1003)=0, \"\", ROW($AE$13:$AE$1003)-MIN(ROW($AE$13:$AE$1003))+1), ROW(216:216))),\"\")","v":"__EMN_20__DROPOUT_N"},{"$f":"IF(AF228=\"\",\"\",IF(COUNTIF(CurrentListing,AF228)>1,AJ228,\"\"))","v":""},{"$f":"IF(LEN(AF228)=0,\"\",IF(ISNA(MATCH(AF228,MasterListing,0)),AJ228,\"\"))","v":""},null,"__EMN_20__D_N","","EMN20DN","__EMN_20__D_N",1,"______",null,null,null,null,{"$f":"IF(ISNUMBER(SEARCH($F$6,AP227)),MAX($AO$11:AO226)+1,0)","v":216},0,{"$f":"ROWS($AQ$12:AQ227)","v":216},{"$f":"IFERROR(VLOOKUP(ROWS($AR$12:AR227),$AO$12:$AP$3014,2,0),\"\")","v":0}]
[null,null,null,null,null,null,null,null,null,null,null,null,null,null,null,null,null,null,null,null,null,null,null,null,null,null,{"$f":"IFERROR(INDEX($AE$13:$AE$1003, SMALL(IF(ISBLANK($AE$13:$AE$1003)+ISERROR($AE$13:$AE$1003)+LEN($AE$13:$AE$1003)=0, \"\", ROW($AE$13:$AE$1003)-MIN(ROW($AE$13:$AE$1003))+1), ROW(217:217))),\"\")","v":"__EMN_20__GHS_N"},{"$f":"IF(AF229=\"\",\"\",IF(COUNTIF(CurrentListing,AF229)>1,AJ229,\"\"))","v":""},{"$f":"IF(LEN(AF229)=0,\"\",IF(ISNA(MATCH(AF229,MasterListing,0)),AJ229,\"\"))","v":""},null,"__EMN_20__DROPOUT_N","","EMN20DROPOUTN","__EMN_20__DROPOUT_N",1,"______",null,null,null,null,{"$f":"IF(ISNUMBER(SEARCH($F$6,AP228)),MAX($AO$11:AO227)+1,0)","v":217},0,{"$f":"ROWS($AQ$12:AQ228)","v":217},{"$f":"IFERROR(VLOOKUP(ROWS($AR$12:AR228),$AO$12:$AP$3014,2,0),\"\")","v":0}]
[null,null,null,null,null,null,null,null,null,null,null,null,null,null,null,null,null,null,null,null,null,null,null,null,null,null,{"$f":"IFERROR(INDEX($AE$13:$AE$1003, SMALL(IF(ISBLANK($AE$13:$AE$1003)+ISERROR($AE$13:$AE$1003)+LEN($AE$13:$AE$1003)=0, \"\", ROW($AE$13:$AE$1003)-MIN(ROW($AE$13:$AE$1003))+1), ROW(218:218))),\"\")","v":"__EMN_20__GRADALTDPL_N"},{"$f":"IF(AF230=\"\",\"\",IF(COUNTIF(CurrentListing,AF230)>1,AJ230,\"\"))","v":""},{"$f":"IF(LEN(AF230)=0,\"\",IF(ISNA(MATCH(AF230,MasterListing,0)),AJ230,\"\"))","v":""},null,"__EMN_20__GHS_N","","EMN20GHSN","__EMN_20__GHS_N",1,"______",null,null,null,null,{"$f":"IF(ISNUMBER(SEARCH($F$6,AP229)),MAX($AO$11:AO228)+1,0)","v":218},0,{"$f":"ROWS($AQ$12:AQ229)","v":218},{"$f":"IFERROR(VLOOKUP(ROWS($AR$12:AR229),$AO$12:$AP$3014,2,0),\"\")","v":0}]
[null,null,null,null,null,null,null,null,null,null,null,null,null,null,null,null,null,null,null,null,null,null,null,null,null,null,{"$f":"IFERROR(INDEX($AE$13:$AE$1003, SMALL(IF(ISBLANK($AE$13:$AE$1003)+ISERROR($AE$13:$AE$1003)+LEN($AE$13:$AE$1003)=0, \"\", ROW($AE$13:$AE$1003)-MIN(ROW($AE$13:$AE$1003))+1), ROW(219:219))),\"\")","v":"__EMN_20__MKC_N"},{"$f":"IF(AF231=\"\",\"\",IF(COUNTIF(CurrentListing,AF231)>1,AJ231,\"\"))","v":""},{"$f":"IF(LEN(AF231)=0,\"\",IF(ISNA(MATCH(AF231,MasterListing,0)),AJ231,\"\"))","v":""},null,"__EMN_20__GRADALTDPL_N","","EMN20GRADALTDPLN","__EMN_20__GRADALTDPL_N",1,"______",null,null,null,null,{"$f":"IF(ISNUMBER(SEARCH($F$6,AP230)),MAX($AO$11:AO229)+1,0)","v":219},0,{"$f":"ROWS($AQ$12:AQ230)","v":219},{"$f":"IFERROR(VLOOKUP(ROWS($AR$12:AR230),$AO$12:$AP$3014,2,0),\"\")","v":0}]
[null,null,null,null,null,null,null,null,null,null,null,null,null,null,null,null,null,null,null,null,null,null,null,null,null,null,{"$f":"IFERROR(INDEX($AE$13:$AE$1003, SMALL(IF(ISBLANK($AE$13:$AE$1003)+ISERROR($AE$13:$AE$1003)+LEN($AE$13:$AE$1003)=0, \"\", ROW($AE$13:$AE$1003)-MIN(ROW($AE$13:$AE$1003))+1), ROW(220:220))),\"\")","v":"__EMN_20__RC_N"},{"$f":"IF(AF232=\"\",\"\",IF(COUNTIF(CurrentListing,AF232)>1,AJ232,\"\"))","v":""},{"$f":"IF(LEN(AF232)=0,\"\",IF(ISNA(MATCH(AF232,MasterListing,0)),AJ232,\"\"))","v":""},null,"__EMN_20__MKC_N","","EMN20MKCN","__EMN_20__MKC_N",1,"______",null,null,null,null,{"$f":"IF(ISNUMBER(SEARCH($F$6,AP231)),MAX($AO$11:AO230)+1,0)","v":220},0,{"$f":"ROWS($AQ$12:AQ231)","v":220},{"$f":"IFERROR(VLOOKUP(ROWS($AR$12:AR231),$AO$12:$AP$3014,2,0),\"\")","v":0}]
[null,null,null,null,null,null,null,null,null,null,null,null,null,null,null,null,null,null,null,null,null,null,null,null,null,null,{"$f":"IFERROR(INDEX($AE$13:$AE$1003, SMALL(IF(ISBLANK($AE$13:$AE$1003)+ISERROR($AE$13:$AE$1003)+LEN($AE$13:$AE$1003)=0, \"\", ROW($AE$13:$AE$1003)-MIN(ROW($AE$13:$AE$1003))+1), ROW(221:221))),\"\")","v":"__EMN_20__RMA_N"},{"$f":"IF(AF233=\"\",\"\",IF(COUNTIF(CurrentListing,AF233)>1,AJ233,\"\"))","v":""},{"$f":"IF(LEN(AF233)=0,\"\",IF(ISNA(MATCH(AF233,MasterListing,0)),AJ233,\"\"))","v":""},null,"__EMN_20__RC_N","","EMN20RCN","__EMN_20__RC_N",1,"______",null,null,null,null,{"$f":"IF(ISNUMBER(SEARCH($F$6,AP232)),MAX($AO$11:AO231)+1,0)","v":221},0,{"$f":"ROWS($AQ$12:AQ232)","v":221},{"$f":"IFERROR(VLOOKUP(ROWS($AR$12:AR232),$AO$12:$AP$3014,2,0),\"\")","v":0}]
[null,null,null,null,null,null,null,null,null,null,null,null,null,null,null,null,null,null,null,null,null,null,null,null,null,null,{"$f":"IFERROR(INDEX($AE$13:$AE$1003, SMALL(IF(ISBLANK($AE$13:$AE$1003)+ISERROR($AE$13:$AE$1003)+LEN($AE$13:$AE$1003)=0, \"\", ROW($AE$13:$AE$1003)-MIN(ROW($AE$13:$AE$1003))+1), ROW(222:222))),\"\")","v":"__EMN_20__TRAN_N"},{"$f":"IF(AF234=\"\",\"\",IF(COUNTIF(CurrentListing,AF234)>1,AJ234,\"\"))","v":""},{"$f":"IF(LEN(AF234)=0,\"\",IF(ISNA(MATCH(AF234,MasterListing,0)),AJ234,\"\"))","v":""},null,"__EMN_20__RMA_N","","EMN20RMAN","__EMN_20__RMA_N",1,"______",null,null,null,null,{"$f":"IF(ISNUMBER(SEARCH($F$6,AP233)),MAX($AO$11:AO232)+1,0)","v":222},0,{"$f":"ROWS($AQ$12:AQ233)","v":222},{"$f":"IFERROR(VLOOKUP(ROWS($AR$12:AR233),$AO$12:$AP$3014,2,0),\"\")","v":0}]
[null,null,null,null,null,null,null,null,null,null,null,null,null,null,null,null,null,null,null,null,null,null,null,null,null,null,{"$f":"IFERROR(INDEX($AE$13:$AE$1003, SMALL(IF(ISBLANK($AE$13:$AE$1003)+ISERROR($AE$13:$AE$1003)+LEN($AE$13:$AE$1003)=0, \"\", ROW($AE$13:$AE$1003)-MIN(ROW($AE$13:$AE$1003))+1), ROW(223:223))),\"\")","v":"__EMN_21__D_N"},{"$f":"IF(AF235=\"\",\"\",IF(COUNTIF(CurrentListing,AF235)>1,AJ235,\"\"))","v":""},{"$f":"IF(LEN(AF235)=0,\"\",IF(ISNA(MATCH(AF235,MasterListing,0)),AJ235,\"\"))","v":""},null,"__EMN_20__TRAN_N","","EMN20TRANN","__EMN_20__TRAN_N",1,"______",null,null,null,null,{"$f":"IF(ISNUMBER(SEARCH($F$6,AP234)),MAX($AO$11:AO233)+1,0)","v":223},0,{"$f":"ROWS($AQ$12:AQ234)","v":223},{"$f":"IFERROR(VLOOKUP(ROWS($AR$12:AR234),$AO$12:$AP$3014,2,0),\"\")","v":0}]
[null,null,null,null,null,null,null,null,null,null,null,null,null,null,null,null,null,null,null,null,null,null,null,null,null,null,{"$f":"IFERROR(INDEX($AE$13:$AE$1003, SMALL(IF(ISBLANK($AE$13:$AE$1003)+ISERROR($AE$13:$AE$1003)+LEN($AE$13:$AE$1003)=0, \"\", ROW($AE$13:$AE$1003)-MIN(ROW($AE$13:$AE$1003))+1), ROW(224:224))),\"\")","v":"__EMN_21__DROPOUT_N"},{"$f":"IF(AF236=\"\",\"\",IF(COUNTIF(CurrentListing,AF236)>1,AJ236,\"\"))","v":""},{"$f":"IF(LEN(AF236)=0,\"\",IF(ISNA(MATCH(AF236,MasterListing,0)),AJ236,\"\"))","v":""},null,"__EMN_21__D_N","","EMN21DN","__EMN_21__D_N",1,"______",null,null,null,null,{"$f":"IF(ISNUMBER(SEARCH($F$6,AP235)),MAX($AO$11:AO234)+1,0)","v":224},0,{"$f":"ROWS($AQ$12:AQ235)","v":224},{"$f":"IFERROR(VLOOKUP(ROWS($AR$12:AR235),$AO$12:$AP$3014,2,0),\"\")","v":0}]
[null,null,null,null,null,null,null,null,null,null,null,null,null,null,null,null,null,null,null,null,null,null,null,null,null,null,{"$f":"IFERROR(INDEX($AE$13:$AE$1003, SMALL(IF(ISBLANK($AE$13:$AE$1003)+ISERROR($AE$13:$AE$1003)+LEN($AE$13:$AE$1003)=0, \"\", ROW($AE$13:$AE$1003)-MIN(ROW($AE$13:$AE$1003))+1), ROW(225:225))),\"\")","v":"__EMN_21__GHS_N"},{"$f":"IF(AF237=\"\",\"\",IF(COUNTIF(CurrentListing,AF237)>1,AJ237,\"\"))","v":""},{"$f":"IF(LEN(AF237)=0,\"\",IF(ISNA(MATCH(AF237,MasterListing,0)),AJ237,\"\"))","v":""},null,"__EMN_21__DROPOUT_N","","EMN21DROPOUTN","__EMN_21__DROPOUT_N",1,"______",null,null,null,null,{"$f":"IF(ISNUMBER(SEARCH($F$6,AP236)),MAX($AO$11:AO235)+1,0)","v":225},0,{"$f":"ROWS($AQ$12:AQ236)","v":225},{"$f":"IFERROR(VLOOKUP(ROWS($AR$12:AR236),$AO$12:$AP$3014,2,0),\"\")","v":0}]
[null,null,null,null,null,null,null,null,null,null,null,null,null,null,null,null,null,null,null,null,null,null,null,null,null,null,{"$f":"IFERROR(INDEX($AE$13:$AE$1003, SMALL(IF(ISBLANK($AE$13:$AE$1003)+ISERROR($AE$13:$AE$1003)+LEN($AE$13:$AE$1003)=0, \"\", ROW($AE$13:$AE$1003)-MIN(ROW($AE$13:$AE$1003))+1), ROW(226:226))),\"\")","v":"__EMN_21__GRADALTDPL_N"},{"$f":"IF(AF238=\"\",\"\",IF(COUNTIF(CurrentListing,AF238)>1,AJ238,\"\"))","v":""},{"$f":"IF(LEN(AF238)=0,\"\",IF(ISNA(MATCH(AF238,MasterListing,0)),AJ238,\"\"))","v":""},null,"__EMN_21__GHS_N","","EMN21GHSN","__EMN_21__GHS_N",1,"______",null,null,null,null,{"$f":"IF(ISNUMBER(SEARCH($F$6,AP237)),MAX($AO$11:AO236)+1,0)","v":226},0,{"$f":"ROWS($AQ$12:AQ237)","v":226},{"$f":"IFERROR(VLOOKUP(ROWS($AR$12:AR237),$AO$12:$AP$3014,2,0),\"\")","v":0}]
[null,null,null,null,null,null,null,null,null,null,null,null,null,null,null,null,null,null,null,null,null,null,null,null,null,null,{"$f":"IFERROR(INDEX($AE$13:$AE$1003, SMALL(IF(ISBLANK($AE$13:$AE$1003)+ISERROR($AE$13:$AE$1003)+LEN($AE$13:$AE$1003)=0, \"\", ROW($AE$13:$AE$1003)-MIN(ROW($AE$13:$AE$1003))+1), ROW(227:227))),\"\")","v":"__EMN_21__MKC_N"},{"$f":"IF(AF239=\"\",\"\",IF(COUNTIF(CurrentListing,AF239)>1,AJ239,\"\"))","v":""},{"$f":"IF(LEN(AF239)=0,\"\",IF(ISNA(MATCH(AF239,MasterListing,0)),AJ239,\"\"))","v":""},null,"__EMN_21__GRADALTDPL_N","","EMN21GRADALTDPLN","__EMN_21__GRADALTDPL_N",1,"______",null,null,null,null,{"$f":"IF(ISNUMBER(SEARCH($F$6,AP238)),MAX($AO$11:AO237)+1,0)","v":227},0,{"$f":"ROWS($AQ$12:AQ238)","v":227},{"$f":"IFERROR(VLOOKUP(ROWS($AR$12:AR238),$AO$12:$AP$3014,2,0),\"\")","v":0}]
[null,null,null,null,null,null,null,null,null,null,null,null,null,null,null,null,null,null,null,null,null,null,null,null,null,null,{"$f":"IFERROR(INDEX($AE$13:$AE$1003, SMALL(IF(ISBLANK($AE$13:$AE$1003)+ISERROR($AE$13:$AE$1003)+LEN($AE$13:$AE$1003)=0, \"\", ROW($AE$13:$AE$1003)-MIN(ROW($AE$13:$AE$1003))+1), ROW(228:228))),\"\")","v":"__EMN_21__RC_N"},{"$f":"IF(AF240=\"\",\"\",IF(COUNTIF(CurrentListing,AF240)>1,AJ240,\"\"))","v":""},{"$f":"IF(LEN(AF240)=0,\"\",IF(ISNA(MATCH(AF240,MasterListing,0)),AJ240,\"\"))","v":""},null,"__EMN_21__MKC_N","","EMN21MKCN","__EMN_21__MKC_N",1,"______",null,null,null,null,{"$f":"IF(ISNUMBER(SEARCH($F$6,AP239)),MAX($AO$11:AO238)+1,0)","v":228},0,{"$f":"ROWS($AQ$12:AQ239)","v":228},{"$f":"IFERROR(VLOOKUP(ROWS($AR$12:AR239),$AO$12:$AP$3014,2,0),\"\")","v":0}]
[null,null,null,null,null,null,null,null,null,null,null,null,null,null,null,null,null,null,null,null,null,null,null,null,null,null,{"$f":"IFERROR(INDEX($AE$13:$AE$1003, SMALL(IF(ISBLANK($AE$13:$AE$1003)+ISERROR($AE$13:$AE$1003)+LEN($AE$13:$AE$1003)=0, \"\", ROW($AE$13:$AE$1003)-MIN(ROW($AE$13:$AE$1003))+1), ROW(229:229))),\"\")","v":"__EMN_21__RMA_N"},{"$f":"IF(AF241=\"\",\"\",IF(COUNTIF(CurrentListing,AF241)>1,AJ241,\"\"))","v":""},{"$f":"IF(LEN(AF241)=0,\"\",IF(ISNA(MATCH(AF241,MasterListing,0)),AJ241,\"\"))","v":""},null,"__EMN_21__RC_N","","EMN21RCN","__EMN_21__RC_N",1,"______",null,null,null,null,{"$f":"IF(ISNUMBER(SEARCH($F$6,AP240)),MAX($AO$11:AO239)+1,0)","v":229},0,{"$f":"ROWS($AQ$12:AQ240)","v":229},{"$f":"IFERROR(VLOOKUP(ROWS($AR$12:AR240),$AO$12:$AP$3014,2,0),\"\")","v":0}]
[null,null,null,null,null,null,null,null,null,null,null,null,null,null,null,null,null,null,null,null,null,null,null,null,null,null,{"$f":"IFERROR(INDEX($AE$13:$AE$1003, SMALL(IF(ISBLANK($AE$13:$AE$1003)+ISERROR($AE$13:$AE$1003)+LEN($AE$13:$AE$1003)=0, \"\", ROW($AE$13:$AE$1003)-MIN(ROW($AE$13:$AE$1003))+1), ROW(230:230))),\"\")","v":"__EMN_21__TRAN_N"},{"$f":"IF(AF242=\"\",\"\",IF(COUNTIF(CurrentListing,AF242)>1,AJ242,\"\"))","v":""},{"$f":"IF(LEN(AF242)=0,\"\",IF(ISNA(MATCH(AF242,MasterListing,0)),AJ242,\"\"))","v":""},null,"__EMN_21__RMA_N","","EMN21RMAN","__EMN_21__RMA_N",1,"______",null,null,null,null,{"$f":"IF(ISNUMBER(SEARCH($F$6,AP241)),MAX($AO$11:AO240)+1,0)","v":230},0,{"$f":"ROWS($AQ$12:AQ241)","v":230},{"$f":"IFERROR(VLOOKUP(ROWS($AR$12:AR241),$AO$12:$AP$3014,2,0),\"\")","v":0}]
[null,null,null,null,null,null,null,null,null,null,null,null,null,null,null,null,null,null,null,null,null,null,null,null,null,null,{"$f":"IFERROR(INDEX($AE$13:$AE$1003, SMALL(IF(ISBLANK($AE$13:$AE$1003)+ISERROR($AE$13:$AE$1003)+LEN($AE$13:$AE$1003)=0, \"\", ROW($AE$13:$AE$1003)-MIN(ROW($AE$13:$AE$1003))+1), ROW(231:231))),\"\")","v":"__HI____Y"},{"$f":"IF(AF243=\"\",\"\",IF(COUNTIF(CurrentListing,AF243)>1,AJ243,\"\"))","v":""},{"$f":"IF(LEN(AF243)=0,\"\",IF(ISNA(MATCH(AF243,MasterListing,0)),AJ243,\"\"))","v":""},null,"__EMN_21__TRAN_N","","EMN21TRANN","__EMN_21__TRAN_N",1,"______",null,null,null,null,{"$f":"IF(ISNUMBER(SEARCH($F$6,AP242)),MAX($AO$11:AO241)+1,0)","v":231},0,{"$f":"ROWS($AQ$12:AQ242)","v":231},{"$f":"IFERROR(VLOOKUP(ROWS($AR$12:AR242),$AO$12:$AP$3014,2,0),\"\")","v":0}]
[null,null,null,null,null,null,null,null,null,null,null,null,null,null,null,null,null,null,null,null,null,null,null,null,null,null,{"$f":"IFERROR(INDEX($AE$13:$AE$1003, SMALL(IF(ISBLANK($AE$13:$AE$1003)+ISERROR($AE$13:$AE$1003)+LEN($AE$13:$AE$1003)=0, \"\", ROW($AE$13:$AE$1003)-MIN(ROW($AE$13:$AE$1003))+1), ROW(232:232))),\"\")","v":"__HI_14__D_N"},{"$f":"IF(AF244=\"\",\"\",IF(COUNTIF(CurrentListing,AF244)>1,AJ244,\"\"))","v":""},{"$f":"IF(LEN(AF244)=0,\"\",IF(ISNA(MATCH(AF244,MasterListing,0)),AJ244,\"\"))","v":""},null,"__HI____Y","","HIY","__HI____Y",1,"______",null,null,null,null,{"$f":"IF(ISNUMBER(SEARCH($F$6,AP243)),MAX($AO$11:AO242)+1,0)","v":232},0,{"$f":"ROWS($AQ$12:AQ243)","v":232},{"$f":"IFERROR(VLOOKUP(ROWS($AR$12:AR243),$AO$12:$AP$3014,2,0),\"\")","v":0}]
[null,null,null,null,null,null,null,null,null,null,null,null,null,null,null,null,null,null,null,null,null,null,null,null,null,null,{"$f":"IFERROR(INDEX($AE$13:$AE$1003, SMALL(IF(ISBLANK($AE$13:$AE$1003)+ISERROR($AE$13:$AE$1003)+LEN($AE$13:$AE$1003)=0, \"\", ROW($AE$13:$AE$1003)-MIN(ROW($AE$13:$AE$1003))+1), ROW(233:233))),\"\")","v":"__HI_14__DROPOUT_N"},{"$f":"IF(AF245=\"\",\"\",IF(COUNTIF(CurrentListing,AF245)>1,AJ245,\"\"))","v":""},{"$f":"IF(LEN(AF245)=0,\"\",IF(ISNA(MATCH(AF245,MasterListing,0)),AJ245,\"\"))","v":""},null,"__HI_14__D_N","","HI14DN","__HI_14__D_N",1,"______",null,null,null,null,{"$f":"IF(ISNUMBER(SEARCH($F$6,AP244)),MAX($AO$11:AO243)+1,0)","v":233},0,{"$f":"ROWS($AQ$12:AQ244)","v":233},{"$f":"IFERROR(VLOOKUP(ROWS($AR$12:AR244),$AO$12:$AP$3014,2,0),\"\")","v":0}]
[null,null,null,null,null,null,null,null,null,null,null,null,null,null,null,null,null,null,null,null,null,null,null,null,null,null,{"$f":"IFERROR(INDEX($AE$13:$AE$1003, SMALL(IF(ISBLANK($AE$13:$AE$1003)+ISERROR($AE$13:$AE$1003)+LEN($AE$13:$AE$1003)=0, \"\", ROW($AE$13:$AE$1003)-MIN(ROW($AE$13:$AE$1003))+1), ROW(234:234))),\"\")","v":"__HI_14__GHS_N"},{"$f":"IF(AF246=\"\",\"\",IF(COUNTIF(CurrentListing,AF246)>1,AJ246,\"\"))","v":""},{"$f":"IF(LEN(AF246)=0,\"\",IF(ISNA(MATCH(AF246,MasterListing,0)),AJ246,\"\"))","v":""},null,"__HI_14__DROPOUT_N","","HI14DROPOUTN","__HI_14__DROPOUT_N",1,"______",null,null,null,null,{"$f":"IF(ISNUMBER(SEARCH($F$6,AP245)),MAX($AO$11:AO244)+1,0)","v":234},0,{"$f":"ROWS($AQ$12:AQ245)","v":234},{"$f":"IFERROR(VLOOKUP(ROWS($AR$12:AR245),$AO$12:$AP$3014,2,0),\"\")","v":0}]
[null,null,null,null,null,null,null,null,null,null,null,null,null,null,null,null,null,null,null,null,null,null,null,null,null,null,{"$f":"IFERROR(INDEX($AE$13:$AE$1003, SMALL(IF(ISBLANK($AE$13:$AE$1003)+ISERROR($AE$13:$AE$1003)+LEN($AE$13:$AE$1003)=0, \"\", ROW($AE$13:$AE$1003)-MIN(ROW($AE$13:$AE$1003))+1), ROW(235:235))),\"\")","v":"__HI_14__GRADALTDPL_N"},{"$f":"IF(AF247=\"\",\"\",IF(COUNTIF(CurrentListing,AF247)>1,AJ247,\"\"))","v":""},{"$f":"IF(LEN(AF247)=0,\"\",IF(ISNA(MATCH(AF247,MasterListing,0)),AJ247,\"\"))","v":""},null,"__HI_14__GHS_N","","HI14GHSN","__HI_14__GHS_N",1,"______",null,null,null,null,{"$f":"IF(ISNUMBER(SEARCH($F$6,AP246)),MAX($AO$11:AO245)+1,0)","v":235},0,{"$f":"ROWS($AQ$12:AQ246)","v":235},{"$f":"IFERROR(VLOOKUP(ROWS($AR$12:AR246),$AO$12:$AP$3014,2,0),\"\")","v":0}]
[null,null,null,null,null,null,null,null,null,null,null,null,null,null,null,null,null,null,null,null,null,null,null,null,null,null,{"$f":"IFERROR(INDEX($AE$13:$AE$1003, SMALL(IF(ISBLANK($AE$13:$AE$1003)+ISERROR($AE$13:$AE$1003)+LEN($AE$13:$AE$1003)=0, \"\", ROW($AE$13:$AE$1003)-MIN(ROW($AE$13:$AE$1003))+1), ROW(236:236))),\"\")","v":"__HI_14__MKC_N"},{"$f":"IF(AF248=\"\",\"\",IF(COUNTIF(CurrentListing,AF248)>1,AJ248,\"\"))","v":""},{"$f":"IF(LEN(AF248)=0,\"\",IF(ISNA(MATCH(AF248,MasterListing,0)),AJ248,\"\"))","v":""},null,"__HI_14__GRADALTDPL_N","","HI14GRADALTDPLN","__HI_14__GRADALTDPL_N",1,"______",null,null,null,null,{"$f":"IF(ISNUMBER(SEARCH($F$6,AP247)),MAX($AO$11:AO246)+1,0)","v":236},0,{"$f":"ROWS($AQ$12:AQ247)","v":236},{"$f":"IFERROR(VLOOKUP(ROWS($AR$12:AR247),$AO$12:$AP$3014,2,0),\"\")","v":0}]
[null,null,null,null,null,null,null,null,null,null,null,null,null,null,null,null,null,null,null,null,null,null,null,null,null,null,{"$f":"IFERROR(INDEX($AE$13:$AE$1003, SMALL(IF(ISBLANK($AE$13:$AE$1003)+ISERROR($AE$13:$AE$1003)+LEN($AE$13:$AE$1003)=0, \"\", ROW($AE$13:$AE$1003)-MIN(ROW($AE$13:$AE$1003))+1), ROW(237:237))),\"\")","v":"__HI_14__RC_N"},{"$f":"IF(AF249=\"\",\"\",IF(COUNTIF(CurrentListing,AF249)>1,AJ249,\"\"))","v":""},{"$f":"IF(LEN(AF249)=0,\"\",IF(ISNA(MATCH(AF249,MasterListing,0)),AJ249,\"\"))","v":""},null,"__HI_14__MKC_N","","HI14MKCN","__HI_14__MKC_N",1,"______",null,null,null,null,{"$f":"IF(ISNUMBER(SEARCH($F$6,AP248)),MAX($AO$11:AO247)+1,0)","v":237},0,{"$f":"ROWS($AQ$12:AQ248)","v":237},{"$f":"IFERROR(VLOOKUP(ROWS($AR$12:AR248),$AO$12:$AP$3014,2,0),\"\")","v":0}]
[null,null,null,null,null,null,null,null,null,null,null,null,null,null,null,null,null,null,null,null,null,null,null,null,null,null,{"$f":"IFERROR(INDEX($AE$13:$AE$1003, SMALL(IF(ISBLANK($AE$13:$AE$1003)+ISERROR($AE$13:$AE$1003)+LEN($AE$13:$AE$1003)=0, \"\", ROW($AE$13:$AE$1003)-MIN(ROW($AE$13:$AE$1003))+1), ROW(238:238))),\"\")","v":"__HI_14__RMA_N"},{"$f":"IF(AF250=\"\",\"\",IF(COUNTIF(CurrentListing,AF250)>1,AJ250,\"\"))","v":""},{"$f":"IF(LEN(AF250)=0,\"\",IF(ISNA(MATCH(AF250,MasterListing,0)),AJ250,\"\"))","v":""},null,"__HI_14__RC_N","","HI14RCN","__HI_14__RC_N",1,"______",null,null,null,null,{"$f":"IF(ISNUMBER(SEARCH($F$6,AP249)),MAX($AO$11:AO248)+1,0)","v":238},0,{"$f":"ROWS($AQ$12:AQ249)","v":238},{"$f":"IFERROR(VLOOKUP(ROWS($AR$12:AR249),$AO$12:$AP$3014,2,0),\"\")","v":0}]
[null,null,null,null,null,null,null,null,null,null,null,null,null,null,null,null,null,null,null,null,null,null,null,null,null,null,{"$f":"IFERROR(INDEX($AE$13:$AE$1003, SMALL(IF(ISBLANK($AE$13:$AE$1003)+ISERROR($AE$13:$AE$1003)+LEN($AE$13:$AE$1003)=0, \"\", ROW($AE$13:$AE$1003)-MIN(ROW($AE$13:$AE$1003))+1), ROW(239:239))),\"\")","v":"__HI_14__TRAN_N"},{"$f":"IF(AF251=\"\",\"\",IF(COUNTIF(CurrentListing,AF251)>1,AJ251,\"\"))","v":""},{"$f":"IF(LEN(AF251)=0,\"\",IF(ISNA(MATCH(AF251,MasterListing,0)),AJ251,\"\"))","v":""},null,"__HI_14__RMA_N","","HI14RMAN","__HI_14__RMA_N",1,"______",null,null,null,null,{"$f":"IF(ISNUMBER(SEARCH($F$6,AP250)),MAX($AO$11:AO249)+1,0)","v":239},0,{"$f":"ROWS($AQ$12:AQ250)","v":239},{"$f":"IFERROR(VLOOKUP(ROWS($AR$12:AR250),$AO$12:$AP$3014,2,0),\"\")","v":0}]
[null,null,null,null,null,null,null,null,null,null,null,null,null,null,null,null,null,null,null,null,null,null,null,null,null,null,{"$f":"IFERROR(INDEX($AE$13:$AE$1003, SMALL(IF(ISBLANK($AE$13:$AE$1003)+ISERROR($AE$13:$AE$1003)+LEN($AE$13:$AE$1003)=0, \"\", ROW($AE$13:$AE$1003)-MIN(ROW($AE$13:$AE$1003))+1), ROW(240:240))),\"\")","v":"__HI_15__D_N"},{"$f":"IF(AF252=\"\",\"\",IF(COUNTIF(CurrentListing,AF252)>1,AJ252,\"\"))","v":""},{"$f":"IF(LEN(AF252)=0,\"\",IF(ISNA(MATCH(AF252,MasterListing,0)),AJ252,\"\"))","v":""},null,"__HI_14__TRAN_N","","HI14TRANN","__HI_14__TRAN_N",1,"______",null,null,null,null,{"$f":"IF(ISNUMBER(SEARCH($F$6,AP251)),MAX($AO$11:AO250)+1,0)","v":240},0,{"$f":"ROWS($AQ$12:AQ251)","v":240},{"$f":"IFERROR(VLOOKUP(ROWS($AR$12:AR251),$AO$12:$AP$3014,2,0),\"\")","v":0}]
[null,null,null,null,null,null,null,null,null,null,null,null,null,null,null,null,null,null,null,null,null,null,null,null,null,null,{"$f":"IFERROR(INDEX($AE$13:$AE$1003, SMALL(IF(ISBLANK($AE$13:$AE$1003)+ISERROR($AE$13:$AE$1003)+LEN($AE$13:$AE$1003)=0, \"\", ROW($AE$13:$AE$1003)-MIN(ROW($AE$13:$AE$1003))+1), ROW(241:241))),\"\")","v":"__HI_15__DROPOUT_N"},{"$f":"IF(AF253=\"\",\"\",IF(COUNTIF(CurrentListing,AF253)>1,AJ253,\"\"))","v":""},{"$f":"IF(LEN(AF253)=0,\"\",IF(ISNA(MATCH(AF253,MasterListing,0)),AJ253,\"\"))","v":""},null,"__HI_15__D_N","","HI15DN","__HI_15__D_N",1,"______",null,null,null,null,{"$f":"IF(ISNUMBER(SEARCH($F$6,AP252)),MAX($AO$11:AO251)+1,0)","v":241},0,{"$f":"ROWS($AQ$12:AQ252)","v":241},{"$f":"IFERROR(VLOOKUP(ROWS($AR$12:AR252),$AO$12:$AP$3014,2,0),\"\")","v":0}]
[null,null,null,null,null,null,null,null,null,null,null,null,null,null,null,null,null,null,null,null,null,null,null,null,null,null,{"$f":"IFERROR(INDEX($AE$13:$AE$1003, SMALL(IF(ISBLANK($AE$13:$AE$1003)+ISERROR($AE$13:$AE$1003)+LEN($AE$13:$AE$1003)=0, \"\", ROW($AE$13:$AE$1003)-MIN(ROW($AE$13:$AE$1003))+1), ROW(242:242))),\"\")","v":"__HI_15__GHS_N"},{"$f":"IF(AF254=\"\",\"\",IF(COUNTIF(CurrentListing,AF254)>1,AJ254,\"\"))","v":""},{"$f":"IF(LEN(AF254)=0,\"\",IF(ISNA(MATCH(AF254,MasterListing,0)),AJ254,\"\"))","v":""},null,"__HI_15__DROPOUT_N","","HI15DROPOUTN","__HI_15__DROPOUT_N",1,"______",null,null,null,null,{"$f":"IF(ISNUMBER(SEARCH($F$6,AP253)),MAX($AO$11:AO252)+1,0)","v":242},0,{"$f":"ROWS($AQ$12:AQ253)","v":242},{"$f":"IFERROR(VLOOKUP(ROWS($AR$12:AR253),$AO$12:$AP$3014,2,0),\"\")","v":0}]
[null,null,null,null,null,null,null,null,null,null,null,null,null,null,null,null,null,null,null,null,null,null,null,null,null,null,{"$f":"IFERROR(INDEX($AE$13:$AE$1003, SMALL(IF(ISBLANK($AE$13:$AE$1003)+ISERROR($AE$13:$AE$1003)+LEN($AE$13:$AE$1003)=0, \"\", ROW($AE$13:$AE$1003)-MIN(ROW($AE$13:$AE$1003))+1), ROW(243:243))),\"\")","v":"__HI_15__GRADALTDPL_N"},{"$f":"IF(AF255=\"\",\"\",IF(COUNTIF(CurrentListing,AF255)>1,AJ255,\"\"))","v":""},{"$f":"IF(LEN(AF255)=0,\"\",IF(ISNA(MATCH(AF255,MasterListing,0)),AJ255,\"\"))","v":""},null,"__HI_15__GHS_N","","HI15GHSN","__HI_15__GHS_N",1,"______",null,null,null,null,{"$f":"IF(ISNUMBER(SEARCH($F$6,AP254)),MAX($AO$11:AO253)+1,0)","v":243},0,{"$f":"ROWS($AQ$12:AQ254)","v":243},{"$f":"IFERROR(VLOOKUP(ROWS($AR$12:AR254),$AO$12:$AP$3014,2,0),\"\")","v":0}]
[null,null,null,null,null,null,null,null,null,null,null,null,null,null,null,null,null,null,null,null,null,null,null,null,null,null,{"$f":"IFERROR(INDEX($AE$13:$AE$1003, SMALL(IF(ISBLANK($AE$13:$AE$1003)+ISERROR($AE$13:$AE$1003)+LEN($AE$13:$AE$1003)=0, \"\", ROW($AE$13:$AE$1003)-MIN(ROW($AE$13:$AE$1003))+1), ROW(244:244))),\"\")","v":"__HI_15__MKC_N"},{"$f":"IF(AF256=\"\",\"\",IF(COUNTIF(CurrentListing,AF256)>1,AJ256,\"\"))","v":""},{"$f":"IF(LEN(AF256)=0,\"\",IF(ISNA(MATCH(AF256,MasterListing,0)),AJ256,\"\"))","v":""},null,"__HI_15__GRADALTDPL_N","","HI15GRADALTDPLN","__HI_15__GRADALTDPL_N",1,"______",null,null,null,null,{"$f":"IF(ISNUMBER(SEARCH($F$6,AP255)),MAX($AO$11:AO254)+1,0)","v":244},0,{"$f":"ROWS($AQ$12:AQ255)","v":244},{"$f":"IFERROR(VLOOKUP(ROWS($AR$12:AR255),$AO$12:$AP$3014,2,0),\"\")","v":0}]
[null,null,null,null,null,null,null,null,null,null,null,null,null,null,null,null,null,null,null,null,null,null,null,null,null,null,{"$f":"IFERROR(INDEX($AE$13:$AE$1003, SMALL(IF(ISBLANK($AE$13:$AE$1003)+ISERROR($AE$13:$AE$1003)+LEN($AE$13:$AE$1003)=0, \"\", ROW($AE$13:$AE$1003)-MIN(ROW($AE$13:$AE$1003))+1), ROW(245:245))),\"\")","v":"__HI_15__RC_N"},{"$f":"IF(AF257=\"\",\"\",IF(COUNTIF(CurrentListing,AF257)>1,AJ257,\"\"))","v":""},{"$f":"IF(LEN(AF257)=0,\"\",IF(ISNA(MATCH(AF257,MasterListing,0)),AJ257,\"\"))","v":""},null,"__HI_15__MKC_N","","HI15MKCN","__HI_15__MKC_N",1,"______",null,null,null,null,{"$f":"IF(ISNUMBER(SEARCH($F$6,AP256)),MAX($AO$11:AO255)+1,0)","v":245},0,{"$f":"ROWS($AQ$12:AQ256)","v":245},{"$f":"IFERROR(VLOOKUP(ROWS($AR$12:AR256),$AO$12:$AP$3014,2,0),\"\")","v":0}]
[null,null,null,null,null,null,null,null,null,null,null,null,null,null,null,null,null,null,null,null,null,null,null,null,null,null,{"$f":"IFERROR(INDEX($AE$13:$AE$1003, SMALL(IF(ISBLANK($AE$13:$AE$1003)+ISERROR($AE$13:$AE$1003)+LEN($AE$13:$AE$1003)=0, \"\", ROW($AE$13:$AE$1003)-MIN(ROW($AE$13:$AE$1003))+1), ROW(246:246))),\"\")","v":"__HI_15__RMA_N"},{"$f":"IF(AF258=\"\",\"\",IF(COUNTIF(CurrentListing,AF258)>1,AJ258,\"\"))","v":""},{"$f":"IF(LEN(AF258)=0,\"\",IF(ISNA(MATCH(AF258,MasterListing,0)),AJ258,\"\"))","v":""},null,"__HI_15__RC_N","","HI15RCN","__HI_15__RC_N",1,"______",null,null,null,null,{"$f":"IF(ISNUMBER(SEARCH($F$6,AP257)),MAX($AO$11:AO256)+1,0)","v":246},0,{"$f":"ROWS($AQ$12:AQ257)","v":246},{"$f":"IFERROR(VLOOKUP(ROWS($AR$12:AR257),$AO$12:$AP$3014,2,0),\"\")","v":0}]
[null,null,null,null,null,null,null,null,null,null,null,null,null,null,null,null,null,null,null,null,null,null,null,null,null,null,{"$f":"IFERROR(INDEX($AE$13:$AE$1003, SMALL(IF(ISBLANK($AE$13:$AE$1003)+ISERROR($AE$13:$AE$1003)+LEN($AE$13:$AE$1003)=0, \"\", ROW($AE$13:$AE$1003)-MIN(ROW($AE$13:$AE$1003))+1), ROW(247:247))),\"\")","v":"__HI_15__TRAN_N"},{"$f":"IF(AF259=\"\",\"\",IF(COUNTIF(CurrentListing,AF259)>1,AJ259,\"\"))","v":""},{"$f":"IF(LEN(AF259)=0,\"\",IF(ISNA(MATCH(AF259,MasterListing,0)),AJ259,\"\"))","v":""},null,"__HI_15__RMA_N","","HI15RMAN","__HI_15__RMA_N",1,"______",null,null,null,null,{"$f":"IF(ISNUMBER(SEARCH($F$6,AP258)),MAX($AO$11:AO257)+1,0)","v":247},0,{"$f":"ROWS($AQ$12:AQ258)","v":247},{"$f":"IFERROR(VLOOKUP(ROWS($AR$12:AR258),$AO$12:$AP$3014,2,0),\"\")","v":0}]
[null,null,null,null,null,null,null,null,null,null,null,null,null,null,null,null,null,null,null,null,null,null,null,null,null,null,{"$f":"IFERROR(INDEX($AE$13:$AE$1003, SMALL(IF(ISBLANK($AE$13:$AE$1003)+ISERROR($AE$13:$AE$1003)+LEN($AE$13:$AE$1003)=0, \"\", ROW($AE$13:$AE$1003)-MIN(ROW($AE$13:$AE$1003))+1), ROW(248:248))),\"\")","v":"__HI_16__D_N"},{"$f":"IF(AF260=\"\",\"\",IF(COUNTIF(CurrentListing,AF260)>1,AJ260,\"\"))","v":""},{"$f":"IF(LEN(AF260)=0,\"\",IF(ISNA(MATCH(AF260,MasterListing,0)),AJ260,\"\"))","v":""},null,"__HI_15__TRAN_N","","HI15TRANN","__HI_15__TRAN_N",1,"______",null,null,null,null,{"$f":"IF(ISNUMBER(SEARCH($F$6,AP259)),MAX($AO$11:AO258)+1,0)","v":248},0,{"$f":"ROWS($AQ$12:AQ259)","v":248},{"$f":"IFERROR(VLOOKUP(ROWS($AR$12:AR259),$AO$12:$AP$3014,2,0),\"\")","v":0}]
[null,null,null,null,null,null,null,null,null,null,null,null,null,null,null,null,null,null,null,null,null,null,null,null,null,null,{"$f":"IFERROR(INDEX($AE$13:$AE$1003, SMALL(IF(ISBLANK($AE$13:$AE$1003)+ISERROR($AE$13:$AE$1003)+LEN($AE$13:$AE$1003)=0, \"\", ROW($AE$13:$AE$1003)-MIN(ROW($AE$13:$AE$1003))+1), ROW(249:249))),\"\")","v":"__HI_16__DROPOUT_N"},{"$f":"IF(AF261=\"\",\"\",IF(COUNTIF(CurrentListing,AF261)>1,AJ261,\"\"))","v":""},{"$f":"IF(LEN(AF261)=0,\"\",IF(ISNA(MATCH(AF261,MasterListing,0)),AJ261,\"\"))","v":""},null,"__HI_16__D_N","","HI16DN","__HI_16__D_N",1,"______",null,null,null,null,{"$f":"IF(ISNUMBER(SEARCH($F$6,AP260)),MAX($AO$11:AO259)+1,0)","v":249},0,{"$f":"ROWS($AQ$12:AQ260)","v":249},{"$f":"IFERROR(VLOOKUP(ROWS($AR$12:AR260),$AO$12:$AP$3014,2,0),\"\")","v":0}]
[null,null,null,null,null,null,null,null,null,null,null,null,null,null,null,null,null,null,null,null,null,null,null,null,null,null,{"$f":"IFERROR(INDEX($AE$13:$AE$1003, SMALL(IF(ISBLANK($AE$13:$AE$1003)+ISERROR($AE$13:$AE$1003)+LEN($AE$13:$AE$1003)=0, \"\", ROW($AE$13:$AE$1003)-MIN(ROW($AE$13:$AE$1003))+1), ROW(250:250))),\"\")","v":"__HI_16__GHS_N"},{"$f":"IF(AF262=\"\",\"\",IF(COUNTIF(CurrentListing,AF262)>1,AJ262,\"\"))","v":""},{"$f":"IF(LEN(AF262)=0,\"\",IF(ISNA(MATCH(AF262,MasterListing,0)),AJ262,\"\"))","v":""},null,"__HI_16__DROPOUT_N","","HI16DROPOUTN","__HI_16__DROPOUT_N",1,"______",null,null,null,null,{"$f":"IF(ISNUMBER(SEARCH($F$6,AP261)),MAX($AO$11:AO260)+1,0)","v":250},0,{"$f":"ROWS($AQ$12:AQ261)","v":250},{"$f":"IFERROR(VLOOKUP(ROWS($AR$12:AR261),$AO$12:$AP$3014,2,0),\"\")","v":0}]
[null,null,null,null,null,null,null,null,null,null,null,null,null,null,null,null,null,null,null,null,null,null,null,null,null,null,{"$f":"IFERROR(INDEX($AE$13:$AE$1003, SMALL(IF(ISBLANK($AE$13:$AE$1003)+ISERROR($AE$13:$AE$1003)+LEN($AE$13:$AE$1003)=0, \"\", ROW($AE$13:$AE$1003)-MIN(ROW($AE$13:$AE$1003))+1), ROW(251:251))),\"\")","v":"__HI_16__GRADALTDPL_N"},{"$f":"IF(AF263=\"\",\"\",IF(COUNTIF(CurrentListing,AF263)>1,AJ263,\"\"))","v":""},{"$f":"IF(LEN(AF263)=0,\"\",IF(ISNA(MATCH(AF263,MasterListing,0)),AJ263,\"\"))","v":""},null,"__HI_16__GHS_N","","HI16GHSN","__HI_16__GHS_N",1,"______",null,null,null,null,{"$f":"IF(ISNUMBER(SEARCH($F$6,AP262)),MAX($AO$11:AO261)+1,0)","v":251},0,{"$f":"ROWS($AQ$12:AQ262)","v":251},{"$f":"IFERROR(VLOOKUP(ROWS($AR$12:AR262),$AO$12:$AP$3014,2,0),\"\")","v":0}]
[null,null,null,null,null,null,null,null,null,null,null,null,null,null,null,null,null,null,null,null,null,null,null,null,null,null,{"$f":"IFERROR(INDEX($AE$13:$AE$1003, SMALL(IF(ISBLANK($AE$13:$AE$1003)+ISERROR($AE$13:$AE$1003)+LEN($AE$13:$AE$1003)=0, \"\", ROW($AE$13:$AE$1003)-MIN(ROW($AE$13:$AE$1003))+1), ROW(252:252))),\"\")","v":"__HI_16__MKC_N"},{"$f":"IF(AF264=\"\",\"\",IF(COUNTIF(CurrentListing,AF264)>1,AJ264,\"\"))","v":""},{"$f":"IF(LEN(AF264)=0,\"\",IF(ISNA(MATCH(AF264,MasterListing,0)),AJ264,\"\"))","v":""},null,"__HI_16__GRADALTDPL_N","","HI16GRADALTDPLN","__HI_16__GRADALTDPL_N",1,"______",null,null,null,null,{"$f":"IF(ISNUMBER(SEARCH($F$6,AP263)),MAX($AO$11:AO262)+1,0)","v":252},0,{"$f":"ROWS($AQ$12:AQ263)","v":252},{"$f":"IFERROR(VLOOKUP(ROWS($AR$12:AR263),$AO$12:$AP$3014,2,0),\"\")","v":0}]
[null,null,null,null,null,null,null,null,null,null,null,null,null,null,null,null,null,null,null,null,null,null,null,null,null,null,{"$f":"IFERROR(INDEX($AE$13:$AE$1003, SMALL(IF(ISBLANK($AE$13:$AE$1003)+ISERROR($AE$13:$AE$1003)+LEN($AE$13:$AE$1003)=0, \"\", ROW($AE$13:$AE$1003)-MIN(ROW($AE$13:$AE$1003))+1), ROW(253:253))),\"\")","v":"__HI_16__RC_N"},{"$f":"IF(AF265=\"\",\"\",IF(COUNTIF(CurrentListing,AF265)>1,AJ265,\"\"))","v":""},{"$f":"IF(LEN(AF265)=0,\"\",IF(ISNA(MATCH(AF265,MasterListing,0)),AJ265,\"\"))","v":""},null,"__HI_16__MKC_N","","HI16MKCN","__HI_16__MKC_N",1,"______",null,null,null,null,{"$f":"IF(ISNUMBER(SEARCH($F$6,AP264)),MAX($AO$11:AO263)+1,0)","v":253},0,{"$f":"ROWS($AQ$12:AQ264)","v":253},{"$f":"IFERROR(VLOOKUP(ROWS($AR$12:AR264),$AO$12:$AP$3014,2,0),\"\")","v":0}]
[null,null,null,null,null,null,null,null,null,null,null,null,null,null,null,null,null,null,null,null,null,null,null,null,null,null,{"$f":"IFERROR(INDEX($AE$13:$AE$1003, SMALL(IF(ISBLANK($AE$13:$AE$1003)+ISERROR($AE$13:$AE$1003)+LEN($AE$13:$AE$1003)=0, \"\", ROW($AE$13:$AE$1003)-MIN(ROW($AE$13:$AE$1003))+1), ROW(254:254))),\"\")","v":"__HI_16__RMA_N"},{"$f":"IF(AF266=\"\",\"\",IF(COUNTIF(CurrentListing,AF266)>1,AJ266,\"\"))","v":""},{"$f":"IF(LEN(AF266)=0,\"\",IF(ISNA(MATCH(AF266,MasterListing,0)),AJ266,\"\"))","v":""},null,"__HI_16__RC_N","","HI16RCN","__HI_16__RC_N",1,"______",null,null,null,null,{"$f":"IF(ISNUMBER(SEARCH($F$6,AP265)),MAX($AO$11:AO264)+1,0)","v":254},0,{"$f":"ROWS($AQ$12:AQ265)","v":254},{"$f":"IFERROR(VLOOKUP(ROWS($AR$12:AR265),$AO$12:$AP$3014,2,0),\"\")","v":0}]
[null,null,null,null,null,null,null,null,null,null,null,null,null,null,null,null,null,null,null,null,null,null,null,null,null,null,{"$f":"IFERROR(INDEX($AE$13:$AE$1003, SMALL(IF(ISBLANK($AE$13:$AE$1003)+ISERROR($AE$13:$AE$1003)+LEN($AE$13:$AE$1003)=0, \"\", ROW($AE$13:$AE$1003)-MIN(ROW($AE$13:$AE$1003))+1), ROW(255:255))),\"\")","v":"__HI_16__TRAN_N"},{"$f":"IF(AF267=\"\",\"\",IF(COUNTIF(CurrentListing,AF267)>1,AJ267,\"\"))","v":""},{"$f":"IF(LEN(AF267)=0,\"\",IF(ISNA(MATCH(AF267,MasterListing,0)),AJ267,\"\"))","v":""},null,"__HI_16__RMA_N","","HI16RMAN","__HI_16__RMA_N",1,"______",null,null,null,null,{"$f":"IF(ISNUMBER(SEARCH($F$6,AP266)),MAX($AO$11:AO265)+1,0)","v":255},0,{"$f":"ROWS($AQ$12:AQ266)","v":255},{"$f":"IFERROR(VLOOKUP(ROWS($AR$12:AR266),$AO$12:$AP$3014,2,0),\"\")","v":0}]
[null,null,null,null,null,null,null,null,null,null,null,null,null,null,null,null,null,null,null,null,null,null,null,null,null,null,{"$f":"IFERROR(INDEX($AE$13:$AE$1003, SMALL(IF(ISBLANK($AE$13:$AE$1003)+ISERROR($AE$13:$AE$1003)+LEN($AE$13:$AE$1003)=0, \"\", ROW($AE$13:$AE$1003)-MIN(ROW($AE$13:$AE$1003))+1), ROW(256:256))),\"\")","v":"__HI_17__D_N"},{"$f":"IF(AF268=\"\",\"\",IF(COUNTIF(CurrentListing,AF268)>1,AJ268,\"\"))","v":""},{"$f":"IF(LEN(AF268)=0,\"\",IF(ISNA(MATCH(AF268,MasterListing,0)),AJ268,\"\"))","v":""},null,"__HI_16__TRAN_N","","HI16TRANN","__HI_16__TRAN_N",1,"______",null,null,null,null,{"$f":"IF(ISNUMBER(SEARCH($F$6,AP267)),MAX($AO$11:AO266)+1,0)","v":256},0,{"$f":"ROWS($AQ$12:AQ267)","v":256},{"$f":"IFERROR(VLOOKUP(ROWS($AR$12:AR267),$AO$12:$AP$3014,2,0),\"\")","v":0}]
[null,null,null,null,null,null,null,null,null,null,null,null,null,null,null,null,null,null,null,null,null,null,null,null,null,null,{"$f":"IFERROR(INDEX($AE$13:$AE$1003, SMALL(IF(ISBLANK($AE$13:$AE$1003)+ISERROR($AE$13:$AE$1003)+LEN($AE$13:$AE$1003)=0, \"\", ROW($AE$13:$AE$1003)-MIN(ROW($AE$13:$AE$1003))+1), ROW(257:257))),\"\")","v":"__HI_17__DROPOUT_N"},{"$f":"IF(AF269=\"\",\"\",IF(COUNTIF(CurrentListing,AF269)>1,AJ269,\"\"))","v":""},{"$f":"IF(LEN(AF269)=0,\"\",IF(ISNA(MATCH(AF269,MasterListing,0)),AJ269,\"\"))","v":""},null,{"$f":"IF(LEN(AG268)=0,\"\",IF(ISNA(MATCH(AG268,CurrentListing,0)),AH268,\"\"))","v":"__HI_17__D_N"},"","HI17DN","__HI_17__D_N",1,"______",null,null,null,null,{"$f":"IF(ISNUMBER(SEARCH($F$6,AP268)),MAX($AO$11:AO267)+1,0)","v":257},0,{"$f":"ROWS($AQ$12:AQ268)","v":257},{"$f":"IFERROR(VLOOKUP(ROWS($AR$12:AR268),$AO$12:$AP$3014,2,0),\"\")","v":0}]
[null,null,null,null,null,null,null,null,null,null,null,null,null,null,null,null,null,null,null,null,null,null,null,null,null,null,{"$f":"IFERROR(INDEX($AE$13:$AE$1003, SMALL(IF(ISBLANK($AE$13:$AE$1003)+ISERROR($AE$13:$AE$1003)+LEN($AE$13:$AE$1003)=0, \"\", ROW($AE$13:$AE$1003)-MIN(ROW($AE$13:$AE$1003))+1), ROW(258:258))),\"\")","v":"__HI_17__GHS_N"},{"$f":"IF(AF270=\"\",\"\",IF(COUNTIF(CurrentListing,AF270)>1,AJ270,\"\"))","v":""},{"$f":"IF(LEN(AF270)=0,\"\",IF(ISNA(MATCH(AF270,MasterListing,0)),AJ270,\"\"))","v":""},null,"__HI_17__DROPOUT_N",{"$f":"H269&I269&P269&Q269&R269&V269&W269","v":""},"HI17DROPOUTN","__HI_17__DROPOUT_N",1,"______",null,null,null,null,{"$f":"IF(ISNUMBER(SEARCH($F$6,AP269)),MAX($AO$11:AO268)+1,0)","v":258},0,{"$f":"ROWS($AQ$12:AQ269)","v":258},{"$f":"IFERROR(VLOOKUP(ROWS($AR$12:AR269),$AO$12:$AP$3014,2,0),\"\")","v":0}]
[null,null,null,null,null,null,null,null,null,null,null,null,null,null,null,null,null,null,null,null,null,null,null,null,null,null,{"$f":"IFERROR(INDEX($AE$13:$AE$1003, SMALL(IF(ISBLANK($AE$13:$AE$1003)+ISERROR($AE$13:$AE$1003)+LEN($AE$13:$AE$1003)=0, \"\", ROW($AE$13:$AE$1003)-MIN(ROW($AE$13:$AE$1003))+1), ROW(259:259))),\"\")","v":"__HI_17__GRADALTDPL_N"},{"$f":"IF(AF271=\"\",\"\",IF(COUNTIF(CurrentListing,AF271)>1,AJ271,\"\"))","v":""},{"$f":"IF(LEN(AF271)=0,\"\",IF(ISNA(MATCH(AF271,MasterListing,0)),AJ271,\"\"))","v":""},null,"__HI_17__GHS_N","","HI17GHSN","__HI_17__GHS_N",{"$f":"IF(LEN(AA270)>0,1,0)","v":1},{"$f":"H270&\"_\"&I270&\"_\"&P270&\"_\"&Q270&\"_\"&R270&\"_\"&V270&\"_\"&W270","v":"______"},null,null,null,null,{"$f":"IF(ISNUMBER(SEARCH($F$6,AP270)),MAX($AO$11:AO269)+1,0)","v":259},0,{"$f":"ROWS($AQ$12:AQ270)","v":259},{"$f":"IFERROR(VLOOKUP(ROWS($AR$12:AR270),$AO$12:$AP$3014,2,0),\"\")","v":0}]
[null,null,null,null,null,null,null,null,null,null,null,null,null,null,null,null,null,null,null,null,null,null,null,null,null,null,{"$f":"IFERROR(INDEX($AE$13:$AE$1003, SMALL(IF(ISBLANK($AE$13:$AE$1003)+ISERROR($AE$13:$AE$1003)+LEN($AE$13:$AE$1003)=0, \"\", ROW($AE$13:$AE$1003)-MIN(ROW($AE$13:$AE$1003))+1), ROW(260:260))),\"\")","v":"__HI_17__MKC_N"},{"$f":"IF(AF272=\"\",\"\",IF(COUNTIF(CurrentListing,AF272)>1,AJ272,\"\"))","v":""},{"$f":"IF(LEN(AF272)=0,\"\",IF(ISNA(MATCH(AF272,MasterListing,0)),AJ272,\"\"))","v":""},null,"__HI_17__GRADALTDPL_N","","HI17GRADALTDPLN","__HI_17__GRADALTDPL_N",1,"______",null,null,null,null,{"$f":"IF(ISNUMBER(SEARCH($F$6,AP271)),MAX($AO$11:AO270)+1,0)","v":260},0,{"$f":"ROWS($AQ$12:AQ271)","v":260},{"$f":"IFERROR(VLOOKUP(ROWS($AR$12:AR271),$AO$12:$AP$3014,2,0),\"\")","v":0}]
[null,null,null,null,null,null,null,null,null,null,null,null,null,null,null,null,null,null,null,null,null,null,null,null,null,null,{"$f":"IFERROR(INDEX($AE$13:$AE$1003, SMALL(IF(ISBLANK($AE$13:$AE$1003)+ISERROR($AE$13:$AE$1003)+LEN($AE$13:$AE$1003)=0, \"\", ROW($AE$13:$AE$1003)-MIN(ROW($AE$13:$AE$1003))+1), ROW(261:261))),\"\")","v":"__HI_17__RC_N"},{"$f":"IF(AF273=\"\",\"\",IF(COUNTIF(CurrentListing,AF273)>1,AJ273,\"\"))","v":""},{"$f":"IF(LEN(AF273)=0,\"\",IF(ISNA(MATCH(AF273,MasterListing,0)),AJ273,\"\"))","v":""},null,"__HI_17__MKC_N","","HI17MKCN","__HI_17__MKC_N",1,"______",null,null,null,null,{"$f":"IF(ISNUMBER(SEARCH($F$6,AP272)),MAX($AO$11:AO271)+1,0)","v":261},0,{"$f":"ROWS($AQ$12:AQ272)","v":261},{"$f":"IFERROR(VLOOKUP(ROWS($AR$12:AR272),$AO$12:$AP$3014,2,0),\"\")","v":0}]
[null,null,null,null,null,null,null,null,null,null,null,null,null,null,null,null,null,null,null,null,null,null,null,null,null,null,{"$f":"IFERROR(INDEX($AE$13:$AE$1003, SMALL(IF(ISBLANK($AE$13:$AE$1003)+ISERROR($AE$13:$AE$1003)+LEN($AE$13:$AE$1003)=0, \"\", ROW($AE$13:$AE$1003)-MIN(ROW($AE$13:$AE$1003))+1), ROW(262:262))),\"\")","v":"__HI_17__RMA_N"},{"$f":"IF(AF274=\"\",\"\",IF(COUNTIF(CurrentListing,AF274)>1,AJ274,\"\"))","v":""},{"$f":"IF(LEN(AF274)=0,\"\",IF(ISNA(MATCH(AF274,MasterListing,0)),AJ274,\"\"))","v":""},null,"__HI_17__RC_N","","HI17RCN","__HI_17__RC_N",1,"______",null,null,null,null,{"$f":"IF(ISNUMBER(SEARCH($F$6,AP273)),MAX($AO$11:AO272)+1,0)","v":262},0,{"$f":"ROWS($AQ$12:AQ273)","v":262},{"$f":"IFERROR(VLOOKUP(ROWS($AR$12:AR273),$AO$12:$AP$3014,2,0),\"\")","v":0}]
[null,null,null,null,null,null,null,null,null,null,null,null,null,null,null,null,null,null,null,null,null,null,null,null,null,null,{"$f":"IFERROR(INDEX($AE$13:$AE$1003, SMALL(IF(ISBLANK($AE$13:$AE$1003)+ISERROR($AE$13:$AE$1003)+LEN($AE$13:$AE$1003)=0, \"\", ROW($AE$13:$AE$1003)-MIN(ROW($AE$13:$AE$1003))+1), ROW(263:263))),\"\")","v":"__HI_17__TRAN_N"},{"$f":"IF(AF275=\"\",\"\",IF(COUNTIF(CurrentListing,AF275)>1,AJ275,\"\"))","v":""},{"$f":"IF(LEN(AF275)=0,\"\",IF(ISNA(MATCH(AF275,MasterListing,0)),AJ275,\"\"))","v":""},null,"__HI_17__RMA_N","","HI17RMAN","__HI_17__RMA_N",1,"______",null,null,null,null,{"$f":"IF(ISNUMBER(SEARCH($F$6,AP274)),MAX($AO$11:AO273)+1,0)","v":263},0,{"$f":"ROWS($AQ$12:AQ274)","v":263},{"$f":"IFERROR(VLOOKUP(ROWS($AR$12:AR274),$AO$12:$AP$3014,2,0),\"\")","v":0}]
[null,null,null,null,null,null,null,null,null,null,null,null,null,null,null,null,null,null,null,null,null,null,null,null,null,null,{"$f":"IFERROR(INDEX($AE$13:$AE$1003, SMALL(IF(ISBLANK($AE$13:$AE$1003)+ISERROR($AE$13:$AE$1003)+LEN($AE$13:$AE$1003)=0, \"\", ROW($AE$13:$AE$1003)-MIN(ROW($AE$13:$AE$1003))+1), ROW(264:264))),\"\")","v":"__HI_18__D_N"},{"$f":"IF(AF276=\"\",\"\",IF(COUNTIF(CurrentListing,AF276)>1,AJ276,\"\"))","v":""},{"$f":"IF(LEN(AF276)=0,\"\",IF(ISNA(MATCH(AF276,MasterListing,0)),AJ276,\"\"))","v":""},null,"__HI_17__TRAN_N","","HI17TRANN","__HI_17__TRAN_N",1,"______",null,null,null,null,{"$f":"IF(ISNUMBER(SEARCH($F$6,AP275)),MAX($AO$11:AO274)+1,0)","v":264},0,{"$f":"ROWS($AQ$12:AQ275)","v":264},{"$f":"IFERROR(VLOOKUP(ROWS($AR$12:AR275),$AO$12:$AP$3014,2,0),\"\")","v":0}]
[null,null,null,null,null,null,null,null,null,null,null,null,null,null,null,null,null,null,null,null,null,null,null,null,null,null,{"$f":"IFERROR(INDEX($AE$13:$AE$1003, SMALL(IF(ISBLANK($AE$13:$AE$1003)+ISERROR($AE$13:$AE$1003)+LEN($AE$13:$AE$1003)=0, \"\", ROW($AE$13:$AE$1003)-MIN(ROW($AE$13:$AE$1003))+1), ROW(265:265))),\"\")","v":"__HI_18__DROPOUT_N"},{"$f":"IF(AF277=\"\",\"\",IF(COUNTIF(CurrentListing,AF277)>1,AJ277,\"\"))","v":""},{"$f":"IF(LEN(AF277)=0,\"\",IF(ISNA(MATCH(AF277,MasterListing,0)),AJ277,\"\"))","v":""},null,"__HI_18__D_N","","HI18DN","__HI_18__D_N",1,"______",null,null,null,null,{"$f":"IF(ISNUMBER(SEARCH($F$6,AP276)),MAX($AO$11:AO275)+1,0)","v":265},0,{"$f":"ROWS($AQ$12:AQ276)","v":265},{"$f":"IFERROR(VLOOKUP(ROWS($AR$12:AR276),$AO$12:$AP$3014,2,0),\"\")","v":0}]
[null,null,null,null,null,null,null,null,null,null,null,null,null,null,null,null,null,null,null,null,null,null,null,null,null,null,{"$f":"IFERROR(INDEX($AE$13:$AE$1003, SMALL(IF(ISBLANK($AE$13:$AE$1003)+ISERROR($AE$13:$AE$1003)+LEN($AE$13:$AE$1003)=0, \"\", ROW($AE$13:$AE$1003)-MIN(ROW($AE$13:$AE$1003))+1), ROW(266:266))),\"\")","v":"__HI_18__GHS_N"},{"$f":"IF(AF278=\"\",\"\",IF(COUNTIF(CurrentListing,AF278)>1,AJ278,\"\"))","v":""},{"$f":"IF(LEN(AF278)=0,\"\",IF(ISNA(MATCH(AF278,MasterListing,0)),AJ278,\"\"))","v":""},null,"__HI_18__DROPOUT_N","","HI18DROPOUTN","__HI_18__DROPOUT_N",1,"______",null,null,null,null,{"$f":"IF(ISNUMBER(SEARCH($F$6,AP277)),MAX($AO$11:AO276)+1,0)","v":266},0,{"$f":"ROWS($AQ$12:AQ277)","v":266},{"$f":"IFERROR(VLOOKUP(ROWS($AR$12:AR277),$AO$12:$AP$3014,2,0),\"\")","v":0}]
[null,null,null,null,null,null,null,null,null,null,null,null,null,null,null,null,null,null,null,null,null,null,null,null,null,null,{"$f":"IFERROR(INDEX($AE$13:$AE$1003, SMALL(IF(ISBLANK($AE$13:$AE$1003)+ISERROR($AE$13:$AE$1003)+LEN($AE$13:$AE$1003)=0, \"\", ROW($AE$13:$AE$1003)-MIN(ROW($AE$13:$AE$1003))+1), ROW(267:267))),\"\")","v":"__HI_18__GRADALTDPL_N"},{"$f":"IF(AF279=\"\",\"\",IF(COUNTIF(CurrentListing,AF279)>1,AJ279,\"\"))","v":""},{"$f":"IF(LEN(AF279)=0,\"\",IF(ISNA(MATCH(AF279,MasterListing,0)),AJ279,\"\"))","v":""},null,"__HI_18__GHS_N","","HI18GHSN","__HI_18__GHS_N",1,"______",null,null,null,null,{"$f":"IF(ISNUMBER(SEARCH($F$6,AP278)),MAX($AO$11:AO277)+1,0)","v":267},0,{"$f":"ROWS($AQ$12:AQ278)","v":267},{"$f":"IFERROR(VLOOKUP(ROWS($AR$12:AR278),$AO$12:$AP$3014,2,0),\"\")","v":0}]
[null,null,null,null,null,null,null,null,null,null,null,null,null,null,null,null,null,null,null,null,null,null,null,null,null,null,{"$f":"IFERROR(INDEX($AE$13:$AE$1003, SMALL(IF(ISBLANK($AE$13:$AE$1003)+ISERROR($AE$13:$AE$1003)+LEN($AE$13:$AE$1003)=0, \"\", ROW($AE$13:$AE$1003)-MIN(ROW($AE$13:$AE$1003))+1), ROW(268:268))),\"\")","v":"__HI_18__MKC_N"},{"$f":"IF(AF280=\"\",\"\",IF(COUNTIF(CurrentListing,AF280)>1,AJ280,\"\"))","v":""},{"$f":"IF(LEN(AF280)=0,\"\",IF(ISNA(MATCH(AF280,MasterListing,0)),AJ280,\"\"))","v":""},null,"__HI_18__GRADALTDPL_N","","HI18GRADALTDPLN","__HI_18__GRADALTDPL_N",1,"______",null,null,null,null,{"$f":"IF(ISNUMBER(SEARCH($F$6,AP279)),MAX($AO$11:AO278)+1,0)","v":268},0,{"$f":"ROWS($AQ$12:AQ279)","v":268},{"$f":"IFERROR(VLOOKUP(ROWS($AR$12:AR279),$AO$12:$AP$3014,2,0),\"\")","v":0}]
[null,null,null,null,null,null,null,null,null,null,null,null,null,null,null,null,null,null,null,null,null,null,null,null,null,null,{"$f":"IFERROR(INDEX($AE$13:$AE$1003, SMALL(IF(ISBLANK($AE$13:$AE$1003)+ISERROR($AE$13:$AE$1003)+LEN($AE$13:$AE$1003)=0, \"\", ROW($AE$13:$AE$1003)-MIN(ROW($AE$13:$AE$1003))+1), ROW(269:269))),\"\")","v":"__HI_18__RC_N"},{"$f":"IF(AF281=\"\",\"\",IF(COUNTIF(CurrentListing,AF281)>1,AJ281,\"\"))","v":""},{"$f":"IF(LEN(AF281)=0,\"\",IF(ISNA(MATCH(AF281,MasterListing,0)),AJ281,\"\"))","v":""},null,"__HI_18__MKC_N","","HI18MKCN","__HI_18__MKC_N",1,"______",null,null,null,null,{"$f":"IF(ISNUMBER(SEARCH($F$6,AP280)),MAX($AO$11:AO279)+1,0)","v":269},0,{"$f":"ROWS($AQ$12:AQ280)","v":269},{"$f":"IFERROR(VLOOKUP(ROWS($AR$12:AR280),$AO$12:$AP$3014,2,0),\"\")","v":0}]
[null,null,null,null,null,null,null,null,null,null,null,null,null,null,null,null,null,null,null,null,null,null,null,null,null,null,{"$f":"IFERROR(INDEX($AE$13:$AE$1003, SMALL(IF(ISBLANK($AE$13:$AE$1003)+ISERROR($AE$13:$AE$1003)+LEN($AE$13:$AE$1003)=0, \"\", ROW($AE$13:$AE$1003)-MIN(ROW($AE$13:$AE$1003))+1), ROW(270:270))),\"\")","v":"__HI_18__RMA_N"},{"$f":"IF(AF282=\"\",\"\",IF(COUNTIF(CurrentListing,AF282)>1,AJ282,\"\"))","v":""},{"$f":"IF(LEN(AF282)=0,\"\",IF(ISNA(MATCH(AF282,MasterListing,0)),AJ282,\"\"))","v":""},null,"__HI_18__RC_N","","HI18RCN","__HI_18__RC_N",1,"______",null,null,null,null,{"$f":"IF(ISNUMBER(SEARCH($F$6,AP281)),MAX($AO$11:AO280)+1,0)","v":270},0,{"$f":"ROWS($AQ$12:AQ281)","v":270},{"$f":"IFERROR(VLOOKUP(ROWS($AR$12:AR281),$AO$12:$AP$3014,2,0),\"\")","v":0}]
[null,null,null,null,null,null,null,null,null,null,null,null,null,null,null,null,null,null,null,null,null,null,null,null,null,null,{"$f":"IFERROR(INDEX($AE$13:$AE$1003, SMALL(IF(ISBLANK($AE$13:$AE$1003)+ISERROR($AE$13:$AE$1003)+LEN($AE$13:$AE$1003)=0, \"\", ROW($AE$13:$AE$1003)-MIN(ROW($AE$13:$AE$1003))+1), ROW(271:271))),\"\")","v":"__HI_18__TRAN_N"},{"$f":"IF(AF283=\"\",\"\",IF(COUNTIF(CurrentListing,AF283)>1,AJ283,\"\"))","v":""},{"$f":"IF(LEN(AF283)=0,\"\",IF(ISNA(MATCH(AF283,MasterListing,0)),AJ283,\"\"))","v":""},null,"__HI_18__RMA_N","","HI18RMAN","__HI_18__RMA_N",1,"______",null,null,null,null,{"$f":"IF(ISNUMBER(SEARCH($F$6,AP282)),MAX($AO$11:AO281)+1,0)","v":271},0,{"$f":"ROWS($AQ$12:AQ282)","v":271},{"$f":"IFERROR(VLOOKUP(ROWS($AR$12:AR282),$AO$12:$AP$3014,2,0),\"\")","v":0}]
[null,null,null,null,null,null,null,null,null,null,null,null,null,null,null,null,null,null,null,null,null,null,null,null,null,null,{"$f":"IFERROR(INDEX($AE$13:$AE$1003, SMALL(IF(ISBLANK($AE$13:$AE$1003)+ISERROR($AE$13:$AE$1003)+LEN($AE$13:$AE$1003)=0, \"\", ROW($AE$13:$AE$1003)-MIN(ROW($AE$13:$AE$1003))+1), ROW(272:272))),\"\")","v":"__HI_19__D_N"},{"$f":"IF(AF284=\"\",\"\",IF(COUNTIF(CurrentListing,AF284)>1,AJ284,\"\"))","v":""},{"$f":"IF(LEN(AF284)=0,\"\",IF(ISNA(MATCH(AF284,MasterListing,0)),AJ284,\"\"))","v":""},null,"__HI_18__TRAN_N","","HI18TRANN","__HI_18__TRAN_N",1,"______",null,null,null,null,{"$f":"IF(ISNUMBER(SEARCH($F$6,AP283)),MAX($AO$11:AO282)+1,0)","v":272},0,{"$f":"ROWS($AQ$12:AQ283)","v":272},{"$f":"IFERROR(VLOOKUP(ROWS($AR$12:AR283),$AO$12:$AP$3014,2,0),\"\")","v":0}]
[null,null,null,null,null,null,null,null,null,null,null,null,null,null,null,null,null,null,null,null,null,null,null,null,null,null,{"$f":"IFERROR(INDEX($AE$13:$AE$1003, SMALL(IF(ISBLANK($AE$13:$AE$1003)+ISERROR($AE$13:$AE$1003)+LEN($AE$13:$AE$1003)=0, \"\", ROW($AE$13:$AE$1003)-MIN(ROW($AE$13:$AE$1003))+1), ROW(273:273))),\"\")","v":"__HI_19__DROPOUT_N"},{"$f":"IF(AF285=\"\",\"\",IF(COUNTIF(CurrentListing,AF285)>1,AJ285,\"\"))","v":""},{"$f":"IF(LEN(AF285)=0,\"\",IF(ISNA(MATCH(AF285,MasterListing,0)),AJ285,\"\"))","v":""},null,"__HI_19__D_N","","HI19DN","__HI_19__D_N",1,"______",null,null,null,null,{"$f":"IF(ISNUMBER(SEARCH($F$6,AP284)),MAX($AO$11:AO283)+1,0)","v":273},0,{"$f":"ROWS($AQ$12:AQ284)","v":273},{"$f":"IFERROR(VLOOKUP(ROWS($AR$12:AR284),$AO$12:$AP$3014,2,0),\"\")","v":0}]
[null,null,null,null,null,null,null,null,null,null,null,null,null,null,null,null,null,null,null,null,null,null,null,null,null,null,{"$f":"IFERROR(INDEX($AE$13:$AE$1003, SMALL(IF(ISBLANK($AE$13:$AE$1003)+ISERROR($AE$13:$AE$1003)+LEN($AE$13:$AE$1003)=0, \"\", ROW($AE$13:$AE$1003)-MIN(ROW($AE$13:$AE$1003))+1), ROW(274:274))),\"\")","v":"__HI_19__GHS_N"},{"$f":"IF(AF286=\"\",\"\",IF(COUNTIF(CurrentListing,AF286)>1,AJ286,\"\"))","v":""},{"$f":"IF(LEN(AF286)=0,\"\",IF(ISNA(MATCH(AF286,MasterListing,0)),AJ286,\"\"))","v":""},null,"__HI_19__DROPOUT_N","","HI19DROPOUTN","__HI_19__DROPOUT_N",1,"______",null,null,null,null,{"$f":"IF(ISNUMBER(SEARCH($F$6,AP285)),MAX($AO$11:AO284)+1,0)","v":274},0,{"$f":"ROWS($AQ$12:AQ285)","v":274},{"$f":"IFERROR(VLOOKUP(ROWS($AR$12:AR285),$AO$12:$AP$3014,2,0),\"\")","v":0}]
[null,null,null,null,null,null,null,null,null,null,null,null,null,null,null,null,null,null,null,null,null,null,null,null,null,null,{"$f":"IFERROR(INDEX($AE$13:$AE$1003, SMALL(IF(ISBLANK($AE$13:$AE$1003)+ISERROR($AE$13:$AE$1003)+LEN($AE$13:$AE$1003)=0, \"\", ROW($AE$13:$AE$1003)-MIN(ROW($AE$13:$AE$1003))+1), ROW(275:275))),\"\")","v":"__HI_19__GRADALTDPL_N"},{"$f":"IF(AF287=\"\",\"\",IF(COUNTIF(CurrentListing,AF287)>1,AJ287,\"\"))","v":""},{"$f":"IF(LEN(AF287)=0,\"\",IF(ISNA(MATCH(AF287,MasterListing,0)),AJ287,\"\"))","v":""},null,"__HI_19__GHS_N","","HI19GHSN","__HI_19__GHS_N",1,"______",null,null,null,null,{"$f":"IF(ISNUMBER(SEARCH($F$6,AP286)),MAX($AO$11:AO285)+1,0)","v":275},0,{"$f":"ROWS($AQ$12:AQ286)","v":275},{"$f":"IFERROR(VLOOKUP(ROWS($AR$12:AR286),$AO$12:$AP$3014,2,0),\"\")","v":0}]
[null,null,null,null,null,null,null,null,null,null,null,null,null,null,null,null,null,null,null,null,null,null,null,null,null,null,{"$f":"IFERROR(INDEX($AE$13:$AE$1003, SMALL(IF(ISBLANK($AE$13:$AE$1003)+ISERROR($AE$13:$AE$1003)+LEN($AE$13:$AE$1003)=0, \"\", ROW($AE$13:$AE$1003)-MIN(ROW($AE$13:$AE$1003))+1), ROW(276:276))),\"\")","v":"__HI_19__MKC_N"},{"$f":"IF(AF288=\"\",\"\",IF(COUNTIF(CurrentListing,AF288)>1,AJ288,\"\"))","v":""},{"$f":"IF(LEN(AF288)=0,\"\",IF(ISNA(MATCH(AF288,MasterListing,0)),AJ288,\"\"))","v":""},null,"__HI_19__GRADALTDPL_N","","HI19GRADALTDPLN","__HI_19__GRADALTDPL_N",1,"______",null,null,null,null,{"$f":"IF(ISNUMBER(SEARCH($F$6,AP287)),MAX($AO$11:AO286)+1,0)","v":276},0,{"$f":"ROWS($AQ$12:AQ287)","v":276},{"$f":"IFERROR(VLOOKUP(ROWS($AR$12:AR287),$AO$12:$AP$3014,2,0),\"\")","v":0}]
[null,null,null,null,null,null,null,null,null,null,null,null,null,null,null,null,null,null,null,null,null,null,null,null,null,null,{"$f":"IFERROR(INDEX($AE$13:$AE$1003, SMALL(IF(ISBLANK($AE$13:$AE$1003)+ISERROR($AE$13:$AE$1003)+LEN($AE$13:$AE$1003)=0, \"\", ROW($AE$13:$AE$1003)-MIN(ROW($AE$13:$AE$1003))+1), ROW(277:277))),\"\")","v":"__HI_19__RC_N"},{"$f":"IF(AF289=\"\",\"\",IF(COUNTIF(CurrentListing,AF289)>1,AJ289,\"\"))","v":""},{"$f":"IF(LEN(AF289)=0,\"\",IF(ISNA(MATCH(AF289,MasterListing,0)),AJ289,\"\"))","v":""},null,"__HI_19__MKC_N","","HI19MKCN","__HI_19__MKC_N",1,"______",null,null,null,null,{"$f":"IF(ISNUMBER(SEARCH($F$6,AP288)),MAX($AO$11:AO287)+1,0)","v":277},0,{"$f":"ROWS($AQ$12:AQ288)","v":277},{"$f":"IFERROR(VLOOKUP(ROWS($AR$12:AR288),$AO$12:$AP$3014,2,0),\"\")","v":0}]
[null,null,null,null,null,null,null,null,null,null,null,null,null,null,null,null,null,null,null,null,null,null,null,null,null,null,{"$f":"IFERROR(INDEX($AE$13:$AE$1003, SMALL(IF(ISBLANK($AE$13:$AE$1003)+ISERROR($AE$13:$AE$1003)+LEN($AE$13:$AE$1003)=0, \"\", ROW($AE$13:$AE$1003)-MIN(ROW($AE$13:$AE$1003))+1), ROW(278:278))),\"\")","v":"__HI_19__RMA_N"},{"$f":"IF(AF290=\"\",\"\",IF(COUNTIF(CurrentListing,AF290)>1,AJ290,\"\"))","v":""},{"$f":"IF(LEN(AF290)=0,\"\",IF(ISNA(MATCH(AF290,MasterListing,0)),AJ290,\"\"))","v":""},null,"__HI_19__RC_N","","HI19RCN","__HI_19__RC_N",1,"______",null,null,null,null,{"$f":"IF(ISNUMBER(SEARCH($F$6,AP289)),MAX($AO$11:AO288)+1,0)","v":278},0,{"$f":"ROWS($AQ$12:AQ289)","v":278},{"$f":"IFERROR(VLOOKUP(ROWS($AR$12:AR289),$AO$12:$AP$3014,2,0),\"\")","v":0}]
[null,null,null,null,null,null,null,null,null,null,null,null,null,null,null,null,null,null,null,null,null,null,null,null,null,null,{"$f":"IFERROR(INDEX($AE$13:$AE$1003, SMALL(IF(ISBLANK($AE$13:$AE$1003)+ISERROR($AE$13:$AE$1003)+LEN($AE$13:$AE$1003)=0, \"\", ROW($AE$13:$AE$1003)-MIN(ROW($AE$13:$AE$1003))+1), ROW(279:279))),\"\")","v":"__HI_19__TRAN_N"},{"$f":"IF(AF291=\"\",\"\",IF(COUNTIF(CurrentListing,AF291)>1,AJ291,\"\"))","v":""},{"$f":"IF(LEN(AF291)=0,\"\",IF(ISNA(MATCH(AF291,MasterListing,0)),AJ291,\"\"))","v":""},null,"__HI_19__RMA_N","","HI19RMAN","__HI_19__RMA_N",1,"______",null,null,null,null,{"$f":"IF(ISNUMBER(SEARCH($F$6,AP290)),MAX($AO$11:AO289)+1,0)","v":279},0,{"$f":"ROWS($AQ$12:AQ290)","v":279},{"$f":"IFERROR(VLOOKUP(ROWS($AR$12:AR290),$AO$12:$AP$3014,2,0),\"\")","v":0}]
[null,null,null,null,null,null,null,null,null,null,null,null,null,null,null,null,null,null,null,null,null,null,null,null,null,null,{"$f":"IFERROR(INDEX($AE$13:$AE$1003, SMALL(IF(ISBLANK($AE$13:$AE$1003)+ISERROR($AE$13:$AE$1003)+LEN($AE$13:$AE$1003)=0, \"\", ROW($AE$13:$AE$1003)-MIN(ROW($AE$13:$AE$1003))+1), ROW(280:280))),\"\")","v":"__HI_20__D_N"},{"$f":"IF(AF292=\"\",\"\",IF(COUNTIF(CurrentListing,AF292)>1,AJ292,\"\"))","v":""},{"$f":"IF(LEN(AF292)=0,\"\",IF(ISNA(MATCH(AF292,MasterListing,0)),AJ292,\"\"))","v":""},null,"__HI_19__TRAN_N","","HI19TRANN","__HI_19__TRAN_N",1,"______",null,null,null,null,{"$f":"IF(ISNUMBER(SEARCH($F$6,AP291)),MAX($AO$11:AO290)+1,0)","v":280},0,{"$f":"ROWS($AQ$12:AQ291)","v":280},{"$f":"IFERROR(VLOOKUP(ROWS($AR$12:AR291),$AO$12:$AP$3014,2,0),\"\")","v":0}]
[null,null,null,null,null,null,null,null,null,null,null,null,null,null,null,null,null,null,null,null,null,null,null,null,null,null,{"$f":"IFERROR(INDEX($AE$13:$AE$1003, SMALL(IF(ISBLANK($AE$13:$AE$1003)+ISERROR($AE$13:$AE$1003)+LEN($AE$13:$AE$1003)=0, \"\", ROW($AE$13:$AE$1003)-MIN(ROW($AE$13:$AE$1003))+1), ROW(281:281))),\"\")","v":"__HI_20__DROPOUT_N"},{"$f":"IF(AF293=\"\",\"\",IF(COUNTIF(CurrentListing,AF293)>1,AJ293,\"\"))","v":""},{"$f":"IF(LEN(AF293)=0,\"\",IF(ISNA(MATCH(AF293,MasterListing,0)),AJ293,\"\"))","v":""},null,"__HI_20__D_N","","HI20DN","__HI_20__D_N",1,"______",null,null,null,null,{"$f":"IF(ISNUMBER(SEARCH($F$6,AP292)),MAX($AO$11:AO291)+1,0)","v":281},0,{"$f":"ROWS($AQ$12:AQ292)","v":281},{"$f":"IFERROR(VLOOKUP(ROWS($AR$12:AR292),$AO$12:$AP$3014,2,0),\"\")","v":0}]
[null,null,null,null,null,null,null,null,null,null,null,null,null,null,null,null,null,null,null,null,null,null,null,null,null,null,{"$f":"IFERROR(INDEX($AE$13:$AE$1003, SMALL(IF(ISBLANK($AE$13:$AE$1003)+ISERROR($AE$13:$AE$1003)+LEN($AE$13:$AE$1003)=0, \"\", ROW($AE$13:$AE$1003)-MIN(ROW($AE$13:$AE$1003))+1), ROW(282:282))),\"\")","v":"__HI_20__GHS_N"},{"$f":"IF(AF294=\"\",\"\",IF(COUNTIF(CurrentListing,AF294)>1,AJ294,\"\"))","v":""},{"$f":"IF(LEN(AF294)=0,\"\",IF(ISNA(MATCH(AF294,MasterListing,0)),AJ294,\"\"))","v":""},null,"__HI_20__DROPOUT_N","","HI20DROPOUTN","__HI_20__DROPOUT_N",1,"______",null,null,null,null,{"$f":"IF(ISNUMBER(SEARCH($F$6,AP293)),MAX($AO$11:AO292)+1,0)","v":282},0,{"$f":"ROWS($AQ$12:AQ293)","v":282},{"$f":"IFERROR(VLOOKUP(ROWS($AR$12:AR293),$AO$12:$AP$3014,2,0),\"\")","v":0}]
[null,null,null,null,null,null,null,null,null,null,null,null,null,null,null,null,null,null,null,null,null,null,null,null,null,null,{"$f":"IFERROR(INDEX($AE$13:$AE$1003, SMALL(IF(ISBLANK($AE$13:$AE$1003)+ISERROR($AE$13:$AE$1003)+LEN($AE$13:$AE$1003)=0, \"\", ROW($AE$13:$AE$1003)-MIN(ROW($AE$13:$AE$1003))+1), ROW(283:283))),\"\")","v":"__HI_20__GRADALTDPL_N"},{"$f":"IF(AF295=\"\",\"\",IF(COUNTIF(CurrentListing,AF295)>1,AJ295,\"\"))","v":""},{"$f":"IF(LEN(AF295)=0,\"\",IF(ISNA(MATCH(AF295,MasterListing,0)),AJ295,\"\"))","v":""},null,"__HI_20__GHS_N","","HI20GHSN","__HI_20__GHS_N",1,"______",null,null,null,null,{"$f":"IF(ISNUMBER(SEARCH($F$6,AP294)),MAX($AO$11:AO293)+1,0)","v":283},0,{"$f":"ROWS($AQ$12:AQ294)","v":283},{"$f":"IFERROR(VLOOKUP(ROWS($AR$12:AR294),$AO$12:$AP$3014,2,0),\"\")","v":0}]
[null,null,null,null,null,null,null,null,null,null,null,null,null,null,null,null,null,null,null,null,null,null,null,null,null,null,{"$f":"IFERROR(INDEX($AE$13:$AE$1003, SMALL(IF(ISBLANK($AE$13:$AE$1003)+ISERROR($AE$13:$AE$1003)+LEN($AE$13:$AE$1003)=0, \"\", ROW($AE$13:$AE$1003)-MIN(ROW($AE$13:$AE$1003))+1), ROW(284:284))),\"\")","v":"__HI_20__MKC_N"},{"$f":"IF(AF296=\"\",\"\",IF(COUNTIF(CurrentListing,AF296)>1,AJ296,\"\"))","v":""},{"$f":"IF(LEN(AF296)=0,\"\",IF(ISNA(MATCH(AF296,MasterListing,0)),AJ296,\"\"))","v":""},null,"__HI_20__GRADALTDPL_N","","HI20GRADALTDPLN","__HI_20__GRADALTDPL_N",1,"______",null,null,null,null,{"$f":"IF(ISNUMBER(SEARCH($F$6,AP295)),MAX($AO$11:AO294)+1,0)","v":284},0,{"$f":"ROWS($AQ$12:AQ295)","v":284},{"$f":"IFERROR(VLOOKUP(ROWS($AR$12:AR295),$AO$12:$AP$3014,2,0),\"\")","v":0}]
[null,null,null,null,null,null,null,null,null,null,null,null,null,null,null,null,null,null,null,null,null,null,null,null,null,null,{"$f":"IFERROR(INDEX($AE$13:$AE$1003, SMALL(IF(ISBLANK($AE$13:$AE$1003)+ISERROR($AE$13:$AE$1003)+LEN($AE$13:$AE$1003)=0, \"\", ROW($AE$13:$AE$1003)-MIN(ROW($AE$13:$AE$1003))+1), ROW(285:285))),\"\")","v":"__HI_20__RC_N"},{"$f":"IF(AF297=\"\",\"\",IF(COUNTIF(CurrentListing,AF297)>1,AJ297,\"\"))","v":""},{"$f":"IF(LEN(AF297)=0,\"\",IF(ISNA(MATCH(AF297,MasterListing,0)),AJ297,\"\"))","v":""},null,"__HI_20__MKC_N","","HI20MKCN","__HI_20__MKC_N",1,"______",null,null,null,null,{"$f":"IF(ISNUMBER(SEARCH($F$6,AP296)),MAX($AO$11:AO295)+1,0)","v":285},0,{"$f":"ROWS($AQ$12:AQ296)","v":285},{"$f":"IFERROR(VLOOKUP(ROWS($AR$12:AR296),$AO$12:$AP$3014,2,0),\"\")","v":0}]
[null,null,null,null,null,null,null,null,null,null,null,null,null,null,null,null,null,null,null,null,null,null,null,null,null,null,{"$f":"IFERROR(INDEX($AE$13:$AE$1003, SMALL(IF(ISBLANK($AE$13:$AE$1003)+ISERROR($AE$13:$AE$1003)+LEN($AE$13:$AE$1003)=0, \"\", ROW($AE$13:$AE$1003)-MIN(ROW($AE$13:$AE$1003))+1), ROW(286:286))),\"\")","v":"__HI_20__RMA_N"},{"$f":"IF(AF298=\"\",\"\",IF(COUNTIF(CurrentListing,AF298)>1,AJ298,\"\"))","v":""},{"$f":"IF(LEN(AF298)=0,\"\",IF(ISNA(MATCH(AF298,MasterListing,0)),AJ298,\"\"))","v":""},null,"__HI_20__RC_N","","HI20RCN","__HI_20__RC_N",1,"______",null,null,null,null,{"$f":"IF(ISNUMBER(SEARCH($F$6,AP297)),MAX($AO$11:AO296)+1,0)","v":286},0,{"$f":"ROWS($AQ$12:AQ297)","v":286},{"$f":"IFERROR(VLOOKUP(ROWS($AR$12:AR297),$AO$12:$AP$3014,2,0),\"\")","v":0}]
[null,null,null,null,null,null,null,null,null,null,null,null,null,null,null,null,null,null,null,null,null,null,null,null,null,null,{"$f":"IFERROR(INDEX($AE$13:$AE$1003, SMALL(IF(ISBLANK($AE$13:$AE$1003)+ISERROR($AE$13:$AE$1003)+LEN($AE$13:$AE$1003)=0, \"\", ROW($AE$13:$AE$1003)-MIN(ROW($AE$13:$AE$1003))+1), ROW(287:287))),\"\")","v":"__HI_20__TRAN_N"},{"$f":"IF(AF299=\"\",\"\",IF(COUNTIF(CurrentListing,AF299)>1,AJ299,\"\"))","v":""},{"$f":"IF(LEN(AF299)=0,\"\",IF(ISNA(MATCH(AF299,MasterListing,0)),AJ299,\"\"))","v":""},null,"__HI_20__RMA_N","","HI20RMAN","__HI_20__RMA_N",1,"______",null,null,null,null,{"$f":"IF(ISNUMBER(SEARCH($F$6,AP298)),MAX($AO$11:AO297)+1,0)","v":287},0,{"$f":"ROWS($AQ$12:AQ298)","v":287},{"$f":"IFERROR(VLOOKUP(ROWS($AR$12:AR298),$AO$12:$AP$3014,2,0),\"\")","v":0}]
[null,null,null,null,null,null,null,null,null,null,null,null,null,null,null,null,null,null,null,null,null,null,null,null,null,null,{"$f":"IFERROR(INDEX($AE$13:$AE$1003, SMALL(IF(ISBLANK($AE$13:$AE$1003)+ISERROR($AE$13:$AE$1003)+LEN($AE$13:$AE$1003)=0, \"\", ROW($AE$13:$AE$1003)-MIN(ROW($AE$13:$AE$1003))+1), ROW(288:288))),\"\")","v":"__HI_21__D_N"},{"$f":"IF(AF300=\"\",\"\",IF(COUNTIF(CurrentListing,AF300)>1,AJ300,\"\"))","v":""},{"$f":"IF(LEN(AF300)=0,\"\",IF(ISNA(MATCH(AF300,MasterListing,0)),AJ300,\"\"))","v":""},null,"__HI_20__TRAN_N","","HI20TRANN","__HI_20__TRAN_N",1,"______",null,null,null,null,{"$f":"IF(ISNUMBER(SEARCH($F$6,AP299)),MAX($AO$11:AO298)+1,0)","v":288},0,{"$f":"ROWS($AQ$12:AQ299)","v":288},{"$f":"IFERROR(VLOOKUP(ROWS($AR$12:AR299),$AO$12:$AP$3014,2,0),\"\")","v":0}]
[null,null,null,null,null,null,null,null,null,null,null,null,null,null,null,null,null,null,null,null,null,null,null,null,null,null,{"$f":"IFERROR(INDEX($AE$13:$AE$1003, SMALL(IF(ISBLANK($AE$13:$AE$1003)+ISERROR($AE$13:$AE$1003)+LEN($AE$13:$AE$1003)=0, \"\", ROW($AE$13:$AE$1003)-MIN(ROW($AE$13:$AE$1003))+1), ROW(289:289))),\"\")","v":"__HI_21__DROPOUT_N"},{"$f":"IF(AF301=\"\",\"\",IF(COUNTIF(CurrentListing,AF301)>1,AJ301,\"\"))","v":""},{"$f":"IF(LEN(AF301)=0,\"\",IF(ISNA(MATCH(AF301,MasterListing,0)),AJ301,\"\"))","v":""},null,"__HI_21__D_N","","HI21DN","__HI_21__D_N",1,"______",null,null,null,null,{"$f":"IF(ISNUMBER(SEARCH($F$6,AP300)),MAX($AO$11:AO299)+1,0)","v":289},0,{"$f":"ROWS($AQ$12:AQ300)","v":289},{"$f":"IFERROR(VLOOKUP(ROWS($AR$12:AR300),$AO$12:$AP$3014,2,0),\"\")","v":0}]
[null,null,null,null,null,null,null,null,null,null,null,null,null,null,null,null,null,null,null,null,null,null,null,null,null,null,{"$f":"IFERROR(INDEX($AE$13:$AE$1003, SMALL(IF(ISBLANK($AE$13:$AE$1003)+ISERROR($AE$13:$AE$1003)+LEN($AE$13:$AE$1003)=0, \"\", ROW($AE$13:$AE$1003)-MIN(ROW($AE$13:$AE$1003))+1), ROW(290:290))),\"\")","v":"__HI_21__GHS_N"},{"$f":"IF(AF302=\"\",\"\",IF(COUNTIF(CurrentListing,AF302)>1,AJ302,\"\"))","v":""},{"$f":"IF(LEN(AF302)=0,\"\",IF(ISNA(MATCH(AF302,MasterListing,0)),AJ302,\"\"))","v":""},null,"__HI_21__DROPOUT_N","","HI21DROPOUTN","__HI_21__DROPOUT_N",1,"______",null,null,null,null,{"$f":"IF(ISNUMBER(SEARCH($F$6,AP301)),MAX($AO$11:AO300)+1,0)","v":290},0,{"$f":"ROWS($AQ$12:AQ301)","v":290},{"$f":"IFERROR(VLOOKUP(ROWS($AR$12:AR301),$AO$12:$AP$3014,2,0),\"\")","v":0}]
[null,null,null,null,null,null,null,null,null,null,null,null,null,null,null,null,null,null,null,null,null,null,null,null,null,null,{"$f":"IFERROR(INDEX($AE$13:$AE$1003, SMALL(IF(ISBLANK($AE$13:$AE$1003)+ISERROR($AE$13:$AE$1003)+LEN($AE$13:$AE$1003)=0, \"\", ROW($AE$13:$AE$1003)-MIN(ROW($AE$13:$AE$1003))+1), ROW(291:291))),\"\")","v":"__HI_21__GRADALTDPL_N"},{"$f":"IF(AF303=\"\",\"\",IF(COUNTIF(CurrentListing,AF303)>1,AJ303,\"\"))","v":""},{"$f":"IF(LEN(AF303)=0,\"\",IF(ISNA(MATCH(AF303,MasterListing,0)),AJ303,\"\"))","v":""},null,"__HI_21__GHS_N","","HI21GHSN","__HI_21__GHS_N",1,"______",null,null,null,null,{"$f":"IF(ISNUMBER(SEARCH($F$6,AP302)),MAX($AO$11:AO301)+1,0)","v":291},0,{"$f":"ROWS($AQ$12:AQ302)","v":291},{"$f":"IFERROR(VLOOKUP(ROWS($AR$12:AR302),$AO$12:$AP$3014,2,0),\"\")","v":0}]
[null,null,null,null,null,null,null,null,null,null,null,null,null,null,null,null,null,null,null,null,null,null,null,null,null,null,{"$f":"IFERROR(INDEX($AE$13:$AE$1003, SMALL(IF(ISBLANK($AE$13:$AE$1003)+ISERROR($AE$13:$AE$1003)+LEN($AE$13:$AE$1003)=0, \"\", ROW($AE$13:$AE$1003)-MIN(ROW($AE$13:$AE$1003))+1), ROW(292:292))),\"\")","v":"__HI_21__MKC_N"},{"$f":"IF(AF304=\"\",\"\",IF(COUNTIF(CurrentListing,AF304)>1,AJ304,\"\"))","v":""},{"$f":"IF(LEN(AF304)=0,\"\",IF(ISNA(MATCH(AF304,MasterListing,0)),AJ304,\"\"))","v":""},null,"__HI_21__GRADALTDPL_N","","HI21GRADALTDPLN","__HI_21__GRADALTDPL_N",1,"______",null,null,null,null,{"$f":"IF(ISNUMBER(SEARCH($F$6,AP303)),MAX($AO$11:AO302)+1,0)","v":292},0,{"$f":"ROWS($AQ$12:AQ303)","v":292},{"$f":"IFERROR(VLOOKUP(ROWS($AR$12:AR303),$AO$12:$AP$3014,2,0),\"\")","v":0}]
[null,null,null,null,null,null,null,null,null,null,null,null,null,null,null,null,null,null,null,null,null,null,null,null,null,null,{"$f":"IFERROR(INDEX($AE$13:$AE$1003, SMALL(IF(ISBLANK($AE$13:$AE$1003)+ISERROR($AE$13:$AE$1003)+LEN($AE$13:$AE$1003)=0, \"\", ROW($AE$13:$AE$1003)-MIN(ROW($AE$13:$AE$1003))+1), ROW(293:293))),\"\")","v":"__HI_21__RC_N"},{"$f":"IF(AF305=\"\",\"\",IF(COUNTIF(CurrentListing,AF305)>1,AJ305,\"\"))","v":""},{"$f":"IF(LEN(AF305)=0,\"\",IF(ISNA(MATCH(AF305,MasterListing,0)),AJ305,\"\"))","v":""},null,"__HI_21__MKC_N","","HI21MKCN","__HI_21__MKC_N",1,"______",null,null,null,null,{"$f":"IF(ISNUMBER(SEARCH($F$6,AP304)),MAX($AO$11:AO303)+1,0)","v":293},0,{"$f":"ROWS($AQ$12:AQ304)","v":293},{"$f":"IFERROR(VLOOKUP(ROWS($AR$12:AR304),$AO$12:$AP$3014,2,0),\"\")","v":0}]
[null,null,null,null,null,null,null,null,null,null,null,null,null,null,null,null,null,null,null,null,null,null,null,null,null,null,{"$f":"IFERROR(INDEX($AE$13:$AE$1003, SMALL(IF(ISBLANK($AE$13:$AE$1003)+ISERROR($AE$13:$AE$1003)+LEN($AE$13:$AE$1003)=0, \"\", ROW($AE$13:$AE$1003)-MIN(ROW($AE$13:$AE$1003))+1), ROW(294:294))),\"\")","v":"__HI_21__RMA_N"},{"$f":"IF(AF306=\"\",\"\",IF(COUNTIF(CurrentListing,AF306)>1,AJ306,\"\"))","v":""},{"$f":"IF(LEN(AF306)=0,\"\",IF(ISNA(MATCH(AF306,MasterListing,0)),AJ306,\"\"))","v":""},null,"__HI_21__RC_N","","HI21RCN","__HI_21__RC_N",1,"______",null,null,null,null,{"$f":"IF(ISNUMBER(SEARCH($F$6,AP305)),MAX($AO$11:AO304)+1,0)","v":294},0,{"$f":"ROWS($AQ$12:AQ305)","v":294},{"$f":"IFERROR(VLOOKUP(ROWS($AR$12:AR305),$AO$12:$AP$3014,2,0),\"\")","v":0}]
[null,null,null,null,null,null,null,null,null,null,null,null,null,null,null,null,null,null,null,null,null,null,null,null,null,null,{"$f":"IFERROR(INDEX($AE$13:$AE$1003, SMALL(IF(ISBLANK($AE$13:$AE$1003)+ISERROR($AE$13:$AE$1003)+LEN($AE$13:$AE$1003)=0, \"\", ROW($AE$13:$AE$1003)-MIN(ROW($AE$13:$AE$1003))+1), ROW(295:295))),\"\")","v":"__HI_21__TRAN_N"},{"$f":"IF(AF307=\"\",\"\",IF(COUNTIF(CurrentListing,AF307)>1,AJ307,\"\"))","v":""},{"$f":"IF(LEN(AF307)=0,\"\",IF(ISNA(MATCH(AF307,MasterListing,0)),AJ307,\"\"))","v":""},null,"__HI_21__RMA_N","","HI21RMAN","__HI_21__RMA_N",1,"______",null,null,null,null,{"$f":"IF(ISNUMBER(SEARCH($F$6,AP306)),MAX($AO$11:AO305)+1,0)","v":295},0,{"$f":"ROWS($AQ$12:AQ306)","v":295},{"$f":"IFERROR(VLOOKUP(ROWS($AR$12:AR306),$AO$12:$AP$3014,2,0),\"\")","v":0}]
[null,null,null,null,null,null,null,null,null,null,null,null,null,null,null,null,null,null,null,null,null,null,null,null,null,null,{"$f":"IFERROR(INDEX($AE$13:$AE$1003, SMALL(IF(ISBLANK($AE$13:$AE$1003)+ISERROR($AE$13:$AE$1003)+LEN($AE$13:$AE$1003)=0, \"\", ROW($AE$13:$AE$1003)-MIN(ROW($AE$13:$AE$1003))+1), ROW(296:296))),\"\")","v":"__MD____Y"},{"$f":"IF(AF308=\"\",\"\",IF(COUNTIF(CurrentListing,AF308)>1,AJ308,\"\"))","v":""},{"$f":"IF(LEN(AF308)=0,\"\",IF(ISNA(MATCH(AF308,MasterListing,0)),AJ308,\"\"))","v":""},null,"__HI_21__TRAN_N","","HI21TRANN","__HI_21__TRAN_N",1,"______",null,null,null,null,{"$f":"IF(ISNUMBER(SEARCH($F$6,AP307)),MAX($AO$11:AO306)+1,0)","v":296},0,{"$f":"ROWS($AQ$12:AQ307)","v":296},{"$f":"IFERROR(VLOOKUP(ROWS($AR$12:AR307),$AO$12:$AP$3014,2,0),\"\")","v":0}]
[null,null,null,null,null,null,null,null,null,null,null,null,null,null,null,null,null,null,null,null,null,null,null,null,null,null,{"$f":"IFERROR(INDEX($AE$13:$AE$1003, SMALL(IF(ISBLANK($AE$13:$AE$1003)+ISERROR($AE$13:$AE$1003)+LEN($AE$13:$AE$1003)=0, \"\", ROW($AE$13:$AE$1003)-MIN(ROW($AE$13:$AE$1003))+1), ROW(297:297))),\"\")","v":"__MD_14__D_N"},{"$f":"IF(AF309=\"\",\"\",IF(COUNTIF(CurrentListing,AF309)>1,AJ309,\"\"))","v":""},{"$f":"IF(LEN(AF309)=0,\"\",IF(ISNA(MATCH(AF309,MasterListing,0)),AJ309,\"\"))","v":""},null,"__MD____Y","","MDY","__MD____Y",1,"______",null,null,null,null,{"$f":"IF(ISNUMBER(SEARCH($F$6,AP308)),MAX($AO$11:AO307)+1,0)","v":297},0,{"$f":"ROWS($AQ$12:AQ308)","v":297},{"$f":"IFERROR(VLOOKUP(ROWS($AR$12:AR308),$AO$12:$AP$3014,2,0),\"\")","v":0}]
[null,null,null,null,null,null,null,null,null,null,null,null,null,null,null,null,null,null,null,null,null,null,null,null,null,null,{"$f":"IFERROR(INDEX($AE$13:$AE$1003, SMALL(IF(ISBLANK($AE$13:$AE$1003)+ISERROR($AE$13:$AE$1003)+LEN($AE$13:$AE$1003)=0, \"\", ROW($AE$13:$AE$1003)-MIN(ROW($AE$13:$AE$1003))+1), ROW(298:298))),\"\")","v":"__MD_14__DROPOUT_N"},{"$f":"IF(AF310=\"\",\"\",IF(COUNTIF(CurrentListing,AF310)>1,AJ310,\"\"))","v":""},{"$f":"IF(LEN(AF310)=0,\"\",IF(ISNA(MATCH(AF310,MasterListing,0)),AJ310,\"\"))","v":""},null,"__MD_14__D_N","","MD14DN","__MD_14__D_N",1,"______",null,null,null,null,{"$f":"IF(ISNUMBER(SEARCH($F$6,AP309)),MAX($AO$11:AO308)+1,0)","v":298},0,{"$f":"ROWS($AQ$12:AQ309)","v":298},{"$f":"IFERROR(VLOOKUP(ROWS($AR$12:AR309),$AO$12:$AP$3014,2,0),\"\")","v":0}]
[null,null,null,null,null,null,null,null,null,null,null,null,null,null,null,null,null,null,null,null,null,null,null,null,null,null,{"$f":"IFERROR(INDEX($AE$13:$AE$1003, SMALL(IF(ISBLANK($AE$13:$AE$1003)+ISERROR($AE$13:$AE$1003)+LEN($AE$13:$AE$1003)=0, \"\", ROW($AE$13:$AE$1003)-MIN(ROW($AE$13:$AE$1003))+1), ROW(299:299))),\"\")","v":"__MD_14__GHS_N"},{"$f":"IF(AF311=\"\",\"\",IF(COUNTIF(CurrentListing,AF311)>1,AJ311,\"\"))","v":""},{"$f":"IF(LEN(AF311)=0,\"\",IF(ISNA(MATCH(AF311,MasterListing,0)),AJ311,\"\"))","v":""},null,"__MD_14__DROPOUT_N","","MD14DROPOUTN","__MD_14__DROPOUT_N",1,"______",null,null,null,null,{"$f":"IF(ISNUMBER(SEARCH($F$6,AP310)),MAX($AO$11:AO309)+1,0)","v":299},0,{"$f":"ROWS($AQ$12:AQ310)","v":299},{"$f":"IFERROR(VLOOKUP(ROWS($AR$12:AR310),$AO$12:$AP$3014,2,0),\"\")","v":0}]
[null,null,null,null,null,null,null,null,null,null,null,null,null,null,null,null,null,null,null,null,null,null,null,null,null,null,{"$f":"IFERROR(INDEX($AE$13:$AE$1003, SMALL(IF(ISBLANK($AE$13:$AE$1003)+ISERROR($AE$13:$AE$1003)+LEN($AE$13:$AE$1003)=0, \"\", ROW($AE$13:$AE$1003)-MIN(ROW($AE$13:$AE$1003))+1), ROW(300:300))),\"\")","v":"__MD_14__GRADALTDPL_N"},{"$f":"IF(AF312=\"\",\"\",IF(COUNTIF(CurrentListing,AF312)>1,AJ312,\"\"))","v":""},{"$f":"IF(LEN(AF312)=0,\"\",IF(ISNA(MATCH(AF312,MasterListing,0)),AJ312,\"\"))","v":""},null,"__MD_14__GHS_N","","MD14GHSN","__MD_14__GHS_N",1,"______",null,null,null,null,{"$f":"IF(ISNUMBER(SEARCH($F$6,AP311)),MAX($AO$11:AO310)+1,0)","v":300},0,{"$f":"ROWS($AQ$12:AQ311)","v":300},{"$f":"IFERROR(VLOOKUP(ROWS($AR$12:AR311),$AO$12:$AP$3014,2,0),\"\")","v":0}]
[null,null,null,null,null,null,null,null,null,null,null,null,null,null,null,null,null,null,null,null,null,null,null,null,null,null,{"$f":"IFERROR(INDEX($AE$13:$AE$1003, SMALL(IF(ISBLANK($AE$13:$AE$1003)+ISERROR($AE$13:$AE$1003)+LEN($AE$13:$AE$1003)=0, \"\", ROW($AE$13:$AE$1003)-MIN(ROW($AE$13:$AE$1003))+1), ROW(301:301))),\"\")","v":"__MD_14__MKC_N"},{"$f":"IF(AF313=\"\",\"\",IF(COUNTIF(CurrentListing,AF313)>1,AJ313,\"\"))","v":""},{"$f":"IF(LEN(AF313)=0,\"\",IF(ISNA(MATCH(AF313,MasterListing,0)),AJ313,\"\"))","v":""},null,"__MD_14__GRADALTDPL_N","","MD14GRADALTDPLN","__MD_14__GRADALTDPL_N",1,"______",null,null,null,null,{"$f":"IF(ISNUMBER(SEARCH($F$6,AP312)),MAX($AO$11:AO311)+1,0)","v":301},0,{"$f":"ROWS($AQ$12:AQ312)","v":301},{"$f":"IFERROR(VLOOKUP(ROWS($AR$12:AR312),$AO$12:$AP$3014,2,0),\"\")","v":0}]
[null,null,null,null,null,null,null,null,null,null,null,null,null,null,null,null,null,null,null,null,null,null,null,null,null,null,{"$f":"IFERROR(INDEX($AE$13:$AE$1003, SMALL(IF(ISBLANK($AE$13:$AE$1003)+ISERROR($AE$13:$AE$1003)+LEN($AE$13:$AE$1003)=0, \"\", ROW($AE$13:$AE$1003)-MIN(ROW($AE$13:$AE$1003))+1), ROW(302:302))),\"\")","v":"__MD_14__RC_N"},{"$f":"IF(AF314=\"\",\"\",IF(COUNTIF(CurrentListing,AF314)>1,AJ314,\"\"))","v":""},{"$f":"IF(LEN(AF314)=0,\"\",IF(ISNA(MATCH(AF314,MasterListing,0)),AJ314,\"\"))","v":""},null,"__MD_14__MKC_N","","MD14MKCN","__MD_14__MKC_N",1,"______",null,null,null,null,{"$f":"IF(ISNUMBER(SEARCH($F$6,AP313)),MAX($AO$11:AO312)+1,0)","v":302},0,{"$f":"ROWS($AQ$12:AQ313)","v":302},{"$f":"IFERROR(VLOOKUP(ROWS($AR$12:AR313),$AO$12:$AP$3014,2,0),\"\")","v":0}]
[null,null,null,null,null,null,null,null,null,null,null,null,null,null,null,null,null,null,null,null,null,null,null,null,null,null,{"$f":"IFERROR(INDEX($AE$13:$AE$1003, SMALL(IF(ISBLANK($AE$13:$AE$1003)+ISERROR($AE$13:$AE$1003)+LEN($AE$13:$AE$1003)=0, \"\", ROW($AE$13:$AE$1003)-MIN(ROW($AE$13:$AE$1003))+1), ROW(303:303))),\"\")","v":"__MD_14__RMA_N"},{"$f":"IF(AF315=\"\",\"\",IF(COUNTIF(CurrentListing,AF315)>1,AJ315,\"\"))","v":""},{"$f":"IF(LEN(AF315)=0,\"\",IF(ISNA(MATCH(AF315,MasterListing,0)),AJ315,\"\"))","v":""},null,"__MD_14__RC_N","","MD14RCN","__MD_14__RC_N",1,"______",null,null,null,null,{"$f":"IF(ISNUMBER(SEARCH($F$6,AP314)),MAX($AO$11:AO313)+1,0)","v":303},0,{"$f":"ROWS($AQ$12:AQ314)","v":303},{"$f":"IFERROR(VLOOKUP(ROWS($AR$12:AR314),$AO$12:$AP$3014,2,0),\"\")","v":0}]
[null,null,null,null,null,null,null,null,null,null,null,null,null,null,null,null,null,null,null,null,null,null,null,null,null,null,{"$f":"IFERROR(INDEX($AE$13:$AE$1003, SMALL(IF(ISBLANK($AE$13:$AE$1003)+ISERROR($AE$13:$AE$1003)+LEN($AE$13:$AE$1003)=0, \"\", ROW($AE$13:$AE$1003)-MIN(ROW($AE$13:$AE$1003))+1), ROW(304:304))),\"\")","v":"__MD_14__TRAN_N"},{"$f":"IF(AF316=\"\",\"\",IF(COUNTIF(CurrentListing,AF316)>1,AJ316,\"\"))","v":""},{"$f":"IF(LEN(AF316)=0,\"\",IF(ISNA(MATCH(AF316,MasterListing,0)),AJ316,\"\"))","v":""},null,"__MD_14__RMA_N","","MD14RMAN","__MD_14__RMA_N",1,"______",null,null,null,null,{"$f":"IF(ISNUMBER(SEARCH($F$6,AP315)),MAX($AO$11:AO314)+1,0)","v":304},0,{"$f":"ROWS($AQ$12:AQ315)","v":304},{"$f":"IFERROR(VLOOKUP(ROWS($AR$12:AR315),$AO$12:$AP$3014,2,0),\"\")","v":0}]
[null,null,null,null,null,null,null,null,null,null,null,null,null,null,null,null,null,null,null,null,null,null,null,null,null,null,{"$f":"IFERROR(INDEX($AE$13:$AE$1003, SMALL(IF(ISBLANK($AE$13:$AE$1003)+ISERROR($AE$13:$AE$1003)+LEN($AE$13:$AE$1003)=0, \"\", ROW($AE$13:$AE$1003)-MIN(ROW($AE$13:$AE$1003))+1), ROW(305:305))),\"\")","v":"__MD_15__D_N"},{"$f":"IF(AF317=\"\",\"\",IF(COUNTIF(CurrentListing,AF317)>1,AJ317,\"\"))","v":""},{"$f":"IF(LEN(AF317)=0,\"\",IF(ISNA(MATCH(AF317,MasterListing,0)),AJ317,\"\"))","v":""},null,"__MD_14__TRAN_N","","MD14TRANN","__MD_14__TRAN_N",1,"______",null,null,null,null,{"$f":"IF(ISNUMBER(SEARCH($F$6,AP316)),MAX($AO$11:AO315)+1,0)","v":305},0,{"$f":"ROWS($AQ$12:AQ316)","v":305},{"$f":"IFERROR(VLOOKUP(ROWS($AR$12:AR316),$AO$12:$AP$3014,2,0),\"\")","v":0}]
[null,null,null,null,null,null,null,null,null,null,null,null,null,null,null,null,null,null,null,null,null,null,null,null,null,null,{"$f":"IFERROR(INDEX($AE$13:$AE$1003, SMALL(IF(ISBLANK($AE$13:$AE$1003)+ISERROR($AE$13:$AE$1003)+LEN($AE$13:$AE$1003)=0, \"\", ROW($AE$13:$AE$1003)-MIN(ROW($AE$13:$AE$1003))+1), ROW(306:306))),\"\")","v":"__MD_15__DROPOUT_N"},{"$f":"IF(AF318=\"\",\"\",IF(COUNTIF(CurrentListing,AF318)>1,AJ318,\"\"))","v":""},{"$f":"IF(LEN(AF318)=0,\"\",IF(ISNA(MATCH(AF318,MasterListing,0)),AJ318,\"\"))","v":""},null,"__MD_15__D_N","","MD15DN","__MD_15__D_N",1,"______",null,null,null,null,{"$f":"IF(ISNUMBER(SEARCH($F$6,AP317)),MAX($AO$11:AO316)+1,0)","v":306},0,{"$f":"ROWS($AQ$12:AQ317)","v":306},{"$f":"IFERROR(VLOOKUP(ROWS($AR$12:AR317),$AO$12:$AP$3014,2,0),\"\")","v":0}]
[null,null,null,null,null,null,null,null,null,null,null,null,null,null,null,null,null,null,null,null,null,null,null,null,null,null,{"$f":"IFERROR(INDEX($AE$13:$AE$1003, SMALL(IF(ISBLANK($AE$13:$AE$1003)+ISERROR($AE$13:$AE$1003)+LEN($AE$13:$AE$1003)=0, \"\", ROW($AE$13:$AE$1003)-MIN(ROW($AE$13:$AE$1003))+1), ROW(307:307))),\"\")","v":"__MD_15__GHS_N"},{"$f":"IF(AF319=\"\",\"\",IF(COUNTIF(CurrentListing,AF319)>1,AJ319,\"\"))","v":""},{"$f":"IF(LEN(AF319)=0,\"\",IF(ISNA(MATCH(AF319,MasterListing,0)),AJ319,\"\"))","v":""},null,"__MD_15__DROPOUT_N","","MD15DROPOUTN","__MD_15__DROPOUT_N",1,"______",null,null,null,null,{"$f":"IF(ISNUMBER(SEARCH($F$6,AP318)),MAX($AO$11:AO317)+1,0)","v":307},0,{"$f":"ROWS($AQ$12:AQ318)","v":307},{"$f":"IFERROR(VLOOKUP(ROWS($AR$12:AR318),$AO$12:$AP$3014,2,0),\"\")","v":0}]
[null,null,null,null,null,null,null,null,null,null,null,null,null,null,null,null,null,null,null,null,null,null,null,null,null,null,{"$f":"IFERROR(INDEX($AE$13:$AE$1003, SMALL(IF(ISBLANK($AE$13:$AE$1003)+ISERROR($AE$13:$AE$1003)+LEN($AE$13:$AE$1003)=0, \"\", ROW($AE$13:$AE$1003)-MIN(ROW($AE$13:$AE$1003))+1), ROW(308:308))),\"\")","v":"__MD_15__GRADALTDPL_N"},{"$f":"IF(AF320=\"\",\"\",IF(COUNTIF(CurrentListing,AF320)>1,AJ320,\"\"))","v":""},{"$f":"IF(LEN(AF320)=0,\"\",IF(ISNA(MATCH(AF320,MasterListing,0)),AJ320,\"\"))","v":""},null,"__MD_15__GHS_N","","MD15GHSN","__MD_15__GHS_N",1,"______",null,null,null,null,{"$f":"IF(ISNUMBER(SEARCH($F$6,AP319)),MAX($AO$11:AO318)+1,0)","v":308},0,{"$f":"ROWS($AQ$12:AQ319)","v":308},{"$f":"IFERROR(VLOOKUP(ROWS($AR$12:AR319),$AO$12:$AP$3014,2,0),\"\")","v":0}]
[null,null,null,null,null,null,null,null,null,null,null,null,null,null,null,null,null,null,null,null,null,null,null,null,null,null,{"$f":"IFERROR(INDEX($AE$13:$AE$1003, SMALL(IF(ISBLANK($AE$13:$AE$1003)+ISERROR($AE$13:$AE$1003)+LEN($AE$13:$AE$1003)=0, \"\", ROW($AE$13:$AE$1003)-MIN(ROW($AE$13:$AE$1003))+1), ROW(309:309))),\"\")","v":"__MD_15__MKC_N"},{"$f":"IF(AF321=\"\",\"\",IF(COUNTIF(CurrentListing,AF321)>1,AJ321,\"\"))","v":""},{"$f":"IF(LEN(AF321)=0,\"\",IF(ISNA(MATCH(AF321,MasterListing,0)),AJ321,\"\"))","v":""},null,"__MD_15__GRADALTDPL_N","","MD15GRADALTDPLN","__MD_15__GRADALTDPL_N",1,"______",null,null,null,null,{"$f":"IF(ISNUMBER(SEARCH($F$6,AP320)),MAX($AO$11:AO319)+1,0)","v":309},0,{"$f":"ROWS($AQ$12:AQ320)","v":309},{"$f":"IFERROR(VLOOKUP(ROWS($AR$12:AR320),$AO$12:$AP$3014,2,0),\"\")","v":0}]
[null,null,null,null,null,null,null,null,null,null,null,null,null,null,null,null,null,null,null,null,null,null,null,null,null,null,{"$f":"IFERROR(INDEX($AE$13:$AE$1003, SMALL(IF(ISBLANK($AE$13:$AE$1003)+ISERROR($AE$13:$AE$1003)+LEN($AE$13:$AE$1003)=0, \"\", ROW($AE$13:$AE$1003)-MIN(ROW($AE$13:$AE$1003))+1), ROW(310:310))),\"\")","v":"__MD_15__RC_N"},{"$f":"IF(AF322=\"\",\"\",IF(COUNTIF(CurrentListing,AF322)>1,AJ322,\"\"))","v":""},{"$f":"IF(LEN(AF322)=0,\"\",IF(ISNA(MATCH(AF322,MasterListing,0)),AJ322,\"\"))","v":""},null,"__MD_15__MKC_N","","MD15MKCN","__MD_15__MKC_N",1,"______",null,null,null,null,{"$f":"IF(ISNUMBER(SEARCH($F$6,AP321)),MAX($AO$11:AO320)+1,0)","v":310},0,{"$f":"ROWS($AQ$12:AQ321)","v":310},{"$f":"IFERROR(VLOOKUP(ROWS($AR$12:AR321),$AO$12:$AP$3014,2,0),\"\")","v":0}]
[null,null,null,null,null,null,null,null,null,null,null,null,null,null,null,null,null,null,null,null,null,null,null,null,null,null,{"$f":"IFERROR(INDEX($AE$13:$AE$1003, SMALL(IF(ISBLANK($AE$13:$AE$1003)+ISERROR($AE$13:$AE$1003)+LEN($AE$13:$AE$1003)=0, \"\", ROW($AE$13:$AE$1003)-MIN(ROW($AE$13:$AE$1003))+1), ROW(311:311))),\"\")","v":"__MD_15__RMA_N"},{"$f":"IF(AF323=\"\",\"\",IF(COUNTIF(CurrentListing,AF323)>1,AJ323,\"\"))","v":""},{"$f":"IF(LEN(AF323)=0,\"\",IF(ISNA(MATCH(AF323,MasterListing,0)),AJ323,\"\"))","v":""},null,"__MD_15__RC_N","","MD15RCN","__MD_15__RC_N",1,"______",null,null,null,null,{"$f":"IF(ISNUMBER(SEARCH($F$6,AP322)),MAX($AO$11:AO321)+1,0)","v":311},0,{"$f":"ROWS($AQ$12:AQ322)","v":311},{"$f":"IFERROR(VLOOKUP(ROWS($AR$12:AR322),$AO$12:$AP$3014,2,0),\"\")","v":0}]
[null,null,null,null,null,null,null,null,null,null,null,null,null,null,null,null,null,null,null,null,null,null,null,null,null,null,{"$f":"IFERROR(INDEX($AE$13:$AE$1003, SMALL(IF(ISBLANK($AE$13:$AE$1003)+ISERROR($AE$13:$AE$1003)+LEN($AE$13:$AE$1003)=0, \"\", ROW($AE$13:$AE$1003)-MIN(ROW($AE$13:$AE$1003))+1), ROW(312:312))),\"\")","v":"__MD_15__TRAN_N"},{"$f":"IF(AF324=\"\",\"\",IF(COUNTIF(CurrentListing,AF324)>1,AJ324,\"\"))","v":""},{"$f":"IF(LEN(AF324)=0,\"\",IF(ISNA(MATCH(AF324,MasterListing,0)),AJ324,\"\"))","v":""},null,"__MD_15__RMA_N","","MD15RMAN","__MD_15__RMA_N",1,"______",null,null,null,null,{"$f":"IF(ISNUMBER(SEARCH($F$6,AP323)),MAX($AO$11:AO322)+1,0)","v":312},0,{"$f":"ROWS($AQ$12:AQ323)","v":312},{"$f":"IFERROR(VLOOKUP(ROWS($AR$12:AR323),$AO$12:$AP$3014,2,0),\"\")","v":0}]
[null,null,null,null,null,null,null,null,null,null,null,null,null,null,null,null,null,null,null,null,null,null,null,null,null,null,{"$f":"IFERROR(INDEX($AE$13:$AE$1003, SMALL(IF(ISBLANK($AE$13:$AE$1003)+ISERROR($AE$13:$AE$1003)+LEN($AE$13:$AE$1003)=0, \"\", ROW($AE$13:$AE$1003)-MIN(ROW($AE$13:$AE$1003))+1), ROW(313:313))),\"\")","v":"__MD_16__D_N"},{"$f":"IF(AF325=\"\",\"\",IF(COUNTIF(CurrentListing,AF325)>1,AJ325,\"\"))","v":""},{"$f":"IF(LEN(AF325)=0,\"\",IF(ISNA(MATCH(AF325,MasterListing,0)),AJ325,\"\"))","v":""},null,"__MD_15__TRAN_N","","MD15TRANN","__MD_15__TRAN_N",1,"______",null,null,null,null,{"$f":"IF(ISNUMBER(SEARCH($F$6,AP324)),MAX($AO$11:AO323)+1,0)","v":313},0,{"$f":"ROWS($AQ$12:AQ324)","v":313},{"$f":"IFERROR(VLOOKUP(ROWS($AR$12:AR324),$AO$12:$AP$3014,2,0),\"\")","v":0}]
[null,null,null,null,null,null,null,null,null,null,null,null,null,null,null,null,null,null,null,null,null,null,null,null,null,null,{"$f":"IFERROR(INDEX($AE$13:$AE$1003, SMALL(IF(ISBLANK($AE$13:$AE$1003)+ISERROR($AE$13:$AE$1003)+LEN($AE$13:$AE$1003)=0, \"\", ROW($AE$13:$AE$1003)-MIN(ROW($AE$13:$AE$1003))+1), ROW(314:314))),\"\")","v":"__MD_16__DROPOUT_N"},{"$f":"IF(AF326=\"\",\"\",IF(COUNTIF(CurrentListing,AF326)>1,AJ326,\"\"))","v":""},{"$f":"IF(LEN(AF326)=0,\"\",IF(ISNA(MATCH(AF326,MasterListing,0)),AJ326,\"\"))","v":""},null,"__MD_16__D_N","","MD16DN","__MD_16__D_N",1,"______",null,null,null,null,{"$f":"IF(ISNUMBER(SEARCH($F$6,AP325)),MAX($AO$11:AO324)+1,0)","v":314},0,{"$f":"ROWS($AQ$12:AQ325)","v":314},{"$f":"IFERROR(VLOOKUP(ROWS($AR$12:AR325),$AO$12:$AP$3014,2,0),\"\")","v":0}]
[null,null,null,null,null,null,null,null,null,null,null,null,null,null,null,null,null,null,null,null,null,null,null,null,null,null,{"$f":"IFERROR(INDEX($AE$13:$AE$1003, SMALL(IF(ISBLANK($AE$13:$AE$1003)+ISERROR($AE$13:$AE$1003)+LEN($AE$13:$AE$1003)=0, \"\", ROW($AE$13:$AE$1003)-MIN(ROW($AE$13:$AE$1003))+1), ROW(315:315))),\"\")","v":"__MD_16__GHS_N"},{"$f":"IF(AF327=\"\",\"\",IF(COUNTIF(CurrentListing,AF327)>1,AJ327,\"\"))","v":""},{"$f":"IF(LEN(AF327)=0,\"\",IF(ISNA(MATCH(AF327,MasterListing,0)),AJ327,\"\"))","v":""},null,"__MD_16__DROPOUT_N","","MD16DROPOUTN","__MD_16__DROPOUT_N",1,"______",null,null,null,null,{"$f":"IF(ISNUMBER(SEARCH($F$6,AP326)),MAX($AO$11:AO325)+1,0)","v":315},0,{"$f":"ROWS($AQ$12:AQ326)","v":315},{"$f":"IFERROR(VLOOKUP(ROWS($AR$12:AR326),$AO$12:$AP$3014,2,0),\"\")","v":0}]
[null,null,null,null,null,null,null,null,null,null,null,null,null,null,null,null,null,null,null,null,null,null,null,null,null,null,{"$f":"IFERROR(INDEX($AE$13:$AE$1003, SMALL(IF(ISBLANK($AE$13:$AE$1003)+ISERROR($AE$13:$AE$1003)+LEN($AE$13:$AE$1003)=0, \"\", ROW($AE$13:$AE$1003)-MIN(ROW($AE$13:$AE$1003))+1), ROW(316:316))),\"\")","v":"__MD_16__GRADALTDPL_N"},{"$f":"IF(AF328=\"\",\"\",IF(COUNTIF(CurrentListing,AF328)>1,AJ328,\"\"))","v":""},{"$f":"IF(LEN(AF328)=0,\"\",IF(ISNA(MATCH(AF328,MasterListing,0)),AJ328,\"\"))","v":""},null,"__MD_16__GHS_N","","MD16GHSN","__MD_16__GHS_N",1,"______",null,null,null,null,{"$f":"IF(ISNUMBER(SEARCH($F$6,AP327)),MAX($AO$11:AO326)+1,0)","v":316},0,{"$f":"ROWS($AQ$12:AQ327)","v":316},{"$f":"IFERROR(VLOOKUP(ROWS($AR$12:AR327),$AO$12:$AP$3014,2,0),\"\")","v":0}]
[null,null,null,null,null,null,null,null,null,null,null,null,null,null,null,null,null,null,null,null,null,null,null,null,null,null,{"$f":"IFERROR(INDEX($AE$13:$AE$1003, SMALL(IF(ISBLANK($AE$13:$AE$1003)+ISERROR($AE$13:$AE$1003)+LEN($AE$13:$AE$1003)=0, \"\", ROW($AE$13:$AE$1003)-MIN(ROW($AE$13:$AE$1003))+1), ROW(317:317))),\"\")","v":"__MD_16__MKC_N"},{"$f":"IF(AF329=\"\",\"\",IF(COUNTIF(CurrentListing,AF329)>1,AJ329,\"\"))","v":""},{"$f":"IF(LEN(AF329)=0,\"\",IF(ISNA(MATCH(AF329,MasterListing,0)),AJ329,\"\"))","v":""},null,"__MD_16__GRADALTDPL_N","","MD16GRADALTDPLN","__MD_16__GRADALTDPL_N",1,"______",null,null,null,null,{"$f":"IF(ISNUMBER(SEARCH($F$6,AP328)),MAX($AO$11:AO327)+1,0)","v":317},0,{"$f":"ROWS($AQ$12:AQ328)","v":317},{"$f":"IFERROR(VLOOKUP(ROWS($AR$12:AR328),$AO$12:$AP$3014,2,0),\"\")","v":0}]
[null,null,null,null,null,null,null,null,null,null,null,null,null,null,null,null,null,null,null,null,null,null,null,null,null,null,{"$f":"IFERROR(INDEX($AE$13:$AE$1003, SMALL(IF(ISBLANK($AE$13:$AE$1003)+ISERROR($AE$13:$AE$1003)+LEN($AE$13:$AE$1003)=0, \"\", ROW($AE$13:$AE$1003)-MIN(ROW($AE$13:$AE$1003))+1), ROW(318:318))),\"\")","v":"__MD_16__RC_N"},{"$f":"IF(AF330=\"\",\"\",IF(COUNTIF(CurrentListing,AF330)>1,AJ330,\"\"))","v":""},{"$f":"IF(LEN(AF330)=0,\"\",IF(ISNA(MATCH(AF330,MasterListing,0)),AJ330,\"\"))","v":""},null,"__MD_16__MKC_N","","MD16MKCN","__MD_16__MKC_N",1,"______",null,null,null,null,{"$f":"IF(ISNUMBER(SEARCH($F$6,AP329)),MAX($AO$11:AO328)+1,0)","v":318},0,{"$f":"ROWS($AQ$12:AQ329)","v":318},{"$f":"IFERROR(VLOOKUP(ROWS($AR$12:AR329),$AO$12:$AP$3014,2,0),\"\")","v":0}]
[null,null,null,null,null,null,null,null,null,null,null,null,null,null,null,null,null,null,null,null,null,null,null,null,null,null,{"$f":"IFERROR(INDEX($AE$13:$AE$1003, SMALL(IF(ISBLANK($AE$13:$AE$1003)+ISERROR($AE$13:$AE$1003)+LEN($AE$13:$AE$1003)=0, \"\", ROW($AE$13:$AE$1003)-MIN(ROW($AE$13:$AE$1003))+1), ROW(319:319))),\"\")","v":"__MD_16__RMA_N"},{"$f":"IF(AF331=\"\",\"\",IF(COUNTIF(CurrentListing,AF331)>1,AJ331,\"\"))","v":""},{"$f":"IF(LEN(AF331)=0,\"\",IF(ISNA(MATCH(AF331,MasterListing,0)),AJ331,\"\"))","v":""},null,"__MD_16__RC_N","","MD16RCN","__MD_16__RC_N",1,"______",null,null,null,null,{"$f":"IF(ISNUMBER(SEARCH($F$6,AP330)),MAX($AO$11:AO329)+1,0)","v":319},0,{"$f":"ROWS($AQ$12:AQ330)","v":319},{"$f":"IFERROR(VLOOKUP(ROWS($AR$12:AR330),$AO$12:$AP$3014,2,0),\"\")","v":0}]
[null,null,null,null,null,null,null,null,null,null,null,null,null,null,null,null,null,null,null,null,null,null,null,null,null,null,{"$f":"IFERROR(INDEX($AE$13:$AE$1003, SMALL(IF(ISBLANK($AE$13:$AE$1003)+ISERROR($AE$13:$AE$1003)+LEN($AE$13:$AE$1003)=0, \"\", ROW($AE$13:$AE$1003)-MIN(ROW($AE$13:$AE$1003))+1), ROW(320:320))),\"\")","v":"__MD_16__TRAN_N"},{"$f":"IF(AF332=\"\",\"\",IF(COUNTIF(CurrentListing,AF332)>1,AJ332,\"\"))","v":""},{"$f":"IF(LEN(AF332)=0,\"\",IF(ISNA(MATCH(AF332,MasterListing,0)),AJ332,\"\"))","v":""},null,"__MD_16__RMA_N","","MD16RMAN","__MD_16__RMA_N",1,"______",null,null,null,null,{"$f":"IF(ISNUMBER(SEARCH($F$6,AP331)),MAX($AO$11:AO330)+1,0)","v":320},0,{"$f":"ROWS($AQ$12:AQ331)","v":320},{"$f":"IFERROR(VLOOKUP(ROWS($AR$12:AR331),$AO$12:$AP$3014,2,0),\"\")","v":0}]
[null,null,null,null,null,null,null,null,null,null,null,null,null,null,null,null,null,null,null,null,null,null,null,null,null,null,{"$f":"IFERROR(INDEX($AE$13:$AE$1003, SMALL(IF(ISBLANK($AE$13:$AE$1003)+ISERROR($AE$13:$AE$1003)+LEN($AE$13:$AE$1003)=0, \"\", ROW($AE$13:$AE$1003)-MIN(ROW($AE$13:$AE$1003))+1), ROW(321:321))),\"\")","v":"__MD_17__D_N"},{"$f":"IF(AF333=\"\",\"\",IF(COUNTIF(CurrentListing,AF333)>1,AJ333,\"\"))","v":""},{"$f":"IF(LEN(AF333)=0,\"\",IF(ISNA(MATCH(AF333,MasterListing,0)),AJ333,\"\"))","v":""},null,{"$f":"IF(LEN(AG332)=0,\"\",IF(ISNA(MATCH(AG332,CurrentListing,0)),AH332,\"\"))","v":"__MD_16__TRAN_N"},"","MD16TRANN","__MD_16__TRAN_N",1,"______",null,null,null,null,{"$f":"IF(ISNUMBER(SEARCH($F$6,AP332)),MAX($AO$11:AO331)+1,0)","v":321},0,{"$f":"ROWS($AQ$12:AQ332)","v":321},{"$f":"IFERROR(VLOOKUP(ROWS($AR$12:AR332),$AO$12:$AP$3014,2,0),\"\")","v":0}]
[null,null,null,null,null,null,null,null,null,null,null,null,null,null,null,null,null,null,null,null,null,null,null,null,null,null,{"$f":"IFERROR(INDEX($AE$13:$AE$1003, SMALL(IF(ISBLANK($AE$13:$AE$1003)+ISERROR($AE$13:$AE$1003)+LEN($AE$13:$AE$1003)=0, \"\", ROW($AE$13:$AE$1003)-MIN(ROW($AE$13:$AE$1003))+1), ROW(322:322))),\"\")","v":"__MD_17__DROPOUT_N"},{"$f":"IF(AF334=\"\",\"\",IF(COUNTIF(CurrentListing,AF334)>1,AJ334,\"\"))","v":""},{"$f":"IF(LEN(AF334)=0,\"\",IF(ISNA(MATCH(AF334,MasterListing,0)),AJ334,\"\"))","v":""},null,"__MD_17__D_N",{"$f":"H333&I333&P333&Q333&R333&V333&W333","v":""},"MD17DN","__MD_17__D_N",1,"______",null,null,null,null,{"$f":"IF(ISNUMBER(SEARCH($F$6,AP333)),MAX($AO$11:AO332)+1,0)","v":322},0,{"$f":"ROWS($AQ$12:AQ333)","v":322},{"$f":"IFERROR(VLOOKUP(ROWS($AR$12:AR333),$AO$12:$AP$3014,2,0),\"\")","v":0}]
[null,null,null,null,null,null,null,null,null,null,null,null,null,null,null,null,null,null,null,null,null,null,null,null,null,null,{"$f":"IFERROR(INDEX($AE$13:$AE$1003, SMALL(IF(ISBLANK($AE$13:$AE$1003)+ISERROR($AE$13:$AE$1003)+LEN($AE$13:$AE$1003)=0, \"\", ROW($AE$13:$AE$1003)-MIN(ROW($AE$13:$AE$1003))+1), ROW(323:323))),\"\")","v":"__MD_17__GHS_N"},{"$f":"IF(AF335=\"\",\"\",IF(COUNTIF(CurrentListing,AF335)>1,AJ335,\"\"))","v":""},{"$f":"IF(LEN(AF335)=0,\"\",IF(ISNA(MATCH(AF335,MasterListing,0)),AJ335,\"\"))","v":""},null,"__MD_17__DROPOUT_N","","MD17DROPOUTN","__MD_17__DROPOUT_N",{"$f":"IF(LEN(AA334)>0,1,0)","v":1},{"$f":"H334&\"_\"&I334&\"_\"&P334&\"_\"&Q334&\"_\"&R334&\"_\"&V334&\"_\"&W334","v":"______"},null,null,null,null,{"$f":"IF(ISNUMBER(SEARCH($F$6,AP334)),MAX($AO$11:AO333)+1,0)","v":323},0,{"$f":"ROWS($AQ$12:AQ334)","v":323},{"$f":"IFERROR(VLOOKUP(ROWS($AR$12:AR334),$AO$12:$AP$3014,2,0),\"\")","v":0}]
[null,null,null,null,null,null,null,null,null,null,null,null,null,null,null,null,null,null,null,null,null,null,null,null,null,null,{"$f":"IFERROR(INDEX($AE$13:$AE$1003, SMALL(IF(ISBLANK($AE$13:$AE$1003)+ISERROR($AE$13:$AE$1003)+LEN($AE$13:$AE$1003)=0, \"\", ROW($AE$13:$AE$1003)-MIN(ROW($AE$13:$AE$1003))+1), ROW(324:324))),\"\")","v":"__MD_17__GRADALTDPL_N"},{"$f":"IF(AF336=\"\",\"\",IF(COUNTIF(CurrentListing,AF336)>1,AJ336,\"\"))","v":""},{"$f":"IF(LEN(AF336)=0,\"\",IF(ISNA(MATCH(AF336,MasterListing,0)),AJ336,\"\"))","v":""},null,"__MD_17__GHS_N","","MD17GHSN","__MD_17__GHS_N",1,"______",null,null,null,null,{"$f":"IF(ISNUMBER(SEARCH($F$6,AP335)),MAX($AO$11:AO334)+1,0)","v":324},0,{"$f":"ROWS($AQ$12:AQ335)","v":324},{"$f":"IFERROR(VLOOKUP(ROWS($AR$12:AR335),$AO$12:$AP$3014,2,0),\"\")","v":0}]
[null,null,null,null,null,null,null,null,null,null,null,null,null,null,null,null,null,null,null,null,null,null,null,null,null,null,{"$f":"IFERROR(INDEX($AE$13:$AE$1003, SMALL(IF(ISBLANK($AE$13:$AE$1003)+ISERROR($AE$13:$AE$1003)+LEN($AE$13:$AE$1003)=0, \"\", ROW($AE$13:$AE$1003)-MIN(ROW($AE$13:$AE$1003))+1), ROW(325:325))),\"\")","v":"__MD_17__MKC_N"},{"$f":"IF(AF337=\"\",\"\",IF(COUNTIF(CurrentListing,AF337)>1,AJ337,\"\"))","v":""},{"$f":"IF(LEN(AF337)=0,\"\",IF(ISNA(MATCH(AF337,MasterListing,0)),AJ337,\"\"))","v":""},null,"__MD_17__GRADALTDPL_N","","MD17GRADALTDPLN","__MD_17__GRADALTDPL_N",1,"______",null,null,null,null,{"$f":"IF(ISNUMBER(SEARCH($F$6,AP336)),MAX($AO$11:AO335)+1,0)","v":325},0,{"$f":"ROWS($AQ$12:AQ336)","v":325},{"$f":"IFERROR(VLOOKUP(ROWS($AR$12:AR336),$AO$12:$AP$3014,2,0),\"\")","v":0}]
[null,null,null,null,null,null,null,null,null,null,null,null,null,null,null,null,null,null,null,null,null,null,null,null,null,null,{"$f":"IFERROR(INDEX($AE$13:$AE$1003, SMALL(IF(ISBLANK($AE$13:$AE$1003)+ISERROR($AE$13:$AE$1003)+LEN($AE$13:$AE$1003)=0, \"\", ROW($AE$13:$AE$1003)-MIN(ROW($AE$13:$AE$1003))+1), ROW(326:326))),\"\")","v":"__MD_17__RC_N"},{"$f":"IF(AF338=\"\",\"\",IF(COUNTIF(CurrentListing,AF338)>1,AJ338,\"\"))","v":""},{"$f":"IF(LEN(AF338)=0,\"\",IF(ISNA(MATCH(AF338,MasterListing,0)),AJ338,\"\"))","v":""},null,"__MD_17__MKC_N","","MD17MKCN","__MD_17__MKC_N",1,"______",null,null,null,null,{"$f":"IF(ISNUMBER(SEARCH($F$6,AP337)),MAX($AO$11:AO336)+1,0)","v":326},0,{"$f":"ROWS($AQ$12:AQ337)","v":326},{"$f":"IFERROR(VLOOKUP(ROWS($AR$12:AR337),$AO$12:$AP$3014,2,0),\"\")","v":0}]
[null,null,null,null,null,null,null,null,null,null,null,null,null,null,null,null,null,null,null,null,null,null,null,null,null,null,{"$f":"IFERROR(INDEX($AE$13:$AE$1003, SMALL(IF(ISBLANK($AE$13:$AE$1003)+ISERROR($AE$13:$AE$1003)+LEN($AE$13:$AE$1003)=0, \"\", ROW($AE$13:$AE$1003)-MIN(ROW($AE$13:$AE$1003))+1), ROW(327:327))),\"\")","v":"__MD_17__RMA_N"},{"$f":"IF(AF339=\"\",\"\",IF(COUNTIF(CurrentListing,AF339)>1,AJ339,\"\"))","v":""},{"$f":"IF(LEN(AF339)=0,\"\",IF(ISNA(MATCH(AF339,MasterListing,0)),AJ339,\"\"))","v":""},null,"__MD_17__RC_N","","MD17RCN","__MD_17__RC_N",1,"______",null,null,null,null,{"$f":"IF(ISNUMBER(SEARCH($F$6,AP338)),MAX($AO$11:AO337)+1,0)","v":327},0,{"$f":"ROWS($AQ$12:AQ338)","v":327},{"$f":"IFERROR(VLOOKUP(ROWS($AR$12:AR338),$AO$12:$AP$3014,2,0),\"\")","v":0}]
[null,null,null,null,null,null,null,null,null,null,null,null,null,null,null,null,null,null,null,null,null,null,null,null,null,null,{"$f":"IFERROR(INDEX($AE$13:$AE$1003, SMALL(IF(ISBLANK($AE$13:$AE$1003)+ISERROR($AE$13:$AE$1003)+LEN($AE$13:$AE$1003)=0, \"\", ROW($AE$13:$AE$1003)-MIN(ROW($AE$13:$AE$1003))+1), ROW(328:328))),\"\")","v":"__MD_17__TRAN_N"},{"$f":"IF(AF340=\"\",\"\",IF(COUNTIF(CurrentListing,AF340)>1,AJ340,\"\"))","v":""},{"$f":"IF(LEN(AF340)=0,\"\",IF(ISNA(MATCH(AF340,MasterListing,0)),AJ340,\"\"))","v":""},null,"__MD_17__RMA_N","","MD17RMAN","__MD_17__RMA_N",1,"______",null,null,null,null,{"$f":"IF(ISNUMBER(SEARCH($F$6,AP339)),MAX($AO$11:AO338)+1,0)","v":328},0,{"$f":"ROWS($AQ$12:AQ339)","v":328},{"$f":"IFERROR(VLOOKUP(ROWS($AR$12:AR339),$AO$12:$AP$3014,2,0),\"\")","v":0}]
[null,null,null,null,null,null,null,null,null,null,null,null,null,null,null,null,null,null,null,null,null,null,null,null,null,null,{"$f":"IFERROR(INDEX($AE$13:$AE$1003, SMALL(IF(ISBLANK($AE$13:$AE$1003)+ISERROR($AE$13:$AE$1003)+LEN($AE$13:$AE$1003)=0, \"\", ROW($AE$13:$AE$1003)-MIN(ROW($AE$13:$AE$1003))+1), ROW(329:329))),\"\")","v":"__MD_18__D_N"},{"$f":"IF(AF341=\"\",\"\",IF(COUNTIF(CurrentListing,AF341)>1,AJ341,\"\"))","v":""},{"$f":"IF(LEN(AF341)=0,\"\",IF(ISNA(MATCH(AF341,MasterListing,0)),AJ341,\"\"))","v":""},null,"__MD_17__TRAN_N","","MD17TRANN","__MD_17__TRAN_N",1,"______",null,null,null,null,{"$f":"IF(ISNUMBER(SEARCH($F$6,AP340)),MAX($AO$11:AO339)+1,0)","v":329},0,{"$f":"ROWS($AQ$12:AQ340)","v":329},{"$f":"IFERROR(VLOOKUP(ROWS($AR$12:AR340),$AO$12:$AP$3014,2,0),\"\")","v":0}]
[null,null,null,null,null,null,null,null,null,null,null,null,null,null,null,null,null,null,null,null,null,null,null,null,null,null,{"$f":"IFERROR(INDEX($AE$13:$AE$1003, SMALL(IF(ISBLANK($AE$13:$AE$1003)+ISERROR($AE$13:$AE$1003)+LEN($AE$13:$AE$1003)=0, \"\", ROW($AE$13:$AE$1003)-MIN(ROW($AE$13:$AE$1003))+1), ROW(330:330))),\"\")","v":"__MD_18__DROPOUT_N"},{"$f":"IF(AF342=\"\",\"\",IF(COUNTIF(CurrentListing,AF342)>1,AJ342,\"\"))","v":""},{"$f":"IF(LEN(AF342)=0,\"\",IF(ISNA(MATCH(AF342,MasterListing,0)),AJ342,\"\"))","v":""},null,"__MD_18__D_N","","MD18DN","__MD_18__D_N",1,"______",null,null,null,null,{"$f":"IF(ISNUMBER(SEARCH($F$6,AP341)),MAX($AO$11:AO340)+1,0)","v":330},0,{"$f":"ROWS($AQ$12:AQ341)","v":330},{"$f":"IFERROR(VLOOKUP(ROWS($AR$12:AR341),$AO$12:$AP$3014,2,0),\"\")","v":0}]
[null,null,null,null,null,null,null,null,null,null,null,null,null,null,null,null,null,null,null,null,null,null,null,null,null,null,{"$f":"IFERROR(INDEX($AE$13:$AE$1003, SMALL(IF(ISBLANK($AE$13:$AE$1003)+ISERROR($AE$13:$AE$1003)+LEN($AE$13:$AE$1003)=0, \"\", ROW($AE$13:$AE$1003)-MIN(ROW($AE$13:$AE$1003))+1), ROW(331:331))),\"\")","v":"__MD_18__GHS_N"},{"$f":"IF(AF343=\"\",\"\",IF(COUNTIF(CurrentListing,AF343)>1,AJ343,\"\"))","v":""},{"$f":"IF(LEN(AF343)=0,\"\",IF(ISNA(MATCH(AF343,MasterListing,0)),AJ343,\"\"))","v":""},null,"__MD_18__DROPOUT_N","","MD18DROPOUTN","__MD_18__DROPOUT_N",1,"______",null,null,null,null,{"$f":"IF(ISNUMBER(SEARCH($F$6,AP342)),MAX($AO$11:AO341)+1,0)","v":331},0,{"$f":"ROWS($AQ$12:AQ342)","v":331},{"$f":"IFERROR(VLOOKUP(ROWS($AR$12:AR342),$AO$12:$AP$3014,2,0),\"\")","v":0}]
[null,null,null,null,null,null,null,null,null,null,null,null,null,null,null,null,null,null,null,null,null,null,null,null,null,null,{"$f":"IFERROR(INDEX($AE$13:$AE$1003, SMALL(IF(ISBLANK($AE$13:$AE$1003)+ISERROR($AE$13:$AE$1003)+LEN($AE$13:$AE$1003)=0, \"\", ROW($AE$13:$AE$1003)-MIN(ROW($AE$13:$AE$1003))+1), ROW(332:332))),\"\")","v":"__MD_18__GRADALTDPL_N"},{"$f":"IF(AF344=\"\",\"\",IF(COUNTIF(CurrentListing,AF344)>1,AJ344,\"\"))","v":""},{"$f":"IF(LEN(AF344)=0,\"\",IF(ISNA(MATCH(AF344,MasterListing,0)),AJ344,\"\"))","v":""},null,"__MD_18__GHS_N","","MD18GHSN","__MD_18__GHS_N",1,"______",null,null,null,null,{"$f":"IF(ISNUMBER(SEARCH($F$6,AP343)),MAX($AO$11:AO342)+1,0)","v":332},0,{"$f":"ROWS($AQ$12:AQ343)","v":332},{"$f":"IFERROR(VLOOKUP(ROWS($AR$12:AR343),$AO$12:$AP$3014,2,0),\"\")","v":0}]
[null,null,null,null,null,null,null,null,null,null,null,null,null,null,null,null,null,null,null,null,null,null,null,null,null,null,{"$f":"IFERROR(INDEX($AE$13:$AE$1003, SMALL(IF(ISBLANK($AE$13:$AE$1003)+ISERROR($AE$13:$AE$1003)+LEN($AE$13:$AE$1003)=0, \"\", ROW($AE$13:$AE$1003)-MIN(ROW($AE$13:$AE$1003))+1), ROW(333:333))),\"\")","v":"__MD_18__MKC_N"},{"$f":"IF(AF345=\"\",\"\",IF(COUNTIF(CurrentListing,AF345)>1,AJ345,\"\"))","v":""},{"$f":"IF(LEN(AF345)=0,\"\",IF(ISNA(MATCH(AF345,MasterListing,0)),AJ345,\"\"))","v":""},null,"__MD_18__GRADALTDPL_N","","MD18GRADALTDPLN","__MD_18__GRADALTDPL_N",1,"______",null,null,null,null,{"$f":"IF(ISNUMBER(SEARCH($F$6,AP344)),MAX($AO$11:AO343)+1,0)","v":333},0,{"$f":"ROWS($AQ$12:AQ344)","v":333},{"$f":"IFERROR(VLOOKUP(ROWS($AR$12:AR344),$AO$12:$AP$3014,2,0),\"\")","v":0}]
[null,null,null,null,null,null,null,null,null,null,null,null,null,null,null,null,null,null,null,null,null,null,null,null,null,null,{"$f":"IFERROR(INDEX($AE$13:$AE$1003, SMALL(IF(ISBLANK($AE$13:$AE$1003)+ISERROR($AE$13:$AE$1003)+LEN($AE$13:$AE$1003)=0, \"\", ROW($AE$13:$AE$1003)-MIN(ROW($AE$13:$AE$1003))+1), ROW(334:334))),\"\")","v":"__MD_18__RC_N"},{"$f":"IF(AF346=\"\",\"\",IF(COUNTIF(CurrentListing,AF346)>1,AJ346,\"\"))","v":""},{"$f":"IF(LEN(AF346)=0,\"\",IF(ISNA(MATCH(AF346,MasterListing,0)),AJ346,\"\"))","v":""},null,"__MD_18__MKC_N","","MD18MKCN","__MD_18__MKC_N",1,"______",null,null,null,null,{"$f":"IF(ISNUMBER(SEARCH($F$6,AP345)),MAX($AO$11:AO344)+1,0)","v":334},0,{"$f":"ROWS($AQ$12:AQ345)","v":334},{"$f":"IFERROR(VLOOKUP(ROWS($AR$12:AR345),$AO$12:$AP$3014,2,0),\"\")","v":0}]
[null,null,null,null,null,null,null,null,null,null,null,null,null,null,null,null,null,null,null,null,null,null,null,null,null,null,{"$f":"IFERROR(INDEX($AE$13:$AE$1003, SMALL(IF(ISBLANK($AE$13:$AE$1003)+ISERROR($AE$13:$AE$1003)+LEN($AE$13:$AE$1003)=0, \"\", ROW($AE$13:$AE$1003)-MIN(ROW($AE$13:$AE$1003))+1), ROW(335:335))),\"\")","v":"__MD_18__RMA_N"},{"$f":"IF(AF347=\"\",\"\",IF(COUNTIF(CurrentListing,AF347)>1,AJ347,\"\"))","v":""},{"$f":"IF(LEN(AF347)=0,\"\",IF(ISNA(MATCH(AF347,MasterListing,0)),AJ347,\"\"))","v":""},null,"__MD_18__RC_N","","MD18RCN","__MD_18__RC_N",1,"______",null,null,null,null,{"$f":"IF(ISNUMBER(SEARCH($F$6,AP346)),MAX($AO$11:AO345)+1,0)","v":335},0,{"$f":"ROWS($AQ$12:AQ346)","v":335},{"$f":"IFERROR(VLOOKUP(ROWS($AR$12:AR346),$AO$12:$AP$3014,2,0),\"\")","v":0}]
[null,null,null,null,null,null,null,null,null,null,null,null,null,null,null,null,null,null,null,null,null,null,null,null,null,null,{"$f":"IFERROR(INDEX($AE$13:$AE$1003, SMALL(IF(ISBLANK($AE$13:$AE$1003)+ISERROR($AE$13:$AE$1003)+LEN($AE$13:$AE$1003)=0, \"\", ROW($AE$13:$AE$1003)-MIN(ROW($AE$13:$AE$1003))+1), ROW(336:336))),\"\")","v":"__MD_18__TRAN_N"},{"$f":"IF(AF348=\"\",\"\",IF(COUNTIF(CurrentListing,AF348)>1,AJ348,\"\"))","v":""},{"$f":"IF(LEN(AF348)=0,\"\",IF(ISNA(MATCH(AF348,MasterListing,0)),AJ348,\"\"))","v":""},null,"__MD_18__RMA_N","","MD18RMAN","__MD_18__RMA_N",1,"______",null,null,null,null,{"$f":"IF(ISNUMBER(SEARCH($F$6,AP347)),MAX($AO$11:AO346)+1,0)","v":336},0,{"$f":"ROWS($AQ$12:AQ347)","v":336},{"$f":"IFERROR(VLOOKUP(ROWS($AR$12:AR347),$AO$12:$AP$3014,2,0),\"\")","v":0}]
[null,null,null,null,null,null,null,null,null,null,null,null,null,null,null,null,null,null,null,null,null,null,null,null,null,null,{"$f":"IFERROR(INDEX($AE$13:$AE$1003, SMALL(IF(ISBLANK($AE$13:$AE$1003)+ISERROR($AE$13:$AE$1003)+LEN($AE$13:$AE$1003)=0, \"\", ROW($AE$13:$AE$1003)-MIN(ROW($AE$13:$AE$1003))+1), ROW(337:337))),\"\")","v":"__MD_19__D_N"},{"$f":"IF(AF349=\"\",\"\",IF(COUNTIF(CurrentListing,AF349)>1,AJ349,\"\"))","v":""},{"$f":"IF(LEN(AF349)=0,\"\",IF(ISNA(MATCH(AF349,MasterListing,0)),AJ349,\"\"))","v":""},null,"__MD_18__TRAN_N","","MD18TRANN","__MD_18__TRAN_N",1,"______",null,null,null,null,{"$f":"IF(ISNUMBER(SEARCH($F$6,AP348)),MAX($AO$11:AO347)+1,0)","v":337},0,{"$f":"ROWS($AQ$12:AQ348)","v":337},{"$f":"IFERROR(VLOOKUP(ROWS($AR$12:AR348),$AO$12:$AP$3014,2,0),\"\")","v":0}]
[null,null,null,null,null,null,null,null,null,null,null,null,null,null,null,null,null,null,null,null,null,null,null,null,null,null,{"$f":"IFERROR(INDEX($AE$13:$AE$1003, SMALL(IF(ISBLANK($AE$13:$AE$1003)+ISERROR($AE$13:$AE$1003)+LEN($AE$13:$AE$1003)=0, \"\", ROW($AE$13:$AE$1003)-MIN(ROW($AE$13:$AE$1003))+1), ROW(338:338))),\"\")","v":"__MD_19__DROPOUT_N"},{"$f":"IF(AF350=\"\",\"\",IF(COUNTIF(CurrentListing,AF350)>1,AJ350,\"\"))","v":""},{"$f":"IF(LEN(AF350)=0,\"\",IF(ISNA(MATCH(AF350,MasterListing,0)),AJ350,\"\"))","v":""},null,"__MD_19__D_N","","MD19DN","__MD_19__D_N",1,"______",null,null,null,null,{"$f":"IF(ISNUMBER(SEARCH($F$6,AP349)),MAX($AO$11:AO348)+1,0)","v":338},0,{"$f":"ROWS($AQ$12:AQ349)","v":338},{"$f":"IFERROR(VLOOKUP(ROWS($AR$12:AR349),$AO$12:$AP$3014,2,0),\"\")","v":0}]
[null,null,null,null,null,null,null,null,null,null,null,null,null,null,null,null,null,null,null,null,null,null,null,null,null,null,{"$f":"IFERROR(INDEX($AE$13:$AE$1003, SMALL(IF(ISBLANK($AE$13:$AE$1003)+ISERROR($AE$13:$AE$1003)+LEN($AE$13:$AE$1003)=0, \"\", ROW($AE$13:$AE$1003)-MIN(ROW($AE$13:$AE$1003))+1), ROW(339:339))),\"\")","v":"__MD_19__GHS_N"},{"$f":"IF(AF351=\"\",\"\",IF(COUNTIF(CurrentListing,AF351)>1,AJ351,\"\"))","v":""},{"$f":"IF(LEN(AF351)=0,\"\",IF(ISNA(MATCH(AF351,MasterListing,0)),AJ351,\"\"))","v":""},null,"__MD_19__DROPOUT_N","","MD19DROPOUTN","__MD_19__DROPOUT_N",1,"______",null,null,null,null,{"$f":"IF(ISNUMBER(SEARCH($F$6,AP350)),MAX($AO$11:AO349)+1,0)","v":339},0,{"$f":"ROWS($AQ$12:AQ350)","v":339},{"$f":"IFERROR(VLOOKUP(ROWS($AR$12:AR350),$AO$12:$AP$3014,2,0),\"\")","v":0}]
[null,null,null,null,null,null,null,null,null,null,null,null,null,null,null,null,null,null,null,null,null,null,null,null,null,null,{"$f":"IFERROR(INDEX($AE$13:$AE$1003, SMALL(IF(ISBLANK($AE$13:$AE$1003)+ISERROR($AE$13:$AE$1003)+LEN($AE$13:$AE$1003)=0, \"\", ROW($AE$13:$AE$1003)-MIN(ROW($AE$13:$AE$1003))+1), ROW(340:340))),\"\")","v":"__MD_19__GRADALTDPL_N"},{"$f":"IF(AF352=\"\",\"\",IF(COUNTIF(CurrentListing,AF352)>1,AJ352,\"\"))","v":""},{"$f":"IF(LEN(AF352)=0,\"\",IF(ISNA(MATCH(AF352,MasterListing,0)),AJ352,\"\"))","v":""},null,"__MD_19__GHS_N","","MD19GHSN","__MD_19__GHS_N",1,"______",null,null,null,null,{"$f":"IF(ISNUMBER(SEARCH($F$6,AP351)),MAX($AO$11:AO350)+1,0)","v":340},0,{"$f":"ROWS($AQ$12:AQ351)","v":340},{"$f":"IFERROR(VLOOKUP(ROWS($AR$12:AR351),$AO$12:$AP$3014,2,0),\"\")","v":0}]
[null,null,null,null,null,null,null,null,null,null,null,null,null,null,null,null,null,null,null,null,null,null,null,null,null,null,{"$f":"IFERROR(INDEX($AE$13:$AE$1003, SMALL(IF(ISBLANK($AE$13:$AE$1003)+ISERROR($AE$13:$AE$1003)+LEN($AE$13:$AE$1003)=0, \"\", ROW($AE$13:$AE$1003)-MIN(ROW($AE$13:$AE$1003))+1), ROW(341:341))),\"\")","v":"__MD_19__MKC_N"},{"$f":"IF(AF353=\"\",\"\",IF(COUNTIF(CurrentListing,AF353)>1,AJ353,\"\"))","v":""},{"$f":"IF(LEN(AF353)=0,\"\",IF(ISNA(MATCH(AF353,MasterListing,0)),AJ353,\"\"))","v":""},null,"__MD_19__GRADALTDPL_N","","MD19GRADALTDPLN","__MD_19__GRADALTDPL_N",1,"______",null,null,null,null,{"$f":"IF(ISNUMBER(SEARCH($F$6,AP352)),MAX($AO$11:AO351)+1,0)","v":341},0,{"$f":"ROWS($AQ$12:AQ352)","v":341},{"$f":"IFERROR(VLOOKUP(ROWS($AR$12:AR352),$AO$12:$AP$3014,2,0),\"\")","v":0}]
[null,null,null,null,null,null,null,null,null,null,null,null,null,null,null,null,null,null,null,null,null,null,null,null,null,null,{"$f":"IFERROR(INDEX($AE$13:$AE$1003, SMALL(IF(ISBLANK($AE$13:$AE$1003)+ISERROR($AE$13:$AE$1003)+LEN($AE$13:$AE$1003)=0, \"\", ROW($AE$13:$AE$1003)-MIN(ROW($AE$13:$AE$1003))+1), ROW(342:342))),\"\")","v":"__MD_19__RC_N"},{"$f":"IF(AF354=\"\",\"\",IF(COUNTIF(CurrentListing,AF354)>1,AJ354,\"\"))","v":""},{"$f":"IF(LEN(AF354)=0,\"\",IF(ISNA(MATCH(AF354,MasterListing,0)),AJ354,\"\"))","v":""},null,"__MD_19__MKC_N","","MD19MKCN","__MD_19__MKC_N",1,"______",null,null,null,null,{"$f":"IF(ISNUMBER(SEARCH($F$6,AP353)),MAX($AO$11:AO352)+1,0)","v":342},0,{"$f":"ROWS($AQ$12:AQ353)","v":342},{"$f":"IFERROR(VLOOKUP(ROWS($AR$12:AR353),$AO$12:$AP$3014,2,0),\"\")","v":0}]
[null,null,null,null,null,null,null,null,null,null,null,null,null,null,null,null,null,null,null,null,null,null,null,null,null,null,{"$f":"IFERROR(INDEX($AE$13:$AE$1003, SMALL(IF(ISBLANK($AE$13:$AE$1003)+ISERROR($AE$13:$AE$1003)+LEN($AE$13:$AE$1003)=0, \"\", ROW($AE$13:$AE$1003)-MIN(ROW($AE$13:$AE$1003))+1), ROW(343:343))),\"\")","v":"__MD_19__RMA_N"},{"$f":"IF(AF355=\"\",\"\",IF(COUNTIF(CurrentListing,AF355)>1,AJ355,\"\"))","v":""},{"$f":"IF(LEN(AF355)=0,\"\",IF(ISNA(MATCH(AF355,MasterListing,0)),AJ355,\"\"))","v":""},null,"__MD_19__RC_N","","MD19RCN","__MD_19__RC_N",1,"______",null,null,null,null,{"$f":"IF(ISNUMBER(SEARCH($F$6,AP354)),MAX($AO$11:AO353)+1,0)","v":343},0,{"$f":"ROWS($AQ$12:AQ354)","v":343},{"$f":"IFERROR(VLOOKUP(ROWS($AR$12:AR354),$AO$12:$AP$3014,2,0),\"\")","v":0}]
[null,null,null,null,null,null,null,null,null,null,null,null,null,null,null,null,null,null,null,null,null,null,null,null,null,null,{"$f":"IFERROR(INDEX($AE$13:$AE$1003, SMALL(IF(ISBLANK($AE$13:$AE$1003)+ISERROR($AE$13:$AE$1003)+LEN($AE$13:$AE$1003)=0, \"\", ROW($AE$13:$AE$1003)-MIN(ROW($AE$13:$AE$1003))+1), ROW(344:344))),\"\")","v":"__MD_19__TRAN_N"},{"$f":"IF(AF356=\"\",\"\",IF(COUNTIF(CurrentListing,AF356)>1,AJ356,\"\"))","v":""},{"$f":"IF(LEN(AF356)=0,\"\",IF(ISNA(MATCH(AF356,MasterListing,0)),AJ356,\"\"))","v":""},null,"__MD_19__RMA_N","","MD19RMAN","__MD_19__RMA_N",1,"______",null,null,null,null,{"$f":"IF(ISNUMBER(SEARCH($F$6,AP355)),MAX($AO$11:AO354)+1,0)","v":344},0,{"$f":"ROWS($AQ$12:AQ355)","v":344},{"$f":"IFERROR(VLOOKUP(ROWS($AR$12:AR355),$AO$12:$AP$3014,2,0),\"\")","v":0}]
[null,null,null,null,null,null,null,null,null,null,null,null,null,null,null,null,null,null,null,null,null,null,null,null,null,null,{"$f":"IFERROR(INDEX($AE$13:$AE$1003, SMALL(IF(ISBLANK($AE$13:$AE$1003)+ISERROR($AE$13:$AE$1003)+LEN($AE$13:$AE$1003)=0, \"\", ROW($AE$13:$AE$1003)-MIN(ROW($AE$13:$AE$1003))+1), ROW(345:345))),\"\")","v":"__MD_20__D_N"},{"$f":"IF(AF357=\"\",\"\",IF(COUNTIF(CurrentListing,AF357)>1,AJ357,\"\"))","v":""},{"$f":"IF(LEN(AF357)=0,\"\",IF(ISNA(MATCH(AF357,MasterListing,0)),AJ357,\"\"))","v":""},null,"__MD_19__TRAN_N","","MD19TRANN","__MD_19__TRAN_N",1,"______",null,null,null,null,{"$f":"IF(ISNUMBER(SEARCH($F$6,AP356)),MAX($AO$11:AO355)+1,0)","v":345},0,{"$f":"ROWS($AQ$12:AQ356)","v":345},{"$f":"IFERROR(VLOOKUP(ROWS($AR$12:AR356),$AO$12:$AP$3014,2,0),\"\")","v":0}]
[null,null,null,null,null,null,null,null,null,null,null,null,null,null,null,null,null,null,null,null,null,null,null,null,null,null,{"$f":"IFERROR(INDEX($AE$13:$AE$1003, SMALL(IF(ISBLANK($AE$13:$AE$1003)+ISERROR($AE$13:$AE$1003)+LEN($AE$13:$AE$1003)=0, \"\", ROW($AE$13:$AE$1003)-MIN(ROW($AE$13:$AE$1003))+1), ROW(346:346))),\"\")","v":"__MD_20__DROPOUT_N"},{"$f":"IF(AF358=\"\",\"\",IF(COUNTIF(CurrentListing,AF358)>1,AJ358,\"\"))","v":""},{"$f":"IF(LEN(AF358)=0,\"\",IF(ISNA(MATCH(AF358,MasterListing,0)),AJ358,\"\"))","v":""},null,"__MD_20__D_N","","MD20DN","__MD_20__D_N",1,"______",null,null,null,null,{"$f":"IF(ISNUMBER(SEARCH($F$6,AP357)),MAX($AO$11:AO356)+1,0)","v":346},0,{"$f":"ROWS($AQ$12:AQ357)","v":346},{"$f":"IFERROR(VLOOKUP(ROWS($AR$12:AR357),$AO$12:$AP$3014,2,0),\"\")","v":0}]
[null,null,null,null,null,null,null,null,null,null,null,null,null,null,null,null,null,null,null,null,null,null,null,null,null,null,{"$f":"IFERROR(INDEX($AE$13:$AE$1003, SMALL(IF(ISBLANK($AE$13:$AE$1003)+ISERROR($AE$13:$AE$1003)+LEN($AE$13:$AE$1003)=0, \"\", ROW($AE$13:$AE$1003)-MIN(ROW($AE$13:$AE$1003))+1), ROW(347:347))),\"\")","v":"__MD_20__GHS_N"},{"$f":"IF(AF359=\"\",\"\",IF(COUNTIF(CurrentListing,AF359)>1,AJ359,\"\"))","v":""},{"$f":"IF(LEN(AF359)=0,\"\",IF(ISNA(MATCH(AF359,MasterListing,0)),AJ359,\"\"))","v":""},null,"__MD_20__DROPOUT_N","","MD20DROPOUTN","__MD_20__DROPOUT_N",1,"______",null,null,null,null,{"$f":"IF(ISNUMBER(SEARCH($F$6,AP358)),MAX($AO$11:AO357)+1,0)","v":347},0,{"$f":"ROWS($AQ$12:AQ358)","v":347},{"$f":"IFERROR(VLOOKUP(ROWS($AR$12:AR358),$AO$12:$AP$3014,2,0),\"\")","v":0}]
[null,null,null,null,null,null,null,null,null,null,null,null,null,null,null,null,null,null,null,null,null,null,null,null,null,null,{"$f":"IFERROR(INDEX($AE$13:$AE$1003, SMALL(IF(ISBLANK($AE$13:$AE$1003)+ISERROR($AE$13:$AE$1003)+LEN($AE$13:$AE$1003)=0, \"\", ROW($AE$13:$AE$1003)-MIN(ROW($AE$13:$AE$1003))+1), ROW(348:348))),\"\")","v":"__MD_20__GRADALTDPL_N"},{"$f":"IF(AF360=\"\",\"\",IF(COUNTIF(CurrentListing,AF360)>1,AJ360,\"\"))","v":""},{"$f":"IF(LEN(AF360)=0,\"\",IF(ISNA(MATCH(AF360,MasterListing,0)),AJ360,\"\"))","v":""},null,"__MD_20__GHS_N","","MD20GHSN","__MD_20__GHS_N",1,"______",null,null,null,null,{"$f":"IF(ISNUMBER(SEARCH($F$6,AP359)),MAX($AO$11:AO358)+1,0)","v":348},0,{"$f":"ROWS($AQ$12:AQ359)","v":348},{"$f":"IFERROR(VLOOKUP(ROWS($AR$12:AR359),$AO$12:$AP$3014,2,0),\"\")","v":0}]
[null,null,null,null,null,null,null,null,null,null,null,null,null,null,null,null,null,null,null,null,null,null,null,null,null,null,{"$f":"IFERROR(INDEX($AE$13:$AE$1003, SMALL(IF(ISBLANK($AE$13:$AE$1003)+ISERROR($AE$13:$AE$1003)+LEN($AE$13:$AE$1003)=0, \"\", ROW($AE$13:$AE$1003)-MIN(ROW($AE$13:$AE$1003))+1), ROW(349:349))),\"\")","v":"__MD_20__MKC_N"},{"$f":"IF(AF361=\"\",\"\",IF(COUNTIF(CurrentListing,AF361)>1,AJ361,\"\"))","v":""},{"$f":"IF(LEN(AF361)=0,\"\",IF(ISNA(MATCH(AF361,MasterListing,0)),AJ361,\"\"))","v":""},null,"__MD_20__GRADALTDPL_N","","MD20GRADALTDPLN","__MD_20__GRADALTDPL_N",1,"______",null,null,null,null,{"$f":"IF(ISNUMBER(SEARCH($F$6,AP360)),MAX($AO$11:AO359)+1,0)","v":349},0,{"$f":"ROWS($AQ$12:AQ360)","v":349},{"$f":"IFERROR(VLOOKUP(ROWS($AR$12:AR360),$AO$12:$AP$3014,2,0),\"\")","v":0}]
[null,null,null,null,null,null,null,null,null,null,null,null,null,null,null,null,null,null,null,null,null,null,null,null,null,null,{"$f":"IFERROR(INDEX($AE$13:$AE$1003, SMALL(IF(ISBLANK($AE$13:$AE$1003)+ISERROR($AE$13:$AE$1003)+LEN($AE$13:$AE$1003)=0, \"\", ROW($AE$13:$AE$1003)-MIN(ROW($AE$13:$AE$1003))+1), ROW(350:350))),\"\")","v":"__MD_20__RC_N"},{"$f":"IF(AF362=\"\",\"\",IF(COUNTIF(CurrentListing,AF362)>1,AJ362,\"\"))","v":""},{"$f":"IF(LEN(AF362)=0,\"\",IF(ISNA(MATCH(AF362,MasterListing,0)),AJ362,\"\"))","v":""},null,"__MD_20__MKC_N","","MD20MKCN","__MD_20__MKC_N",1,"______",null,null,null,null,{"$f":"IF(ISNUMBER(SEARCH($F$6,AP361)),MAX($AO$11:AO360)+1,0)","v":350},0,{"$f":"ROWS($AQ$12:AQ361)","v":350},{"$f":"IFERROR(VLOOKUP(ROWS($AR$12:AR361),$AO$12:$AP$3014,2,0),\"\")","v":0}]
[null,null,null,null,null,null,null,null,null,null,null,null,null,null,null,null,null,null,null,null,null,null,null,null,null,null,{"$f":"IFERROR(INDEX($AE$13:$AE$1003, SMALL(IF(ISBLANK($AE$13:$AE$1003)+ISERROR($AE$13:$AE$1003)+LEN($AE$13:$AE$1003)=0, \"\", ROW($AE$13:$AE$1003)-MIN(ROW($AE$13:$AE$1003))+1), ROW(351:351))),\"\")","v":"__MD_20__RMA_N"},{"$f":"IF(AF363=\"\",\"\",IF(COUNTIF(CurrentListing,AF363)>1,AJ363,\"\"))","v":""},{"$f":"IF(LEN(AF363)=0,\"\",IF(ISNA(MATCH(AF363,MasterListing,0)),AJ363,\"\"))","v":""},null,"__MD_20__RC_N","","MD20RCN","__MD_20__RC_N",1,"______",null,null,null,null,{"$f":"IF(ISNUMBER(SEARCH($F$6,AP362)),MAX($AO$11:AO361)+1,0)","v":351},0,{"$f":"ROWS($AQ$12:AQ362)","v":351},{"$f":"IFERROR(VLOOKUP(ROWS($AR$12:AR362),$AO$12:$AP$3014,2,0),\"\")","v":0}]
[null,null,null,null,null,null,null,null,null,null,null,null,null,null,null,null,null,null,null,null,null,null,null,null,null,null,{"$f":"IFERROR(INDEX($AE$13:$AE$1003, SMALL(IF(ISBLANK($AE$13:$AE$1003)+ISERROR($AE$13:$AE$1003)+LEN($AE$13:$AE$1003)=0, \"\", ROW($AE$13:$AE$1003)-MIN(ROW($AE$13:$AE$1003))+1), ROW(352:352))),\"\")","v":"__MD_20__TRAN_N"},{"$f":"IF(AF364=\"\",\"\",IF(COUNTIF(CurrentListing,AF364)>1,AJ364,\"\"))","v":""},{"$f":"IF(LEN(AF364)=0,\"\",IF(ISNA(MATCH(AF364,MasterListing,0)),AJ364,\"\"))","v":""},null,"__MD_20__RMA_N","","MD20RMAN","__MD_20__RMA_N",1,"______",null,null,null,null,{"$f":"IF(ISNUMBER(SEARCH($F$6,AP363)),MAX($AO$11:AO362)+1,0)","v":352},0,{"$f":"ROWS($AQ$12:AQ363)","v":352},{"$f":"IFERROR(VLOOKUP(ROWS($AR$12:AR363),$AO$12:$AP$3014,2,0),\"\")","v":0}]
[null,null,null,null,null,null,null,null,null,null,null,null,null,null,null,null,null,null,null,null,null,null,null,null,null,null,{"$f":"IFERROR(INDEX($AE$13:$AE$1003, SMALL(IF(ISBLANK($AE$13:$AE$1003)+ISERROR($AE$13:$AE$1003)+LEN($AE$13:$AE$1003)=0, \"\", ROW($AE$13:$AE$1003)-MIN(ROW($AE$13:$AE$1003))+1), ROW(353:353))),\"\")","v":"__MD_21__D_N"},{"$f":"IF(AF365=\"\",\"\",IF(COUNTIF(CurrentListing,AF365)>1,AJ365,\"\"))","v":""},{"$f":"IF(LEN(AF365)=0,\"\",IF(ISNA(MATCH(AF365,MasterListing,0)),AJ365,\"\"))","v":""},null,"__MD_20__TRAN_N","","MD20TRANN","__MD_20__TRAN_N",1,"______",null,null,null,null,{"$f":"IF(ISNUMBER(SEARCH($F$6,AP364)),MAX($AO$11:AO363)+1,0)","v":353},0,{"$f":"ROWS($AQ$12:AQ364)","v":353},{"$f":"IFERROR(VLOOKUP(ROWS($AR$12:AR364),$AO$12:$AP$3014,2,0),\"\")","v":0}]
[null,null,null,null,null,null,null,null,null,null,null,null,null,null,null,null,null,null,null,null,null,null,null,null,null,null,{"$f":"IFERROR(INDEX($AE$13:$AE$1003, SMALL(IF(ISBLANK($AE$13:$AE$1003)+ISERROR($AE$13:$AE$1003)+LEN($AE$13:$AE$1003)=0, \"\", ROW($AE$13:$AE$1003)-MIN(ROW($AE$13:$AE$1003))+1), ROW(354:354))),\"\")","v":"__MD_21__DROPOUT_N"},{"$f":"IF(AF366=\"\",\"\",IF(COUNTIF(CurrentListing,AF366)>1,AJ366,\"\"))","v":""},{"$f":"IF(LEN(AF366)=0,\"\",IF(ISNA(MATCH(AF366,MasterListing,0)),AJ366,\"\"))","v":""},null,"__MD_21__D_N","","MD21DN","__MD_21__D_N",1,"______",null,null,null,null,{"$f":"IF(ISNUMBER(SEARCH($F$6,AP365)),MAX($AO$11:AO364)+1,0)","v":354},0,{"$f":"ROWS($AQ$12:AQ365)","v":354},{"$f":"IFERROR(VLOOKUP(ROWS($AR$12:AR365),$AO$12:$AP$3014,2,0),\"\")","v":0}]
[null,null,null,null,null,null,null,null,null,null,null,null,null,null,null,null,null,null,null,null,null,null,null,null,null,null,{"$f":"IFERROR(INDEX($AE$13:$AE$1003, SMALL(IF(ISBLANK($AE$13:$AE$1003)+ISERROR($AE$13:$AE$1003)+LEN($AE$13:$AE$1003)=0, \"\", ROW($AE$13:$AE$1003)-MIN(ROW($AE$13:$AE$1003))+1), ROW(355:355))),\"\")","v":"__MD_21__GHS_N"},{"$f":"IF(AF367=\"\",\"\",IF(COUNTIF(CurrentListing,AF367)>1,AJ367,\"\"))","v":""},{"$f":"IF(LEN(AF367)=0,\"\",IF(ISNA(MATCH(AF367,MasterListing,0)),AJ367,\"\"))","v":""},null,"__MD_21__DROPOUT_N","","MD21DROPOUTN","__MD_21__DROPOUT_N",1,"______",null,null,null,null,{"$f":"IF(ISNUMBER(SEARCH($F$6,AP366)),MAX($AO$11:AO365)+1,0)","v":355},0,{"$f":"ROWS($AQ$12:AQ366)","v":355},{"$f":"IFERROR(VLOOKUP(ROWS($AR$12:AR366),$AO$12:$AP$3014,2,0),\"\")","v":0}]
[null,null,null,null,null,null,null,null,null,null,null,null,null,null,null,null,null,null,null,null,null,null,null,null,null,null,{"$f":"IFERROR(INDEX($AE$13:$AE$1003, SMALL(IF(ISBLANK($AE$13:$AE$1003)+ISERROR($AE$13:$AE$1003)+LEN($AE$13:$AE$1003)=0, \"\", ROW($AE$13:$AE$1003)-MIN(ROW($AE$13:$AE$1003))+1), ROW(356:356))),\"\")","v":"__MD_21__GRADALTDPL_N"},{"$f":"IF(AF368=\"\",\"\",IF(COUNTIF(CurrentListing,AF368)>1,AJ368,\"\"))","v":""},{"$f":"IF(LEN(AF368)=0,\"\",IF(ISNA(MATCH(AF368,MasterListing,0)),AJ368,\"\"))","v":""},null,"__MD_21__GHS_N","","MD21GHSN","__MD_21__GHS_N",1,"______",null,null,null,null,{"$f":"IF(ISNUMBER(SEARCH($F$6,AP367)),MAX($AO$11:AO366)+1,0)","v":356},0,{"$f":"ROWS($AQ$12:AQ367)","v":356},{"$f":"IFERROR(VLOOKUP(ROWS($AR$12:AR367),$AO$12:$AP$3014,2,0),\"\")","v":0}]
[null,null,null,null,null,null,null,null,null,null,null,null,null,null,null,null,null,null,null,null,null,null,null,null,null,null,{"$f":"IFERROR(INDEX($AE$13:$AE$1003, SMALL(IF(ISBLANK($AE$13:$AE$1003)+ISERROR($AE$13:$AE$1003)+LEN($AE$13:$AE$1003)=0, \"\", ROW($AE$13:$AE$1003)-MIN(ROW($AE$13:$AE$1003))+1), ROW(357:357))),\"\")","v":"__MD_21__MKC_N"},{"$f":"IF(AF369=\"\",\"\",IF(COUNTIF(CurrentListing,AF369)>1,AJ369,\"\"))","v":""},{"$f":"IF(LEN(AF369)=0,\"\",IF(ISNA(MATCH(AF369,MasterListing,0)),AJ369,\"\"))","v":""},null,"__MD_21__GRADALTDPL_N","","MD21GRADALTDPLN","__MD_21__GRADALTDPL_N",1,"______",null,null,null,null,{"$f":"IF(ISNUMBER(SEARCH($F$6,AP368)),MAX($AO$11:AO367)+1,0)","v":357},0,{"$f":"ROWS($AQ$12:AQ368)","v":357},{"$f":"IFERROR(VLOOKUP(ROWS($AR$12:AR368),$AO$12:$AP$3014,2,0),\"\")","v":0}]
[null,null,null,null,null,null,null,null,null,null,null,null,null,null,null,null,null,null,null,null,null,null,null,null,null,null,{"$f":"IFERROR(INDEX($AE$13:$AE$1003, SMALL(IF(ISBLANK($AE$13:$AE$1003)+ISERROR($AE$13:$AE$1003)+LEN($AE$13:$AE$1003)=0, \"\", ROW($AE$13:$AE$1003)-MIN(ROW($AE$13:$AE$1003))+1), ROW(358:358))),\"\")","v":"__MD_21__RC_N"},{"$f":"IF(AF370=\"\",\"\",IF(COUNTIF(CurrentListing,AF370)>1,AJ370,\"\"))","v":""},{"$f":"IF(LEN(AF370)=0,\"\",IF(ISNA(MATCH(AF370,MasterListing,0)),AJ370,\"\"))","v":""},null,"__MD_21__MKC_N","","MD21MKCN","__MD_21__MKC_N",1,"______",null,null,null,null,{"$f":"IF(ISNUMBER(SEARCH($F$6,AP369)),MAX($AO$11:AO368)+1,0)","v":358},0,{"$f":"ROWS($AQ$12:AQ369)","v":358},{"$f":"IFERROR(VLOOKUP(ROWS($AR$12:AR369),$AO$12:$AP$3014,2,0),\"\")","v":0}]
[null,null,null,null,null,null,null,null,null,null,null,null,null,null,null,null,null,null,null,null,null,null,null,null,null,null,{"$f":"IFERROR(INDEX($AE$13:$AE$1003, SMALL(IF(ISBLANK($AE$13:$AE$1003)+ISERROR($AE$13:$AE$1003)+LEN($AE$13:$AE$1003)=0, \"\", ROW($AE$13:$AE$1003)-MIN(ROW($AE$13:$AE$1003))+1), ROW(359:359))),\"\")","v":"__MD_21__RMA_N"},{"$f":"IF(AF371=\"\",\"\",IF(COUNTIF(CurrentListing,AF371)>1,AJ371,\"\"))","v":""},{"$f":"IF(LEN(AF371)=0,\"\",IF(ISNA(MATCH(AF371,MasterListing,0)),AJ371,\"\"))","v":""},null,"__MD_21__RC_N","","MD21RCN","__MD_21__RC_N",1,"______",null,null,null,null,{"$f":"IF(ISNUMBER(SEARCH($F$6,AP370)),MAX($AO$11:AO369)+1,0)","v":359},0,{"$f":"ROWS($AQ$12:AQ370)","v":359},{"$f":"IFERROR(VLOOKUP(ROWS($AR$12:AR370),$AO$12:$AP$3014,2,0),\"\")","v":0}]
[null,null,null,null,null,null,null,null,null,null,null,null,null,null,null,null,null,null,null,null,null,null,null,null,null,null,{"$f":"IFERROR(INDEX($AE$13:$AE$1003, SMALL(IF(ISBLANK($AE$13:$AE$1003)+ISERROR($AE$13:$AE$1003)+LEN($AE$13:$AE$1003)=0, \"\", ROW($AE$13:$AE$1003)-MIN(ROW($AE$13:$AE$1003))+1), ROW(360:360))),\"\")","v":"__MD_21__TRAN_N"},{"$f":"IF(AF372=\"\",\"\",IF(COUNTIF(CurrentListing,AF372)>1,AJ372,\"\"))","v":""},{"$f":"IF(LEN(AF372)=0,\"\",IF(ISNA(MATCH(AF372,MasterListing,0)),AJ372,\"\"))","v":""},null,"__MD_21__RMA_N","","MD21RMAN","__MD_21__RMA_N",1,"______",null,null,null,null,{"$f":"IF(ISNUMBER(SEARCH($F$6,AP371)),MAX($AO$11:AO370)+1,0)","v":360},0,{"$f":"ROWS($AQ$12:AQ371)","v":360},{"$f":"IFERROR(VLOOKUP(ROWS($AR$12:AR371),$AO$12:$AP$3014,2,0),\"\")","v":0}]
[null,null,null,null,null,null,null,null,null,null,null,null,null,null,null,null,null,null,null,null,null,null,null,null,null,null,{"$f":"IFERROR(INDEX($AE$13:$AE$1003, SMALL(IF(ISBLANK($AE$13:$AE$1003)+ISERROR($AE$13:$AE$1003)+LEN($AE$13:$AE$1003)=0, \"\", ROW($AE$13:$AE$1003)-MIN(ROW($AE$13:$AE$1003))+1), ROW(361:361))),\"\")","v":"__ID____Y"},{"$f":"IF(AF373=\"\",\"\",IF(COUNTIF(CurrentListing,AF373)>1,AJ373,\"\"))","v":""},{"$f":"IF(LEN(AF373)=0,\"\",IF(ISNA(MATCH(AF373,MasterListing,0)),AJ373,\"\"))","v":""},null,"__MD_21__TRAN_N","","MD21TRANN","__MD_21__TRAN_N",1,"______",null,null,null,null,{"$f":"IF(ISNUMBER(SEARCH($F$6,AP372)),MAX($AO$11:AO371)+1,0)","v":361},0,{"$f":"ROWS($AQ$12:AQ372)","v":361},{"$f":"IFERROR(VLOOKUP(ROWS($AR$12:AR372),$AO$12:$AP$3014,2,0),\"\")","v":0}]
[null,null,null,null,null,null,null,null,null,null,null,null,null,null,null,null,null,null,null,null,null,null,null,null,null,null,{"$f":"IFERROR(INDEX($AE$13:$AE$1003, SMALL(IF(ISBLANK($AE$13:$AE$1003)+ISERROR($AE$13:$AE$1003)+LEN($AE$13:$AE$1003)=0, \"\", ROW($AE$13:$AE$1003)-MIN(ROW($AE$13:$AE$1003))+1), ROW(362:362))),\"\")","v":"__ID_14__D_N"},{"$f":"IF(AF374=\"\",\"\",IF(COUNTIF(CurrentListing,AF374)>1,AJ374,\"\"))","v":""},{"$f":"IF(LEN(AF374)=0,\"\",IF(ISNA(MATCH(AF374,MasterListing,0)),AJ374,\"\"))","v":""},null,"__ID____Y","","IDY","__ID____Y",1,"______",null,null,null,null,{"$f":"IF(ISNUMBER(SEARCH($F$6,AP373)),MAX($AO$11:AO372)+1,0)","v":362},0,{"$f":"ROWS($AQ$12:AQ373)","v":362},{"$f":"IFERROR(VLOOKUP(ROWS($AR$12:AR373),$AO$12:$AP$3014,2,0),\"\")","v":0}]
[null,null,null,null,null,null,null,null,null,null,null,null,null,null,null,null,null,null,null,null,null,null,null,null,null,null,{"$f":"IFERROR(INDEX($AE$13:$AE$1003, SMALL(IF(ISBLANK($AE$13:$AE$1003)+ISERROR($AE$13:$AE$1003)+LEN($AE$13:$AE$1003)=0, \"\", ROW($AE$13:$AE$1003)-MIN(ROW($AE$13:$AE$1003))+1), ROW(363:363))),\"\")","v":"__ID_14__DROPOUT_N"},{"$f":"IF(AF375=\"\",\"\",IF(COUNTIF(CurrentListing,AF375)>1,AJ375,\"\"))","v":""},{"$f":"IF(LEN(AF375)=0,\"\",IF(ISNA(MATCH(AF375,MasterListing,0)),AJ375,\"\"))","v":""},null,"__ID_14__D_N","","ID14DN","__ID_14__D_N",1,"______",null,null,null,null,{"$f":"IF(ISNUMBER(SEARCH($F$6,AP374)),MAX($AO$11:AO373)+1,0)","v":363},0,{"$f":"ROWS($AQ$12:AQ374)","v":363},{"$f":"IFERROR(VLOOKUP(ROWS($AR$12:AR374),$AO$12:$AP$3014,2,0),\"\")","v":0}]
[null,null,null,null,null,null,null,null,null,null,null,null,null,null,null,null,null,null,null,null,null,null,null,null,null,null,{"$f":"IFERROR(INDEX($AE$13:$AE$1003, SMALL(IF(ISBLANK($AE$13:$AE$1003)+ISERROR($AE$13:$AE$1003)+LEN($AE$13:$AE$1003)=0, \"\", ROW($AE$13:$AE$1003)-MIN(ROW($AE$13:$AE$1003))+1), ROW(364:364))),\"\")","v":"__ID_14__GHS_N"},{"$f":"IF(AF376=\"\",\"\",IF(COUNTIF(CurrentListing,AF376)>1,AJ376,\"\"))","v":""},{"$f":"IF(LEN(AF376)=0,\"\",IF(ISNA(MATCH(AF376,MasterListing,0)),AJ376,\"\"))","v":""},null,"__ID_14__DROPOUT_N","","ID14DROPOUTN","__ID_14__DROPOUT_N",1,"______",null,null,null,null,{"$f":"IF(ISNUMBER(SEARCH($F$6,AP375)),MAX($AO$11:AO374)+1,0)","v":364},0,{"$f":"ROWS($AQ$12:AQ375)","v":364},{"$f":"IFERROR(VLOOKUP(ROWS($AR$12:AR375),$AO$12:$AP$3014,2,0),\"\")","v":0}]
[null,null,null,null,null,null,null,null,null,null,null,null,null,null,null,null,null,null,null,null,null,null,null,null,null,null,{"$f":"IFERROR(INDEX($AE$13:$AE$1003, SMALL(IF(ISBLANK($AE$13:$AE$1003)+ISERROR($AE$13:$AE$1003)+LEN($AE$13:$AE$1003)=0, \"\", ROW($AE$13:$AE$1003)-MIN(ROW($AE$13:$AE$1003))+1), ROW(365:365))),\"\")","v":"__ID_14__GRADALTDPL_N"},{"$f":"IF(AF377=\"\",\"\",IF(COUNTIF(CurrentListing,AF377)>1,AJ377,\"\"))","v":""},{"$f":"IF(LEN(AF377)=0,\"\",IF(ISNA(MATCH(AF377,MasterListing,0)),AJ377,\"\"))","v":""},null,"__ID_14__GHS_N","","ID14GHSN","__ID_14__GHS_N",1,"______",null,null,null,null,{"$f":"IF(ISNUMBER(SEARCH($F$6,AP376)),MAX($AO$11:AO375)+1,0)","v":365},0,{"$f":"ROWS($AQ$12:AQ376)","v":365},{"$f":"IFERROR(VLOOKUP(ROWS($AR$12:AR376),$AO$12:$AP$3014,2,0),\"\")","v":0}]
[null,null,null,null,null,null,null,null,null,null,null,null,null,null,null,null,null,null,null,null,null,null,null,null,null,null,{"$f":"IFERROR(INDEX($AE$13:$AE$1003, SMALL(IF(ISBLANK($AE$13:$AE$1003)+ISERROR($AE$13:$AE$1003)+LEN($AE$13:$AE$1003)=0, \"\", ROW($AE$13:$AE$1003)-MIN(ROW($AE$13:$AE$1003))+1), ROW(366:366))),\"\")","v":"__ID_14__MKC_N"},{"$f":"IF(AF378=\"\",\"\",IF(COUNTIF(CurrentListing,AF378)>1,AJ378,\"\"))","v":""},{"$f":"IF(LEN(AF378)=0,\"\",IF(ISNA(MATCH(AF378,MasterListing,0)),AJ378,\"\"))","v":""},null,"__ID_14__GRADALTDPL_N","","ID14GRADALTDPLN","__ID_14__GRADALTDPL_N",1,"______",null,null,null,null,{"$f":"IF(ISNUMBER(SEARCH($F$6,AP377)),MAX($AO$11:AO376)+1,0)","v":366},0,{"$f":"ROWS($AQ$12:AQ377)","v":366},{"$f":"IFERROR(VLOOKUP(ROWS($AR$12:AR377),$AO$12:$AP$3014,2,0),\"\")","v":0}]
[null,null,null,null,null,null,null,null,null,null,null,null,null,null,null,null,null,null,null,null,null,null,null,null,null,null,{"$f":"IFERROR(INDEX($AE$13:$AE$1003, SMALL(IF(ISBLANK($AE$13:$AE$1003)+ISERROR($AE$13:$AE$1003)+LEN($AE$13:$AE$1003)=0, \"\", ROW($AE$13:$AE$1003)-MIN(ROW($AE$13:$AE$1003))+1), ROW(367:367))),\"\")","v":"__ID_14__RC_N"},{"$f":"IF(AF379=\"\",\"\",IF(COUNTIF(CurrentListing,AF379)>1,AJ379,\"\"))","v":""},{"$f":"IF(LEN(AF379)=0,\"\",IF(ISNA(MATCH(AF379,MasterListing,0)),AJ379,\"\"))","v":""},null,"__ID_14__MKC_N","","ID14MKCN","__ID_14__MKC_N",1,"______",null,null,null,null,{"$f":"IF(ISNUMBER(SEARCH($F$6,AP378)),MAX($AO$11:AO377)+1,0)","v":367},0,{"$f":"ROWS($AQ$12:AQ378)","v":367},{"$f":"IFERROR(VLOOKUP(ROWS($AR$12:AR378),$AO$12:$AP$3014,2,0),\"\")","v":0}]
[null,null,null,null,null,null,null,null,null,null,null,null,null,null,null,null,null,null,null,null,null,null,null,null,null,null,{"$f":"IFERROR(INDEX($AE$13:$AE$1003, SMALL(IF(ISBLANK($AE$13:$AE$1003)+ISERROR($AE$13:$AE$1003)+LEN($AE$13:$AE$1003)=0, \"\", ROW($AE$13:$AE$1003)-MIN(ROW($AE$13:$AE$1003))+1), ROW(368:368))),\"\")","v":"__ID_14__RMA_N"},{"$f":"IF(AF380=\"\",\"\",IF(COUNTIF(CurrentListing,AF380)>1,AJ380,\"\"))","v":""},{"$f":"IF(LEN(AF380)=0,\"\",IF(ISNA(MATCH(AF380,MasterListing,0)),AJ380,\"\"))","v":""},null,"__ID_14__RC_N","","ID14RCN","__ID_14__RC_N",1,"______",null,null,null,null,{"$f":"IF(ISNUMBER(SEARCH($F$6,AP379)),MAX($AO$11:AO378)+1,0)","v":368},0,{"$f":"ROWS($AQ$12:AQ379)","v":368},{"$f":"IFERROR(VLOOKUP(ROWS($AR$12:AR379),$AO$12:$AP$3014,2,0),\"\")","v":0}]
[null,null,null,null,null,null,null,null,null,null,null,null,null,null,null,null,null,null,null,null,null,null,null,null,null,null,{"$f":"IFERROR(INDEX($AE$13:$AE$1003, SMALL(IF(ISBLANK($AE$13:$AE$1003)+ISERROR($AE$13:$AE$1003)+LEN($AE$13:$AE$1003)=0, \"\", ROW($AE$13:$AE$1003)-MIN(ROW($AE$13:$AE$1003))+1), ROW(369:369))),\"\")","v":"__ID_14__TRAN_N"},{"$f":"IF(AF381=\"\",\"\",IF(COUNTIF(CurrentListing,AF381)>1,AJ381,\"\"))","v":""},{"$f":"IF(LEN(AF381)=0,\"\",IF(ISNA(MATCH(AF381,MasterListing,0)),AJ381,\"\"))","v":""},null,"__ID_14__RMA_N","","ID14RMAN","__ID_14__RMA_N",1,"______",null,null,null,null,{"$f":"IF(ISNUMBER(SEARCH($F$6,AP380)),MAX($AO$11:AO379)+1,0)","v":369},0,{"$f":"ROWS($AQ$12:AQ380)","v":369},{"$f":"IFERROR(VLOOKUP(ROWS($AR$12:AR380),$AO$12:$AP$3014,2,0),\"\")","v":0}]
[null,null,null,null,null,null,null,null,null,null,null,null,null,null,null,null,null,null,null,null,null,null,null,null,null,null,{"$f":"IFERROR(INDEX($AE$13:$AE$1003, SMALL(IF(ISBLANK($AE$13:$AE$1003)+ISERROR($AE$13:$AE$1003)+LEN($AE$13:$AE$1003)=0, \"\", ROW($AE$13:$AE$1003)-MIN(ROW($AE$13:$AE$1003))+1), ROW(370:370))),\"\")","v":"__ID_15__D_N"},{"$f":"IF(AF382=\"\",\"\",IF(COUNTIF(CurrentListing,AF382)>1,AJ382,\"\"))","v":""},{"$f":"IF(LEN(AF382)=0,\"\",IF(ISNA(MATCH(AF382,MasterListing,0)),AJ382,\"\"))","v":""},null,"__ID_14__TRAN_N","","ID14TRANN","__ID_14__TRAN_N",1,"______",null,null,null,null,{"$f":"IF(ISNUMBER(SEARCH($F$6,AP381)),MAX($AO$11:AO380)+1,0)","v":370},0,{"$f":"ROWS($AQ$12:AQ381)","v":370},{"$f":"IFERROR(VLOOKUP(ROWS($AR$12:AR381),$AO$12:$AP$3014,2,0),\"\")","v":0}]
[null,null,null,null,null,null,null,null,null,null,null,null,null,null,null,null,null,null,null,null,null,null,null,null,null,null,{"$f":"IFERROR(INDEX($AE$13:$AE$1003, SMALL(IF(ISBLANK($AE$13:$AE$1003)+ISERROR($AE$13:$AE$1003)+LEN($AE$13:$AE$1003)=0, \"\", ROW($AE$13:$AE$1003)-MIN(ROW($AE$13:$AE$1003))+1), ROW(371:371))),\"\")","v":"__ID_15__DROPOUT_N"},{"$f":"IF(AF383=\"\",\"\",IF(COUNTIF(CurrentListing,AF383)>1,AJ383,\"\"))","v":""},{"$f":"IF(LEN(AF383)=0,\"\",IF(ISNA(MATCH(AF383,MasterListing,0)),AJ383,\"\"))","v":""},null,"__ID_15__D_N","","ID15DN","__ID_15__D_N",1,"______",null,null,null,null,{"$f":"IF(ISNUMBER(SEARCH($F$6,AP382)),MAX($AO$11:AO381)+1,0)","v":371},0,{"$f":"ROWS($AQ$12:AQ382)","v":371},{"$f":"IFERROR(VLOOKUP(ROWS($AR$12:AR382),$AO$12:$AP$3014,2,0),\"\")","v":0}]
[null,null,null,null,null,null,null,null,null,null,null,null,null,null,null,null,null,null,null,null,null,null,null,null,null,null,{"$f":"IFERROR(INDEX($AE$13:$AE$1003, SMALL(IF(ISBLANK($AE$13:$AE$1003)+ISERROR($AE$13:$AE$1003)+LEN($AE$13:$AE$1003)=0, \"\", ROW($AE$13:$AE$1003)-MIN(ROW($AE$13:$AE$1003))+1), ROW(372:372))),\"\")","v":"__ID_15__GHS_N"},{"$f":"IF(AF384=\"\",\"\",IF(COUNTIF(CurrentListing,AF384)>1,AJ384,\"\"))","v":""},{"$f":"IF(LEN(AF384)=0,\"\",IF(ISNA(MATCH(AF384,MasterListing,0)),AJ384,\"\"))","v":""},null,"__ID_15__DROPOUT_N","","ID15DROPOUTN","__ID_15__DROPOUT_N",1,"______",null,null,null,null,{"$f":"IF(ISNUMBER(SEARCH($F$6,AP383)),MAX($AO$11:AO382)+1,0)","v":372},0,{"$f":"ROWS($AQ$12:AQ383)","v":372},{"$f":"IFERROR(VLOOKUP(ROWS($AR$12:AR383),$AO$12:$AP$3014,2,0),\"\")","v":0}]
[null,null,null,null,null,null,null,null,null,null,null,null,null,null,null,null,null,null,null,null,null,null,null,null,null,null,{"$f":"IFERROR(INDEX($AE$13:$AE$1003, SMALL(IF(ISBLANK($AE$13:$AE$1003)+ISERROR($AE$13:$AE$1003)+LEN($AE$13:$AE$1003)=0, \"\", ROW($AE$13:$AE$1003)-MIN(ROW($AE$13:$AE$1003))+1), ROW(373:373))),\"\")","v":"__ID_15__GRADALTDPL_N"},{"$f":"IF(AF385=\"\",\"\",IF(COUNTIF(CurrentListing,AF385)>1,AJ385,\"\"))","v":""},{"$f":"IF(LEN(AF385)=0,\"\",IF(ISNA(MATCH(AF385,MasterListing,0)),AJ385,\"\"))","v":""},null,"__ID_15__GHS_N","","ID15GHSN","__ID_15__GHS_N",1,"______",null,null,null,null,{"$f":"IF(ISNUMBER(SEARCH($F$6,AP384)),MAX($AO$11:AO383)+1,0)","v":373},0,{"$f":"ROWS($AQ$12:AQ384)","v":373},{"$f":"IFERROR(VLOOKUP(ROWS($AR$12:AR384),$AO$12:$AP$3014,2,0),\"\")","v":0}]
[null,null,null,null,null,null,null,null,null,null,null,null,null,null,null,null,null,null,null,null,null,null,null,null,null,null,{"$f":"IFERROR(INDEX($AE$13:$AE$1003, SMALL(IF(ISBLANK($AE$13:$AE$1003)+ISERROR($AE$13:$AE$1003)+LEN($AE$13:$AE$1003)=0, \"\", ROW($AE$13:$AE$1003)-MIN(ROW($AE$13:$AE$1003))+1), ROW(374:374))),\"\")","v":"__ID_15__MKC_N"},{"$f":"IF(AF386=\"\",\"\",IF(COUNTIF(CurrentListing,AF386)>1,AJ386,\"\"))","v":""},{"$f":"IF(LEN(AF386)=0,\"\",IF(ISNA(MATCH(AF386,MasterListing,0)),AJ386,\"\"))","v":""},null,"__ID_15__GRADALTDPL_N","","ID15GRADALTDPLN","__ID_15__GRADALTDPL_N",1,"______",null,null,null,null,{"$f":"IF(ISNUMBER(SEARCH($F$6,AP385)),MAX($AO$11:AO384)+1,0)","v":374},0,{"$f":"ROWS($AQ$12:AQ385)","v":374},{"$f":"IFERROR(VLOOKUP(ROWS($AR$12:AR385),$AO$12:$AP$3014,2,0),\"\")","v":0}]
[null,null,null,null,null,null,null,null,null,null,null,null,null,null,null,null,null,null,null,null,null,null,null,null,null,null,{"$f":"IFERROR(INDEX($AE$13:$AE$1003, SMALL(IF(ISBLANK($AE$13:$AE$1003)+ISERROR($AE$13:$AE$1003)+LEN($AE$13:$AE$1003)=0, \"\", ROW($AE$13:$AE$1003)-MIN(ROW($AE$13:$AE$1003))+1), ROW(375:375))),\"\")","v":"__ID_15__RC_N"},{"$f":"IF(AF387=\"\",\"\",IF(COUNTIF(CurrentListing,AF387)>1,AJ387,\"\"))","v":""},{"$f":"IF(LEN(AF387)=0,\"\",IF(ISNA(MATCH(AF387,MasterListing,0)),AJ387,\"\"))","v":""},null,"__ID_15__MKC_N","","ID15MKCN","__ID_15__MKC_N",1,"______",null,null,null,null,{"$f":"IF(ISNUMBER(SEARCH($F$6,AP386)),MAX($AO$11:AO385)+1,0)","v":375},0,{"$f":"ROWS($AQ$12:AQ386)","v":375},{"$f":"IFERROR(VLOOKUP(ROWS($AR$12:AR386),$AO$12:$AP$3014,2,0),\"\")","v":0}]
[null,null,null,null,null,null,null,null,null,null,null,null,null,null,null,null,null,null,null,null,null,null,null,null,null,null,{"$f":"IFERROR(INDEX($AE$13:$AE$1003, SMALL(IF(ISBLANK($AE$13:$AE$1003)+ISERROR($AE$13:$AE$1003)+LEN($AE$13:$AE$1003)=0, \"\", ROW($AE$13:$AE$1003)-MIN(ROW($AE$13:$AE$1003))+1), ROW(376:376))),\"\")","v":"__ID_15__RMA_N"},{"$f":"IF(AF388=\"\",\"\",IF(COUNTIF(CurrentListing,AF388)>1,AJ388,\"\"))","v":""},{"$f":"IF(LEN(AF388)=0,\"\",IF(ISNA(MATCH(AF388,MasterListing,0)),AJ388,\"\"))","v":""},null,"__ID_15__RC_N","","ID15RCN","__ID_15__RC_N",1,"______",null,null,null,null,{"$f":"IF(ISNUMBER(SEARCH($F$6,AP387)),MAX($AO$11:AO386)+1,0)","v":376},0,{"$f":"ROWS($AQ$12:AQ387)","v":376},{"$f":"IFERROR(VLOOKUP(ROWS($AR$12:AR387),$AO$12:$AP$3014,2,0),\"\")","v":0}]
[null,null,null,null,null,null,null,null,null,null,null,null,null,null,null,null,null,null,null,null,null,null,null,null,null,null,{"$f":"IFERROR(INDEX($AE$13:$AE$1003, SMALL(IF(ISBLANK($AE$13:$AE$1003)+ISERROR($AE$13:$AE$1003)+LEN($AE$13:$AE$1003)=0, \"\", ROW($AE$13:$AE$1003)-MIN(ROW($AE$13:$AE$1003))+1), ROW(377:377))),\"\")","v":"__ID_15__TRAN_N"},{"$f":"IF(AF389=\"\",\"\",IF(COUNTIF(CurrentListing,AF389)>1,AJ389,\"\"))","v":""},{"$f":"IF(LEN(AF389)=0,\"\",IF(ISNA(MATCH(AF389,MasterListing,0)),AJ389,\"\"))","v":""},null,"__ID_15__RMA_N","","ID15RMAN","__ID_15__RMA_N",1,"______",null,null,null,null,{"$f":"IF(ISNUMBER(SEARCH($F$6,AP388)),MAX($AO$11:AO387)+1,0)","v":377},0,{"$f":"ROWS($AQ$12:AQ388)","v":377},{"$f":"IFERROR(VLOOKUP(ROWS($AR$12:AR388),$AO$12:$AP$3014,2,0),\"\")","v":0}]
[null,null,null,null,null,null,null,null,null,null,null,null,null,null,null,null,null,null,null,null,null,null,null,null,null,null,{"$f":"IFERROR(INDEX($AE$13:$AE$1003, SMALL(IF(ISBLANK($AE$13:$AE$1003)+ISERROR($AE$13:$AE$1003)+LEN($AE$13:$AE$1003)=0, \"\", ROW($AE$13:$AE$1003)-MIN(ROW($AE$13:$AE$1003))+1), ROW(378:378))),\"\")","v":"__ID_16__D_N"},{"$f":"IF(AF390=\"\",\"\",IF(COUNTIF(CurrentListing,AF390)>1,AJ390,\"\"))","v":""},{"$f":"IF(LEN(AF390)=0,\"\",IF(ISNA(MATCH(AF390,MasterListing,0)),AJ390,\"\"))","v":""},null,"__ID_15__TRAN_N","","ID15TRANN","__ID_15__TRAN_N",1,"______",null,null,null,null,{"$f":"IF(ISNUMBER(SEARCH($F$6,AP389)),MAX($AO$11:AO388)+1,0)","v":378},0,{"$f":"ROWS($AQ$12:AQ389)","v":378},{"$f":"IFERROR(VLOOKUP(ROWS($AR$12:AR389),$AO$12:$AP$3014,2,0),\"\")","v":0}]
[null,null,null,null,null,null,null,null,null,null,null,null,null,null,null,null,null,null,null,null,null,null,null,null,null,null,{"$f":"IFERROR(INDEX($AE$13:$AE$1003, SMALL(IF(ISBLANK($AE$13:$AE$1003)+ISERROR($AE$13:$AE$1003)+LEN($AE$13:$AE$1003)=0, \"\", ROW($AE$13:$AE$1003)-MIN(ROW($AE$13:$AE$1003))+1), ROW(379:379))),\"\")","v":"__ID_16__DROPOUT_N"},{"$f":"IF(AF391=\"\",\"\",IF(COUNTIF(CurrentListing,AF391)>1,AJ391,\"\"))","v":""},{"$f":"IF(LEN(AF391)=0,\"\",IF(ISNA(MATCH(AF391,MasterListing,0)),AJ391,\"\"))","v":""},null,"__ID_16__D_N","","ID16DN","__ID_16__D_N",1,"______",null,null,null,null,{"$f":"IF(ISNUMBER(SEARCH($F$6,AP390)),MAX($AO$11:AO389)+1,0)","v":379},0,{"$f":"ROWS($AQ$12:AQ390)","v":379},{"$f":"IFERROR(VLOOKUP(ROWS($AR$12:AR390),$AO$12:$AP$3014,2,0),\"\")","v":0}]
[null,null,null,null,null,null,null,null,null,null,null,null,null,null,null,null,null,null,null,null,null,null,null,null,null,null,{"$f":"IFERROR(INDEX($AE$13:$AE$1003, SMALL(IF(ISBLANK($AE$13:$AE$1003)+ISERROR($AE$13:$AE$1003)+LEN($AE$13:$AE$1003)=0, \"\", ROW($AE$13:$AE$1003)-MIN(ROW($AE$13:$AE$1003))+1), ROW(380:380))),\"\")","v":"__ID_16__GHS_N"},{"$f":"IF(AF392=\"\",\"\",IF(COUNTIF(CurrentListing,AF392)>1,AJ392,\"\"))","v":""},{"$f":"IF(LEN(AF392)=0,\"\",IF(ISNA(MATCH(AF392,MasterListing,0)),AJ392,\"\"))","v":""},null,"__ID_16__DROPOUT_N","","ID16DROPOUTN","__ID_16__DROPOUT_N",1,"______",null,null,null,null,{"$f":"IF(ISNUMBER(SEARCH($F$6,AP391)),MAX($AO$11:AO390)+1,0)","v":380},0,{"$f":"ROWS($AQ$12:AQ391)","v":380},{"$f":"IFERROR(VLOOKUP(ROWS($AR$12:AR391),$AO$12:$AP$3014,2,0),\"\")","v":0}]
[null,null,null,null,null,null,null,null,null,null,null,null,null,null,null,null,null,null,null,null,null,null,null,null,null,null,{"$f":"IFERROR(INDEX($AE$13:$AE$1003, SMALL(IF(ISBLANK($AE$13:$AE$1003)+ISERROR($AE$13:$AE$1003)+LEN($AE$13:$AE$1003)=0, \"\", ROW($AE$13:$AE$1003)-MIN(ROW($AE$13:$AE$1003))+1), ROW(381:381))),\"\")","v":"__ID_16__GRADALTDPL_N"},{"$f":"IF(AF393=\"\",\"\",IF(COUNTIF(CurrentListing,AF393)>1,AJ393,\"\"))","v":""},{"$f":"IF(LEN(AF393)=0,\"\",IF(ISNA(MATCH(AF393,MasterListing,0)),AJ393,\"\"))","v":""},null,"__ID_16__GHS_N","","ID16GHSN","__ID_16__GHS_N",1,"______",null,null,null,null,{"$f":"IF(ISNUMBER(SEARCH($F$6,AP392)),MAX($AO$11:AO391)+1,0)","v":381},0,{"$f":"ROWS($AQ$12:AQ392)","v":381},{"$f":"IFERROR(VLOOKUP(ROWS($AR$12:AR392),$AO$12:$AP$3014,2,0),\"\")","v":0}]
[null,null,null,null,null,null,null,null,null,null,null,null,null,null,null,null,null,null,null,null,null,null,null,null,null,null,{"$f":"IFERROR(INDEX($AE$13:$AE$1003, SMALL(IF(ISBLANK($AE$13:$AE$1003)+ISERROR($AE$13:$AE$1003)+LEN($AE$13:$AE$1003)=0, \"\", ROW($AE$13:$AE$1003)-MIN(ROW($AE$13:$AE$1003))+1), ROW(382:382))),\"\")","v":"__ID_16__MKC_N"},{"$f":"IF(AF394=\"\",\"\",IF(COUNTIF(CurrentListing,AF394)>1,AJ394,\"\"))","v":""},{"$f":"IF(LEN(AF394)=0,\"\",IF(ISNA(MATCH(AF394,MasterListing,0)),AJ394,\"\"))","v":""},null,"__ID_16__GRADALTDPL_N","","ID16GRADALTDPLN","__ID_16__GRADALTDPL_N",1,"______",null,null,null,null,{"$f":"IF(ISNUMBER(SEARCH($F$6,AP393)),MAX($AO$11:AO392)+1,0)","v":382},0,{"$f":"ROWS($AQ$12:AQ393)","v":382},{"$f":"IFERROR(VLOOKUP(ROWS($AR$12:AR393),$AO$12:$AP$3014,2,0),\"\")","v":0}]
[null,null,null,null,null,null,null,null,null,null,null,null,null,null,null,null,null,null,null,null,null,null,null,null,null,null,{"$f":"IFERROR(INDEX($AE$13:$AE$1003, SMALL(IF(ISBLANK($AE$13:$AE$1003)+ISERROR($AE$13:$AE$1003)+LEN($AE$13:$AE$1003)=0, \"\", ROW($AE$13:$AE$1003)-MIN(ROW($AE$13:$AE$1003))+1), ROW(383:383))),\"\")","v":"__ID_16__RC_N"},{"$f":"IF(AF395=\"\",\"\",IF(COUNTIF(CurrentListing,AF395)>1,AJ395,\"\"))","v":""},{"$f":"IF(LEN(AF395)=0,\"\",IF(ISNA(MATCH(AF395,MasterListing,0)),AJ395,\"\"))","v":""},null,"__ID_16__MKC_N","","ID16MKCN","__ID_16__MKC_N",1,"______",null,null,null,null,{"$f":"IF(ISNUMBER(SEARCH($F$6,AP394)),MAX($AO$11:AO393)+1,0)","v":383},0,{"$f":"ROWS($AQ$12:AQ394)","v":383},{"$f":"IFERROR(VLOOKUP(ROWS($AR$12:AR394),$AO$12:$AP$3014,2,0),\"\")","v":0}]
[null,null,null,null,null,null,null,null,null,null,null,null,null,null,null,null,null,null,null,null,null,null,null,null,null,null,{"$f":"IFERROR(INDEX($AE$13:$AE$1003, SMALL(IF(ISBLANK($AE$13:$AE$1003)+ISERROR($AE$13:$AE$1003)+LEN($AE$13:$AE$1003)=0, \"\", ROW($AE$13:$AE$1003)-MIN(ROW($AE$13:$AE$1003))+1), ROW(384:384))),\"\")","v":"__ID_16__RMA_N"},{"$f":"IF(AF396=\"\",\"\",IF(COUNTIF(CurrentListing,AF396)>1,AJ396,\"\"))","v":""},{"$f":"IF(LEN(AF396)=0,\"\",IF(ISNA(MATCH(AF396,MasterListing,0)),AJ396,\"\"))","v":""},null,"__ID_16__RC_N","","ID16RCN","__ID_16__RC_N",1,"______",null,null,null,null,{"$f":"IF(ISNUMBER(SEARCH($F$6,AP395)),MAX($AO$11:AO394)+1,0)","v":384},0,{"$f":"ROWS($AQ$12:AQ395)","v":384},{"$f":"IFERROR(VLOOKUP(ROWS($AR$12:AR395),$AO$12:$AP$3014,2,0),\"\")","v":0}]
[null,null,null,null,null,null,null,null,null,null,null,null,null,null,null,null,null,null,null,null,null,null,null,null,null,null,{"$f":"IFERROR(INDEX($AE$13:$AE$1003, SMALL(IF(ISBLANK($AE$13:$AE$1003)+ISERROR($AE$13:$AE$1003)+LEN($AE$13:$AE$1003)=0, \"\", ROW($AE$13:$AE$1003)-MIN(ROW($AE$13:$AE$1003))+1), ROW(385:385))),\"\")","v":"__ID_16__TRAN_N"},{"$f":"IF(AF397=\"\",\"\",IF(COUNTIF(CurrentListing,AF397)>1,AJ397,\"\"))","v":""},{"$f":"IF(LEN(AF397)=0,\"\",IF(ISNA(MATCH(AF397,MasterListing,0)),AJ397,\"\"))","v":""},null,{"$f":"IF(LEN(AG396)=0,\"\",IF(ISNA(MATCH(AG396,CurrentListing,0)),AH396,\"\"))","v":"__ID_16__RMA_N"},"","ID16RMAN","__ID_16__RMA_N",1,"______",null,null,null,null,{"$f":"IF(ISNUMBER(SEARCH($F$6,AP396)),MAX($AO$11:AO395)+1,0)","v":385},0,{"$f":"ROWS($AQ$12:AQ396)","v":385},{"$f":"IFERROR(VLOOKUP(ROWS($AR$12:AR396),$AO$12:$AP$3014,2,0),\"\")","v":0}]
[null,null,null,null,null,null,null,null,null,null,null,null,null,null,null,null,null,null,null,null,null,null,null,null,null,null,{"$f":"IFERROR(INDEX($AE$13:$AE$1003, SMALL(IF(ISBLANK($AE$13:$AE$1003)+ISERROR($AE$13:$AE$1003)+LEN($AE$13:$AE$1003)=0, \"\", ROW($AE$13:$AE$1003)-MIN(ROW($AE$13:$AE$1003))+1), ROW(386:386))),\"\")","v":"__ID_17__D_N"},{"$f":"IF(AF398=\"\",\"\",IF(COUNTIF(CurrentListing,AF398)>1,AJ398,\"\"))","v":""},{"$f":"IF(LEN(AF398)=0,\"\",IF(ISNA(MATCH(AF398,MasterListing,0)),AJ398,\"\"))","v":""},null,"__ID_16__TRAN_N",{"$f":"H397&I397&P397&Q397&R397&V397&W397","v":""},"ID16TRANN","__ID_16__TRAN_N",1,"______",null,null,null,null,{"$f":"IF(ISNUMBER(SEARCH($F$6,AP397)),MAX($AO$11:AO396)+1,0)","v":386},0,{"$f":"ROWS($AQ$12:AQ397)","v":386},{"$f":"IFERROR(VLOOKUP(ROWS($AR$12:AR397),$AO$12:$AP$3014,2,0),\"\")","v":0}]
[null,null,null,null,null,null,null,null,null,null,null,null,null,null,null,null,null,null,null,null,null,null,null,null,null,null,{"$f":"IFERROR(INDEX($AE$13:$AE$1003, SMALL(IF(ISBLANK($AE$13:$AE$1003)+ISERROR($AE$13:$AE$1003)+LEN($AE$13:$AE$1003)=0, \"\", ROW($AE$13:$AE$1003)-MIN(ROW($AE$13:$AE$1003))+1), ROW(387:387))),\"\")","v":"__ID_17__DROPOUT_N"},{"$f":"IF(AF399=\"\",\"\",IF(COUNTIF(CurrentListing,AF399)>1,AJ399,\"\"))","v":""},{"$f":"IF(LEN(AF399)=0,\"\",IF(ISNA(MATCH(AF399,MasterListing,0)),AJ399,\"\"))","v":""},null,"__ID_17__D_N","","ID17DN","__ID_17__D_N",{"$f":"IF(LEN(AA398)>0,1,0)","v":1},{"$f":"H398&\"_\"&I398&\"_\"&P398&\"_\"&Q398&\"_\"&R398&\"_\"&V398&\"_\"&W398","v":"______"},null,null,null,null,{"$f":"IF(ISNUMBER(SEARCH($F$6,AP398)),MAX($AO$11:AO397)+1,0)","v":387},0,{"$f":"ROWS($AQ$12:AQ398)","v":387},{"$f":"IFERROR(VLOOKUP(ROWS($AR$12:AR398),$AO$12:$AP$3014,2,0),\"\")","v":0}]
[null,null,null,null,null,null,null,null,null,null,null,null,null,null,null,null,null,null,null,null,null,null,null,null,null,null,{"$f":"IFERROR(INDEX($AE$13:$AE$1003, SMALL(IF(ISBLANK($AE$13:$AE$1003)+ISERROR($AE$13:$AE$1003)+LEN($AE$13:$AE$1003)=0, \"\", ROW($AE$13:$AE$1003)-MIN(ROW($AE$13:$AE$1003))+1), ROW(388:388))),\"\")","v":"__ID_17__GHS_N"},{"$f":"IF(AF400=\"\",\"\",IF(COUNTIF(CurrentListing,AF400)>1,AJ400,\"\"))","v":""},{"$f":"IF(LEN(AF400)=0,\"\",IF(ISNA(MATCH(AF400,MasterListing,0)),AJ400,\"\"))","v":""},null,"__ID_17__DROPOUT_N","","ID17DROPOUTN","__ID_17__DROPOUT_N",1,"______",null,null,null,null,{"$f":"IF(ISNUMBER(SEARCH($F$6,AP399)),MAX($AO$11:AO398)+1,0)","v":388},0,{"$f":"ROWS($AQ$12:AQ399)","v":388},{"$f":"IFERROR(VLOOKUP(ROWS($AR$12:AR399),$AO$12:$AP$3014,2,0),\"\")","v":0}]
[null,null,null,null,null,null,null,null,null,null,null,null,null,null,null,null,null,null,null,null,null,null,null,null,null,null,{"$f":"IFERROR(INDEX($AE$13:$AE$1003, SMALL(IF(ISBLANK($AE$13:$AE$1003)+ISERROR($AE$13:$AE$1003)+LEN($AE$13:$AE$1003)=0, \"\", ROW($AE$13:$AE$1003)-MIN(ROW($AE$13:$AE$1003))+1), ROW(389:389))),\"\")","v":"__ID_17__GRADALTDPL_N"},{"$f":"IF(AF401=\"\",\"\",IF(COUNTIF(CurrentListing,AF401)>1,AJ401,\"\"))","v":""},{"$f":"IF(LEN(AF401)=0,\"\",IF(ISNA(MATCH(AF401,MasterListing,0)),AJ401,\"\"))","v":""},null,"__ID_17__GHS_N","","ID17GHSN","__ID_17__GHS_N",1,"______",null,null,null,null,{"$f":"IF(ISNUMBER(SEARCH($F$6,AP400)),MAX($AO$11:AO399)+1,0)","v":389},0,{"$f":"ROWS($AQ$12:AQ400)","v":389},{"$f":"IFERROR(VLOOKUP(ROWS($AR$12:AR400),$AO$12:$AP$3014,2,0),\"\")","v":0}]
[null,null,null,null,null,null,null,null,null,null,null,null,null,null,null,null,null,null,null,null,null,null,null,null,null,null,{"$f":"IFERROR(INDEX($AE$13:$AE$1003, SMALL(IF(ISBLANK($AE$13:$AE$1003)+ISERROR($AE$13:$AE$1003)+LEN($AE$13:$AE$1003)=0, \"\", ROW($AE$13:$AE$1003)-MIN(ROW($AE$13:$AE$1003))+1), ROW(390:390))),\"\")","v":"__ID_17__MKC_N"},{"$f":"IF(AF402=\"\",\"\",IF(COUNTIF(CurrentListing,AF402)>1,AJ402,\"\"))","v":""},{"$f":"IF(LEN(AF402)=0,\"\",IF(ISNA(MATCH(AF402,MasterListing,0)),AJ402,\"\"))","v":""},null,"__ID_17__GRADALTDPL_N","","ID17GRADALTDPLN","__ID_17__GRADALTDPL_N",1,"______",null,null,null,null,{"$f":"IF(ISNUMBER(SEARCH($F$6,AP401)),MAX($AO$11:AO400)+1,0)","v":390},0,{"$f":"ROWS($AQ$12:AQ401)","v":390},{"$f":"IFERROR(VLOOKUP(ROWS($AR$12:AR401),$AO$12:$AP$3014,2,0),\"\")","v":0}]
[null,null,null,null,null,null,null,null,null,null,null,null,null,null,null,null,null,null,null,null,null,null,null,null,null,null,{"$f":"IFERROR(INDEX($AE$13:$AE$1003, SMALL(IF(ISBLANK($AE$13:$AE$1003)+ISERROR($AE$13:$AE$1003)+LEN($AE$13:$AE$1003)=0, \"\", ROW($AE$13:$AE$1003)-MIN(ROW($AE$13:$AE$1003))+1), ROW(391:391))),\"\")","v":"__ID_17__RC_N"},{"$f":"IF(AF403=\"\",\"\",IF(COUNTIF(CurrentListing,AF403)>1,AJ403,\"\"))","v":""},{"$f":"IF(LEN(AF403)=0,\"\",IF(ISNA(MATCH(AF403,MasterListing,0)),AJ403,\"\"))","v":""},null,"__ID_17__MKC_N","","ID17MKCN","__ID_17__MKC_N",1,"______",null,null,null,null,{"$f":"IF(ISNUMBER(SEARCH($F$6,AP402)),MAX($AO$11:AO401)+1,0)","v":391},0,{"$f":"ROWS($AQ$12:AQ402)","v":391},{"$f":"IFERROR(VLOOKUP(ROWS($AR$12:AR402),$AO$12:$AP$3014,2,0),\"\")","v":0}]
[null,null,null,null,null,null,null,null,null,null,null,null,null,null,null,null,null,null,null,null,null,null,null,null,null,null,{"$f":"IFERROR(INDEX($AE$13:$AE$1003, SMALL(IF(ISBLANK($AE$13:$AE$1003)+ISERROR($AE$13:$AE$1003)+LEN($AE$13:$AE$1003)=0, \"\", ROW($AE$13:$AE$1003)-MIN(ROW($AE$13:$AE$1003))+1), ROW(392:392))),\"\")","v":"__ID_17__RMA_N"},{"$f":"IF(AF404=\"\",\"\",IF(COUNTIF(CurrentListing,AF404)>1,AJ404,\"\"))","v":""},{"$f":"IF(LEN(AF404)=0,\"\",IF(ISNA(MATCH(AF404,MasterListing,0)),AJ404,\"\"))","v":""},null,"__ID_17__RC_N","","ID17RCN","__ID_17__RC_N",1,"______",null,null,null,null,{"$f":"IF(ISNUMBER(SEARCH($F$6,AP403)),MAX($AO$11:AO402)+1,0)","v":392},0,{"$f":"ROWS($AQ$12:AQ403)","v":392},{"$f":"IFERROR(VLOOKUP(ROWS($AR$12:AR403),$AO$12:$AP$3014,2,0),\"\")","v":0}]
[null,null,null,null,null,null,null,null,null,null,null,null,null,null,null,null,null,null,null,null,null,null,null,null,null,null,{"$f":"IFERROR(INDEX($AE$13:$AE$1003, SMALL(IF(ISBLANK($AE$13:$AE$1003)+ISERROR($AE$13:$AE$1003)+LEN($AE$13:$AE$1003)=0, \"\", ROW($AE$13:$AE$1003)-MIN(ROW($AE$13:$AE$1003))+1), ROW(393:393))),\"\")","v":"__ID_17__TRAN_N"},{"$f":"IF(AF405=\"\",\"\",IF(COUNTIF(CurrentListing,AF405)>1,AJ405,\"\"))","v":""},{"$f":"IF(LEN(AF405)=0,\"\",IF(ISNA(MATCH(AF405,MasterListing,0)),AJ405,\"\"))","v":""},null,"__ID_17__RMA_N","","ID17RMAN","__ID_17__RMA_N",1,"______",null,null,null,null,{"$f":"IF(ISNUMBER(SEARCH($F$6,AP404)),MAX($AO$11:AO403)+1,0)","v":393},0,{"$f":"ROWS($AQ$12:AQ404)","v":393},{"$f":"IFERROR(VLOOKUP(ROWS($AR$12:AR404),$AO$12:$AP$3014,2,0),\"\")","v":0}]
[null,null,null,null,null,null,null,null,null,null,null,null,null,null,null,null,null,null,null,null,null,null,null,null,null,null,{"$f":"IFERROR(INDEX($AE$13:$AE$1003, SMALL(IF(ISBLANK($AE$13:$AE$1003)+ISERROR($AE$13:$AE$1003)+LEN($AE$13:$AE$1003)=0, \"\", ROW($AE$13:$AE$1003)-MIN(ROW($AE$13:$AE$1003))+1), ROW(394:394))),\"\")","v":"__ID_18__D_N"},{"$f":"IF(AF406=\"\",\"\",IF(COUNTIF(CurrentListing,AF406)>1,AJ406,\"\"))","v":""},{"$f":"IF(LEN(AF406)=0,\"\",IF(ISNA(MATCH(AF406,MasterListing,0)),AJ406,\"\"))","v":""},null,"__ID_17__TRAN_N","","ID17TRANN","__ID_17__TRAN_N",1,"______",null,null,null,null,{"$f":"IF(ISNUMBER(SEARCH($F$6,AP405)),MAX($AO$11:AO404)+1,0)","v":394},0,{"$f":"ROWS($AQ$12:AQ405)","v":394},{"$f":"IFERROR(VLOOKUP(ROWS($AR$12:AR405),$AO$12:$AP$3014,2,0),\"\")","v":0}]
[null,null,null,null,null,null,null,null,null,null,null,null,null,null,null,null,null,null,null,null,null,null,null,null,null,null,{"$f":"IFERROR(INDEX($AE$13:$AE$1003, SMALL(IF(ISBLANK($AE$13:$AE$1003)+ISERROR($AE$13:$AE$1003)+LEN($AE$13:$AE$1003)=0, \"\", ROW($AE$13:$AE$1003)-MIN(ROW($AE$13:$AE$1003))+1), ROW(395:395))),\"\")","v":"__ID_18__DROPOUT_N"},{"$f":"IF(AF407=\"\",\"\",IF(COUNTIF(CurrentListing,AF407)>1,AJ407,\"\"))","v":""},{"$f":"IF(LEN(AF407)=0,\"\",IF(ISNA(MATCH(AF407,MasterListing,0)),AJ407,\"\"))","v":""},null,"__ID_18__D_N","","ID18DN","__ID_18__D_N",1,"______",null,null,null,null,{"$f":"IF(ISNUMBER(SEARCH($F$6,AP406)),MAX($AO$11:AO405)+1,0)","v":395},0,{"$f":"ROWS($AQ$12:AQ406)","v":395},{"$f":"IFERROR(VLOOKUP(ROWS($AR$12:AR406),$AO$12:$AP$3014,2,0),\"\")","v":0}]
[null,null,null,null,null,null,null,null,null,null,null,null,null,null,null,null,null,null,null,null,null,null,null,null,null,null,{"$f":"IFERROR(INDEX($AE$13:$AE$1003, SMALL(IF(ISBLANK($AE$13:$AE$1003)+ISERROR($AE$13:$AE$1003)+LEN($AE$13:$AE$1003)=0, \"\", ROW($AE$13:$AE$1003)-MIN(ROW($AE$13:$AE$1003))+1), ROW(396:396))),\"\")","v":"__ID_18__GHS_N"},{"$f":"IF(AF408=\"\",\"\",IF(COUNTIF(CurrentListing,AF408)>1,AJ408,\"\"))","v":""},{"$f":"IF(LEN(AF408)=0,\"\",IF(ISNA(MATCH(AF408,MasterListing,0)),AJ408,\"\"))","v":""},null,"__ID_18__DROPOUT_N","","ID18DROPOUTN","__ID_18__DROPOUT_N",1,"______",null,null,null,null,{"$f":"IF(ISNUMBER(SEARCH($F$6,AP407)),MAX($AO$11:AO406)+1,0)","v":396},0,{"$f":"ROWS($AQ$12:AQ407)","v":396},{"$f":"IFERROR(VLOOKUP(ROWS($AR$12:AR407),$AO$12:$AP$3014,2,0),\"\")","v":0}]
[null,null,null,null,null,null,null,null,null,null,null,null,null,null,null,null,null,null,null,null,null,null,null,null,null,null,{"$f":"IFERROR(INDEX($AE$13:$AE$1003, SMALL(IF(ISBLANK($AE$13:$AE$1003)+ISERROR($AE$13:$AE$1003)+LEN($AE$13:$AE$1003)=0, \"\", ROW($AE$13:$AE$1003)-MIN(ROW($AE$13:$AE$1003))+1), ROW(397:397))),\"\")","v":"__ID_18__GRADALTDPL_N"},{"$f":"IF(AF409=\"\",\"\",IF(COUNTIF(CurrentListing,AF409)>1,AJ409,\"\"))","v":""},{"$f":"IF(LEN(AF409)=0,\"\",IF(ISNA(MATCH(AF409,MasterListing,0)),AJ409,\"\"))","v":""},null,"__ID_18__GHS_N","","ID18GHSN","__ID_18__GHS_N",1,"______",null,null,null,null,{"$f":"IF(ISNUMBER(SEARCH($F$6,AP408)),MAX($AO$11:AO407)+1,0)","v":397},0,{"$f":"ROWS($AQ$12:AQ408)","v":397},{"$f":"IFERROR(VLOOKUP(ROWS($AR$12:AR408),$AO$12:$AP$3014,2,0),\"\")","v":0}]
[null,null,null,null,null,null,null,null,null,null,null,null,null,null,null,null,null,null,null,null,null,null,null,null,null,null,{"$f":"IFERROR(INDEX($AE$13:$AE$1003, SMALL(IF(ISBLANK($AE$13:$AE$1003)+ISERROR($AE$13:$AE$1003)+LEN($AE$13:$AE$1003)=0, \"\", ROW($AE$13:$AE$1003)-MIN(ROW($AE$13:$AE$1003))+1), ROW(398:398))),\"\")","v":"__ID_18__MKC_N"},{"$f":"IF(AF410=\"\",\"\",IF(COUNTIF(CurrentListing,AF410)>1,AJ410,\"\"))","v":""},{"$f":"IF(LEN(AF410)=0,\"\",IF(ISNA(MATCH(AF410,MasterListing,0)),AJ410,\"\"))","v":""},null,"__ID_18__GRADALTDPL_N","","ID18GRADALTDPLN","__ID_18__GRADALTDPL_N",1,"______",null,null,null,null,{"$f":"IF(ISNUMBER(SEARCH($F$6,AP409)),MAX($AO$11:AO408)+1,0)","v":398},0,{"$f":"ROWS($AQ$12:AQ409)","v":398},{"$f":"IFERROR(VLOOKUP(ROWS($AR$12:AR409),$AO$12:$AP$3014,2,0),\"\")","v":0}]
[null,null,null,null,null,null,null,null,null,null,null,null,null,null,null,null,null,null,null,null,null,null,null,null,null,null,{"$f":"IFERROR(INDEX($AE$13:$AE$1003, SMALL(IF(ISBLANK($AE$13:$AE$1003)+ISERROR($AE$13:$AE$1003)+LEN($AE$13:$AE$1003)=0, \"\", ROW($AE$13:$AE$1003)-MIN(ROW($AE$13:$AE$1003))+1), ROW(399:399))),\"\")","v":"__ID_18__RC_N"},{"$f":"IF(AF411=\"\",\"\",IF(COUNTIF(CurrentListing,AF411)>1,AJ411,\"\"))","v":""},{"$f":"IF(LEN(AF411)=0,\"\",IF(ISNA(MATCH(AF411,MasterListing,0)),AJ411,\"\"))","v":""},null,"__ID_18__MKC_N","","ID18MKCN","__ID_18__MKC_N",1,"______",null,null,null,null,{"$f":"IF(ISNUMBER(SEARCH($F$6,AP410)),MAX($AO$11:AO409)+1,0)","v":399},0,{"$f":"ROWS($AQ$12:AQ410)","v":399},{"$f":"IFERROR(VLOOKUP(ROWS($AR$12:AR410),$AO$12:$AP$3014,2,0),\"\")","v":0}]
[null,null,null,null,null,null,null,null,null,null,null,null,null,null,null,null,null,null,null,null,null,null,null,null,null,null,{"$f":"IFERROR(INDEX($AE$13:$AE$1003, SMALL(IF(ISBLANK($AE$13:$AE$1003)+ISERROR($AE$13:$AE$1003)+LEN($AE$13:$AE$1003)=0, \"\", ROW($AE$13:$AE$1003)-MIN(ROW($AE$13:$AE$1003))+1), ROW(400:400))),\"\")","v":"__ID_18__RMA_N"},{"$f":"IF(AF412=\"\",\"\",IF(COUNTIF(CurrentListing,AF412)>1,AJ412,\"\"))","v":""},{"$f":"IF(LEN(AF412)=0,\"\",IF(ISNA(MATCH(AF412,MasterListing,0)),AJ412,\"\"))","v":""},null,"__ID_18__RC_N","","ID18RCN","__ID_18__RC_N",1,"______",null,null,null,null,{"$f":"IF(ISNUMBER(SEARCH($F$6,AP411)),MAX($AO$11:AO410)+1,0)","v":400},0,{"$f":"ROWS($AQ$12:AQ411)","v":400},{"$f":"IFERROR(VLOOKUP(ROWS($AR$12:AR411),$AO$12:$AP$3014,2,0),\"\")","v":0}]
[null,null,null,null,null,null,null,null,null,null,null,null,null,null,null,null,null,null,null,null,null,null,null,null,null,null,{"$f":"IFERROR(INDEX($AE$13:$AE$1003, SMALL(IF(ISBLANK($AE$13:$AE$1003)+ISERROR($AE$13:$AE$1003)+LEN($AE$13:$AE$1003)=0, \"\", ROW($AE$13:$AE$1003)-MIN(ROW($AE$13:$AE$1003))+1), ROW(401:401))),\"\")","v":"__ID_18__TRAN_N"},{"$f":"IF(AF413=\"\",\"\",IF(COUNTIF(CurrentListing,AF413)>1,AJ413,\"\"))","v":""},{"$f":"IF(LEN(AF413)=0,\"\",IF(ISNA(MATCH(AF413,MasterListing,0)),AJ413,\"\"))","v":""},null,"__ID_18__RMA_N","","ID18RMAN","__ID_18__RMA_N",1,"______",null,null,null,null,{"$f":"IF(ISNUMBER(SEARCH($F$6,AP412)),MAX($AO$11:AO411)+1,0)","v":401},0,{"$f":"ROWS($AQ$12:AQ412)","v":401},{"$f":"IFERROR(VLOOKUP(ROWS($AR$12:AR412),$AO$12:$AP$3014,2,0),\"\")","v":0}]
[null,null,null,null,null,null,null,null,null,null,null,null,null,null,null,null,null,null,null,null,null,null,null,null,null,null,{"$f":"IFERROR(INDEX($AE$13:$AE$1003, SMALL(IF(ISBLANK($AE$13:$AE$1003)+ISERROR($AE$13:$AE$1003)+LEN($AE$13:$AE$1003)=0, \"\", ROW($AE$13:$AE$1003)-MIN(ROW($AE$13:$AE$1003))+1), ROW(402:402))),\"\")","v":"__ID_19__D_N"},{"$f":"IF(AF414=\"\",\"\",IF(COUNTIF(CurrentListing,AF414)>1,AJ414,\"\"))","v":""},{"$f":"IF(LEN(AF414)=0,\"\",IF(ISNA(MATCH(AF414,MasterListing,0)),AJ414,\"\"))","v":""},null,"__ID_18__TRAN_N","","ID18TRANN","__ID_18__TRAN_N",1,"______",null,null,null,null,{"$f":"IF(ISNUMBER(SEARCH($F$6,AP413)),MAX($AO$11:AO412)+1,0)","v":402},0,{"$f":"ROWS($AQ$12:AQ413)","v":402},{"$f":"IFERROR(VLOOKUP(ROWS($AR$12:AR413),$AO$12:$AP$3014,2,0),\"\")","v":0}]
[null,null,null,null,null,null,null,null,null,null,null,null,null,null,null,null,null,null,null,null,null,null,null,null,null,null,{"$f":"IFERROR(INDEX($AE$13:$AE$1003, SMALL(IF(ISBLANK($AE$13:$AE$1003)+ISERROR($AE$13:$AE$1003)+LEN($AE$13:$AE$1003)=0, \"\", ROW($AE$13:$AE$1003)-MIN(ROW($AE$13:$AE$1003))+1), ROW(403:403))),\"\")","v":"__ID_19__DROPOUT_N"},{"$f":"IF(AF415=\"\",\"\",IF(COUNTIF(CurrentListing,AF415)>1,AJ415,\"\"))","v":""},{"$f":"IF(LEN(AF415)=0,\"\",IF(ISNA(MATCH(AF415,MasterListing,0)),AJ415,\"\"))","v":""},null,"__ID_19__D_N","","ID19DN","__ID_19__D_N",1,"______",null,null,null,null,{"$f":"IF(ISNUMBER(SEARCH($F$6,AP414)),MAX($AO$11:AO413)+1,0)","v":403},0,{"$f":"ROWS($AQ$12:AQ414)","v":403},{"$f":"IFERROR(VLOOKUP(ROWS($AR$12:AR414),$AO$12:$AP$3014,2,0),\"\")","v":0}]
[null,null,null,null,null,null,null,null,null,null,null,null,null,null,null,null,null,null,null,null,null,null,null,null,null,null,{"$f":"IFERROR(INDEX($AE$13:$AE$1003, SMALL(IF(ISBLANK($AE$13:$AE$1003)+ISERROR($AE$13:$AE$1003)+LEN($AE$13:$AE$1003)=0, \"\", ROW($AE$13:$AE$1003)-MIN(ROW($AE$13:$AE$1003))+1), ROW(404:404))),\"\")","v":"__ID_19__GHS_N"},{"$f":"IF(AF416=\"\",\"\",IF(COUNTIF(CurrentListing,AF416)>1,AJ416,\"\"))","v":""},{"$f":"IF(LEN(AF416)=0,\"\",IF(ISNA(MATCH(AF416,MasterListing,0)),AJ416,\"\"))","v":""},null,"__ID_19__DROPOUT_N","","ID19DROPOUTN","__ID_19__DROPOUT_N",1,"______",null,null,null,null,{"$f":"IF(ISNUMBER(SEARCH($F$6,AP415)),MAX($AO$11:AO414)+1,0)","v":404},0,{"$f":"ROWS($AQ$12:AQ415)","v":404},{"$f":"IFERROR(VLOOKUP(ROWS($AR$12:AR415),$AO$12:$AP$3014,2,0),\"\")","v":0}]
[null,null,null,null,null,null,null,null,null,null,null,null,null,null,null,null,null,null,null,null,null,null,null,null,null,null,{"$f":"IFERROR(INDEX($AE$13:$AE$1003, SMALL(IF(ISBLANK($AE$13:$AE$1003)+ISERROR($AE$13:$AE$1003)+LEN($AE$13:$AE$1003)=0, \"\", ROW($AE$13:$AE$1003)-MIN(ROW($AE$13:$AE$1003))+1), ROW(405:405))),\"\")","v":"__ID_19__GRADALTDPL_N"},{"$f":"IF(AF417=\"\",\"\",IF(COUNTIF(CurrentListing,AF417)>1,AJ417,\"\"))","v":""},{"$f":"IF(LEN(AF417)=0,\"\",IF(ISNA(MATCH(AF417,MasterListing,0)),AJ417,\"\"))","v":""},null,"__ID_19__GHS_N","","ID19GHSN","__ID_19__GHS_N",1,"______",null,null,null,null,{"$f":"IF(ISNUMBER(SEARCH($F$6,AP416)),MAX($AO$11:AO415)+1,0)","v":405},0,{"$f":"ROWS($AQ$12:AQ416)","v":405},{"$f":"IFERROR(VLOOKUP(ROWS($AR$12:AR416),$AO$12:$AP$3014,2,0),\"\")","v":0}]
[null,null,null,null,null,null,null,null,null,null,null,null,null,null,null,null,null,null,null,null,null,null,null,null,null,null,{"$f":"IFERROR(INDEX($AE$13:$AE$1003, SMALL(IF(ISBLANK($AE$13:$AE$1003)+ISERROR($AE$13:$AE$1003)+LEN($AE$13:$AE$1003)=0, \"\", ROW($AE$13:$AE$1003)-MIN(ROW($AE$13:$AE$1003))+1), ROW(406:406))),\"\")","v":"__ID_19__MKC_N"},{"$f":"IF(AF418=\"\",\"\",IF(COUNTIF(CurrentListing,AF418)>1,AJ418,\"\"))","v":""},{"$f":"IF(LEN(AF418)=0,\"\",IF(ISNA(MATCH(AF418,MasterListing,0)),AJ418,\"\"))","v":""},null,"__ID_19__GRADALTDPL_N","","ID19GRADALTDPLN","__ID_19__GRADALTDPL_N",1,"______",null,null,null,null,{"$f":"IF(ISNUMBER(SEARCH($F$6,AP417)),MAX($AO$11:AO416)+1,0)","v":406},0,{"$f":"ROWS($AQ$12:AQ417)","v":406},{"$f":"IFERROR(VLOOKUP(ROWS($AR$12:AR417),$AO$12:$AP$3014,2,0),\"\")","v":0}]
[null,null,null,null,null,null,null,null,null,null,null,null,null,null,null,null,null,null,null,null,null,null,null,null,null,null,{"$f":"IFERROR(INDEX($AE$13:$AE$1003, SMALL(IF(ISBLANK($AE$13:$AE$1003)+ISERROR($AE$13:$AE$1003)+LEN($AE$13:$AE$1003)=0, \"\", ROW($AE$13:$AE$1003)-MIN(ROW($AE$13:$AE$1003))+1), ROW(407:407))),\"\")","v":"__ID_19__RC_N"},{"$f":"IF(AF419=\"\",\"\",IF(COUNTIF(CurrentListing,AF419)>1,AJ419,\"\"))","v":""},{"$f":"IF(LEN(AF419)=0,\"\",IF(ISNA(MATCH(AF419,MasterListing,0)),AJ419,\"\"))","v":""},null,"__ID_19__MKC_N","","ID19MKCN","__ID_19__MKC_N",1,"______",null,null,null,null,{"$f":"IF(ISNUMBER(SEARCH($F$6,AP418)),MAX($AO$11:AO417)+1,0)","v":407},0,{"$f":"ROWS($AQ$12:AQ418)","v":407},{"$f":"IFERROR(VLOOKUP(ROWS($AR$12:AR418),$AO$12:$AP$3014,2,0),\"\")","v":0}]
[null,null,null,null,null,null,null,null,null,null,null,null,null,null,null,null,null,null,null,null,null,null,null,null,null,null,{"$f":"IFERROR(INDEX($AE$13:$AE$1003, SMALL(IF(ISBLANK($AE$13:$AE$1003)+ISERROR($AE$13:$AE$1003)+LEN($AE$13:$AE$1003)=0, \"\", ROW($AE$13:$AE$1003)-MIN(ROW($AE$13:$AE$1003))+1), ROW(408:408))),\"\")","v":"__ID_19__RMA_N"},{"$f":"IF(AF420=\"\",\"\",IF(COUNTIF(CurrentListing,AF420)>1,AJ420,\"\"))","v":""},{"$f":"IF(LEN(AF420)=0,\"\",IF(ISNA(MATCH(AF420,MasterListing,0)),AJ420,\"\"))","v":""},null,"__ID_19__RC_N","","ID19RCN","__ID_19__RC_N",1,"______",null,null,null,null,{"$f":"IF(ISNUMBER(SEARCH($F$6,AP419)),MAX($AO$11:AO418)+1,0)","v":408},0,{"$f":"ROWS($AQ$12:AQ419)","v":408},{"$f":"IFERROR(VLOOKUP(ROWS($AR$12:AR419),$AO$12:$AP$3014,2,0),\"\")","v":0}]
[null,null,null,null,null,null,null,null,null,null,null,null,null,null,null,null,null,null,null,null,null,null,null,null,null,null,{"$f":"IFERROR(INDEX($AE$13:$AE$1003, SMALL(IF(ISBLANK($AE$13:$AE$1003)+ISERROR($AE$13:$AE$1003)+LEN($AE$13:$AE$1003)=0, \"\", ROW($AE$13:$AE$1003)-MIN(ROW($AE$13:$AE$1003))+1), ROW(409:409))),\"\")","v":"__ID_19__TRAN_N"},{"$f":"IF(AF421=\"\",\"\",IF(COUNTIF(CurrentListing,AF421)>1,AJ421,\"\"))","v":""},{"$f":"IF(LEN(AF421)=0,\"\",IF(ISNA(MATCH(AF421,MasterListing,0)),AJ421,\"\"))","v":""},null,"__ID_19__RMA_N","","ID19RMAN","__ID_19__RMA_N",1,"______",null,null,null,null,{"$f":"IF(ISNUMBER(SEARCH($F$6,AP420)),MAX($AO$11:AO419)+1,0)","v":409},0,{"$f":"ROWS($AQ$12:AQ420)","v":409},{"$f":"IFERROR(VLOOKUP(ROWS($AR$12:AR420),$AO$12:$AP$3014,2,0),\"\")","v":0}]
[null,null,null,null,null,null,null,null,null,null,null,null,null,null,null,null,null,null,null,null,null,null,null,null,null,null,{"$f":"IFERROR(INDEX($AE$13:$AE$1003, SMALL(IF(ISBLANK($AE$13:$AE$1003)+ISERROR($AE$13:$AE$1003)+LEN($AE$13:$AE$1003)=0, \"\", ROW($AE$13:$AE$1003)-MIN(ROW($AE$13:$AE$1003))+1), ROW(410:410))),\"\")","v":"__ID_20__D_N"},{"$f":"IF(AF422=\"\",\"\",IF(COUNTIF(CurrentListing,AF422)>1,AJ422,\"\"))","v":""},{"$f":"IF(LEN(AF422)=0,\"\",IF(ISNA(MATCH(AF422,MasterListing,0)),AJ422,\"\"))","v":""},null,"__ID_19__TRAN_N","","ID19TRANN","__ID_19__TRAN_N",1,"______",null,null,null,null,{"$f":"IF(ISNUMBER(SEARCH($F$6,AP421)),MAX($AO$11:AO420)+1,0)","v":410},0,{"$f":"ROWS($AQ$12:AQ421)","v":410},{"$f":"IFERROR(VLOOKUP(ROWS($AR$12:AR421),$AO$12:$AP$3014,2,0),\"\")","v":0}]
[null,null,null,null,null,null,null,null,null,null,null,null,null,null,null,null,null,null,null,null,null,null,null,null,null,null,{"$f":"IFERROR(INDEX($AE$13:$AE$1003, SMALL(IF(ISBLANK($AE$13:$AE$1003)+ISERROR($AE$13:$AE$1003)+LEN($AE$13:$AE$1003)=0, \"\", ROW($AE$13:$AE$1003)-MIN(ROW($AE$13:$AE$1003))+1), ROW(411:411))),\"\")","v":"__ID_20__DROPOUT_N"},{"$f":"IF(AF423=\"\",\"\",IF(COUNTIF(CurrentListing,AF423)>1,AJ423,\"\"))","v":""},{"$f":"IF(LEN(AF423)=0,\"\",IF(ISNA(MATCH(AF423,MasterListing,0)),AJ423,\"\"))","v":""},null,"__ID_20__D_N","","ID20DN","__ID_20__D_N",1,"______",null,null,null,null,{"$f":"IF(ISNUMBER(SEARCH($F$6,AP422)),MAX($AO$11:AO421)+1,0)","v":411},0,{"$f":"ROWS($AQ$12:AQ422)","v":411},{"$f":"IFERROR(VLOOKUP(ROWS($AR$12:AR422),$AO$12:$AP$3014,2,0),\"\")","v":0}]
[null,null,null,null,null,null,null,null,null,null,null,null,null,null,null,null,null,null,null,null,null,null,null,null,null,null,{"$f":"IFERROR(INDEX($AE$13:$AE$1003, SMALL(IF(ISBLANK($AE$13:$AE$1003)+ISERROR($AE$13:$AE$1003)+LEN($AE$13:$AE$1003)=0, \"\", ROW($AE$13:$AE$1003)-MIN(ROW($AE$13:$AE$1003))+1), ROW(412:412))),\"\")","v":"__ID_20__GHS_N"},{"$f":"IF(AF424=\"\",\"\",IF(COUNTIF(CurrentListing,AF424)>1,AJ424,\"\"))","v":""},{"$f":"IF(LEN(AF424)=0,\"\",IF(ISNA(MATCH(AF424,MasterListing,0)),AJ424,\"\"))","v":""},null,"__ID_20__DROPOUT_N","","ID20DROPOUTN","__ID_20__DROPOUT_N",1,"______",null,null,null,null,{"$f":"IF(ISNUMBER(SEARCH($F$6,AP423)),MAX($AO$11:AO422)+1,0)","v":412},0,{"$f":"ROWS($AQ$12:AQ423)","v":412},{"$f":"IFERROR(VLOOKUP(ROWS($AR$12:AR423),$AO$12:$AP$3014,2,0),\"\")","v":0}]
[null,null,null,null,null,null,null,null,null,null,null,null,null,null,null,null,null,null,null,null,null,null,null,null,null,null,{"$f":"IFERROR(INDEX($AE$13:$AE$1003, SMALL(IF(ISBLANK($AE$13:$AE$1003)+ISERROR($AE$13:$AE$1003)+LEN($AE$13:$AE$1003)=0, \"\", ROW($AE$13:$AE$1003)-MIN(ROW($AE$13:$AE$1003))+1), ROW(413:413))),\"\")","v":"__ID_20__GRADALTDPL_N"},{"$f":"IF(AF425=\"\",\"\",IF(COUNTIF(CurrentListing,AF425)>1,AJ425,\"\"))","v":""},{"$f":"IF(LEN(AF425)=0,\"\",IF(ISNA(MATCH(AF425,MasterListing,0)),AJ425,\"\"))","v":""},null,"__ID_20__GHS_N","","ID20GHSN","__ID_20__GHS_N",1,"______",null,null,null,null,{"$f":"IF(ISNUMBER(SEARCH($F$6,AP424)),MAX($AO$11:AO423)+1,0)","v":413},0,{"$f":"ROWS($AQ$12:AQ424)","v":413},{"$f":"IFERROR(VLOOKUP(ROWS($AR$12:AR424),$AO$12:$AP$3014,2,0),\"\")","v":0}]
[null,null,null,null,null,null,null,null,null,null,null,null,null,null,null,null,null,null,null,null,null,null,null,null,null,null,{"$f":"IFERROR(INDEX($AE$13:$AE$1003, SMALL(IF(ISBLANK($AE$13:$AE$1003)+ISERROR($AE$13:$AE$1003)+LEN($AE$13:$AE$1003)=0, \"\", ROW($AE$13:$AE$1003)-MIN(ROW($AE$13:$AE$1003))+1), ROW(414:414))),\"\")","v":"__ID_20__MKC_N"},{"$f":"IF(AF426=\"\",\"\",IF(COUNTIF(CurrentListing,AF426)>1,AJ426,\"\"))","v":""},{"$f":"IF(LEN(AF426)=0,\"\",IF(ISNA(MATCH(AF426,MasterListing,0)),AJ426,\"\"))","v":""},null,"__ID_20__GRADALTDPL_N","","ID20GRADALTDPLN","__ID_20__GRADALTDPL_N",1,"______",null,null,null,null,{"$f":"IF(ISNUMBER(SEARCH($F$6,AP425)),MAX($AO$11:AO424)+1,0)","v":414},0,{"$f":"ROWS($AQ$12:AQ425)","v":414},{"$f":"IFERROR(VLOOKUP(ROWS($AR$12:AR425),$AO$12:$AP$3014,2,0),\"\")","v":0}]
[null,null,null,null,null,null,null,null,null,null,null,null,null,null,null,null,null,null,null,null,null,null,null,null,null,null,{"$f":"IFERROR(INDEX($AE$13:$AE$1003, SMALL(IF(ISBLANK($AE$13:$AE$1003)+ISERROR($AE$13:$AE$1003)+LEN($AE$13:$AE$1003)=0, \"\", ROW($AE$13:$AE$1003)-MIN(ROW($AE$13:$AE$1003))+1), ROW(415:415))),\"\")","v":"__ID_20__RC_N"},{"$f":"IF(AF427=\"\",\"\",IF(COUNTIF(CurrentListing,AF427)>1,AJ427,\"\"))","v":""},{"$f":"IF(LEN(AF427)=0,\"\",IF(ISNA(MATCH(AF427,MasterListing,0)),AJ427,\"\"))","v":""},null,"__ID_20__MKC_N","","ID20MKCN","__ID_20__MKC_N",1,"______",null,null,null,null,{"$f":"IF(ISNUMBER(SEARCH($F$6,AP426)),MAX($AO$11:AO425)+1,0)","v":415},0,{"$f":"ROWS($AQ$12:AQ426)","v":415},{"$f":"IFERROR(VLOOKUP(ROWS($AR$12:AR426),$AO$12:$AP$3014,2,0),\"\")","v":0}]
[null,null,null,null,null,null,null,null,null,null,null,null,null,null,null,null,null,null,null,null,null,null,null,null,null,null,{"$f":"IFERROR(INDEX($AE$13:$AE$1003, SMALL(IF(ISBLANK($AE$13:$AE$1003)+ISERROR($AE$13:$AE$1003)+LEN($AE$13:$AE$1003)=0, \"\", ROW($AE$13:$AE$1003)-MIN(ROW($AE$13:$AE$1003))+1), ROW(416:416))),\"\")","v":"__ID_20__RMA_N"},{"$f":"IF(AF428=\"\",\"\",IF(COUNTIF(CurrentListing,AF428)>1,AJ428,\"\"))","v":""},{"$f":"IF(LEN(AF428)=0,\"\",IF(ISNA(MATCH(AF428,MasterListing,0)),AJ428,\"\"))","v":""},null,"__ID_20__RC_N","","ID20RCN","__ID_20__RC_N",1,"______",null,null,null,null,{"$f":"IF(ISNUMBER(SEARCH($F$6,AP427)),MAX($AO$11:AO426)+1,0)","v":416},0,{"$f":"ROWS($AQ$12:AQ427)","v":416},{"$f":"IFERROR(VLOOKUP(ROWS($AR$12:AR427),$AO$12:$AP$3014,2,0),\"\")","v":0}]
[null,null,null,null,null,null,null,null,null,null,null,null,null,null,null,null,null,null,null,null,null,null,null,null,null,null,{"$f":"IFERROR(INDEX($AE$13:$AE$1003, SMALL(IF(ISBLANK($AE$13:$AE$1003)+ISERROR($AE$13:$AE$1003)+LEN($AE$13:$AE$1003)=0, \"\", ROW($AE$13:$AE$1003)-MIN(ROW($AE$13:$AE$1003))+1), ROW(417:417))),\"\")","v":"__ID_20__TRAN_N"},{"$f":"IF(AF429=\"\",\"\",IF(COUNTIF(CurrentListing,AF429)>1,AJ429,\"\"))","v":""},{"$f":"IF(LEN(AF429)=0,\"\",IF(ISNA(MATCH(AF429,MasterListing,0)),AJ429,\"\"))","v":""},null,"__ID_20__RMA_N","","ID20RMAN","__ID_20__RMA_N",1,"______",null,null,null,null,{"$f":"IF(ISNUMBER(SEARCH($F$6,AP428)),MAX($AO$11:AO427)+1,0)","v":417},0,{"$f":"ROWS($AQ$12:AQ428)","v":417},{"$f":"IFERROR(VLOOKUP(ROWS($AR$12:AR428),$AO$12:$AP$3014,2,0),\"\")","v":0}]
[null,null,null,null,null,null,null,null,null,null,null,null,null,null,null,null,null,null,null,null,null,null,null,null,null,null,{"$f":"IFERROR(INDEX($AE$13:$AE$1003, SMALL(IF(ISBLANK($AE$13:$AE$1003)+ISERROR($AE$13:$AE$1003)+LEN($AE$13:$AE$1003)=0, \"\", ROW($AE$13:$AE$1003)-MIN(ROW($AE$13:$AE$1003))+1), ROW(418:418))),\"\")","v":"__ID_21__D_N"},{"$f":"IF(AF430=\"\",\"\",IF(COUNTIF(CurrentListing,AF430)>1,AJ430,\"\"))","v":""},{"$f":"IF(LEN(AF430)=0,\"\",IF(ISNA(MATCH(AF430,MasterListing,0)),AJ430,\"\"))","v":""},null,"__ID_20__TRAN_N","","ID20TRANN","__ID_20__TRAN_N",1,"______",null,null,null,null,{"$f":"IF(ISNUMBER(SEARCH($F$6,AP429)),MAX($AO$11:AO428)+1,0)","v":418},0,{"$f":"ROWS($AQ$12:AQ429)","v":418},{"$f":"IFERROR(VLOOKUP(ROWS($AR$12:AR429),$AO$12:$AP$3014,2,0),\"\")","v":0}]
[null,null,null,null,null,null,null,null,null,null,null,null,null,null,null,null,null,null,null,null,null,null,null,null,null,null,{"$f":"IFERROR(INDEX($AE$13:$AE$1003, SMALL(IF(ISBLANK($AE$13:$AE$1003)+ISERROR($AE$13:$AE$1003)+LEN($AE$13:$AE$1003)=0, \"\", ROW($AE$13:$AE$1003)-MIN(ROW($AE$13:$AE$1003))+1), ROW(419:419))),\"\")","v":"__ID_21__DROPOUT_N"},{"$f":"IF(AF431=\"\",\"\",IF(COUNTIF(CurrentListing,AF431)>1,AJ431,\"\"))","v":""},{"$f":"IF(LEN(AF431)=0,\"\",IF(ISNA(MATCH(AF431,MasterListing,0)),AJ431,\"\"))","v":""},null,"__ID_21__D_N","","ID21DN","__ID_21__D_N",1,"______",null,null,null,null,{"$f":"IF(ISNUMBER(SEARCH($F$6,AP430)),MAX($AO$11:AO429)+1,0)","v":419},0,{"$f":"ROWS($AQ$12:AQ430)","v":419},{"$f":"IFERROR(VLOOKUP(ROWS($AR$12:AR430),$AO$12:$AP$3014,2,0),\"\")","v":0}]
[null,null,null,null,null,null,null,null,null,null,null,null,null,null,null,null,null,null,null,null,null,null,null,null,null,null,{"$f":"IFERROR(INDEX($AE$13:$AE$1003, SMALL(IF(ISBLANK($AE$13:$AE$1003)+ISERROR($AE$13:$AE$1003)+LEN($AE$13:$AE$1003)=0, \"\", ROW($AE$13:$AE$1003)-MIN(ROW($AE$13:$AE$1003))+1), ROW(420:420))),\"\")","v":"__ID_21__GHS_N"},{"$f":"IF(AF432=\"\",\"\",IF(COUNTIF(CurrentListing,AF432)>1,AJ432,\"\"))","v":""},{"$f":"IF(LEN(AF432)=0,\"\",IF(ISNA(MATCH(AF432,MasterListing,0)),AJ432,\"\"))","v":""},null,"__ID_21__DROPOUT_N","","ID21DROPOUTN","__ID_21__DROPOUT_N",1,"______",null,null,null,null,{"$f":"IF(ISNUMBER(SEARCH($F$6,AP431)),MAX($AO$11:AO430)+1,0)","v":420},0,{"$f":"ROWS($AQ$12:AQ431)","v":420},{"$f":"IFERROR(VLOOKUP(ROWS($AR$12:AR431),$AO$12:$AP$3014,2,0),\"\")","v":0}]
[null,null,null,null,null,null,null,null,null,null,null,null,null,null,null,null,null,null,null,null,null,null,null,null,null,null,{"$f":"IFERROR(INDEX($AE$13:$AE$1003, SMALL(IF(ISBLANK($AE$13:$AE$1003)+ISERROR($AE$13:$AE$1003)+LEN($AE$13:$AE$1003)=0, \"\", ROW($AE$13:$AE$1003)-MIN(ROW($AE$13:$AE$1003))+1), ROW(421:421))),\"\")","v":"__ID_21__GRADALTDPL_N"},{"$f":"IF(AF433=\"\",\"\",IF(COUNTIF(CurrentListing,AF433)>1,AJ433,\"\"))","v":""},{"$f":"IF(LEN(AF433)=0,\"\",IF(ISNA(MATCH(AF433,MasterListing,0)),AJ433,\"\"))","v":""},null,"__ID_21__GHS_N","","ID21GHSN","__ID_21__GHS_N",1,"______",null,null,null,null,{"$f":"IF(ISNUMBER(SEARCH($F$6,AP432)),MAX($AO$11:AO431)+1,0)","v":421},0,{"$f":"ROWS($AQ$12:AQ432)","v":421},{"$f":"IFERROR(VLOOKUP(ROWS($AR$12:AR432),$AO$12:$AP$3014,2,0),\"\")","v":0}]
[null,null,null,null,null,null,null,null,null,null,null,null,null,null,null,null,null,null,null,null,null,null,null,null,null,null,{"$f":"IFERROR(INDEX($AE$13:$AE$1003, SMALL(IF(ISBLANK($AE$13:$AE$1003)+ISERROR($AE$13:$AE$1003)+LEN($AE$13:$AE$1003)=0, \"\", ROW($AE$13:$AE$1003)-MIN(ROW($AE$13:$AE$1003))+1), ROW(422:422))),\"\")","v":"__ID_21__MKC_N"},{"$f":"IF(AF434=\"\",\"\",IF(COUNTIF(CurrentListing,AF434)>1,AJ434,\"\"))","v":""},{"$f":"IF(LEN(AF434)=0,\"\",IF(ISNA(MATCH(AF434,MasterListing,0)),AJ434,\"\"))","v":""},null,"__ID_21__GRADALTDPL_N","","ID21GRADALTDPLN","__ID_21__GRADALTDPL_N",1,"______",null,null,null,null,{"$f":"IF(ISNUMBER(SEARCH($F$6,AP433)),MAX($AO$11:AO432)+1,0)","v":422},0,{"$f":"ROWS($AQ$12:AQ433)","v":422},{"$f":"IFERROR(VLOOKUP(ROWS($AR$12:AR433),$AO$12:$AP$3014,2,0),\"\")","v":0}]
[null,null,null,null,null,null,null,null,null,null,null,null,null,null,null,null,null,null,null,null,null,null,null,null,null,null,{"$f":"IFERROR(INDEX($AE$13:$AE$1003, SMALL(IF(ISBLANK($AE$13:$AE$1003)+ISERROR($AE$13:$AE$1003)+LEN($AE$13:$AE$1003)=0, \"\", ROW($AE$13:$AE$1003)-MIN(ROW($AE$13:$AE$1003))+1), ROW(423:423))),\"\")","v":"__ID_21__RC_N"},{"$f":"IF(AF435=\"\",\"\",IF(COUNTIF(CurrentListing,AF435)>1,AJ435,\"\"))","v":""},{"$f":"IF(LEN(AF435)=0,\"\",IF(ISNA(MATCH(AF435,MasterListing,0)),AJ435,\"\"))","v":""},null,"__ID_21__MKC_N","","ID21MKCN","__ID_21__MKC_N",1,"______",null,null,null,null,{"$f":"IF(ISNUMBER(SEARCH($F$6,AP434)),MAX($AO$11:AO433)+1,0)","v":423},0,{"$f":"ROWS($AQ$12:AQ434)","v":423},{"$f":"IFERROR(VLOOKUP(ROWS($AR$12:AR434),$AO$12:$AP$3014,2,0),\"\")","v":0}]
[null,null,null,null,null,null,null,null,null,null,null,null,null,null,null,null,null,null,null,null,null,null,null,null,null,null,{"$f":"IFERROR(INDEX($AE$13:$AE$1003, SMALL(IF(ISBLANK($AE$13:$AE$1003)+ISERROR($AE$13:$AE$1003)+LEN($AE$13:$AE$1003)=0, \"\", ROW($AE$13:$AE$1003)-MIN(ROW($AE$13:$AE$1003))+1), ROW(424:424))),\"\")","v":"__ID_21__RMA_N"},{"$f":"IF(AF436=\"\",\"\",IF(COUNTIF(CurrentListing,AF436)>1,AJ436,\"\"))","v":""},{"$f":"IF(LEN(AF436)=0,\"\",IF(ISNA(MATCH(AF436,MasterListing,0)),AJ436,\"\"))","v":""},null,"__ID_21__RC_N","","ID21RCN","__ID_21__RC_N",1,"______",null,null,null,null,{"$f":"IF(ISNUMBER(SEARCH($F$6,AP435)),MAX($AO$11:AO434)+1,0)","v":424},0,{"$f":"ROWS($AQ$12:AQ435)","v":424},{"$f":"IFERROR(VLOOKUP(ROWS($AR$12:AR435),$AO$12:$AP$3014,2,0),\"\")","v":0}]
[null,null,null,null,null,null,null,null,null,null,null,null,null,null,null,null,null,null,null,null,null,null,null,null,null,null,{"$f":"IFERROR(INDEX($AE$13:$AE$1003, SMALL(IF(ISBLANK($AE$13:$AE$1003)+ISERROR($AE$13:$AE$1003)+LEN($AE$13:$AE$1003)=0, \"\", ROW($AE$13:$AE$1003)-MIN(ROW($AE$13:$AE$1003))+1), ROW(425:425))),\"\")","v":"__ID_21__TRAN_N"},{"$f":"IF(AF437=\"\",\"\",IF(COUNTIF(CurrentListing,AF437)>1,AJ437,\"\"))","v":""},{"$f":"IF(LEN(AF437)=0,\"\",IF(ISNA(MATCH(AF437,MasterListing,0)),AJ437,\"\"))","v":""},null,"__ID_21__RMA_N","","ID21RMAN","__ID_21__RMA_N",1,"______",null,null,null,null,{"$f":"IF(ISNUMBER(SEARCH($F$6,AP436)),MAX($AO$11:AO435)+1,0)","v":425},0,{"$f":"ROWS($AQ$12:AQ436)","v":425},{"$f":"IFERROR(VLOOKUP(ROWS($AR$12:AR436),$AO$12:$AP$3014,2,0),\"\")","v":0}]
[null,null,null,null,null,null,null,null,null,null,null,null,null,null,null,null,null,null,null,null,null,null,null,null,null,null,{"$f":"IFERROR(INDEX($AE$13:$AE$1003, SMALL(IF(ISBLANK($AE$13:$AE$1003)+ISERROR($AE$13:$AE$1003)+LEN($AE$13:$AE$1003)=0, \"\", ROW($AE$13:$AE$1003)-MIN(ROW($AE$13:$AE$1003))+1), ROW(426:426))),\"\")","v":"__OHI____Y"},{"$f":"IF(AF438=\"\",\"\",IF(COUNTIF(CurrentListing,AF438)>1,AJ438,\"\"))","v":""},{"$f":"IF(LEN(AF438)=0,\"\",IF(ISNA(MATCH(AF438,MasterListing,0)),AJ438,\"\"))","v":""},null,"__ID_21__TRAN_N","","ID21TRANN","__ID_21__TRAN_N",1,"______",null,null,null,null,{"$f":"IF(ISNUMBER(SEARCH($F$6,AP437)),MAX($AO$11:AO436)+1,0)","v":426},0,{"$f":"ROWS($AQ$12:AQ437)","v":426},{"$f":"IFERROR(VLOOKUP(ROWS($AR$12:AR437),$AO$12:$AP$3014,2,0),\"\")","v":0}]
[null,null,null,null,null,null,null,null,null,null,null,null,null,null,null,null,null,null,null,null,null,null,null,null,null,null,{"$f":"IFERROR(INDEX($AE$13:$AE$1003, SMALL(IF(ISBLANK($AE$13:$AE$1003)+ISERROR($AE$13:$AE$1003)+LEN($AE$13:$AE$1003)=0, \"\", ROW($AE$13:$AE$1003)-MIN(ROW($AE$13:$AE$1003))+1), ROW(427:427))),\"\")","v":"__OHI_14__D_N"},{"$f":"IF(AF439=\"\",\"\",IF(COUNTIF(CurrentListing,AF439)>1,AJ439,\"\"))","v":""},{"$f":"IF(LEN(AF439)=0,\"\",IF(ISNA(MATCH(AF439,MasterListing,0)),AJ439,\"\"))","v":""},null,"__OHI____Y","","OHIY","__OHI____Y",1,"______",null,null,null,null,{"$f":"IF(ISNUMBER(SEARCH($F$6,AP438)),MAX($AO$11:AO437)+1,0)","v":427},0,{"$f":"ROWS($AQ$12:AQ438)","v":427},{"$f":"IFERROR(VLOOKUP(ROWS($AR$12:AR438),$AO$12:$AP$3014,2,0),\"\")","v":0}]
[null,null,null,null,null,null,null,null,null,null,null,null,null,null,null,null,null,null,null,null,null,null,null,null,null,null,{"$f":"IFERROR(INDEX($AE$13:$AE$1003, SMALL(IF(ISBLANK($AE$13:$AE$1003)+ISERROR($AE$13:$AE$1003)+LEN($AE$13:$AE$1003)=0, \"\", ROW($AE$13:$AE$1003)-MIN(ROW($AE$13:$AE$1003))+1), ROW(428:428))),\"\")","v":"__OHI_14__DROPOUT_N"},{"$f":"IF(AF440=\"\",\"\",IF(COUNTIF(CurrentListing,AF440)>1,AJ440,\"\"))","v":""},{"$f":"IF(LEN(AF440)=0,\"\",IF(ISNA(MATCH(AF440,MasterListing,0)),AJ440,\"\"))","v":""},null,"__OHI_14__D_N","","OHI14DN","__OHI_14__D_N",1,"______",null,null,null,null,{"$f":"IF(ISNUMBER(SEARCH($F$6,AP439)),MAX($AO$11:AO438)+1,0)","v":428},0,{"$f":"ROWS($AQ$12:AQ439)","v":428},{"$f":"IFERROR(VLOOKUP(ROWS($AR$12:AR439),$AO$12:$AP$3014,2,0),\"\")","v":0}]
[null,null,null,null,null,null,null,null,null,null,null,null,null,null,null,null,null,null,null,null,null,null,null,null,null,null,{"$f":"IFERROR(INDEX($AE$13:$AE$1003, SMALL(IF(ISBLANK($AE$13:$AE$1003)+ISERROR($AE$13:$AE$1003)+LEN($AE$13:$AE$1003)=0, \"\", ROW($AE$13:$AE$1003)-MIN(ROW($AE$13:$AE$1003))+1), ROW(429:429))),\"\")","v":"__OHI_14__GHS_N"},{"$f":"IF(AF441=\"\",\"\",IF(COUNTIF(CurrentListing,AF441)>1,AJ441,\"\"))","v":""},{"$f":"IF(LEN(AF441)=0,\"\",IF(ISNA(MATCH(AF441,MasterListing,0)),AJ441,\"\"))","v":""},null,"__OHI_14__DROPOUT_N","","OHI14DROPOUTN","__OHI_14__DROPOUT_N",1,"______",null,null,null,null,{"$f":"IF(ISNUMBER(SEARCH($F$6,AP440)),MAX($AO$11:AO439)+1,0)","v":429},0,{"$f":"ROWS($AQ$12:AQ440)","v":429},{"$f":"IFERROR(VLOOKUP(ROWS($AR$12:AR440),$AO$12:$AP$3014,2,0),\"\")","v":0}]
[null,null,null,null,null,null,null,null,null,null,null,null,null,null,null,null,null,null,null,null,null,null,null,null,null,null,{"$f":"IFERROR(INDEX($AE$13:$AE$1003, SMALL(IF(ISBLANK($AE$13:$AE$1003)+ISERROR($AE$13:$AE$1003)+LEN($AE$13:$AE$1003)=0, \"\", ROW($AE$13:$AE$1003)-MIN(ROW($AE$13:$AE$1003))+1), ROW(430:430))),\"\")","v":"__OHI_14__GRADALTDPL_N"},{"$f":"IF(AF442=\"\",\"\",IF(COUNTIF(CurrentListing,AF442)>1,AJ442,\"\"))","v":""},{"$f":"IF(LEN(AF442)=0,\"\",IF(ISNA(MATCH(AF442,MasterListing,0)),AJ442,\"\"))","v":""},null,"__OHI_14__GHS_N","","OHI14GHSN","__OHI_14__GHS_N",1,"______",null,null,null,null,{"$f":"IF(ISNUMBER(SEARCH($F$6,AP441)),MAX($AO$11:AO440)+1,0)","v":430},0,{"$f":"ROWS($AQ$12:AQ441)","v":430},{"$f":"IFERROR(VLOOKUP(ROWS($AR$12:AR441),$AO$12:$AP$3014,2,0),\"\")","v":0}]
[null,null,null,null,null,null,null,null,null,null,null,null,null,null,null,null,null,null,null,null,null,null,null,null,null,null,{"$f":"IFERROR(INDEX($AE$13:$AE$1003, SMALL(IF(ISBLANK($AE$13:$AE$1003)+ISERROR($AE$13:$AE$1003)+LEN($AE$13:$AE$1003)=0, \"\", ROW($AE$13:$AE$1003)-MIN(ROW($AE$13:$AE$1003))+1), ROW(431:431))),\"\")","v":"__OHI_14__MKC_N"},{"$f":"IF(AF443=\"\",\"\",IF(COUNTIF(CurrentListing,AF443)>1,AJ443,\"\"))","v":""},{"$f":"IF(LEN(AF443)=0,\"\",IF(ISNA(MATCH(AF443,MasterListing,0)),AJ443,\"\"))","v":""},null,"__OHI_14__GRADALTDPL_N","","OHI14GRADALTDPLN","__OHI_14__GRADALTDPL_N",1,"______",null,null,null,null,{"$f":"IF(ISNUMBER(SEARCH($F$6,AP442)),MAX($AO$11:AO441)+1,0)","v":431},0,{"$f":"ROWS($AQ$12:AQ442)","v":431},{"$f":"IFERROR(VLOOKUP(ROWS($AR$12:AR442),$AO$12:$AP$3014,2,0),\"\")","v":0}]
[null,null,null,null,null,null,null,null,null,null,null,null,null,null,null,null,null,null,null,null,null,null,null,null,null,null,{"$f":"IFERROR(INDEX($AE$13:$AE$1003, SMALL(IF(ISBLANK($AE$13:$AE$1003)+ISERROR($AE$13:$AE$1003)+LEN($AE$13:$AE$1003)=0, \"\", ROW($AE$13:$AE$1003)-MIN(ROW($AE$13:$AE$1003))+1), ROW(432:432))),\"\")","v":"__OHI_14__RC_N"},{"$f":"IF(AF444=\"\",\"\",IF(COUNTIF(CurrentListing,AF444)>1,AJ444,\"\"))","v":""},{"$f":"IF(LEN(AF444)=0,\"\",IF(ISNA(MATCH(AF444,MasterListing,0)),AJ444,\"\"))","v":""},null,"__OHI_14__MKC_N","","OHI14MKCN","__OHI_14__MKC_N",1,"______",null,null,null,null,{"$f":"IF(ISNUMBER(SEARCH($F$6,AP443)),MAX($AO$11:AO442)+1,0)","v":432},0,{"$f":"ROWS($AQ$12:AQ443)","v":432},{"$f":"IFERROR(VLOOKUP(ROWS($AR$12:AR443),$AO$12:$AP$3014,2,0),\"\")","v":0}]
[null,null,null,null,null,null,null,null,null,null,null,null,null,null,null,null,null,null,null,null,null,null,null,null,null,null,{"$f":"IFERROR(INDEX($AE$13:$AE$1003, SMALL(IF(ISBLANK($AE$13:$AE$1003)+ISERROR($AE$13:$AE$1003)+LEN($AE$13:$AE$1003)=0, \"\", ROW($AE$13:$AE$1003)-MIN(ROW($AE$13:$AE$1003))+1), ROW(433:433))),\"\")","v":"__OHI_14__RMA_N"},{"$f":"IF(AF445=\"\",\"\",IF(COUNTIF(CurrentListing,AF445)>1,AJ445,\"\"))","v":""},{"$f":"IF(LEN(AF445)=0,\"\",IF(ISNA(MATCH(AF445,MasterListing,0)),AJ445,\"\"))","v":""},null,"__OHI_14__RC_N","","OHI14RCN","__OHI_14__RC_N",1,"______",null,null,null,null,{"$f":"IF(ISNUMBER(SEARCH($F$6,AP444)),MAX($AO$11:AO443)+1,0)","v":433},0,{"$f":"ROWS($AQ$12:AQ444)","v":433},{"$f":"IFERROR(VLOOKUP(ROWS($AR$12:AR444),$AO$12:$AP$3014,2,0),\"\")","v":0}]
[null,null,null,null,null,null,null,null,null,null,null,null,null,null,null,null,null,null,null,null,null,null,null,null,null,null,{"$f":"IFERROR(INDEX($AE$13:$AE$1003, SMALL(IF(ISBLANK($AE$13:$AE$1003)+ISERROR($AE$13:$AE$1003)+LEN($AE$13:$AE$1003)=0, \"\", ROW($AE$13:$AE$1003)-MIN(ROW($AE$13:$AE$1003))+1), ROW(434:434))),\"\")","v":"__OHI_14__TRAN_N"},{"$f":"IF(AF446=\"\",\"\",IF(COUNTIF(CurrentListing,AF446)>1,AJ446,\"\"))","v":""},{"$f":"IF(LEN(AF446)=0,\"\",IF(ISNA(MATCH(AF446,MasterListing,0)),AJ446,\"\"))","v":""},null,"__OHI_14__RMA_N","","OHI14RMAN","__OHI_14__RMA_N",1,"______",null,null,null,null,{"$f":"IF(ISNUMBER(SEARCH($F$6,AP445)),MAX($AO$11:AO444)+1,0)","v":434},0,{"$f":"ROWS($AQ$12:AQ445)","v":434},{"$f":"IFERROR(VLOOKUP(ROWS($AR$12:AR445),$AO$12:$AP$3014,2,0),\"\")","v":0}]
[null,null,null,null,null,null,null,null,null,null,null,null,null,null,null,null,null,null,null,null,null,null,null,null,null,null,{"$f":"IFERROR(INDEX($AE$13:$AE$1003, SMALL(IF(ISBLANK($AE$13:$AE$1003)+ISERROR($AE$13:$AE$1003)+LEN($AE$13:$AE$1003)=0, \"\", ROW($AE$13:$AE$1003)-MIN(ROW($AE$13:$AE$1003))+1), ROW(435:435))),\"\")","v":"__OHI_15__D_N"},{"$f":"IF(AF447=\"\",\"\",IF(COUNTIF(CurrentListing,AF447)>1,AJ447,\"\"))","v":""},{"$f":"IF(LEN(AF447)=0,\"\",IF(ISNA(MATCH(AF447,MasterListing,0)),AJ447,\"\"))","v":""},null,"__OHI_14__TRAN_N","","OHI14TRANN","__OHI_14__TRAN_N",1,"______",null,null,null,null,{"$f":"IF(ISNUMBER(SEARCH($F$6,AP446)),MAX($AO$11:AO445)+1,0)","v":435},0,{"$f":"ROWS($AQ$12:AQ446)","v":435},{"$f":"IFERROR(VLOOKUP(ROWS($AR$12:AR446),$AO$12:$AP$3014,2,0),\"\")","v":0}]
[null,null,null,null,null,null,null,null,null,null,null,null,null,null,null,null,null,null,null,null,null,null,null,null,null,null,{"$f":"IFERROR(INDEX($AE$13:$AE$1003, SMALL(IF(ISBLANK($AE$13:$AE$1003)+ISERROR($AE$13:$AE$1003)+LEN($AE$13:$AE$1003)=0, \"\", ROW($AE$13:$AE$1003)-MIN(ROW($AE$13:$AE$1003))+1), ROW(436:436))),\"\")","v":"__OHI_15__DROPOUT_N"},{"$f":"IF(AF448=\"\",\"\",IF(COUNTIF(CurrentListing,AF448)>1,AJ448,\"\"))","v":""},{"$f":"IF(LEN(AF448)=0,\"\",IF(ISNA(MATCH(AF448,MasterListing,0)),AJ448,\"\"))","v":""},null,"__OHI_15__D_N","","OHI15DN","__OHI_15__D_N",1,"______",null,null,null,null,{"$f":"IF(ISNUMBER(SEARCH($F$6,AP447)),MAX($AO$11:AO446)+1,0)","v":436},0,{"$f":"ROWS($AQ$12:AQ447)","v":436},{"$f":"IFERROR(VLOOKUP(ROWS($AR$12:AR447),$AO$12:$AP$3014,2,0),\"\")","v":0}]
[null,null,null,null,null,null,null,null,null,null,null,null,null,null,null,null,null,null,null,null,null,null,null,null,null,null,{"$f":"IFERROR(INDEX($AE$13:$AE$1003, SMALL(IF(ISBLANK($AE$13:$AE$1003)+ISERROR($AE$13:$AE$1003)+LEN($AE$13:$AE$1003)=0, \"\", ROW($AE$13:$AE$1003)-MIN(ROW($AE$13:$AE$1003))+1), ROW(437:437))),\"\")","v":"__OHI_15__GHS_N"},{"$f":"IF(AF449=\"\",\"\",IF(COUNTIF(CurrentListing,AF449)>1,AJ449,\"\"))","v":""},{"$f":"IF(LEN(AF449)=0,\"\",IF(ISNA(MATCH(AF449,MasterListing,0)),AJ449,\"\"))","v":""},null,"__OHI_15__DROPOUT_N","","OHI15DROPOUTN","__OHI_15__DROPOUT_N",1,"______",null,null,null,null,{"$f":"IF(ISNUMBER(SEARCH($F$6,AP448)),MAX($AO$11:AO447)+1,0)","v":437},0,{"$f":"ROWS($AQ$12:AQ448)","v":437},{"$f":"IFERROR(VLOOKUP(ROWS($AR$12:AR448),$AO$12:$AP$3014,2,0),\"\")","v":0}]
[null,null,null,null,null,null,null,null,null,null,null,null,null,null,null,null,null,null,null,null,null,null,null,null,null,null,{"$f":"IFERROR(INDEX($AE$13:$AE$1003, SMALL(IF(ISBLANK($AE$13:$AE$1003)+ISERROR($AE$13:$AE$1003)+LEN($AE$13:$AE$1003)=0, \"\", ROW($AE$13:$AE$1003)-MIN(ROW($AE$13:$AE$1003))+1), ROW(438:438))),\"\")","v":"__OHI_15__GRADALTDPL_N"},{"$f":"IF(AF450=\"\",\"\",IF(COUNTIF(CurrentListing,AF450)>1,AJ450,\"\"))","v":""},{"$f":"IF(LEN(AF450)=0,\"\",IF(ISNA(MATCH(AF450,MasterListing,0)),AJ450,\"\"))","v":""},null,"__OHI_15__GHS_N","","OHI15GHSN","__OHI_15__GHS_N",1,"______",null,null,null,null,{"$f":"IF(ISNUMBER(SEARCH($F$6,AP449)),MAX($AO$11:AO448)+1,0)","v":438},0,{"$f":"ROWS($AQ$12:AQ449)","v":438},{"$f":"IFERROR(VLOOKUP(ROWS($AR$12:AR449),$AO$12:$AP$3014,2,0),\"\")","v":0}]
[null,null,null,null,null,null,null,null,null,null,null,null,null,null,null,null,null,null,null,null,null,null,null,null,null,null,{"$f":"IFERROR(INDEX($AE$13:$AE$1003, SMALL(IF(ISBLANK($AE$13:$AE$1003)+ISERROR($AE$13:$AE$1003)+LEN($AE$13:$AE$1003)=0, \"\", ROW($AE$13:$AE$1003)-MIN(ROW($AE$13:$AE$1003))+1), ROW(439:439))),\"\")","v":"__OHI_15__MKC_N"},{"$f":"IF(AF451=\"\",\"\",IF(COUNTIF(CurrentListing,AF451)>1,AJ451,\"\"))","v":""},{"$f":"IF(LEN(AF451)=0,\"\",IF(ISNA(MATCH(AF451,MasterListing,0)),AJ451,\"\"))","v":""},null,"__OHI_15__GRADALTDPL_N","","OHI15GRADALTDPLN","__OHI_15__GRADALTDPL_N",1,"______",null,null,null,null,{"$f":"IF(ISNUMBER(SEARCH($F$6,AP450)),MAX($AO$11:AO449)+1,0)","v":439},0,{"$f":"ROWS($AQ$12:AQ450)","v":439},{"$f":"IFERROR(VLOOKUP(ROWS($AR$12:AR450),$AO$12:$AP$3014,2,0),\"\")","v":0}]
[null,null,null,null,null,null,null,null,null,null,null,null,null,null,null,null,null,null,null,null,null,null,null,null,null,null,{"$f":"IFERROR(INDEX($AE$13:$AE$1003, SMALL(IF(ISBLANK($AE$13:$AE$1003)+ISERROR($AE$13:$AE$1003)+LEN($AE$13:$AE$1003)=0, \"\", ROW($AE$13:$AE$1003)-MIN(ROW($AE$13:$AE$1003))+1), ROW(440:440))),\"\")","v":"__OHI_15__RC_N"},{"$f":"IF(AF452=\"\",\"\",IF(COUNTIF(CurrentListing,AF452)>1,AJ452,\"\"))","v":""},{"$f":"IF(LEN(AF452)=0,\"\",IF(ISNA(MATCH(AF452,MasterListing,0)),AJ452,\"\"))","v":""},null,"__OHI_15__MKC_N","","OHI15MKCN","__OHI_15__MKC_N",1,"______",null,null,null,null,{"$f":"IF(ISNUMBER(SEARCH($F$6,AP451)),MAX($AO$11:AO450)+1,0)","v":440},0,{"$f":"ROWS($AQ$12:AQ451)","v":440},{"$f":"IFERROR(VLOOKUP(ROWS($AR$12:AR451),$AO$12:$AP$3014,2,0),\"\")","v":0}]
[null,null,null,null,null,null,null,null,null,null,null,null,null,null,null,null,null,null,null,null,null,null,null,null,null,null,{"$f":"IFERROR(INDEX($AE$13:$AE$1003, SMALL(IF(ISBLANK($AE$13:$AE$1003)+ISERROR($AE$13:$AE$1003)+LEN($AE$13:$AE$1003)=0, \"\", ROW($AE$13:$AE$1003)-MIN(ROW($AE$13:$AE$1003))+1), ROW(441:441))),\"\")","v":"__OHI_15__RMA_N"},{"$f":"IF(AF453=\"\",\"\",IF(COUNTIF(CurrentListing,AF453)>1,AJ453,\"\"))","v":""},{"$f":"IF(LEN(AF453)=0,\"\",IF(ISNA(MATCH(AF453,MasterListing,0)),AJ453,\"\"))","v":""},null,"__OHI_15__RC_N","","OHI15RCN","__OHI_15__RC_N",1,"______",null,null,null,null,{"$f":"IF(ISNUMBER(SEARCH($F$6,AP452)),MAX($AO$11:AO451)+1,0)","v":441},0,{"$f":"ROWS($AQ$12:AQ452)","v":441},{"$f":"IFERROR(VLOOKUP(ROWS($AR$12:AR452),$AO$12:$AP$3014,2,0),\"\")","v":0}]
[null,null,null,null,null,null,null,null,null,null,null,null,null,null,null,null,null,null,null,null,null,null,null,null,null,null,{"$f":"IFERROR(INDEX($AE$13:$AE$1003, SMALL(IF(ISBLANK($AE$13:$AE$1003)+ISERROR($AE$13:$AE$1003)+LEN($AE$13:$AE$1003)=0, \"\", ROW($AE$13:$AE$1003)-MIN(ROW($AE$13:$AE$1003))+1), ROW(442:442))),\"\")","v":"__OHI_15__TRAN_N"},{"$f":"IF(AF454=\"\",\"\",IF(COUNTIF(CurrentListing,AF454)>1,AJ454,\"\"))","v":""},{"$f":"IF(LEN(AF454)=0,\"\",IF(ISNA(MATCH(AF454,MasterListing,0)),AJ454,\"\"))","v":""},null,"__OHI_15__RMA_N","","OHI15RMAN","__OHI_15__RMA_N",1,"______",null,null,null,null,{"$f":"IF(ISNUMBER(SEARCH($F$6,AP453)),MAX($AO$11:AO452)+1,0)","v":442},0,{"$f":"ROWS($AQ$12:AQ453)","v":442},{"$f":"IFERROR(VLOOKUP(ROWS($AR$12:AR453),$AO$12:$AP$3014,2,0),\"\")","v":0}]
[null,null,null,null,null,null,null,null,null,null,null,null,null,null,null,null,null,null,null,null,null,null,null,null,null,null,{"$f":"IFERROR(INDEX($AE$13:$AE$1003, SMALL(IF(ISBLANK($AE$13:$AE$1003)+ISERROR($AE$13:$AE$1003)+LEN($AE$13:$AE$1003)=0, \"\", ROW($AE$13:$AE$1003)-MIN(ROW($AE$13:$AE$1003))+1), ROW(443:443))),\"\")","v":"__OHI_16__D_N"},{"$f":"IF(AF455=\"\",\"\",IF(COUNTIF(CurrentListing,AF455)>1,AJ455,\"\"))","v":""},{"$f":"IF(LEN(AF455)=0,\"\",IF(ISNA(MATCH(AF455,MasterListing,0)),AJ455,\"\"))","v":""},null,"__OHI_15__TRAN_N","","OHI15TRANN","__OHI_15__TRAN_N",1,"______",null,null,null,null,{"$f":"IF(ISNUMBER(SEARCH($F$6,AP454)),MAX($AO$11:AO453)+1,0)","v":443},0,{"$f":"ROWS($AQ$12:AQ454)","v":443},{"$f":"IFERROR(VLOOKUP(ROWS($AR$12:AR454),$AO$12:$AP$3014,2,0),\"\")","v":0}]
[null,null,null,null,null,null,null,null,null,null,null,null,null,null,null,null,null,null,null,null,null,null,null,null,null,null,{"$f":"IFERROR(INDEX($AE$13:$AE$1003, SMALL(IF(ISBLANK($AE$13:$AE$1003)+ISERROR($AE$13:$AE$1003)+LEN($AE$13:$AE$1003)=0, \"\", ROW($AE$13:$AE$1003)-MIN(ROW($AE$13:$AE$1003))+1), ROW(444:444))),\"\")","v":"__OHI_16__DROPOUT_N"},{"$f":"IF(AF456=\"\",\"\",IF(COUNTIF(CurrentListing,AF456)>1,AJ456,\"\"))","v":""},{"$f":"IF(LEN(AF456)=0,\"\",IF(ISNA(MATCH(AF456,MasterListing,0)),AJ456,\"\"))","v":""},null,"__OHI_16__D_N","","OHI16DN","__OHI_16__D_N",1,"______",null,null,null,null,{"$f":"IF(ISNUMBER(SEARCH($F$6,AP455)),MAX($AO$11:AO454)+1,0)","v":444},0,{"$f":"ROWS($AQ$12:AQ455)","v":444},{"$f":"IFERROR(VLOOKUP(ROWS($AR$12:AR455),$AO$12:$AP$3014,2,0),\"\")","v":0}]
[null,null,null,null,null,null,null,null,null,null,null,null,null,null,null,null,null,null,null,null,null,null,null,null,null,null,{"$f":"IFERROR(INDEX($AE$13:$AE$1003, SMALL(IF(ISBLANK($AE$13:$AE$1003)+ISERROR($AE$13:$AE$1003)+LEN($AE$13:$AE$1003)=0, \"\", ROW($AE$13:$AE$1003)-MIN(ROW($AE$13:$AE$1003))+1), ROW(445:445))),\"\")","v":"__OHI_16__GHS_N"},{"$f":"IF(AF457=\"\",\"\",IF(COUNTIF(CurrentListing,AF457)>1,AJ457,\"\"))","v":""},{"$f":"IF(LEN(AF457)=0,\"\",IF(ISNA(MATCH(AF457,MasterListing,0)),AJ457,\"\"))","v":""},null,"__OHI_16__DROPOUT_N","","OHI16DROPOUTN","__OHI_16__DROPOUT_N",1,"______",null,null,null,null,{"$f":"IF(ISNUMBER(SEARCH($F$6,AP456)),MAX($AO$11:AO455)+1,0)","v":445},0,{"$f":"ROWS($AQ$12:AQ456)","v":445},{"$f":"IFERROR(VLOOKUP(ROWS($AR$12:AR456),$AO$12:$AP$3014,2,0),\"\")","v":0}]
[null,null,null,null,null,null,null,null,null,null,null,null,null,null,null,null,null,null,null,null,null,null,null,null,null,null,{"$f":"IFERROR(INDEX($AE$13:$AE$1003, SMALL(IF(ISBLANK($AE$13:$AE$1003)+ISERROR($AE$13:$AE$1003)+LEN($AE$13:$AE$1003)=0, \"\", ROW($AE$13:$AE$1003)-MIN(ROW($AE$13:$AE$1003))+1), ROW(446:446))),\"\")","v":"__OHI_16__GRADALTDPL_N"},{"$f":"IF(AF458=\"\",\"\",IF(COUNTIF(CurrentListing,AF458)>1,AJ458,\"\"))","v":""},{"$f":"IF(LEN(AF458)=0,\"\",IF(ISNA(MATCH(AF458,MasterListing,0)),AJ458,\"\"))","v":""},null,"__OHI_16__GHS_N","","OHI16GHSN","__OHI_16__GHS_N",1,"______",null,null,null,null,{"$f":"IF(ISNUMBER(SEARCH($F$6,AP457)),MAX($AO$11:AO456)+1,0)","v":446},0,{"$f":"ROWS($AQ$12:AQ457)","v":446},{"$f":"IFERROR(VLOOKUP(ROWS($AR$12:AR457),$AO$12:$AP$3014,2,0),\"\")","v":0}]
[null,null,null,null,null,null,null,null,null,null,null,null,null,null,null,null,null,null,null,null,null,null,null,null,null,null,{"$f":"IFERROR(INDEX($AE$13:$AE$1003, SMALL(IF(ISBLANK($AE$13:$AE$1003)+ISERROR($AE$13:$AE$1003)+LEN($AE$13:$AE$1003)=0, \"\", ROW($AE$13:$AE$1003)-MIN(ROW($AE$13:$AE$1003))+1), ROW(447:447))),\"\")","v":"__OHI_16__MKC_N"},{"$f":"IF(AF459=\"\",\"\",IF(COUNTIF(CurrentListing,AF459)>1,AJ459,\"\"))","v":""},{"$f":"IF(LEN(AF459)=0,\"\",IF(ISNA(MATCH(AF459,MasterListing,0)),AJ459,\"\"))","v":""},null,"__OHI_16__GRADALTDPL_N","","OHI16GRADALTDPLN","__OHI_16__GRADALTDPL_N",1,"______",null,null,null,null,{"$f":"IF(ISNUMBER(SEARCH($F$6,AP458)),MAX($AO$11:AO457)+1,0)","v":447},0,{"$f":"ROWS($AQ$12:AQ458)","v":447},{"$f":"IFERROR(VLOOKUP(ROWS($AR$12:AR458),$AO$12:$AP$3014,2,0),\"\")","v":0}]
[null,null,null,null,null,null,null,null,null,null,null,null,null,null,null,null,null,null,null,null,null,null,null,null,null,null,{"$f":"IFERROR(INDEX($AE$13:$AE$1003, SMALL(IF(ISBLANK($AE$13:$AE$1003)+ISERROR($AE$13:$AE$1003)+LEN($AE$13:$AE$1003)=0, \"\", ROW($AE$13:$AE$1003)-MIN(ROW($AE$13:$AE$1003))+1), ROW(448:448))),\"\")","v":"__OHI_16__RC_N"},{"$f":"IF(AF460=\"\",\"\",IF(COUNTIF(CurrentListing,AF460)>1,AJ460,\"\"))","v":""},{"$f":"IF(LEN(AF460)=0,\"\",IF(ISNA(MATCH(AF460,MasterListing,0)),AJ460,\"\"))","v":""},null,"__OHI_16__MKC_N","","OHI16MKCN","__OHI_16__MKC_N",1,"______",null,null,null,null,{"$f":"IF(ISNUMBER(SEARCH($F$6,AP459)),MAX($AO$11:AO458)+1,0)","v":448},0,{"$f":"ROWS($AQ$12:AQ459)","v":448},{"$f":"IFERROR(VLOOKUP(ROWS($AR$12:AR459),$AO$12:$AP$3014,2,0),\"\")","v":0}]
[null,null,null,null,null,null,null,null,null,null,null,null,null,null,null,null,null,null,null,null,null,null,null,null,null,null,{"$f":"IFERROR(INDEX($AE$13:$AE$1003, SMALL(IF(ISBLANK($AE$13:$AE$1003)+ISERROR($AE$13:$AE$1003)+LEN($AE$13:$AE$1003)=0, \"\", ROW($AE$13:$AE$1003)-MIN(ROW($AE$13:$AE$1003))+1), ROW(449:449))),\"\")","v":"__OHI_16__RMA_N"},{"$f":"IF(AF461=\"\",\"\",IF(COUNTIF(CurrentListing,AF461)>1,AJ461,\"\"))","v":""},{"$f":"IF(LEN(AF461)=0,\"\",IF(ISNA(MATCH(AF461,MasterListing,0)),AJ461,\"\"))","v":""},null,{"$f":"IF(LEN(AG460)=0,\"\",IF(ISNA(MATCH(AG460,CurrentListing,0)),AH460,\"\"))","v":"__OHI_16__RC_N"},"","OHI16RCN","__OHI_16__RC_N",1,"______",null,null,null,null,{"$f":"IF(ISNUMBER(SEARCH($F$6,AP460)),MAX($AO$11:AO459)+1,0)","v":449},0,{"$f":"ROWS($AQ$12:AQ460)","v":449},{"$f":"IFERROR(VLOOKUP(ROWS($AR$12:AR460),$AO$12:$AP$3014,2,0),\"\")","v":0}]
[null,null,null,null,null,null,null,null,null,null,null,null,null,null,null,null,null,null,null,null,null,null,null,null,null,null,{"$f":"IFERROR(INDEX($AE$13:$AE$1003, SMALL(IF(ISBLANK($AE$13:$AE$1003)+ISERROR($AE$13:$AE$1003)+LEN($AE$13:$AE$1003)=0, \"\", ROW($AE$13:$AE$1003)-MIN(ROW($AE$13:$AE$1003))+1), ROW(450:450))),\"\")","v":"__OHI_16__TRAN_N"},{"$f":"IF(AF462=\"\",\"\",IF(COUNTIF(CurrentListing,AF462)>1,AJ462,\"\"))","v":""},{"$f":"IF(LEN(AF462)=0,\"\",IF(ISNA(MATCH(AF462,MasterListing,0)),AJ462,\"\"))","v":""},null,"__OHI_16__RMA_N",{"$f":"H461&I461&P461&Q461&R461&V461&W461","v":""},"OHI16RMAN","__OHI_16__RMA_N",1,"______",null,null,null,null,{"$f":"IF(ISNUMBER(SEARCH($F$6,AP461)),MAX($AO$11:AO460)+1,0)","v":450},0,{"$f":"ROWS($AQ$12:AQ461)","v":450},{"$f":"IFERROR(VLOOKUP(ROWS($AR$12:AR461),$AO$12:$AP$3014,2,0),\"\")","v":0}]
[null,null,null,null,null,null,null,null,null,null,null,null,null,null,null,null,null,null,null,null,null,null,null,null,null,null,{"$f":"IFERROR(INDEX($AE$13:$AE$1003, SMALL(IF(ISBLANK($AE$13:$AE$1003)+ISERROR($AE$13:$AE$1003)+LEN($AE$13:$AE$1003)=0, \"\", ROW($AE$13:$AE$1003)-MIN(ROW($AE$13:$AE$1003))+1), ROW(451:451))),\"\")","v":"__OHI_17__D_N"},{"$f":"IF(AF463=\"\",\"\",IF(COUNTIF(CurrentListing,AF463)>1,AJ463,\"\"))","v":""},{"$f":"IF(LEN(AF463)=0,\"\",IF(ISNA(MATCH(AF463,MasterListing,0)),AJ463,\"\"))","v":""},null,"__OHI_16__TRAN_N","","OHI16TRANN","__OHI_16__TRAN_N",{"$f":"IF(LEN(AA462)>0,1,0)","v":1},{"$f":"H462&\"_\"&I462&\"_\"&P462&\"_\"&Q462&\"_\"&R462&\"_\"&V462&\"_\"&W462","v":"______"},null,null,null,null,{"$f":"IF(ISNUMBER(SEARCH($F$6,AP462)),MAX($AO$11:AO461)+1,0)","v":451},0,{"$f":"ROWS($AQ$12:AQ462)","v":451},{"$f":"IFERROR(VLOOKUP(ROWS($AR$12:AR462),$AO$12:$AP$3014,2,0),\"\")","v":0}]
[null,null,null,null,null,null,null,null,null,null,null,null,null,null,null,null,null,null,null,null,null,null,null,null,null,null,{"$f":"IFERROR(INDEX($AE$13:$AE$1003, SMALL(IF(ISBLANK($AE$13:$AE$1003)+ISERROR($AE$13:$AE$1003)+LEN($AE$13:$AE$1003)=0, \"\", ROW($AE$13:$AE$1003)-MIN(ROW($AE$13:$AE$1003))+1), ROW(452:452))),\"\")","v":"__OHI_17__DROPOUT_N"},{"$f":"IF(AF464=\"\",\"\",IF(COUNTIF(CurrentListing,AF464)>1,AJ464,\"\"))","v":""},{"$f":"IF(LEN(AF464)=0,\"\",IF(ISNA(MATCH(AF464,MasterListing,0)),AJ464,\"\"))","v":""},null,"__OHI_17__D_N","","OHI17DN","__OHI_17__D_N",1,"______",null,null,null,null,{"$f":"IF(ISNUMBER(SEARCH($F$6,AP463)),MAX($AO$11:AO462)+1,0)","v":452},0,{"$f":"ROWS($AQ$12:AQ463)","v":452},{"$f":"IFERROR(VLOOKUP(ROWS($AR$12:AR463),$AO$12:$AP$3014,2,0),\"\")","v":0}]
[null,null,null,null,null,null,null,null,null,null,null,null,null,null,null,null,null,null,null,null,null,null,null,null,null,null,{"$f":"IFERROR(INDEX($AE$13:$AE$1003, SMALL(IF(ISBLANK($AE$13:$AE$1003)+ISERROR($AE$13:$AE$1003)+LEN($AE$13:$AE$1003)=0, \"\", ROW($AE$13:$AE$1003)-MIN(ROW($AE$13:$AE$1003))+1), ROW(453:453))),\"\")","v":"__OHI_17__GHS_N"},{"$f":"IF(AF465=\"\",\"\",IF(COUNTIF(CurrentListing,AF465)>1,AJ465,\"\"))","v":""},{"$f":"IF(LEN(AF465)=0,\"\",IF(ISNA(MATCH(AF465,MasterListing,0)),AJ465,\"\"))","v":""},null,"__OHI_17__DROPOUT_N","","OHI17DROPOUTN","__OHI_17__DROPOUT_N",1,"______",null,null,null,null,{"$f":"IF(ISNUMBER(SEARCH($F$6,AP464)),MAX($AO$11:AO463)+1,0)","v":453},0,{"$f":"ROWS($AQ$12:AQ464)","v":453},{"$f":"IFERROR(VLOOKUP(ROWS($AR$12:AR464),$AO$12:$AP$3014,2,0),\"\")","v":0}]
[null,null,null,null,null,null,null,null,null,null,null,null,null,null,null,null,null,null,null,null,null,null,null,null,null,null,{"$f":"IFERROR(INDEX($AE$13:$AE$1003, SMALL(IF(ISBLANK($AE$13:$AE$1003)+ISERROR($AE$13:$AE$1003)+LEN($AE$13:$AE$1003)=0, \"\", ROW($AE$13:$AE$1003)-MIN(ROW($AE$13:$AE$1003))+1), ROW(454:454))),\"\")","v":"__OHI_17__GRADALTDPL_N"},{"$f":"IF(AF466=\"\",\"\",IF(COUNTIF(CurrentListing,AF466)>1,AJ466,\"\"))","v":""},{"$f":"IF(LEN(AF466)=0,\"\",IF(ISNA(MATCH(AF466,MasterListing,0)),AJ466,\"\"))","v":""},null,"__OHI_17__GHS_N","","OHI17GHSN","__OHI_17__GHS_N",1,"______",null,null,null,null,{"$f":"IF(ISNUMBER(SEARCH($F$6,AP465)),MAX($AO$11:AO464)+1,0)","v":454},0,{"$f":"ROWS($AQ$12:AQ465)","v":454},{"$f":"IFERROR(VLOOKUP(ROWS($AR$12:AR465),$AO$12:$AP$3014,2,0),\"\")","v":0}]
[null,null,null,null,null,null,null,null,null,null,null,null,null,null,null,null,null,null,null,null,null,null,null,null,null,null,{"$f":"IFERROR(INDEX($AE$13:$AE$1003, SMALL(IF(ISBLANK($AE$13:$AE$1003)+ISERROR($AE$13:$AE$1003)+LEN($AE$13:$AE$1003)=0, \"\", ROW($AE$13:$AE$1003)-MIN(ROW($AE$13:$AE$1003))+1), ROW(455:455))),\"\")","v":"__OHI_17__MKC_N"},{"$f":"IF(AF467=\"\",\"\",IF(COUNTIF(CurrentListing,AF467)>1,AJ467,\"\"))","v":""},{"$f":"IF(LEN(AF467)=0,\"\",IF(ISNA(MATCH(AF467,MasterListing,0)),AJ467,\"\"))","v":""},null,"__OHI_17__GRADALTDPL_N","","OHI17GRADALTDPLN","__OHI_17__GRADALTDPL_N",1,"______",null,null,null,null,{"$f":"IF(ISNUMBER(SEARCH($F$6,AP466)),MAX($AO$11:AO465)+1,0)","v":455},0,{"$f":"ROWS($AQ$12:AQ466)","v":455},{"$f":"IFERROR(VLOOKUP(ROWS($AR$12:AR466),$AO$12:$AP$3014,2,0),\"\")","v":0}]
[null,null,null,null,null,null,null,null,null,null,null,null,null,null,null,null,null,null,null,null,null,null,null,null,null,null,{"$f":"IFERROR(INDEX($AE$13:$AE$1003, SMALL(IF(ISBLANK($AE$13:$AE$1003)+ISERROR($AE$13:$AE$1003)+LEN($AE$13:$AE$1003)=0, \"\", ROW($AE$13:$AE$1003)-MIN(ROW($AE$13:$AE$1003))+1), ROW(456:456))),\"\")","v":"__OHI_17__RC_N"},{"$f":"IF(AF468=\"\",\"\",IF(COUNTIF(CurrentListing,AF468)>1,AJ468,\"\"))","v":""},{"$f":"IF(LEN(AF468)=0,\"\",IF(ISNA(MATCH(AF468,MasterListing,0)),AJ468,\"\"))","v":""},null,"__OHI_17__MKC_N","","OHI17MKCN","__OHI_17__MKC_N",1,"______",null,null,null,null,{"$f":"IF(ISNUMBER(SEARCH($F$6,AP467)),MAX($AO$11:AO466)+1,0)","v":456},0,{"$f":"ROWS($AQ$12:AQ467)","v":456},{"$f":"IFERROR(VLOOKUP(ROWS($AR$12:AR467),$AO$12:$AP$3014,2,0),\"\")","v":0}]
[null,null,null,null,null,null,null,null,null,null,null,null,null,null,null,null,null,null,null,null,null,null,null,null,null,null,{"$f":"IFERROR(INDEX($AE$13:$AE$1003, SMALL(IF(ISBLANK($AE$13:$AE$1003)+ISERROR($AE$13:$AE$1003)+LEN($AE$13:$AE$1003)=0, \"\", ROW($AE$13:$AE$1003)-MIN(ROW($AE$13:$AE$1003))+1), ROW(457:457))),\"\")","v":"__OHI_17__RMA_N"},{"$f":"IF(AF469=\"\",\"\",IF(COUNTIF(CurrentListing,AF469)>1,AJ469,\"\"))","v":""},{"$f":"IF(LEN(AF469)=0,\"\",IF(ISNA(MATCH(AF469,MasterListing,0)),AJ469,\"\"))","v":""},null,"__OHI_17__RC_N","","OHI17RCN","__OHI_17__RC_N",1,"______",null,null,null,null,{"$f":"IF(ISNUMBER(SEARCH($F$6,AP468)),MAX($AO$11:AO467)+1,0)","v":457},0,{"$f":"ROWS($AQ$12:AQ468)","v":457},{"$f":"IFERROR(VLOOKUP(ROWS($AR$12:AR468),$AO$12:$AP$3014,2,0),\"\")","v":0}]
[null,null,null,null,null,null,null,null,null,null,null,null,null,null,null,null,null,null,null,null,null,null,null,null,null,null,{"$f":"IFERROR(INDEX($AE$13:$AE$1003, SMALL(IF(ISBLANK($AE$13:$AE$1003)+ISERROR($AE$13:$AE$1003)+LEN($AE$13:$AE$1003)=0, \"\", ROW($AE$13:$AE$1003)-MIN(ROW($AE$13:$AE$1003))+1), ROW(458:458))),\"\")","v":"__OHI_17__TRAN_N"},{"$f":"IF(AF470=\"\",\"\",IF(COUNTIF(CurrentListing,AF470)>1,AJ470,\"\"))","v":""},{"$f":"IF(LEN(AF470)=0,\"\",IF(ISNA(MATCH(AF470,MasterListing,0)),AJ470,\"\"))","v":""},null,"__OHI_17__RMA_N","","OHI17RMAN","__OHI_17__RMA_N",1,"______",null,null,null,null,{"$f":"IF(ISNUMBER(SEARCH($F$6,AP469)),MAX($AO$11:AO468)+1,0)","v":458},0,{"$f":"ROWS($AQ$12:AQ469)","v":458},{"$f":"IFERROR(VLOOKUP(ROWS($AR$12:AR469),$AO$12:$AP$3014,2,0),\"\")","v":0}]
[null,null,null,null,null,null,null,null,null,null,null,null,null,null,null,null,null,null,null,null,null,null,null,null,null,null,{"$f":"IFERROR(INDEX($AE$13:$AE$1003, SMALL(IF(ISBLANK($AE$13:$AE$1003)+ISERROR($AE$13:$AE$1003)+LEN($AE$13:$AE$1003)=0, \"\", ROW($AE$13:$AE$1003)-MIN(ROW($AE$13:$AE$1003))+1), ROW(459:459))),\"\")","v":"__OHI_18__D_N"},{"$f":"IF(AF471=\"\",\"\",IF(COUNTIF(CurrentListing,AF471)>1,AJ471,\"\"))","v":""},{"$f":"IF(LEN(AF471)=0,\"\",IF(ISNA(MATCH(AF471,MasterListing,0)),AJ471,\"\"))","v":""},null,"__OHI_17__TRAN_N","","OHI17TRANN","__OHI_17__TRAN_N",1,"______",null,null,null,null,{"$f":"IF(ISNUMBER(SEARCH($F$6,AP470)),MAX($AO$11:AO469)+1,0)","v":459},0,{"$f":"ROWS($AQ$12:AQ470)","v":459},{"$f":"IFERROR(VLOOKUP(ROWS($AR$12:AR470),$AO$12:$AP$3014,2,0),\"\")","v":0}]
[null,null,null,null,null,null,null,null,null,null,null,null,null,null,null,null,null,null,null,null,null,null,null,null,null,null,{"$f":"IFERROR(INDEX($AE$13:$AE$1003, SMALL(IF(ISBLANK($AE$13:$AE$1003)+ISERROR($AE$13:$AE$1003)+LEN($AE$13:$AE$1003)=0, \"\", ROW($AE$13:$AE$1003)-MIN(ROW($AE$13:$AE$1003))+1), ROW(460:460))),\"\")","v":"__OHI_18__DROPOUT_N"},{"$f":"IF(AF472=\"\",\"\",IF(COUNTIF(CurrentListing,AF472)>1,AJ472,\"\"))","v":""},{"$f":"IF(LEN(AF472)=0,\"\",IF(ISNA(MATCH(AF472,MasterListing,0)),AJ472,\"\"))","v":""},null,"__OHI_18__D_N","","OHI18DN","__OHI_18__D_N",1,"______",null,null,null,null,{"$f":"IF(ISNUMBER(SEARCH($F$6,AP471)),MAX($AO$11:AO470)+1,0)","v":460},0,{"$f":"ROWS($AQ$12:AQ471)","v":460},{"$f":"IFERROR(VLOOKUP(ROWS($AR$12:AR471),$AO$12:$AP$3014,2,0),\"\")","v":0}]
[null,null,null,null,null,null,null,null,null,null,null,null,null,null,null,null,null,null,null,null,null,null,null,null,null,null,{"$f":"IFERROR(INDEX($AE$13:$AE$1003, SMALL(IF(ISBLANK($AE$13:$AE$1003)+ISERROR($AE$13:$AE$1003)+LEN($AE$13:$AE$1003)=0, \"\", ROW($AE$13:$AE$1003)-MIN(ROW($AE$13:$AE$1003))+1), ROW(461:461))),\"\")","v":"__OHI_18__GHS_N"},{"$f":"IF(AF473=\"\",\"\",IF(COUNTIF(CurrentListing,AF473)>1,AJ473,\"\"))","v":""},{"$f":"IF(LEN(AF473)=0,\"\",IF(ISNA(MATCH(AF473,MasterListing,0)),AJ473,\"\"))","v":""},null,"__OHI_18__DROPOUT_N","","OHI18DROPOUTN","__OHI_18__DROPOUT_N",1,"______",null,null,null,null,{"$f":"IF(ISNUMBER(SEARCH($F$6,AP472)),MAX($AO$11:AO471)+1,0)","v":461},0,{"$f":"ROWS($AQ$12:AQ472)","v":461},{"$f":"IFERROR(VLOOKUP(ROWS($AR$12:AR472),$AO$12:$AP$3014,2,0),\"\")","v":0}]
[null,null,null,null,null,null,null,null,null,null,null,null,null,null,null,null,null,null,null,null,null,null,null,null,null,null,{"$f":"IFERROR(INDEX($AE$13:$AE$1003, SMALL(IF(ISBLANK($AE$13:$AE$1003)+ISERROR($AE$13:$AE$1003)+LEN($AE$13:$AE$1003)=0, \"\", ROW($AE$13:$AE$1003)-MIN(ROW($AE$13:$AE$1003))+1), ROW(462:462))),\"\")","v":"__OHI_18__GRADALTDPL_N"},{"$f":"IF(AF474=\"\",\"\",IF(COUNTIF(CurrentListing,AF474)>1,AJ474,\"\"))","v":""},{"$f":"IF(LEN(AF474)=0,\"\",IF(ISNA(MATCH(AF474,MasterListing,0)),AJ474,\"\"))","v":""},null,"__OHI_18__GHS_N","","OHI18GHSN","__OHI_18__GHS_N",1,"______",null,null,null,null,{"$f":"IF(ISNUMBER(SEARCH($F$6,AP473)),MAX($AO$11:AO472)+1,0)","v":462},0,{"$f":"ROWS($AQ$12:AQ473)","v":462},{"$f":"IFERROR(VLOOKUP(ROWS($AR$12:AR473),$AO$12:$AP$3014,2,0),\"\")","v":0}]
[null,null,null,null,null,null,null,null,null,null,null,null,null,null,null,null,null,null,null,null,null,null,null,null,null,null,{"$f":"IFERROR(INDEX($AE$13:$AE$1003, SMALL(IF(ISBLANK($AE$13:$AE$1003)+ISERROR($AE$13:$AE$1003)+LEN($AE$13:$AE$1003)=0, \"\", ROW($AE$13:$AE$1003)-MIN(ROW($AE$13:$AE$1003))+1), ROW(463:463))),\"\")","v":"__OHI_18__MKC_N"},{"$f":"IF(AF475=\"\",\"\",IF(COUNTIF(CurrentListing,AF475)>1,AJ475,\"\"))","v":""},{"$f":"IF(LEN(AF475)=0,\"\",IF(ISNA(MATCH(AF475,MasterListing,0)),AJ475,\"\"))","v":""},null,"__OHI_18__GRADALTDPL_N","","OHI18GRADALTDPLN","__OHI_18__GRADALTDPL_N",1,"______",null,null,null,null,{"$f":"IF(ISNUMBER(SEARCH($F$6,AP474)),MAX($AO$11:AO473)+1,0)","v":463},0,{"$f":"ROWS($AQ$12:AQ474)","v":463},{"$f":"IFERROR(VLOOKUP(ROWS($AR$12:AR474),$AO$12:$AP$3014,2,0),\"\")","v":0}]
[null,null,null,null,null,null,null,null,null,null,null,null,null,null,null,null,null,null,null,null,null,null,null,null,null,null,{"$f":"IFERROR(INDEX($AE$13:$AE$1003, SMALL(IF(ISBLANK($AE$13:$AE$1003)+ISERROR($AE$13:$AE$1003)+LEN($AE$13:$AE$1003)=0, \"\", ROW($AE$13:$AE$1003)-MIN(ROW($AE$13:$AE$1003))+1), ROW(464:464))),\"\")","v":"__OHI_18__RC_N"},{"$f":"IF(AF476=\"\",\"\",IF(COUNTIF(CurrentListing,AF476)>1,AJ476,\"\"))","v":""},{"$f":"IF(LEN(AF476)=0,\"\",IF(ISNA(MATCH(AF476,MasterListing,0)),AJ476,\"\"))","v":""},null,"__OHI_18__MKC_N","","OHI18MKCN","__OHI_18__MKC_N",1,"______",null,null,null,null,{"$f":"IF(ISNUMBER(SEARCH($F$6,AP475)),MAX($AO$11:AO474)+1,0)","v":464},0,{"$f":"ROWS($AQ$12:AQ475)","v":464},{"$f":"IFERROR(VLOOKUP(ROWS($AR$12:AR475),$AO$12:$AP$3014,2,0),\"\")","v":0}]
[null,null,null,null,null,null,null,null,null,null,null,null,null,null,null,null,null,null,null,null,null,null,null,null,null,null,{"$f":"IFERROR(INDEX($AE$13:$AE$1003, SMALL(IF(ISBLANK($AE$13:$AE$1003)+ISERROR($AE$13:$AE$1003)+LEN($AE$13:$AE$1003)=0, \"\", ROW($AE$13:$AE$1003)-MIN(ROW($AE$13:$AE$1003))+1), ROW(465:465))),\"\")","v":"__OHI_18__RMA_N"},{"$f":"IF(AF477=\"\",\"\",IF(COUNTIF(CurrentListing,AF477)>1,AJ477,\"\"))","v":""},{"$f":"IF(LEN(AF477)=0,\"\",IF(ISNA(MATCH(AF477,MasterListing,0)),AJ477,\"\"))","v":""},null,"__OHI_18__RC_N","","OHI18RCN","__OHI_18__RC_N",1,"______",null,null,null,null,{"$f":"IF(ISNUMBER(SEARCH($F$6,AP476)),MAX($AO$11:AO475)+1,0)","v":465},0,{"$f":"ROWS($AQ$12:AQ476)","v":465},{"$f":"IFERROR(VLOOKUP(ROWS($AR$12:AR476),$AO$12:$AP$3014,2,0),\"\")","v":0}]
[null,null,null,null,null,null,null,null,null,null,null,null,null,null,null,null,null,null,null,null,null,null,null,null,null,null,{"$f":"IFERROR(INDEX($AE$13:$AE$1003, SMALL(IF(ISBLANK($AE$13:$AE$1003)+ISERROR($AE$13:$AE$1003)+LEN($AE$13:$AE$1003)=0, \"\", ROW($AE$13:$AE$1003)-MIN(ROW($AE$13:$AE$1003))+1), ROW(466:466))),\"\")","v":"__OHI_18__TRAN_N"},{"$f":"IF(AF478=\"\",\"\",IF(COUNTIF(CurrentListing,AF478)>1,AJ478,\"\"))","v":""},{"$f":"IF(LEN(AF478)=0,\"\",IF(ISNA(MATCH(AF478,MasterListing,0)),AJ478,\"\"))","v":""},null,"__OHI_18__RMA_N","","OHI18RMAN","__OHI_18__RMA_N",1,"______",null,null,null,null,{"$f":"IF(ISNUMBER(SEARCH($F$6,AP477)),MAX($AO$11:AO476)+1,0)","v":466},0,{"$f":"ROWS($AQ$12:AQ477)","v":466},{"$f":"IFERROR(VLOOKUP(ROWS($AR$12:AR477),$AO$12:$AP$3014,2,0),\"\")","v":0}]
[null,null,null,null,null,null,null,null,null,null,null,null,null,null,null,null,null,null,null,null,null,null,null,null,null,null,{"$f":"IFERROR(INDEX($AE$13:$AE$1003, SMALL(IF(ISBLANK($AE$13:$AE$1003)+ISERROR($AE$13:$AE$1003)+LEN($AE$13:$AE$1003)=0, \"\", ROW($AE$13:$AE$1003)-MIN(ROW($AE$13:$AE$1003))+1), ROW(467:467))),\"\")","v":"__OHI_19__D_N"},{"$f":"IF(AF479=\"\",\"\",IF(COUNTIF(CurrentListing,AF479)>1,AJ479,\"\"))","v":""},{"$f":"IF(LEN(AF479)=0,\"\",IF(ISNA(MATCH(AF479,MasterListing,0)),AJ479,\"\"))","v":""},null,"__OHI_18__TRAN_N","","OHI18TRANN","__OHI_18__TRAN_N",1,"______",null,null,null,null,{"$f":"IF(ISNUMBER(SEARCH($F$6,AP478)),MAX($AO$11:AO477)+1,0)","v":467},0,{"$f":"ROWS($AQ$12:AQ478)","v":467},{"$f":"IFERROR(VLOOKUP(ROWS($AR$12:AR478),$AO$12:$AP$3014,2,0),\"\")","v":0}]
[null,null,null,null,null,null,null,null,null,null,null,null,null,null,null,null,null,null,null,null,null,null,null,null,null,null,{"$f":"IFERROR(INDEX($AE$13:$AE$1003, SMALL(IF(ISBLANK($AE$13:$AE$1003)+ISERROR($AE$13:$AE$1003)+LEN($AE$13:$AE$1003)=0, \"\", ROW($AE$13:$AE$1003)-MIN(ROW($AE$13:$AE$1003))+1), ROW(468:468))),\"\")","v":"__OHI_19__DROPOUT_N"},{"$f":"IF(AF480=\"\",\"\",IF(COUNTIF(CurrentListing,AF480)>1,AJ480,\"\"))","v":""},{"$f":"IF(LEN(AF480)=0,\"\",IF(ISNA(MATCH(AF480,MasterListing,0)),AJ480,\"\"))","v":""},null,"__OHI_19__D_N","","OHI19DN","__OHI_19__D_N",1,"______",null,null,null,null,{"$f":"IF(ISNUMBER(SEARCH($F$6,AP479)),MAX($AO$11:AO478)+1,0)","v":468},0,{"$f":"ROWS($AQ$12:AQ479)","v":468},{"$f":"IFERROR(VLOOKUP(ROWS($AR$12:AR479),$AO$12:$AP$3014,2,0),\"\")","v":0}]
[null,null,null,null,null,null,null,null,null,null,null,null,null,null,null,null,null,null,null,null,null,null,null,null,null,null,{"$f":"IFERROR(INDEX($AE$13:$AE$1003, SMALL(IF(ISBLANK($AE$13:$AE$1003)+ISERROR($AE$13:$AE$1003)+LEN($AE$13:$AE$1003)=0, \"\", ROW($AE$13:$AE$1003)-MIN(ROW($AE$13:$AE$1003))+1), ROW(469:469))),\"\")","v":"__OHI_19__GHS_N"},{"$f":"IF(AF481=\"\",\"\",IF(COUNTIF(CurrentListing,AF481)>1,AJ481,\"\"))","v":""},{"$f":"IF(LEN(AF481)=0,\"\",IF(ISNA(MATCH(AF481,MasterListing,0)),AJ481,\"\"))","v":""},null,"__OHI_19__DROPOUT_N","","OHI19DROPOUTN","__OHI_19__DROPOUT_N",1,"______",null,null,null,null,{"$f":"IF(ISNUMBER(SEARCH($F$6,AP480)),MAX($AO$11:AO479)+1,0)","v":469},0,{"$f":"ROWS($AQ$12:AQ480)","v":469},{"$f":"IFERROR(VLOOKUP(ROWS($AR$12:AR480),$AO$12:$AP$3014,2,0),\"\")","v":0}]
[null,null,null,null,null,null,null,null,null,null,null,null,null,null,null,null,null,null,null,null,null,null,null,null,null,null,{"$f":"IFERROR(INDEX($AE$13:$AE$1003, SMALL(IF(ISBLANK($AE$13:$AE$1003)+ISERROR($AE$13:$AE$1003)+LEN($AE$13:$AE$1003)=0, \"\", ROW($AE$13:$AE$1003)-MIN(ROW($AE$13:$AE$1003))+1), ROW(470:470))),\"\")","v":"__OHI_19__GRADALTDPL_N"},{"$f":"IF(AF482=\"\",\"\",IF(COUNTIF(CurrentListing,AF482)>1,AJ482,\"\"))","v":""},{"$f":"IF(LEN(AF482)=0,\"\",IF(ISNA(MATCH(AF482,MasterListing,0)),AJ482,\"\"))","v":""},null,"__OHI_19__GHS_N","","OHI19GHSN","__OHI_19__GHS_N",1,"______",null,null,null,null,{"$f":"IF(ISNUMBER(SEARCH($F$6,AP481)),MAX($AO$11:AO480)+1,0)","v":470},0,{"$f":"ROWS($AQ$12:AQ481)","v":470},{"$f":"IFERROR(VLOOKUP(ROWS($AR$12:AR481),$AO$12:$AP$3014,2,0),\"\")","v":0}]
[null,null,null,null,null,null,null,null,null,null,null,null,null,null,null,null,null,null,null,null,null,null,null,null,null,null,{"$f":"IFERROR(INDEX($AE$13:$AE$1003, SMALL(IF(ISBLANK($AE$13:$AE$1003)+ISERROR($AE$13:$AE$1003)+LEN($AE$13:$AE$1003)=0, \"\", ROW($AE$13:$AE$1003)-MIN(ROW($AE$13:$AE$1003))+1), ROW(471:471))),\"\")","v":"__OHI_19__MKC_N"},{"$f":"IF(AF483=\"\",\"\",IF(COUNTIF(CurrentListing,AF483)>1,AJ483,\"\"))","v":""},{"$f":"IF(LEN(AF483)=0,\"\",IF(ISNA(MATCH(AF483,MasterListing,0)),AJ483,\"\"))","v":""},null,"__OHI_19__GRADALTDPL_N","","OHI19GRADALTDPLN","__OHI_19__GRADALTDPL_N",1,"______",null,null,null,null,{"$f":"IF(ISNUMBER(SEARCH($F$6,AP482)),MAX($AO$11:AO481)+1,0)","v":471},0,{"$f":"ROWS($AQ$12:AQ482)","v":471},{"$f":"IFERROR(VLOOKUP(ROWS($AR$12:AR482),$AO$12:$AP$3014,2,0),\"\")","v":0}]
[null,null,null,null,null,null,null,null,null,null,null,null,null,null,null,null,null,null,null,null,null,null,null,null,null,null,{"$f":"IFERROR(INDEX($AE$13:$AE$1003, SMALL(IF(ISBLANK($AE$13:$AE$1003)+ISERROR($AE$13:$AE$1003)+LEN($AE$13:$AE$1003)=0, \"\", ROW($AE$13:$AE$1003)-MIN(ROW($AE$13:$AE$1003))+1), ROW(472:472))),\"\")","v":"__OHI_19__RC_N"},{"$f":"IF(AF484=\"\",\"\",IF(COUNTIF(CurrentListing,AF484)>1,AJ484,\"\"))","v":""},{"$f":"IF(LEN(AF484)=0,\"\",IF(ISNA(MATCH(AF484,MasterListing,0)),AJ484,\"\"))","v":""},null,"__OHI_19__MKC_N","","OHI19MKCN","__OHI_19__MKC_N",1,"______",null,null,null,null,{"$f":"IF(ISNUMBER(SEARCH($F$6,AP483)),MAX($AO$11:AO482)+1,0)","v":472},0,{"$f":"ROWS($AQ$12:AQ483)","v":472},{"$f":"IFERROR(VLOOKUP(ROWS($AR$12:AR483),$AO$12:$AP$3014,2,0),\"\")","v":0}]
[null,null,null,null,null,null,null,null,null,null,null,null,null,null,null,null,null,null,null,null,null,null,null,null,null,null,{"$f":"IFERROR(INDEX($AE$13:$AE$1003, SMALL(IF(ISBLANK($AE$13:$AE$1003)+ISERROR($AE$13:$AE$1003)+LEN($AE$13:$AE$1003)=0, \"\", ROW($AE$13:$AE$1003)-MIN(ROW($AE$13:$AE$1003))+1), ROW(473:473))),\"\")","v":"__OHI_19__RMA_N"},{"$f":"IF(AF485=\"\",\"\",IF(COUNTIF(CurrentListing,AF485)>1,AJ485,\"\"))","v":""},{"$f":"IF(LEN(AF485)=0,\"\",IF(ISNA(MATCH(AF485,MasterListing,0)),AJ485,\"\"))","v":""},null,"__OHI_19__RC_N","","OHI19RCN","__OHI_19__RC_N",1,"______",null,null,null,null,{"$f":"IF(ISNUMBER(SEARCH($F$6,AP484)),MAX($AO$11:AO483)+1,0)","v":473},0,{"$f":"ROWS($AQ$12:AQ484)","v":473},{"$f":"IFERROR(VLOOKUP(ROWS($AR$12:AR484),$AO$12:$AP$3014,2,0),\"\")","v":0}]
[null,null,null,null,null,null,null,null,null,null,null,null,null,null,null,null,null,null,null,null,null,null,null,null,null,null,{"$f":"IFERROR(INDEX($AE$13:$AE$1003, SMALL(IF(ISBLANK($AE$13:$AE$1003)+ISERROR($AE$13:$AE$1003)+LEN($AE$13:$AE$1003)=0, \"\", ROW($AE$13:$AE$1003)-MIN(ROW($AE$13:$AE$1003))+1), ROW(474:474))),\"\")","v":"__OHI_19__TRAN_N"},{"$f":"IF(AF486=\"\",\"\",IF(COUNTIF(CurrentListing,AF486)>1,AJ486,\"\"))","v":""},{"$f":"IF(LEN(AF486)=0,\"\",IF(ISNA(MATCH(AF486,MasterListing,0)),AJ486,\"\"))","v":""},null,"__OHI_19__RMA_N","","OHI19RMAN","__OHI_19__RMA_N",1,"______",null,null,null,null,{"$f":"IF(ISNUMBER(SEARCH($F$6,AP485)),MAX($AO$11:AO484)+1,0)","v":474},0,{"$f":"ROWS($AQ$12:AQ485)","v":474},{"$f":"IFERROR(VLOOKUP(ROWS($AR$12:AR485),$AO$12:$AP$3014,2,0),\"\")","v":0}]
[null,null,null,null,null,null,null,null,null,null,null,null,null,null,null,null,null,null,null,null,null,null,null,null,null,null,{"$f":"IFERROR(INDEX($AE$13:$AE$1003, SMALL(IF(ISBLANK($AE$13:$AE$1003)+ISERROR($AE$13:$AE$1003)+LEN($AE$13:$AE$1003)=0, \"\", ROW($AE$13:$AE$1003)-MIN(ROW($AE$13:$AE$1003))+1), ROW(475:475))),\"\")","v":"__OHI_20__D_N"},{"$f":"IF(AF487=\"\",\"\",IF(COUNTIF(CurrentListing,AF487)>1,AJ487,\"\"))","v":""},{"$f":"IF(LEN(AF487)=0,\"\",IF(ISNA(MATCH(AF487,MasterListing,0)),AJ487,\"\"))","v":""},null,"__OHI_19__TRAN_N","","OHI19TRANN","__OHI_19__TRAN_N",1,"______",null,null,null,null,{"$f":"IF(ISNUMBER(SEARCH($F$6,AP486)),MAX($AO$11:AO485)+1,0)","v":475},0,{"$f":"ROWS($AQ$12:AQ486)","v":475},{"$f":"IFERROR(VLOOKUP(ROWS($AR$12:AR486),$AO$12:$AP$3014,2,0),\"\")","v":0}]
[null,null,null,null,null,null,null,null,null,null,null,null,null,null,null,null,null,null,null,null,null,null,null,null,null,null,{"$f":"IFERROR(INDEX($AE$13:$AE$1003, SMALL(IF(ISBLANK($AE$13:$AE$1003)+ISERROR($AE$13:$AE$1003)+LEN($AE$13:$AE$1003)=0, \"\", ROW($AE$13:$AE$1003)-MIN(ROW($AE$13:$AE$1003))+1), ROW(476:476))),\"\")","v":"__OHI_20__DROPOUT_N"},{"$f":"IF(AF488=\"\",\"\",IF(COUNTIF(CurrentListing,AF488)>1,AJ488,\"\"))","v":""},{"$f":"IF(LEN(AF488)=0,\"\",IF(ISNA(MATCH(AF488,MasterListing,0)),AJ488,\"\"))","v":""},null,"__OHI_20__D_N","","OHI20DN","__OHI_20__D_N",1,"______",null,null,null,null,{"$f":"IF(ISNUMBER(SEARCH($F$6,AP487)),MAX($AO$11:AO486)+1,0)","v":476},0,{"$f":"ROWS($AQ$12:AQ487)","v":476},{"$f":"IFERROR(VLOOKUP(ROWS($AR$12:AR487),$AO$12:$AP$3014,2,0),\"\")","v":0}]
[null,null,null,null,null,null,null,null,null,null,null,null,null,null,null,null,null,null,null,null,null,null,null,null,null,null,{"$f":"IFERROR(INDEX($AE$13:$AE$1003, SMALL(IF(ISBLANK($AE$13:$AE$1003)+ISERROR($AE$13:$AE$1003)+LEN($AE$13:$AE$1003)=0, \"\", ROW($AE$13:$AE$1003)-MIN(ROW($AE$13:$AE$1003))+1), ROW(477:477))),\"\")","v":"__OHI_20__GHS_N"},{"$f":"IF(AF489=\"\",\"\",IF(COUNTIF(CurrentListing,AF489)>1,AJ489,\"\"))","v":""},{"$f":"IF(LEN(AF489)=0,\"\",IF(ISNA(MATCH(AF489,MasterListing,0)),AJ489,\"\"))","v":""},null,"__OHI_20__DROPOUT_N","","OHI20DROPOUTN","__OHI_20__DROPOUT_N",1,"______",null,null,null,null,{"$f":"IF(ISNUMBER(SEARCH($F$6,AP488)),MAX($AO$11:AO487)+1,0)","v":477},0,{"$f":"ROWS($AQ$12:AQ488)","v":477},{"$f":"IFERROR(VLOOKUP(ROWS($AR$12:AR488),$AO$12:$AP$3014,2,0),\"\")","v":0}]
[null,null,null,null,null,null,null,null,null,null,null,null,null,null,null,null,null,null,null,null,null,null,null,null,null,null,{"$f":"IFERROR(INDEX($AE$13:$AE$1003, SMALL(IF(ISBLANK($AE$13:$AE$1003)+ISERROR($AE$13:$AE$1003)+LEN($AE$13:$AE$1003)=0, \"\", ROW($AE$13:$AE$1003)-MIN(ROW($AE$13:$AE$1003))+1), ROW(478:478))),\"\")","v":"__OHI_20__GRADALTDPL_N"},{"$f":"IF(AF490=\"\",\"\",IF(COUNTIF(CurrentListing,AF490)>1,AJ490,\"\"))","v":""},{"$f":"IF(LEN(AF490)=0,\"\",IF(ISNA(MATCH(AF490,MasterListing,0)),AJ490,\"\"))","v":""},null,"__OHI_20__GHS_N","","OHI20GHSN","__OHI_20__GHS_N",1,"______",null,null,null,null,{"$f":"IF(ISNUMBER(SEARCH($F$6,AP489)),MAX($AO$11:AO488)+1,0)","v":478},0,{"$f":"ROWS($AQ$12:AQ489)","v":478},{"$f":"IFERROR(VLOOKUP(ROWS($AR$12:AR489),$AO$12:$AP$3014,2,0),\"\")","v":0}]
[null,null,null,null,null,null,null,null,null,null,null,null,null,null,null,null,null,null,null,null,null,null,null,null,null,null,{"$f":"IFERROR(INDEX($AE$13:$AE$1003, SMALL(IF(ISBLANK($AE$13:$AE$1003)+ISERROR($AE$13:$AE$1003)+LEN($AE$13:$AE$1003)=0, \"\", ROW($AE$13:$AE$1003)-MIN(ROW($AE$13:$AE$1003))+1), ROW(479:479))),\"\")","v":"__OHI_20__MKC_N"},{"$f":"IF(AF491=\"\",\"\",IF(COUNTIF(CurrentListing,AF491)>1,AJ491,\"\"))","v":""},{"$f":"IF(LEN(AF491)=0,\"\",IF(ISNA(MATCH(AF491,MasterListing,0)),AJ491,\"\"))","v":""},null,"__OHI_20__GRADALTDPL_N","","OHI20GRADALTDPLN","__OHI_20__GRADALTDPL_N",1,"______",null,null,null,null,{"$f":"IF(ISNUMBER(SEARCH($F$6,AP490)),MAX($AO$11:AO489)+1,0)","v":479},0,{"$f":"ROWS($AQ$12:AQ490)","v":479},{"$f":"IFERROR(VLOOKUP(ROWS($AR$12:AR490),$AO$12:$AP$3014,2,0),\"\")","v":0}]
[null,null,null,null,null,null,null,null,null,null,null,null,null,null,null,null,null,null,null,null,null,null,null,null,null,null,{"$f":"IFERROR(INDEX($AE$13:$AE$1003, SMALL(IF(ISBLANK($AE$13:$AE$1003)+ISERROR($AE$13:$AE$1003)+LEN($AE$13:$AE$1003)=0, \"\", ROW($AE$13:$AE$1003)-MIN(ROW($AE$13:$AE$1003))+1), ROW(480:480))),\"\")","v":"__OHI_20__RC_N"},{"$f":"IF(AF492=\"\",\"\",IF(COUNTIF(CurrentListing,AF492)>1,AJ492,\"\"))","v":""},{"$f":"IF(LEN(AF492)=0,\"\",IF(ISNA(MATCH(AF492,MasterListing,0)),AJ492,\"\"))","v":""},null,"__OHI_20__MKC_N","","OHI20MKCN","__OHI_20__MKC_N",1,"______",null,null,null,null,{"$f":"IF(ISNUMBER(SEARCH($F$6,AP491)),MAX($AO$11:AO490)+1,0)","v":480},0,{"$f":"ROWS($AQ$12:AQ491)","v":480},{"$f":"IFERROR(VLOOKUP(ROWS($AR$12:AR491),$AO$12:$AP$3014,2,0),\"\")","v":0}]
[null,null,null,null,null,null,null,null,null,null,null,null,null,null,null,null,null,null,null,null,null,null,null,null,null,null,{"$f":"IFERROR(INDEX($AE$13:$AE$1003, SMALL(IF(ISBLANK($AE$13:$AE$1003)+ISERROR($AE$13:$AE$1003)+LEN($AE$13:$AE$1003)=0, \"\", ROW($AE$13:$AE$1003)-MIN(ROW($AE$13:$AE$1003))+1), ROW(481:481))),\"\")","v":"__OHI_20__RMA_N"},{"$f":"IF(AF493=\"\",\"\",IF(COUNTIF(CurrentListing,AF493)>1,AJ493,\"\"))","v":""},{"$f":"IF(LEN(AF493)=0,\"\",IF(ISNA(MATCH(AF493,MasterListing,0)),AJ493,\"\"))","v":""},null,"__OHI_20__RC_N","","OHI20RCN","__OHI_20__RC_N",1,"______",null,null,null,null,{"$f":"IF(ISNUMBER(SEARCH($F$6,AP492)),MAX($AO$11:AO491)+1,0)","v":481},0,{"$f":"ROWS($AQ$12:AQ492)","v":481},{"$f":"IFERROR(VLOOKUP(ROWS($AR$12:AR492),$AO$12:$AP$3014,2,0),\"\")","v":0}]
[null,null,null,null,null,null,null,null,null,null,null,null,null,null,null,null,null,null,null,null,null,null,null,null,null,null,{"$f":"IFERROR(INDEX($AE$13:$AE$1003, SMALL(IF(ISBLANK($AE$13:$AE$1003)+ISERROR($AE$13:$AE$1003)+LEN($AE$13:$AE$1003)=0, \"\", ROW($AE$13:$AE$1003)-MIN(ROW($AE$13:$AE$1003))+1), ROW(482:482))),\"\")","v":"__OHI_20__TRAN_N"},{"$f":"IF(AF494=\"\",\"\",IF(COUNTIF(CurrentListing,AF494)>1,AJ494,\"\"))","v":""},{"$f":"IF(LEN(AF494)=0,\"\",IF(ISNA(MATCH(AF494,MasterListing,0)),AJ494,\"\"))","v":""},null,"__OHI_20__RMA_N","","OHI20RMAN","__OHI_20__RMA_N",1,"______",null,null,null,null,{"$f":"IF(ISNUMBER(SEARCH($F$6,AP493)),MAX($AO$11:AO492)+1,0)","v":482},0,{"$f":"ROWS($AQ$12:AQ493)","v":482},{"$f":"IFERROR(VLOOKUP(ROWS($AR$12:AR493),$AO$12:$AP$3014,2,0),\"\")","v":0}]
[null,null,null,null,null,null,null,null,null,null,null,null,null,null,null,null,null,null,null,null,null,null,null,null,null,null,{"$f":"IFERROR(INDEX($AE$13:$AE$1003, SMALL(IF(ISBLANK($AE$13:$AE$1003)+ISERROR($AE$13:$AE$1003)+LEN($AE$13:$AE$1003)=0, \"\", ROW($AE$13:$AE$1003)-MIN(ROW($AE$13:$AE$1003))+1), ROW(483:483))),\"\")","v":"__OHI_21__D_N"},{"$f":"IF(AF495=\"\",\"\",IF(COUNTIF(CurrentListing,AF495)>1,AJ495,\"\"))","v":""},{"$f":"IF(LEN(AF495)=0,\"\",IF(ISNA(MATCH(AF495,MasterListing,0)),AJ495,\"\"))","v":""},null,"__OHI_20__TRAN_N","","OHI20TRANN","__OHI_20__TRAN_N",1,"______",null,null,null,null,{"$f":"IF(ISNUMBER(SEARCH($F$6,AP494)),MAX($AO$11:AO493)+1,0)","v":483},0,{"$f":"ROWS($AQ$12:AQ494)","v":483},{"$f":"IFERROR(VLOOKUP(ROWS($AR$12:AR494),$AO$12:$AP$3014,2,0),\"\")","v":0}]
[null,null,null,null,null,null,null,null,null,null,null,null,null,null,null,null,null,null,null,null,null,null,null,null,null,null,{"$f":"IFERROR(INDEX($AE$13:$AE$1003, SMALL(IF(ISBLANK($AE$13:$AE$1003)+ISERROR($AE$13:$AE$1003)+LEN($AE$13:$AE$1003)=0, \"\", ROW($AE$13:$AE$1003)-MIN(ROW($AE$13:$AE$1003))+1), ROW(484:484))),\"\")","v":"__OHI_21__DROPOUT_N"},{"$f":"IF(AF496=\"\",\"\",IF(COUNTIF(CurrentListing,AF496)>1,AJ496,\"\"))","v":""},{"$f":"IF(LEN(AF496)=0,\"\",IF(ISNA(MATCH(AF496,MasterListing,0)),AJ496,\"\"))","v":""},null,"__OHI_21__D_N","","OHI21DN","__OHI_21__D_N",1,"______",null,null,null,null,{"$f":"IF(ISNUMBER(SEARCH($F$6,AP495)),MAX($AO$11:AO494)+1,0)","v":484},0,{"$f":"ROWS($AQ$12:AQ495)","v":484},{"$f":"IFERROR(VLOOKUP(ROWS($AR$12:AR495),$AO$12:$AP$3014,2,0),\"\")","v":0}]
[null,null,null,null,null,null,null,null,null,null,null,null,null,null,null,null,null,null,null,null,null,null,null,null,null,null,{"$f":"IFERROR(INDEX($AE$13:$AE$1003, SMALL(IF(ISBLANK($AE$13:$AE$1003)+ISERROR($AE$13:$AE$1003)+LEN($AE$13:$AE$1003)=0, \"\", ROW($AE$13:$AE$1003)-MIN(ROW($AE$13:$AE$1003))+1), ROW(485:485))),\"\")","v":"__OHI_21__GHS_N"},{"$f":"IF(AF497=\"\",\"\",IF(COUNTIF(CurrentListing,AF497)>1,AJ497,\"\"))","v":""},{"$f":"IF(LEN(AF497)=0,\"\",IF(ISNA(MATCH(AF497,MasterListing,0)),AJ497,\"\"))","v":""},null,"__OHI_21__DROPOUT_N","","OHI21DROPOUTN","__OHI_21__DROPOUT_N",1,"______",null,null,null,null,{"$f":"IF(ISNUMBER(SEARCH($F$6,AP496)),MAX($AO$11:AO495)+1,0)","v":485},0,{"$f":"ROWS($AQ$12:AQ496)","v":485},{"$f":"IFERROR(VLOOKUP(ROWS($AR$12:AR496),$AO$12:$AP$3014,2,0),\"\")","v":0}]
[null,null,null,null,null,null,null,null,null,null,null,null,null,null,null,null,null,null,null,null,null,null,null,null,null,null,{"$f":"IFERROR(INDEX($AE$13:$AE$1003, SMALL(IF(ISBLANK($AE$13:$AE$1003)+ISERROR($AE$13:$AE$1003)+LEN($AE$13:$AE$1003)=0, \"\", ROW($AE$13:$AE$1003)-MIN(ROW($AE$13:$AE$1003))+1), ROW(486:486))),\"\")","v":"__OHI_21__GRADALTDPL_N"},{"$f":"IF(AF498=\"\",\"\",IF(COUNTIF(CurrentListing,AF498)>1,AJ498,\"\"))","v":""},{"$f":"IF(LEN(AF498)=0,\"\",IF(ISNA(MATCH(AF498,MasterListing,0)),AJ498,\"\"))","v":""},null,"__OHI_21__GHS_N","","OHI21GHSN","__OHI_21__GHS_N",1,"______",null,null,null,null,{"$f":"IF(ISNUMBER(SEARCH($F$6,AP497)),MAX($AO$11:AO496)+1,0)","v":486},0,{"$f":"ROWS($AQ$12:AQ497)","v":486},{"$f":"IFERROR(VLOOKUP(ROWS($AR$12:AR497),$AO$12:$AP$3014,2,0),\"\")","v":0}]
[null,null,null,null,null,null,null,null,null,null,null,null,null,null,null,null,null,null,null,null,null,null,null,null,null,null,{"$f":"IFERROR(INDEX($AE$13:$AE$1003, SMALL(IF(ISBLANK($AE$13:$AE$1003)+ISERROR($AE$13:$AE$1003)+LEN($AE$13:$AE$1003)=0, \"\", ROW($AE$13:$AE$1003)-MIN(ROW($AE$13:$AE$1003))+1), ROW(487:487))),\"\")","v":"__OHI_21__MKC_N"},{"$f":"IF(AF499=\"\",\"\",IF(COUNTIF(CurrentListing,AF499)>1,AJ499,\"\"))","v":""},{"$f":"IF(LEN(AF499)=0,\"\",IF(ISNA(MATCH(AF499,MasterListing,0)),AJ499,\"\"))","v":""},null,"__OHI_21__GRADALTDPL_N","","OHI21GRADALTDPLN","__OHI_21__GRADALTDPL_N",1,"______",null,null,null,null,{"$f":"IF(ISNUMBER(SEARCH($F$6,AP498)),MAX($AO$11:AO497)+1,0)","v":487},0,{"$f":"ROWS($AQ$12:AQ498)","v":487},{"$f":"IFERROR(VLOOKUP(ROWS($AR$12:AR498),$AO$12:$AP$3014,2,0),\"\")","v":0}]
[null,null,null,null,null,null,null,null,null,null,null,null,null,null,null,null,null,null,null,null,null,null,null,null,null,null,{"$f":"IFERROR(INDEX($AE$13:$AE$1003, SMALL(IF(ISBLANK($AE$13:$AE$1003)+ISERROR($AE$13:$AE$1003)+LEN($AE$13:$AE$1003)=0, \"\", ROW($AE$13:$AE$1003)-MIN(ROW($AE$13:$AE$1003))+1), ROW(488:488))),\"\")","v":"__OHI_21__RC_N"},{"$f":"IF(AF500=\"\",\"\",IF(COUNTIF(CurrentListing,AF500)>1,AJ500,\"\"))","v":""},{"$f":"IF(LEN(AF500)=0,\"\",IF(ISNA(MATCH(AF500,MasterListing,0)),AJ500,\"\"))","v":""},null,"__OHI_21__MKC_N","","OHI21MKCN","__OHI_21__MKC_N",1,"______",null,null,null,null,{"$f":"IF(ISNUMBER(SEARCH($F$6,AP499)),MAX($AO$11:AO498)+1,0)","v":488},0,{"$f":"ROWS($AQ$12:AQ499)","v":488},{"$f":"IFERROR(VLOOKUP(ROWS($AR$12:AR499),$AO$12:$AP$3014,2,0),\"\")","v":0}]
[null,null,null,null,null,null,null,null,null,null,null,null,null,null,null,null,null,null,null,null,null,null,null,null,null,null,{"$f":"IFERROR(INDEX($AE$13:$AE$1003, SMALL(IF(ISBLANK($AE$13:$AE$1003)+ISERROR($AE$13:$AE$1003)+LEN($AE$13:$AE$1003)=0, \"\", ROW($AE$13:$AE$1003)-MIN(ROW($AE$13:$AE$1003))+1), ROW(489:489))),\"\")","v":"__OHI_21__RMA_N"},{"$f":"IF(AF501=\"\",\"\",IF(COUNTIF(CurrentListing,AF501)>1,AJ501,\"\"))","v":""},{"$f":"IF(LEN(AF501)=0,\"\",IF(ISNA(MATCH(AF501,MasterListing,0)),AJ501,\"\"))","v":""},null,"__OHI_21__RC_N","","OHI21RCN","__OHI_21__RC_N",1,"______",null,null,null,null,{"$f":"IF(ISNUMBER(SEARCH($F$6,AP500)),MAX($AO$11:AO499)+1,0)","v":489},0,{"$f":"ROWS($AQ$12:AQ500)","v":489},{"$f":"IFERROR(VLOOKUP(ROWS($AR$12:AR500),$AO$12:$AP$3014,2,0),\"\")","v":0}]
[null,null,null,null,null,null,null,null,null,null,null,null,null,null,null,null,null,null,null,null,null,null,null,null,null,null,{"$f":"IFERROR(INDEX($AE$13:$AE$1003, SMALL(IF(ISBLANK($AE$13:$AE$1003)+ISERROR($AE$13:$AE$1003)+LEN($AE$13:$AE$1003)=0, \"\", ROW($AE$13:$AE$1003)-MIN(ROW($AE$13:$AE$1003))+1), ROW(490:490))),\"\")","v":"__OHI_21__TRAN_N"},{"$f":"IF(AF502=\"\",\"\",IF(COUNTIF(CurrentListing,AF502)>1,AJ502,\"\"))","v":""},{"$f":"IF(LEN(AF502)=0,\"\",IF(ISNA(MATCH(AF502,MasterListing,0)),AJ502,\"\"))","v":""},null,"__OHI_21__RMA_N","","OHI21RMAN","__OHI_21__RMA_N",1,"______",null,null,null,null,{"$f":"IF(ISNUMBER(SEARCH($F$6,AP501)),MAX($AO$11:AO500)+1,0)","v":490},0,{"$f":"ROWS($AQ$12:AQ501)","v":490},{"$f":"IFERROR(VLOOKUP(ROWS($AR$12:AR501),$AO$12:$AP$3014,2,0),\"\")","v":0}]
[null,null,null,null,null,null,null,null,null,null,null,null,null,null,null,null,null,null,null,null,null,null,null,null,null,null,{"$f":"IFERROR(INDEX($AE$13:$AE$1003, SMALL(IF(ISBLANK($AE$13:$AE$1003)+ISERROR($AE$13:$AE$1003)+LEN($AE$13:$AE$1003)=0, \"\", ROW($AE$13:$AE$1003)-MIN(ROW($AE$13:$AE$1003))+1), ROW(491:491))),\"\")","v":"__OI____Y"},{"$f":"IF(AF503=\"\",\"\",IF(COUNTIF(CurrentListing,AF503)>1,AJ503,\"\"))","v":""},{"$f":"IF(LEN(AF503)=0,\"\",IF(ISNA(MATCH(AF503,MasterListing,0)),AJ503,\"\"))","v":""},null,"__OHI_21__TRAN_N","","OHI21TRANN","__OHI_21__TRAN_N",1,"______",null,null,null,null,{"$f":"IF(ISNUMBER(SEARCH($F$6,AP502)),MAX($AO$11:AO501)+1,0)","v":491},0,{"$f":"ROWS($AQ$12:AQ502)","v":491},{"$f":"IFERROR(VLOOKUP(ROWS($AR$12:AR502),$AO$12:$AP$3014,2,0),\"\")","v":0}]
[null,null,null,null,null,null,null,null,null,null,null,null,null,null,null,null,null,null,null,null,null,null,null,null,null,null,{"$f":"IFERROR(INDEX($AE$13:$AE$1003, SMALL(IF(ISBLANK($AE$13:$AE$1003)+ISERROR($AE$13:$AE$1003)+LEN($AE$13:$AE$1003)=0, \"\", ROW($AE$13:$AE$1003)-MIN(ROW($AE$13:$AE$1003))+1), ROW(492:492))),\"\")","v":"__OI_14__D_N"},{"$f":"IF(AF504=\"\",\"\",IF(COUNTIF(CurrentListing,AF504)>1,AJ504,\"\"))","v":""},{"$f":"IF(LEN(AF504)=0,\"\",IF(ISNA(MATCH(AF504,MasterListing,0)),AJ504,\"\"))","v":""},null,"__OI____Y","","OIY","__OI____Y",1,"______",null,null,null,null,{"$f":"IF(ISNUMBER(SEARCH($F$6,AP503)),MAX($AO$11:AO502)+1,0)","v":492},0,{"$f":"ROWS($AQ$12:AQ503)","v":492},{"$f":"IFERROR(VLOOKUP(ROWS($AR$12:AR503),$AO$12:$AP$3014,2,0),\"\")","v":0}]
[null,null,null,null,null,null,null,null,null,null,null,null,null,null,null,null,null,null,null,null,null,null,null,null,null,null,{"$f":"IFERROR(INDEX($AE$13:$AE$1003, SMALL(IF(ISBLANK($AE$13:$AE$1003)+ISERROR($AE$13:$AE$1003)+LEN($AE$13:$AE$1003)=0, \"\", ROW($AE$13:$AE$1003)-MIN(ROW($AE$13:$AE$1003))+1), ROW(493:493))),\"\")","v":"__OI_14__DROPOUT_N"},{"$f":"IF(AF505=\"\",\"\",IF(COUNTIF(CurrentListing,AF505)>1,AJ505,\"\"))","v":""},{"$f":"IF(LEN(AF505)=0,\"\",IF(ISNA(MATCH(AF505,MasterListing,0)),AJ505,\"\"))","v":""},null,"__OI_14__D_N","","OI14DN","__OI_14__D_N",1,"______",null,null,null,null,{"$f":"IF(ISNUMBER(SEARCH($F$6,AP504)),MAX($AO$11:AO503)+1,0)","v":493},0,{"$f":"ROWS($AQ$12:AQ504)","v":493},{"$f":"IFERROR(VLOOKUP(ROWS($AR$12:AR504),$AO$12:$AP$3014,2,0),\"\")","v":0}]
[null,null,null,null,null,null,null,null,null,null,null,null,null,null,null,null,null,null,null,null,null,null,null,null,null,null,{"$f":"IFERROR(INDEX($AE$13:$AE$1003, SMALL(IF(ISBLANK($AE$13:$AE$1003)+ISERROR($AE$13:$AE$1003)+LEN($AE$13:$AE$1003)=0, \"\", ROW($AE$13:$AE$1003)-MIN(ROW($AE$13:$AE$1003))+1), ROW(494:494))),\"\")","v":"__OI_14__GHS_N"},{"$f":"IF(AF506=\"\",\"\",IF(COUNTIF(CurrentListing,AF506)>1,AJ506,\"\"))","v":""},{"$f":"IF(LEN(AF506)=0,\"\",IF(ISNA(MATCH(AF506,MasterListing,0)),AJ506,\"\"))","v":""},null,"__OI_14__DROPOUT_N","","OI14DROPOUTN","__OI_14__DROPOUT_N",1,"______",null,null,null,null,{"$f":"IF(ISNUMBER(SEARCH($F$6,AP505)),MAX($AO$11:AO504)+1,0)","v":494},0,{"$f":"ROWS($AQ$12:AQ505)","v":494},{"$f":"IFERROR(VLOOKUP(ROWS($AR$12:AR505),$AO$12:$AP$3014,2,0),\"\")","v":0}]
[null,null,null,null,null,null,null,null,null,null,null,null,null,null,null,null,null,null,null,null,null,null,null,null,null,null,{"$f":"IFERROR(INDEX($AE$13:$AE$1003, SMALL(IF(ISBLANK($AE$13:$AE$1003)+ISERROR($AE$13:$AE$1003)+LEN($AE$13:$AE$1003)=0, \"\", ROW($AE$13:$AE$1003)-MIN(ROW($AE$13:$AE$1003))+1), ROW(495:495))),\"\")","v":"__OI_14__GRADALTDPL_N"},{"$f":"IF(AF507=\"\",\"\",IF(COUNTIF(CurrentListing,AF507)>1,AJ507,\"\"))","v":""},{"$f":"IF(LEN(AF507)=0,\"\",IF(ISNA(MATCH(AF507,MasterListing,0)),AJ507,\"\"))","v":""},null,"__OI_14__GHS_N","","OI14GHSN","__OI_14__GHS_N",1,"______",null,null,null,null,{"$f":"IF(ISNUMBER(SEARCH($F$6,AP506)),MAX($AO$11:AO505)+1,0)","v":495},0,{"$f":"ROWS($AQ$12:AQ506)","v":495},{"$f":"IFERROR(VLOOKUP(ROWS($AR$12:AR506),$AO$12:$AP$3014,2,0),\"\")","v":0}]
[null,null,null,null,null,null,null,null,null,null,null,null,null,null,null,null,null,null,null,null,null,null,null,null,null,null,{"$f":"IFERROR(INDEX($AE$13:$AE$1003, SMALL(IF(ISBLANK($AE$13:$AE$1003)+ISERROR($AE$13:$AE$1003)+LEN($AE$13:$AE$1003)=0, \"\", ROW($AE$13:$AE$1003)-MIN(ROW($AE$13:$AE$1003))+1), ROW(496:496))),\"\")","v":"__OI_14__MKC_N"},{"$f":"IF(AF508=\"\",\"\",IF(COUNTIF(CurrentListing,AF508)>1,AJ508,\"\"))","v":""},{"$f":"IF(LEN(AF508)=0,\"\",IF(ISNA(MATCH(AF508,MasterListing,0)),AJ508,\"\"))","v":""},null,"__OI_14__GRADALTDPL_N","","OI14GRADALTDPLN","__OI_14__GRADALTDPL_N",1,"______",null,null,null,null,{"$f":"IF(ISNUMBER(SEARCH($F$6,AP507)),MAX($AO$11:AO506)+1,0)","v":496},0,{"$f":"ROWS($AQ$12:AQ507)","v":496},{"$f":"IFERROR(VLOOKUP(ROWS($AR$12:AR507),$AO$12:$AP$3014,2,0),\"\")","v":0}]
[null,null,null,null,null,null,null,null,null,null,null,null,null,null,null,null,null,null,null,null,null,null,null,null,null,null,{"$f":"IFERROR(INDEX($AE$13:$AE$1003, SMALL(IF(ISBLANK($AE$13:$AE$1003)+ISERROR($AE$13:$AE$1003)+LEN($AE$13:$AE$1003)=0, \"\", ROW($AE$13:$AE$1003)-MIN(ROW($AE$13:$AE$1003))+1), ROW(497:497))),\"\")","v":"__OI_14__RC_N"},{"$f":"IF(AF509=\"\",\"\",IF(COUNTIF(CurrentListing,AF509)>1,AJ509,\"\"))","v":""},{"$f":"IF(LEN(AF509)=0,\"\",IF(ISNA(MATCH(AF509,MasterListing,0)),AJ509,\"\"))","v":""},null,"__OI_14__MKC_N","","OI14MKCN","__OI_14__MKC_N",1,"______",null,null,null,null,{"$f":"IF(ISNUMBER(SEARCH($F$6,AP508)),MAX($AO$11:AO507)+1,0)","v":497},0,{"$f":"ROWS($AQ$12:AQ508)","v":497},{"$f":"IFERROR(VLOOKUP(ROWS($AR$12:AR508),$AO$12:$AP$3014,2,0),\"\")","v":0}]
[null,null,null,null,null,null,null,null,null,null,null,null,null,null,null,null,null,null,null,null,null,null,null,null,null,null,{"$f":"IFERROR(INDEX($AE$13:$AE$1003, SMALL(IF(ISBLANK($AE$13:$AE$1003)+ISERROR($AE$13:$AE$1003)+LEN($AE$13:$AE$1003)=0, \"\", ROW($AE$13:$AE$1003)-MIN(ROW($AE$13:$AE$1003))+1), ROW(498:498))),\"\")","v":"__OI_14__RMA_N"},{"$f":"IF(AF510=\"\",\"\",IF(COUNTIF(CurrentListing,AF510)>1,AJ510,\"\"))","v":""},{"$f":"IF(LEN(AF510)=0,\"\",IF(ISNA(MATCH(AF510,MasterListing,0)),AJ510,\"\"))","v":""},null,"__OI_14__RC_N","","OI14RCN","__OI_14__RC_N",1,"______",null,null,null,null,{"$f":"IF(ISNUMBER(SEARCH($F$6,AP509)),MAX($AO$11:AO508)+1,0)","v":498},0,{"$f":"ROWS($AQ$12:AQ509)","v":498},{"$f":"IFERROR(VLOOKUP(ROWS($AR$12:AR509),$AO$12:$AP$3014,2,0),\"\")","v":0}]
[null,null,null,null,null,null,null,null,null,null,null,null,null,null,null,null,null,null,null,null,null,null,null,null,null,null,{"$f":"IFERROR(INDEX($AE$13:$AE$1003, SMALL(IF(ISBLANK($AE$13:$AE$1003)+ISERROR($AE$13:$AE$1003)+LEN($AE$13:$AE$1003)=0, \"\", ROW($AE$13:$AE$1003)-MIN(ROW($AE$13:$AE$1003))+1), ROW(499:499))),\"\")","v":"__OI_14__TRAN_N"},{"$f":"IF(AF511=\"\",\"\",IF(COUNTIF(CurrentListing,AF511)>1,AJ511,\"\"))","v":""},{"$f":"IF(LEN(AF511)=0,\"\",IF(ISNA(MATCH(AF511,MasterListing,0)),AJ511,\"\"))","v":""},null,"__OI_14__RMA_N","","OI14RMAN","__OI_14__RMA_N",1,"______",null,null,null,null,{"$f":"IF(ISNUMBER(SEARCH($F$6,AP510)),MAX($AO$11:AO509)+1,0)","v":499},0,{"$f":"ROWS($AQ$12:AQ510)","v":499},{"$f":"IFERROR(VLOOKUP(ROWS($AR$12:AR510),$AO$12:$AP$3014,2,0),\"\")","v":0}]
[null,null,null,null,null,null,null,null,null,null,null,null,null,null,null,null,null,null,null,null,null,null,null,null,null,null,{"$f":"IFERROR(INDEX($AE$13:$AE$1003, SMALL(IF(ISBLANK($AE$13:$AE$1003)+ISERROR($AE$13:$AE$1003)+LEN($AE$13:$AE$1003)=0, \"\", ROW($AE$13:$AE$1003)-MIN(ROW($AE$13:$AE$1003))+1), ROW(500:500))),\"\")","v":"__OI_15__D_N"},{"$f":"IF(AF512=\"\",\"\",IF(COUNTIF(CurrentListing,AF512)>1,AJ512,\"\"))","v":""},{"$f":"IF(LEN(AF512)=0,\"\",IF(ISNA(MATCH(AF512,MasterListing,0)),AJ512,\"\"))","v":""},null,"__OI_14__TRAN_N","","OI14TRANN","__OI_14__TRAN_N",1,"______",null,null,null,null,{"$f":"IF(ISNUMBER(SEARCH($F$6,AP511)),MAX($AO$11:AO510)+1,0)","v":500},0,{"$f":"ROWS($AQ$12:AQ511)","v":500},{"$f":"IFERROR(VLOOKUP(ROWS($AR$12:AR511),$AO$12:$AP$3014,2,0),\"\")","v":0}]
[null,null,null,null,null,null,null,null,null,null,null,null,null,null,null,null,null,null,null,null,null,null,null,null,null,null,{"$f":"IFERROR(INDEX($AE$13:$AE$1003, SMALL(IF(ISBLANK($AE$13:$AE$1003)+ISERROR($AE$13:$AE$1003)+LEN($AE$13:$AE$1003)=0, \"\", ROW($AE$13:$AE$1003)-MIN(ROW($AE$13:$AE$1003))+1), ROW(501:501))),\"\")","v":"__OI_15__DROPOUT_N"},{"$f":"IF(AF513=\"\",\"\",IF(COUNTIF(CurrentListing,AF513)>1,AJ513,\"\"))","v":""},{"$f":"IF(LEN(AF513)=0,\"\",IF(ISNA(MATCH(AF513,MasterListing,0)),AJ513,\"\"))","v":""},null,"__OI_15__D_N","","OI15DN","__OI_15__D_N",1,"______",null,null,null,null,{"$f":"IF(ISNUMBER(SEARCH($F$6,AP512)),MAX($AO$11:AO511)+1,0)","v":501},0,{"$f":"ROWS($AQ$12:AQ512)","v":501},{"$f":"IFERROR(VLOOKUP(ROWS($AR$12:AR512),$AO$12:$AP$3014,2,0),\"\")","v":0}]
[null,null,null,null,null,null,null,null,null,null,null,null,null,null,null,null,null,null,null,null,null,null,null,null,null,null,{"$f":"IFERROR(INDEX($AE$13:$AE$1003, SMALL(IF(ISBLANK($AE$13:$AE$1003)+ISERROR($AE$13:$AE$1003)+LEN($AE$13:$AE$1003)=0, \"\", ROW($AE$13:$AE$1003)-MIN(ROW($AE$13:$AE$1003))+1), ROW(502:502))),\"\")","v":"__OI_15__GHS_N"},{"$f":"IF(AF514=\"\",\"\",IF(COUNTIF(CurrentListing,AF514)>1,AJ514,\"\"))","v":""},{"$f":"IF(LEN(AF514)=0,\"\",IF(ISNA(MATCH(AF514,MasterListing,0)),AJ514,\"\"))","v":""},null,"__OI_15__DROPOUT_N","","OI15DROPOUTN","__OI_15__DROPOUT_N",1,"______",null,null,null,null,{"$f":"IF(ISNUMBER(SEARCH($F$6,AP513)),MAX($AO$11:AO512)+1,0)","v":502},0,{"$f":"ROWS($AQ$12:AQ513)","v":502},{"$f":"IFERROR(VLOOKUP(ROWS($AR$12:AR513),$AO$12:$AP$3014,2,0),\"\")","v":0}]
[null,null,null,null,null,null,null,null,null,null,null,null,null,null,null,null,null,null,null,null,null,null,null,null,null,null,{"$f":"IFERROR(INDEX($AE$13:$AE$1003, SMALL(IF(ISBLANK($AE$13:$AE$1003)+ISERROR($AE$13:$AE$1003)+LEN($AE$13:$AE$1003)=0, \"\", ROW($AE$13:$AE$1003)-MIN(ROW($AE$13:$AE$1003))+1), ROW(503:503))),\"\")","v":"__OI_15__GRADALTDPL_N"},{"$f":"IF(AF515=\"\",\"\",IF(COUNTIF(CurrentListing,AF515)>1,AJ515,\"\"))","v":""},{"$f":"IF(LEN(AF515)=0,\"\",IF(ISNA(MATCH(AF515,MasterListing,0)),AJ515,\"\"))","v":""},null,"__OI_15__GHS_N","","OI15GHSN","__OI_15__GHS_N",1,"______",null,null,null,null,{"$f":"IF(ISNUMBER(SEARCH($F$6,AP514)),MAX($AO$11:AO513)+1,0)","v":503},0,{"$f":"ROWS($AQ$12:AQ514)","v":503},{"$f":"IFERROR(VLOOKUP(ROWS($AR$12:AR514),$AO$12:$AP$3014,2,0),\"\")","v":0}]
[null,null,null,null,null,null,null,null,null,null,null,null,null,null,null,null,null,null,null,null,null,null,null,null,null,null,{"$f":"IFERROR(INDEX($AE$13:$AE$1003, SMALL(IF(ISBLANK($AE$13:$AE$1003)+ISERROR($AE$13:$AE$1003)+LEN($AE$13:$AE$1003)=0, \"\", ROW($AE$13:$AE$1003)-MIN(ROW($AE$13:$AE$1003))+1), ROW(504:504))),\"\")","v":"__OI_15__MKC_N"},{"$f":"IF(AF516=\"\",\"\",IF(COUNTIF(CurrentListing,AF516)>1,AJ516,\"\"))","v":""},{"$f":"IF(LEN(AF516)=0,\"\",IF(ISNA(MATCH(AF516,MasterListing,0)),AJ516,\"\"))","v":""},null,"__OI_15__GRADALTDPL_N","","OI15GRADALTDPLN","__OI_15__GRADALTDPL_N",1,"______",null,null,null,null,{"$f":"IF(ISNUMBER(SEARCH($F$6,AP515)),MAX($AO$11:AO514)+1,0)","v":504},0,{"$f":"ROWS($AQ$12:AQ515)","v":504},{"$f":"IFERROR(VLOOKUP(ROWS($AR$12:AR515),$AO$12:$AP$3014,2,0),\"\")","v":0}]
[null,null,null,null,null,null,null,null,null,null,null,null,null,null,null,null,null,null,null,null,null,null,null,null,null,null,{"$f":"IFERROR(INDEX($AE$13:$AE$1003, SMALL(IF(ISBLANK($AE$13:$AE$1003)+ISERROR($AE$13:$AE$1003)+LEN($AE$13:$AE$1003)=0, \"\", ROW($AE$13:$AE$1003)-MIN(ROW($AE$13:$AE$1003))+1), ROW(505:505))),\"\")","v":"__OI_15__RC_N"},{"$f":"IF(AF517=\"\",\"\",IF(COUNTIF(CurrentListing,AF517)>1,AJ517,\"\"))","v":""},{"$f":"IF(LEN(AF517)=0,\"\",IF(ISNA(MATCH(AF517,MasterListing,0)),AJ517,\"\"))","v":""},null,"__OI_15__MKC_N","","OI15MKCN","__OI_15__MKC_N",1,"______",null,null,null,null,{"$f":"IF(ISNUMBER(SEARCH($F$6,AP516)),MAX($AO$11:AO515)+1,0)","v":505},0,{"$f":"ROWS($AQ$12:AQ516)","v":505},{"$f":"IFERROR(VLOOKUP(ROWS($AR$12:AR516),$AO$12:$AP$3014,2,0),\"\")","v":0}]
[null,null,null,null,null,null,null,null,null,null,null,null,null,null,null,null,null,null,null,null,null,null,null,null,null,null,{"$f":"IFERROR(INDEX($AE$13:$AE$1003, SMALL(IF(ISBLANK($AE$13:$AE$1003)+ISERROR($AE$13:$AE$1003)+LEN($AE$13:$AE$1003)=0, \"\", ROW($AE$13:$AE$1003)-MIN(ROW($AE$13:$AE$1003))+1), ROW(506:506))),\"\")","v":"__OI_15__RMA_N"},{"$f":"IF(AF518=\"\",\"\",IF(COUNTIF(CurrentListing,AF518)>1,AJ518,\"\"))","v":""},{"$f":"IF(LEN(AF518)=0,\"\",IF(ISNA(MATCH(AF518,MasterListing,0)),AJ518,\"\"))","v":""},null,"__OI_15__RC_N","","OI15RCN","__OI_15__RC_N",1,"______",null,null,null,null,{"$f":"IF(ISNUMBER(SEARCH($F$6,AP517)),MAX($AO$11:AO516)+1,0)","v":506},0,{"$f":"ROWS($AQ$12:AQ517)","v":506},{"$f":"IFERROR(VLOOKUP(ROWS($AR$12:AR517),$AO$12:$AP$3014,2,0),\"\")","v":0}]
[null,null,null,null,null,null,null,null,null,null,null,null,null,null,null,null,null,null,null,null,null,null,null,null,null,null,{"$f":"IFERROR(INDEX($AE$13:$AE$1003, SMALL(IF(ISBLANK($AE$13:$AE$1003)+ISERROR($AE$13:$AE$1003)+LEN($AE$13:$AE$1003)=0, \"\", ROW($AE$13:$AE$1003)-MIN(ROW($AE$13:$AE$1003))+1), ROW(507:507))),\"\")","v":"__OI_15__TRAN_N"},{"$f":"IF(AF519=\"\",\"\",IF(COUNTIF(CurrentListing,AF519)>1,AJ519,\"\"))","v":""},{"$f":"IF(LEN(AF519)=0,\"\",IF(ISNA(MATCH(AF519,MasterListing,0)),AJ519,\"\"))","v":""},null,"__OI_15__RMA_N","","OI15RMAN","__OI_15__RMA_N",1,"______",null,null,null,null,{"$f":"IF(ISNUMBER(SEARCH($F$6,AP518)),MAX($AO$11:AO517)+1,0)","v":507},0,{"$f":"ROWS($AQ$12:AQ518)","v":507},{"$f":"IFERROR(VLOOKUP(ROWS($AR$12:AR518),$AO$12:$AP$3014,2,0),\"\")","v":0}]
[null,null,null,null,null,null,null,null,null,null,null,null,null,null,null,null,null,null,null,null,null,null,null,null,null,null,{"$f":"IFERROR(INDEX($AE$13:$AE$1003, SMALL(IF(ISBLANK($AE$13:$AE$1003)+ISERROR($AE$13:$AE$1003)+LEN($AE$13:$AE$1003)=0, \"\", ROW($AE$13:$AE$1003)-MIN(ROW($AE$13:$AE$1003))+1), ROW(508:508))),\"\")","v":"__OI_16__D_N"},{"$f":"IF(AF520=\"\",\"\",IF(COUNTIF(CurrentListing,AF520)>1,AJ520,\"\"))","v":""},{"$f":"IF(LEN(AF520)=0,\"\",IF(ISNA(MATCH(AF520,MasterListing,0)),AJ520,\"\"))","v":""},null,"__OI_15__TRAN_N","","OI15TRANN","__OI_15__TRAN_N",1,"______",null,null,null,null,{"$f":"IF(ISNUMBER(SEARCH($F$6,AP519)),MAX($AO$11:AO518)+1,0)","v":508},0,{"$f":"ROWS($AQ$12:AQ519)","v":508},{"$f":"IFERROR(VLOOKUP(ROWS($AR$12:AR519),$AO$12:$AP$3014,2,0),\"\")","v":0}]
[null,null,null,null,null,null,null,null,null,null,null,null,null,null,null,null,null,null,null,null,null,null,null,null,null,null,{"$f":"IFERROR(INDEX($AE$13:$AE$1003, SMALL(IF(ISBLANK($AE$13:$AE$1003)+ISERROR($AE$13:$AE$1003)+LEN($AE$13:$AE$1003)=0, \"\", ROW($AE$13:$AE$1003)-MIN(ROW($AE$13:$AE$1003))+1), ROW(509:509))),\"\")","v":"__OI_16__DROPOUT_N"},{"$f":"IF(AF521=\"\",\"\",IF(COUNTIF(CurrentListing,AF521)>1,AJ521,\"\"))","v":""},{"$f":"IF(LEN(AF521)=0,\"\",IF(ISNA(MATCH(AF521,MasterListing,0)),AJ521,\"\"))","v":""},null,"__OI_16__D_N","","OI16DN","__OI_16__D_N",1,"______",null,null,null,null,{"$f":"IF(ISNUMBER(SEARCH($F$6,AP520)),MAX($AO$11:AO519)+1,0)","v":509},0,{"$f":"ROWS($AQ$12:AQ520)","v":509},{"$f":"IFERROR(VLOOKUP(ROWS($AR$12:AR520),$AO$12:$AP$3014,2,0),\"\")","v":0}]
[null,null,null,null,null,null,null,null,null,null,null,null,null,null,null,null,null,null,null,null,null,null,null,null,null,null,{"$f":"IFERROR(INDEX($AE$13:$AE$1003, SMALL(IF(ISBLANK($AE$13:$AE$1003)+ISERROR($AE$13:$AE$1003)+LEN($AE$13:$AE$1003)=0, \"\", ROW($AE$13:$AE$1003)-MIN(ROW($AE$13:$AE$1003))+1), ROW(510:510))),\"\")","v":"__OI_16__GHS_N"},{"$f":"IF(AF522=\"\",\"\",IF(COUNTIF(CurrentListing,AF522)>1,AJ522,\"\"))","v":""},{"$f":"IF(LEN(AF522)=0,\"\",IF(ISNA(MATCH(AF522,MasterListing,0)),AJ522,\"\"))","v":""},null,"__OI_16__DROPOUT_N","","OI16DROPOUTN","__OI_16__DROPOUT_N",1,"______",null,null,null,null,{"$f":"IF(ISNUMBER(SEARCH($F$6,AP521)),MAX($AO$11:AO520)+1,0)","v":510},0,{"$f":"ROWS($AQ$12:AQ521)","v":510},{"$f":"IFERROR(VLOOKUP(ROWS($AR$12:AR521),$AO$12:$AP$3014,2,0),\"\")","v":0}]
[null,null,null,null,null,null,null,null,null,null,null,null,null,null,null,null,null,null,null,null,null,null,null,null,null,null,{"$f":"IFERROR(INDEX($AE$13:$AE$1003, SMALL(IF(ISBLANK($AE$13:$AE$1003)+ISERROR($AE$13:$AE$1003)+LEN($AE$13:$AE$1003)=0, \"\", ROW($AE$13:$AE$1003)-MIN(ROW($AE$13:$AE$1003))+1), ROW(511:511))),\"\")","v":"__OI_16__GRADALTDPL_N"},{"$f":"IF(AF523=\"\",\"\",IF(COUNTIF(CurrentListing,AF523)>1,AJ523,\"\"))","v":""},{"$f":"IF(LEN(AF523)=0,\"\",IF(ISNA(MATCH(AF523,MasterListing,0)),AJ523,\"\"))","v":""},null,"__OI_16__GHS_N","","OI16GHSN","__OI_16__GHS_N",1,"______",null,null,null,null,{"$f":"IF(ISNUMBER(SEARCH($F$6,AP522)),MAX($AO$11:AO521)+1,0)","v":511},0,{"$f":"ROWS($AQ$12:AQ522)","v":511},{"$f":"IFERROR(VLOOKUP(ROWS($AR$12:AR522),$AO$12:$AP$3014,2,0),\"\")","v":0}]
[null,null,null,null,null,null,null,null,null,null,null,null,null,null,null,null,null,null,null,null,null,null,null,null,null,null,{"$f":"IFERROR(INDEX($AE$13:$AE$1003, SMALL(IF(ISBLANK($AE$13:$AE$1003)+ISERROR($AE$13:$AE$1003)+LEN($AE$13:$AE$1003)=0, \"\", ROW($AE$13:$AE$1003)-MIN(ROW($AE$13:$AE$1003))+1), ROW(512:512))),\"\")","v":"__OI_16__MKC_N"},{"$f":"IF(AF524=\"\",\"\",IF(COUNTIF(CurrentListing,AF524)>1,AJ524,\"\"))","v":""},{"$f":"IF(LEN(AF524)=0,\"\",IF(ISNA(MATCH(AF524,MasterListing,0)),AJ524,\"\"))","v":""},null,"__OI_16__GRADALTDPL_N","","OI16GRADALTDPLN","__OI_16__GRADALTDPL_N",1,"______",null,null,null,null,{"$f":"IF(ISNUMBER(SEARCH($F$6,AP523)),MAX($AO$11:AO522)+1,0)","v":512},0,{"$f":"ROWS($AQ$12:AQ523)","v":512},{"$f":"IFERROR(VLOOKUP(ROWS($AR$12:AR523),$AO$12:$AP$3014,2,0),\"\")","v":0}]
[null,null,null,null,null,null,null,null,null,null,null,null,null,null,null,null,null,null,null,null,null,null,null,null,null,null,{"$f":"IFERROR(INDEX($AE$13:$AE$1003, SMALL(IF(ISBLANK($AE$13:$AE$1003)+ISERROR($AE$13:$AE$1003)+LEN($AE$13:$AE$1003)=0, \"\", ROW($AE$13:$AE$1003)-MIN(ROW($AE$13:$AE$1003))+1), ROW(513:513))),\"\")","v":"__OI_16__RC_N"},{"$f":"IF(AF525=\"\",\"\",IF(COUNTIF(CurrentListing,AF525)>1,AJ525,\"\"))","v":""},{"$f":"IF(LEN(AF525)=0,\"\",IF(ISNA(MATCH(AF525,MasterListing,0)),AJ525,\"\"))","v":""},null,{"$f":"IF(LEN(AG524)=0,\"\",IF(ISNA(MATCH(AG524,CurrentListing,0)),AH524,\"\"))","v":"__OI_16__MKC_N"},"","OI16MKCN","__OI_16__MKC_N",1,"______",null,null,null,null,{"$f":"IF(ISNUMBER(SEARCH($F$6,AP524)),MAX($AO$11:AO523)+1,0)","v":513},0,{"$f":"ROWS($AQ$12:AQ524)","v":513},{"$f":"IFERROR(VLOOKUP(ROWS($AR$12:AR524),$AO$12:$AP$3014,2,0),\"\")","v":0}]
[null,null,null,null,null,null,null,null,null,null,null,null,null,null,null,null,null,null,null,null,null,null,null,null,null,null,{"$f":"IFERROR(INDEX($AE$13:$AE$1003, SMALL(IF(ISBLANK($AE$13:$AE$1003)+ISERROR($AE$13:$AE$1003)+LEN($AE$13:$AE$1003)=0, \"\", ROW($AE$13:$AE$1003)-MIN(ROW($AE$13:$AE$1003))+1), ROW(514:514))),\"\")","v":"__OI_16__RMA_N"},{"$f":"IF(AF526=\"\",\"\",IF(COUNTIF(CurrentListing,AF526)>1,AJ526,\"\"))","v":""},{"$f":"IF(LEN(AF526)=0,\"\",IF(ISNA(MATCH(AF526,MasterListing,0)),AJ526,\"\"))","v":""},null,"__OI_16__RC_N",{"$f":"H525&I525&P525&Q525&R525&V525&W525","v":""},"OI16RCN","__OI_16__RC_N",1,"______",null,null,null,null,{"$f":"IF(ISNUMBER(SEARCH($F$6,AP525)),MAX($AO$11:AO524)+1,0)","v":514},0,{"$f":"ROWS($AQ$12:AQ525)","v":514},{"$f":"IFERROR(VLOOKUP(ROWS($AR$12:AR525),$AO$12:$AP$3014,2,0),\"\")","v":0}]
[null,null,null,null,null,null,null,null,null,null,null,null,null,null,null,null,null,null,null,null,null,null,null,null,null,null,{"$f":"IFERROR(INDEX($AE$13:$AE$1003, SMALL(IF(ISBLANK($AE$13:$AE$1003)+ISERROR($AE$13:$AE$1003)+LEN($AE$13:$AE$1003)=0, \"\", ROW($AE$13:$AE$1003)-MIN(ROW($AE$13:$AE$1003))+1), ROW(515:515))),\"\")","v":"__OI_16__TRAN_N"},{"$f":"IF(AF527=\"\",\"\",IF(COUNTIF(CurrentListing,AF527)>1,AJ527,\"\"))","v":""},{"$f":"IF(LEN(AF527)=0,\"\",IF(ISNA(MATCH(AF527,MasterListing,0)),AJ527,\"\"))","v":""},null,"__OI_16__RMA_N","","OI16RMAN","__OI_16__RMA_N",{"$f":"IF(LEN(AA526)>0,1,0)","v":1},{"$f":"H526&\"_\"&I526&\"_\"&P526&\"_\"&Q526&\"_\"&R526&\"_\"&V526&\"_\"&W526","v":"______"},null,null,null,null,{"$f":"IF(ISNUMBER(SEARCH($F$6,AP526)),MAX($AO$11:AO525)+1,0)","v":515},0,{"$f":"ROWS($AQ$12:AQ526)","v":515},{"$f":"IFERROR(VLOOKUP(ROWS($AR$12:AR526),$AO$12:$AP$3014,2,0),\"\")","v":0}]
[null,null,null,null,null,null,null,null,null,null,null,null,null,null,null,null,null,null,null,null,null,null,null,null,null,null,{"$f":"IFERROR(INDEX($AE$13:$AE$1003, SMALL(IF(ISBLANK($AE$13:$AE$1003)+ISERROR($AE$13:$AE$1003)+LEN($AE$13:$AE$1003)=0, \"\", ROW($AE$13:$AE$1003)-MIN(ROW($AE$13:$AE$1003))+1), ROW(516:516))),\"\")","v":"__OI_17__D_N"},{"$f":"IF(AF528=\"\",\"\",IF(COUNTIF(CurrentListing,AF528)>1,AJ528,\"\"))","v":""},{"$f":"IF(LEN(AF528)=0,\"\",IF(ISNA(MATCH(AF528,MasterListing,0)),AJ528,\"\"))","v":""},null,"__OI_16__TRAN_N","","OI16TRANN","__OI_16__TRAN_N",1,"______",null,null,null,null,{"$f":"IF(ISNUMBER(SEARCH($F$6,AP527)),MAX($AO$11:AO526)+1,0)","v":516},0,{"$f":"ROWS($AQ$12:AQ527)","v":516},{"$f":"IFERROR(VLOOKUP(ROWS($AR$12:AR527),$AO$12:$AP$3014,2,0),\"\")","v":0}]
[null,null,null,null,null,null,null,null,null,null,null,null,null,null,null,null,null,null,null,null,null,null,null,null,null,null,{"$f":"IFERROR(INDEX($AE$13:$AE$1003, SMALL(IF(ISBLANK($AE$13:$AE$1003)+ISERROR($AE$13:$AE$1003)+LEN($AE$13:$AE$1003)=0, \"\", ROW($AE$13:$AE$1003)-MIN(ROW($AE$13:$AE$1003))+1), ROW(517:517))),\"\")","v":"__OI_17__DROPOUT_N"},{"$f":"IF(AF529=\"\",\"\",IF(COUNTIF(CurrentListing,AF529)>1,AJ529,\"\"))","v":""},{"$f":"IF(LEN(AF529)=0,\"\",IF(ISNA(MATCH(AF529,MasterListing,0)),AJ529,\"\"))","v":""},null,"__OI_17__D_N","","OI17DN","__OI_17__D_N",1,"______",null,null,null,null,{"$f":"IF(ISNUMBER(SEARCH($F$6,AP528)),MAX($AO$11:AO527)+1,0)","v":517},0,{"$f":"ROWS($AQ$12:AQ528)","v":517},{"$f":"IFERROR(VLOOKUP(ROWS($AR$12:AR528),$AO$12:$AP$3014,2,0),\"\")","v":0}]
[null,null,null,null,null,null,null,null,null,null,null,null,null,null,null,null,null,null,null,null,null,null,null,null,null,null,{"$f":"IFERROR(INDEX($AE$13:$AE$1003, SMALL(IF(ISBLANK($AE$13:$AE$1003)+ISERROR($AE$13:$AE$1003)+LEN($AE$13:$AE$1003)=0, \"\", ROW($AE$13:$AE$1003)-MIN(ROW($AE$13:$AE$1003))+1), ROW(518:518))),\"\")","v":"__OI_17__GHS_N"},{"$f":"IF(AF530=\"\",\"\",IF(COUNTIF(CurrentListing,AF530)>1,AJ530,\"\"))","v":""},{"$f":"IF(LEN(AF530)=0,\"\",IF(ISNA(MATCH(AF530,MasterListing,0)),AJ530,\"\"))","v":""},null,"__OI_17__DROPOUT_N","","OI17DROPOUTN","__OI_17__DROPOUT_N",1,"______",null,null,null,null,{"$f":"IF(ISNUMBER(SEARCH($F$6,AP529)),MAX($AO$11:AO528)+1,0)","v":518},0,{"$f":"ROWS($AQ$12:AQ529)","v":518},{"$f":"IFERROR(VLOOKUP(ROWS($AR$12:AR529),$AO$12:$AP$3014,2,0),\"\")","v":0}]
[null,null,null,null,null,null,null,null,null,null,null,null,null,null,null,null,null,null,null,null,null,null,null,null,null,null,{"$f":"IFERROR(INDEX($AE$13:$AE$1003, SMALL(IF(ISBLANK($AE$13:$AE$1003)+ISERROR($AE$13:$AE$1003)+LEN($AE$13:$AE$1003)=0, \"\", ROW($AE$13:$AE$1003)-MIN(ROW($AE$13:$AE$1003))+1), ROW(519:519))),\"\")","v":"__OI_17__GRADALTDPL_N"},{"$f":"IF(AF531=\"\",\"\",IF(COUNTIF(CurrentListing,AF531)>1,AJ531,\"\"))","v":""},{"$f":"IF(LEN(AF531)=0,\"\",IF(ISNA(MATCH(AF531,MasterListing,0)),AJ531,\"\"))","v":""},null,"__OI_17__GHS_N","","OI17GHSN","__OI_17__GHS_N",1,"______",null,null,null,null,{"$f":"IF(ISNUMBER(SEARCH($F$6,AP530)),MAX($AO$11:AO529)+1,0)","v":519},0,{"$f":"ROWS($AQ$12:AQ530)","v":519},{"$f":"IFERROR(VLOOKUP(ROWS($AR$12:AR530),$AO$12:$AP$3014,2,0),\"\")","v":0}]
[null,null,null,null,null,null,null,null,null,null,null,null,null,null,null,null,null,null,null,null,null,null,null,null,null,null,{"$f":"IFERROR(INDEX($AE$13:$AE$1003, SMALL(IF(ISBLANK($AE$13:$AE$1003)+ISERROR($AE$13:$AE$1003)+LEN($AE$13:$AE$1003)=0, \"\", ROW($AE$13:$AE$1003)-MIN(ROW($AE$13:$AE$1003))+1), ROW(520:520))),\"\")","v":"__OI_17__MKC_N"},{"$f":"IF(AF532=\"\",\"\",IF(COUNTIF(CurrentListing,AF532)>1,AJ532,\"\"))","v":""},{"$f":"IF(LEN(AF532)=0,\"\",IF(ISNA(MATCH(AF532,MasterListing,0)),AJ532,\"\"))","v":""},null,"__OI_17__GRADALTDPL_N","","OI17GRADALTDPLN","__OI_17__GRADALTDPL_N",1,"______",null,null,null,null,{"$f":"IF(ISNUMBER(SEARCH($F$6,AP531)),MAX($AO$11:AO530)+1,0)","v":520},0,{"$f":"ROWS($AQ$12:AQ531)","v":520},{"$f":"IFERROR(VLOOKUP(ROWS($AR$12:AR531),$AO$12:$AP$3014,2,0),\"\")","v":0}]
[null,null,null,null,null,null,null,null,null,null,null,null,null,null,null,null,null,null,null,null,null,null,null,null,null,null,{"$f":"IFERROR(INDEX($AE$13:$AE$1003, SMALL(IF(ISBLANK($AE$13:$AE$1003)+ISERROR($AE$13:$AE$1003)+LEN($AE$13:$AE$1003)=0, \"\", ROW($AE$13:$AE$1003)-MIN(ROW($AE$13:$AE$1003))+1), ROW(521:521))),\"\")","v":"__OI_17__RC_N"},{"$f":"IF(AF533=\"\",\"\",IF(COUNTIF(CurrentListing,AF533)>1,AJ533,\"\"))","v":""},{"$f":"IF(LEN(AF533)=0,\"\",IF(ISNA(MATCH(AF533,MasterListing,0)),AJ533,\"\"))","v":""},null,"__OI_17__MKC_N","","OI17MKCN","__OI_17__MKC_N",1,"______",null,null,null,null,{"$f":"IF(ISNUMBER(SEARCH($F$6,AP532)),MAX($AO$11:AO531)+1,0)","v":521},0,{"$f":"ROWS($AQ$12:AQ532)","v":521},{"$f":"IFERROR(VLOOKUP(ROWS($AR$12:AR532),$AO$12:$AP$3014,2,0),\"\")","v":0}]
[null,null,null,null,null,null,null,null,null,null,null,null,null,null,null,null,null,null,null,null,null,null,null,null,null,null,{"$f":"IFERROR(INDEX($AE$13:$AE$1003, SMALL(IF(ISBLANK($AE$13:$AE$1003)+ISERROR($AE$13:$AE$1003)+LEN($AE$13:$AE$1003)=0, \"\", ROW($AE$13:$AE$1003)-MIN(ROW($AE$13:$AE$1003))+1), ROW(522:522))),\"\")","v":"__OI_17__RMA_N"},{"$f":"IF(AF534=\"\",\"\",IF(COUNTIF(CurrentListing,AF534)>1,AJ534,\"\"))","v":""},{"$f":"IF(LEN(AF534)=0,\"\",IF(ISNA(MATCH(AF534,MasterListing,0)),AJ534,\"\"))","v":""},null,"__OI_17__RC_N","","OI17RCN","__OI_17__RC_N",1,"______",null,null,null,null,{"$f":"IF(ISNUMBER(SEARCH($F$6,AP533)),MAX($AO$11:AO532)+1,0)","v":522},0,{"$f":"ROWS($AQ$12:AQ533)","v":522},{"$f":"IFERROR(VLOOKUP(ROWS($AR$12:AR533),$AO$12:$AP$3014,2,0),\"\")","v":0}]
[null,null,null,null,null,null,null,null,null,null,null,null,null,null,null,null,null,null,null,null,null,null,null,null,null,null,{"$f":"IFERROR(INDEX($AE$13:$AE$1003, SMALL(IF(ISBLANK($AE$13:$AE$1003)+ISERROR($AE$13:$AE$1003)+LEN($AE$13:$AE$1003)=0, \"\", ROW($AE$13:$AE$1003)-MIN(ROW($AE$13:$AE$1003))+1), ROW(523:523))),\"\")","v":"__OI_17__TRAN_N"},{"$f":"IF(AF535=\"\",\"\",IF(COUNTIF(CurrentListing,AF535)>1,AJ535,\"\"))","v":""},{"$f":"IF(LEN(AF535)=0,\"\",IF(ISNA(MATCH(AF535,MasterListing,0)),AJ535,\"\"))","v":""},null,"__OI_17__RMA_N","","OI17RMAN","__OI_17__RMA_N",1,"______",null,null,null,null,{"$f":"IF(ISNUMBER(SEARCH($F$6,AP534)),MAX($AO$11:AO533)+1,0)","v":523},0,{"$f":"ROWS($AQ$12:AQ534)","v":523},{"$f":"IFERROR(VLOOKUP(ROWS($AR$12:AR534),$AO$12:$AP$3014,2,0),\"\")","v":0}]
[null,null,null,null,null,null,null,null,null,null,null,null,null,null,null,null,null,null,null,null,null,null,null,null,null,null,{"$f":"IFERROR(INDEX($AE$13:$AE$1003, SMALL(IF(ISBLANK($AE$13:$AE$1003)+ISERROR($AE$13:$AE$1003)+LEN($AE$13:$AE$1003)=0, \"\", ROW($AE$13:$AE$1003)-MIN(ROW($AE$13:$AE$1003))+1), ROW(524:524))),\"\")","v":"__OI_18__D_N"},{"$f":"IF(AF536=\"\",\"\",IF(COUNTIF(CurrentListing,AF536)>1,AJ536,\"\"))","v":""},{"$f":"IF(LEN(AF536)=0,\"\",IF(ISNA(MATCH(AF536,MasterListing,0)),AJ536,\"\"))","v":""},null,"__OI_17__TRAN_N","","OI17TRANN","__OI_17__TRAN_N",1,"______",null,null,null,null,{"$f":"IF(ISNUMBER(SEARCH($F$6,AP535)),MAX($AO$11:AO534)+1,0)","v":524},0,{"$f":"ROWS($AQ$12:AQ535)","v":524},{"$f":"IFERROR(VLOOKUP(ROWS($AR$12:AR535),$AO$12:$AP$3014,2,0),\"\")","v":0}]
[null,null,null,null,null,null,null,null,null,null,null,null,null,null,null,null,null,null,null,null,null,null,null,null,null,null,{"$f":"IFERROR(INDEX($AE$13:$AE$1003, SMALL(IF(ISBLANK($AE$13:$AE$1003)+ISERROR($AE$13:$AE$1003)+LEN($AE$13:$AE$1003)=0, \"\", ROW($AE$13:$AE$1003)-MIN(ROW($AE$13:$AE$1003))+1), ROW(525:525))),\"\")","v":"__OI_18__DROPOUT_N"},{"$f":"IF(AF537=\"\",\"\",IF(COUNTIF(CurrentListing,AF537)>1,AJ537,\"\"))","v":""},{"$f":"IF(LEN(AF537)=0,\"\",IF(ISNA(MATCH(AF537,MasterListing,0)),AJ537,\"\"))","v":""},null,"__OI_18__D_N","","OI18DN","__OI_18__D_N",1,"______",null,null,null,null,{"$f":"IF(ISNUMBER(SEARCH($F$6,AP536)),MAX($AO$11:AO535)+1,0)","v":525},0,{"$f":"ROWS($AQ$12:AQ536)","v":525},{"$f":"IFERROR(VLOOKUP(ROWS($AR$12:AR536),$AO$12:$AP$3014,2,0),\"\")","v":0}]
[null,null,null,null,null,null,null,null,null,null,null,null,null,null,null,null,null,null,null,null,null,null,null,null,null,null,{"$f":"IFERROR(INDEX($AE$13:$AE$1003, SMALL(IF(ISBLANK($AE$13:$AE$1003)+ISERROR($AE$13:$AE$1003)+LEN($AE$13:$AE$1003)=0, \"\", ROW($AE$13:$AE$1003)-MIN(ROW($AE$13:$AE$1003))+1), ROW(526:526))),\"\")","v":"__OI_18__GHS_N"},{"$f":"IF(AF538=\"\",\"\",IF(COUNTIF(CurrentListing,AF538)>1,AJ538,\"\"))","v":""},{"$f":"IF(LEN(AF538)=0,\"\",IF(ISNA(MATCH(AF538,MasterListing,0)),AJ538,\"\"))","v":""},null,"__OI_18__DROPOUT_N","","OI18DROPOUTN","__OI_18__DROPOUT_N",1,"______",null,null,null,null,{"$f":"IF(ISNUMBER(SEARCH($F$6,AP537)),MAX($AO$11:AO536)+1,0)","v":526},0,{"$f":"ROWS($AQ$12:AQ537)","v":526},{"$f":"IFERROR(VLOOKUP(ROWS($AR$12:AR537),$AO$12:$AP$3014,2,0),\"\")","v":0}]
[null,null,null,null,null,null,null,null,null,null,null,null,null,null,null,null,null,null,null,null,null,null,null,null,null,null,{"$f":"IFERROR(INDEX($AE$13:$AE$1003, SMALL(IF(ISBLANK($AE$13:$AE$1003)+ISERROR($AE$13:$AE$1003)+LEN($AE$13:$AE$1003)=0, \"\", ROW($AE$13:$AE$1003)-MIN(ROW($AE$13:$AE$1003))+1), ROW(527:527))),\"\")","v":"__OI_18__GRADALTDPL_N"},{"$f":"IF(AF539=\"\",\"\",IF(COUNTIF(CurrentListing,AF539)>1,AJ539,\"\"))","v":""},{"$f":"IF(LEN(AF539)=0,\"\",IF(ISNA(MATCH(AF539,MasterListing,0)),AJ539,\"\"))","v":""},null,"__OI_18__GHS_N","","OI18GHSN","__OI_18__GHS_N",1,"______",null,null,null,null,{"$f":"IF(ISNUMBER(SEARCH($F$6,AP538)),MAX($AO$11:AO537)+1,0)","v":527},0,{"$f":"ROWS($AQ$12:AQ538)","v":527},{"$f":"IFERROR(VLOOKUP(ROWS($AR$12:AR538),$AO$12:$AP$3014,2,0),\"\")","v":0}]
[null,null,null,null,null,null,null,null,null,null,null,null,null,null,null,null,null,null,null,null,null,null,null,null,null,null,{"$f":"IFERROR(INDEX($AE$13:$AE$1003, SMALL(IF(ISBLANK($AE$13:$AE$1003)+ISERROR($AE$13:$AE$1003)+LEN($AE$13:$AE$1003)=0, \"\", ROW($AE$13:$AE$1003)-MIN(ROW($AE$13:$AE$1003))+1), ROW(528:528))),\"\")","v":"__OI_18__MKC_N"},{"$f":"IF(AF540=\"\",\"\",IF(COUNTIF(CurrentListing,AF540)>1,AJ540,\"\"))","v":""},{"$f":"IF(LEN(AF540)=0,\"\",IF(ISNA(MATCH(AF540,MasterListing,0)),AJ540,\"\"))","v":""},null,"__OI_18__GRADALTDPL_N","","OI18GRADALTDPLN","__OI_18__GRADALTDPL_N",1,"______",null,null,null,null,{"$f":"IF(ISNUMBER(SEARCH($F$6,AP539)),MAX($AO$11:AO538)+1,0)","v":528},0,{"$f":"ROWS($AQ$12:AQ539)","v":528},{"$f":"IFERROR(VLOOKUP(ROWS($AR$12:AR539),$AO$12:$AP$3014,2,0),\"\")","v":0}]
[null,null,null,null,null,null,null,null,null,null,null,null,null,null,null,null,null,null,null,null,null,null,null,null,null,null,{"$f":"IFERROR(INDEX($AE$13:$AE$1003, SMALL(IF(ISBLANK($AE$13:$AE$1003)+ISERROR($AE$13:$AE$1003)+LEN($AE$13:$AE$1003)=0, \"\", ROW($AE$13:$AE$1003)-MIN(ROW($AE$13:$AE$1003))+1), ROW(529:529))),\"\")","v":"__OI_18__RC_N"},{"$f":"IF(AF541=\"\",\"\",IF(COUNTIF(CurrentListing,AF541)>1,AJ541,\"\"))","v":""},{"$f":"IF(LEN(AF541)=0,\"\",IF(ISNA(MATCH(AF541,MasterListing,0)),AJ541,\"\"))","v":""},null,"__OI_18__MKC_N","","OI18MKCN","__OI_18__MKC_N",1,"______",null,null,null,null,{"$f":"IF(ISNUMBER(SEARCH($F$6,AP540)),MAX($AO$11:AO539)+1,0)","v":529},0,{"$f":"ROWS($AQ$12:AQ540)","v":529},{"$f":"IFERROR(VLOOKUP(ROWS($AR$12:AR540),$AO$12:$AP$3014,2,0),\"\")","v":0}]
[null,null,null,null,null,null,null,null,null,null,null,null,null,null,null,null,null,null,null,null,null,null,null,null,null,null,{"$f":"IFERROR(INDEX($AE$13:$AE$1003, SMALL(IF(ISBLANK($AE$13:$AE$1003)+ISERROR($AE$13:$AE$1003)+LEN($AE$13:$AE$1003)=0, \"\", ROW($AE$13:$AE$1003)-MIN(ROW($AE$13:$AE$1003))+1), ROW(530:530))),\"\")","v":"__OI_18__RMA_N"},{"$f":"IF(AF542=\"\",\"\",IF(COUNTIF(CurrentListing,AF542)>1,AJ542,\"\"))","v":""},{"$f":"IF(LEN(AF542)=0,\"\",IF(ISNA(MATCH(AF542,MasterListing,0)),AJ542,\"\"))","v":""},null,"__OI_18__RC_N","","OI18RCN","__OI_18__RC_N",1,"______",null,null,null,null,{"$f":"IF(ISNUMBER(SEARCH($F$6,AP541)),MAX($AO$11:AO540)+1,0)","v":530},0,{"$f":"ROWS($AQ$12:AQ541)","v":530},{"$f":"IFERROR(VLOOKUP(ROWS($AR$12:AR541),$AO$12:$AP$3014,2,0),\"\")","v":0}]
[null,null,null,null,null,null,null,null,null,null,null,null,null,null,null,null,null,null,null,null,null,null,null,null,null,null,{"$f":"IFERROR(INDEX($AE$13:$AE$1003, SMALL(IF(ISBLANK($AE$13:$AE$1003)+ISERROR($AE$13:$AE$1003)+LEN($AE$13:$AE$1003)=0, \"\", ROW($AE$13:$AE$1003)-MIN(ROW($AE$13:$AE$1003))+1), ROW(531:531))),\"\")","v":"__OI_18__TRAN_N"},{"$f":"IF(AF543=\"\",\"\",IF(COUNTIF(CurrentListing,AF543)>1,AJ543,\"\"))","v":""},{"$f":"IF(LEN(AF543)=0,\"\",IF(ISNA(MATCH(AF543,MasterListing,0)),AJ543,\"\"))","v":""},null,"__OI_18__RMA_N","","OI18RMAN","__OI_18__RMA_N",1,"______",null,null,null,null,{"$f":"IF(ISNUMBER(SEARCH($F$6,AP542)),MAX($AO$11:AO541)+1,0)","v":531},0,{"$f":"ROWS($AQ$12:AQ542)","v":531},{"$f":"IFERROR(VLOOKUP(ROWS($AR$12:AR542),$AO$12:$AP$3014,2,0),\"\")","v":0}]
[null,null,null,null,null,null,null,null,null,null,null,null,null,null,null,null,null,null,null,null,null,null,null,null,null,null,{"$f":"IFERROR(INDEX($AE$13:$AE$1003, SMALL(IF(ISBLANK($AE$13:$AE$1003)+ISERROR($AE$13:$AE$1003)+LEN($AE$13:$AE$1003)=0, \"\", ROW($AE$13:$AE$1003)-MIN(ROW($AE$13:$AE$1003))+1), ROW(532:532))),\"\")","v":"__OI_19__D_N"},{"$f":"IF(AF544=\"\",\"\",IF(COUNTIF(CurrentListing,AF544)>1,AJ544,\"\"))","v":""},{"$f":"IF(LEN(AF544)=0,\"\",IF(ISNA(MATCH(AF544,MasterListing,0)),AJ544,\"\"))","v":""},null,"__OI_18__TRAN_N","","OI18TRANN","__OI_18__TRAN_N",1,"______",null,null,null,null,{"$f":"IF(ISNUMBER(SEARCH($F$6,AP543)),MAX($AO$11:AO542)+1,0)","v":532},0,{"$f":"ROWS($AQ$12:AQ543)","v":532},{"$f":"IFERROR(VLOOKUP(ROWS($AR$12:AR543),$AO$12:$AP$3014,2,0),\"\")","v":0}]
[null,null,null,null,null,null,null,null,null,null,null,null,null,null,null,null,null,null,null,null,null,null,null,null,null,null,{"$f":"IFERROR(INDEX($AE$13:$AE$1003, SMALL(IF(ISBLANK($AE$13:$AE$1003)+ISERROR($AE$13:$AE$1003)+LEN($AE$13:$AE$1003)=0, \"\", ROW($AE$13:$AE$1003)-MIN(ROW($AE$13:$AE$1003))+1), ROW(533:533))),\"\")","v":"__OI_19__DROPOUT_N"},{"$f":"IF(AF545=\"\",\"\",IF(COUNTIF(CurrentListing,AF545)>1,AJ545,\"\"))","v":""},{"$f":"IF(LEN(AF545)=0,\"\",IF(ISNA(MATCH(AF545,MasterListing,0)),AJ545,\"\"))","v":""},null,"__OI_19__D_N","","OI19DN","__OI_19__D_N",1,"______",null,null,null,null,{"$f":"IF(ISNUMBER(SEARCH($F$6,AP544)),MAX($AO$11:AO543)+1,0)","v":533},0,{"$f":"ROWS($AQ$12:AQ544)","v":533},{"$f":"IFERROR(VLOOKUP(ROWS($AR$12:AR544),$AO$12:$AP$3014,2,0),\"\")","v":0}]
[null,null,null,null,null,null,null,null,null,null,null,null,null,null,null,null,null,null,null,null,null,null,null,null,null,null,{"$f":"IFERROR(INDEX($AE$13:$AE$1003, SMALL(IF(ISBLANK($AE$13:$AE$1003)+ISERROR($AE$13:$AE$1003)+LEN($AE$13:$AE$1003)=0, \"\", ROW($AE$13:$AE$1003)-MIN(ROW($AE$13:$AE$1003))+1), ROW(534:534))),\"\")","v":"__OI_19__GHS_N"},{"$f":"IF(AF546=\"\",\"\",IF(COUNTIF(CurrentListing,AF546)>1,AJ546,\"\"))","v":""},{"$f":"IF(LEN(AF546)=0,\"\",IF(ISNA(MATCH(AF546,MasterListing,0)),AJ546,\"\"))","v":""},null,"__OI_19__DROPOUT_N","","OI19DROPOUTN","__OI_19__DROPOUT_N",1,"______",null,null,null,null,{"$f":"IF(ISNUMBER(SEARCH($F$6,AP545)),MAX($AO$11:AO544)+1,0)","v":534},0,{"$f":"ROWS($AQ$12:AQ545)","v":534},{"$f":"IFERROR(VLOOKUP(ROWS($AR$12:AR545),$AO$12:$AP$3014,2,0),\"\")","v":0}]
[null,null,null,null,null,null,null,null,null,null,null,null,null,null,null,null,null,null,null,null,null,null,null,null,null,null,{"$f":"IFERROR(INDEX($AE$13:$AE$1003, SMALL(IF(ISBLANK($AE$13:$AE$1003)+ISERROR($AE$13:$AE$1003)+LEN($AE$13:$AE$1003)=0, \"\", ROW($AE$13:$AE$1003)-MIN(ROW($AE$13:$AE$1003))+1), ROW(535:535))),\"\")","v":"__OI_19__GRADALTDPL_N"},{"$f":"IF(AF547=\"\",\"\",IF(COUNTIF(CurrentListing,AF547)>1,AJ547,\"\"))","v":""},{"$f":"IF(LEN(AF547)=0,\"\",IF(ISNA(MATCH(AF547,MasterListing,0)),AJ547,\"\"))","v":""},null,"__OI_19__GHS_N","","OI19GHSN","__OI_19__GHS_N",1,"______",null,null,null,null,{"$f":"IF(ISNUMBER(SEARCH($F$6,AP546)),MAX($AO$11:AO545)+1,0)","v":535},0,{"$f":"ROWS($AQ$12:AQ546)","v":535},{"$f":"IFERROR(VLOOKUP(ROWS($AR$12:AR546),$AO$12:$AP$3014,2,0),\"\")","v":0}]
[null,null,null,null,null,null,null,null,null,null,null,null,null,null,null,null,null,null,null,null,null,null,null,null,null,null,{"$f":"IFERROR(INDEX($AE$13:$AE$1003, SMALL(IF(ISBLANK($AE$13:$AE$1003)+ISERROR($AE$13:$AE$1003)+LEN($AE$13:$AE$1003)=0, \"\", ROW($AE$13:$AE$1003)-MIN(ROW($AE$13:$AE$1003))+1), ROW(536:536))),\"\")","v":"__OI_19__MKC_N"},{"$f":"IF(AF548=\"\",\"\",IF(COUNTIF(CurrentListing,AF548)>1,AJ548,\"\"))","v":""},{"$f":"IF(LEN(AF548)=0,\"\",IF(ISNA(MATCH(AF548,MasterListing,0)),AJ548,\"\"))","v":""},null,"__OI_19__GRADALTDPL_N","","OI19GRADALTDPLN","__OI_19__GRADALTDPL_N",1,"______",null,null,null,null,{"$f":"IF(ISNUMBER(SEARCH($F$6,AP547)),MAX($AO$11:AO546)+1,0)","v":536},0,{"$f":"ROWS($AQ$12:AQ547)","v":536},{"$f":"IFERROR(VLOOKUP(ROWS($AR$12:AR547),$AO$12:$AP$3014,2,0),\"\")","v":0}]
[null,null,null,null,null,null,null,null,null,null,null,null,null,null,null,null,null,null,null,null,null,null,null,null,null,null,{"$f":"IFERROR(INDEX($AE$13:$AE$1003, SMALL(IF(ISBLANK($AE$13:$AE$1003)+ISERROR($AE$13:$AE$1003)+LEN($AE$13:$AE$1003)=0, \"\", ROW($AE$13:$AE$1003)-MIN(ROW($AE$13:$AE$1003))+1), ROW(537:537))),\"\")","v":"__OI_19__RC_N"},{"$f":"IF(AF549=\"\",\"\",IF(COUNTIF(CurrentListing,AF549)>1,AJ549,\"\"))","v":""},{"$f":"IF(LEN(AF549)=0,\"\",IF(ISNA(MATCH(AF549,MasterListing,0)),AJ549,\"\"))","v":""},null,"__OI_19__MKC_N","","OI19MKCN","__OI_19__MKC_N",1,"______",null,null,null,null,{"$f":"IF(ISNUMBER(SEARCH($F$6,AP548)),MAX($AO$11:AO547)+1,0)","v":537},0,{"$f":"ROWS($AQ$12:AQ548)","v":537},{"$f":"IFERROR(VLOOKUP(ROWS($AR$12:AR548),$AO$12:$AP$3014,2,0),\"\")","v":0}]
[null,null,null,null,null,null,null,null,null,null,null,null,null,null,null,null,null,null,null,null,null,null,null,null,null,null,{"$f":"IFERROR(INDEX($AE$13:$AE$1003, SMALL(IF(ISBLANK($AE$13:$AE$1003)+ISERROR($AE$13:$AE$1003)+LEN($AE$13:$AE$1003)=0, \"\", ROW($AE$13:$AE$1003)-MIN(ROW($AE$13:$AE$1003))+1), ROW(538:538))),\"\")","v":"__OI_19__RMA_N"},{"$f":"IF(AF550=\"\",\"\",IF(COUNTIF(CurrentListing,AF550)>1,AJ550,\"\"))","v":""},{"$f":"IF(LEN(AF550)=0,\"\",IF(ISNA(MATCH(AF550,MasterListing,0)),AJ550,\"\"))","v":""},null,"__OI_19__RC_N","","OI19RCN","__OI_19__RC_N",1,"______",null,null,null,null,{"$f":"IF(ISNUMBER(SEARCH($F$6,AP549)),MAX($AO$11:AO548)+1,0)","v":538},0,{"$f":"ROWS($AQ$12:AQ549)","v":538},{"$f":"IFERROR(VLOOKUP(ROWS($AR$12:AR549),$AO$12:$AP$3014,2,0),\"\")","v":0}]
[null,null,null,null,null,null,null,null,null,null,null,null,null,null,null,null,null,null,null,null,null,null,null,null,null,null,{"$f":"IFERROR(INDEX($AE$13:$AE$1003, SMALL(IF(ISBLANK($AE$13:$AE$1003)+ISERROR($AE$13:$AE$1003)+LEN($AE$13:$AE$1003)=0, \"\", ROW($AE$13:$AE$1003)-MIN(ROW($AE$13:$AE$1003))+1), ROW(539:539))),\"\")","v":"__OI_19__TRAN_N"},{"$f":"IF(AF551=\"\",\"\",IF(COUNTIF(CurrentListing,AF551)>1,AJ551,\"\"))","v":""},{"$f":"IF(LEN(AF551)=0,\"\",IF(ISNA(MATCH(AF551,MasterListing,0)),AJ551,\"\"))","v":""},null,"__OI_19__RMA_N","","OI19RMAN","__OI_19__RMA_N",1,"______",null,null,null,null,{"$f":"IF(ISNUMBER(SEARCH($F$6,AP550)),MAX($AO$11:AO549)+1,0)","v":539},0,{"$f":"ROWS($AQ$12:AQ550)","v":539},{"$f":"IFERROR(VLOOKUP(ROWS($AR$12:AR550),$AO$12:$AP$3014,2,0),\"\")","v":0}]
[null,null,null,null,null,null,null,null,null,null,null,null,null,null,null,null,null,null,null,null,null,null,null,null,null,null,{"$f":"IFERROR(INDEX($AE$13:$AE$1003, SMALL(IF(ISBLANK($AE$13:$AE$1003)+ISERROR($AE$13:$AE$1003)+LEN($AE$13:$AE$1003)=0, \"\", ROW($AE$13:$AE$1003)-MIN(ROW($AE$13:$AE$1003))+1), ROW(540:540))),\"\")","v":"__OI_20__D_N"},{"$f":"IF(AF552=\"\",\"\",IF(COUNTIF(CurrentListing,AF552)>1,AJ552,\"\"))","v":""},{"$f":"IF(LEN(AF552)=0,\"\",IF(ISNA(MATCH(AF552,MasterListing,0)),AJ552,\"\"))","v":""},null,"__OI_19__TRAN_N","","OI19TRANN","__OI_19__TRAN_N",1,"______",null,null,null,null,{"$f":"IF(ISNUMBER(SEARCH($F$6,AP551)),MAX($AO$11:AO550)+1,0)","v":540},0,{"$f":"ROWS($AQ$12:AQ551)","v":540},{"$f":"IFERROR(VLOOKUP(ROWS($AR$12:AR551),$AO$12:$AP$3014,2,0),\"\")","v":0}]
[null,null,null,null,null,null,null,null,null,null,null,null,null,null,null,null,null,null,null,null,null,null,null,null,null,null,{"$f":"IFERROR(INDEX($AE$13:$AE$1003, SMALL(IF(ISBLANK($AE$13:$AE$1003)+ISERROR($AE$13:$AE$1003)+LEN($AE$13:$AE$1003)=0, \"\", ROW($AE$13:$AE$1003)-MIN(ROW($AE$13:$AE$1003))+1), ROW(541:541))),\"\")","v":"__OI_20__DROPOUT_N"},{"$f":"IF(AF553=\"\",\"\",IF(COUNTIF(CurrentListing,AF553)>1,AJ553,\"\"))","v":""},{"$f":"IF(LEN(AF553)=0,\"\",IF(ISNA(MATCH(AF553,MasterListing,0)),AJ553,\"\"))","v":""},null,"__OI_20__D_N","","OI20DN","__OI_20__D_N",1,"______",null,null,null,null,{"$f":"IF(ISNUMBER(SEARCH($F$6,AP552)),MAX($AO$11:AO551)+1,0)","v":541},0,{"$f":"ROWS($AQ$12:AQ552)","v":541},{"$f":"IFERROR(VLOOKUP(ROWS($AR$12:AR552),$AO$12:$AP$3014,2,0),\"\")","v":0}]
[null,null,null,null,null,null,null,null,null,null,null,null,null,null,null,null,null,null,null,null,null,null,null,null,null,null,{"$f":"IFERROR(INDEX($AE$13:$AE$1003, SMALL(IF(ISBLANK($AE$13:$AE$1003)+ISERROR($AE$13:$AE$1003)+LEN($AE$13:$AE$1003)=0, \"\", ROW($AE$13:$AE$1003)-MIN(ROW($AE$13:$AE$1003))+1), ROW(542:542))),\"\")","v":"__OI_20__GHS_N"},{"$f":"IF(AF554=\"\",\"\",IF(COUNTIF(CurrentListing,AF554)>1,AJ554,\"\"))","v":""},{"$f":"IF(LEN(AF554)=0,\"\",IF(ISNA(MATCH(AF554,MasterListing,0)),AJ554,\"\"))","v":""},null,"__OI_20__DROPOUT_N","","OI20DROPOUTN","__OI_20__DROPOUT_N",1,"______",null,null,null,null,{"$f":"IF(ISNUMBER(SEARCH($F$6,AP553)),MAX($AO$11:AO552)+1,0)","v":542},0,{"$f":"ROWS($AQ$12:AQ553)","v":542},{"$f":"IFERROR(VLOOKUP(ROWS($AR$12:AR553),$AO$12:$AP$3014,2,0),\"\")","v":0}]
[null,null,null,null,null,null,null,null,null,null,null,null,null,null,null,null,null,null,null,null,null,null,null,null,null,null,{"$f":"IFERROR(INDEX($AE$13:$AE$1003, SMALL(IF(ISBLANK($AE$13:$AE$1003)+ISERROR($AE$13:$AE$1003)+LEN($AE$13:$AE$1003)=0, \"\", ROW($AE$13:$AE$1003)-MIN(ROW($AE$13:$AE$1003))+1), ROW(543:543))),\"\")","v":"__OI_20__GRADALTDPL_N"},{"$f":"IF(AF555=\"\",\"\",IF(COUNTIF(CurrentListing,AF555)>1,AJ555,\"\"))","v":""},{"$f":"IF(LEN(AF555)=0,\"\",IF(ISNA(MATCH(AF555,MasterListing,0)),AJ555,\"\"))","v":""},null,"__OI_20__GHS_N","","OI20GHSN","__OI_20__GHS_N",1,"______",null,null,null,null,{"$f":"IF(ISNUMBER(SEARCH($F$6,AP554)),MAX($AO$11:AO553)+1,0)","v":543},0,{"$f":"ROWS($AQ$12:AQ554)","v":543},{"$f":"IFERROR(VLOOKUP(ROWS($AR$12:AR554),$AO$12:$AP$3014,2,0),\"\")","v":0}]
[null,null,null,null,null,null,null,null,null,null,null,null,null,null,null,null,null,null,null,null,null,null,null,null,null,null,{"$f":"IFERROR(INDEX($AE$13:$AE$1003, SMALL(IF(ISBLANK($AE$13:$AE$1003)+ISERROR($AE$13:$AE$1003)+LEN($AE$13:$AE$1003)=0, \"\", ROW($AE$13:$AE$1003)-MIN(ROW($AE$13:$AE$1003))+1), ROW(544:544))),\"\")","v":"__OI_20__MKC_N"},{"$f":"IF(AF556=\"\",\"\",IF(COUNTIF(CurrentListing,AF556)>1,AJ556,\"\"))","v":""},{"$f":"IF(LEN(AF556)=0,\"\",IF(ISNA(MATCH(AF556,MasterListing,0)),AJ556,\"\"))","v":""},null,"__OI_20__GRADALTDPL_N","","OI20GRADALTDPLN","__OI_20__GRADALTDPL_N",1,"______",null,null,null,null,{"$f":"IF(ISNUMBER(SEARCH($F$6,AP555)),MAX($AO$11:AO554)+1,0)","v":544},0,{"$f":"ROWS($AQ$12:AQ555)","v":544},{"$f":"IFERROR(VLOOKUP(ROWS($AR$12:AR555),$AO$12:$AP$3014,2,0),\"\")","v":0}]
[null,null,null,null,null,null,null,null,null,null,null,null,null,null,null,null,null,null,null,null,null,null,null,null,null,null,{"$f":"IFERROR(INDEX($AE$13:$AE$1003, SMALL(IF(ISBLANK($AE$13:$AE$1003)+ISERROR($AE$13:$AE$1003)+LEN($AE$13:$AE$1003)=0, \"\", ROW($AE$13:$AE$1003)-MIN(ROW($AE$13:$AE$1003))+1), ROW(545:545))),\"\")","v":"__OI_20__RC_N"},{"$f":"IF(AF557=\"\",\"\",IF(COUNTIF(CurrentListing,AF557)>1,AJ557,\"\"))","v":""},{"$f":"IF(LEN(AF557)=0,\"\",IF(ISNA(MATCH(AF557,MasterListing,0)),AJ557,\"\"))","v":""},null,"__OI_20__MKC_N","","OI20MKCN","__OI_20__MKC_N",1,"______",null,null,null,null,{"$f":"IF(ISNUMBER(SEARCH($F$6,AP556)),MAX($AO$11:AO555)+1,0)","v":545},0,{"$f":"ROWS($AQ$12:AQ556)","v":545},{"$f":"IFERROR(VLOOKUP(ROWS($AR$12:AR556),$AO$12:$AP$3014,2,0),\"\")","v":0}]
[null,null,null,null,null,null,null,null,null,null,null,null,null,null,null,null,null,null,null,null,null,null,null,null,null,null,{"$f":"IFERROR(INDEX($AE$13:$AE$1003, SMALL(IF(ISBLANK($AE$13:$AE$1003)+ISERROR($AE$13:$AE$1003)+LEN($AE$13:$AE$1003)=0, \"\", ROW($AE$13:$AE$1003)-MIN(ROW($AE$13:$AE$1003))+1), ROW(546:546))),\"\")","v":"__OI_20__RMA_N"},{"$f":"IF(AF558=\"\",\"\",IF(COUNTIF(CurrentListing,AF558)>1,AJ558,\"\"))","v":""},{"$f":"IF(LEN(AF558)=0,\"\",IF(ISNA(MATCH(AF558,MasterListing,0)),AJ558,\"\"))","v":""},null,"__OI_20__RC_N","","OI20RCN","__OI_20__RC_N",1,"______",null,null,null,null,{"$f":"IF(ISNUMBER(SEARCH($F$6,AP557)),MAX($AO$11:AO556)+1,0)","v":546},0,{"$f":"ROWS($AQ$12:AQ557)","v":546},{"$f":"IFERROR(VLOOKUP(ROWS($AR$12:AR557),$AO$12:$AP$3014,2,0),\"\")","v":0}]
[null,null,null,null,null,null,null,null,null,null,null,null,null,null,null,null,null,null,null,null,null,null,null,null,null,null,{"$f":"IFERROR(INDEX($AE$13:$AE$1003, SMALL(IF(ISBLANK($AE$13:$AE$1003)+ISERROR($AE$13:$AE$1003)+LEN($AE$13:$AE$1003)=0, \"\", ROW($AE$13:$AE$1003)-MIN(ROW($AE$13:$AE$1003))+1), ROW(547:547))),\"\")","v":"__OI_20__TRAN_N"},{"$f":"IF(AF559=\"\",\"\",IF(COUNTIF(CurrentListing,AF559)>1,AJ559,\"\"))","v":""},{"$f":"IF(LEN(AF559)=0,\"\",IF(ISNA(MATCH(AF559,MasterListing,0)),AJ559,\"\"))","v":""},null,"__OI_20__RMA_N","","OI20RMAN","__OI_20__RMA_N",1,"______",null,null,null,null,{"$f":"IF(ISNUMBER(SEARCH($F$6,AP558)),MAX($AO$11:AO557)+1,0)","v":547},0,{"$f":"ROWS($AQ$12:AQ558)","v":547},{"$f":"IFERROR(VLOOKUP(ROWS($AR$12:AR558),$AO$12:$AP$3014,2,0),\"\")","v":0}]
[null,null,null,null,null,null,null,null,null,null,null,null,null,null,null,null,null,null,null,null,null,null,null,null,null,null,{"$f":"IFERROR(INDEX($AE$13:$AE$1003, SMALL(IF(ISBLANK($AE$13:$AE$1003)+ISERROR($AE$13:$AE$1003)+LEN($AE$13:$AE$1003)=0, \"\", ROW($AE$13:$AE$1003)-MIN(ROW($AE$13:$AE$1003))+1), ROW(548:548))),\"\")","v":"__OI_21__D_N"},{"$f":"IF(AF560=\"\",\"\",IF(COUNTIF(CurrentListing,AF560)>1,AJ560,\"\"))","v":""},{"$f":"IF(LEN(AF560)=0,\"\",IF(ISNA(MATCH(AF560,MasterListing,0)),AJ560,\"\"))","v":""},null,"__OI_20__TRAN_N","","OI20TRANN","__OI_20__TRAN_N",1,"______",null,null,null,null,{"$f":"IF(ISNUMBER(SEARCH($F$6,AP559)),MAX($AO$11:AO558)+1,0)","v":548},0,{"$f":"ROWS($AQ$12:AQ559)","v":548},{"$f":"IFERROR(VLOOKUP(ROWS($AR$12:AR559),$AO$12:$AP$3014,2,0),\"\")","v":0}]
[null,null,null,null,null,null,null,null,null,null,null,null,null,null,null,null,null,null,null,null,null,null,null,null,null,null,{"$f":"IFERROR(INDEX($AE$13:$AE$1003, SMALL(IF(ISBLANK($AE$13:$AE$1003)+ISERROR($AE$13:$AE$1003)+LEN($AE$13:$AE$1003)=0, \"\", ROW($AE$13:$AE$1003)-MIN(ROW($AE$13:$AE$1003))+1), ROW(549:549))),\"\")","v":"__OI_21__DROPOUT_N"},{"$f":"IF(AF561=\"\",\"\",IF(COUNTIF(CurrentListing,AF561)>1,AJ561,\"\"))","v":""},{"$f":"IF(LEN(AF561)=0,\"\",IF(ISNA(MATCH(AF561,MasterListing,0)),AJ561,\"\"))","v":""},null,"__OI_21__D_N","","OI21DN","__OI_21__D_N",1,"______",null,null,null,null,{"$f":"IF(ISNUMBER(SEARCH($F$6,AP560)),MAX($AO$11:AO559)+1,0)","v":549},0,{"$f":"ROWS($AQ$12:AQ560)","v":549},{"$f":"IFERROR(VLOOKUP(ROWS($AR$12:AR560),$AO$12:$AP$3014,2,0),\"\")","v":0}]
[null,null,null,null,null,null,null,null,null,null,null,null,null,null,null,null,null,null,null,null,null,null,null,null,null,null,{"$f":"IFERROR(INDEX($AE$13:$AE$1003, SMALL(IF(ISBLANK($AE$13:$AE$1003)+ISERROR($AE$13:$AE$1003)+LEN($AE$13:$AE$1003)=0, \"\", ROW($AE$13:$AE$1003)-MIN(ROW($AE$13:$AE$1003))+1), ROW(550:550))),\"\")","v":"__OI_21__GHS_N"},{"$f":"IF(AF562=\"\",\"\",IF(COUNTIF(CurrentListing,AF562)>1,AJ562,\"\"))","v":""},{"$f":"IF(LEN(AF562)=0,\"\",IF(ISNA(MATCH(AF562,MasterListing,0)),AJ562,\"\"))","v":""},null,"__OI_21__DROPOUT_N","","OI21DROPOUTN","__OI_21__DROPOUT_N",1,"______",null,null,null,null,{"$f":"IF(ISNUMBER(SEARCH($F$6,AP561)),MAX($AO$11:AO560)+1,0)","v":550},0,{"$f":"ROWS($AQ$12:AQ561)","v":550},{"$f":"IFERROR(VLOOKUP(ROWS($AR$12:AR561),$AO$12:$AP$3014,2,0),\"\")","v":0}]
[null,null,null,null,null,null,null,null,null,null,null,null,null,null,null,null,null,null,null,null,null,null,null,null,null,null,{"$f":"IFERROR(INDEX($AE$13:$AE$1003, SMALL(IF(ISBLANK($AE$13:$AE$1003)+ISERROR($AE$13:$AE$1003)+LEN($AE$13:$AE$1003)=0, \"\", ROW($AE$13:$AE$1003)-MIN(ROW($AE$13:$AE$1003))+1), ROW(551:551))),\"\")","v":"__OI_21__GRADALTDPL_N"},{"$f":"IF(AF563=\"\",\"\",IF(COUNTIF(CurrentListing,AF563)>1,AJ563,\"\"))","v":""},{"$f":"IF(LEN(AF563)=0,\"\",IF(ISNA(MATCH(AF563,MasterListing,0)),AJ563,\"\"))","v":""},null,"__OI_21__GHS_N","","OI21GHSN","__OI_21__GHS_N",1,"______",null,null,null,null,{"$f":"IF(ISNUMBER(SEARCH($F$6,AP562)),MAX($AO$11:AO561)+1,0)","v":551},0,{"$f":"ROWS($AQ$12:AQ562)","v":551},{"$f":"IFERROR(VLOOKUP(ROWS($AR$12:AR562),$AO$12:$AP$3014,2,0),\"\")","v":0}]
[null,null,null,null,null,null,null,null,null,null,null,null,null,null,null,null,null,null,null,null,null,null,null,null,null,null,{"$f":"IFERROR(INDEX($AE$13:$AE$1003, SMALL(IF(ISBLANK($AE$13:$AE$1003)+ISERROR($AE$13:$AE$1003)+LEN($AE$13:$AE$1003)=0, \"\", ROW($AE$13:$AE$1003)-MIN(ROW($AE$13:$AE$1003))+1), ROW(552:552))),\"\")","v":"__OI_21__MKC_N"},{"$f":"IF(AF564=\"\",\"\",IF(COUNTIF(CurrentListing,AF564)>1,AJ564,\"\"))","v":""},{"$f":"IF(LEN(AF564)=0,\"\",IF(ISNA(MATCH(AF564,MasterListing,0)),AJ564,\"\"))","v":""},null,"__OI_21__GRADALTDPL_N","","OI21GRADALTDPLN","__OI_21__GRADALTDPL_N",1,"______",null,null,null,null,{"$f":"IF(ISNUMBER(SEARCH($F$6,AP563)),MAX($AO$11:AO562)+1,0)","v":552},0,{"$f":"ROWS($AQ$12:AQ563)","v":552},{"$f":"IFERROR(VLOOKUP(ROWS($AR$12:AR563),$AO$12:$AP$3014,2,0),\"\")","v":0}]
[null,null,null,null,null,null,null,null,null,null,null,null,null,null,null,null,null,null,null,null,null,null,null,null,null,null,{"$f":"IFERROR(INDEX($AE$13:$AE$1003, SMALL(IF(ISBLANK($AE$13:$AE$1003)+ISERROR($AE$13:$AE$1003)+LEN($AE$13:$AE$1003)=0, \"\", ROW($AE$13:$AE$1003)-MIN(ROW($AE$13:$AE$1003))+1), ROW(553:553))),\"\")","v":"__OI_21__RC_N"},{"$f":"IF(AF565=\"\",\"\",IF(COUNTIF(CurrentListing,AF565)>1,AJ565,\"\"))","v":""},{"$f":"IF(LEN(AF565)=0,\"\",IF(ISNA(MATCH(AF565,MasterListing,0)),AJ565,\"\"))","v":""},null,"__OI_21__MKC_N","","OI21MKCN","__OI_21__MKC_N",1,"______",null,null,null,null,{"$f":"IF(ISNUMBER(SEARCH($F$6,AP564)),MAX($AO$11:AO563)+1,0)","v":553},0,{"$f":"ROWS($AQ$12:AQ564)","v":553},{"$f":"IFERROR(VLOOKUP(ROWS($AR$12:AR564),$AO$12:$AP$3014,2,0),\"\")","v":0}]
[null,null,null,null,null,null,null,null,null,null,null,null,null,null,null,null,null,null,null,null,null,null,null,null,null,null,{"$f":"IFERROR(INDEX($AE$13:$AE$1003, SMALL(IF(ISBLANK($AE$13:$AE$1003)+ISERROR($AE$13:$AE$1003)+LEN($AE$13:$AE$1003)=0, \"\", ROW($AE$13:$AE$1003)-MIN(ROW($AE$13:$AE$1003))+1), ROW(554:554))),\"\")","v":"__OI_21__RMA_N"},{"$f":"IF(AF566=\"\",\"\",IF(COUNTIF(CurrentListing,AF566)>1,AJ566,\"\"))","v":""},{"$f":"IF(LEN(AF566)=0,\"\",IF(ISNA(MATCH(AF566,MasterListing,0)),AJ566,\"\"))","v":""},null,"__OI_21__RC_N","","OI21RCN","__OI_21__RC_N",1,"______",null,null,null,null,{"$f":"IF(ISNUMBER(SEARCH($F$6,AP565)),MAX($AO$11:AO564)+1,0)","v":554},0,{"$f":"ROWS($AQ$12:AQ565)","v":554},{"$f":"IFERROR(VLOOKUP(ROWS($AR$12:AR565),$AO$12:$AP$3014,2,0),\"\")","v":0}]
[null,null,null,null,null,null,null,null,null,null,null,null,null,null,null,null,null,null,null,null,null,null,null,null,null,null,{"$f":"IFERROR(INDEX($AE$13:$AE$1003, SMALL(IF(ISBLANK($AE$13:$AE$1003)+ISERROR($AE$13:$AE$1003)+LEN($AE$13:$AE$1003)=0, \"\", ROW($AE$13:$AE$1003)-MIN(ROW($AE$13:$AE$1003))+1), ROW(555:555))),\"\")","v":"__OI_21__TRAN_N"},{"$f":"IF(AF567=\"\",\"\",IF(COUNTIF(CurrentListing,AF567)>1,AJ567,\"\"))","v":""},{"$f":"IF(LEN(AF567)=0,\"\",IF(ISNA(MATCH(AF567,MasterListing,0)),AJ567,\"\"))","v":""},null,"__OI_21__RMA_N","","OI21RMAN","__OI_21__RMA_N",1,"______",null,null,null,null,{"$f":"IF(ISNUMBER(SEARCH($F$6,AP566)),MAX($AO$11:AO565)+1,0)","v":555},0,{"$f":"ROWS($AQ$12:AQ566)","v":555},{"$f":"IFERROR(VLOOKUP(ROWS($AR$12:AR566),$AO$12:$AP$3014,2,0),\"\")","v":0}]
[null,null,null,null,null,null,null,null,null,null,null,null,null,null,null,null,null,null,null,null,null,null,null,null,null,null,{"$f":"IFERROR(INDEX($AE$13:$AE$1003, SMALL(IF(ISBLANK($AE$13:$AE$1003)+ISERROR($AE$13:$AE$1003)+LEN($AE$13:$AE$1003)=0, \"\", ROW($AE$13:$AE$1003)-MIN(ROW($AE$13:$AE$1003))+1), ROW(556:556))),\"\")","v":"__SLD____Y"},{"$f":"IF(AF568=\"\",\"\",IF(COUNTIF(CurrentListing,AF568)>1,AJ568,\"\"))","v":""},{"$f":"IF(LEN(AF568)=0,\"\",IF(ISNA(MATCH(AF568,MasterListing,0)),AJ568,\"\"))","v":""},null,"__OI_21__TRAN_N","","OI21TRANN","__OI_21__TRAN_N",1,"______",null,null,null,null,{"$f":"IF(ISNUMBER(SEARCH($F$6,AP567)),MAX($AO$11:AO566)+1,0)","v":556},0,{"$f":"ROWS($AQ$12:AQ567)","v":556},{"$f":"IFERROR(VLOOKUP(ROWS($AR$12:AR567),$AO$12:$AP$3014,2,0),\"\")","v":0}]
[null,null,null,null,null,null,null,null,null,null,null,null,null,null,null,null,null,null,null,null,null,null,null,null,null,null,{"$f":"IFERROR(INDEX($AE$13:$AE$1003, SMALL(IF(ISBLANK($AE$13:$AE$1003)+ISERROR($AE$13:$AE$1003)+LEN($AE$13:$AE$1003)=0, \"\", ROW($AE$13:$AE$1003)-MIN(ROW($AE$13:$AE$1003))+1), ROW(557:557))),\"\")","v":"__SLD_14__D_N"},{"$f":"IF(AF569=\"\",\"\",IF(COUNTIF(CurrentListing,AF569)>1,AJ569,\"\"))","v":""},{"$f":"IF(LEN(AF569)=0,\"\",IF(ISNA(MATCH(AF569,MasterListing,0)),AJ569,\"\"))","v":""},null,"__SLD____Y","","SLDY","__SLD____Y",1,"______",null,null,null,null,{"$f":"IF(ISNUMBER(SEARCH($F$6,AP568)),MAX($AO$11:AO567)+1,0)","v":557},0,{"$f":"ROWS($AQ$12:AQ568)","v":557},{"$f":"IFERROR(VLOOKUP(ROWS($AR$12:AR568),$AO$12:$AP$3014,2,0),\"\")","v":0}]
[null,null,null,null,null,null,null,null,null,null,null,null,null,null,null,null,null,null,null,null,null,null,null,null,null,null,{"$f":"IFERROR(INDEX($AE$13:$AE$1003, SMALL(IF(ISBLANK($AE$13:$AE$1003)+ISERROR($AE$13:$AE$1003)+LEN($AE$13:$AE$1003)=0, \"\", ROW($AE$13:$AE$1003)-MIN(ROW($AE$13:$AE$1003))+1), ROW(558:558))),\"\")","v":"__SLD_14__DROPOUT_N"},{"$f":"IF(AF570=\"\",\"\",IF(COUNTIF(CurrentListing,AF570)>1,AJ570,\"\"))","v":""},{"$f":"IF(LEN(AF570)=0,\"\",IF(ISNA(MATCH(AF570,MasterListing,0)),AJ570,\"\"))","v":""},null,"__SLD_14__D_N","","SLD14DN","__SLD_14__D_N",1,"______",null,null,null,null,{"$f":"IF(ISNUMBER(SEARCH($F$6,AP569)),MAX($AO$11:AO568)+1,0)","v":558},0,{"$f":"ROWS($AQ$12:AQ569)","v":558},{"$f":"IFERROR(VLOOKUP(ROWS($AR$12:AR569),$AO$12:$AP$3014,2,0),\"\")","v":0}]
[null,null,null,null,null,null,null,null,null,null,null,null,null,null,null,null,null,null,null,null,null,null,null,null,null,null,{"$f":"IFERROR(INDEX($AE$13:$AE$1003, SMALL(IF(ISBLANK($AE$13:$AE$1003)+ISERROR($AE$13:$AE$1003)+LEN($AE$13:$AE$1003)=0, \"\", ROW($AE$13:$AE$1003)-MIN(ROW($AE$13:$AE$1003))+1), ROW(559:559))),\"\")","v":"__SLD_14__GHS_N"},{"$f":"IF(AF571=\"\",\"\",IF(COUNTIF(CurrentListing,AF571)>1,AJ571,\"\"))","v":""},{"$f":"IF(LEN(AF571)=0,\"\",IF(ISNA(MATCH(AF571,MasterListing,0)),AJ571,\"\"))","v":""},null,"__SLD_14__DROPOUT_N","","SLD14DROPOUTN","__SLD_14__DROPOUT_N",1,"______",null,null,null,null,{"$f":"IF(ISNUMBER(SEARCH($F$6,AP570)),MAX($AO$11:AO569)+1,0)","v":559},0,{"$f":"ROWS($AQ$12:AQ570)","v":559},{"$f":"IFERROR(VLOOKUP(ROWS($AR$12:AR570),$AO$12:$AP$3014,2,0),\"\")","v":0}]
[null,null,null,null,null,null,null,null,null,null,null,null,null,null,null,null,null,null,null,null,null,null,null,null,null,null,{"$f":"IFERROR(INDEX($AE$13:$AE$1003, SMALL(IF(ISBLANK($AE$13:$AE$1003)+ISERROR($AE$13:$AE$1003)+LEN($AE$13:$AE$1003)=0, \"\", ROW($AE$13:$AE$1003)-MIN(ROW($AE$13:$AE$1003))+1), ROW(560:560))),\"\")","v":"__SLD_14__GRADALTDPL_N"},{"$f":"IF(AF572=\"\",\"\",IF(COUNTIF(CurrentListing,AF572)>1,AJ572,\"\"))","v":""},{"$f":"IF(LEN(AF572)=0,\"\",IF(ISNA(MATCH(AF572,MasterListing,0)),AJ572,\"\"))","v":""},null,"__SLD_14__GHS_N","","SLD14GHSN","__SLD_14__GHS_N",1,"______",null,null,null,null,{"$f":"IF(ISNUMBER(SEARCH($F$6,AP571)),MAX($AO$11:AO570)+1,0)","v":560},0,{"$f":"ROWS($AQ$12:AQ571)","v":560},{"$f":"IFERROR(VLOOKUP(ROWS($AR$12:AR571),$AO$12:$AP$3014,2,0),\"\")","v":0}]
[null,null,null,null,null,null,null,null,null,null,null,null,null,null,null,null,null,null,null,null,null,null,null,null,null,null,{"$f":"IFERROR(INDEX($AE$13:$AE$1003, SMALL(IF(ISBLANK($AE$13:$AE$1003)+ISERROR($AE$13:$AE$1003)+LEN($AE$13:$AE$1003)=0, \"\", ROW($AE$13:$AE$1003)-MIN(ROW($AE$13:$AE$1003))+1), ROW(561:561))),\"\")","v":"__SLD_14__MKC_N"},{"$f":"IF(AF573=\"\",\"\",IF(COUNTIF(CurrentListing,AF573)>1,AJ573,\"\"))","v":""},{"$f":"IF(LEN(AF573)=0,\"\",IF(ISNA(MATCH(AF573,MasterListing,0)),AJ573,\"\"))","v":""},null,"__SLD_14__GRADALTDPL_N","","SLD14GRADALTDPLN","__SLD_14__GRADALTDPL_N",1,"______",null,null,null,null,{"$f":"IF(ISNUMBER(SEARCH($F$6,AP572)),MAX($AO$11:AO571)+1,0)","v":561},0,{"$f":"ROWS($AQ$12:AQ572)","v":561},{"$f":"IFERROR(VLOOKUP(ROWS($AR$12:AR572),$AO$12:$AP$3014,2,0),\"\")","v":0}]
[null,null,null,null,null,null,null,null,null,null,null,null,null,null,null,null,null,null,null,null,null,null,null,null,null,null,{"$f":"IFERROR(INDEX($AE$13:$AE$1003, SMALL(IF(ISBLANK($AE$13:$AE$1003)+ISERROR($AE$13:$AE$1003)+LEN($AE$13:$AE$1003)=0, \"\", ROW($AE$13:$AE$1003)-MIN(ROW($AE$13:$AE$1003))+1), ROW(562:562))),\"\")","v":"__SLD_14__RC_N"},{"$f":"IF(AF574=\"\",\"\",IF(COUNTIF(CurrentListing,AF574)>1,AJ574,\"\"))","v":""},{"$f":"IF(LEN(AF574)=0,\"\",IF(ISNA(MATCH(AF574,MasterListing,0)),AJ574,\"\"))","v":""},null,"__SLD_14__MKC_N","","SLD14MKCN","__SLD_14__MKC_N",1,"______",null,null,null,null,{"$f":"IF(ISNUMBER(SEARCH($F$6,AP573)),MAX($AO$11:AO572)+1,0)","v":562},0,{"$f":"ROWS($AQ$12:AQ573)","v":562},{"$f":"IFERROR(VLOOKUP(ROWS($AR$12:AR573),$AO$12:$AP$3014,2,0),\"\")","v":0}]
[null,null,null,null,null,null,null,null,null,null,null,null,null,null,null,null,null,null,null,null,null,null,null,null,null,null,{"$f":"IFERROR(INDEX($AE$13:$AE$1003, SMALL(IF(ISBLANK($AE$13:$AE$1003)+ISERROR($AE$13:$AE$1003)+LEN($AE$13:$AE$1003)=0, \"\", ROW($AE$13:$AE$1003)-MIN(ROW($AE$13:$AE$1003))+1), ROW(563:563))),\"\")","v":"__SLD_14__RMA_N"},{"$f":"IF(AF575=\"\",\"\",IF(COUNTIF(CurrentListing,AF575)>1,AJ575,\"\"))","v":""},{"$f":"IF(LEN(AF575)=0,\"\",IF(ISNA(MATCH(AF575,MasterListing,0)),AJ575,\"\"))","v":""},null,"__SLD_14__RC_N","","SLD14RCN","__SLD_14__RC_N",1,"______",null,null,null,null,{"$f":"IF(ISNUMBER(SEARCH($F$6,AP574)),MAX($AO$11:AO573)+1,0)","v":563},0,{"$f":"ROWS($AQ$12:AQ574)","v":563},{"$f":"IFERROR(VLOOKUP(ROWS($AR$12:AR574),$AO$12:$AP$3014,2,0),\"\")","v":0}]
[null,null,null,null,null,null,null,null,null,null,null,null,null,null,null,null,null,null,null,null,null,null,null,null,null,null,{"$f":"IFERROR(INDEX($AE$13:$AE$1003, SMALL(IF(ISBLANK($AE$13:$AE$1003)+ISERROR($AE$13:$AE$1003)+LEN($AE$13:$AE$1003)=0, \"\", ROW($AE$13:$AE$1003)-MIN(ROW($AE$13:$AE$1003))+1), ROW(564:564))),\"\")","v":"__SLD_14__TRAN_N"},{"$f":"IF(AF576=\"\",\"\",IF(COUNTIF(CurrentListing,AF576)>1,AJ576,\"\"))","v":""},{"$f":"IF(LEN(AF576)=0,\"\",IF(ISNA(MATCH(AF576,MasterListing,0)),AJ576,\"\"))","v":""},null,"__SLD_14__RMA_N","","SLD14RMAN","__SLD_14__RMA_N",1,"______",null,null,null,null,{"$f":"IF(ISNUMBER(SEARCH($F$6,AP575)),MAX($AO$11:AO574)+1,0)","v":564},0,{"$f":"ROWS($AQ$12:AQ575)","v":564},{"$f":"IFERROR(VLOOKUP(ROWS($AR$12:AR575),$AO$12:$AP$3014,2,0),\"\")","v":0}]
[null,null,null,null,null,null,null,null,null,null,null,null,null,null,null,null,null,null,null,null,null,null,null,null,null,null,{"$f":"IFERROR(INDEX($AE$13:$AE$1003, SMALL(IF(ISBLANK($AE$13:$AE$1003)+ISERROR($AE$13:$AE$1003)+LEN($AE$13:$AE$1003)=0, \"\", ROW($AE$13:$AE$1003)-MIN(ROW($AE$13:$AE$1003))+1), ROW(565:565))),\"\")","v":"__SLD_15__D_N"},{"$f":"IF(AF577=\"\",\"\",IF(COUNTIF(CurrentListing,AF577)>1,AJ577,\"\"))","v":""},{"$f":"IF(LEN(AF577)=0,\"\",IF(ISNA(MATCH(AF577,MasterListing,0)),AJ577,\"\"))","v":""},null,"__SLD_14__TRAN_N","","SLD14TRANN","__SLD_14__TRAN_N",1,"______",null,null,null,null,{"$f":"IF(ISNUMBER(SEARCH($F$6,AP576)),MAX($AO$11:AO575)+1,0)","v":565},0,{"$f":"ROWS($AQ$12:AQ576)","v":565},{"$f":"IFERROR(VLOOKUP(ROWS($AR$12:AR576),$AO$12:$AP$3014,2,0),\"\")","v":0}]
[null,null,null,null,null,null,null,null,null,null,null,null,null,null,null,null,null,null,null,null,null,null,null,null,null,null,{"$f":"IFERROR(INDEX($AE$13:$AE$1003, SMALL(IF(ISBLANK($AE$13:$AE$1003)+ISERROR($AE$13:$AE$1003)+LEN($AE$13:$AE$1003)=0, \"\", ROW($AE$13:$AE$1003)-MIN(ROW($AE$13:$AE$1003))+1), ROW(566:566))),\"\")","v":"__SLD_15__DROPOUT_N"},{"$f":"IF(AF578=\"\",\"\",IF(COUNTIF(CurrentListing,AF578)>1,AJ578,\"\"))","v":""},{"$f":"IF(LEN(AF578)=0,\"\",IF(ISNA(MATCH(AF578,MasterListing,0)),AJ578,\"\"))","v":""},null,"__SLD_15__D_N","","SLD15DN","__SLD_15__D_N",1,"______",null,null,null,null,{"$f":"IF(ISNUMBER(SEARCH($F$6,AP577)),MAX($AO$11:AO576)+1,0)","v":566},0,{"$f":"ROWS($AQ$12:AQ577)","v":566},{"$f":"IFERROR(VLOOKUP(ROWS($AR$12:AR577),$AO$12:$AP$3014,2,0),\"\")","v":0}]
[null,null,null,null,null,null,null,null,null,null,null,null,null,null,null,null,null,null,null,null,null,null,null,null,null,null,{"$f":"IFERROR(INDEX($AE$13:$AE$1003, SMALL(IF(ISBLANK($AE$13:$AE$1003)+ISERROR($AE$13:$AE$1003)+LEN($AE$13:$AE$1003)=0, \"\", ROW($AE$13:$AE$1003)-MIN(ROW($AE$13:$AE$1003))+1), ROW(567:567))),\"\")","v":"__SLD_15__GHS_N"},{"$f":"IF(AF579=\"\",\"\",IF(COUNTIF(CurrentListing,AF579)>1,AJ579,\"\"))","v":""},{"$f":"IF(LEN(AF579)=0,\"\",IF(ISNA(MATCH(AF579,MasterListing,0)),AJ579,\"\"))","v":""},null,"__SLD_15__DROPOUT_N","","SLD15DROPOUTN","__SLD_15__DROPOUT_N",1,"______",null,null,null,null,{"$f":"IF(ISNUMBER(SEARCH($F$6,AP578)),MAX($AO$11:AO577)+1,0)","v":567},0,{"$f":"ROWS($AQ$12:AQ578)","v":567},{"$f":"IFERROR(VLOOKUP(ROWS($AR$12:AR578),$AO$12:$AP$3014,2,0),\"\")","v":0}]
[null,null,null,null,null,null,null,null,null,null,null,null,null,null,null,null,null,null,null,null,null,null,null,null,null,null,{"$f":"IFERROR(INDEX($AE$13:$AE$1003, SMALL(IF(ISBLANK($AE$13:$AE$1003)+ISERROR($AE$13:$AE$1003)+LEN($AE$13:$AE$1003)=0, \"\", ROW($AE$13:$AE$1003)-MIN(ROW($AE$13:$AE$1003))+1), ROW(568:568))),\"\")","v":"__SLD_15__GRADALTDPL_N"},{"$f":"IF(AF580=\"\",\"\",IF(COUNTIF(CurrentListing,AF580)>1,AJ580,\"\"))","v":""},{"$f":"IF(LEN(AF580)=0,\"\",IF(ISNA(MATCH(AF580,MasterListing,0)),AJ580,\"\"))","v":""},null,"__SLD_15__GHS_N","","SLD15GHSN","__SLD_15__GHS_N",1,"______",null,null,null,null,{"$f":"IF(ISNUMBER(SEARCH($F$6,AP579)),MAX($AO$11:AO578)+1,0)","v":568},0,{"$f":"ROWS($AQ$12:AQ579)","v":568},{"$f":"IFERROR(VLOOKUP(ROWS($AR$12:AR579),$AO$12:$AP$3014,2,0),\"\")","v":0}]
[null,null,null,null,null,null,null,null,null,null,null,null,null,null,null,null,null,null,null,null,null,null,null,null,null,null,{"$f":"IFERROR(INDEX($AE$13:$AE$1003, SMALL(IF(ISBLANK($AE$13:$AE$1003)+ISERROR($AE$13:$AE$1003)+LEN($AE$13:$AE$1003)=0, \"\", ROW($AE$13:$AE$1003)-MIN(ROW($AE$13:$AE$1003))+1), ROW(569:569))),\"\")","v":"__SLD_15__MKC_N"},{"$f":"IF(AF581=\"\",\"\",IF(COUNTIF(CurrentListing,AF581)>1,AJ581,\"\"))","v":""},{"$f":"IF(LEN(AF581)=0,\"\",IF(ISNA(MATCH(AF581,MasterListing,0)),AJ581,\"\"))","v":""},null,"__SLD_15__GRADALTDPL_N","","SLD15GRADALTDPLN","__SLD_15__GRADALTDPL_N",1,"______",null,null,null,null,{"$f":"IF(ISNUMBER(SEARCH($F$6,AP580)),MAX($AO$11:AO579)+1,0)","v":569},0,{"$f":"ROWS($AQ$12:AQ580)","v":569},{"$f":"IFERROR(VLOOKUP(ROWS($AR$12:AR580),$AO$12:$AP$3014,2,0),\"\")","v":0}]
[null,null,null,null,null,null,null,null,null,null,null,null,null,null,null,null,null,null,null,null,null,null,null,null,null,null,{"$f":"IFERROR(INDEX($AE$13:$AE$1003, SMALL(IF(ISBLANK($AE$13:$AE$1003)+ISERROR($AE$13:$AE$1003)+LEN($AE$13:$AE$1003)=0, \"\", ROW($AE$13:$AE$1003)-MIN(ROW($AE$13:$AE$1003))+1), ROW(570:570))),\"\")","v":"__SLD_15__RC_N"},{"$f":"IF(AF582=\"\",\"\",IF(COUNTIF(CurrentListing,AF582)>1,AJ582,\"\"))","v":""},{"$f":"IF(LEN(AF582)=0,\"\",IF(ISNA(MATCH(AF582,MasterListing,0)),AJ582,\"\"))","v":""},null,"__SLD_15__MKC_N","","SLD15MKCN","__SLD_15__MKC_N",1,"______",null,null,null,null,{"$f":"IF(ISNUMBER(SEARCH($F$6,AP581)),MAX($AO$11:AO580)+1,0)","v":570},0,{"$f":"ROWS($AQ$12:AQ581)","v":570},{"$f":"IFERROR(VLOOKUP(ROWS($AR$12:AR581),$AO$12:$AP$3014,2,0),\"\")","v":0}]
[null,null,null,null,null,null,null,null,null,null,null,null,null,null,null,null,null,null,null,null,null,null,null,null,null,null,{"$f":"IFERROR(INDEX($AE$13:$AE$1003, SMALL(IF(ISBLANK($AE$13:$AE$1003)+ISERROR($AE$13:$AE$1003)+LEN($AE$13:$AE$1003)=0, \"\", ROW($AE$13:$AE$1003)-MIN(ROW($AE$13:$AE$1003))+1), ROW(571:571))),\"\")","v":"__SLD_15__RMA_N"},{"$f":"IF(AF583=\"\",\"\",IF(COUNTIF(CurrentListing,AF583)>1,AJ583,\"\"))","v":""},{"$f":"IF(LEN(AF583)=0,\"\",IF(ISNA(MATCH(AF583,MasterListing,0)),AJ583,\"\"))","v":""},null,"__SLD_15__RC_N","","SLD15RCN","__SLD_15__RC_N",1,"______",null,null,null,null,{"$f":"IF(ISNUMBER(SEARCH($F$6,AP582)),MAX($AO$11:AO581)+1,0)","v":571},0,{"$f":"ROWS($AQ$12:AQ582)","v":571},{"$f":"IFERROR(VLOOKUP(ROWS($AR$12:AR582),$AO$12:$AP$3014,2,0),\"\")","v":0}]
[null,null,null,null,null,null,null,null,null,null,null,null,null,null,null,null,null,null,null,null,null,null,null,null,null,null,{"$f":"IFERROR(INDEX($AE$13:$AE$1003, SMALL(IF(ISBLANK($AE$13:$AE$1003)+ISERROR($AE$13:$AE$1003)+LEN($AE$13:$AE$1003)=0, \"\", ROW($AE$13:$AE$1003)-MIN(ROW($AE$13:$AE$1003))+1), ROW(572:572))),\"\")","v":"__SLD_15__TRAN_N"},{"$f":"IF(AF584=\"\",\"\",IF(COUNTIF(CurrentListing,AF584)>1,AJ584,\"\"))","v":""},{"$f":"IF(LEN(AF584)=0,\"\",IF(ISNA(MATCH(AF584,MasterListing,0)),AJ584,\"\"))","v":""},null,"__SLD_15__RMA_N","","SLD15RMAN","__SLD_15__RMA_N",1,"______",null,null,null,null,{"$f":"IF(ISNUMBER(SEARCH($F$6,AP583)),MAX($AO$11:AO582)+1,0)","v":572},0,{"$f":"ROWS($AQ$12:AQ583)","v":572},{"$f":"IFERROR(VLOOKUP(ROWS($AR$12:AR583),$AO$12:$AP$3014,2,0),\"\")","v":0}]
[null,null,null,null,null,null,null,null,null,null,null,null,null,null,null,null,null,null,null,null,null,null,null,null,null,null,{"$f":"IFERROR(INDEX($AE$13:$AE$1003, SMALL(IF(ISBLANK($AE$13:$AE$1003)+ISERROR($AE$13:$AE$1003)+LEN($AE$13:$AE$1003)=0, \"\", ROW($AE$13:$AE$1003)-MIN(ROW($AE$13:$AE$1003))+1), ROW(573:573))),\"\")","v":"__SLD_16__D_N"},{"$f":"IF(AF585=\"\",\"\",IF(COUNTIF(CurrentListing,AF585)>1,AJ585,\"\"))","v":""},{"$f":"IF(LEN(AF585)=0,\"\",IF(ISNA(MATCH(AF585,MasterListing,0)),AJ585,\"\"))","v":""},null,"__SLD_15__TRAN_N","","SLD15TRANN","__SLD_15__TRAN_N",1,"______",null,null,null,null,{"$f":"IF(ISNUMBER(SEARCH($F$6,AP584)),MAX($AO$11:AO583)+1,0)","v":573},0,{"$f":"ROWS($AQ$12:AQ584)","v":573},{"$f":"IFERROR(VLOOKUP(ROWS($AR$12:AR584),$AO$12:$AP$3014,2,0),\"\")","v":0}]
[null,null,null,null,null,null,null,null,null,null,null,null,null,null,null,null,null,null,null,null,null,null,null,null,null,null,{"$f":"IFERROR(INDEX($AE$13:$AE$1003, SMALL(IF(ISBLANK($AE$13:$AE$1003)+ISERROR($AE$13:$AE$1003)+LEN($AE$13:$AE$1003)=0, \"\", ROW($AE$13:$AE$1003)-MIN(ROW($AE$13:$AE$1003))+1), ROW(574:574))),\"\")","v":"__SLD_16__DROPOUT_N"},{"$f":"IF(AF586=\"\",\"\",IF(COUNTIF(CurrentListing,AF586)>1,AJ586,\"\"))","v":""},{"$f":"IF(LEN(AF586)=0,\"\",IF(ISNA(MATCH(AF586,MasterListing,0)),AJ586,\"\"))","v":""},null,"__SLD_16__D_N","","SLD16DN","__SLD_16__D_N",1,"______",null,null,null,null,{"$f":"IF(ISNUMBER(SEARCH($F$6,AP585)),MAX($AO$11:AO584)+1,0)","v":574},0,{"$f":"ROWS($AQ$12:AQ585)","v":574},{"$f":"IFERROR(VLOOKUP(ROWS($AR$12:AR585),$AO$12:$AP$3014,2,0),\"\")","v":0}]
[null,null,null,null,null,null,null,null,null,null,null,null,null,null,null,null,null,null,null,null,null,null,null,null,null,null,{"$f":"IFERROR(INDEX($AE$13:$AE$1003, SMALL(IF(ISBLANK($AE$13:$AE$1003)+ISERROR($AE$13:$AE$1003)+LEN($AE$13:$AE$1003)=0, \"\", ROW($AE$13:$AE$1003)-MIN(ROW($AE$13:$AE$1003))+1), ROW(575:575))),\"\")","v":"__SLD_16__GHS_N"},{"$f":"IF(AF587=\"\",\"\",IF(COUNTIF(CurrentListing,AF587)>1,AJ587,\"\"))","v":""},{"$f":"IF(LEN(AF587)=0,\"\",IF(ISNA(MATCH(AF587,MasterListing,0)),AJ587,\"\"))","v":""},null,"__SLD_16__DROPOUT_N","","SLD16DROPOUTN","__SLD_16__DROPOUT_N",1,"______",null,null,null,null,{"$f":"IF(ISNUMBER(SEARCH($F$6,AP586)),MAX($AO$11:AO585)+1,0)","v":575},0,{"$f":"ROWS($AQ$12:AQ586)","v":575},{"$f":"IFERROR(VLOOKUP(ROWS($AR$12:AR586),$AO$12:$AP$3014,2,0),\"\")","v":0}]
[null,null,null,null,null,null,null,null,null,null,null,null,null,null,null,null,null,null,null,null,null,null,null,null,null,null,{"$f":"IFERROR(INDEX($AE$13:$AE$1003, SMALL(IF(ISBLANK($AE$13:$AE$1003)+ISERROR($AE$13:$AE$1003)+LEN($AE$13:$AE$1003)=0, \"\", ROW($AE$13:$AE$1003)-MIN(ROW($AE$13:$AE$1003))+1), ROW(576:576))),\"\")","v":"__SLD_16__GRADALTDPL_N"},{"$f":"IF(AF588=\"\",\"\",IF(COUNTIF(CurrentListing,AF588)>1,AJ588,\"\"))","v":""},{"$f":"IF(LEN(AF588)=0,\"\",IF(ISNA(MATCH(AF588,MasterListing,0)),AJ588,\"\"))","v":""},null,"__SLD_16__GHS_N","","SLD16GHSN","__SLD_16__GHS_N",1,"______",null,null,null,null,{"$f":"IF(ISNUMBER(SEARCH($F$6,AP587)),MAX($AO$11:AO586)+1,0)","v":576},0,{"$f":"ROWS($AQ$12:AQ587)","v":576},{"$f":"IFERROR(VLOOKUP(ROWS($AR$12:AR587),$AO$12:$AP$3014,2,0),\"\")","v":0}]
[null,null,null,null,null,null,null,null,null,null,null,null,null,null,null,null,null,null,null,null,null,null,null,null,null,null,{"$f":"IFERROR(INDEX($AE$13:$AE$1003, SMALL(IF(ISBLANK($AE$13:$AE$1003)+ISERROR($AE$13:$AE$1003)+LEN($AE$13:$AE$1003)=0, \"\", ROW($AE$13:$AE$1003)-MIN(ROW($AE$13:$AE$1003))+1), ROW(577:577))),\"\")","v":"__SLD_16__MKC_N"},{"$f":"IF(AF589=\"\",\"\",IF(COUNTIF(CurrentListing,AF589)>1,AJ589,\"\"))","v":""},{"$f":"IF(LEN(AF589)=0,\"\",IF(ISNA(MATCH(AF589,MasterListing,0)),AJ589,\"\"))","v":""},null,{"$f":"IF(LEN(AG588)=0,\"\",IF(ISNA(MATCH(AG588,CurrentListing,0)),AH588,\"\"))","v":"__SLD_16__GRADALTDPL_N"},"","SLD16GRADALTDPLN","__SLD_16__GRADALTDPL_N",1,"______",null,null,null,null,{"$f":"IF(ISNUMBER(SEARCH($F$6,AP588)),MAX($AO$11:AO587)+1,0)","v":577},0,{"$f":"ROWS($AQ$12:AQ588)","v":577},{"$f":"IFERROR(VLOOKUP(ROWS($AR$12:AR588),$AO$12:$AP$3014,2,0),\"\")","v":0}]
[null,null,null,null,null,null,null,null,null,null,null,null,null,null,null,null,null,null,null,null,null,null,null,null,null,null,{"$f":"IFERROR(INDEX($AE$13:$AE$1003, SMALL(IF(ISBLANK($AE$13:$AE$1003)+ISERROR($AE$13:$AE$1003)+LEN($AE$13:$AE$1003)=0, \"\", ROW($AE$13:$AE$1003)-MIN(ROW($AE$13:$AE$1003))+1), ROW(578:578))),\"\")","v":"__SLD_16__RC_N"},{"$f":"IF(AF590=\"\",\"\",IF(COUNTIF(CurrentListing,AF590)>1,AJ590,\"\"))","v":""},{"$f":"IF(LEN(AF590)=0,\"\",IF(ISNA(MATCH(AF590,MasterListing,0)),AJ590,\"\"))","v":""},null,"__SLD_16__MKC_N",{"$f":"H589&I589&P589&Q589&R589&V589&W589","v":""},"SLD16MKCN","__SLD_16__MKC_N",1,"______",null,null,null,null,{"$f":"IF(ISNUMBER(SEARCH($F$6,AP589)),MAX($AO$11:AO588)+1,0)","v":578},0,{"$f":"ROWS($AQ$12:AQ589)","v":578},{"$f":"IFERROR(VLOOKUP(ROWS($AR$12:AR589),$AO$12:$AP$3014,2,0),\"\")","v":0}]
[null,null,null,null,null,null,null,null,null,null,null,null,null,null,null,null,null,null,null,null,null,null,null,null,null,null,{"$f":"IFERROR(INDEX($AE$13:$AE$1003, SMALL(IF(ISBLANK($AE$13:$AE$1003)+ISERROR($AE$13:$AE$1003)+LEN($AE$13:$AE$1003)=0, \"\", ROW($AE$13:$AE$1003)-MIN(ROW($AE$13:$AE$1003))+1), ROW(579:579))),\"\")","v":"__SLD_16__RMA_N"},{"$f":"IF(AF591=\"\",\"\",IF(COUNTIF(CurrentListing,AF591)>1,AJ591,\"\"))","v":""},{"$f":"IF(LEN(AF591)=0,\"\",IF(ISNA(MATCH(AF591,MasterListing,0)),AJ591,\"\"))","v":""},null,"__SLD_16__RC_N","","SLD16RCN","__SLD_16__RC_N",{"$f":"IF(LEN(AA590)>0,1,0)","v":1},{"$f":"H590&\"_\"&I590&\"_\"&P590&\"_\"&Q590&\"_\"&R590&\"_\"&V590&\"_\"&W590","v":"______"},null,null,null,null,{"$f":"IF(ISNUMBER(SEARCH($F$6,AP590)),MAX($AO$11:AO589)+1,0)","v":579},0,{"$f":"ROWS($AQ$12:AQ590)","v":579},{"$f":"IFERROR(VLOOKUP(ROWS($AR$12:AR590),$AO$12:$AP$3014,2,0),\"\")","v":0}]
[null,null,null,null,null,null,null,null,null,null,null,null,null,null,null,null,null,null,null,null,null,null,null,null,null,null,{"$f":"IFERROR(INDEX($AE$13:$AE$1003, SMALL(IF(ISBLANK($AE$13:$AE$1003)+ISERROR($AE$13:$AE$1003)+LEN($AE$13:$AE$1003)=0, \"\", ROW($AE$13:$AE$1003)-MIN(ROW($AE$13:$AE$1003))+1), ROW(580:580))),\"\")","v":"__SLD_16__TRAN_N"},{"$f":"IF(AF592=\"\",\"\",IF(COUNTIF(CurrentListing,AF592)>1,AJ592,\"\"))","v":""},{"$f":"IF(LEN(AF592)=0,\"\",IF(ISNA(MATCH(AF592,MasterListing,0)),AJ592,\"\"))","v":""},null,"__SLD_16__RMA_N","","SLD16RMAN","__SLD_16__RMA_N",1,"______",null,null,null,null,{"$f":"IF(ISNUMBER(SEARCH($F$6,AP591)),MAX($AO$11:AO590)+1,0)","v":580},0,{"$f":"ROWS($AQ$12:AQ591)","v":580},{"$f":"IFERROR(VLOOKUP(ROWS($AR$12:AR591),$AO$12:$AP$3014,2,0),\"\")","v":0}]
[null,null,null,null,null,null,null,null,null,null,null,null,null,null,null,null,null,null,null,null,null,null,null,null,null,null,{"$f":"IFERROR(INDEX($AE$13:$AE$1003, SMALL(IF(ISBLANK($AE$13:$AE$1003)+ISERROR($AE$13:$AE$1003)+LEN($AE$13:$AE$1003)=0, \"\", ROW($AE$13:$AE$1003)-MIN(ROW($AE$13:$AE$1003))+1), ROW(581:581))),\"\")","v":"__SLD_17__D_N"},{"$f":"IF(AF593=\"\",\"\",IF(COUNTIF(CurrentListing,AF593)>1,AJ593,\"\"))","v":""},{"$f":"IF(LEN(AF593)=0,\"\",IF(ISNA(MATCH(AF593,MasterListing,0)),AJ593,\"\"))","v":""},null,"__SLD_16__TRAN_N","","SLD16TRANN","__SLD_16__TRAN_N",1,"______",null,null,null,null,{"$f":"IF(ISNUMBER(SEARCH($F$6,AP592)),MAX($AO$11:AO591)+1,0)","v":581},0,{"$f":"ROWS($AQ$12:AQ592)","v":581},{"$f":"IFERROR(VLOOKUP(ROWS($AR$12:AR592),$AO$12:$AP$3014,2,0),\"\")","v":0}]
[null,null,null,null,null,null,null,null,null,null,null,null,null,null,null,null,null,null,null,null,null,null,null,null,null,null,{"$f":"IFERROR(INDEX($AE$13:$AE$1003, SMALL(IF(ISBLANK($AE$13:$AE$1003)+ISERROR($AE$13:$AE$1003)+LEN($AE$13:$AE$1003)=0, \"\", ROW($AE$13:$AE$1003)-MIN(ROW($AE$13:$AE$1003))+1), ROW(582:582))),\"\")","v":"__SLD_17__DROPOUT_N"},{"$f":"IF(AF594=\"\",\"\",IF(COUNTIF(CurrentListing,AF594)>1,AJ594,\"\"))","v":""},{"$f":"IF(LEN(AF594)=0,\"\",IF(ISNA(MATCH(AF594,MasterListing,0)),AJ594,\"\"))","v":""},null,"__SLD_17__D_N","","SLD17DN","__SLD_17__D_N",1,"______",null,null,null,null,{"$f":"IF(ISNUMBER(SEARCH($F$6,AP593)),MAX($AO$11:AO592)+1,0)","v":582},0,{"$f":"ROWS($AQ$12:AQ593)","v":582},{"$f":"IFERROR(VLOOKUP(ROWS($AR$12:AR593),$AO$12:$AP$3014,2,0),\"\")","v":0}]
[null,null,null,null,null,null,null,null,null,null,null,null,null,null,null,null,null,null,null,null,null,null,null,null,null,null,{"$f":"IFERROR(INDEX($AE$13:$AE$1003, SMALL(IF(ISBLANK($AE$13:$AE$1003)+ISERROR($AE$13:$AE$1003)+LEN($AE$13:$AE$1003)=0, \"\", ROW($AE$13:$AE$1003)-MIN(ROW($AE$13:$AE$1003))+1), ROW(583:583))),\"\")","v":"__SLD_17__GHS_N"},{"$f":"IF(AF595=\"\",\"\",IF(COUNTIF(CurrentListing,AF595)>1,AJ595,\"\"))","v":""},{"$f":"IF(LEN(AF595)=0,\"\",IF(ISNA(MATCH(AF595,MasterListing,0)),AJ595,\"\"))","v":""},null,"__SLD_17__DROPOUT_N","","SLD17DROPOUTN","__SLD_17__DROPOUT_N",1,"______",null,null,null,null,{"$f":"IF(ISNUMBER(SEARCH($F$6,AP594)),MAX($AO$11:AO593)+1,0)","v":583},0,{"$f":"ROWS($AQ$12:AQ594)","v":583},{"$f":"IFERROR(VLOOKUP(ROWS($AR$12:AR594),$AO$12:$AP$3014,2,0),\"\")","v":0}]
[null,null,null,null,null,null,null,null,null,null,null,null,null,null,null,null,null,null,null,null,null,null,null,null,null,null,{"$f":"IFERROR(INDEX($AE$13:$AE$1003, SMALL(IF(ISBLANK($AE$13:$AE$1003)+ISERROR($AE$13:$AE$1003)+LEN($AE$13:$AE$1003)=0, \"\", ROW($AE$13:$AE$1003)-MIN(ROW($AE$13:$AE$1003))+1), ROW(584:584))),\"\")","v":"__SLD_17__GRADALTDPL_N"},{"$f":"IF(AF596=\"\",\"\",IF(COUNTIF(CurrentListing,AF596)>1,AJ596,\"\"))","v":""},{"$f":"IF(LEN(AF596)=0,\"\",IF(ISNA(MATCH(AF596,MasterListing,0)),AJ596,\"\"))","v":""},null,"__SLD_17__GHS_N","","SLD17GHSN","__SLD_17__GHS_N",1,"______",null,null,null,null,{"$f":"IF(ISNUMBER(SEARCH($F$6,AP595)),MAX($AO$11:AO594)+1,0)","v":584},0,{"$f":"ROWS($AQ$12:AQ595)","v":584},{"$f":"IFERROR(VLOOKUP(ROWS($AR$12:AR595),$AO$12:$AP$3014,2,0),\"\")","v":0}]
[null,null,null,null,null,null,null,null,null,null,null,null,null,null,null,null,null,null,null,null,null,null,null,null,null,null,{"$f":"IFERROR(INDEX($AE$13:$AE$1003, SMALL(IF(ISBLANK($AE$13:$AE$1003)+ISERROR($AE$13:$AE$1003)+LEN($AE$13:$AE$1003)=0, \"\", ROW($AE$13:$AE$1003)-MIN(ROW($AE$13:$AE$1003))+1), ROW(585:585))),\"\")","v":"__SLD_17__MKC_N"},{"$f":"IF(AF597=\"\",\"\",IF(COUNTIF(CurrentListing,AF597)>1,AJ597,\"\"))","v":""},{"$f":"IF(LEN(AF597)=0,\"\",IF(ISNA(MATCH(AF597,MasterListing,0)),AJ597,\"\"))","v":""},null,"__SLD_17__GRADALTDPL_N","","SLD17GRADALTDPLN","__SLD_17__GRADALTDPL_N",1,"______",null,null,null,null,{"$f":"IF(ISNUMBER(SEARCH($F$6,AP596)),MAX($AO$11:AO595)+1,0)","v":585},0,{"$f":"ROWS($AQ$12:AQ596)","v":585},{"$f":"IFERROR(VLOOKUP(ROWS($AR$12:AR596),$AO$12:$AP$3014,2,0),\"\")","v":0}]
[null,null,null,null,null,null,null,null,null,null,null,null,null,null,null,null,null,null,null,null,null,null,null,null,null,null,{"$f":"IFERROR(INDEX($AE$13:$AE$1003, SMALL(IF(ISBLANK($AE$13:$AE$1003)+ISERROR($AE$13:$AE$1003)+LEN($AE$13:$AE$1003)=0, \"\", ROW($AE$13:$AE$1003)-MIN(ROW($AE$13:$AE$1003))+1), ROW(586:586))),\"\")","v":"__SLD_17__RC_N"},{"$f":"IF(AF598=\"\",\"\",IF(COUNTIF(CurrentListing,AF598)>1,AJ598,\"\"))","v":""},{"$f":"IF(LEN(AF598)=0,\"\",IF(ISNA(MATCH(AF598,MasterListing,0)),AJ598,\"\"))","v":""},null,"__SLD_17__MKC_N","","SLD17MKCN","__SLD_17__MKC_N",1,"______",null,null,null,null,{"$f":"IF(ISNUMBER(SEARCH($F$6,AP597)),MAX($AO$11:AO596)+1,0)","v":586},0,{"$f":"ROWS($AQ$12:AQ597)","v":586},{"$f":"IFERROR(VLOOKUP(ROWS($AR$12:AR597),$AO$12:$AP$3014,2,0),\"\")","v":0}]
[null,null,null,null,null,null,null,null,null,null,null,null,null,null,null,null,null,null,null,null,null,null,null,null,null,null,{"$f":"IFERROR(INDEX($AE$13:$AE$1003, SMALL(IF(ISBLANK($AE$13:$AE$1003)+ISERROR($AE$13:$AE$1003)+LEN($AE$13:$AE$1003)=0, \"\", ROW($AE$13:$AE$1003)-MIN(ROW($AE$13:$AE$1003))+1), ROW(587:587))),\"\")","v":"__SLD_17__RMA_N"},{"$f":"IF(AF599=\"\",\"\",IF(COUNTIF(CurrentListing,AF599)>1,AJ599,\"\"))","v":""},{"$f":"IF(LEN(AF599)=0,\"\",IF(ISNA(MATCH(AF599,MasterListing,0)),AJ599,\"\"))","v":""},null,"__SLD_17__RC_N","","SLD17RCN","__SLD_17__RC_N",1,"______",null,null,null,null,{"$f":"IF(ISNUMBER(SEARCH($F$6,AP598)),MAX($AO$11:AO597)+1,0)","v":587},0,{"$f":"ROWS($AQ$12:AQ598)","v":587},{"$f":"IFERROR(VLOOKUP(ROWS($AR$12:AR598),$AO$12:$AP$3014,2,0),\"\")","v":0}]
[null,null,null,null,null,null,null,null,null,null,null,null,null,null,null,null,null,null,null,null,null,null,null,null,null,null,{"$f":"IFERROR(INDEX($AE$13:$AE$1003, SMALL(IF(ISBLANK($AE$13:$AE$1003)+ISERROR($AE$13:$AE$1003)+LEN($AE$13:$AE$1003)=0, \"\", ROW($AE$13:$AE$1003)-MIN(ROW($AE$13:$AE$1003))+1), ROW(588:588))),\"\")","v":"__SLD_17__TRAN_N"},{"$f":"IF(AF600=\"\",\"\",IF(COUNTIF(CurrentListing,AF600)>1,AJ600,\"\"))","v":""},{"$f":"IF(LEN(AF600)=0,\"\",IF(ISNA(MATCH(AF600,MasterListing,0)),AJ600,\"\"))","v":""},null,"__SLD_17__RMA_N","","SLD17RMAN","__SLD_17__RMA_N",1,"______",null,null,null,null,{"$f":"IF(ISNUMBER(SEARCH($F$6,AP599)),MAX($AO$11:AO598)+1,0)","v":588},0,{"$f":"ROWS($AQ$12:AQ599)","v":588},{"$f":"IFERROR(VLOOKUP(ROWS($AR$12:AR599),$AO$12:$AP$3014,2,0),\"\")","v":0}]
[null,null,null,null,null,null,null,null,null,null,null,null,null,null,null,null,null,null,null,null,null,null,null,null,null,null,{"$f":"IFERROR(INDEX($AE$13:$AE$1003, SMALL(IF(ISBLANK($AE$13:$AE$1003)+ISERROR($AE$13:$AE$1003)+LEN($AE$13:$AE$1003)=0, \"\", ROW($AE$13:$AE$1003)-MIN(ROW($AE$13:$AE$1003))+1), ROW(589:589))),\"\")","v":"__SLD_18__D_N"},{"$f":"IF(AF601=\"\",\"\",IF(COUNTIF(CurrentListing,AF601)>1,AJ601,\"\"))","v":""},{"$f":"IF(LEN(AF601)=0,\"\",IF(ISNA(MATCH(AF601,MasterListing,0)),AJ601,\"\"))","v":""},null,"__SLD_17__TRAN_N","","SLD17TRANN","__SLD_17__TRAN_N",1,"______",null,null,null,null,{"$f":"IF(ISNUMBER(SEARCH($F$6,AP600)),MAX($AO$11:AO599)+1,0)","v":589},0,{"$f":"ROWS($AQ$12:AQ600)","v":589},{"$f":"IFERROR(VLOOKUP(ROWS($AR$12:AR600),$AO$12:$AP$3014,2,0),\"\")","v":0}]
[null,null,null,null,null,null,null,null,null,null,null,null,null,null,null,null,null,null,null,null,null,null,null,null,null,null,{"$f":"IFERROR(INDEX($AE$13:$AE$1003, SMALL(IF(ISBLANK($AE$13:$AE$1003)+ISERROR($AE$13:$AE$1003)+LEN($AE$13:$AE$1003)=0, \"\", ROW($AE$13:$AE$1003)-MIN(ROW($AE$13:$AE$1003))+1), ROW(590:590))),\"\")","v":"__SLD_18__DROPOUT_N"},{"$f":"IF(AF602=\"\",\"\",IF(COUNTIF(CurrentListing,AF602)>1,AJ602,\"\"))","v":""},{"$f":"IF(LEN(AF602)=0,\"\",IF(ISNA(MATCH(AF602,MasterListing,0)),AJ602,\"\"))","v":""},null,"__SLD_18__D_N","","SLD18DN","__SLD_18__D_N",1,"______",null,null,null,null,{"$f":"IF(ISNUMBER(SEARCH($F$6,AP601)),MAX($AO$11:AO600)+1,0)","v":590},0,{"$f":"ROWS($AQ$12:AQ601)","v":590},{"$f":"IFERROR(VLOOKUP(ROWS($AR$12:AR601),$AO$12:$AP$3014,2,0),\"\")","v":0}]
[null,null,null,null,null,null,null,null,null,null,null,null,null,null,null,null,null,null,null,null,null,null,null,null,null,null,{"$f":"IFERROR(INDEX($AE$13:$AE$1003, SMALL(IF(ISBLANK($AE$13:$AE$1003)+ISERROR($AE$13:$AE$1003)+LEN($AE$13:$AE$1003)=0, \"\", ROW($AE$13:$AE$1003)-MIN(ROW($AE$13:$AE$1003))+1), ROW(591:591))),\"\")","v":"__SLD_18__GHS_N"},{"$f":"IF(AF603=\"\",\"\",IF(COUNTIF(CurrentListing,AF603)>1,AJ603,\"\"))","v":""},{"$f":"IF(LEN(AF603)=0,\"\",IF(ISNA(MATCH(AF603,MasterListing,0)),AJ603,\"\"))","v":""},null,"__SLD_18__DROPOUT_N","","SLD18DROPOUTN","__SLD_18__DROPOUT_N",1,"______",null,null,null,null,{"$f":"IF(ISNUMBER(SEARCH($F$6,AP602)),MAX($AO$11:AO601)+1,0)","v":591},0,{"$f":"ROWS($AQ$12:AQ602)","v":591},{"$f":"IFERROR(VLOOKUP(ROWS($AR$12:AR602),$AO$12:$AP$3014,2,0),\"\")","v":0}]
[null,null,null,null,null,null,null,null,null,null,null,null,null,null,null,null,null,null,null,null,null,null,null,null,null,null,{"$f":"IFERROR(INDEX($AE$13:$AE$1003, SMALL(IF(ISBLANK($AE$13:$AE$1003)+ISERROR($AE$13:$AE$1003)+LEN($AE$13:$AE$1003)=0, \"\", ROW($AE$13:$AE$1003)-MIN(ROW($AE$13:$AE$1003))+1), ROW(592:592))),\"\")","v":"__SLD_18__GRADALTDPL_N"},{"$f":"IF(AF604=\"\",\"\",IF(COUNTIF(CurrentListing,AF604)>1,AJ604,\"\"))","v":""},{"$f":"IF(LEN(AF604)=0,\"\",IF(ISNA(MATCH(AF604,MasterListing,0)),AJ604,\"\"))","v":""},null,"__SLD_18__GHS_N","","SLD18GHSN","__SLD_18__GHS_N",1,"______",null,null,null,null,{"$f":"IF(ISNUMBER(SEARCH($F$6,AP603)),MAX($AO$11:AO602)+1,0)","v":592},0,{"$f":"ROWS($AQ$12:AQ603)","v":592},{"$f":"IFERROR(VLOOKUP(ROWS($AR$12:AR603),$AO$12:$AP$3014,2,0),\"\")","v":0}]
[null,null,null,null,null,null,null,null,null,null,null,null,null,null,null,null,null,null,null,null,null,null,null,null,null,null,{"$f":"IFERROR(INDEX($AE$13:$AE$1003, SMALL(IF(ISBLANK($AE$13:$AE$1003)+ISERROR($AE$13:$AE$1003)+LEN($AE$13:$AE$1003)=0, \"\", ROW($AE$13:$AE$1003)-MIN(ROW($AE$13:$AE$1003))+1), ROW(593:593))),\"\")","v":"__SLD_18__MKC_N"},{"$f":"IF(AF605=\"\",\"\",IF(COUNTIF(CurrentListing,AF605)>1,AJ605,\"\"))","v":""},{"$f":"IF(LEN(AF605)=0,\"\",IF(ISNA(MATCH(AF605,MasterListing,0)),AJ605,\"\"))","v":""},null,"__SLD_18__GRADALTDPL_N","","SLD18GRADALTDPLN","__SLD_18__GRADALTDPL_N",1,"______",null,null,null,null,{"$f":"IF(ISNUMBER(SEARCH($F$6,AP604)),MAX($AO$11:AO603)+1,0)","v":593},0,{"$f":"ROWS($AQ$12:AQ604)","v":593},{"$f":"IFERROR(VLOOKUP(ROWS($AR$12:AR604),$AO$12:$AP$3014,2,0),\"\")","v":0}]
[null,null,null,null,null,null,null,null,null,null,null,null,null,null,null,null,null,null,null,null,null,null,null,null,null,null,{"$f":"IFERROR(INDEX($AE$13:$AE$1003, SMALL(IF(ISBLANK($AE$13:$AE$1003)+ISERROR($AE$13:$AE$1003)+LEN($AE$13:$AE$1003)=0, \"\", ROW($AE$13:$AE$1003)-MIN(ROW($AE$13:$AE$1003))+1), ROW(594:594))),\"\")","v":"__SLD_18__RC_N"},{"$f":"IF(AF606=\"\",\"\",IF(COUNTIF(CurrentListing,AF606)>1,AJ606,\"\"))","v":""},{"$f":"IF(LEN(AF606)=0,\"\",IF(ISNA(MATCH(AF606,MasterListing,0)),AJ606,\"\"))","v":""},null,"__SLD_18__MKC_N","","SLD18MKCN","__SLD_18__MKC_N",1,"______",null,null,null,null,{"$f":"IF(ISNUMBER(SEARCH($F$6,AP605)),MAX($AO$11:AO604)+1,0)","v":594},0,{"$f":"ROWS($AQ$12:AQ605)","v":594},{"$f":"IFERROR(VLOOKUP(ROWS($AR$12:AR605),$AO$12:$AP$3014,2,0),\"\")","v":0}]
[null,null,null,null,null,null,null,null,null,null,null,null,null,null,null,null,null,null,null,null,null,null,null,null,null,null,{"$f":"IFERROR(INDEX($AE$13:$AE$1003, SMALL(IF(ISBLANK($AE$13:$AE$1003)+ISERROR($AE$13:$AE$1003)+LEN($AE$13:$AE$1003)=0, \"\", ROW($AE$13:$AE$1003)-MIN(ROW($AE$13:$AE$1003))+1), ROW(595:595))),\"\")","v":"__SLD_18__RMA_N"},{"$f":"IF(AF607=\"\",\"\",IF(COUNTIF(CurrentListing,AF607)>1,AJ607,\"\"))","v":""},{"$f":"IF(LEN(AF607)=0,\"\",IF(ISNA(MATCH(AF607,MasterListing,0)),AJ607,\"\"))","v":""},null,"__SLD_18__RC_N","","SLD18RCN","__SLD_18__RC_N",1,"______",null,null,null,null,{"$f":"IF(ISNUMBER(SEARCH($F$6,AP606)),MAX($AO$11:AO605)+1,0)","v":595},0,{"$f":"ROWS($AQ$12:AQ606)","v":595},{"$f":"IFERROR(VLOOKUP(ROWS($AR$12:AR606),$AO$12:$AP$3014,2,0),\"\")","v":0}]
[null,null,null,null,null,null,null,null,null,null,null,null,null,null,null,null,null,null,null,null,null,null,null,null,null,null,{"$f":"IFERROR(INDEX($AE$13:$AE$1003, SMALL(IF(ISBLANK($AE$13:$AE$1003)+ISERROR($AE$13:$AE$1003)+LEN($AE$13:$AE$1003)=0, \"\", ROW($AE$13:$AE$1003)-MIN(ROW($AE$13:$AE$1003))+1), ROW(596:596))),\"\")","v":"__SLD_18__TRAN_N"},{"$f":"IF(AF608=\"\",\"\",IF(COUNTIF(CurrentListing,AF608)>1,AJ608,\"\"))","v":""},{"$f":"IF(LEN(AF608)=0,\"\",IF(ISNA(MATCH(AF608,MasterListing,0)),AJ608,\"\"))","v":""},null,"__SLD_18__RMA_N","","SLD18RMAN","__SLD_18__RMA_N",1,"______",null,null,null,null,{"$f":"IF(ISNUMBER(SEARCH($F$6,AP607)),MAX($AO$11:AO606)+1,0)","v":596},0,{"$f":"ROWS($AQ$12:AQ607)","v":596},{"$f":"IFERROR(VLOOKUP(ROWS($AR$12:AR607),$AO$12:$AP$3014,2,0),\"\")","v":0}]
[null,null,null,null,null,null,null,null,null,null,null,null,null,null,null,null,null,null,null,null,null,null,null,null,null,null,{"$f":"IFERROR(INDEX($AE$13:$AE$1003, SMALL(IF(ISBLANK($AE$13:$AE$1003)+ISERROR($AE$13:$AE$1003)+LEN($AE$13:$AE$1003)=0, \"\", ROW($AE$13:$AE$1003)-MIN(ROW($AE$13:$AE$1003))+1), ROW(597:597))),\"\")","v":"__SLD_19__D_N"},{"$f":"IF(AF609=\"\",\"\",IF(COUNTIF(CurrentListing,AF609)>1,AJ609,\"\"))","v":""},{"$f":"IF(LEN(AF609)=0,\"\",IF(ISNA(MATCH(AF609,MasterListing,0)),AJ609,\"\"))","v":""},null,"__SLD_18__TRAN_N","","SLD18TRANN","__SLD_18__TRAN_N",1,"______",null,null,null,null,{"$f":"IF(ISNUMBER(SEARCH($F$6,AP608)),MAX($AO$11:AO607)+1,0)","v":597},0,{"$f":"ROWS($AQ$12:AQ608)","v":597},{"$f":"IFERROR(VLOOKUP(ROWS($AR$12:AR608),$AO$12:$AP$3014,2,0),\"\")","v":0}]
[null,null,null,null,null,null,null,null,null,null,null,null,null,null,null,null,null,null,null,null,null,null,null,null,null,null,{"$f":"IFERROR(INDEX($AE$13:$AE$1003, SMALL(IF(ISBLANK($AE$13:$AE$1003)+ISERROR($AE$13:$AE$1003)+LEN($AE$13:$AE$1003)=0, \"\", ROW($AE$13:$AE$1003)-MIN(ROW($AE$13:$AE$1003))+1), ROW(598:598))),\"\")","v":"__SLD_19__DROPOUT_N"},{"$f":"IF(AF610=\"\",\"\",IF(COUNTIF(CurrentListing,AF610)>1,AJ610,\"\"))","v":""},{"$f":"IF(LEN(AF610)=0,\"\",IF(ISNA(MATCH(AF610,MasterListing,0)),AJ610,\"\"))","v":""},null,"__SLD_19__D_N","","SLD19DN","__SLD_19__D_N",1,"______",null,null,null,null,{"$f":"IF(ISNUMBER(SEARCH($F$6,AP609)),MAX($AO$11:AO608)+1,0)","v":598},0,{"$f":"ROWS($AQ$12:AQ609)","v":598},{"$f":"IFERROR(VLOOKUP(ROWS($AR$12:AR609),$AO$12:$AP$3014,2,0),\"\")","v":0}]
[null,null,null,null,null,null,null,null,null,null,null,null,null,null,null,null,null,null,null,null,null,null,null,null,null,null,{"$f":"IFERROR(INDEX($AE$13:$AE$1003, SMALL(IF(ISBLANK($AE$13:$AE$1003)+ISERROR($AE$13:$AE$1003)+LEN($AE$13:$AE$1003)=0, \"\", ROW($AE$13:$AE$1003)-MIN(ROW($AE$13:$AE$1003))+1), ROW(599:599))),\"\")","v":"__SLD_19__GHS_N"},{"$f":"IF(AF611=\"\",\"\",IF(COUNTIF(CurrentListing,AF611)>1,AJ611,\"\"))","v":""},{"$f":"IF(LEN(AF611)=0,\"\",IF(ISNA(MATCH(AF611,MasterListing,0)),AJ611,\"\"))","v":""},null,"__SLD_19__DROPOUT_N","","SLD19DROPOUTN","__SLD_19__DROPOUT_N",1,"______",null,null,null,null,{"$f":"IF(ISNUMBER(SEARCH($F$6,AP610)),MAX($AO$11:AO609)+1,0)","v":599},0,{"$f":"ROWS($AQ$12:AQ610)","v":599},{"$f":"IFERROR(VLOOKUP(ROWS($AR$12:AR610),$AO$12:$AP$3014,2,0),\"\")","v":0}]
[null,null,null,null,null,null,null,null,null,null,null,null,null,null,null,null,null,null,null,null,null,null,null,null,null,null,{"$f":"IFERROR(INDEX($AE$13:$AE$1003, SMALL(IF(ISBLANK($AE$13:$AE$1003)+ISERROR($AE$13:$AE$1003)+LEN($AE$13:$AE$1003)=0, \"\", ROW($AE$13:$AE$1003)-MIN(ROW($AE$13:$AE$1003))+1), ROW(600:600))),\"\")","v":"__SLD_19__GRADALTDPL_N"},{"$f":"IF(AF612=\"\",\"\",IF(COUNTIF(CurrentListing,AF612)>1,AJ612,\"\"))","v":""},{"$f":"IF(LEN(AF612)=0,\"\",IF(ISNA(MATCH(AF612,MasterListing,0)),AJ612,\"\"))","v":""},null,"__SLD_19__GHS_N","","SLD19GHSN","__SLD_19__GHS_N",1,"______",null,null,null,null,{"$f":"IF(ISNUMBER(SEARCH($F$6,AP611)),MAX($AO$11:AO610)+1,0)","v":600},0,{"$f":"ROWS($AQ$12:AQ611)","v":600},{"$f":"IFERROR(VLOOKUP(ROWS($AR$12:AR611),$AO$12:$AP$3014,2,0),\"\")","v":0}]
[null,null,null,null,null,null,null,null,null,null,null,null,null,null,null,null,null,null,null,null,null,null,null,null,null,null,{"$f":"IFERROR(INDEX($AE$13:$AE$1003, SMALL(IF(ISBLANK($AE$13:$AE$1003)+ISERROR($AE$13:$AE$1003)+LEN($AE$13:$AE$1003)=0, \"\", ROW($AE$13:$AE$1003)-MIN(ROW($AE$13:$AE$1003))+1), ROW(601:601))),\"\")","v":"__SLD_19__MKC_N"},{"$f":"IF(AF613=\"\",\"\",IF(COUNTIF(CurrentListing,AF613)>1,AJ613,\"\"))","v":""},{"$f":"IF(LEN(AF613)=0,\"\",IF(ISNA(MATCH(AF613,MasterListing,0)),AJ613,\"\"))","v":""},null,"__SLD_19__GRADALTDPL_N","","SLD19GRADALTDPLN","__SLD_19__GRADALTDPL_N",1,"______",null,null,null,null,{"$f":"IF(ISNUMBER(SEARCH($F$6,AP612)),MAX($AO$11:AO611)+1,0)","v":601},0,{"$f":"ROWS($AQ$12:AQ612)","v":601},{"$f":"IFERROR(VLOOKUP(ROWS($AR$12:AR612),$AO$12:$AP$3014,2,0),\"\")","v":0}]
[null,null,null,null,null,null,null,null,null,null,null,null,null,null,null,null,null,null,null,null,null,null,null,null,null,null,{"$f":"IFERROR(INDEX($AE$13:$AE$1003, SMALL(IF(ISBLANK($AE$13:$AE$1003)+ISERROR($AE$13:$AE$1003)+LEN($AE$13:$AE$1003)=0, \"\", ROW($AE$13:$AE$1003)-MIN(ROW($AE$13:$AE$1003))+1), ROW(602:602))),\"\")","v":"__SLD_19__RC_N"},{"$f":"IF(AF614=\"\",\"\",IF(COUNTIF(CurrentListing,AF614)>1,AJ614,\"\"))","v":""},{"$f":"IF(LEN(AF614)=0,\"\",IF(ISNA(MATCH(AF614,MasterListing,0)),AJ614,\"\"))","v":""},null,"__SLD_19__MKC_N","","SLD19MKCN","__SLD_19__MKC_N",1,"______",null,null,null,null,{"$f":"IF(ISNUMBER(SEARCH($F$6,AP613)),MAX($AO$11:AO612)+1,0)","v":602},0,{"$f":"ROWS($AQ$12:AQ613)","v":602},{"$f":"IFERROR(VLOOKUP(ROWS($AR$12:AR613),$AO$12:$AP$3014,2,0),\"\")","v":0}]
[null,null,null,null,null,null,null,null,null,null,null,null,null,null,null,null,null,null,null,null,null,null,null,null,null,null,{"$f":"IFERROR(INDEX($AE$13:$AE$1003, SMALL(IF(ISBLANK($AE$13:$AE$1003)+ISERROR($AE$13:$AE$1003)+LEN($AE$13:$AE$1003)=0, \"\", ROW($AE$13:$AE$1003)-MIN(ROW($AE$13:$AE$1003))+1), ROW(603:603))),\"\")","v":"__SLD_19__RMA_N"},{"$f":"IF(AF615=\"\",\"\",IF(COUNTIF(CurrentListing,AF615)>1,AJ615,\"\"))","v":""},{"$f":"IF(LEN(AF615)=0,\"\",IF(ISNA(MATCH(AF615,MasterListing,0)),AJ615,\"\"))","v":""},null,"__SLD_19__RC_N","","SLD19RCN","__SLD_19__RC_N",1,"______",null,null,null,null,{"$f":"IF(ISNUMBER(SEARCH($F$6,AP614)),MAX($AO$11:AO613)+1,0)","v":603},0,{"$f":"ROWS($AQ$12:AQ614)","v":603},{"$f":"IFERROR(VLOOKUP(ROWS($AR$12:AR614),$AO$12:$AP$3014,2,0),\"\")","v":0}]
[null,null,null,null,null,null,null,null,null,null,null,null,null,null,null,null,null,null,null,null,null,null,null,null,null,null,{"$f":"IFERROR(INDEX($AE$13:$AE$1003, SMALL(IF(ISBLANK($AE$13:$AE$1003)+ISERROR($AE$13:$AE$1003)+LEN($AE$13:$AE$1003)=0, \"\", ROW($AE$13:$AE$1003)-MIN(ROW($AE$13:$AE$1003))+1), ROW(604:604))),\"\")","v":"__SLD_19__TRAN_N"},{"$f":"IF(AF616=\"\",\"\",IF(COUNTIF(CurrentListing,AF616)>1,AJ616,\"\"))","v":""},{"$f":"IF(LEN(AF616)=0,\"\",IF(ISNA(MATCH(AF616,MasterListing,0)),AJ616,\"\"))","v":""},null,"__SLD_19__RMA_N","","SLD19RMAN","__SLD_19__RMA_N",1,"______",null,null,null,null,{"$f":"IF(ISNUMBER(SEARCH($F$6,AP615)),MAX($AO$11:AO614)+1,0)","v":604},0,{"$f":"ROWS($AQ$12:AQ615)","v":604},{"$f":"IFERROR(VLOOKUP(ROWS($AR$12:AR615),$AO$12:$AP$3014,2,0),\"\")","v":0}]
[null,null,null,null,null,null,null,null,null,null,null,null,null,null,null,null,null,null,null,null,null,null,null,null,null,null,{"$f":"IFERROR(INDEX($AE$13:$AE$1003, SMALL(IF(ISBLANK($AE$13:$AE$1003)+ISERROR($AE$13:$AE$1003)+LEN($AE$13:$AE$1003)=0, \"\", ROW($AE$13:$AE$1003)-MIN(ROW($AE$13:$AE$1003))+1), ROW(605:605))),\"\")","v":"__SLD_20__D_N"},{"$f":"IF(AF617=\"\",\"\",IF(COUNTIF(CurrentListing,AF617)>1,AJ617,\"\"))","v":""},{"$f":"IF(LEN(AF617)=0,\"\",IF(ISNA(MATCH(AF617,MasterListing,0)),AJ617,\"\"))","v":""},null,"__SLD_19__TRAN_N","","SLD19TRANN","__SLD_19__TRAN_N",1,"______",null,null,null,null,{"$f":"IF(ISNUMBER(SEARCH($F$6,AP616)),MAX($AO$11:AO615)+1,0)","v":605},0,{"$f":"ROWS($AQ$12:AQ616)","v":605},{"$f":"IFERROR(VLOOKUP(ROWS($AR$12:AR616),$AO$12:$AP$3014,2,0),\"\")","v":0}]
[null,null,null,null,null,null,null,null,null,null,null,null,null,null,null,null,null,null,null,null,null,null,null,null,null,null,{"$f":"IFERROR(INDEX($AE$13:$AE$1003, SMALL(IF(ISBLANK($AE$13:$AE$1003)+ISERROR($AE$13:$AE$1003)+LEN($AE$13:$AE$1003)=0, \"\", ROW($AE$13:$AE$1003)-MIN(ROW($AE$13:$AE$1003))+1), ROW(606:606))),\"\")","v":"__SLD_20__DROPOUT_N"},{"$f":"IF(AF618=\"\",\"\",IF(COUNTIF(CurrentListing,AF618)>1,AJ618,\"\"))","v":""},{"$f":"IF(LEN(AF618)=0,\"\",IF(ISNA(MATCH(AF618,MasterListing,0)),AJ618,\"\"))","v":""},null,"__SLD_20__D_N","","SLD20DN","__SLD_20__D_N",1,"______",null,null,null,null,{"$f":"IF(ISNUMBER(SEARCH($F$6,AP617)),MAX($AO$11:AO616)+1,0)","v":606},0,{"$f":"ROWS($AQ$12:AQ617)","v":606},{"$f":"IFERROR(VLOOKUP(ROWS($AR$12:AR617),$AO$12:$AP$3014,2,0),\"\")","v":0}]
[null,null,null,null,null,null,null,null,null,null,null,null,null,null,null,null,null,null,null,null,null,null,null,null,null,null,{"$f":"IFERROR(INDEX($AE$13:$AE$1003, SMALL(IF(ISBLANK($AE$13:$AE$1003)+ISERROR($AE$13:$AE$1003)+LEN($AE$13:$AE$1003)=0, \"\", ROW($AE$13:$AE$1003)-MIN(ROW($AE$13:$AE$1003))+1), ROW(607:607))),\"\")","v":"__SLD_20__GHS_N"},{"$f":"IF(AF619=\"\",\"\",IF(COUNTIF(CurrentListing,AF619)>1,AJ619,\"\"))","v":""},{"$f":"IF(LEN(AF619)=0,\"\",IF(ISNA(MATCH(AF619,MasterListing,0)),AJ619,\"\"))","v":""},null,"__SLD_20__DROPOUT_N","","SLD20DROPOUTN","__SLD_20__DROPOUT_N",1,"______",null,null,null,null,{"$f":"IF(ISNUMBER(SEARCH($F$6,AP618)),MAX($AO$11:AO617)+1,0)","v":607},0,{"$f":"ROWS($AQ$12:AQ618)","v":607},{"$f":"IFERROR(VLOOKUP(ROWS($AR$12:AR618),$AO$12:$AP$3014,2,0),\"\")","v":0}]
[null,null,null,null,null,null,null,null,null,null,null,null,null,null,null,null,null,null,null,null,null,null,null,null,null,null,{"$f":"IFERROR(INDEX($AE$13:$AE$1003, SMALL(IF(ISBLANK($AE$13:$AE$1003)+ISERROR($AE$13:$AE$1003)+LEN($AE$13:$AE$1003)=0, \"\", ROW($AE$13:$AE$1003)-MIN(ROW($AE$13:$AE$1003))+1), ROW(608:608))),\"\")","v":"__SLD_20__GRADALTDPL_N"},{"$f":"IF(AF620=\"\",\"\",IF(COUNTIF(CurrentListing,AF620)>1,AJ620,\"\"))","v":""},{"$f":"IF(LEN(AF620)=0,\"\",IF(ISNA(MATCH(AF620,MasterListing,0)),AJ620,\"\"))","v":""},null,"__SLD_20__GHS_N","","SLD20GHSN","__SLD_20__GHS_N",1,"______",null,null,null,null,{"$f":"IF(ISNUMBER(SEARCH($F$6,AP619)),MAX($AO$11:AO618)+1,0)","v":608},0,{"$f":"ROWS($AQ$12:AQ619)","v":608},{"$f":"IFERROR(VLOOKUP(ROWS($AR$12:AR619),$AO$12:$AP$3014,2,0),\"\")","v":0}]
[null,null,null,null,null,null,null,null,null,null,null,null,null,null,null,null,null,null,null,null,null,null,null,null,null,null,{"$f":"IFERROR(INDEX($AE$13:$AE$1003, SMALL(IF(ISBLANK($AE$13:$AE$1003)+ISERROR($AE$13:$AE$1003)+LEN($AE$13:$AE$1003)=0, \"\", ROW($AE$13:$AE$1003)-MIN(ROW($AE$13:$AE$1003))+1), ROW(609:609))),\"\")","v":"__SLD_20__MKC_N"},{"$f":"IF(AF621=\"\",\"\",IF(COUNTIF(CurrentListing,AF621)>1,AJ621,\"\"))","v":""},{"$f":"IF(LEN(AF621)=0,\"\",IF(ISNA(MATCH(AF621,MasterListing,0)),AJ621,\"\"))","v":""},null,"__SLD_20__GRADALTDPL_N","","SLD20GRADALTDPLN","__SLD_20__GRADALTDPL_N",1,"______",null,null,null,null,{"$f":"IF(ISNUMBER(SEARCH($F$6,AP620)),MAX($AO$11:AO619)+1,0)","v":609},0,{"$f":"ROWS($AQ$12:AQ620)","v":609},{"$f":"IFERROR(VLOOKUP(ROWS($AR$12:AR620),$AO$12:$AP$3014,2,0),\"\")","v":0}]
[null,null,null,null,null,null,null,null,null,null,null,null,null,null,null,null,null,null,null,null,null,null,null,null,null,null,{"$f":"IFERROR(INDEX($AE$13:$AE$1003, SMALL(IF(ISBLANK($AE$13:$AE$1003)+ISERROR($AE$13:$AE$1003)+LEN($AE$13:$AE$1003)=0, \"\", ROW($AE$13:$AE$1003)-MIN(ROW($AE$13:$AE$1003))+1), ROW(610:610))),\"\")","v":"__SLD_20__RC_N"},{"$f":"IF(AF622=\"\",\"\",IF(COUNTIF(CurrentListing,AF622)>1,AJ622,\"\"))","v":""},{"$f":"IF(LEN(AF622)=0,\"\",IF(ISNA(MATCH(AF622,MasterListing,0)),AJ622,\"\"))","v":""},null,"__SLD_20__MKC_N","","SLD20MKCN","__SLD_20__MKC_N",1,"______",null,null,null,null,{"$f":"IF(ISNUMBER(SEARCH($F$6,AP621)),MAX($AO$11:AO620)+1,0)","v":610},0,{"$f":"ROWS($AQ$12:AQ621)","v":610},{"$f":"IFERROR(VLOOKUP(ROWS($AR$12:AR621),$AO$12:$AP$3014,2,0),\"\")","v":0}]
[null,null,null,null,null,null,null,null,null,null,null,null,null,null,null,null,null,null,null,null,null,null,null,null,null,null,{"$f":"IFERROR(INDEX($AE$13:$AE$1003, SMALL(IF(ISBLANK($AE$13:$AE$1003)+ISERROR($AE$13:$AE$1003)+LEN($AE$13:$AE$1003)=0, \"\", ROW($AE$13:$AE$1003)-MIN(ROW($AE$13:$AE$1003))+1), ROW(611:611))),\"\")","v":"__SLD_20__RMA_N"},{"$f":"IF(AF623=\"\",\"\",IF(COUNTIF(CurrentListing,AF623)>1,AJ623,\"\"))","v":""},{"$f":"IF(LEN(AF623)=0,\"\",IF(ISNA(MATCH(AF623,MasterListing,0)),AJ623,\"\"))","v":""},null,"__SLD_20__RC_N","","SLD20RCN","__SLD_20__RC_N",1,"______",null,null,null,null,{"$f":"IF(ISNUMBER(SEARCH($F$6,AP622)),MAX($AO$11:AO621)+1,0)","v":611},0,{"$f":"ROWS($AQ$12:AQ622)","v":611},{"$f":"IFERROR(VLOOKUP(ROWS($AR$12:AR622),$AO$12:$AP$3014,2,0),\"\")","v":0}]
[null,null,null,null,null,null,null,null,null,null,null,null,null,null,null,null,null,null,null,null,null,null,null,null,null,null,{"$f":"IFERROR(INDEX($AE$13:$AE$1003, SMALL(IF(ISBLANK($AE$13:$AE$1003)+ISERROR($AE$13:$AE$1003)+LEN($AE$13:$AE$1003)=0, \"\", ROW($AE$13:$AE$1003)-MIN(ROW($AE$13:$AE$1003))+1), ROW(612:612))),\"\")","v":"__SLD_20__TRAN_N"},{"$f":"IF(AF624=\"\",\"\",IF(COUNTIF(CurrentListing,AF624)>1,AJ624,\"\"))","v":""},{"$f":"IF(LEN(AF624)=0,\"\",IF(ISNA(MATCH(AF624,MasterListing,0)),AJ624,\"\"))","v":""},null,"__SLD_20__RMA_N","","SLD20RMAN","__SLD_20__RMA_N",1,"______",null,null,null,null,{"$f":"IF(ISNUMBER(SEARCH($F$6,AP623)),MAX($AO$11:AO622)+1,0)","v":612},0,{"$f":"ROWS($AQ$12:AQ623)","v":612},{"$f":"IFERROR(VLOOKUP(ROWS($AR$12:AR623),$AO$12:$AP$3014,2,0),\"\")","v":0}]
[null,null,null,null,null,null,null,null,null,null,null,null,null,null,null,null,null,null,null,null,null,null,null,null,null,null,{"$f":"IFERROR(INDEX($AE$13:$AE$1003, SMALL(IF(ISBLANK($AE$13:$AE$1003)+ISERROR($AE$13:$AE$1003)+LEN($AE$13:$AE$1003)=0, \"\", ROW($AE$13:$AE$1003)-MIN(ROW($AE$13:$AE$1003))+1), ROW(613:613))),\"\")","v":"__SLD_21__D_N"},{"$f":"IF(AF625=\"\",\"\",IF(COUNTIF(CurrentListing,AF625)>1,AJ625,\"\"))","v":""},{"$f":"IF(LEN(AF625)=0,\"\",IF(ISNA(MATCH(AF625,MasterListing,0)),AJ625,\"\"))","v":""},null,"__SLD_20__TRAN_N","","SLD20TRANN","__SLD_20__TRAN_N",1,"______",null,null,null,null,{"$f":"IF(ISNUMBER(SEARCH($F$6,AP624)),MAX($AO$11:AO623)+1,0)","v":613},0,{"$f":"ROWS($AQ$12:AQ624)","v":613},{"$f":"IFERROR(VLOOKUP(ROWS($AR$12:AR624),$AO$12:$AP$3014,2,0),\"\")","v":0}]
[null,null,null,null,null,null,null,null,null,null,null,null,null,null,null,null,null,null,null,null,null,null,null,null,null,null,{"$f":"IFERROR(INDEX($AE$13:$AE$1003, SMALL(IF(ISBLANK($AE$13:$AE$1003)+ISERROR($AE$13:$AE$1003)+LEN($AE$13:$AE$1003)=0, \"\", ROW($AE$13:$AE$1003)-MIN(ROW($AE$13:$AE$1003))+1), ROW(614:614))),\"\")","v":"__SLD_21__DROPOUT_N"},{"$f":"IF(AF626=\"\",\"\",IF(COUNTIF(CurrentListing,AF626)>1,AJ626,\"\"))","v":""},{"$f":"IF(LEN(AF626)=0,\"\",IF(ISNA(MATCH(AF626,MasterListing,0)),AJ626,\"\"))","v":""},null,"__SLD_21__D_N","","SLD21DN","__SLD_21__D_N",1,"______",null,null,null,null,{"$f":"IF(ISNUMBER(SEARCH($F$6,AP625)),MAX($AO$11:AO624)+1,0)","v":614},0,{"$f":"ROWS($AQ$12:AQ625)","v":614},{"$f":"IFERROR(VLOOKUP(ROWS($AR$12:AR625),$AO$12:$AP$3014,2,0),\"\")","v":0}]
[null,null,null,null,null,null,null,null,null,null,null,null,null,null,null,null,null,null,null,null,null,null,null,null,null,null,{"$f":"IFERROR(INDEX($AE$13:$AE$1003, SMALL(IF(ISBLANK($AE$13:$AE$1003)+ISERROR($AE$13:$AE$1003)+LEN($AE$13:$AE$1003)=0, \"\", ROW($AE$13:$AE$1003)-MIN(ROW($AE$13:$AE$1003))+1), ROW(615:615))),\"\")","v":"__SLD_21__GHS_N"},{"$f":"IF(AF627=\"\",\"\",IF(COUNTIF(CurrentListing,AF627)>1,AJ627,\"\"))","v":""},{"$f":"IF(LEN(AF627)=0,\"\",IF(ISNA(MATCH(AF627,MasterListing,0)),AJ627,\"\"))","v":""},null,"__SLD_21__DROPOUT_N","","SLD21DROPOUTN","__SLD_21__DROPOUT_N",1,"______",null,null,null,null,{"$f":"IF(ISNUMBER(SEARCH($F$6,AP626)),MAX($AO$11:AO625)+1,0)","v":615},0,{"$f":"ROWS($AQ$12:AQ626)","v":615},{"$f":"IFERROR(VLOOKUP(ROWS($AR$12:AR626),$AO$12:$AP$3014,2,0),\"\")","v":0}]
[null,null,null,null,null,null,null,null,null,null,null,null,null,null,null,null,null,null,null,null,null,null,null,null,null,null,{"$f":"IFERROR(INDEX($AE$13:$AE$1003, SMALL(IF(ISBLANK($AE$13:$AE$1003)+ISERROR($AE$13:$AE$1003)+LEN($AE$13:$AE$1003)=0, \"\", ROW($AE$13:$AE$1003)-MIN(ROW($AE$13:$AE$1003))+1), ROW(616:616))),\"\")","v":"__SLD_21__GRADALTDPL_N"},{"$f":"IF(AF628=\"\",\"\",IF(COUNTIF(CurrentListing,AF628)>1,AJ628,\"\"))","v":""},{"$f":"IF(LEN(AF628)=0,\"\",IF(ISNA(MATCH(AF628,MasterListing,0)),AJ628,\"\"))","v":""},null,"__SLD_21__GHS_N","","SLD21GHSN","__SLD_21__GHS_N",1,"______",null,null,null,null,{"$f":"IF(ISNUMBER(SEARCH($F$6,AP627)),MAX($AO$11:AO626)+1,0)","v":616},0,{"$f":"ROWS($AQ$12:AQ627)","v":616},{"$f":"IFERROR(VLOOKUP(ROWS($AR$12:AR627),$AO$12:$AP$3014,2,0),\"\")","v":0}]
[null,null,null,null,null,null,null,null,null,null,null,null,null,null,null,null,null,null,null,null,null,null,null,null,null,null,{"$f":"IFERROR(INDEX($AE$13:$AE$1003, SMALL(IF(ISBLANK($AE$13:$AE$1003)+ISERROR($AE$13:$AE$1003)+LEN($AE$13:$AE$1003)=0, \"\", ROW($AE$13:$AE$1003)-MIN(ROW($AE$13:$AE$1003))+1), ROW(617:617))),\"\")","v":"__SLD_21__MKC_N"},{"$f":"IF(AF629=\"\",\"\",IF(COUNTIF(CurrentListing,AF629)>1,AJ629,\"\"))","v":""},{"$f":"IF(LEN(AF629)=0,\"\",IF(ISNA(MATCH(AF629,MasterListing,0)),AJ629,\"\"))","v":""},null,"__SLD_21__GRADALTDPL_N","","SLD21GRADALTDPLN","__SLD_21__GRADALTDPL_N",1,"______",null,null,null,null,{"$f":"IF(ISNUMBER(SEARCH($F$6,AP628)),MAX($AO$11:AO627)+1,0)","v":617},0,{"$f":"ROWS($AQ$12:AQ628)","v":617},{"$f":"IFERROR(VLOOKUP(ROWS($AR$12:AR628),$AO$12:$AP$3014,2,0),\"\")","v":0}]
[null,null,null,null,null,null,null,null,null,null,null,null,null,null,null,null,null,null,null,null,null,null,null,null,null,null,{"$f":"IFERROR(INDEX($AE$13:$AE$1003, SMALL(IF(ISBLANK($AE$13:$AE$1003)+ISERROR($AE$13:$AE$1003)+LEN($AE$13:$AE$1003)=0, \"\", ROW($AE$13:$AE$1003)-MIN(ROW($AE$13:$AE$1003))+1), ROW(618:618))),\"\")","v":"__SLD_21__RC_N"},{"$f":"IF(AF630=\"\",\"\",IF(COUNTIF(CurrentListing,AF630)>1,AJ630,\"\"))","v":""},{"$f":"IF(LEN(AF630)=0,\"\",IF(ISNA(MATCH(AF630,MasterListing,0)),AJ630,\"\"))","v":""},null,"__SLD_21__MKC_N","","SLD21MKCN","__SLD_21__MKC_N",1,"______",null,null,null,null,{"$f":"IF(ISNUMBER(SEARCH($F$6,AP629)),MAX($AO$11:AO628)+1,0)","v":618},0,{"$f":"ROWS($AQ$12:AQ629)","v":618},{"$f":"IFERROR(VLOOKUP(ROWS($AR$12:AR629),$AO$12:$AP$3014,2,0),\"\")","v":0}]
[null,null,null,null,null,null,null,null,null,null,null,null,null,null,null,null,null,null,null,null,null,null,null,null,null,null,{"$f":"IFERROR(INDEX($AE$13:$AE$1003, SMALL(IF(ISBLANK($AE$13:$AE$1003)+ISERROR($AE$13:$AE$1003)+LEN($AE$13:$AE$1003)=0, \"\", ROW($AE$13:$AE$1003)-MIN(ROW($AE$13:$AE$1003))+1), ROW(619:619))),\"\")","v":"__SLD_21__RMA_N"},{"$f":"IF(AF631=\"\",\"\",IF(COUNTIF(CurrentListing,AF631)>1,AJ631,\"\"))","v":""},{"$f":"IF(LEN(AF631)=0,\"\",IF(ISNA(MATCH(AF631,MasterListing,0)),AJ631,\"\"))","v":""},null,"__SLD_21__RC_N","","SLD21RCN","__SLD_21__RC_N",1,"______",null,null,null,null,{"$f":"IF(ISNUMBER(SEARCH($F$6,AP630)),MAX($AO$11:AO629)+1,0)","v":619},0,{"$f":"ROWS($AQ$12:AQ630)","v":619},{"$f":"IFERROR(VLOOKUP(ROWS($AR$12:AR630),$AO$12:$AP$3014,2,0),\"\")","v":0}]
[null,null,null,null,null,null,null,null,null,null,null,null,null,null,null,null,null,null,null,null,null,null,null,null,null,null,{"$f":"IFERROR(INDEX($AE$13:$AE$1003, SMALL(IF(ISBLANK($AE$13:$AE$1003)+ISERROR($AE$13:$AE$1003)+LEN($AE$13:$AE$1003)=0, \"\", ROW($AE$13:$AE$1003)-MIN(ROW($AE$13:$AE$1003))+1), ROW(620:620))),\"\")","v":"__SLD_21__TRAN_N"},{"$f":"IF(AF632=\"\",\"\",IF(COUNTIF(CurrentListing,AF632)>1,AJ632,\"\"))","v":""},{"$f":"IF(LEN(AF632)=0,\"\",IF(ISNA(MATCH(AF632,MasterListing,0)),AJ632,\"\"))","v":""},null,"__SLD_21__RMA_N","","SLD21RMAN","__SLD_21__RMA_N",1,"______",null,null,null,null,{"$f":"IF(ISNUMBER(SEARCH($F$6,AP631)),MAX($AO$11:AO630)+1,0)","v":620},0,{"$f":"ROWS($AQ$12:AQ631)","v":620},{"$f":"IFERROR(VLOOKUP(ROWS($AR$12:AR631),$AO$12:$AP$3014,2,0),\"\")","v":0}]
[null,null,null,null,null,null,null,null,null,null,null,null,null,null,null,null,null,null,null,null,null,null,null,null,null,null,{"$f":"IFERROR(INDEX($AE$13:$AE$1003, SMALL(IF(ISBLANK($AE$13:$AE$1003)+ISERROR($AE$13:$AE$1003)+LEN($AE$13:$AE$1003)=0, \"\", ROW($AE$13:$AE$1003)-MIN(ROW($AE$13:$AE$1003))+1), ROW(621:621))),\"\")","v":"__SLI____Y"},{"$f":"IF(AF633=\"\",\"\",IF(COUNTIF(CurrentListing,AF633)>1,AJ633,\"\"))","v":""},{"$f":"IF(LEN(AF633)=0,\"\",IF(ISNA(MATCH(AF633,MasterListing,0)),AJ633,\"\"))","v":""},null,"__SLD_21__TRAN_N","","SLD21TRANN","__SLD_21__TRAN_N",1,"______",null,null,null,null,{"$f":"IF(ISNUMBER(SEARCH($F$6,AP632)),MAX($AO$11:AO631)+1,0)","v":621},0,{"$f":"ROWS($AQ$12:AQ632)","v":621},{"$f":"IFERROR(VLOOKUP(ROWS($AR$12:AR632),$AO$12:$AP$3014,2,0),\"\")","v":0}]
[null,null,null,null,null,null,null,null,null,null,null,null,null,null,null,null,null,null,null,null,null,null,null,null,null,null,{"$f":"IFERROR(INDEX($AE$13:$AE$1003, SMALL(IF(ISBLANK($AE$13:$AE$1003)+ISERROR($AE$13:$AE$1003)+LEN($AE$13:$AE$1003)=0, \"\", ROW($AE$13:$AE$1003)-MIN(ROW($AE$13:$AE$1003))+1), ROW(622:622))),\"\")","v":"__SLI_14__D_N"},{"$f":"IF(AF634=\"\",\"\",IF(COUNTIF(CurrentListing,AF634)>1,AJ634,\"\"))","v":""},{"$f":"IF(LEN(AF634)=0,\"\",IF(ISNA(MATCH(AF634,MasterListing,0)),AJ634,\"\"))","v":""},null,"__SLI____Y","","SLIY","__SLI____Y",1,"______",null,null,null,null,{"$f":"IF(ISNUMBER(SEARCH($F$6,AP633)),MAX($AO$11:AO632)+1,0)","v":622},0,{"$f":"ROWS($AQ$12:AQ633)","v":622},{"$f":"IFERROR(VLOOKUP(ROWS($AR$12:AR633),$AO$12:$AP$3014,2,0),\"\")","v":0}]
[null,null,null,null,null,null,null,null,null,null,null,null,null,null,null,null,null,null,null,null,null,null,null,null,null,null,{"$f":"IFERROR(INDEX($AE$13:$AE$1003, SMALL(IF(ISBLANK($AE$13:$AE$1003)+ISERROR($AE$13:$AE$1003)+LEN($AE$13:$AE$1003)=0, \"\", ROW($AE$13:$AE$1003)-MIN(ROW($AE$13:$AE$1003))+1), ROW(623:623))),\"\")","v":"__SLI_14__DROPOUT_N"},{"$f":"IF(AF635=\"\",\"\",IF(COUNTIF(CurrentListing,AF635)>1,AJ635,\"\"))","v":""},{"$f":"IF(LEN(AF635)=0,\"\",IF(ISNA(MATCH(AF635,MasterListing,0)),AJ635,\"\"))","v":""},null,"__SLI_14__D_N","","SLI14DN","__SLI_14__D_N",1,"______",null,null,null,null,{"$f":"IF(ISNUMBER(SEARCH($F$6,AP634)),MAX($AO$11:AO633)+1,0)","v":623},0,{"$f":"ROWS($AQ$12:AQ634)","v":623},{"$f":"IFERROR(VLOOKUP(ROWS($AR$12:AR634),$AO$12:$AP$3014,2,0),\"\")","v":0}]
[null,null,null,null,null,null,null,null,null,null,null,null,null,null,null,null,null,null,null,null,null,null,null,null,null,null,{"$f":"IFERROR(INDEX($AE$13:$AE$1003, SMALL(IF(ISBLANK($AE$13:$AE$1003)+ISERROR($AE$13:$AE$1003)+LEN($AE$13:$AE$1003)=0, \"\", ROW($AE$13:$AE$1003)-MIN(ROW($AE$13:$AE$1003))+1), ROW(624:624))),\"\")","v":"__SLI_14__GHS_N"},{"$f":"IF(AF636=\"\",\"\",IF(COUNTIF(CurrentListing,AF636)>1,AJ636,\"\"))","v":""},{"$f":"IF(LEN(AF636)=0,\"\",IF(ISNA(MATCH(AF636,MasterListing,0)),AJ636,\"\"))","v":""},null,"__SLI_14__DROPOUT_N","","SLI14DROPOUTN","__SLI_14__DROPOUT_N",1,"______",null,null,null,null,{"$f":"IF(ISNUMBER(SEARCH($F$6,AP635)),MAX($AO$11:AO634)+1,0)","v":624},0,{"$f":"ROWS($AQ$12:AQ635)","v":624},{"$f":"IFERROR(VLOOKUP(ROWS($AR$12:AR635),$AO$12:$AP$3014,2,0),\"\")","v":0}]
[null,null,null,null,null,null,null,null,null,null,null,null,null,null,null,null,null,null,null,null,null,null,null,null,null,null,{"$f":"IFERROR(INDEX($AE$13:$AE$1003, SMALL(IF(ISBLANK($AE$13:$AE$1003)+ISERROR($AE$13:$AE$1003)+LEN($AE$13:$AE$1003)=0, \"\", ROW($AE$13:$AE$1003)-MIN(ROW($AE$13:$AE$1003))+1), ROW(625:625))),\"\")","v":"__SLI_14__GRADALTDPL_N"},{"$f":"IF(AF637=\"\",\"\",IF(COUNTIF(CurrentListing,AF637)>1,AJ637,\"\"))","v":""},{"$f":"IF(LEN(AF637)=0,\"\",IF(ISNA(MATCH(AF637,MasterListing,0)),AJ637,\"\"))","v":""},null,"__SLI_14__GHS_N","","SLI14GHSN","__SLI_14__GHS_N",1,"______",null,null,null,null,{"$f":"IF(ISNUMBER(SEARCH($F$6,AP636)),MAX($AO$11:AO635)+1,0)","v":625},0,{"$f":"ROWS($AQ$12:AQ636)","v":625},{"$f":"IFERROR(VLOOKUP(ROWS($AR$12:AR636),$AO$12:$AP$3014,2,0),\"\")","v":0}]
[null,null,null,null,null,null,null,null,null,null,null,null,null,null,null,null,null,null,null,null,null,null,null,null,null,null,{"$f":"IFERROR(INDEX($AE$13:$AE$1003, SMALL(IF(ISBLANK($AE$13:$AE$1003)+ISERROR($AE$13:$AE$1003)+LEN($AE$13:$AE$1003)=0, \"\", ROW($AE$13:$AE$1003)-MIN(ROW($AE$13:$AE$1003))+1), ROW(626:626))),\"\")","v":"__SLI_14__MKC_N"},{"$f":"IF(AF638=\"\",\"\",IF(COUNTIF(CurrentListing,AF638)>1,AJ638,\"\"))","v":""},{"$f":"IF(LEN(AF638)=0,\"\",IF(ISNA(MATCH(AF638,MasterListing,0)),AJ638,\"\"))","v":""},null,"__SLI_14__GRADALTDPL_N","","SLI14GRADALTDPLN","__SLI_14__GRADALTDPL_N",1,"______",null,null,null,null,{"$f":"IF(ISNUMBER(SEARCH($F$6,AP637)),MAX($AO$11:AO636)+1,0)","v":626},0,{"$f":"ROWS($AQ$12:AQ637)","v":626},{"$f":"IFERROR(VLOOKUP(ROWS($AR$12:AR637),$AO$12:$AP$3014,2,0),\"\")","v":0}]
[null,null,null,null,null,null,null,null,null,null,null,null,null,null,null,null,null,null,null,null,null,null,null,null,null,null,{"$f":"IFERROR(INDEX($AE$13:$AE$1003, SMALL(IF(ISBLANK($AE$13:$AE$1003)+ISERROR($AE$13:$AE$1003)+LEN($AE$13:$AE$1003)=0, \"\", ROW($AE$13:$AE$1003)-MIN(ROW($AE$13:$AE$1003))+1), ROW(627:627))),\"\")","v":"__SLI_14__RC_N"},{"$f":"IF(AF639=\"\",\"\",IF(COUNTIF(CurrentListing,AF639)>1,AJ639,\"\"))","v":""},{"$f":"IF(LEN(AF639)=0,\"\",IF(ISNA(MATCH(AF639,MasterListing,0)),AJ639,\"\"))","v":""},null,"__SLI_14__MKC_N","","SLI14MKCN","__SLI_14__MKC_N",1,"______",null,null,null,null,{"$f":"IF(ISNUMBER(SEARCH($F$6,AP638)),MAX($AO$11:AO637)+1,0)","v":627},0,{"$f":"ROWS($AQ$12:AQ638)","v":627},{"$f":"IFERROR(VLOOKUP(ROWS($AR$12:AR638),$AO$12:$AP$3014,2,0),\"\")","v":0}]
[null,null,null,null,null,null,null,null,null,null,null,null,null,null,null,null,null,null,null,null,null,null,null,null,null,null,{"$f":"IFERROR(INDEX($AE$13:$AE$1003, SMALL(IF(ISBLANK($AE$13:$AE$1003)+ISERROR($AE$13:$AE$1003)+LEN($AE$13:$AE$1003)=0, \"\", ROW($AE$13:$AE$1003)-MIN(ROW($AE$13:$AE$1003))+1), ROW(628:628))),\"\")","v":"__SLI_14__RMA_N"},{"$f":"IF(AF640=\"\",\"\",IF(COUNTIF(CurrentListing,AF640)>1,AJ640,\"\"))","v":""},{"$f":"IF(LEN(AF640)=0,\"\",IF(ISNA(MATCH(AF640,MasterListing,0)),AJ640,\"\"))","v":""},null,"__SLI_14__RC_N","","SLI14RCN","__SLI_14__RC_N",1,"______",null,null,null,null,{"$f":"IF(ISNUMBER(SEARCH($F$6,AP639)),MAX($AO$11:AO638)+1,0)","v":628},0,{"$f":"ROWS($AQ$12:AQ639)","v":628},{"$f":"IFERROR(VLOOKUP(ROWS($AR$12:AR639),$AO$12:$AP$3014,2,0),\"\")","v":0}]
[null,null,null,null,null,null,null,null,null,null,null,null,null,null,null,null,null,null,null,null,null,null,null,null,null,null,{"$f":"IFERROR(INDEX($AE$13:$AE$1003, SMALL(IF(ISBLANK($AE$13:$AE$1003)+ISERROR($AE$13:$AE$1003)+LEN($AE$13:$AE$1003)=0, \"\", ROW($AE$13:$AE$1003)-MIN(ROW($AE$13:$AE$1003))+1), ROW(629:629))),\"\")","v":"__SLI_14__TRAN_N"},{"$f":"IF(AF641=\"\",\"\",IF(COUNTIF(CurrentListing,AF641)>1,AJ641,\"\"))","v":""},{"$f":"IF(LEN(AF641)=0,\"\",IF(ISNA(MATCH(AF641,MasterListing,0)),AJ641,\"\"))","v":""},null,"__SLI_14__RMA_N","","SLI14RMAN","__SLI_14__RMA_N",1,"______",null,null,null,null,{"$f":"IF(ISNUMBER(SEARCH($F$6,AP640)),MAX($AO$11:AO639)+1,0)","v":629},0,{"$f":"ROWS($AQ$12:AQ640)","v":629},{"$f":"IFERROR(VLOOKUP(ROWS($AR$12:AR640),$AO$12:$AP$3014,2,0),\"\")","v":0}]
[null,null,null,null,null,null,null,null,null,null,null,null,null,null,null,null,null,null,null,null,null,null,null,null,null,null,{"$f":"IFERROR(INDEX($AE$13:$AE$1003, SMALL(IF(ISBLANK($AE$13:$AE$1003)+ISERROR($AE$13:$AE$1003)+LEN($AE$13:$AE$1003)=0, \"\", ROW($AE$13:$AE$1003)-MIN(ROW($AE$13:$AE$1003))+1), ROW(630:630))),\"\")","v":"__SLI_15__D_N"},{"$f":"IF(AF642=\"\",\"\",IF(COUNTIF(CurrentListing,AF642)>1,AJ642,\"\"))","v":""},{"$f":"IF(LEN(AF642)=0,\"\",IF(ISNA(MATCH(AF642,MasterListing,0)),AJ642,\"\"))","v":""},null,"__SLI_14__TRAN_N","","SLI14TRANN","__SLI_14__TRAN_N",1,"______",null,null,null,null,{"$f":"IF(ISNUMBER(SEARCH($F$6,AP641)),MAX($AO$11:AO640)+1,0)","v":630},0,{"$f":"ROWS($AQ$12:AQ641)","v":630},{"$f":"IFERROR(VLOOKUP(ROWS($AR$12:AR641),$AO$12:$AP$3014,2,0),\"\")","v":0}]
[null,null,null,null,null,null,null,null,null,null,null,null,null,null,null,null,null,null,null,null,null,null,null,null,null,null,{"$f":"IFERROR(INDEX($AE$13:$AE$1003, SMALL(IF(ISBLANK($AE$13:$AE$1003)+ISERROR($AE$13:$AE$1003)+LEN($AE$13:$AE$1003)=0, \"\", ROW($AE$13:$AE$1003)-MIN(ROW($AE$13:$AE$1003))+1), ROW(631:631))),\"\")","v":"__SLI_15__DROPOUT_N"},{"$f":"IF(AF643=\"\",\"\",IF(COUNTIF(CurrentListing,AF643)>1,AJ643,\"\"))","v":""},{"$f":"IF(LEN(AF643)=0,\"\",IF(ISNA(MATCH(AF643,MasterListing,0)),AJ643,\"\"))","v":""},null,"__SLI_15__D_N","","SLI15DN","__SLI_15__D_N",1,"______",null,null,null,null,{"$f":"IF(ISNUMBER(SEARCH($F$6,AP642)),MAX($AO$11:AO641)+1,0)","v":631},0,{"$f":"ROWS($AQ$12:AQ642)","v":631},{"$f":"IFERROR(VLOOKUP(ROWS($AR$12:AR642),$AO$12:$AP$3014,2,0),\"\")","v":0}]
[null,null,null,null,null,null,null,null,null,null,null,null,null,null,null,null,null,null,null,null,null,null,null,null,null,null,{"$f":"IFERROR(INDEX($AE$13:$AE$1003, SMALL(IF(ISBLANK($AE$13:$AE$1003)+ISERROR($AE$13:$AE$1003)+LEN($AE$13:$AE$1003)=0, \"\", ROW($AE$13:$AE$1003)-MIN(ROW($AE$13:$AE$1003))+1), ROW(632:632))),\"\")","v":"__SLI_15__GHS_N"},{"$f":"IF(AF644=\"\",\"\",IF(COUNTIF(CurrentListing,AF644)>1,AJ644,\"\"))","v":""},{"$f":"IF(LEN(AF644)=0,\"\",IF(ISNA(MATCH(AF644,MasterListing,0)),AJ644,\"\"))","v":""},null,"__SLI_15__DROPOUT_N","","SLI15DROPOUTN","__SLI_15__DROPOUT_N",1,"______",null,null,null,null,{"$f":"IF(ISNUMBER(SEARCH($F$6,AP643)),MAX($AO$11:AO642)+1,0)","v":632},0,{"$f":"ROWS($AQ$12:AQ643)","v":632},{"$f":"IFERROR(VLOOKUP(ROWS($AR$12:AR643),$AO$12:$AP$3014,2,0),\"\")","v":0}]
[null,null,null,null,null,null,null,null,null,null,null,null,null,null,null,null,null,null,null,null,null,null,null,null,null,null,{"$f":"IFERROR(INDEX($AE$13:$AE$1003, SMALL(IF(ISBLANK($AE$13:$AE$1003)+ISERROR($AE$13:$AE$1003)+LEN($AE$13:$AE$1003)=0, \"\", ROW($AE$13:$AE$1003)-MIN(ROW($AE$13:$AE$1003))+1), ROW(633:633))),\"\")","v":"__SLI_15__GRADALTDPL_N"},{"$f":"IF(AF645=\"\",\"\",IF(COUNTIF(CurrentListing,AF645)>1,AJ645,\"\"))","v":""},{"$f":"IF(LEN(AF645)=0,\"\",IF(ISNA(MATCH(AF645,MasterListing,0)),AJ645,\"\"))","v":""},null,"__SLI_15__GHS_N","","SLI15GHSN","__SLI_15__GHS_N",1,"______",null,null,null,null,{"$f":"IF(ISNUMBER(SEARCH($F$6,AP644)),MAX($AO$11:AO643)+1,0)","v":633},0,{"$f":"ROWS($AQ$12:AQ644)","v":633},{"$f":"IFERROR(VLOOKUP(ROWS($AR$12:AR644),$AO$12:$AP$3014,2,0),\"\")","v":0}]
[null,null,null,null,null,null,null,null,null,null,null,null,null,null,null,null,null,null,null,null,null,null,null,null,null,null,{"$f":"IFERROR(INDEX($AE$13:$AE$1003, SMALL(IF(ISBLANK($AE$13:$AE$1003)+ISERROR($AE$13:$AE$1003)+LEN($AE$13:$AE$1003)=0, \"\", ROW($AE$13:$AE$1003)-MIN(ROW($AE$13:$AE$1003))+1), ROW(634:634))),\"\")","v":"__SLI_15__MKC_N"},{"$f":"IF(AF646=\"\",\"\",IF(COUNTIF(CurrentListing,AF646)>1,AJ646,\"\"))","v":""},{"$f":"IF(LEN(AF646)=0,\"\",IF(ISNA(MATCH(AF646,MasterListing,0)),AJ646,\"\"))","v":""},null,"__SLI_15__GRADALTDPL_N","","SLI15GRADALTDPLN","__SLI_15__GRADALTDPL_N",1,"______",null,null,null,null,{"$f":"IF(ISNUMBER(SEARCH($F$6,AP645)),MAX($AO$11:AO644)+1,0)","v":634},0,{"$f":"ROWS($AQ$12:AQ645)","v":634},{"$f":"IFERROR(VLOOKUP(ROWS($AR$12:AR645),$AO$12:$AP$3014,2,0),\"\")","v":0}]
[null,null,null,null,null,null,null,null,null,null,null,null,null,null,null,null,null,null,null,null,null,null,null,null,null,null,{"$f":"IFERROR(INDEX($AE$13:$AE$1003, SMALL(IF(ISBLANK($AE$13:$AE$1003)+ISERROR($AE$13:$AE$1003)+LEN($AE$13:$AE$1003)=0, \"\", ROW($AE$13:$AE$1003)-MIN(ROW($AE$13:$AE$1003))+1), ROW(635:635))),\"\")","v":"__SLI_15__RC_N"},{"$f":"IF(AF647=\"\",\"\",IF(COUNTIF(CurrentListing,AF647)>1,AJ647,\"\"))","v":""},{"$f":"IF(LEN(AF647)=0,\"\",IF(ISNA(MATCH(AF647,MasterListing,0)),AJ647,\"\"))","v":""},null,"__SLI_15__MKC_N","","SLI15MKCN","__SLI_15__MKC_N",1,"______",null,null,null,null,{"$f":"IF(ISNUMBER(SEARCH($F$6,AP646)),MAX($AO$11:AO645)+1,0)","v":635},0,{"$f":"ROWS($AQ$12:AQ646)","v":635},{"$f":"IFERROR(VLOOKUP(ROWS($AR$12:AR646),$AO$12:$AP$3014,2,0),\"\")","v":0}]
[null,null,null,null,null,null,null,null,null,null,null,null,null,null,null,null,null,null,null,null,null,null,null,null,null,null,{"$f":"IFERROR(INDEX($AE$13:$AE$1003, SMALL(IF(ISBLANK($AE$13:$AE$1003)+ISERROR($AE$13:$AE$1003)+LEN($AE$13:$AE$1003)=0, \"\", ROW($AE$13:$AE$1003)-MIN(ROW($AE$13:$AE$1003))+1), ROW(636:636))),\"\")","v":"__SLI_15__RMA_N"},{"$f":"IF(AF648=\"\",\"\",IF(COUNTIF(CurrentListing,AF648)>1,AJ648,\"\"))","v":""},{"$f":"IF(LEN(AF648)=0,\"\",IF(ISNA(MATCH(AF648,MasterListing,0)),AJ648,\"\"))","v":""},null,"__SLI_15__RC_N","","SLI15RCN","__SLI_15__RC_N",1,"______",null,null,null,null,{"$f":"IF(ISNUMBER(SEARCH($F$6,AP647)),MAX($AO$11:AO646)+1,0)","v":636},0,{"$f":"ROWS($AQ$12:AQ647)","v":636},{"$f":"IFERROR(VLOOKUP(ROWS($AR$12:AR647),$AO$12:$AP$3014,2,0),\"\")","v":0}]
[null,null,null,null,null,null,null,null,null,null,null,null,null,null,null,null,null,null,null,null,null,null,null,null,null,null,{"$f":"IFERROR(INDEX($AE$13:$AE$1003, SMALL(IF(ISBLANK($AE$13:$AE$1003)+ISERROR($AE$13:$AE$1003)+LEN($AE$13:$AE$1003)=0, \"\", ROW($AE$13:$AE$1003)-MIN(ROW($AE$13:$AE$1003))+1), ROW(637:637))),\"\")","v":"__SLI_15__TRAN_N"},{"$f":"IF(AF649=\"\",\"\",IF(COUNTIF(CurrentListing,AF649)>1,AJ649,\"\"))","v":""},{"$f":"IF(LEN(AF649)=0,\"\",IF(ISNA(MATCH(AF649,MasterListing,0)),AJ649,\"\"))","v":""},null,"__SLI_15__RMA_N","","SLI15RMAN","__SLI_15__RMA_N",1,"______",null,null,null,null,{"$f":"IF(ISNUMBER(SEARCH($F$6,AP648)),MAX($AO$11:AO647)+1,0)","v":637},0,{"$f":"ROWS($AQ$12:AQ648)","v":637},{"$f":"IFERROR(VLOOKUP(ROWS($AR$12:AR648),$AO$12:$AP$3014,2,0),\"\")","v":0}]
[null,null,null,null,null,null,null,null,null,null,null,null,null,null,null,null,null,null,null,null,null,null,null,null,null,null,{"$f":"IFERROR(INDEX($AE$13:$AE$1003, SMALL(IF(ISBLANK($AE$13:$AE$1003)+ISERROR($AE$13:$AE$1003)+LEN($AE$13:$AE$1003)=0, \"\", ROW($AE$13:$AE$1003)-MIN(ROW($AE$13:$AE$1003))+1), ROW(638:638))),\"\")","v":"__SLI_16__D_N"},{"$f":"IF(AF650=\"\",\"\",IF(COUNTIF(CurrentListing,AF650)>1,AJ650,\"\"))","v":""},{"$f":"IF(LEN(AF650)=0,\"\",IF(ISNA(MATCH(AF650,MasterListing,0)),AJ650,\"\"))","v":""},null,"__SLI_15__TRAN_N","","SLI15TRANN","__SLI_15__TRAN_N",1,"______",null,null,null,null,{"$f":"IF(ISNUMBER(SEARCH($F$6,AP649)),MAX($AO$11:AO648)+1,0)","v":638},0,{"$f":"ROWS($AQ$12:AQ649)","v":638},{"$f":"IFERROR(VLOOKUP(ROWS($AR$12:AR649),$AO$12:$AP$3014,2,0),\"\")","v":0}]
[null,null,null,null,null,null,null,null,null,null,null,null,null,null,null,null,null,null,null,null,null,null,null,null,null,null,{"$f":"IFERROR(INDEX($AE$13:$AE$1003, SMALL(IF(ISBLANK($AE$13:$AE$1003)+ISERROR($AE$13:$AE$1003)+LEN($AE$13:$AE$1003)=0, \"\", ROW($AE$13:$AE$1003)-MIN(ROW($AE$13:$AE$1003))+1), ROW(639:639))),\"\")","v":"__SLI_16__DROPOUT_N"},{"$f":"IF(AF651=\"\",\"\",IF(COUNTIF(CurrentListing,AF651)>1,AJ651,\"\"))","v":""},{"$f":"IF(LEN(AF651)=0,\"\",IF(ISNA(MATCH(AF651,MasterListing,0)),AJ651,\"\"))","v":""},null,"__SLI_16__D_N","","SLI16DN","__SLI_16__D_N",1,"______",null,null,null,null,{"$f":"IF(ISNUMBER(SEARCH($F$6,AP650)),MAX($AO$11:AO649)+1,0)","v":639},0,{"$f":"ROWS($AQ$12:AQ650)","v":639},{"$f":"IFERROR(VLOOKUP(ROWS($AR$12:AR650),$AO$12:$AP$3014,2,0),\"\")","v":0}]
[null,null,null,null,null,null,null,null,null,null,null,null,null,null,null,null,null,null,null,null,null,null,null,null,null,null,{"$f":"IFERROR(INDEX($AE$13:$AE$1003, SMALL(IF(ISBLANK($AE$13:$AE$1003)+ISERROR($AE$13:$AE$1003)+LEN($AE$13:$AE$1003)=0, \"\", ROW($AE$13:$AE$1003)-MIN(ROW($AE$13:$AE$1003))+1), ROW(640:640))),\"\")","v":"__SLI_16__GHS_N"},{"$f":"IF(AF652=\"\",\"\",IF(COUNTIF(CurrentListing,AF652)>1,AJ652,\"\"))","v":""},{"$f":"IF(LEN(AF652)=0,\"\",IF(ISNA(MATCH(AF652,MasterListing,0)),AJ652,\"\"))","v":""},null,"__SLI_16__DROPOUT_N","","SLI16DROPOUTN","__SLI_16__DROPOUT_N",1,"______",null,null,null,null,{"$f":"IF(ISNUMBER(SEARCH($F$6,AP651)),MAX($AO$11:AO650)+1,0)","v":640},0,{"$f":"ROWS($AQ$12:AQ651)","v":640},{"$f":"IFERROR(VLOOKUP(ROWS($AR$12:AR651),$AO$12:$AP$3014,2,0),\"\")","v":0}]
[null,null,null,null,null,null,null,null,null,null,null,null,null,null,null,null,null,null,null,null,null,null,null,null,null,null,{"$f":"IFERROR(INDEX($AE$13:$AE$1003, SMALL(IF(ISBLANK($AE$13:$AE$1003)+ISERROR($AE$13:$AE$1003)+LEN($AE$13:$AE$1003)=0, \"\", ROW($AE$13:$AE$1003)-MIN(ROW($AE$13:$AE$1003))+1), ROW(641:641))),\"\")","v":"__SLI_16__GRADALTDPL_N"},{"$f":"IF(AF653=\"\",\"\",IF(COUNTIF(CurrentListing,AF653)>1,AJ653,\"\"))","v":""},{"$f":"IF(LEN(AF653)=0,\"\",IF(ISNA(MATCH(AF653,MasterListing,0)),AJ653,\"\"))","v":""},null,{"$f":"IF(LEN(AG652)=0,\"\",IF(ISNA(MATCH(AG652,CurrentListing,0)),AH652,\"\"))","v":"__SLI_16__GHS_N"},"","SLI16GHSN","__SLI_16__GHS_N",1,"______",null,null,null,null,{"$f":"IF(ISNUMBER(SEARCH($F$6,AP652)),MAX($AO$11:AO651)+1,0)","v":641},0,{"$f":"ROWS($AQ$12:AQ652)","v":641},{"$f":"IFERROR(VLOOKUP(ROWS($AR$12:AR652),$AO$12:$AP$3014,2,0),\"\")","v":0}]
[null,null,null,null,null,null,null,null,null,null,null,null,null,null,null,null,null,null,null,null,null,null,null,null,null,null,{"$f":"IFERROR(INDEX($AE$13:$AE$1003, SMALL(IF(ISBLANK($AE$13:$AE$1003)+ISERROR($AE$13:$AE$1003)+LEN($AE$13:$AE$1003)=0, \"\", ROW($AE$13:$AE$1003)-MIN(ROW($AE$13:$AE$1003))+1), ROW(642:642))),\"\")","v":"__SLI_16__MKC_N"},{"$f":"IF(AF654=\"\",\"\",IF(COUNTIF(CurrentListing,AF654)>1,AJ654,\"\"))","v":""},{"$f":"IF(LEN(AF654)=0,\"\",IF(ISNA(MATCH(AF654,MasterListing,0)),AJ654,\"\"))","v":""},null,"__SLI_16__GRADALTDPL_N",{"$f":"H653&I653&P653&Q653&R653&V653&W653","v":""},"SLI16GRADALTDPLN","__SLI_16__GRADALTDPL_N",1,"______",null,null,null,null,{"$f":"IF(ISNUMBER(SEARCH($F$6,AP653)),MAX($AO$11:AO652)+1,0)","v":642},0,{"$f":"ROWS($AQ$12:AQ653)","v":642},{"$f":"IFERROR(VLOOKUP(ROWS($AR$12:AR653),$AO$12:$AP$3014,2,0),\"\")","v":0}]
[null,null,null,null,null,null,null,null,null,null,null,null,null,null,null,null,null,null,null,null,null,null,null,null,null,null,{"$f":"IFERROR(INDEX($AE$13:$AE$1003, SMALL(IF(ISBLANK($AE$13:$AE$1003)+ISERROR($AE$13:$AE$1003)+LEN($AE$13:$AE$1003)=0, \"\", ROW($AE$13:$AE$1003)-MIN(ROW($AE$13:$AE$1003))+1), ROW(643:643))),\"\")","v":"__SLI_16__RC_N"},{"$f":"IF(AF655=\"\",\"\",IF(COUNTIF(CurrentListing,AF655)>1,AJ655,\"\"))","v":""},{"$f":"IF(LEN(AF655)=0,\"\",IF(ISNA(MATCH(AF655,MasterListing,0)),AJ655,\"\"))","v":""},null,"__SLI_16__MKC_N","","SLI16MKCN","__SLI_16__MKC_N",{"$f":"IF(LEN(AA654)>0,1,0)","v":1},{"$f":"H654&\"_\"&I654&\"_\"&P654&\"_\"&Q654&\"_\"&R654&\"_\"&V654&\"_\"&W654","v":"______"},null,null,null,null,{"$f":"IF(ISNUMBER(SEARCH($F$6,AP654)),MAX($AO$11:AO653)+1,0)","v":643},0,{"$f":"ROWS($AQ$12:AQ654)","v":643},{"$f":"IFERROR(VLOOKUP(ROWS($AR$12:AR654),$AO$12:$AP$3014,2,0),\"\")","v":0}]
[null,null,null,null,null,null,null,null,null,null,null,null,null,null,null,null,null,null,null,null,null,null,null,null,null,null,{"$f":"IFERROR(INDEX($AE$13:$AE$1003, SMALL(IF(ISBLANK($AE$13:$AE$1003)+ISERROR($AE$13:$AE$1003)+LEN($AE$13:$AE$1003)=0, \"\", ROW($AE$13:$AE$1003)-MIN(ROW($AE$13:$AE$1003))+1), ROW(644:644))),\"\")","v":"__SLI_16__RMA_N"},{"$f":"IF(AF656=\"\",\"\",IF(COUNTIF(CurrentListing,AF656)>1,AJ656,\"\"))","v":""},{"$f":"IF(LEN(AF656)=0,\"\",IF(ISNA(MATCH(AF656,MasterListing,0)),AJ656,\"\"))","v":""},null,"__SLI_16__RC_N","","SLI16RCN","__SLI_16__RC_N",1,"______",null,null,null,null,{"$f":"IF(ISNUMBER(SEARCH($F$6,AP655)),MAX($AO$11:AO654)+1,0)","v":644},0,{"$f":"ROWS($AQ$12:AQ655)","v":644},{"$f":"IFERROR(VLOOKUP(ROWS($AR$12:AR655),$AO$12:$AP$3014,2,0),\"\")","v":0}]
[null,null,null,null,null,null,null,null,null,null,null,null,null,null,null,null,null,null,null,null,null,null,null,null,null,null,{"$f":"IFERROR(INDEX($AE$13:$AE$1003, SMALL(IF(ISBLANK($AE$13:$AE$1003)+ISERROR($AE$13:$AE$1003)+LEN($AE$13:$AE$1003)=0, \"\", ROW($AE$13:$AE$1003)-MIN(ROW($AE$13:$AE$1003))+1), ROW(645:645))),\"\")","v":"__SLI_16__TRAN_N"},{"$f":"IF(AF657=\"\",\"\",IF(COUNTIF(CurrentListing,AF657)>1,AJ657,\"\"))","v":""},{"$f":"IF(LEN(AF657)=0,\"\",IF(ISNA(MATCH(AF657,MasterListing,0)),AJ657,\"\"))","v":""},null,"__SLI_16__RMA_N","","SLI16RMAN","__SLI_16__RMA_N",1,"______",null,null,null,null,{"$f":"IF(ISNUMBER(SEARCH($F$6,AP656)),MAX($AO$11:AO655)+1,0)","v":645},0,{"$f":"ROWS($AQ$12:AQ656)","v":645},{"$f":"IFERROR(VLOOKUP(ROWS($AR$12:AR656),$AO$12:$AP$3014,2,0),\"\")","v":0}]
[null,null,null,null,null,null,null,null,null,null,null,null,null,null,null,null,null,null,null,null,null,null,null,null,null,null,{"$f":"IFERROR(INDEX($AE$13:$AE$1003, SMALL(IF(ISBLANK($AE$13:$AE$1003)+ISERROR($AE$13:$AE$1003)+LEN($AE$13:$AE$1003)=0, \"\", ROW($AE$13:$AE$1003)-MIN(ROW($AE$13:$AE$1003))+1), ROW(646:646))),\"\")","v":"__SLI_17__D_N"},{"$f":"IF(AF658=\"\",\"\",IF(COUNTIF(CurrentListing,AF658)>1,AJ658,\"\"))","v":""},{"$f":"IF(LEN(AF658)=0,\"\",IF(ISNA(MATCH(AF658,MasterListing,0)),AJ658,\"\"))","v":""},null,"__SLI_16__TRAN_N","","SLI16TRANN","__SLI_16__TRAN_N",1,"______",null,null,null,null,{"$f":"IF(ISNUMBER(SEARCH($F$6,AP657)),MAX($AO$11:AO656)+1,0)","v":646},0,{"$f":"ROWS($AQ$12:AQ657)","v":646},{"$f":"IFERROR(VLOOKUP(ROWS($AR$12:AR657),$AO$12:$AP$3014,2,0),\"\")","v":0}]
[null,null,null,null,null,null,null,null,null,null,null,null,null,null,null,null,null,null,null,null,null,null,null,null,null,null,{"$f":"IFERROR(INDEX($AE$13:$AE$1003, SMALL(IF(ISBLANK($AE$13:$AE$1003)+ISERROR($AE$13:$AE$1003)+LEN($AE$13:$AE$1003)=0, \"\", ROW($AE$13:$AE$1003)-MIN(ROW($AE$13:$AE$1003))+1), ROW(647:647))),\"\")","v":"__SLI_17__DROPOUT_N"},{"$f":"IF(AF659=\"\",\"\",IF(COUNTIF(CurrentListing,AF659)>1,AJ659,\"\"))","v":""},{"$f":"IF(LEN(AF659)=0,\"\",IF(ISNA(MATCH(AF659,MasterListing,0)),AJ659,\"\"))","v":""},null,"__SLI_17__D_N","","SLI17DN","__SLI_17__D_N",1,"______",null,null,null,null,{"$f":"IF(ISNUMBER(SEARCH($F$6,AP658)),MAX($AO$11:AO657)+1,0)","v":647},0,{"$f":"ROWS($AQ$12:AQ658)","v":647},{"$f":"IFERROR(VLOOKUP(ROWS($AR$12:AR658),$AO$12:$AP$3014,2,0),\"\")","v":0}]
[null,null,null,null,null,null,null,null,null,null,null,null,null,null,null,null,null,null,null,null,null,null,null,null,null,null,{"$f":"IFERROR(INDEX($AE$13:$AE$1003, SMALL(IF(ISBLANK($AE$13:$AE$1003)+ISERROR($AE$13:$AE$1003)+LEN($AE$13:$AE$1003)=0, \"\", ROW($AE$13:$AE$1003)-MIN(ROW($AE$13:$AE$1003))+1), ROW(648:648))),\"\")","v":"__SLI_17__GHS_N"},{"$f":"IF(AF660=\"\",\"\",IF(COUNTIF(CurrentListing,AF660)>1,AJ660,\"\"))","v":""},{"$f":"IF(LEN(AF660)=0,\"\",IF(ISNA(MATCH(AF660,MasterListing,0)),AJ660,\"\"))","v":""},null,"__SLI_17__DROPOUT_N","","SLI17DROPOUTN","__SLI_17__DROPOUT_N",1,"______",null,null,null,null,{"$f":"IF(ISNUMBER(SEARCH($F$6,AP659)),MAX($AO$11:AO658)+1,0)","v":648},0,{"$f":"ROWS($AQ$12:AQ659)","v":648},{"$f":"IFERROR(VLOOKUP(ROWS($AR$12:AR659),$AO$12:$AP$3014,2,0),\"\")","v":0}]
[null,null,null,null,null,null,null,null,null,null,null,null,null,null,null,null,null,null,null,null,null,null,null,null,null,null,{"$f":"IFERROR(INDEX($AE$13:$AE$1003, SMALL(IF(ISBLANK($AE$13:$AE$1003)+ISERROR($AE$13:$AE$1003)+LEN($AE$13:$AE$1003)=0, \"\", ROW($AE$13:$AE$1003)-MIN(ROW($AE$13:$AE$1003))+1), ROW(649:649))),\"\")","v":"__SLI_17__GRADALTDPL_N"},{"$f":"IF(AF661=\"\",\"\",IF(COUNTIF(CurrentListing,AF661)>1,AJ661,\"\"))","v":""},{"$f":"IF(LEN(AF661)=0,\"\",IF(ISNA(MATCH(AF661,MasterListing,0)),AJ661,\"\"))","v":""},null,"__SLI_17__GHS_N","","SLI17GHSN","__SLI_17__GHS_N",1,"______",null,null,null,null,{"$f":"IF(ISNUMBER(SEARCH($F$6,AP660)),MAX($AO$11:AO659)+1,0)","v":649},0,{"$f":"ROWS($AQ$12:AQ660)","v":649},{"$f":"IFERROR(VLOOKUP(ROWS($AR$12:AR660),$AO$12:$AP$3014,2,0),\"\")","v":0}]
[null,null,null,null,null,null,null,null,null,null,null,null,null,null,null,null,null,null,null,null,null,null,null,null,null,null,{"$f":"IFERROR(INDEX($AE$13:$AE$1003, SMALL(IF(ISBLANK($AE$13:$AE$1003)+ISERROR($AE$13:$AE$1003)+LEN($AE$13:$AE$1003)=0, \"\", ROW($AE$13:$AE$1003)-MIN(ROW($AE$13:$AE$1003))+1), ROW(650:650))),\"\")","v":"__SLI_17__MKC_N"},{"$f":"IF(AF662=\"\",\"\",IF(COUNTIF(CurrentListing,AF662)>1,AJ662,\"\"))","v":""},{"$f":"IF(LEN(AF662)=0,\"\",IF(ISNA(MATCH(AF662,MasterListing,0)),AJ662,\"\"))","v":""},null,"__SLI_17__GRADALTDPL_N","","SLI17GRADALTDPLN","__SLI_17__GRADALTDPL_N",1,"______",null,null,null,null,{"$f":"IF(ISNUMBER(SEARCH($F$6,AP661)),MAX($AO$11:AO660)+1,0)","v":650},0,{"$f":"ROWS($AQ$12:AQ661)","v":650},{"$f":"IFERROR(VLOOKUP(ROWS($AR$12:AR661),$AO$12:$AP$3014,2,0),\"\")","v":0}]
[null,null,null,null,null,null,null,null,null,null,null,null,null,null,null,null,null,null,null,null,null,null,null,null,null,null,{"$f":"IFERROR(INDEX($AE$13:$AE$1003, SMALL(IF(ISBLANK($AE$13:$AE$1003)+ISERROR($AE$13:$AE$1003)+LEN($AE$13:$AE$1003)=0, \"\", ROW($AE$13:$AE$1003)-MIN(ROW($AE$13:$AE$1003))+1), ROW(651:651))),\"\")","v":"__SLI_17__RC_N"},{"$f":"IF(AF663=\"\",\"\",IF(COUNTIF(CurrentListing,AF663)>1,AJ663,\"\"))","v":""},{"$f":"IF(LEN(AF663)=0,\"\",IF(ISNA(MATCH(AF663,MasterListing,0)),AJ663,\"\"))","v":""},null,"__SLI_17__MKC_N","","SLI17MKCN","__SLI_17__MKC_N",1,"______",null,null,null,null,{"$f":"IF(ISNUMBER(SEARCH($F$6,AP662)),MAX($AO$11:AO661)+1,0)","v":651},0,{"$f":"ROWS($AQ$12:AQ662)","v":651},{"$f":"IFERROR(VLOOKUP(ROWS($AR$12:AR662),$AO$12:$AP$3014,2,0),\"\")","v":0}]
[null,null,null,null,null,null,null,null,null,null,null,null,null,null,null,null,null,null,null,null,null,null,null,null,null,null,{"$f":"IFERROR(INDEX($AE$13:$AE$1003, SMALL(IF(ISBLANK($AE$13:$AE$1003)+ISERROR($AE$13:$AE$1003)+LEN($AE$13:$AE$1003)=0, \"\", ROW($AE$13:$AE$1003)-MIN(ROW($AE$13:$AE$1003))+1), ROW(652:652))),\"\")","v":"__SLI_17__RMA_N"},{"$f":"IF(AF664=\"\",\"\",IF(COUNTIF(CurrentListing,AF664)>1,AJ664,\"\"))","v":""},{"$f":"IF(LEN(AF664)=0,\"\",IF(ISNA(MATCH(AF664,MasterListing,0)),AJ664,\"\"))","v":""},null,"__SLI_17__RC_N","","SLI17RCN","__SLI_17__RC_N",1,"______",null,null,null,null,{"$f":"IF(ISNUMBER(SEARCH($F$6,AP663)),MAX($AO$11:AO662)+1,0)","v":652},0,{"$f":"ROWS($AQ$12:AQ663)","v":652},{"$f":"IFERROR(VLOOKUP(ROWS($AR$12:AR663),$AO$12:$AP$3014,2,0),\"\")","v":0}]
[null,null,null,null,null,null,null,null,null,null,null,null,null,null,null,null,null,null,null,null,null,null,null,null,null,null,{"$f":"IFERROR(INDEX($AE$13:$AE$1003, SMALL(IF(ISBLANK($AE$13:$AE$1003)+ISERROR($AE$13:$AE$1003)+LEN($AE$13:$AE$1003)=0, \"\", ROW($AE$13:$AE$1003)-MIN(ROW($AE$13:$AE$1003))+1), ROW(653:653))),\"\")","v":"__SLI_17__TRAN_N"},{"$f":"IF(AF665=\"\",\"\",IF(COUNTIF(CurrentListing,AF665)>1,AJ665,\"\"))","v":""},{"$f":"IF(LEN(AF665)=0,\"\",IF(ISNA(MATCH(AF665,MasterListing,0)),AJ665,\"\"))","v":""},null,"__SLI_17__RMA_N","","SLI17RMAN","__SLI_17__RMA_N",1,"______",null,null,null,null,{"$f":"IF(ISNUMBER(SEARCH($F$6,AP664)),MAX($AO$11:AO663)+1,0)","v":653},0,{"$f":"ROWS($AQ$12:AQ664)","v":653},{"$f":"IFERROR(VLOOKUP(ROWS($AR$12:AR664),$AO$12:$AP$3014,2,0),\"\")","v":0}]
[null,null,null,null,null,null,null,null,null,null,null,null,null,null,null,null,null,null,null,null,null,null,null,null,null,null,{"$f":"IFERROR(INDEX($AE$13:$AE$1003, SMALL(IF(ISBLANK($AE$13:$AE$1003)+ISERROR($AE$13:$AE$1003)+LEN($AE$13:$AE$1003)=0, \"\", ROW($AE$13:$AE$1003)-MIN(ROW($AE$13:$AE$1003))+1), ROW(654:654))),\"\")","v":"__SLI_18__D_N"},{"$f":"IF(AF666=\"\",\"\",IF(COUNTIF(CurrentListing,AF666)>1,AJ666,\"\"))","v":""},{"$f":"IF(LEN(AF666)=0,\"\",IF(ISNA(MATCH(AF666,MasterListing,0)),AJ666,\"\"))","v":""},null,"__SLI_17__TRAN_N","","SLI17TRANN","__SLI_17__TRAN_N",1,"______",null,null,null,null,{"$f":"IF(ISNUMBER(SEARCH($F$6,AP665)),MAX($AO$11:AO664)+1,0)","v":654},0,{"$f":"ROWS($AQ$12:AQ665)","v":654},{"$f":"IFERROR(VLOOKUP(ROWS($AR$12:AR665),$AO$12:$AP$3014,2,0),\"\")","v":0}]
[null,null,null,null,null,null,null,null,null,null,null,null,null,null,null,null,null,null,null,null,null,null,null,null,null,null,{"$f":"IFERROR(INDEX($AE$13:$AE$1003, SMALL(IF(ISBLANK($AE$13:$AE$1003)+ISERROR($AE$13:$AE$1003)+LEN($AE$13:$AE$1003)=0, \"\", ROW($AE$13:$AE$1003)-MIN(ROW($AE$13:$AE$1003))+1), ROW(655:655))),\"\")","v":"__SLI_18__DROPOUT_N"},{"$f":"IF(AF667=\"\",\"\",IF(COUNTIF(CurrentListing,AF667)>1,AJ667,\"\"))","v":""},{"$f":"IF(LEN(AF667)=0,\"\",IF(ISNA(MATCH(AF667,MasterListing,0)),AJ667,\"\"))","v":""},null,"__SLI_18__D_N","","SLI18DN","__SLI_18__D_N",1,"______",null,null,null,null,{"$f":"IF(ISNUMBER(SEARCH($F$6,AP666)),MAX($AO$11:AO665)+1,0)","v":655},0,{"$f":"ROWS($AQ$12:AQ666)","v":655},{"$f":"IFERROR(VLOOKUP(ROWS($AR$12:AR666),$AO$12:$AP$3014,2,0),\"\")","v":0}]
[null,null,null,null,null,null,null,null,null,null,null,null,null,null,null,null,null,null,null,null,null,null,null,null,null,null,{"$f":"IFERROR(INDEX($AE$13:$AE$1003, SMALL(IF(ISBLANK($AE$13:$AE$1003)+ISERROR($AE$13:$AE$1003)+LEN($AE$13:$AE$1003)=0, \"\", ROW($AE$13:$AE$1003)-MIN(ROW($AE$13:$AE$1003))+1), ROW(656:656))),\"\")","v":"__SLI_18__GHS_N"},{"$f":"IF(AF668=\"\",\"\",IF(COUNTIF(CurrentListing,AF668)>1,AJ668,\"\"))","v":""},{"$f":"IF(LEN(AF668)=0,\"\",IF(ISNA(MATCH(AF668,MasterListing,0)),AJ668,\"\"))","v":""},null,"__SLI_18__DROPOUT_N","","SLI18DROPOUTN","__SLI_18__DROPOUT_N",1,"______",null,null,null,null,{"$f":"IF(ISNUMBER(SEARCH($F$6,AP667)),MAX($AO$11:AO666)+1,0)","v":656},0,{"$f":"ROWS($AQ$12:AQ667)","v":656},{"$f":"IFERROR(VLOOKUP(ROWS($AR$12:AR667),$AO$12:$AP$3014,2,0),\"\")","v":0}]
[null,null,null,null,null,null,null,null,null,null,null,null,null,null,null,null,null,null,null,null,null,null,null,null,null,null,{"$f":"IFERROR(INDEX($AE$13:$AE$1003, SMALL(IF(ISBLANK($AE$13:$AE$1003)+ISERROR($AE$13:$AE$1003)+LEN($AE$13:$AE$1003)=0, \"\", ROW($AE$13:$AE$1003)-MIN(ROW($AE$13:$AE$1003))+1), ROW(657:657))),\"\")","v":"__SLI_18__GRADALTDPL_N"},{"$f":"IF(AF669=\"\",\"\",IF(COUNTIF(CurrentListing,AF669)>1,AJ669,\"\"))","v":""},{"$f":"IF(LEN(AF669)=0,\"\",IF(ISNA(MATCH(AF669,MasterListing,0)),AJ669,\"\"))","v":""},null,"__SLI_18__GHS_N","","SLI18GHSN","__SLI_18__GHS_N",1,"______",null,null,null,null,{"$f":"IF(ISNUMBER(SEARCH($F$6,AP668)),MAX($AO$11:AO667)+1,0)","v":657},0,{"$f":"ROWS($AQ$12:AQ668)","v":657},{"$f":"IFERROR(VLOOKUP(ROWS($AR$12:AR668),$AO$12:$AP$3014,2,0),\"\")","v":0}]
[null,null,null,null,null,null,null,null,null,null,null,null,null,null,null,null,null,null,null,null,null,null,null,null,null,null,{"$f":"IFERROR(INDEX($AE$13:$AE$1003, SMALL(IF(ISBLANK($AE$13:$AE$1003)+ISERROR($AE$13:$AE$1003)+LEN($AE$13:$AE$1003)=0, \"\", ROW($AE$13:$AE$1003)-MIN(ROW($AE$13:$AE$1003))+1), ROW(658:658))),\"\")","v":"__SLI_18__MKC_N"},{"$f":"IF(AF670=\"\",\"\",IF(COUNTIF(CurrentListing,AF670)>1,AJ670,\"\"))","v":""},{"$f":"IF(LEN(AF670)=0,\"\",IF(ISNA(MATCH(AF670,MasterListing,0)),AJ670,\"\"))","v":""},null,"__SLI_18__GRADALTDPL_N","","SLI18GRADALTDPLN","__SLI_18__GRADALTDPL_N",1,"______",null,null,null,null,{"$f":"IF(ISNUMBER(SEARCH($F$6,AP669)),MAX($AO$11:AO668)+1,0)","v":658},0,{"$f":"ROWS($AQ$12:AQ669)","v":658},{"$f":"IFERROR(VLOOKUP(ROWS($AR$12:AR669),$AO$12:$AP$3014,2,0),\"\")","v":0}]
[null,null,null,null,null,null,null,null,null,null,null,null,null,null,null,null,null,null,null,null,null,null,null,null,null,null,{"$f":"IFERROR(INDEX($AE$13:$AE$1003, SMALL(IF(ISBLANK($AE$13:$AE$1003)+ISERROR($AE$13:$AE$1003)+LEN($AE$13:$AE$1003)=0, \"\", ROW($AE$13:$AE$1003)-MIN(ROW($AE$13:$AE$1003))+1), ROW(659:659))),\"\")","v":"__SLI_18__RC_N"},{"$f":"IF(AF671=\"\",\"\",IF(COUNTIF(CurrentListing,AF671)>1,AJ671,\"\"))","v":""},{"$f":"IF(LEN(AF671)=0,\"\",IF(ISNA(MATCH(AF671,MasterListing,0)),AJ671,\"\"))","v":""},null,"__SLI_18__MKC_N","","SLI18MKCN","__SLI_18__MKC_N",1,"______",null,null,null,null,{"$f":"IF(ISNUMBER(SEARCH($F$6,AP670)),MAX($AO$11:AO669)+1,0)","v":659},0,{"$f":"ROWS($AQ$12:AQ670)","v":659},{"$f":"IFERROR(VLOOKUP(ROWS($AR$12:AR670),$AO$12:$AP$3014,2,0),\"\")","v":0}]
[null,null,null,null,null,null,null,null,null,null,null,null,null,null,null,null,null,null,null,null,null,null,null,null,null,null,{"$f":"IFERROR(INDEX($AE$13:$AE$1003, SMALL(IF(ISBLANK($AE$13:$AE$1003)+ISERROR($AE$13:$AE$1003)+LEN($AE$13:$AE$1003)=0, \"\", ROW($AE$13:$AE$1003)-MIN(ROW($AE$13:$AE$1003))+1), ROW(660:660))),\"\")","v":"__SLI_18__RMA_N"},{"$f":"IF(AF672=\"\",\"\",IF(COUNTIF(CurrentListing,AF672)>1,AJ672,\"\"))","v":""},{"$f":"IF(LEN(AF672)=0,\"\",IF(ISNA(MATCH(AF672,MasterListing,0)),AJ672,\"\"))","v":""},null,"__SLI_18__RC_N","","SLI18RCN","__SLI_18__RC_N",1,"______",null,null,null,null,{"$f":"IF(ISNUMBER(SEARCH($F$6,AP671)),MAX($AO$11:AO670)+1,0)","v":660},0,{"$f":"ROWS($AQ$12:AQ671)","v":660},{"$f":"IFERROR(VLOOKUP(ROWS($AR$12:AR671),$AO$12:$AP$3014,2,0),\"\")","v":0}]
[null,null,null,null,null,null,null,null,null,null,null,null,null,null,null,null,null,null,null,null,null,null,null,null,null,null,{"$f":"IFERROR(INDEX($AE$13:$AE$1003, SMALL(IF(ISBLANK($AE$13:$AE$1003)+ISERROR($AE$13:$AE$1003)+LEN($AE$13:$AE$1003)=0, \"\", ROW($AE$13:$AE$1003)-MIN(ROW($AE$13:$AE$1003))+1), ROW(661:661))),\"\")","v":"__SLI_18__TRAN_N"},{"$f":"IF(AF673=\"\",\"\",IF(COUNTIF(CurrentListing,AF673)>1,AJ673,\"\"))","v":""},{"$f":"IF(LEN(AF673)=0,\"\",IF(ISNA(MATCH(AF673,MasterListing,0)),AJ673,\"\"))","v":""},null,"__SLI_18__RMA_N","","SLI18RMAN","__SLI_18__RMA_N",1,"______",null,null,null,null,{"$f":"IF(ISNUMBER(SEARCH($F$6,AP672)),MAX($AO$11:AO671)+1,0)","v":661},0,{"$f":"ROWS($AQ$12:AQ672)","v":661},{"$f":"IFERROR(VLOOKUP(ROWS($AR$12:AR672),$AO$12:$AP$3014,2,0),\"\")","v":0}]
[null,null,null,null,null,null,null,null,null,null,null,null,null,null,null,null,null,null,null,null,null,null,null,null,null,null,{"$f":"IFERROR(INDEX($AE$13:$AE$1003, SMALL(IF(ISBLANK($AE$13:$AE$1003)+ISERROR($AE$13:$AE$1003)+LEN($AE$13:$AE$1003)=0, \"\", ROW($AE$13:$AE$1003)-MIN(ROW($AE$13:$AE$1003))+1), ROW(662:662))),\"\")","v":"__SLI_19__D_N"},{"$f":"IF(AF674=\"\",\"\",IF(COUNTIF(CurrentListing,AF674)>1,AJ674,\"\"))","v":""},{"$f":"IF(LEN(AF674)=0,\"\",IF(ISNA(MATCH(AF674,MasterListing,0)),AJ674,\"\"))","v":""},null,"__SLI_18__TRAN_N","","SLI18TRANN","__SLI_18__TRAN_N",1,"______",null,null,null,null,{"$f":"IF(ISNUMBER(SEARCH($F$6,AP673)),MAX($AO$11:AO672)+1,0)","v":662},0,{"$f":"ROWS($AQ$12:AQ673)","v":662},{"$f":"IFERROR(VLOOKUP(ROWS($AR$12:AR673),$AO$12:$AP$3014,2,0),\"\")","v":0}]
[null,null,null,null,null,null,null,null,null,null,null,null,null,null,null,null,null,null,null,null,null,null,null,null,null,null,{"$f":"IFERROR(INDEX($AE$13:$AE$1003, SMALL(IF(ISBLANK($AE$13:$AE$1003)+ISERROR($AE$13:$AE$1003)+LEN($AE$13:$AE$1003)=0, \"\", ROW($AE$13:$AE$1003)-MIN(ROW($AE$13:$AE$1003))+1), ROW(663:663))),\"\")","v":"__SLI_19__DROPOUT_N"},{"$f":"IF(AF675=\"\",\"\",IF(COUNTIF(CurrentListing,AF675)>1,AJ675,\"\"))","v":""},{"$f":"IF(LEN(AF675)=0,\"\",IF(ISNA(MATCH(AF675,MasterListing,0)),AJ675,\"\"))","v":""},null,"__SLI_19__D_N","","SLI19DN","__SLI_19__D_N",1,"______",null,null,null,null,{"$f":"IF(ISNUMBER(SEARCH($F$6,AP674)),MAX($AO$11:AO673)+1,0)","v":663},0,{"$f":"ROWS($AQ$12:AQ674)","v":663},{"$f":"IFERROR(VLOOKUP(ROWS($AR$12:AR674),$AO$12:$AP$3014,2,0),\"\")","v":0}]
[null,null,null,null,null,null,null,null,null,null,null,null,null,null,null,null,null,null,null,null,null,null,null,null,null,null,{"$f":"IFERROR(INDEX($AE$13:$AE$1003, SMALL(IF(ISBLANK($AE$13:$AE$1003)+ISERROR($AE$13:$AE$1003)+LEN($AE$13:$AE$1003)=0, \"\", ROW($AE$13:$AE$1003)-MIN(ROW($AE$13:$AE$1003))+1), ROW(664:664))),\"\")","v":"__SLI_19__GHS_N"},{"$f":"IF(AF676=\"\",\"\",IF(COUNTIF(CurrentListing,AF676)>1,AJ676,\"\"))","v":""},{"$f":"IF(LEN(AF676)=0,\"\",IF(ISNA(MATCH(AF676,MasterListing,0)),AJ676,\"\"))","v":""},null,"__SLI_19__DROPOUT_N","","SLI19DROPOUTN","__SLI_19__DROPOUT_N",1,"______",null,null,null,null,{"$f":"IF(ISNUMBER(SEARCH($F$6,AP675)),MAX($AO$11:AO674)+1,0)","v":664},0,{"$f":"ROWS($AQ$12:AQ675)","v":664},{"$f":"IFERROR(VLOOKUP(ROWS($AR$12:AR675),$AO$12:$AP$3014,2,0),\"\")","v":0}]
[null,null,null,null,null,null,null,null,null,null,null,null,null,null,null,null,null,null,null,null,null,null,null,null,null,null,{"$f":"IFERROR(INDEX($AE$13:$AE$1003, SMALL(IF(ISBLANK($AE$13:$AE$1003)+ISERROR($AE$13:$AE$1003)+LEN($AE$13:$AE$1003)=0, \"\", ROW($AE$13:$AE$1003)-MIN(ROW($AE$13:$AE$1003))+1), ROW(665:665))),\"\")","v":"__SLI_19__GRADALTDPL_N"},{"$f":"IF(AF677=\"\",\"\",IF(COUNTIF(CurrentListing,AF677)>1,AJ677,\"\"))","v":""},{"$f":"IF(LEN(AF677)=0,\"\",IF(ISNA(MATCH(AF677,MasterListing,0)),AJ677,\"\"))","v":""},null,"__SLI_19__GHS_N","","SLI19GHSN","__SLI_19__GHS_N",1,"______",null,null,null,null,{"$f":"IF(ISNUMBER(SEARCH($F$6,AP676)),MAX($AO$11:AO675)+1,0)","v":665},0,{"$f":"ROWS($AQ$12:AQ676)","v":665},{"$f":"IFERROR(VLOOKUP(ROWS($AR$12:AR676),$AO$12:$AP$3014,2,0),\"\")","v":0}]
[null,null,null,null,null,null,null,null,null,null,null,null,null,null,null,null,null,null,null,null,null,null,null,null,null,null,{"$f":"IFERROR(INDEX($AE$13:$AE$1003, SMALL(IF(ISBLANK($AE$13:$AE$1003)+ISERROR($AE$13:$AE$1003)+LEN($AE$13:$AE$1003)=0, \"\", ROW($AE$13:$AE$1003)-MIN(ROW($AE$13:$AE$1003))+1), ROW(666:666))),\"\")","v":"__SLI_19__MKC_N"},{"$f":"IF(AF678=\"\",\"\",IF(COUNTIF(CurrentListing,AF678)>1,AJ678,\"\"))","v":""},{"$f":"IF(LEN(AF678)=0,\"\",IF(ISNA(MATCH(AF678,MasterListing,0)),AJ678,\"\"))","v":""},null,"__SLI_19__GRADALTDPL_N","","SLI19GRADALTDPLN","__SLI_19__GRADALTDPL_N",1,"______",null,null,null,null,{"$f":"IF(ISNUMBER(SEARCH($F$6,AP677)),MAX($AO$11:AO676)+1,0)","v":666},0,{"$f":"ROWS($AQ$12:AQ677)","v":666},{"$f":"IFERROR(VLOOKUP(ROWS($AR$12:AR677),$AO$12:$AP$3014,2,0),\"\")","v":0}]
[null,null,null,null,null,null,null,null,null,null,null,null,null,null,null,null,null,null,null,null,null,null,null,null,null,null,{"$f":"IFERROR(INDEX($AE$13:$AE$1003, SMALL(IF(ISBLANK($AE$13:$AE$1003)+ISERROR($AE$13:$AE$1003)+LEN($AE$13:$AE$1003)=0, \"\", ROW($AE$13:$AE$1003)-MIN(ROW($AE$13:$AE$1003))+1), ROW(667:667))),\"\")","v":"__SLI_19__RC_N"},{"$f":"IF(AF679=\"\",\"\",IF(COUNTIF(CurrentListing,AF679)>1,AJ679,\"\"))","v":""},{"$f":"IF(LEN(AF679)=0,\"\",IF(ISNA(MATCH(AF679,MasterListing,0)),AJ679,\"\"))","v":""},null,"__SLI_19__MKC_N","","SLI19MKCN","__SLI_19__MKC_N",1,"______",null,null,null,null,{"$f":"IF(ISNUMBER(SEARCH($F$6,AP678)),MAX($AO$11:AO677)+1,0)","v":667},0,{"$f":"ROWS($AQ$12:AQ678)","v":667},{"$f":"IFERROR(VLOOKUP(ROWS($AR$12:AR678),$AO$12:$AP$3014,2,0),\"\")","v":0}]
[null,null,null,null,null,null,null,null,null,null,null,null,null,null,null,null,null,null,null,null,null,null,null,null,null,null,{"$f":"IFERROR(INDEX($AE$13:$AE$1003, SMALL(IF(ISBLANK($AE$13:$AE$1003)+ISERROR($AE$13:$AE$1003)+LEN($AE$13:$AE$1003)=0, \"\", ROW($AE$13:$AE$1003)-MIN(ROW($AE$13:$AE$1003))+1), ROW(668:668))),\"\")","v":"__SLI_19__RMA_N"},{"$f":"IF(AF680=\"\",\"\",IF(COUNTIF(CurrentListing,AF680)>1,AJ680,\"\"))","v":""},{"$f":"IF(LEN(AF680)=0,\"\",IF(ISNA(MATCH(AF680,MasterListing,0)),AJ680,\"\"))","v":""},null,"__SLI_19__RC_N","","SLI19RCN","__SLI_19__RC_N",1,"______",null,null,null,null,{"$f":"IF(ISNUMBER(SEARCH($F$6,AP679)),MAX($AO$11:AO678)+1,0)","v":668},0,{"$f":"ROWS($AQ$12:AQ679)","v":668},{"$f":"IFERROR(VLOOKUP(ROWS($AR$12:AR679),$AO$12:$AP$3014,2,0),\"\")","v":0}]
[null,null,null,null,null,null,null,null,null,null,null,null,null,null,null,null,null,null,null,null,null,null,null,null,null,null,{"$f":"IFERROR(INDEX($AE$13:$AE$1003, SMALL(IF(ISBLANK($AE$13:$AE$1003)+ISERROR($AE$13:$AE$1003)+LEN($AE$13:$AE$1003)=0, \"\", ROW($AE$13:$AE$1003)-MIN(ROW($AE$13:$AE$1003))+1), ROW(669:669))),\"\")","v":"__SLI_19__TRAN_N"},{"$f":"IF(AF681=\"\",\"\",IF(COUNTIF(CurrentListing,AF681)>1,AJ681,\"\"))","v":""},{"$f":"IF(LEN(AF681)=0,\"\",IF(ISNA(MATCH(AF681,MasterListing,0)),AJ681,\"\"))","v":""},null,"__SLI_19__RMA_N","","SLI19RMAN","__SLI_19__RMA_N",1,"______",null,null,null,null,{"$f":"IF(ISNUMBER(SEARCH($F$6,AP680)),MAX($AO$11:AO679)+1,0)","v":669},0,{"$f":"ROWS($AQ$12:AQ680)","v":669},{"$f":"IFERROR(VLOOKUP(ROWS($AR$12:AR680),$AO$12:$AP$3014,2,0),\"\")","v":0}]
[null,null,null,null,null,null,null,null,null,null,null,null,null,null,null,null,null,null,null,null,null,null,null,null,null,null,{"$f":"IFERROR(INDEX($AE$13:$AE$1003, SMALL(IF(ISBLANK($AE$13:$AE$1003)+ISERROR($AE$13:$AE$1003)+LEN($AE$13:$AE$1003)=0, \"\", ROW($AE$13:$AE$1003)-MIN(ROW($AE$13:$AE$1003))+1), ROW(670:670))),\"\")","v":"__SLI_20__D_N"},{"$f":"IF(AF682=\"\",\"\",IF(COUNTIF(CurrentListing,AF682)>1,AJ682,\"\"))","v":""},{"$f":"IF(LEN(AF682)=0,\"\",IF(ISNA(MATCH(AF682,MasterListing,0)),AJ682,\"\"))","v":""},null,"__SLI_19__TRAN_N","","SLI19TRANN","__SLI_19__TRAN_N",1,"______",null,null,null,null,{"$f":"IF(ISNUMBER(SEARCH($F$6,AP681)),MAX($AO$11:AO680)+1,0)","v":670},0,{"$f":"ROWS($AQ$12:AQ681)","v":670},{"$f":"IFERROR(VLOOKUP(ROWS($AR$12:AR681),$AO$12:$AP$3014,2,0),\"\")","v":0}]
[null,null,null,null,null,null,null,null,null,null,null,null,null,null,null,null,null,null,null,null,null,null,null,null,null,null,{"$f":"IFERROR(INDEX($AE$13:$AE$1003, SMALL(IF(ISBLANK($AE$13:$AE$1003)+ISERROR($AE$13:$AE$1003)+LEN($AE$13:$AE$1003)=0, \"\", ROW($AE$13:$AE$1003)-MIN(ROW($AE$13:$AE$1003))+1), ROW(671:671))),\"\")","v":"__SLI_20__DROPOUT_N"},{"$f":"IF(AF683=\"\",\"\",IF(COUNTIF(CurrentListing,AF683)>1,AJ683,\"\"))","v":""},{"$f":"IF(LEN(AF683)=0,\"\",IF(ISNA(MATCH(AF683,MasterListing,0)),AJ683,\"\"))","v":""},null,"__SLI_20__D_N","","SLI20DN","__SLI_20__D_N",1,"______",null,null,null,null,{"$f":"IF(ISNUMBER(SEARCH($F$6,AP682)),MAX($AO$11:AO681)+1,0)","v":671},0,{"$f":"ROWS($AQ$12:AQ682)","v":671},{"$f":"IFERROR(VLOOKUP(ROWS($AR$12:AR682),$AO$12:$AP$3014,2,0),\"\")","v":0}]
[null,null,null,null,null,null,null,null,null,null,null,null,null,null,null,null,null,null,null,null,null,null,null,null,null,null,{"$f":"IFERROR(INDEX($AE$13:$AE$1003, SMALL(IF(ISBLANK($AE$13:$AE$1003)+ISERROR($AE$13:$AE$1003)+LEN($AE$13:$AE$1003)=0, \"\", ROW($AE$13:$AE$1003)-MIN(ROW($AE$13:$AE$1003))+1), ROW(672:672))),\"\")","v":"__SLI_20__GHS_N"},{"$f":"IF(AF684=\"\",\"\",IF(COUNTIF(CurrentListing,AF684)>1,AJ684,\"\"))","v":""},{"$f":"IF(LEN(AF684)=0,\"\",IF(ISNA(MATCH(AF684,MasterListing,0)),AJ684,\"\"))","v":""},null,"__SLI_20__DROPOUT_N","","SLI20DROPOUTN","__SLI_20__DROPOUT_N",1,"______",null,null,null,null,{"$f":"IF(ISNUMBER(SEARCH($F$6,AP683)),MAX($AO$11:AO682)+1,0)","v":672},0,{"$f":"ROWS($AQ$12:AQ683)","v":672},{"$f":"IFERROR(VLOOKUP(ROWS($AR$12:AR683),$AO$12:$AP$3014,2,0),\"\")","v":0}]
[null,null,null,null,null,null,null,null,null,null,null,null,null,null,null,null,null,null,null,null,null,null,null,null,null,null,{"$f":"IFERROR(INDEX($AE$13:$AE$1003, SMALL(IF(ISBLANK($AE$13:$AE$1003)+ISERROR($AE$13:$AE$1003)+LEN($AE$13:$AE$1003)=0, \"\", ROW($AE$13:$AE$1003)-MIN(ROW($AE$13:$AE$1003))+1), ROW(673:673))),\"\")","v":"__SLI_20__GRADALTDPL_N"},{"$f":"IF(AF685=\"\",\"\",IF(COUNTIF(CurrentListing,AF685)>1,AJ685,\"\"))","v":""},{"$f":"IF(LEN(AF685)=0,\"\",IF(ISNA(MATCH(AF685,MasterListing,0)),AJ685,\"\"))","v":""},null,"__SLI_20__GHS_N","","SLI20GHSN","__SLI_20__GHS_N",1,"______",null,null,null,null,{"$f":"IF(ISNUMBER(SEARCH($F$6,AP684)),MAX($AO$11:AO683)+1,0)","v":673},0,{"$f":"ROWS($AQ$12:AQ684)","v":673},{"$f":"IFERROR(VLOOKUP(ROWS($AR$12:AR684),$AO$12:$AP$3014,2,0),\"\")","v":0}]
[null,null,null,null,null,null,null,null,null,null,null,null,null,null,null,null,null,null,null,null,null,null,null,null,null,null,{"$f":"IFERROR(INDEX($AE$13:$AE$1003, SMALL(IF(ISBLANK($AE$13:$AE$1003)+ISERROR($AE$13:$AE$1003)+LEN($AE$13:$AE$1003)=0, \"\", ROW($AE$13:$AE$1003)-MIN(ROW($AE$13:$AE$1003))+1), ROW(674:674))),\"\")","v":"__SLI_20__MKC_N"},{"$f":"IF(AF686=\"\",\"\",IF(COUNTIF(CurrentListing,AF686)>1,AJ686,\"\"))","v":""},{"$f":"IF(LEN(AF686)=0,\"\",IF(ISNA(MATCH(AF686,MasterListing,0)),AJ686,\"\"))","v":""},null,"__SLI_20__GRADALTDPL_N","","SLI20GRADALTDPLN","__SLI_20__GRADALTDPL_N",1,"______",null,null,null,null,{"$f":"IF(ISNUMBER(SEARCH($F$6,AP685)),MAX($AO$11:AO684)+1,0)","v":674},0,{"$f":"ROWS($AQ$12:AQ685)","v":674},{"$f":"IFERROR(VLOOKUP(ROWS($AR$12:AR685),$AO$12:$AP$3014,2,0),\"\")","v":0}]
[null,null,null,null,null,null,null,null,null,null,null,null,null,null,null,null,null,null,null,null,null,null,null,null,null,null,{"$f":"IFERROR(INDEX($AE$13:$AE$1003, SMALL(IF(ISBLANK($AE$13:$AE$1003)+ISERROR($AE$13:$AE$1003)+LEN($AE$13:$AE$1003)=0, \"\", ROW($AE$13:$AE$1003)-MIN(ROW($AE$13:$AE$1003))+1), ROW(675:675))),\"\")","v":"__SLI_20__RC_N"},{"$f":"IF(AF687=\"\",\"\",IF(COUNTIF(CurrentListing,AF687)>1,AJ687,\"\"))","v":""},{"$f":"IF(LEN(AF687)=0,\"\",IF(ISNA(MATCH(AF687,MasterListing,0)),AJ687,\"\"))","v":""},null,"__SLI_20__MKC_N","","SLI20MKCN","__SLI_20__MKC_N",1,"______",null,null,null,null,{"$f":"IF(ISNUMBER(SEARCH($F$6,AP686)),MAX($AO$11:AO685)+1,0)","v":675},0,{"$f":"ROWS($AQ$12:AQ686)","v":675},{"$f":"IFERROR(VLOOKUP(ROWS($AR$12:AR686),$AO$12:$AP$3014,2,0),\"\")","v":0}]
[null,null,null,null,null,null,null,null,null,null,null,null,null,null,null,null,null,null,null,null,null,null,null,null,null,null,{"$f":"IFERROR(INDEX($AE$13:$AE$1003, SMALL(IF(ISBLANK($AE$13:$AE$1003)+ISERROR($AE$13:$AE$1003)+LEN($AE$13:$AE$1003)=0, \"\", ROW($AE$13:$AE$1003)-MIN(ROW($AE$13:$AE$1003))+1), ROW(676:676))),\"\")","v":"__SLI_20__RMA_N"},{"$f":"IF(AF688=\"\",\"\",IF(COUNTIF(CurrentListing,AF688)>1,AJ688,\"\"))","v":""},{"$f":"IF(LEN(AF688)=0,\"\",IF(ISNA(MATCH(AF688,MasterListing,0)),AJ688,\"\"))","v":""},null,"__SLI_20__RC_N","","SLI20RCN","__SLI_20__RC_N",1,"______",null,null,null,null,{"$f":"IF(ISNUMBER(SEARCH($F$6,AP687)),MAX($AO$11:AO686)+1,0)","v":676},0,{"$f":"ROWS($AQ$12:AQ687)","v":676},{"$f":"IFERROR(VLOOKUP(ROWS($AR$12:AR687),$AO$12:$AP$3014,2,0),\"\")","v":0}]
[null,null,null,null,null,null,null,null,null,null,null,null,null,null,null,null,null,null,null,null,null,null,null,null,null,null,{"$f":"IFERROR(INDEX($AE$13:$AE$1003, SMALL(IF(ISBLANK($AE$13:$AE$1003)+ISERROR($AE$13:$AE$1003)+LEN($AE$13:$AE$1003)=0, \"\", ROW($AE$13:$AE$1003)-MIN(ROW($AE$13:$AE$1003))+1), ROW(677:677))),\"\")","v":"__SLI_20__TRAN_N"},{"$f":"IF(AF689=\"\",\"\",IF(COUNTIF(CurrentListing,AF689)>1,AJ689,\"\"))","v":""},{"$f":"IF(LEN(AF689)=0,\"\",IF(ISNA(MATCH(AF689,MasterListing,0)),AJ689,\"\"))","v":""},null,"__SLI_20__RMA_N","","SLI20RMAN","__SLI_20__RMA_N",1,"______",null,null,null,null,{"$f":"IF(ISNUMBER(SEARCH($F$6,AP688)),MAX($AO$11:AO687)+1,0)","v":677},0,{"$f":"ROWS($AQ$12:AQ688)","v":677},{"$f":"IFERROR(VLOOKUP(ROWS($AR$12:AR688),$AO$12:$AP$3014,2,0),\"\")","v":0}]
[null,null,null,null,null,null,null,null,null,null,null,null,null,null,null,null,null,null,null,null,null,null,null,null,null,null,{"$f":"IFERROR(INDEX($AE$13:$AE$1003, SMALL(IF(ISBLANK($AE$13:$AE$1003)+ISERROR($AE$13:$AE$1003)+LEN($AE$13:$AE$1003)=0, \"\", ROW($AE$13:$AE$1003)-MIN(ROW($AE$13:$AE$1003))+1), ROW(678:678))),\"\")","v":"__SLI_21__D_N"},{"$f":"IF(AF690=\"\",\"\",IF(COUNTIF(CurrentListing,AF690)>1,AJ690,\"\"))","v":""},{"$f":"IF(LEN(AF690)=0,\"\",IF(ISNA(MATCH(AF690,MasterListing,0)),AJ690,\"\"))","v":""},null,"__SLI_20__TRAN_N","","SLI20TRANN","__SLI_20__TRAN_N",1,"______",null,null,null,null,{"$f":"IF(ISNUMBER(SEARCH($F$6,AP689)),MAX($AO$11:AO688)+1,0)","v":678},0,{"$f":"ROWS($AQ$12:AQ689)","v":678},{"$f":"IFERROR(VLOOKUP(ROWS($AR$12:AR689),$AO$12:$AP$3014,2,0),\"\")","v":0}]
[null,null,null,null,null,null,null,null,null,null,null,null,null,null,null,null,null,null,null,null,null,null,null,null,null,null,{"$f":"IFERROR(INDEX($AE$13:$AE$1003, SMALL(IF(ISBLANK($AE$13:$AE$1003)+ISERROR($AE$13:$AE$1003)+LEN($AE$13:$AE$1003)=0, \"\", ROW($AE$13:$AE$1003)-MIN(ROW($AE$13:$AE$1003))+1), ROW(679:679))),\"\")","v":"__SLI_21__DROPOUT_N"},{"$f":"IF(AF691=\"\",\"\",IF(COUNTIF(CurrentListing,AF691)>1,AJ691,\"\"))","v":""},{"$f":"IF(LEN(AF691)=0,\"\",IF(ISNA(MATCH(AF691,MasterListing,0)),AJ691,\"\"))","v":""},null,"__SLI_21__D_N","","SLI21DN","__SLI_21__D_N",1,"______",null,null,null,null,{"$f":"IF(ISNUMBER(SEARCH($F$6,AP690)),MAX($AO$11:AO689)+1,0)","v":679},0,{"$f":"ROWS($AQ$12:AQ690)","v":679},{"$f":"IFERROR(VLOOKUP(ROWS($AR$12:AR690),$AO$12:$AP$3014,2,0),\"\")","v":0}]
[null,null,null,null,null,null,null,null,null,null,null,null,null,null,null,null,null,null,null,null,null,null,null,null,null,null,{"$f":"IFERROR(INDEX($AE$13:$AE$1003, SMALL(IF(ISBLANK($AE$13:$AE$1003)+ISERROR($AE$13:$AE$1003)+LEN($AE$13:$AE$1003)=0, \"\", ROW($AE$13:$AE$1003)-MIN(ROW($AE$13:$AE$1003))+1), ROW(680:680))),\"\")","v":"__SLI_21__GHS_N"},{"$f":"IF(AF692=\"\",\"\",IF(COUNTIF(CurrentListing,AF692)>1,AJ692,\"\"))","v":""},{"$f":"IF(LEN(AF692)=0,\"\",IF(ISNA(MATCH(AF692,MasterListing,0)),AJ692,\"\"))","v":""},null,"__SLI_21__DROPOUT_N","","SLI21DROPOUTN","__SLI_21__DROPOUT_N",1,"______",null,null,null,null,{"$f":"IF(ISNUMBER(SEARCH($F$6,AP691)),MAX($AO$11:AO690)+1,0)","v":680},0,{"$f":"ROWS($AQ$12:AQ691)","v":680},{"$f":"IFERROR(VLOOKUP(ROWS($AR$12:AR691),$AO$12:$AP$3014,2,0),\"\")","v":0}]
[null,null,null,null,null,null,null,null,null,null,null,null,null,null,null,null,null,null,null,null,null,null,null,null,null,null,{"$f":"IFERROR(INDEX($AE$13:$AE$1003, SMALL(IF(ISBLANK($AE$13:$AE$1003)+ISERROR($AE$13:$AE$1003)+LEN($AE$13:$AE$1003)=0, \"\", ROW($AE$13:$AE$1003)-MIN(ROW($AE$13:$AE$1003))+1), ROW(681:681))),\"\")","v":"__SLI_21__GRADALTDPL_N"},{"$f":"IF(AF693=\"\",\"\",IF(COUNTIF(CurrentListing,AF693)>1,AJ693,\"\"))","v":""},{"$f":"IF(LEN(AF693)=0,\"\",IF(ISNA(MATCH(AF693,MasterListing,0)),AJ693,\"\"))","v":""},null,"__SLI_21__GHS_N","","SLI21GHSN","__SLI_21__GHS_N",1,"______",null,null,null,null,{"$f":"IF(ISNUMBER(SEARCH($F$6,AP692)),MAX($AO$11:AO691)+1,0)","v":681},0,{"$f":"ROWS($AQ$12:AQ692)","v":681},{"$f":"IFERROR(VLOOKUP(ROWS($AR$12:AR692),$AO$12:$AP$3014,2,0),\"\")","v":0}]
[null,null,null,null,null,null,null,null,null,null,null,null,null,null,null,null,null,null,null,null,null,null,null,null,null,null,{"$f":"IFERROR(INDEX($AE$13:$AE$1003, SMALL(IF(ISBLANK($AE$13:$AE$1003)+ISERROR($AE$13:$AE$1003)+LEN($AE$13:$AE$1003)=0, \"\", ROW($AE$13:$AE$1003)-MIN(ROW($AE$13:$AE$1003))+1), ROW(682:682))),\"\")","v":"__SLI_21__MKC_N"},{"$f":"IF(AF694=\"\",\"\",IF(COUNTIF(CurrentListing,AF694)>1,AJ694,\"\"))","v":""},{"$f":"IF(LEN(AF694)=0,\"\",IF(ISNA(MATCH(AF694,MasterListing,0)),AJ694,\"\"))","v":""},null,"__SLI_21__GRADALTDPL_N","","SLI21GRADALTDPLN","__SLI_21__GRADALTDPL_N",1,"______",null,null,null,null,{"$f":"IF(ISNUMBER(SEARCH($F$6,AP693)),MAX($AO$11:AO692)+1,0)","v":682},0,{"$f":"ROWS($AQ$12:AQ693)","v":682},{"$f":"IFERROR(VLOOKUP(ROWS($AR$12:AR693),$AO$12:$AP$3014,2,0),\"\")","v":0}]
[null,null,null,null,null,null,null,null,null,null,null,null,null,null,null,null,null,null,null,null,null,null,null,null,null,null,{"$f":"IFERROR(INDEX($AE$13:$AE$1003, SMALL(IF(ISBLANK($AE$13:$AE$1003)+ISERROR($AE$13:$AE$1003)+LEN($AE$13:$AE$1003)=0, \"\", ROW($AE$13:$AE$1003)-MIN(ROW($AE$13:$AE$1003))+1), ROW(683:683))),\"\")","v":"__SLI_21__RC_N"},{"$f":"IF(AF695=\"\",\"\",IF(COUNTIF(CurrentListing,AF695)>1,AJ695,\"\"))","v":""},{"$f":"IF(LEN(AF695)=0,\"\",IF(ISNA(MATCH(AF695,MasterListing,0)),AJ695,\"\"))","v":""},null,"__SLI_21__MKC_N","","SLI21MKCN","__SLI_21__MKC_N",1,"______",null,null,null,null,{"$f":"IF(ISNUMBER(SEARCH($F$6,AP694)),MAX($AO$11:AO693)+1,0)","v":683},0,{"$f":"ROWS($AQ$12:AQ694)","v":683},{"$f":"IFERROR(VLOOKUP(ROWS($AR$12:AR694),$AO$12:$AP$3014,2,0),\"\")","v":0}]
[null,null,null,null,null,null,null,null,null,null,null,null,null,null,null,null,null,null,null,null,null,null,null,null,null,null,{"$f":"IFERROR(INDEX($AE$13:$AE$1003, SMALL(IF(ISBLANK($AE$13:$AE$1003)+ISERROR($AE$13:$AE$1003)+LEN($AE$13:$AE$1003)=0, \"\", ROW($AE$13:$AE$1003)-MIN(ROW($AE$13:$AE$1003))+1), ROW(684:684))),\"\")","v":"__SLI_21__RMA_N"},{"$f":"IF(AF696=\"\",\"\",IF(COUNTIF(CurrentListing,AF696)>1,AJ696,\"\"))","v":""},{"$f":"IF(LEN(AF696)=0,\"\",IF(ISNA(MATCH(AF696,MasterListing,0)),AJ696,\"\"))","v":""},null,"__SLI_21__RC_N","","SLI21RCN","__SLI_21__RC_N",1,"______",null,null,null,null,{"$f":"IF(ISNUMBER(SEARCH($F$6,AP695)),MAX($AO$11:AO694)+1,0)","v":684},0,{"$f":"ROWS($AQ$12:AQ695)","v":684},{"$f":"IFERROR(VLOOKUP(ROWS($AR$12:AR695),$AO$12:$AP$3014,2,0),\"\")","v":0}]
[null,null,null,null,null,null,null,null,null,null,null,null,null,null,null,null,null,null,null,null,null,null,null,null,null,null,{"$f":"IFERROR(INDEX($AE$13:$AE$1003, SMALL(IF(ISBLANK($AE$13:$AE$1003)+ISERROR($AE$13:$AE$1003)+LEN($AE$13:$AE$1003)=0, \"\", ROW($AE$13:$AE$1003)-MIN(ROW($AE$13:$AE$1003))+1), ROW(685:685))),\"\")","v":"__SLI_21__TRAN_N"},{"$f":"IF(AF697=\"\",\"\",IF(COUNTIF(CurrentListing,AF697)>1,AJ697,\"\"))","v":""},{"$f":"IF(LEN(AF697)=0,\"\",IF(ISNA(MATCH(AF697,MasterListing,0)),AJ697,\"\"))","v":""},null,"__SLI_21__RMA_N","","SLI21RMAN","__SLI_21__RMA_N",1,"______",null,null,null,null,{"$f":"IF(ISNUMBER(SEARCH($F$6,AP696)),MAX($AO$11:AO695)+1,0)","v":685},0,{"$f":"ROWS($AQ$12:AQ696)","v":685},{"$f":"IFERROR(VLOOKUP(ROWS($AR$12:AR696),$AO$12:$AP$3014,2,0),\"\")","v":0}]
[null,null,null,null,null,null,null,null,null,null,null,null,null,null,null,null,null,null,null,null,null,null,null,null,null,null,{"$f":"IFERROR(INDEX($AE$13:$AE$1003, SMALL(IF(ISBLANK($AE$13:$AE$1003)+ISERROR($AE$13:$AE$1003)+LEN($AE$13:$AE$1003)=0, \"\", ROW($AE$13:$AE$1003)-MIN(ROW($AE$13:$AE$1003))+1), ROW(686:686))),\"\")","v":"__TBI____Y"},{"$f":"IF(AF698=\"\",\"\",IF(COUNTIF(CurrentListing,AF698)>1,AJ698,\"\"))","v":""},{"$f":"IF(LEN(AF698)=0,\"\",IF(ISNA(MATCH(AF698,MasterListing,0)),AJ698,\"\"))","v":""},null,"__SLI_21__TRAN_N","","SLI21TRANN","__SLI_21__TRAN_N",1,"______",null,null,null,null,{"$f":"IF(ISNUMBER(SEARCH($F$6,AP697)),MAX($AO$11:AO696)+1,0)","v":686},0,{"$f":"ROWS($AQ$12:AQ697)","v":686},{"$f":"IFERROR(VLOOKUP(ROWS($AR$12:AR697),$AO$12:$AP$3014,2,0),\"\")","v":0}]
[null,null,null,null,null,null,null,null,null,null,null,null,null,null,null,null,null,null,null,null,null,null,null,null,null,null,{"$f":"IFERROR(INDEX($AE$13:$AE$1003, SMALL(IF(ISBLANK($AE$13:$AE$1003)+ISERROR($AE$13:$AE$1003)+LEN($AE$13:$AE$1003)=0, \"\", ROW($AE$13:$AE$1003)-MIN(ROW($AE$13:$AE$1003))+1), ROW(687:687))),\"\")","v":"__TBI_14__D_N"},{"$f":"IF(AF699=\"\",\"\",IF(COUNTIF(CurrentListing,AF699)>1,AJ699,\"\"))","v":""},{"$f":"IF(LEN(AF699)=0,\"\",IF(ISNA(MATCH(AF699,MasterListing,0)),AJ699,\"\"))","v":""},null,"__TBI____Y","","TBIY","__TBI____Y",1,"______",null,null,null,null,{"$f":"IF(ISNUMBER(SEARCH($F$6,AP698)),MAX($AO$11:AO697)+1,0)","v":687},0,{"$f":"ROWS($AQ$12:AQ698)","v":687},{"$f":"IFERROR(VLOOKUP(ROWS($AR$12:AR698),$AO$12:$AP$3014,2,0),\"\")","v":0}]
[null,null,null,null,null,null,null,null,null,null,null,null,null,null,null,null,null,null,null,null,null,null,null,null,null,null,{"$f":"IFERROR(INDEX($AE$13:$AE$1003, SMALL(IF(ISBLANK($AE$13:$AE$1003)+ISERROR($AE$13:$AE$1003)+LEN($AE$13:$AE$1003)=0, \"\", ROW($AE$13:$AE$1003)-MIN(ROW($AE$13:$AE$1003))+1), ROW(688:688))),\"\")","v":"__TBI_14__DROPOUT_N"},{"$f":"IF(AF700=\"\",\"\",IF(COUNTIF(CurrentListing,AF700)>1,AJ700,\"\"))","v":""},{"$f":"IF(LEN(AF700)=0,\"\",IF(ISNA(MATCH(AF700,MasterListing,0)),AJ700,\"\"))","v":""},null,"__TBI_14__D_N","","TBI14DN","__TBI_14__D_N",1,"______",null,null,null,null,{"$f":"IF(ISNUMBER(SEARCH($F$6,AP699)),MAX($AO$11:AO698)+1,0)","v":688},0,{"$f":"ROWS($AQ$12:AQ699)","v":688},{"$f":"IFERROR(VLOOKUP(ROWS($AR$12:AR699),$AO$12:$AP$3014,2,0),\"\")","v":0}]
[null,null,null,null,null,null,null,null,null,null,null,null,null,null,null,null,null,null,null,null,null,null,null,null,null,null,{"$f":"IFERROR(INDEX($AE$13:$AE$1003, SMALL(IF(ISBLANK($AE$13:$AE$1003)+ISERROR($AE$13:$AE$1003)+LEN($AE$13:$AE$1003)=0, \"\", ROW($AE$13:$AE$1003)-MIN(ROW($AE$13:$AE$1003))+1), ROW(689:689))),\"\")","v":"__TBI_14__GHS_N"},{"$f":"IF(AF701=\"\",\"\",IF(COUNTIF(CurrentListing,AF701)>1,AJ701,\"\"))","v":""},{"$f":"IF(LEN(AF701)=0,\"\",IF(ISNA(MATCH(AF701,MasterListing,0)),AJ701,\"\"))","v":""},null,"__TBI_14__DROPOUT_N","","TBI14DROPOUTN","__TBI_14__DROPOUT_N",1,"______",null,null,null,null,{"$f":"IF(ISNUMBER(SEARCH($F$6,AP700)),MAX($AO$11:AO699)+1,0)","v":689},0,{"$f":"ROWS($AQ$12:AQ700)","v":689},{"$f":"IFERROR(VLOOKUP(ROWS($AR$12:AR700),$AO$12:$AP$3014,2,0),\"\")","v":0}]
[null,null,null,null,null,null,null,null,null,null,null,null,null,null,null,null,null,null,null,null,null,null,null,null,null,null,{"$f":"IFERROR(INDEX($AE$13:$AE$1003, SMALL(IF(ISBLANK($AE$13:$AE$1003)+ISERROR($AE$13:$AE$1003)+LEN($AE$13:$AE$1003)=0, \"\", ROW($AE$13:$AE$1003)-MIN(ROW($AE$13:$AE$1003))+1), ROW(690:690))),\"\")","v":"__TBI_14__GRADALTDPL_N"},{"$f":"IF(AF702=\"\",\"\",IF(COUNTIF(CurrentListing,AF702)>1,AJ702,\"\"))","v":""},{"$f":"IF(LEN(AF702)=0,\"\",IF(ISNA(MATCH(AF702,MasterListing,0)),AJ702,\"\"))","v":""},null,"__TBI_14__GHS_N","","TBI14GHSN","__TBI_14__GHS_N",1,"______",null,null,null,null,{"$f":"IF(ISNUMBER(SEARCH($F$6,AP701)),MAX($AO$11:AO700)+1,0)","v":690},0,{"$f":"ROWS($AQ$12:AQ701)","v":690},{"$f":"IFERROR(VLOOKUP(ROWS($AR$12:AR701),$AO$12:$AP$3014,2,0),\"\")","v":0}]
[null,null,null,null,null,null,null,null,null,null,null,null,null,null,null,null,null,null,null,null,null,null,null,null,null,null,{"$f":"IFERROR(INDEX($AE$13:$AE$1003, SMALL(IF(ISBLANK($AE$13:$AE$1003)+ISERROR($AE$13:$AE$1003)+LEN($AE$13:$AE$1003)=0, \"\", ROW($AE$13:$AE$1003)-MIN(ROW($AE$13:$AE$1003))+1), ROW(691:691))),\"\")","v":"__TBI_14__MKC_N"},{"$f":"IF(AF703=\"\",\"\",IF(COUNTIF(CurrentListing,AF703)>1,AJ703,\"\"))","v":""},{"$f":"IF(LEN(AF703)=0,\"\",IF(ISNA(MATCH(AF703,MasterListing,0)),AJ703,\"\"))","v":""},null,"__TBI_14__GRADALTDPL_N","","TBI14GRADALTDPLN","__TBI_14__GRADALTDPL_N",1,"______",null,null,null,null,{"$f":"IF(ISNUMBER(SEARCH($F$6,AP702)),MAX($AO$11:AO701)+1,0)","v":691},0,{"$f":"ROWS($AQ$12:AQ702)","v":691},{"$f":"IFERROR(VLOOKUP(ROWS($AR$12:AR702),$AO$12:$AP$3014,2,0),\"\")","v":0}]
[null,null,null,null,null,null,null,null,null,null,null,null,null,null,null,null,null,null,null,null,null,null,null,null,null,null,{"$f":"IFERROR(INDEX($AE$13:$AE$1003, SMALL(IF(ISBLANK($AE$13:$AE$1003)+ISERROR($AE$13:$AE$1003)+LEN($AE$13:$AE$1003)=0, \"\", ROW($AE$13:$AE$1003)-MIN(ROW($AE$13:$AE$1003))+1), ROW(692:692))),\"\")","v":"__TBI_14__RC_N"},{"$f":"IF(AF704=\"\",\"\",IF(COUNTIF(CurrentListing,AF704)>1,AJ704,\"\"))","v":""},{"$f":"IF(LEN(AF704)=0,\"\",IF(ISNA(MATCH(AF704,MasterListing,0)),AJ704,\"\"))","v":""},null,"__TBI_14__MKC_N","","TBI14MKCN","__TBI_14__MKC_N",1,"______",null,null,null,null,{"$f":"IF(ISNUMBER(SEARCH($F$6,AP703)),MAX($AO$11:AO702)+1,0)","v":692},0,{"$f":"ROWS($AQ$12:AQ703)","v":692},{"$f":"IFERROR(VLOOKUP(ROWS($AR$12:AR703),$AO$12:$AP$3014,2,0),\"\")","v":0}]
[null,null,null,null,null,null,null,null,null,null,null,null,null,null,null,null,null,null,null,null,null,null,null,null,null,null,{"$f":"IFERROR(INDEX($AE$13:$AE$1003, SMALL(IF(ISBLANK($AE$13:$AE$1003)+ISERROR($AE$13:$AE$1003)+LEN($AE$13:$AE$1003)=0, \"\", ROW($AE$13:$AE$1003)-MIN(ROW($AE$13:$AE$1003))+1), ROW(693:693))),\"\")","v":"__TBI_14__RMA_N"},{"$f":"IF(AF705=\"\",\"\",IF(COUNTIF(CurrentListing,AF705)>1,AJ705,\"\"))","v":""},{"$f":"IF(LEN(AF705)=0,\"\",IF(ISNA(MATCH(AF705,MasterListing,0)),AJ705,\"\"))","v":""},null,"__TBI_14__RC_N","","TBI14RCN","__TBI_14__RC_N",1,"______",null,null,null,null,{"$f":"IF(ISNUMBER(SEARCH($F$6,AP704)),MAX($AO$11:AO703)+1,0)","v":693},0,{"$f":"ROWS($AQ$12:AQ704)","v":693},{"$f":"IFERROR(VLOOKUP(ROWS($AR$12:AR704),$AO$12:$AP$3014,2,0),\"\")","v":0}]
[null,null,null,null,null,null,null,null,null,null,null,null,null,null,null,null,null,null,null,null,null,null,null,null,null,null,{"$f":"IFERROR(INDEX($AE$13:$AE$1003, SMALL(IF(ISBLANK($AE$13:$AE$1003)+ISERROR($AE$13:$AE$1003)+LEN($AE$13:$AE$1003)=0, \"\", ROW($AE$13:$AE$1003)-MIN(ROW($AE$13:$AE$1003))+1), ROW(694:694))),\"\")","v":"__TBI_14__TRAN_N"},{"$f":"IF(AF706=\"\",\"\",IF(COUNTIF(CurrentListing,AF706)>1,AJ706,\"\"))","v":""},{"$f":"IF(LEN(AF706)=0,\"\",IF(ISNA(MATCH(AF706,MasterListing,0)),AJ706,\"\"))","v":""},null,"__TBI_14__RMA_N","","TBI14RMAN","__TBI_14__RMA_N",1,"______",null,null,null,null,{"$f":"IF(ISNUMBER(SEARCH($F$6,AP705)),MAX($AO$11:AO704)+1,0)","v":694},0,{"$f":"ROWS($AQ$12:AQ705)","v":694},{"$f":"IFERROR(VLOOKUP(ROWS($AR$12:AR705),$AO$12:$AP$3014,2,0),\"\")","v":0}]
[null,null,null,null,null,null,null,null,null,null,null,null,null,null,null,null,null,null,null,null,null,null,null,null,null,null,{"$f":"IFERROR(INDEX($AE$13:$AE$1003, SMALL(IF(ISBLANK($AE$13:$AE$1003)+ISERROR($AE$13:$AE$1003)+LEN($AE$13:$AE$1003)=0, \"\", ROW($AE$13:$AE$1003)-MIN(ROW($AE$13:$AE$1003))+1), ROW(695:695))),\"\")","v":"__TBI_15__D_N"},{"$f":"IF(AF707=\"\",\"\",IF(COUNTIF(CurrentListing,AF707)>1,AJ707,\"\"))","v":""},{"$f":"IF(LEN(AF707)=0,\"\",IF(ISNA(MATCH(AF707,MasterListing,0)),AJ707,\"\"))","v":""},null,"__TBI_14__TRAN_N","","TBI14TRANN","__TBI_14__TRAN_N",1,"______",null,null,null,null,{"$f":"IF(ISNUMBER(SEARCH($F$6,AP706)),MAX($AO$11:AO705)+1,0)","v":695},0,{"$f":"ROWS($AQ$12:AQ706)","v":695},{"$f":"IFERROR(VLOOKUP(ROWS($AR$12:AR706),$AO$12:$AP$3014,2,0),\"\")","v":0}]
[null,null,null,null,null,null,null,null,null,null,null,null,null,null,null,null,null,null,null,null,null,null,null,null,null,null,{"$f":"IFERROR(INDEX($AE$13:$AE$1003, SMALL(IF(ISBLANK($AE$13:$AE$1003)+ISERROR($AE$13:$AE$1003)+LEN($AE$13:$AE$1003)=0, \"\", ROW($AE$13:$AE$1003)-MIN(ROW($AE$13:$AE$1003))+1), ROW(696:696))),\"\")","v":"__TBI_15__DROPOUT_N"},{"$f":"IF(AF708=\"\",\"\",IF(COUNTIF(CurrentListing,AF708)>1,AJ708,\"\"))","v":""},{"$f":"IF(LEN(AF708)=0,\"\",IF(ISNA(MATCH(AF708,MasterListing,0)),AJ708,\"\"))","v":""},null,"__TBI_15__D_N","","TBI15DN","__TBI_15__D_N",1,"______",null,null,null,null,{"$f":"IF(ISNUMBER(SEARCH($F$6,AP707)),MAX($AO$11:AO706)+1,0)","v":696},0,{"$f":"ROWS($AQ$12:AQ707)","v":696},{"$f":"IFERROR(VLOOKUP(ROWS($AR$12:AR707),$AO$12:$AP$3014,2,0),\"\")","v":0}]
[null,null,null,null,null,null,null,null,null,null,null,null,null,null,null,null,null,null,null,null,null,null,null,null,null,null,{"$f":"IFERROR(INDEX($AE$13:$AE$1003, SMALL(IF(ISBLANK($AE$13:$AE$1003)+ISERROR($AE$13:$AE$1003)+LEN($AE$13:$AE$1003)=0, \"\", ROW($AE$13:$AE$1003)-MIN(ROW($AE$13:$AE$1003))+1), ROW(697:697))),\"\")","v":"__TBI_15__GHS_N"},{"$f":"IF(AF709=\"\",\"\",IF(COUNTIF(CurrentListing,AF709)>1,AJ709,\"\"))","v":""},{"$f":"IF(LEN(AF709)=0,\"\",IF(ISNA(MATCH(AF709,MasterListing,0)),AJ709,\"\"))","v":""},null,"__TBI_15__DROPOUT_N","","TBI15DROPOUTN","__TBI_15__DROPOUT_N",1,"______",null,null,null,null,{"$f":"IF(ISNUMBER(SEARCH($F$6,AP708)),MAX($AO$11:AO707)+1,0)","v":697},0,{"$f":"ROWS($AQ$12:AQ708)","v":697},{"$f":"IFERROR(VLOOKUP(ROWS($AR$12:AR708),$AO$12:$AP$3014,2,0),\"\")","v":0}]
[null,null,null,null,null,null,null,null,null,null,null,null,null,null,null,null,null,null,null,null,null,null,null,null,null,null,{"$f":"IFERROR(INDEX($AE$13:$AE$1003, SMALL(IF(ISBLANK($AE$13:$AE$1003)+ISERROR($AE$13:$AE$1003)+LEN($AE$13:$AE$1003)=0, \"\", ROW($AE$13:$AE$1003)-MIN(ROW($AE$13:$AE$1003))+1), ROW(698:698))),\"\")","v":"__TBI_15__GRADALTDPL_N"},{"$f":"IF(AF710=\"\",\"\",IF(COUNTIF(CurrentListing,AF710)>1,AJ710,\"\"))","v":""},{"$f":"IF(LEN(AF710)=0,\"\",IF(ISNA(MATCH(AF710,MasterListing,0)),AJ710,\"\"))","v":""},null,"__TBI_15__GHS_N","","TBI15GHSN","__TBI_15__GHS_N",1,"______",null,null,null,null,{"$f":"IF(ISNUMBER(SEARCH($F$6,AP709)),MAX($AO$11:AO708)+1,0)","v":698},0,{"$f":"ROWS($AQ$12:AQ709)","v":698},{"$f":"IFERROR(VLOOKUP(ROWS($AR$12:AR709),$AO$12:$AP$3014,2,0),\"\")","v":0}]
[null,null,null,null,null,null,null,null,null,null,null,null,null,null,null,null,null,null,null,null,null,null,null,null,null,null,{"$f":"IFERROR(INDEX($AE$13:$AE$1003, SMALL(IF(ISBLANK($AE$13:$AE$1003)+ISERROR($AE$13:$AE$1003)+LEN($AE$13:$AE$1003)=0, \"\", ROW($AE$13:$AE$1003)-MIN(ROW($AE$13:$AE$1003))+1), ROW(699:699))),\"\")","v":"__TBI_15__MKC_N"},{"$f":"IF(AF711=\"\",\"\",IF(COUNTIF(CurrentListing,AF711)>1,AJ711,\"\"))","v":""},{"$f":"IF(LEN(AF711)=0,\"\",IF(ISNA(MATCH(AF711,MasterListing,0)),AJ711,\"\"))","v":""},null,"__TBI_15__GRADALTDPL_N","","TBI15GRADALTDPLN","__TBI_15__GRADALTDPL_N",1,"______",null,null,null,null,{"$f":"IF(ISNUMBER(SEARCH($F$6,AP710)),MAX($AO$11:AO709)+1,0)","v":699},0,{"$f":"ROWS($AQ$12:AQ710)","v":699},{"$f":"IFERROR(VLOOKUP(ROWS($AR$12:AR710),$AO$12:$AP$3014,2,0),\"\")","v":0}]
[null,null,null,null,null,null,null,null,null,null,null,null,null,null,null,null,null,null,null,null,null,null,null,null,null,null,{"$f":"IFERROR(INDEX($AE$13:$AE$1003, SMALL(IF(ISBLANK($AE$13:$AE$1003)+ISERROR($AE$13:$AE$1003)+LEN($AE$13:$AE$1003)=0, \"\", ROW($AE$13:$AE$1003)-MIN(ROW($AE$13:$AE$1003))+1), ROW(700:700))),\"\")","v":"__TBI_15__RC_N"},{"$f":"IF(AF712=\"\",\"\",IF(COUNTIF(CurrentListing,AF712)>1,AJ712,\"\"))","v":""},{"$f":"IF(LEN(AF712)=0,\"\",IF(ISNA(MATCH(AF712,MasterListing,0)),AJ712,\"\"))","v":""},null,"__TBI_15__MKC_N","","TBI15MKCN","__TBI_15__MKC_N",1,"______",null,null,null,null,{"$f":"IF(ISNUMBER(SEARCH($F$6,AP711)),MAX($AO$11:AO710)+1,0)","v":700},0,{"$f":"ROWS($AQ$12:AQ711)","v":700},{"$f":"IFERROR(VLOOKUP(ROWS($AR$12:AR711),$AO$12:$AP$3014,2,0),\"\")","v":0}]
[null,null,null,null,null,null,null,null,null,null,null,null,null,null,null,null,null,null,null,null,null,null,null,null,null,null,{"$f":"IFERROR(INDEX($AE$13:$AE$1003, SMALL(IF(ISBLANK($AE$13:$AE$1003)+ISERROR($AE$13:$AE$1003)+LEN($AE$13:$AE$1003)=0, \"\", ROW($AE$13:$AE$1003)-MIN(ROW($AE$13:$AE$1003))+1), ROW(701:701))),\"\")","v":"__TBI_15__RMA_N"},{"$f":"IF(AF713=\"\",\"\",IF(COUNTIF(CurrentListing,AF713)>1,AJ713,\"\"))","v":""},{"$f":"IF(LEN(AF713)=0,\"\",IF(ISNA(MATCH(AF713,MasterListing,0)),AJ713,\"\"))","v":""},null,"__TBI_15__RC_N","","TBI15RCN","__TBI_15__RC_N",1,"______",null,null,null,null,{"$f":"IF(ISNUMBER(SEARCH($F$6,AP712)),MAX($AO$11:AO711)+1,0)","v":701},0,{"$f":"ROWS($AQ$12:AQ712)","v":701},{"$f":"IFERROR(VLOOKUP(ROWS($AR$12:AR712),$AO$12:$AP$3014,2,0),\"\")","v":0}]
[null,null,null,null,null,null,null,null,null,null,null,null,null,null,null,null,null,null,null,null,null,null,null,null,null,null,{"$f":"IFERROR(INDEX($AE$13:$AE$1003, SMALL(IF(ISBLANK($AE$13:$AE$1003)+ISERROR($AE$13:$AE$1003)+LEN($AE$13:$AE$1003)=0, \"\", ROW($AE$13:$AE$1003)-MIN(ROW($AE$13:$AE$1003))+1), ROW(702:702))),\"\")","v":"__TBI_15__TRAN_N"},{"$f":"IF(AF714=\"\",\"\",IF(COUNTIF(CurrentListing,AF714)>1,AJ714,\"\"))","v":""},{"$f":"IF(LEN(AF714)=0,\"\",IF(ISNA(MATCH(AF714,MasterListing,0)),AJ714,\"\"))","v":""},null,"__TBI_15__RMA_N","","TBI15RMAN","__TBI_15__RMA_N",1,"______",null,null,null,null,{"$f":"IF(ISNUMBER(SEARCH($F$6,AP713)),MAX($AO$11:AO712)+1,0)","v":702},0,{"$f":"ROWS($AQ$12:AQ713)","v":702},{"$f":"IFERROR(VLOOKUP(ROWS($AR$12:AR713),$AO$12:$AP$3014,2,0),\"\")","v":0}]
[null,null,null,null,null,null,null,null,null,null,null,null,null,null,null,null,null,null,null,null,null,null,null,null,null,null,{"$f":"IFERROR(INDEX($AE$13:$AE$1003, SMALL(IF(ISBLANK($AE$13:$AE$1003)+ISERROR($AE$13:$AE$1003)+LEN($AE$13:$AE$1003)=0, \"\", ROW($AE$13:$AE$1003)-MIN(ROW($AE$13:$AE$1003))+1), ROW(703:703))),\"\")","v":"__TBI_16__D_N"},{"$f":"IF(AF715=\"\",\"\",IF(COUNTIF(CurrentListing,AF715)>1,AJ715,\"\"))","v":""},{"$f":"IF(LEN(AF715)=0,\"\",IF(ISNA(MATCH(AF715,MasterListing,0)),AJ715,\"\"))","v":""},null,"__TBI_15__TRAN_N","","TBI15TRANN","__TBI_15__TRAN_N",1,"______",null,null,null,null,{"$f":"IF(ISNUMBER(SEARCH($F$6,AP714)),MAX($AO$11:AO713)+1,0)","v":703},0,{"$f":"ROWS($AQ$12:AQ714)","v":703},{"$f":"IFERROR(VLOOKUP(ROWS($AR$12:AR714),$AO$12:$AP$3014,2,0),\"\")","v":0}]
[null,null,null,null,null,null,null,null,null,null,null,null,null,null,null,null,null,null,null,null,null,null,null,null,null,null,{"$f":"IFERROR(INDEX($AE$13:$AE$1003, SMALL(IF(ISBLANK($AE$13:$AE$1003)+ISERROR($AE$13:$AE$1003)+LEN($AE$13:$AE$1003)=0, \"\", ROW($AE$13:$AE$1003)-MIN(ROW($AE$13:$AE$1003))+1), ROW(704:704))),\"\")","v":"__TBI_16__DROPOUT_N"},{"$f":"IF(AF716=\"\",\"\",IF(COUNTIF(CurrentListing,AF716)>1,AJ716,\"\"))","v":""},{"$f":"IF(LEN(AF716)=0,\"\",IF(ISNA(MATCH(AF716,MasterListing,0)),AJ716,\"\"))","v":""},null,"__TBI_16__D_N","","TBI16DN","__TBI_16__D_N",1,"______",null,null,null,null,{"$f":"IF(ISNUMBER(SEARCH($F$6,AP715)),MAX($AO$11:AO714)+1,0)","v":704},0,{"$f":"ROWS($AQ$12:AQ715)","v":704},{"$f":"IFERROR(VLOOKUP(ROWS($AR$12:AR715),$AO$12:$AP$3014,2,0),\"\")","v":0}]
[null,null,null,null,null,null,null,null,null,null,null,null,null,null,null,null,null,null,null,null,null,null,null,null,null,null,{"$f":"IFERROR(INDEX($AE$13:$AE$1003, SMALL(IF(ISBLANK($AE$13:$AE$1003)+ISERROR($AE$13:$AE$1003)+LEN($AE$13:$AE$1003)=0, \"\", ROW($AE$13:$AE$1003)-MIN(ROW($AE$13:$AE$1003))+1), ROW(705:705))),\"\")","v":"__TBI_16__GHS_N"},{"$f":"IF(AF717=\"\",\"\",IF(COUNTIF(CurrentListing,AF717)>1,AJ717,\"\"))","v":""},{"$f":"IF(LEN(AF717)=0,\"\",IF(ISNA(MATCH(AF717,MasterListing,0)),AJ717,\"\"))","v":""},null,{"$f":"IF(LEN(AG716)=0,\"\",IF(ISNA(MATCH(AG716,CurrentListing,0)),AH716,\"\"))","v":"__TBI_16__DROPOUT_N"},"","TBI16DROPOUTN","__TBI_16__DROPOUT_N",1,"______",null,null,null,null,{"$f":"IF(ISNUMBER(SEARCH($F$6,AP716)),MAX($AO$11:AO715)+1,0)","v":705},0,{"$f":"ROWS($AQ$12:AQ716)","v":705},{"$f":"IFERROR(VLOOKUP(ROWS($AR$12:AR716),$AO$12:$AP$3014,2,0),\"\")","v":0}]
[null,null,null,null,null,null,null,null,null,null,null,null,null,null,null,null,null,null,null,null,null,null,null,null,null,null,{"$f":"IFERROR(INDEX($AE$13:$AE$1003, SMALL(IF(ISBLANK($AE$13:$AE$1003)+ISERROR($AE$13:$AE$1003)+LEN($AE$13:$AE$1003)=0, \"\", ROW($AE$13:$AE$1003)-MIN(ROW($AE$13:$AE$1003))+1), ROW(706:706))),\"\")","v":"__TBI_16__GRADALTDPL_N"},{"$f":"IF(AF718=\"\",\"\",IF(COUNTIF(CurrentListing,AF718)>1,AJ718,\"\"))","v":""},{"$f":"IF(LEN(AF718)=0,\"\",IF(ISNA(MATCH(AF718,MasterListing,0)),AJ718,\"\"))","v":""},null,"__TBI_16__GHS_N",{"$f":"H717&I717&P717&Q717&R717&V717&W717","v":""},"TBI16GHSN","__TBI_16__GHS_N",1,"______",null,null,null,null,{"$f":"IF(ISNUMBER(SEARCH($F$6,AP717)),MAX($AO$11:AO716)+1,0)","v":706},0,{"$f":"ROWS($AQ$12:AQ717)","v":706},{"$f":"IFERROR(VLOOKUP(ROWS($AR$12:AR717),$AO$12:$AP$3014,2,0),\"\")","v":0}]
[null,null,null,null,null,null,null,null,null,null,null,null,null,null,null,null,null,null,null,null,null,null,null,null,null,null,{"$f":"IFERROR(INDEX($AE$13:$AE$1003, SMALL(IF(ISBLANK($AE$13:$AE$1003)+ISERROR($AE$13:$AE$1003)+LEN($AE$13:$AE$1003)=0, \"\", ROW($AE$13:$AE$1003)-MIN(ROW($AE$13:$AE$1003))+1), ROW(707:707))),\"\")","v":"__TBI_16__MKC_N"},{"$f":"IF(AF719=\"\",\"\",IF(COUNTIF(CurrentListing,AF719)>1,AJ719,\"\"))","v":""},{"$f":"IF(LEN(AF719)=0,\"\",IF(ISNA(MATCH(AF719,MasterListing,0)),AJ719,\"\"))","v":""},null,"__TBI_16__GRADALTDPL_N","","TBI16GRADALTDPLN","__TBI_16__GRADALTDPL_N",{"$f":"IF(LEN(AA718)>0,1,0)","v":1},{"$f":"H718&\"_\"&I718&\"_\"&P718&\"_\"&Q718&\"_\"&R718&\"_\"&V718&\"_\"&W718","v":"______"},null,null,null,null,{"$f":"IF(ISNUMBER(SEARCH($F$6,AP718)),MAX($AO$11:AO717)+1,0)","v":707},0,{"$f":"ROWS($AQ$12:AQ718)","v":707},{"$f":"IFERROR(VLOOKUP(ROWS($AR$12:AR718),$AO$12:$AP$3014,2,0),\"\")","v":0}]
[null,null,null,null,null,null,null,null,null,null,null,null,null,null,null,null,null,null,null,null,null,null,null,null,null,null,{"$f":"IFERROR(INDEX($AE$13:$AE$1003, SMALL(IF(ISBLANK($AE$13:$AE$1003)+ISERROR($AE$13:$AE$1003)+LEN($AE$13:$AE$1003)=0, \"\", ROW($AE$13:$AE$1003)-MIN(ROW($AE$13:$AE$1003))+1), ROW(708:708))),\"\")","v":"__TBI_16__RC_N"},{"$f":"IF(AF720=\"\",\"\",IF(COUNTIF(CurrentListing,AF720)>1,AJ720,\"\"))","v":""},{"$f":"IF(LEN(AF720)=0,\"\",IF(ISNA(MATCH(AF720,MasterListing,0)),AJ720,\"\"))","v":""},null,"__TBI_16__MKC_N","","TBI16MKCN","__TBI_16__MKC_N",1,"______",null,null,null,null,{"$f":"IF(ISNUMBER(SEARCH($F$6,AP719)),MAX($AO$11:AO718)+1,0)","v":708},0,{"$f":"ROWS($AQ$12:AQ719)","v":708},{"$f":"IFERROR(VLOOKUP(ROWS($AR$12:AR719),$AO$12:$AP$3014,2,0),\"\")","v":0}]
[null,null,null,null,null,null,null,null,null,null,null,null,null,null,null,null,null,null,null,null,null,null,null,null,null,null,{"$f":"IFERROR(INDEX($AE$13:$AE$1003, SMALL(IF(ISBLANK($AE$13:$AE$1003)+ISERROR($AE$13:$AE$1003)+LEN($AE$13:$AE$1003)=0, \"\", ROW($AE$13:$AE$1003)-MIN(ROW($AE$13:$AE$1003))+1), ROW(709:709))),\"\")","v":"__TBI_16__RMA_N"},{"$f":"IF(AF721=\"\",\"\",IF(COUNTIF(CurrentListing,AF721)>1,AJ721,\"\"))","v":""},{"$f":"IF(LEN(AF721)=0,\"\",IF(ISNA(MATCH(AF721,MasterListing,0)),AJ721,\"\"))","v":""},null,"__TBI_16__RC_N","","TBI16RCN","__TBI_16__RC_N",1,"______",null,null,null,null,{"$f":"IF(ISNUMBER(SEARCH($F$6,AP720)),MAX($AO$11:AO719)+1,0)","v":709},0,{"$f":"ROWS($AQ$12:AQ720)","v":709},{"$f":"IFERROR(VLOOKUP(ROWS($AR$12:AR720),$AO$12:$AP$3014,2,0),\"\")","v":0}]
[null,null,null,null,null,null,null,null,null,null,null,null,null,null,null,null,null,null,null,null,null,null,null,null,null,null,{"$f":"IFERROR(INDEX($AE$13:$AE$1003, SMALL(IF(ISBLANK($AE$13:$AE$1003)+ISERROR($AE$13:$AE$1003)+LEN($AE$13:$AE$1003)=0, \"\", ROW($AE$13:$AE$1003)-MIN(ROW($AE$13:$AE$1003))+1), ROW(710:710))),\"\")","v":"__TBI_16__TRAN_N"},{"$f":"IF(AF722=\"\",\"\",IF(COUNTIF(CurrentListing,AF722)>1,AJ722,\"\"))","v":""},{"$f":"IF(LEN(AF722)=0,\"\",IF(ISNA(MATCH(AF722,MasterListing,0)),AJ722,\"\"))","v":""},null,"__TBI_16__RMA_N","","TBI16RMAN","__TBI_16__RMA_N",1,"______",null,null,null,null,{"$f":"IF(ISNUMBER(SEARCH($F$6,AP721)),MAX($AO$11:AO720)+1,0)","v":710},0,{"$f":"ROWS($AQ$12:AQ721)","v":710},{"$f":"IFERROR(VLOOKUP(ROWS($AR$12:AR721),$AO$12:$AP$3014,2,0),\"\")","v":0}]
[null,null,null,null,null,null,null,null,null,null,null,null,null,null,null,null,null,null,null,null,null,null,null,null,null,null,{"$f":"IFERROR(INDEX($AE$13:$AE$1003, SMALL(IF(ISBLANK($AE$13:$AE$1003)+ISERROR($AE$13:$AE$1003)+LEN($AE$13:$AE$1003)=0, \"\", ROW($AE$13:$AE$1003)-MIN(ROW($AE$13:$AE$1003))+1), ROW(711:711))),\"\")","v":"__TBI_17__D_N"},{"$f":"IF(AF723=\"\",\"\",IF(COUNTIF(CurrentListing,AF723)>1,AJ723,\"\"))","v":""},{"$f":"IF(LEN(AF723)=0,\"\",IF(ISNA(MATCH(AF723,MasterListing,0)),AJ723,\"\"))","v":""},null,"__TBI_16__TRAN_N","","TBI16TRANN","__TBI_16__TRAN_N",1,"______",null,null,null,null,{"$f":"IF(ISNUMBER(SEARCH($F$6,AP722)),MAX($AO$11:AO721)+1,0)","v":711},0,{"$f":"ROWS($AQ$12:AQ722)","v":711},{"$f":"IFERROR(VLOOKUP(ROWS($AR$12:AR722),$AO$12:$AP$3014,2,0),\"\")","v":0}]
[null,null,null,null,null,null,null,null,null,null,null,null,null,null,null,null,null,null,null,null,null,null,null,null,null,null,{"$f":"IFERROR(INDEX($AE$13:$AE$1003, SMALL(IF(ISBLANK($AE$13:$AE$1003)+ISERROR($AE$13:$AE$1003)+LEN($AE$13:$AE$1003)=0, \"\", ROW($AE$13:$AE$1003)-MIN(ROW($AE$13:$AE$1003))+1), ROW(712:712))),\"\")","v":"__TBI_17__DROPOUT_N"},{"$f":"IF(AF724=\"\",\"\",IF(COUNTIF(CurrentListing,AF724)>1,AJ724,\"\"))","v":""},{"$f":"IF(LEN(AF724)=0,\"\",IF(ISNA(MATCH(AF724,MasterListing,0)),AJ724,\"\"))","v":""},null,"__TBI_17__D_N","","TBI17DN","__TBI_17__D_N",1,"______",null,null,null,null,{"$f":"IF(ISNUMBER(SEARCH($F$6,AP723)),MAX($AO$11:AO722)+1,0)","v":712},0,{"$f":"ROWS($AQ$12:AQ723)","v":712},{"$f":"IFERROR(VLOOKUP(ROWS($AR$12:AR723),$AO$12:$AP$3014,2,0),\"\")","v":0}]
[null,null,null,null,null,null,null,null,null,null,null,null,null,null,null,null,null,null,null,null,null,null,null,null,null,null,{"$f":"IFERROR(INDEX($AE$13:$AE$1003, SMALL(IF(ISBLANK($AE$13:$AE$1003)+ISERROR($AE$13:$AE$1003)+LEN($AE$13:$AE$1003)=0, \"\", ROW($AE$13:$AE$1003)-MIN(ROW($AE$13:$AE$1003))+1), ROW(713:713))),\"\")","v":"__TBI_17__GHS_N"},{"$f":"IF(AF725=\"\",\"\",IF(COUNTIF(CurrentListing,AF725)>1,AJ725,\"\"))","v":""},{"$f":"IF(LEN(AF725)=0,\"\",IF(ISNA(MATCH(AF725,MasterListing,0)),AJ725,\"\"))","v":""},null,"__TBI_17__DROPOUT_N","","TBI17DROPOUTN","__TBI_17__DROPOUT_N",1,"______",null,null,null,null,{"$f":"IF(ISNUMBER(SEARCH($F$6,AP724)),MAX($AO$11:AO723)+1,0)","v":713},0,{"$f":"ROWS($AQ$12:AQ724)","v":713},{"$f":"IFERROR(VLOOKUP(ROWS($AR$12:AR724),$AO$12:$AP$3014,2,0),\"\")","v":0}]
[null,null,null,null,null,null,null,null,null,null,null,null,null,null,null,null,null,null,null,null,null,null,null,null,null,null,{"$f":"IFERROR(INDEX($AE$13:$AE$1003, SMALL(IF(ISBLANK($AE$13:$AE$1003)+ISERROR($AE$13:$AE$1003)+LEN($AE$13:$AE$1003)=0, \"\", ROW($AE$13:$AE$1003)-MIN(ROW($AE$13:$AE$1003))+1), ROW(714:714))),\"\")","v":"__TBI_17__GRADALTDPL_N"},{"$f":"IF(AF726=\"\",\"\",IF(COUNTIF(CurrentListing,AF726)>1,AJ726,\"\"))","v":""},{"$f":"IF(LEN(AF726)=0,\"\",IF(ISNA(MATCH(AF726,MasterListing,0)),AJ726,\"\"))","v":""},null,"__TBI_17__GHS_N","","TBI17GHSN","__TBI_17__GHS_N",1,"______",null,null,null,null,{"$f":"IF(ISNUMBER(SEARCH($F$6,AP725)),MAX($AO$11:AO724)+1,0)","v":714},0,{"$f":"ROWS($AQ$12:AQ725)","v":714},{"$f":"IFERROR(VLOOKUP(ROWS($AR$12:AR725),$AO$12:$AP$3014,2,0),\"\")","v":0}]
[null,null,null,null,null,null,null,null,null,null,null,null,null,null,null,null,null,null,null,null,null,null,null,null,null,null,{"$f":"IFERROR(INDEX($AE$13:$AE$1003, SMALL(IF(ISBLANK($AE$13:$AE$1003)+ISERROR($AE$13:$AE$1003)+LEN($AE$13:$AE$1003)=0, \"\", ROW($AE$13:$AE$1003)-MIN(ROW($AE$13:$AE$1003))+1), ROW(715:715))),\"\")","v":"__TBI_17__MKC_N"},{"$f":"IF(AF727=\"\",\"\",IF(COUNTIF(CurrentListing,AF727)>1,AJ727,\"\"))","v":""},{"$f":"IF(LEN(AF727)=0,\"\",IF(ISNA(MATCH(AF727,MasterListing,0)),AJ727,\"\"))","v":""},null,"__TBI_17__GRADALTDPL_N","","TBI17GRADALTDPLN","__TBI_17__GRADALTDPL_N",1,"______",null,null,null,null,{"$f":"IF(ISNUMBER(SEARCH($F$6,AP726)),MAX($AO$11:AO725)+1,0)","v":715},0,{"$f":"ROWS($AQ$12:AQ726)","v":715},{"$f":"IFERROR(VLOOKUP(ROWS($AR$12:AR726),$AO$12:$AP$3014,2,0),\"\")","v":0}]
[null,null,null,null,null,null,null,null,null,null,null,null,null,null,null,null,null,null,null,null,null,null,null,null,null,null,{"$f":"IFERROR(INDEX($AE$13:$AE$1003, SMALL(IF(ISBLANK($AE$13:$AE$1003)+ISERROR($AE$13:$AE$1003)+LEN($AE$13:$AE$1003)=0, \"\", ROW($AE$13:$AE$1003)-MIN(ROW($AE$13:$AE$1003))+1), ROW(716:716))),\"\")","v":"__TBI_17__RC_N"},{"$f":"IF(AF728=\"\",\"\",IF(COUNTIF(CurrentListing,AF728)>1,AJ728,\"\"))","v":""},{"$f":"IF(LEN(AF728)=0,\"\",IF(ISNA(MATCH(AF728,MasterListing,0)),AJ728,\"\"))","v":""},null,"__TBI_17__MKC_N","","TBI17MKCN","__TBI_17__MKC_N",1,"______",null,null,null,null,{"$f":"IF(ISNUMBER(SEARCH($F$6,AP727)),MAX($AO$11:AO726)+1,0)","v":716},0,{"$f":"ROWS($AQ$12:AQ727)","v":716},{"$f":"IFERROR(VLOOKUP(ROWS($AR$12:AR727),$AO$12:$AP$3014,2,0),\"\")","v":0}]
[null,null,null,null,null,null,null,null,null,null,null,null,null,null,null,null,null,null,null,null,null,null,null,null,null,null,{"$f":"IFERROR(INDEX($AE$13:$AE$1003, SMALL(IF(ISBLANK($AE$13:$AE$1003)+ISERROR($AE$13:$AE$1003)+LEN($AE$13:$AE$1003)=0, \"\", ROW($AE$13:$AE$1003)-MIN(ROW($AE$13:$AE$1003))+1), ROW(717:717))),\"\")","v":"__TBI_17__RMA_N"},{"$f":"IF(AF729=\"\",\"\",IF(COUNTIF(CurrentListing,AF729)>1,AJ729,\"\"))","v":""},{"$f":"IF(LEN(AF729)=0,\"\",IF(ISNA(MATCH(AF729,MasterListing,0)),AJ729,\"\"))","v":""},null,"__TBI_17__RC_N","","TBI17RCN","__TBI_17__RC_N",1,"______",null,null,null,null,{"$f":"IF(ISNUMBER(SEARCH($F$6,AP728)),MAX($AO$11:AO727)+1,0)","v":717},0,{"$f":"ROWS($AQ$12:AQ728)","v":717},{"$f":"IFERROR(VLOOKUP(ROWS($AR$12:AR728),$AO$12:$AP$3014,2,0),\"\")","v":0}]
[null,null,null,null,null,null,null,null,null,null,null,null,null,null,null,null,null,null,null,null,null,null,null,null,null,null,{"$f":"IFERROR(INDEX($AE$13:$AE$1003, SMALL(IF(ISBLANK($AE$13:$AE$1003)+ISERROR($AE$13:$AE$1003)+LEN($AE$13:$AE$1003)=0, \"\", ROW($AE$13:$AE$1003)-MIN(ROW($AE$13:$AE$1003))+1), ROW(718:718))),\"\")","v":"__TBI_17__TRAN_N"},{"$f":"IF(AF730=\"\",\"\",IF(COUNTIF(CurrentListing,AF730)>1,AJ730,\"\"))","v":""},{"$f":"IF(LEN(AF730)=0,\"\",IF(ISNA(MATCH(AF730,MasterListing,0)),AJ730,\"\"))","v":""},null,"__TBI_17__RMA_N","","TBI17RMAN","__TBI_17__RMA_N",1,"______",null,null,null,null,{"$f":"IF(ISNUMBER(SEARCH($F$6,AP729)),MAX($AO$11:AO728)+1,0)","v":718},0,{"$f":"ROWS($AQ$12:AQ729)","v":718},{"$f":"IFERROR(VLOOKUP(ROWS($AR$12:AR729),$AO$12:$AP$3014,2,0),\"\")","v":0}]
[null,null,null,null,null,null,null,null,null,null,null,null,null,null,null,null,null,null,null,null,null,null,null,null,null,null,{"$f":"IFERROR(INDEX($AE$13:$AE$1003, SMALL(IF(ISBLANK($AE$13:$AE$1003)+ISERROR($AE$13:$AE$1003)+LEN($AE$13:$AE$1003)=0, \"\", ROW($AE$13:$AE$1003)-MIN(ROW($AE$13:$AE$1003))+1), ROW(719:719))),\"\")","v":"__TBI_18__D_N"},{"$f":"IF(AF731=\"\",\"\",IF(COUNTIF(CurrentListing,AF731)>1,AJ731,\"\"))","v":""},{"$f":"IF(LEN(AF731)=0,\"\",IF(ISNA(MATCH(AF731,MasterListing,0)),AJ731,\"\"))","v":""},null,"__TBI_17__TRAN_N","","TBI17TRANN","__TBI_17__TRAN_N",1,"______",null,null,null,null,{"$f":"IF(ISNUMBER(SEARCH($F$6,AP730)),MAX($AO$11:AO729)+1,0)","v":719},0,{"$f":"ROWS($AQ$12:AQ730)","v":719},{"$f":"IFERROR(VLOOKUP(ROWS($AR$12:AR730),$AO$12:$AP$3014,2,0),\"\")","v":0}]
[null,null,null,null,null,null,null,null,null,null,null,null,null,null,null,null,null,null,null,null,null,null,null,null,null,null,{"$f":"IFERROR(INDEX($AE$13:$AE$1003, SMALL(IF(ISBLANK($AE$13:$AE$1003)+ISERROR($AE$13:$AE$1003)+LEN($AE$13:$AE$1003)=0, \"\", ROW($AE$13:$AE$1003)-MIN(ROW($AE$13:$AE$1003))+1), ROW(720:720))),\"\")","v":"__TBI_18__DROPOUT_N"},{"$f":"IF(AF732=\"\",\"\",IF(COUNTIF(CurrentListing,AF732)>1,AJ732,\"\"))","v":""},{"$f":"IF(LEN(AF732)=0,\"\",IF(ISNA(MATCH(AF732,MasterListing,0)),AJ732,\"\"))","v":""},null,"__TBI_18__D_N","","TBI18DN","__TBI_18__D_N",1,"______",null,null,null,null,{"$f":"IF(ISNUMBER(SEARCH($F$6,AP731)),MAX($AO$11:AO730)+1,0)","v":720},0,{"$f":"ROWS($AQ$12:AQ731)","v":720},{"$f":"IFERROR(VLOOKUP(ROWS($AR$12:AR731),$AO$12:$AP$3014,2,0),\"\")","v":0}]
[null,null,null,null,null,null,null,null,null,null,null,null,null,null,null,null,null,null,null,null,null,null,null,null,null,null,{"$f":"IFERROR(INDEX($AE$13:$AE$1003, SMALL(IF(ISBLANK($AE$13:$AE$1003)+ISERROR($AE$13:$AE$1003)+LEN($AE$13:$AE$1003)=0, \"\", ROW($AE$13:$AE$1003)-MIN(ROW($AE$13:$AE$1003))+1), ROW(721:721))),\"\")","v":"__TBI_18__GHS_N"},{"$f":"IF(AF733=\"\",\"\",IF(COUNTIF(CurrentListing,AF733)>1,AJ733,\"\"))","v":""},{"$f":"IF(LEN(AF733)=0,\"\",IF(ISNA(MATCH(AF733,MasterListing,0)),AJ733,\"\"))","v":""},null,"__TBI_18__DROPOUT_N","","TBI18DROPOUTN","__TBI_18__DROPOUT_N",1,"______",null,null,null,null,{"$f":"IF(ISNUMBER(SEARCH($F$6,AP732)),MAX($AO$11:AO731)+1,0)","v":721},0,{"$f":"ROWS($AQ$12:AQ732)","v":721},{"$f":"IFERROR(VLOOKUP(ROWS($AR$12:AR732),$AO$12:$AP$3014,2,0),\"\")","v":0}]
[null,null,null,null,null,null,null,null,null,null,null,null,null,null,null,null,null,null,null,null,null,null,null,null,null,null,{"$f":"IFERROR(INDEX($AE$13:$AE$1003, SMALL(IF(ISBLANK($AE$13:$AE$1003)+ISERROR($AE$13:$AE$1003)+LEN($AE$13:$AE$1003)=0, \"\", ROW($AE$13:$AE$1003)-MIN(ROW($AE$13:$AE$1003))+1), ROW(722:722))),\"\")","v":"__TBI_18__GRADALTDPL_N"},{"$f":"IF(AF734=\"\",\"\",IF(COUNTIF(CurrentListing,AF734)>1,AJ734,\"\"))","v":""},{"$f":"IF(LEN(AF734)=0,\"\",IF(ISNA(MATCH(AF734,MasterListing,0)),AJ734,\"\"))","v":""},null,"__TBI_18__GHS_N","","TBI18GHSN","__TBI_18__GHS_N",1,"______",null,null,null,null,{"$f":"IF(ISNUMBER(SEARCH($F$6,AP733)),MAX($AO$11:AO732)+1,0)","v":722},0,{"$f":"ROWS($AQ$12:AQ733)","v":722},{"$f":"IFERROR(VLOOKUP(ROWS($AR$12:AR733),$AO$12:$AP$3014,2,0),\"\")","v":0}]
[null,null,null,null,null,null,null,null,null,null,null,null,null,null,null,null,null,null,null,null,null,null,null,null,null,null,{"$f":"IFERROR(INDEX($AE$13:$AE$1003, SMALL(IF(ISBLANK($AE$13:$AE$1003)+ISERROR($AE$13:$AE$1003)+LEN($AE$13:$AE$1003)=0, \"\", ROW($AE$13:$AE$1003)-MIN(ROW($AE$13:$AE$1003))+1), ROW(723:723))),\"\")","v":"__TBI_18__MKC_N"},{"$f":"IF(AF735=\"\",\"\",IF(COUNTIF(CurrentListing,AF735)>1,AJ735,\"\"))","v":""},{"$f":"IF(LEN(AF735)=0,\"\",IF(ISNA(MATCH(AF735,MasterListing,0)),AJ735,\"\"))","v":""},null,"__TBI_18__GRADALTDPL_N","","TBI18GRADALTDPLN","__TBI_18__GRADALTDPL_N",1,"______",null,null,null,null,{"$f":"IF(ISNUMBER(SEARCH($F$6,AP734)),MAX($AO$11:AO733)+1,0)","v":723},0,{"$f":"ROWS($AQ$12:AQ734)","v":723},{"$f":"IFERROR(VLOOKUP(ROWS($AR$12:AR734),$AO$12:$AP$3014,2,0),\"\")","v":0}]
[null,null,null,null,null,null,null,null,null,null,null,null,null,null,null,null,null,null,null,null,null,null,null,null,null,null,{"$f":"IFERROR(INDEX($AE$13:$AE$1003, SMALL(IF(ISBLANK($AE$13:$AE$1003)+ISERROR($AE$13:$AE$1003)+LEN($AE$13:$AE$1003)=0, \"\", ROW($AE$13:$AE$1003)-MIN(ROW($AE$13:$AE$1003))+1), ROW(724:724))),\"\")","v":"__TBI_18__RC_N"},{"$f":"IF(AF736=\"\",\"\",IF(COUNTIF(CurrentListing,AF736)>1,AJ736,\"\"))","v":""},{"$f":"IF(LEN(AF736)=0,\"\",IF(ISNA(MATCH(AF736,MasterListing,0)),AJ736,\"\"))","v":""},null,"__TBI_18__MKC_N","","TBI18MKCN","__TBI_18__MKC_N",1,"______",null,null,null,null,{"$f":"IF(ISNUMBER(SEARCH($F$6,AP735)),MAX($AO$11:AO734)+1,0)","v":724},0,{"$f":"ROWS($AQ$12:AQ735)","v":724},{"$f":"IFERROR(VLOOKUP(ROWS($AR$12:AR735),$AO$12:$AP$3014,2,0),\"\")","v":0}]
[null,null,null,null,null,null,null,null,null,null,null,null,null,null,null,null,null,null,null,null,null,null,null,null,null,null,{"$f":"IFERROR(INDEX($AE$13:$AE$1003, SMALL(IF(ISBLANK($AE$13:$AE$1003)+ISERROR($AE$13:$AE$1003)+LEN($AE$13:$AE$1003)=0, \"\", ROW($AE$13:$AE$1003)-MIN(ROW($AE$13:$AE$1003))+1), ROW(725:725))),\"\")","v":"__TBI_18__RMA_N"},{"$f":"IF(AF737=\"\",\"\",IF(COUNTIF(CurrentListing,AF737)>1,AJ737,\"\"))","v":""},{"$f":"IF(LEN(AF737)=0,\"\",IF(ISNA(MATCH(AF737,MasterListing,0)),AJ737,\"\"))","v":""},null,"__TBI_18__RC_N","","TBI18RCN","__TBI_18__RC_N",1,"______",null,null,null,null,{"$f":"IF(ISNUMBER(SEARCH($F$6,AP736)),MAX($AO$11:AO735)+1,0)","v":725},0,{"$f":"ROWS($AQ$12:AQ736)","v":725},{"$f":"IFERROR(VLOOKUP(ROWS($AR$12:AR736),$AO$12:$AP$3014,2,0),\"\")","v":0}]
[null,null,null,null,null,null,null,null,null,null,null,null,null,null,null,null,null,null,null,null,null,null,null,null,null,null,{"$f":"IFERROR(INDEX($AE$13:$AE$1003, SMALL(IF(ISBLANK($AE$13:$AE$1003)+ISERROR($AE$13:$AE$1003)+LEN($AE$13:$AE$1003)=0, \"\", ROW($AE$13:$AE$1003)-MIN(ROW($AE$13:$AE$1003))+1), ROW(726:726))),\"\")","v":"__TBI_18__TRAN_N"},{"$f":"IF(AF738=\"\",\"\",IF(COUNTIF(CurrentListing,AF738)>1,AJ738,\"\"))","v":""},{"$f":"IF(LEN(AF738)=0,\"\",IF(ISNA(MATCH(AF738,MasterListing,0)),AJ738,\"\"))","v":""},null,"__TBI_18__RMA_N","","TBI18RMAN","__TBI_18__RMA_N",1,"______",null,null,null,null,{"$f":"IF(ISNUMBER(SEARCH($F$6,AP737)),MAX($AO$11:AO736)+1,0)","v":726},0,{"$f":"ROWS($AQ$12:AQ737)","v":726},{"$f":"IFERROR(VLOOKUP(ROWS($AR$12:AR737),$AO$12:$AP$3014,2,0),\"\")","v":0}]
[null,null,null,null,null,null,null,null,null,null,null,null,null,null,null,null,null,null,null,null,null,null,null,null,null,null,{"$f":"IFERROR(INDEX($AE$13:$AE$1003, SMALL(IF(ISBLANK($AE$13:$AE$1003)+ISERROR($AE$13:$AE$1003)+LEN($AE$13:$AE$1003)=0, \"\", ROW($AE$13:$AE$1003)-MIN(ROW($AE$13:$AE$1003))+1), ROW(727:727))),\"\")","v":"__TBI_19__D_N"},{"$f":"IF(AF739=\"\",\"\",IF(COUNTIF(CurrentListing,AF739)>1,AJ739,\"\"))","v":""},{"$f":"IF(LEN(AF739)=0,\"\",IF(ISNA(MATCH(AF739,MasterListing,0)),AJ739,\"\"))","v":""},null,"__TBI_18__TRAN_N","","TBI18TRANN","__TBI_18__TRAN_N",1,"______",null,null,null,null,{"$f":"IF(ISNUMBER(SEARCH($F$6,AP738)),MAX($AO$11:AO737)+1,0)","v":727},0,{"$f":"ROWS($AQ$12:AQ738)","v":727},{"$f":"IFERROR(VLOOKUP(ROWS($AR$12:AR738),$AO$12:$AP$3014,2,0),\"\")","v":0}]
[null,null,null,null,null,null,null,null,null,null,null,null,null,null,null,null,null,null,null,null,null,null,null,null,null,null,{"$f":"IFERROR(INDEX($AE$13:$AE$1003, SMALL(IF(ISBLANK($AE$13:$AE$1003)+ISERROR($AE$13:$AE$1003)+LEN($AE$13:$AE$1003)=0, \"\", ROW($AE$13:$AE$1003)-MIN(ROW($AE$13:$AE$1003))+1), ROW(728:728))),\"\")","v":"__TBI_19__DROPOUT_N"},{"$f":"IF(AF740=\"\",\"\",IF(COUNTIF(CurrentListing,AF740)>1,AJ740,\"\"))","v":""},{"$f":"IF(LEN(AF740)=0,\"\",IF(ISNA(MATCH(AF740,MasterListing,0)),AJ740,\"\"))","v":""},null,"__TBI_19__D_N","","TBI19DN","__TBI_19__D_N",1,"______",null,null,null,null,{"$f":"IF(ISNUMBER(SEARCH($F$6,AP739)),MAX($AO$11:AO738)+1,0)","v":728},0,{"$f":"ROWS($AQ$12:AQ739)","v":728},{"$f":"IFERROR(VLOOKUP(ROWS($AR$12:AR739),$AO$12:$AP$3014,2,0),\"\")","v":0}]
[null,null,null,null,null,null,null,null,null,null,null,null,null,null,null,null,null,null,null,null,null,null,null,null,null,null,{"$f":"IFERROR(INDEX($AE$13:$AE$1003, SMALL(IF(ISBLANK($AE$13:$AE$1003)+ISERROR($AE$13:$AE$1003)+LEN($AE$13:$AE$1003)=0, \"\", ROW($AE$13:$AE$1003)-MIN(ROW($AE$13:$AE$1003))+1), ROW(729:729))),\"\")","v":"__TBI_19__GHS_N"},{"$f":"IF(AF741=\"\",\"\",IF(COUNTIF(CurrentListing,AF741)>1,AJ741,\"\"))","v":""},{"$f":"IF(LEN(AF741)=0,\"\",IF(ISNA(MATCH(AF741,MasterListing,0)),AJ741,\"\"))","v":""},null,"__TBI_19__DROPOUT_N","","TBI19DROPOUTN","__TBI_19__DROPOUT_N",1,"______",null,null,null,null,{"$f":"IF(ISNUMBER(SEARCH($F$6,AP740)),MAX($AO$11:AO739)+1,0)","v":729},0,{"$f":"ROWS($AQ$12:AQ740)","v":729},{"$f":"IFERROR(VLOOKUP(ROWS($AR$12:AR740),$AO$12:$AP$3014,2,0),\"\")","v":0}]
[null,null,null,null,null,null,null,null,null,null,null,null,null,null,null,null,null,null,null,null,null,null,null,null,null,null,{"$f":"IFERROR(INDEX($AE$13:$AE$1003, SMALL(IF(ISBLANK($AE$13:$AE$1003)+ISERROR($AE$13:$AE$1003)+LEN($AE$13:$AE$1003)=0, \"\", ROW($AE$13:$AE$1003)-MIN(ROW($AE$13:$AE$1003))+1), ROW(730:730))),\"\")","v":"__TBI_19__GRADALTDPL_N"},{"$f":"IF(AF742=\"\",\"\",IF(COUNTIF(CurrentListing,AF742)>1,AJ742,\"\"))","v":""},{"$f":"IF(LEN(AF742)=0,\"\",IF(ISNA(MATCH(AF742,MasterListing,0)),AJ742,\"\"))","v":""},null,"__TBI_19__GHS_N","","TBI19GHSN","__TBI_19__GHS_N",1,"______",null,null,null,null,{"$f":"IF(ISNUMBER(SEARCH($F$6,AP741)),MAX($AO$11:AO740)+1,0)","v":730},0,{"$f":"ROWS($AQ$12:AQ741)","v":730},{"$f":"IFERROR(VLOOKUP(ROWS($AR$12:AR741),$AO$12:$AP$3014,2,0),\"\")","v":0}]
[null,null,null,null,null,null,null,null,null,null,null,null,null,null,null,null,null,null,null,null,null,null,null,null,null,null,{"$f":"IFERROR(INDEX($AE$13:$AE$1003, SMALL(IF(ISBLANK($AE$13:$AE$1003)+ISERROR($AE$13:$AE$1003)+LEN($AE$13:$AE$1003)=0, \"\", ROW($AE$13:$AE$1003)-MIN(ROW($AE$13:$AE$1003))+1), ROW(731:731))),\"\")","v":"__TBI_19__MKC_N"},{"$f":"IF(AF743=\"\",\"\",IF(COUNTIF(CurrentListing,AF743)>1,AJ743,\"\"))","v":""},{"$f":"IF(LEN(AF743)=0,\"\",IF(ISNA(MATCH(AF743,MasterListing,0)),AJ743,\"\"))","v":""},null,"__TBI_19__GRADALTDPL_N","","TBI19GRADALTDPLN","__TBI_19__GRADALTDPL_N",1,"______",null,null,null,null,{"$f":"IF(ISNUMBER(SEARCH($F$6,AP742)),MAX($AO$11:AO741)+1,0)","v":731},0,{"$f":"ROWS($AQ$12:AQ742)","v":731},{"$f":"IFERROR(VLOOKUP(ROWS($AR$12:AR742),$AO$12:$AP$3014,2,0),\"\")","v":0}]
[null,null,null,null,null,null,null,null,null,null,null,null,null,null,null,null,null,null,null,null,null,null,null,null,null,null,{"$f":"IFERROR(INDEX($AE$13:$AE$1003, SMALL(IF(ISBLANK($AE$13:$AE$1003)+ISERROR($AE$13:$AE$1003)+LEN($AE$13:$AE$1003)=0, \"\", ROW($AE$13:$AE$1003)-MIN(ROW($AE$13:$AE$1003))+1), ROW(732:732))),\"\")","v":"__TBI_19__RC_N"},{"$f":"IF(AF744=\"\",\"\",IF(COUNTIF(CurrentListing,AF744)>1,AJ744,\"\"))","v":""},{"$f":"IF(LEN(AF744)=0,\"\",IF(ISNA(MATCH(AF744,MasterListing,0)),AJ744,\"\"))","v":""},null,"__TBI_19__MKC_N","","TBI19MKCN","__TBI_19__MKC_N",1,"______",null,null,null,null,{"$f":"IF(ISNUMBER(SEARCH($F$6,AP743)),MAX($AO$11:AO742)+1,0)","v":732},0,{"$f":"ROWS($AQ$12:AQ743)","v":732},{"$f":"IFERROR(VLOOKUP(ROWS($AR$12:AR743),$AO$12:$AP$3014,2,0),\"\")","v":0}]
[null,null,null,null,null,null,null,null,null,null,null,null,null,null,null,null,null,null,null,null,null,null,null,null,null,null,{"$f":"IFERROR(INDEX($AE$13:$AE$1003, SMALL(IF(ISBLANK($AE$13:$AE$1003)+ISERROR($AE$13:$AE$1003)+LEN($AE$13:$AE$1003)=0, \"\", ROW($AE$13:$AE$1003)-MIN(ROW($AE$13:$AE$1003))+1), ROW(733:733))),\"\")","v":"__TBI_19__RMA_N"},{"$f":"IF(AF745=\"\",\"\",IF(COUNTIF(CurrentListing,AF745)>1,AJ745,\"\"))","v":""},{"$f":"IF(LEN(AF745)=0,\"\",IF(ISNA(MATCH(AF745,MasterListing,0)),AJ745,\"\"))","v":""},null,"__TBI_19__RC_N","","TBI19RCN","__TBI_19__RC_N",1,"______",null,null,null,null,{"$f":"IF(ISNUMBER(SEARCH($F$6,AP744)),MAX($AO$11:AO743)+1,0)","v":733},0,{"$f":"ROWS($AQ$12:AQ744)","v":733},{"$f":"IFERROR(VLOOKUP(ROWS($AR$12:AR744),$AO$12:$AP$3014,2,0),\"\")","v":0}]
[null,null,null,null,null,null,null,null,null,null,null,null,null,null,null,null,null,null,null,null,null,null,null,null,null,null,{"$f":"IFERROR(INDEX($AE$13:$AE$1003, SMALL(IF(ISBLANK($AE$13:$AE$1003)+ISERROR($AE$13:$AE$1003)+LEN($AE$13:$AE$1003)=0, \"\", ROW($AE$13:$AE$1003)-MIN(ROW($AE$13:$AE$1003))+1), ROW(734:734))),\"\")","v":"__TBI_19__TRAN_N"},{"$f":"IF(AF746=\"\",\"\",IF(COUNTIF(CurrentListing,AF746)>1,AJ746,\"\"))","v":""},{"$f":"IF(LEN(AF746)=0,\"\",IF(ISNA(MATCH(AF746,MasterListing,0)),AJ746,\"\"))","v":""},null,"__TBI_19__RMA_N","","TBI19RMAN","__TBI_19__RMA_N",1,"______",null,null,null,null,{"$f":"IF(ISNUMBER(SEARCH($F$6,AP745)),MAX($AO$11:AO744)+1,0)","v":734},0,{"$f":"ROWS($AQ$12:AQ745)","v":734},{"$f":"IFERROR(VLOOKUP(ROWS($AR$12:AR745),$AO$12:$AP$3014,2,0),\"\")","v":0}]
[null,null,null,null,null,null,null,null,null,null,null,null,null,null,null,null,null,null,null,null,null,null,null,null,null,null,{"$f":"IFERROR(INDEX($AE$13:$AE$1003, SMALL(IF(ISBLANK($AE$13:$AE$1003)+ISERROR($AE$13:$AE$1003)+LEN($AE$13:$AE$1003)=0, \"\", ROW($AE$13:$AE$1003)-MIN(ROW($AE$13:$AE$1003))+1), ROW(735:735))),\"\")","v":"__TBI_20__D_N"},{"$f":"IF(AF747=\"\",\"\",IF(COUNTIF(CurrentListing,AF747)>1,AJ747,\"\"))","v":""},{"$f":"IF(LEN(AF747)=0,\"\",IF(ISNA(MATCH(AF747,MasterListing,0)),AJ747,\"\"))","v":""},null,"__TBI_19__TRAN_N","","TBI19TRANN","__TBI_19__TRAN_N",1,"______",null,null,null,null,{"$f":"IF(ISNUMBER(SEARCH($F$6,AP746)),MAX($AO$11:AO745)+1,0)","v":735},0,{"$f":"ROWS($AQ$12:AQ746)","v":735},{"$f":"IFERROR(VLOOKUP(ROWS($AR$12:AR746),$AO$12:$AP$3014,2,0),\"\")","v":0}]
[null,null,null,null,null,null,null,null,null,null,null,null,null,null,null,null,null,null,null,null,null,null,null,null,null,null,{"$f":"IFERROR(INDEX($AE$13:$AE$1003, SMALL(IF(ISBLANK($AE$13:$AE$1003)+ISERROR($AE$13:$AE$1003)+LEN($AE$13:$AE$1003)=0, \"\", ROW($AE$13:$AE$1003)-MIN(ROW($AE$13:$AE$1003))+1), ROW(736:736))),\"\")","v":"__TBI_20__DROPOUT_N"},{"$f":"IF(AF748=\"\",\"\",IF(COUNTIF(CurrentListing,AF748)>1,AJ748,\"\"))","v":""},{"$f":"IF(LEN(AF748)=0,\"\",IF(ISNA(MATCH(AF748,MasterListing,0)),AJ748,\"\"))","v":""},null,"__TBI_20__D_N","","TBI20DN","__TBI_20__D_N",1,"______",null,null,null,null,{"$f":"IF(ISNUMBER(SEARCH($F$6,AP747)),MAX($AO$11:AO746)+1,0)","v":736},0,{"$f":"ROWS($AQ$12:AQ747)","v":736},{"$f":"IFERROR(VLOOKUP(ROWS($AR$12:AR747),$AO$12:$AP$3014,2,0),\"\")","v":0}]
[null,null,null,null,null,null,null,null,null,null,null,null,null,null,null,null,null,null,null,null,null,null,null,null,null,null,{"$f":"IFERROR(INDEX($AE$13:$AE$1003, SMALL(IF(ISBLANK($AE$13:$AE$1003)+ISERROR($AE$13:$AE$1003)+LEN($AE$13:$AE$1003)=0, \"\", ROW($AE$13:$AE$1003)-MIN(ROW($AE$13:$AE$1003))+1), ROW(737:737))),\"\")","v":"__TBI_20__GHS_N"},{"$f":"IF(AF749=\"\",\"\",IF(COUNTIF(CurrentListing,AF749)>1,AJ749,\"\"))","v":""},{"$f":"IF(LEN(AF749)=0,\"\",IF(ISNA(MATCH(AF749,MasterListing,0)),AJ749,\"\"))","v":""},null,"__TBI_20__DROPOUT_N","","TBI20DROPOUTN","__TBI_20__DROPOUT_N",1,"______",null,null,null,null,{"$f":"IF(ISNUMBER(SEARCH($F$6,AP748)),MAX($AO$11:AO747)+1,0)","v":737},0,{"$f":"ROWS($AQ$12:AQ748)","v":737},{"$f":"IFERROR(VLOOKUP(ROWS($AR$12:AR748),$AO$12:$AP$3014,2,0),\"\")","v":0}]
[null,null,null,null,null,null,null,null,null,null,null,null,null,null,null,null,null,null,null,null,null,null,null,null,null,null,{"$f":"IFERROR(INDEX($AE$13:$AE$1003, SMALL(IF(ISBLANK($AE$13:$AE$1003)+ISERROR($AE$13:$AE$1003)+LEN($AE$13:$AE$1003)=0, \"\", ROW($AE$13:$AE$1003)-MIN(ROW($AE$13:$AE$1003))+1), ROW(738:738))),\"\")","v":"__TBI_20__GRADALTDPL_N"},{"$f":"IF(AF750=\"\",\"\",IF(COUNTIF(CurrentListing,AF750)>1,AJ750,\"\"))","v":""},{"$f":"IF(LEN(AF750)=0,\"\",IF(ISNA(MATCH(AF750,MasterListing,0)),AJ750,\"\"))","v":""},null,"__TBI_20__GHS_N","","TBI20GHSN","__TBI_20__GHS_N",1,"______",null,null,null,null,{"$f":"IF(ISNUMBER(SEARCH($F$6,AP749)),MAX($AO$11:AO748)+1,0)","v":738},0,{"$f":"ROWS($AQ$12:AQ749)","v":738},{"$f":"IFERROR(VLOOKUP(ROWS($AR$12:AR749),$AO$12:$AP$3014,2,0),\"\")","v":0}]
[null,null,null,null,null,null,null,null,null,null,null,null,null,null,null,null,null,null,null,null,null,null,null,null,null,null,{"$f":"IFERROR(INDEX($AE$13:$AE$1003, SMALL(IF(ISBLANK($AE$13:$AE$1003)+ISERROR($AE$13:$AE$1003)+LEN($AE$13:$AE$1003)=0, \"\", ROW($AE$13:$AE$1003)-MIN(ROW($AE$13:$AE$1003))+1), ROW(739:739))),\"\")","v":"__TBI_20__MKC_N"},{"$f":"IF(AF751=\"\",\"\",IF(COUNTIF(CurrentListing,AF751)>1,AJ751,\"\"))","v":""},{"$f":"IF(LEN(AF751)=0,\"\",IF(ISNA(MATCH(AF751,MasterListing,0)),AJ751,\"\"))","v":""},null,"__TBI_20__GRADALTDPL_N","","TBI20GRADALTDPLN","__TBI_20__GRADALTDPL_N",1,"______",null,null,null,null,{"$f":"IF(ISNUMBER(SEARCH($F$6,AP750)),MAX($AO$11:AO749)+1,0)","v":739},0,{"$f":"ROWS($AQ$12:AQ750)","v":739},{"$f":"IFERROR(VLOOKUP(ROWS($AR$12:AR750),$AO$12:$AP$3014,2,0),\"\")","v":0}]
[null,null,null,null,null,null,null,null,null,null,null,null,null,null,null,null,null,null,null,null,null,null,null,null,null,null,{"$f":"IFERROR(INDEX($AE$13:$AE$1003, SMALL(IF(ISBLANK($AE$13:$AE$1003)+ISERROR($AE$13:$AE$1003)+LEN($AE$13:$AE$1003)=0, \"\", ROW($AE$13:$AE$1003)-MIN(ROW($AE$13:$AE$1003))+1), ROW(740:740))),\"\")","v":"__TBI_20__RC_N"},{"$f":"IF(AF752=\"\",\"\",IF(COUNTIF(CurrentListing,AF752)>1,AJ752,\"\"))","v":""},{"$f":"IF(LEN(AF752)=0,\"\",IF(ISNA(MATCH(AF752,MasterListing,0)),AJ752,\"\"))","v":""},null,"__TBI_20__MKC_N","","TBI20MKCN","__TBI_20__MKC_N",1,"______",null,null,null,null,{"$f":"IF(ISNUMBER(SEARCH($F$6,AP751)),MAX($AO$11:AO750)+1,0)","v":740},0,{"$f":"ROWS($AQ$12:AQ751)","v":740},{"$f":"IFERROR(VLOOKUP(ROWS($AR$12:AR751),$AO$12:$AP$3014,2,0),\"\")","v":0}]
[null,null,null,null,null,null,null,null,null,null,null,null,null,null,null,null,null,null,null,null,null,null,null,null,null,null,{"$f":"IFERROR(INDEX($AE$13:$AE$1003, SMALL(IF(ISBLANK($AE$13:$AE$1003)+ISERROR($AE$13:$AE$1003)+LEN($AE$13:$AE$1003)=0, \"\", ROW($AE$13:$AE$1003)-MIN(ROW($AE$13:$AE$1003))+1), ROW(741:741))),\"\")","v":"__TBI_20__RMA_N"},{"$f":"IF(AF753=\"\",\"\",IF(COUNTIF(CurrentListing,AF753)>1,AJ753,\"\"))","v":""},{"$f":"IF(LEN(AF753)=0,\"\",IF(ISNA(MATCH(AF753,MasterListing,0)),AJ753,\"\"))","v":""},null,"__TBI_20__RC_N","","TBI20RCN","__TBI_20__RC_N",1,"______",null,null,null,null,{"$f":"IF(ISNUMBER(SEARCH($F$6,AP752)),MAX($AO$11:AO751)+1,0)","v":741},0,{"$f":"ROWS($AQ$12:AQ752)","v":741},{"$f":"IFERROR(VLOOKUP(ROWS($AR$12:AR752),$AO$12:$AP$3014,2,0),\"\")","v":0}]
[null,null,null,null,null,null,null,null,null,null,null,null,null,null,null,null,null,null,null,null,null,null,null,null,null,null,{"$f":"IFERROR(INDEX($AE$13:$AE$1003, SMALL(IF(ISBLANK($AE$13:$AE$1003)+ISERROR($AE$13:$AE$1003)+LEN($AE$13:$AE$1003)=0, \"\", ROW($AE$13:$AE$1003)-MIN(ROW($AE$13:$AE$1003))+1), ROW(742:742))),\"\")","v":"__TBI_20__TRAN_N"},{"$f":"IF(AF754=\"\",\"\",IF(COUNTIF(CurrentListing,AF754)>1,AJ754,\"\"))","v":""},{"$f":"IF(LEN(AF754)=0,\"\",IF(ISNA(MATCH(AF754,MasterListing,0)),AJ754,\"\"))","v":""},null,"__TBI_20__RMA_N","","TBI20RMAN","__TBI_20__RMA_N",1,"______",null,null,null,null,{"$f":"IF(ISNUMBER(SEARCH($F$6,AP753)),MAX($AO$11:AO752)+1,0)","v":742},0,{"$f":"ROWS($AQ$12:AQ753)","v":742},{"$f":"IFERROR(VLOOKUP(ROWS($AR$12:AR753),$AO$12:$AP$3014,2,0),\"\")","v":0}]
[null,null,null,null,null,null,null,null,null,null,null,null,null,null,null,null,null,null,null,null,null,null,null,null,null,null,{"$f":"IFERROR(INDEX($AE$13:$AE$1003, SMALL(IF(ISBLANK($AE$13:$AE$1003)+ISERROR($AE$13:$AE$1003)+LEN($AE$13:$AE$1003)=0, \"\", ROW($AE$13:$AE$1003)-MIN(ROW($AE$13:$AE$1003))+1), ROW(743:743))),\"\")","v":"__TBI_21__D_N"},{"$f":"IF(AF755=\"\",\"\",IF(COUNTIF(CurrentListing,AF755)>1,AJ755,\"\"))","v":""},{"$f":"IF(LEN(AF755)=0,\"\",IF(ISNA(MATCH(AF755,MasterListing,0)),AJ755,\"\"))","v":""},null,"__TBI_20__TRAN_N","","TBI20TRANN","__TBI_20__TRAN_N",1,"______",null,null,null,null,{"$f":"IF(ISNUMBER(SEARCH($F$6,AP754)),MAX($AO$11:AO753)+1,0)","v":743},0,{"$f":"ROWS($AQ$12:AQ754)","v":743},{"$f":"IFERROR(VLOOKUP(ROWS($AR$12:AR754),$AO$12:$AP$3014,2,0),\"\")","v":0}]
[null,null,null,null,null,null,null,null,null,null,null,null,null,null,null,null,null,null,null,null,null,null,null,null,null,null,{"$f":"IFERROR(INDEX($AE$13:$AE$1003, SMALL(IF(ISBLANK($AE$13:$AE$1003)+ISERROR($AE$13:$AE$1003)+LEN($AE$13:$AE$1003)=0, \"\", ROW($AE$13:$AE$1003)-MIN(ROW($AE$13:$AE$1003))+1), ROW(744:744))),\"\")","v":"__TBI_21__DROPOUT_N"},{"$f":"IF(AF756=\"\",\"\",IF(COUNTIF(CurrentListing,AF756)>1,AJ756,\"\"))","v":""},{"$f":"IF(LEN(AF756)=0,\"\",IF(ISNA(MATCH(AF756,MasterListing,0)),AJ756,\"\"))","v":""},null,"__TBI_21__D_N","","TBI21DN","__TBI_21__D_N",1,"______",null,null,null,null,{"$f":"IF(ISNUMBER(SEARCH($F$6,AP755)),MAX($AO$11:AO754)+1,0)","v":744},0,{"$f":"ROWS($AQ$12:AQ755)","v":744},{"$f":"IFERROR(VLOOKUP(ROWS($AR$12:AR755),$AO$12:$AP$3014,2,0),\"\")","v":0}]
[null,null,null,null,null,null,null,null,null,null,null,null,null,null,null,null,null,null,null,null,null,null,null,null,null,null,{"$f":"IFERROR(INDEX($AE$13:$AE$1003, SMALL(IF(ISBLANK($AE$13:$AE$1003)+ISERROR($AE$13:$AE$1003)+LEN($AE$13:$AE$1003)=0, \"\", ROW($AE$13:$AE$1003)-MIN(ROW($AE$13:$AE$1003))+1), ROW(745:745))),\"\")","v":"__TBI_21__GHS_N"},{"$f":"IF(AF757=\"\",\"\",IF(COUNTIF(CurrentListing,AF757)>1,AJ757,\"\"))","v":""},{"$f":"IF(LEN(AF757)=0,\"\",IF(ISNA(MATCH(AF757,MasterListing,0)),AJ757,\"\"))","v":""},null,"__TBI_21__DROPOUT_N","","TBI21DROPOUTN","__TBI_21__DROPOUT_N",1,"______",null,null,null,null,{"$f":"IF(ISNUMBER(SEARCH($F$6,AP756)),MAX($AO$11:AO755)+1,0)","v":745},0,{"$f":"ROWS($AQ$12:AQ756)","v":745},{"$f":"IFERROR(VLOOKUP(ROWS($AR$12:AR756),$AO$12:$AP$3014,2,0),\"\")","v":0}]
[null,null,null,null,null,null,null,null,null,null,null,null,null,null,null,null,null,null,null,null,null,null,null,null,null,null,{"$f":"IFERROR(INDEX($AE$13:$AE$1003, SMALL(IF(ISBLANK($AE$13:$AE$1003)+ISERROR($AE$13:$AE$1003)+LEN($AE$13:$AE$1003)=0, \"\", ROW($AE$13:$AE$1003)-MIN(ROW($AE$13:$AE$1003))+1), ROW(746:746))),\"\")","v":"__TBI_21__GRADALTDPL_N"},{"$f":"IF(AF758=\"\",\"\",IF(COUNTIF(CurrentListing,AF758)>1,AJ758,\"\"))","v":""},{"$f":"IF(LEN(AF758)=0,\"\",IF(ISNA(MATCH(AF758,MasterListing,0)),AJ758,\"\"))","v":""},null,"__TBI_21__GHS_N","","TBI21GHSN","__TBI_21__GHS_N",1,"______",null,null,null,null,{"$f":"IF(ISNUMBER(SEARCH($F$6,AP757)),MAX($AO$11:AO756)+1,0)","v":746},0,{"$f":"ROWS($AQ$12:AQ757)","v":746},{"$f":"IFERROR(VLOOKUP(ROWS($AR$12:AR757),$AO$12:$AP$3014,2,0),\"\")","v":0}]
[null,null,null,null,null,null,null,null,null,null,null,null,null,null,null,null,null,null,null,null,null,null,null,null,null,null,{"$f":"IFERROR(INDEX($AE$13:$AE$1003, SMALL(IF(ISBLANK($AE$13:$AE$1003)+ISERROR($AE$13:$AE$1003)+LEN($AE$13:$AE$1003)=0, \"\", ROW($AE$13:$AE$1003)-MIN(ROW($AE$13:$AE$1003))+1), ROW(747:747))),\"\")","v":"__TBI_21__MKC_N"},{"$f":"IF(AF759=\"\",\"\",IF(COUNTIF(CurrentListing,AF759)>1,AJ759,\"\"))","v":""},{"$f":"IF(LEN(AF759)=0,\"\",IF(ISNA(MATCH(AF759,MasterListing,0)),AJ759,\"\"))","v":""},null,"__TBI_21__GRADALTDPL_N","","TBI21GRADALTDPLN","__TBI_21__GRADALTDPL_N",1,"______",null,null,null,null,{"$f":"IF(ISNUMBER(SEARCH($F$6,AP758)),MAX($AO$11:AO757)+1,0)","v":747},0,{"$f":"ROWS($AQ$12:AQ758)","v":747},{"$f":"IFERROR(VLOOKUP(ROWS($AR$12:AR758),$AO$12:$AP$3014,2,0),\"\")","v":0}]
[null,null,null,null,null,null,null,null,null,null,null,null,null,null,null,null,null,null,null,null,null,null,null,null,null,null,{"$f":"IFERROR(INDEX($AE$13:$AE$1003, SMALL(IF(ISBLANK($AE$13:$AE$1003)+ISERROR($AE$13:$AE$1003)+LEN($AE$13:$AE$1003)=0, \"\", ROW($AE$13:$AE$1003)-MIN(ROW($AE$13:$AE$1003))+1), ROW(748:748))),\"\")","v":"__TBI_21__RC_N"},{"$f":"IF(AF760=\"\",\"\",IF(COUNTIF(CurrentListing,AF760)>1,AJ760,\"\"))","v":""},{"$f":"IF(LEN(AF760)=0,\"\",IF(ISNA(MATCH(AF760,MasterListing,0)),AJ760,\"\"))","v":""},null,"__TBI_21__MKC_N","","TBI21MKCN","__TBI_21__MKC_N",1,"______",null,null,null,null,{"$f":"IF(ISNUMBER(SEARCH($F$6,AP759)),MAX($AO$11:AO758)+1,0)","v":748},0,{"$f":"ROWS($AQ$12:AQ759)","v":748},{"$f":"IFERROR(VLOOKUP(ROWS($AR$12:AR759),$AO$12:$AP$3014,2,0),\"\")","v":0}]
[null,null,null,null,null,null,null,null,null,null,null,null,null,null,null,null,null,null,null,null,null,null,null,null,null,null,{"$f":"IFERROR(INDEX($AE$13:$AE$1003, SMALL(IF(ISBLANK($AE$13:$AE$1003)+ISERROR($AE$13:$AE$1003)+LEN($AE$13:$AE$1003)=0, \"\", ROW($AE$13:$AE$1003)-MIN(ROW($AE$13:$AE$1003))+1), ROW(749:749))),\"\")","v":"__TBI_21__RMA_N"},{"$f":"IF(AF761=\"\",\"\",IF(COUNTIF(CurrentListing,AF761)>1,AJ761,\"\"))","v":""},{"$f":"IF(LEN(AF761)=0,\"\",IF(ISNA(MATCH(AF761,MasterListing,0)),AJ761,\"\"))","v":""},null,"__TBI_21__RC_N","","TBI21RCN","__TBI_21__RC_N",1,"______",null,null,null,null,{"$f":"IF(ISNUMBER(SEARCH($F$6,AP760)),MAX($AO$11:AO759)+1,0)","v":749},0,{"$f":"ROWS($AQ$12:AQ760)","v":749},{"$f":"IFERROR(VLOOKUP(ROWS($AR$12:AR760),$AO$12:$AP$3014,2,0),\"\")","v":0}]
[null,null,null,null,null,null,null,null,null,null,null,null,null,null,null,null,null,null,null,null,null,null,null,null,null,null,{"$f":"IFERROR(INDEX($AE$13:$AE$1003, SMALL(IF(ISBLANK($AE$13:$AE$1003)+ISERROR($AE$13:$AE$1003)+LEN($AE$13:$AE$1003)=0, \"\", ROW($AE$13:$AE$1003)-MIN(ROW($AE$13:$AE$1003))+1), ROW(750:750))),\"\")","v":"__TBI_21__TRAN_N"},{"$f":"IF(AF762=\"\",\"\",IF(COUNTIF(CurrentListing,AF762)>1,AJ762,\"\"))","v":""},{"$f":"IF(LEN(AF762)=0,\"\",IF(ISNA(MATCH(AF762,MasterListing,0)),AJ762,\"\"))","v":""},null,"__TBI_21__RMA_N","","TBI21RMAN","__TBI_21__RMA_N",1,"______",null,null,null,null,{"$f":"IF(ISNUMBER(SEARCH($F$6,AP761)),MAX($AO$11:AO760)+1,0)","v":750},0,{"$f":"ROWS($AQ$12:AQ761)","v":750},{"$f":"IFERROR(VLOOKUP(ROWS($AR$12:AR761),$AO$12:$AP$3014,2,0),\"\")","v":0}]
[null,null,null,null,null,null,null,null,null,null,null,null,null,null,null,null,null,null,null,null,null,null,null,null,null,null,{"$f":"IFERROR(INDEX($AE$13:$AE$1003, SMALL(IF(ISBLANK($AE$13:$AE$1003)+ISERROR($AE$13:$AE$1003)+LEN($AE$13:$AE$1003)=0, \"\", ROW($AE$13:$AE$1003)-MIN(ROW($AE$13:$AE$1003))+1), ROW(751:751))),\"\")","v":"__VI____Y"},{"$f":"IF(AF763=\"\",\"\",IF(COUNTIF(CurrentListing,AF763)>1,AJ763,\"\"))","v":""},{"$f":"IF(LEN(AF763)=0,\"\",IF(ISNA(MATCH(AF763,MasterListing,0)),AJ763,\"\"))","v":""},null,"__TBI_21__TRAN_N","","TBI21TRANN","__TBI_21__TRAN_N",1,"______",null,null,null,null,{"$f":"IF(ISNUMBER(SEARCH($F$6,AP762)),MAX($AO$11:AO761)+1,0)","v":751},0,{"$f":"ROWS($AQ$12:AQ762)","v":751},{"$f":"IFERROR(VLOOKUP(ROWS($AR$12:AR762),$AO$12:$AP$3014,2,0),\"\")","v":0}]
[null,null,null,null,null,null,null,null,null,null,null,null,null,null,null,null,null,null,null,null,null,null,null,null,null,null,{"$f":"IFERROR(INDEX($AE$13:$AE$1003, SMALL(IF(ISBLANK($AE$13:$AE$1003)+ISERROR($AE$13:$AE$1003)+LEN($AE$13:$AE$1003)=0, \"\", ROW($AE$13:$AE$1003)-MIN(ROW($AE$13:$AE$1003))+1), ROW(752:752))),\"\")","v":"__VI_14__D_N"},{"$f":"IF(AF764=\"\",\"\",IF(COUNTIF(CurrentListing,AF764)>1,AJ764,\"\"))","v":""},{"$f":"IF(LEN(AF764)=0,\"\",IF(ISNA(MATCH(AF764,MasterListing,0)),AJ764,\"\"))","v":""},null,"__VI____Y","","VIY","__VI____Y",1,"______",null,null,null,null,{"$f":"IF(ISNUMBER(SEARCH($F$6,AP763)),MAX($AO$11:AO762)+1,0)","v":752},0,{"$f":"ROWS($AQ$12:AQ763)","v":752},{"$f":"IFERROR(VLOOKUP(ROWS($AR$12:AR763),$AO$12:$AP$3014,2,0),\"\")","v":0}]
[null,null,null,null,null,null,null,null,null,null,null,null,null,null,null,null,null,null,null,null,null,null,null,null,null,null,{"$f":"IFERROR(INDEX($AE$13:$AE$1003, SMALL(IF(ISBLANK($AE$13:$AE$1003)+ISERROR($AE$13:$AE$1003)+LEN($AE$13:$AE$1003)=0, \"\", ROW($AE$13:$AE$1003)-MIN(ROW($AE$13:$AE$1003))+1), ROW(753:753))),\"\")","v":"__VI_14__DROPOUT_N"},{"$f":"IF(AF765=\"\",\"\",IF(COUNTIF(CurrentListing,AF765)>1,AJ765,\"\"))","v":""},{"$f":"IF(LEN(AF765)=0,\"\",IF(ISNA(MATCH(AF765,MasterListing,0)),AJ765,\"\"))","v":""},null,"__VI_14__D_N","","VI14DN","__VI_14__D_N",1,"______",null,null,null,null,{"$f":"IF(ISNUMBER(SEARCH($F$6,AP764)),MAX($AO$11:AO763)+1,0)","v":753},0,{"$f":"ROWS($AQ$12:AQ764)","v":753},{"$f":"IFERROR(VLOOKUP(ROWS($AR$12:AR764),$AO$12:$AP$3014,2,0),\"\")","v":0}]
[null,null,null,null,null,null,null,null,null,null,null,null,null,null,null,null,null,null,null,null,null,null,null,null,null,null,{"$f":"IFERROR(INDEX($AE$13:$AE$1003, SMALL(IF(ISBLANK($AE$13:$AE$1003)+ISERROR($AE$13:$AE$1003)+LEN($AE$13:$AE$1003)=0, \"\", ROW($AE$13:$AE$1003)-MIN(ROW($AE$13:$AE$1003))+1), ROW(754:754))),\"\")","v":"__VI_14__GHS_N"},{"$f":"IF(AF766=\"\",\"\",IF(COUNTIF(CurrentListing,AF766)>1,AJ766,\"\"))","v":""},{"$f":"IF(LEN(AF766)=0,\"\",IF(ISNA(MATCH(AF766,MasterListing,0)),AJ766,\"\"))","v":""},null,"__VI_14__DROPOUT_N","","VI14DROPOUTN","__VI_14__DROPOUT_N",1,"______",null,null,null,null,{"$f":"IF(ISNUMBER(SEARCH($F$6,AP765)),MAX($AO$11:AO764)+1,0)","v":754},0,{"$f":"ROWS($AQ$12:AQ765)","v":754},{"$f":"IFERROR(VLOOKUP(ROWS($AR$12:AR765),$AO$12:$AP$3014,2,0),\"\")","v":0}]
[null,null,null,null,null,null,null,null,null,null,null,null,null,null,null,null,null,null,null,null,null,null,null,null,null,null,{"$f":"IFERROR(INDEX($AE$13:$AE$1003, SMALL(IF(ISBLANK($AE$13:$AE$1003)+ISERROR($AE$13:$AE$1003)+LEN($AE$13:$AE$1003)=0, \"\", ROW($AE$13:$AE$1003)-MIN(ROW($AE$13:$AE$1003))+1), ROW(755:755))),\"\")","v":"__VI_14__GRADALTDPL_N"},{"$f":"IF(AF767=\"\",\"\",IF(COUNTIF(CurrentListing,AF767)>1,AJ767,\"\"))","v":""},{"$f":"IF(LEN(AF767)=0,\"\",IF(ISNA(MATCH(AF767,MasterListing,0)),AJ767,\"\"))","v":""},null,"__VI_14__GHS_N","","VI14GHSN","__VI_14__GHS_N",1,"______",null,null,null,null,{"$f":"IF(ISNUMBER(SEARCH($F$6,AP766)),MAX($AO$11:AO765)+1,0)","v":755},0,{"$f":"ROWS($AQ$12:AQ766)","v":755},{"$f":"IFERROR(VLOOKUP(ROWS($AR$12:AR766),$AO$12:$AP$3014,2,0),\"\")","v":0}]
[null,null,null,null,null,null,null,null,null,null,null,null,null,null,null,null,null,null,null,null,null,null,null,null,null,null,{"$f":"IFERROR(INDEX($AE$13:$AE$1003, SMALL(IF(ISBLANK($AE$13:$AE$1003)+ISERROR($AE$13:$AE$1003)+LEN($AE$13:$AE$1003)=0, \"\", ROW($AE$13:$AE$1003)-MIN(ROW($AE$13:$AE$1003))+1), ROW(756:756))),\"\")","v":"__VI_14__MKC_N"},{"$f":"IF(AF768=\"\",\"\",IF(COUNTIF(CurrentListing,AF768)>1,AJ768,\"\"))","v":""},{"$f":"IF(LEN(AF768)=0,\"\",IF(ISNA(MATCH(AF768,MasterListing,0)),AJ768,\"\"))","v":""},null,"__VI_14__GRADALTDPL_N","","VI14GRADALTDPLN","__VI_14__GRADALTDPL_N",1,"______",null,null,null,null,{"$f":"IF(ISNUMBER(SEARCH($F$6,AP767)),MAX($AO$11:AO766)+1,0)","v":756},0,{"$f":"ROWS($AQ$12:AQ767)","v":756},{"$f":"IFERROR(VLOOKUP(ROWS($AR$12:AR767),$AO$12:$AP$3014,2,0),\"\")","v":0}]
[null,null,null,null,null,null,null,null,null,null,null,null,null,null,null,null,null,null,null,null,null,null,null,null,null,null,{"$f":"IFERROR(INDEX($AE$13:$AE$1003, SMALL(IF(ISBLANK($AE$13:$AE$1003)+ISERROR($AE$13:$AE$1003)+LEN($AE$13:$AE$1003)=0, \"\", ROW($AE$13:$AE$1003)-MIN(ROW($AE$13:$AE$1003))+1), ROW(757:757))),\"\")","v":"__VI_14__RC_N"},{"$f":"IF(AF769=\"\",\"\",IF(COUNTIF(CurrentListing,AF769)>1,AJ769,\"\"))","v":""},{"$f":"IF(LEN(AF769)=0,\"\",IF(ISNA(MATCH(AF769,MasterListing,0)),AJ769,\"\"))","v":""},null,"__VI_14__MKC_N","","VI14MKCN","__VI_14__MKC_N",1,"______",null,null,null,null,{"$f":"IF(ISNUMBER(SEARCH($F$6,AP768)),MAX($AO$11:AO767)+1,0)","v":757},0,{"$f":"ROWS($AQ$12:AQ768)","v":757},{"$f":"IFERROR(VLOOKUP(ROWS($AR$12:AR768),$AO$12:$AP$3014,2,0),\"\")","v":0}]
[null,null,null,null,null,null,null,null,null,null,null,null,null,null,null,null,null,null,null,null,null,null,null,null,null,null,{"$f":"IFERROR(INDEX($AE$13:$AE$1003, SMALL(IF(ISBLANK($AE$13:$AE$1003)+ISERROR($AE$13:$AE$1003)+LEN($AE$13:$AE$1003)=0, \"\", ROW($AE$13:$AE$1003)-MIN(ROW($AE$13:$AE$1003))+1), ROW(758:758))),\"\")","v":"__VI_14__RMA_N"},{"$f":"IF(AF770=\"\",\"\",IF(COUNTIF(CurrentListing,AF770)>1,AJ770,\"\"))","v":""},{"$f":"IF(LEN(AF770)=0,\"\",IF(ISNA(MATCH(AF770,MasterListing,0)),AJ770,\"\"))","v":""},null,"__VI_14__RC_N","","VI14RCN","__VI_14__RC_N",1,"______",null,null,null,null,{"$f":"IF(ISNUMBER(SEARCH($F$6,AP769)),MAX($AO$11:AO768)+1,0)","v":758},0,{"$f":"ROWS($AQ$12:AQ769)","v":758},{"$f":"IFERROR(VLOOKUP(ROWS($AR$12:AR769),$AO$12:$AP$3014,2,0),\"\")","v":0}]
[null,null,null,null,null,null,null,null,null,null,null,null,null,null,null,null,null,null,null,null,null,null,null,null,null,null,{"$f":"IFERROR(INDEX($AE$13:$AE$1003, SMALL(IF(ISBLANK($AE$13:$AE$1003)+ISERROR($AE$13:$AE$1003)+LEN($AE$13:$AE$1003)=0, \"\", ROW($AE$13:$AE$1003)-MIN(ROW($AE$13:$AE$1003))+1), ROW(759:759))),\"\")","v":"__VI_14__TRAN_N"},{"$f":"IF(AF771=\"\",\"\",IF(COUNTIF(CurrentListing,AF771)>1,AJ771,\"\"))","v":""},{"$f":"IF(LEN(AF771)=0,\"\",IF(ISNA(MATCH(AF771,MasterListing,0)),AJ771,\"\"))","v":""},null,"__VI_14__RMA_N","","VI14RMAN","__VI_14__RMA_N",1,"______",null,null,null,null,{"$f":"IF(ISNUMBER(SEARCH($F$6,AP770)),MAX($AO$11:AO769)+1,0)","v":759},0,{"$f":"ROWS($AQ$12:AQ770)","v":759},{"$f":"IFERROR(VLOOKUP(ROWS($AR$12:AR770),$AO$12:$AP$3014,2,0),\"\")","v":0}]
[null,null,null,null,null,null,null,null,null,null,null,null,null,null,null,null,null,null,null,null,null,null,null,null,null,null,{"$f":"IFERROR(INDEX($AE$13:$AE$1003, SMALL(IF(ISBLANK($AE$13:$AE$1003)+ISERROR($AE$13:$AE$1003)+LEN($AE$13:$AE$1003)=0, \"\", ROW($AE$13:$AE$1003)-MIN(ROW($AE$13:$AE$1003))+1), ROW(760:760))),\"\")","v":"__VI_15__D_N"},{"$f":"IF(AF772=\"\",\"\",IF(COUNTIF(CurrentListing,AF772)>1,AJ772,\"\"))","v":""},{"$f":"IF(LEN(AF772)=0,\"\",IF(ISNA(MATCH(AF772,MasterListing,0)),AJ772,\"\"))","v":""},null,"__VI_14__TRAN_N","","VI14TRANN","__VI_14__TRAN_N",1,"______",null,null,null,null,{"$f":"IF(ISNUMBER(SEARCH($F$6,AP771)),MAX($AO$11:AO770)+1,0)","v":760},0,{"$f":"ROWS($AQ$12:AQ771)","v":760},{"$f":"IFERROR(VLOOKUP(ROWS($AR$12:AR771),$AO$12:$AP$3014,2,0),\"\")","v":0}]
[null,null,null,null,null,null,null,null,null,null,null,null,null,null,null,null,null,null,null,null,null,null,null,null,null,null,{"$f":"IFERROR(INDEX($AE$13:$AE$1003, SMALL(IF(ISBLANK($AE$13:$AE$1003)+ISERROR($AE$13:$AE$1003)+LEN($AE$13:$AE$1003)=0, \"\", ROW($AE$13:$AE$1003)-MIN(ROW($AE$13:$AE$1003))+1), ROW(761:761))),\"\")","v":"__VI_15__DROPOUT_N"},{"$f":"IF(AF773=\"\",\"\",IF(COUNTIF(CurrentListing,AF773)>1,AJ773,\"\"))","v":""},{"$f":"IF(LEN(AF773)=0,\"\",IF(ISNA(MATCH(AF773,MasterListing,0)),AJ773,\"\"))","v":""},null,"__VI_15__D_N","","VI15DN","__VI_15__D_N",1,"______",null,null,null,null,{"$f":"IF(ISNUMBER(SEARCH($F$6,AP772)),MAX($AO$11:AO771)+1,0)","v":761},0,{"$f":"ROWS($AQ$12:AQ772)","v":761},{"$f":"IFERROR(VLOOKUP(ROWS($AR$12:AR772),$AO$12:$AP$3014,2,0),\"\")","v":0}]
[null,null,null,null,null,null,null,null,null,null,null,null,null,null,null,null,null,null,null,null,null,null,null,null,null,null,{"$f":"IFERROR(INDEX($AE$13:$AE$1003, SMALL(IF(ISBLANK($AE$13:$AE$1003)+ISERROR($AE$13:$AE$1003)+LEN($AE$13:$AE$1003)=0, \"\", ROW($AE$13:$AE$1003)-MIN(ROW($AE$13:$AE$1003))+1), ROW(762:762))),\"\")","v":"__VI_15__GHS_N"},{"$f":"IF(AF774=\"\",\"\",IF(COUNTIF(CurrentListing,AF774)>1,AJ774,\"\"))","v":""},{"$f":"IF(LEN(AF774)=0,\"\",IF(ISNA(MATCH(AF774,MasterListing,0)),AJ774,\"\"))","v":""},null,"__VI_15__DROPOUT_N","","VI15DROPOUTN","__VI_15__DROPOUT_N",1,"______",null,null,null,null,{"$f":"IF(ISNUMBER(SEARCH($F$6,AP773)),MAX($AO$11:AO772)+1,0)","v":762},0,{"$f":"ROWS($AQ$12:AQ773)","v":762},{"$f":"IFERROR(VLOOKUP(ROWS($AR$12:AR773),$AO$12:$AP$3014,2,0),\"\")","v":0}]
[null,null,null,null,null,null,null,null,null,null,null,null,null,null,null,null,null,null,null,null,null,null,null,null,null,null,{"$f":"IFERROR(INDEX($AE$13:$AE$1003, SMALL(IF(ISBLANK($AE$13:$AE$1003)+ISERROR($AE$13:$AE$1003)+LEN($AE$13:$AE$1003)=0, \"\", ROW($AE$13:$AE$1003)-MIN(ROW($AE$13:$AE$1003))+1), ROW(763:763))),\"\")","v":"__VI_15__GRADALTDPL_N"},{"$f":"IF(AF775=\"\",\"\",IF(COUNTIF(CurrentListing,AF775)>1,AJ775,\"\"))","v":""},{"$f":"IF(LEN(AF775)=0,\"\",IF(ISNA(MATCH(AF775,MasterListing,0)),AJ775,\"\"))","v":""},null,"__VI_15__GHS_N","","VI15GHSN","__VI_15__GHS_N",1,"______",null,null,null,null,{"$f":"IF(ISNUMBER(SEARCH($F$6,AP774)),MAX($AO$11:AO773)+1,0)","v":763},0,{"$f":"ROWS($AQ$12:AQ774)","v":763},{"$f":"IFERROR(VLOOKUP(ROWS($AR$12:AR774),$AO$12:$AP$3014,2,0),\"\")","v":0}]
[null,null,null,null,null,null,null,null,null,null,null,null,null,null,null,null,null,null,null,null,null,null,null,null,null,null,{"$f":"IFERROR(INDEX($AE$13:$AE$1003, SMALL(IF(ISBLANK($AE$13:$AE$1003)+ISERROR($AE$13:$AE$1003)+LEN($AE$13:$AE$1003)=0, \"\", ROW($AE$13:$AE$1003)-MIN(ROW($AE$13:$AE$1003))+1), ROW(764:764))),\"\")","v":"__VI_15__MKC_N"},{"$f":"IF(AF776=\"\",\"\",IF(COUNTIF(CurrentListing,AF776)>1,AJ776,\"\"))","v":""},{"$f":"IF(LEN(AF776)=0,\"\",IF(ISNA(MATCH(AF776,MasterListing,0)),AJ776,\"\"))","v":""},null,"__VI_15__GRADALTDPL_N","","VI15GRADALTDPLN","__VI_15__GRADALTDPL_N",1,"______",null,null,null,null,{"$f":"IF(ISNUMBER(SEARCH($F$6,AP775)),MAX($AO$11:AO774)+1,0)","v":764},0,{"$f":"ROWS($AQ$12:AQ775)","v":764},{"$f":"IFERROR(VLOOKUP(ROWS($AR$12:AR775),$AO$12:$AP$3014,2,0),\"\")","v":0}]
[null,null,null,null,null,null,null,null,null,null,null,null,null,null,null,null,null,null,null,null,null,null,null,null,null,null,{"$f":"IFERROR(INDEX($AE$13:$AE$1003, SMALL(IF(ISBLANK($AE$13:$AE$1003)+ISERROR($AE$13:$AE$1003)+LEN($AE$13:$AE$1003)=0, \"\", ROW($AE$13:$AE$1003)-MIN(ROW($AE$13:$AE$1003))+1), ROW(765:765))),\"\")","v":"__VI_15__RC_N"},{"$f":"IF(AF777=\"\",\"\",IF(COUNTIF(CurrentListing,AF777)>1,AJ777,\"\"))","v":""},{"$f":"IF(LEN(AF777)=0,\"\",IF(ISNA(MATCH(AF777,MasterListing,0)),AJ777,\"\"))","v":""},null,"__VI_15__MKC_N","","VI15MKCN","__VI_15__MKC_N",1,"______",null,null,null,null,{"$f":"IF(ISNUMBER(SEARCH($F$6,AP776)),MAX($AO$11:AO775)+1,0)","v":765},0,{"$f":"ROWS($AQ$12:AQ776)","v":765},{"$f":"IFERROR(VLOOKUP(ROWS($AR$12:AR776),$AO$12:$AP$3014,2,0),\"\")","v":0}]
[null,null,null,null,null,null,null,null,null,null,null,null,null,null,null,null,null,null,null,null,null,null,null,null,null,null,{"$f":"IFERROR(INDEX($AE$13:$AE$1003, SMALL(IF(ISBLANK($AE$13:$AE$1003)+ISERROR($AE$13:$AE$1003)+LEN($AE$13:$AE$1003)=0, \"\", ROW($AE$13:$AE$1003)-MIN(ROW($AE$13:$AE$1003))+1), ROW(766:766))),\"\")","v":"__VI_15__RMA_N"},{"$f":"IF(AF778=\"\",\"\",IF(COUNTIF(CurrentListing,AF778)>1,AJ778,\"\"))","v":""},{"$f":"IF(LEN(AF778)=0,\"\",IF(ISNA(MATCH(AF778,MasterListing,0)),AJ778,\"\"))","v":""},null,"__VI_15__RC_N","","VI15RCN","__VI_15__RC_N",1,"______",null,null,null,null,{"$f":"IF(ISNUMBER(SEARCH($F$6,AP777)),MAX($AO$11:AO776)+1,0)","v":766},0,{"$f":"ROWS($AQ$12:AQ777)","v":766},{"$f":"IFERROR(VLOOKUP(ROWS($AR$12:AR777),$AO$12:$AP$3014,2,0),\"\")","v":0}]
[null,null,null,null,null,null,null,null,null,null,null,null,null,null,null,null,null,null,null,null,null,null,null,null,null,null,{"$f":"IFERROR(INDEX($AE$13:$AE$1003, SMALL(IF(ISBLANK($AE$13:$AE$1003)+ISERROR($AE$13:$AE$1003)+LEN($AE$13:$AE$1003)=0, \"\", ROW($AE$13:$AE$1003)-MIN(ROW($AE$13:$AE$1003))+1), ROW(767:767))),\"\")","v":"__VI_15__TRAN_N"},{"$f":"IF(AF779=\"\",\"\",IF(COUNTIF(CurrentListing,AF779)>1,AJ779,\"\"))","v":""},{"$f":"IF(LEN(AF779)=0,\"\",IF(ISNA(MATCH(AF779,MasterListing,0)),AJ779,\"\"))","v":""},null,"__VI_15__RMA_N","","VI15RMAN","__VI_15__RMA_N",1,"______",null,null,null,null,{"$f":"IF(ISNUMBER(SEARCH($F$6,AP778)),MAX($AO$11:AO777)+1,0)","v":767},0,{"$f":"ROWS($AQ$12:AQ778)","v":767},{"$f":"IFERROR(VLOOKUP(ROWS($AR$12:AR778),$AO$12:$AP$3014,2,0),\"\")","v":0}]
[null,null,null,null,null,null,null,null,null,null,null,null,null,null,null,null,null,null,null,null,null,null,null,null,null,null,{"$f":"IFERROR(INDEX($AE$13:$AE$1003, SMALL(IF(ISBLANK($AE$13:$AE$1003)+ISERROR($AE$13:$AE$1003)+LEN($AE$13:$AE$1003)=0, \"\", ROW($AE$13:$AE$1003)-MIN(ROW($AE$13:$AE$1003))+1), ROW(768:768))),\"\")","v":"__VI_16__D_N"},{"$f":"IF(AF780=\"\",\"\",IF(COUNTIF(CurrentListing,AF780)>1,AJ780,\"\"))","v":""},{"$f":"IF(LEN(AF780)=0,\"\",IF(ISNA(MATCH(AF780,MasterListing,0)),AJ780,\"\"))","v":""},null,"__VI_15__TRAN_N","","VI15TRANN","__VI_15__TRAN_N",1,"______",null,null,null,null,{"$f":"IF(ISNUMBER(SEARCH($F$6,AP779)),MAX($AO$11:AO778)+1,0)","v":768},0,{"$f":"ROWS($AQ$12:AQ779)","v":768},{"$f":"IFERROR(VLOOKUP(ROWS($AR$12:AR779),$AO$12:$AP$3014,2,0),\"\")","v":0}]
[null,null,null,null,null,null,null,null,null,null,null,null,null,null,null,null,null,null,null,null,null,null,null,null,null,null,{"$f":"IFERROR(INDEX($AE$13:$AE$1003, SMALL(IF(ISBLANK($AE$13:$AE$1003)+ISERROR($AE$13:$AE$1003)+LEN($AE$13:$AE$1003)=0, \"\", ROW($AE$13:$AE$1003)-MIN(ROW($AE$13:$AE$1003))+1), ROW(769:769))),\"\")","v":"__VI_16__DROPOUT_N"},{"$f":"IF(AF781=\"\",\"\",IF(COUNTIF(CurrentListing,AF781)>1,AJ781,\"\"))","v":""},{"$f":"IF(LEN(AF781)=0,\"\",IF(ISNA(MATCH(AF781,MasterListing,0)),AJ781,\"\"))","v":""},null,{"$f":"IF(LEN(AG780)=0,\"\",IF(ISNA(MATCH(AG780,CurrentListing,0)),AH780,\"\"))","v":"__VI_16__D_N"},"","VI16DN","__VI_16__D_N",1,"______",null,null,null,null,{"$f":"IF(ISNUMBER(SEARCH($F$6,AP780)),MAX($AO$11:AO779)+1,0)","v":769},0,{"$f":"ROWS($AQ$12:AQ780)","v":769},{"$f":"IFERROR(VLOOKUP(ROWS($AR$12:AR780),$AO$12:$AP$3014,2,0),\"\")","v":0}]
[null,null,null,null,null,null,null,null,null,null,null,null,null,null,null,null,null,null,null,null,null,null,null,null,null,null,{"$f":"IFERROR(INDEX($AE$13:$AE$1003, SMALL(IF(ISBLANK($AE$13:$AE$1003)+ISERROR($AE$13:$AE$1003)+LEN($AE$13:$AE$1003)=0, \"\", ROW($AE$13:$AE$1003)-MIN(ROW($AE$13:$AE$1003))+1), ROW(770:770))),\"\")","v":"__VI_16__GHS_N"},{"$f":"IF(AF782=\"\",\"\",IF(COUNTIF(CurrentListing,AF782)>1,AJ782,\"\"))","v":""},{"$f":"IF(LEN(AF782)=0,\"\",IF(ISNA(MATCH(AF782,MasterListing,0)),AJ782,\"\"))","v":""},null,"__VI_16__DROPOUT_N",{"$f":"H781&I781&P781&Q781&R781&V781&W781","v":""},"VI16DROPOUTN","__VI_16__DROPOUT_N",1,"______",null,null,null,null,{"$f":"IF(ISNUMBER(SEARCH($F$6,AP781)),MAX($AO$11:AO780)+1,0)","v":770},0,{"$f":"ROWS($AQ$12:AQ781)","v":770},{"$f":"IFERROR(VLOOKUP(ROWS($AR$12:AR781),$AO$12:$AP$3014,2,0),\"\")","v":0}]
[null,null,null,null,null,null,null,null,null,null,null,null,null,null,null,null,null,null,null,null,null,null,null,null,null,null,{"$f":"IFERROR(INDEX($AE$13:$AE$1003, SMALL(IF(ISBLANK($AE$13:$AE$1003)+ISERROR($AE$13:$AE$1003)+LEN($AE$13:$AE$1003)=0, \"\", ROW($AE$13:$AE$1003)-MIN(ROW($AE$13:$AE$1003))+1), ROW(771:771))),\"\")","v":"__VI_16__GRADALTDPL_N"},{"$f":"IF(AF783=\"\",\"\",IF(COUNTIF(CurrentListing,AF783)>1,AJ783,\"\"))","v":""},{"$f":"IF(LEN(AF783)=0,\"\",IF(ISNA(MATCH(AF783,MasterListing,0)),AJ783,\"\"))","v":""},null,"__VI_16__GHS_N","","VI16GHSN","__VI_16__GHS_N",{"$f":"IF(LEN(AA782)>0,1,0)","v":1},{"$f":"H782&\"_\"&I782&\"_\"&P782&\"_\"&Q782&\"_\"&R782&\"_\"&V782&\"_\"&W782","v":"______"},null,null,null,null,{"$f":"IF(ISNUMBER(SEARCH($F$6,AP782)),MAX($AO$11:AO781)+1,0)","v":771},0,{"$f":"ROWS($AQ$12:AQ782)","v":771},{"$f":"IFERROR(VLOOKUP(ROWS($AR$12:AR782),$AO$12:$AP$3014,2,0),\"\")","v":0}]
[null,null,null,null,null,null,null,null,null,null,null,null,null,null,null,null,null,null,null,null,null,null,null,null,null,null,{"$f":"IFERROR(INDEX($AE$13:$AE$1003, SMALL(IF(ISBLANK($AE$13:$AE$1003)+ISERROR($AE$13:$AE$1003)+LEN($AE$13:$AE$1003)=0, \"\", ROW($AE$13:$AE$1003)-MIN(ROW($AE$13:$AE$1003))+1), ROW(772:772))),\"\")","v":"__VI_16__MKC_N"},{"$f":"IF(AF784=\"\",\"\",IF(COUNTIF(CurrentListing,AF784)>1,AJ784,\"\"))","v":""},{"$f":"IF(LEN(AF784)=0,\"\",IF(ISNA(MATCH(AF784,MasterListing,0)),AJ784,\"\"))","v":""},null,"__VI_16__GRADALTDPL_N","","VI16GRADALTDPLN","__VI_16__GRADALTDPL_N",1,"______",null,null,null,null,{"$f":"IF(ISNUMBER(SEARCH($F$6,AP783)),MAX($AO$11:AO782)+1,0)","v":772},0,{"$f":"ROWS($AQ$12:AQ783)","v":772},{"$f":"IFERROR(VLOOKUP(ROWS($AR$12:AR783),$AO$12:$AP$3014,2,0),\"\")","v":0}]
[null,null,null,null,null,null,null,null,null,null,null,null,null,null,null,null,null,null,null,null,null,null,null,null,null,null,{"$f":"IFERROR(INDEX($AE$13:$AE$1003, SMALL(IF(ISBLANK($AE$13:$AE$1003)+ISERROR($AE$13:$AE$1003)+LEN($AE$13:$AE$1003)=0, \"\", ROW($AE$13:$AE$1003)-MIN(ROW($AE$13:$AE$1003))+1), ROW(773:773))),\"\")","v":"__VI_16__RC_N"},{"$f":"IF(AF785=\"\",\"\",IF(COUNTIF(CurrentListing,AF785)>1,AJ785,\"\"))","v":""},{"$f":"IF(LEN(AF785)=0,\"\",IF(ISNA(MATCH(AF785,MasterListing,0)),AJ785,\"\"))","v":""},null,"__VI_16__MKC_N","","VI16MKCN","__VI_16__MKC_N",1,"______",null,null,null,null,{"$f":"IF(ISNUMBER(SEARCH($F$6,AP784)),MAX($AO$11:AO783)+1,0)","v":773},0,{"$f":"ROWS($AQ$12:AQ784)","v":773},{"$f":"IFERROR(VLOOKUP(ROWS($AR$12:AR784),$AO$12:$AP$3014,2,0),\"\")","v":0}]
[null,null,null,null,null,null,null,null,null,null,null,null,null,null,null,null,null,null,null,null,null,null,null,null,null,null,{"$f":"IFERROR(INDEX($AE$13:$AE$1003, SMALL(IF(ISBLANK($AE$13:$AE$1003)+ISERROR($AE$13:$AE$1003)+LEN($AE$13:$AE$1003)=0, \"\", ROW($AE$13:$AE$1003)-MIN(ROW($AE$13:$AE$1003))+1), ROW(774:774))),\"\")","v":"__VI_16__RMA_N"},{"$f":"IF(AF786=\"\",\"\",IF(COUNTIF(CurrentListing,AF786)>1,AJ786,\"\"))","v":""},{"$f":"IF(LEN(AF786)=0,\"\",IF(ISNA(MATCH(AF786,MasterListing,0)),AJ786,\"\"))","v":""},null,"__VI_16__RC_N","","VI16RCN","__VI_16__RC_N",1,"______",null,null,null,null,{"$f":"IF(ISNUMBER(SEARCH($F$6,AP785)),MAX($AO$11:AO784)+1,0)","v":774},0,{"$f":"ROWS($AQ$12:AQ785)","v":774},{"$f":"IFERROR(VLOOKUP(ROWS($AR$12:AR785),$AO$12:$AP$3014,2,0),\"\")","v":0}]
[null,null,null,null,null,null,null,null,null,null,null,null,null,null,null,null,null,null,null,null,null,null,null,null,null,null,{"$f":"IFERROR(INDEX($AE$13:$AE$1003, SMALL(IF(ISBLANK($AE$13:$AE$1003)+ISERROR($AE$13:$AE$1003)+LEN($AE$13:$AE$1003)=0, \"\", ROW($AE$13:$AE$1003)-MIN(ROW($AE$13:$AE$1003))+1), ROW(775:775))),\"\")","v":"__VI_16__TRAN_N"},{"$f":"IF(AF787=\"\",\"\",IF(COUNTIF(CurrentListing,AF787)>1,AJ787,\"\"))","v":""},{"$f":"IF(LEN(AF787)=0,\"\",IF(ISNA(MATCH(AF787,MasterListing,0)),AJ787,\"\"))","v":""},null,"__VI_16__RMA_N","","VI16RMAN","__VI_16__RMA_N",1,"______",null,null,null,null,{"$f":"IF(ISNUMBER(SEARCH($F$6,AP786)),MAX($AO$11:AO785)+1,0)","v":775},0,{"$f":"ROWS($AQ$12:AQ786)","v":775},{"$f":"IFERROR(VLOOKUP(ROWS($AR$12:AR786),$AO$12:$AP$3014,2,0),\"\")","v":0}]
[null,null,null,null,null,null,null,null,null,null,null,null,null,null,null,null,null,null,null,null,null,null,null,null,null,null,{"$f":"IFERROR(INDEX($AE$13:$AE$1003, SMALL(IF(ISBLANK($AE$13:$AE$1003)+ISERROR($AE$13:$AE$1003)+LEN($AE$13:$AE$1003)=0, \"\", ROW($AE$13:$AE$1003)-MIN(ROW($AE$13:$AE$1003))+1), ROW(776:776))),\"\")","v":"__VI_17__D_N"},{"$f":"IF(AF788=\"\",\"\",IF(COUNTIF(CurrentListing,AF788)>1,AJ788,\"\"))","v":""},{"$f":"IF(LEN(AF788)=0,\"\",IF(ISNA(MATCH(AF788,MasterListing,0)),AJ788,\"\"))","v":""},null,"__VI_16__TRAN_N","","VI16TRANN","__VI_16__TRAN_N",1,"______",null,null,null,null,{"$f":"IF(ISNUMBER(SEARCH($F$6,AP787)),MAX($AO$11:AO786)+1,0)","v":776},0,{"$f":"ROWS($AQ$12:AQ787)","v":776},{"$f":"IFERROR(VLOOKUP(ROWS($AR$12:AR787),$AO$12:$AP$3014,2,0),\"\")","v":0}]
[null,null,null,null,null,null,null,null,null,null,null,null,null,null,null,null,null,null,null,null,null,null,null,null,null,null,{"$f":"IFERROR(INDEX($AE$13:$AE$1003, SMALL(IF(ISBLANK($AE$13:$AE$1003)+ISERROR($AE$13:$AE$1003)+LEN($AE$13:$AE$1003)=0, \"\", ROW($AE$13:$AE$1003)-MIN(ROW($AE$13:$AE$1003))+1), ROW(777:777))),\"\")","v":"__VI_17__DROPOUT_N"},{"$f":"IF(AF789=\"\",\"\",IF(COUNTIF(CurrentListing,AF789)>1,AJ789,\"\"))","v":""},{"$f":"IF(LEN(AF789)=0,\"\",IF(ISNA(MATCH(AF789,MasterListing,0)),AJ789,\"\"))","v":""},null,"__VI_17__D_N","","VI17DN","__VI_17__D_N",1,"______",null,null,null,null,{"$f":"IF(ISNUMBER(SEARCH($F$6,AP788)),MAX($AO$11:AO787)+1,0)","v":777},0,{"$f":"ROWS($AQ$12:AQ788)","v":777},{"$f":"IFERROR(VLOOKUP(ROWS($AR$12:AR788),$AO$12:$AP$3014,2,0),\"\")","v":0}]
[null,null,null,null,null,null,null,null,null,null,null,null,null,null,null,null,null,null,null,null,null,null,null,null,null,null,{"$f":"IFERROR(INDEX($AE$13:$AE$1003, SMALL(IF(ISBLANK($AE$13:$AE$1003)+ISERROR($AE$13:$AE$1003)+LEN($AE$13:$AE$1003)=0, \"\", ROW($AE$13:$AE$1003)-MIN(ROW($AE$13:$AE$1003))+1), ROW(778:778))),\"\")","v":"__VI_17__GHS_N"},{"$f":"IF(AF790=\"\",\"\",IF(COUNTIF(CurrentListing,AF790)>1,AJ790,\"\"))","v":""},{"$f":"IF(LEN(AF790)=0,\"\",IF(ISNA(MATCH(AF790,MasterListing,0)),AJ790,\"\"))","v":""},null,"__VI_17__DROPOUT_N","","VI17DROPOUTN","__VI_17__DROPOUT_N",1,"______",null,null,null,null,{"$f":"IF(ISNUMBER(SEARCH($F$6,AP789)),MAX($AO$11:AO788)+1,0)","v":778},0,{"$f":"ROWS($AQ$12:AQ789)","v":778},{"$f":"IFERROR(VLOOKUP(ROWS($AR$12:AR789),$AO$12:$AP$3014,2,0),\"\")","v":0}]
[null,null,null,null,null,null,null,null,null,null,null,null,null,null,null,null,null,null,null,null,null,null,null,null,null,null,{"$f":"IFERROR(INDEX($AE$13:$AE$1003, SMALL(IF(ISBLANK($AE$13:$AE$1003)+ISERROR($AE$13:$AE$1003)+LEN($AE$13:$AE$1003)=0, \"\", ROW($AE$13:$AE$1003)-MIN(ROW($AE$13:$AE$1003))+1), ROW(779:779))),\"\")","v":"__VI_17__GRADALTDPL_N"},{"$f":"IF(AF791=\"\",\"\",IF(COUNTIF(CurrentListing,AF791)>1,AJ791,\"\"))","v":""},{"$f":"IF(LEN(AF791)=0,\"\",IF(ISNA(MATCH(AF791,MasterListing,0)),AJ791,\"\"))","v":""},null,"__VI_17__GHS_N","","VI17GHSN","__VI_17__GHS_N",1,"______",null,null,null,null,{"$f":"IF(ISNUMBER(SEARCH($F$6,AP790)),MAX($AO$11:AO789)+1,0)","v":779},0,{"$f":"ROWS($AQ$12:AQ790)","v":779},{"$f":"IFERROR(VLOOKUP(ROWS($AR$12:AR790),$AO$12:$AP$3014,2,0),\"\")","v":0}]
[null,null,null,null,null,null,null,null,null,null,null,null,null,null,null,null,null,null,null,null,null,null,null,null,null,null,{"$f":"IFERROR(INDEX($AE$13:$AE$1003, SMALL(IF(ISBLANK($AE$13:$AE$1003)+ISERROR($AE$13:$AE$1003)+LEN($AE$13:$AE$1003)=0, \"\", ROW($AE$13:$AE$1003)-MIN(ROW($AE$13:$AE$1003))+1), ROW(780:780))),\"\")","v":"__VI_17__MKC_N"},{"$f":"IF(AF792=\"\",\"\",IF(COUNTIF(CurrentListing,AF792)>1,AJ792,\"\"))","v":""},{"$f":"IF(LEN(AF792)=0,\"\",IF(ISNA(MATCH(AF792,MasterListing,0)),AJ792,\"\"))","v":""},null,"__VI_17__GRADALTDPL_N","","VI17GRADALTDPLN","__VI_17__GRADALTDPL_N",1,"______",null,null,null,null,{"$f":"IF(ISNUMBER(SEARCH($F$6,AP791)),MAX($AO$11:AO790)+1,0)","v":780},0,{"$f":"ROWS($AQ$12:AQ791)","v":780},{"$f":"IFERROR(VLOOKUP(ROWS($AR$12:AR791),$AO$12:$AP$3014,2,0),\"\")","v":0}]
[null,null,null,null,null,null,null,null,null,null,null,null,null,null,null,null,null,null,null,null,null,null,null,null,null,null,{"$f":"IFERROR(INDEX($AE$13:$AE$1003, SMALL(IF(ISBLANK($AE$13:$AE$1003)+ISERROR($AE$13:$AE$1003)+LEN($AE$13:$AE$1003)=0, \"\", ROW($AE$13:$AE$1003)-MIN(ROW($AE$13:$AE$1003))+1), ROW(781:781))),\"\")","v":"__VI_17__RC_N"},{"$f":"IF(AF793=\"\",\"\",IF(COUNTIF(CurrentListing,AF793)>1,AJ793,\"\"))","v":""},{"$f":"IF(LEN(AF793)=0,\"\",IF(ISNA(MATCH(AF793,MasterListing,0)),AJ793,\"\"))","v":""},null,"__VI_17__MKC_N","","VI17MKCN","__VI_17__MKC_N",1,"______",null,null,null,null,{"$f":"IF(ISNUMBER(SEARCH($F$6,AP792)),MAX($AO$11:AO791)+1,0)","v":781},0,{"$f":"ROWS($AQ$12:AQ792)","v":781},{"$f":"IFERROR(VLOOKUP(ROWS($AR$12:AR792),$AO$12:$AP$3014,2,0),\"\")","v":0}]
[null,null,null,null,null,null,null,null,null,null,null,null,null,null,null,null,null,null,null,null,null,null,null,null,null,null,{"$f":"IFERROR(INDEX($AE$13:$AE$1003, SMALL(IF(ISBLANK($AE$13:$AE$1003)+ISERROR($AE$13:$AE$1003)+LEN($AE$13:$AE$1003)=0, \"\", ROW($AE$13:$AE$1003)-MIN(ROW($AE$13:$AE$1003))+1), ROW(782:782))),\"\")","v":"__VI_17__RMA_N"},{"$f":"IF(AF794=\"\",\"\",IF(COUNTIF(CurrentListing,AF794)>1,AJ794,\"\"))","v":""},{"$f":"IF(LEN(AF794)=0,\"\",IF(ISNA(MATCH(AF794,MasterListing,0)),AJ794,\"\"))","v":""},null,"__VI_17__RC_N","","VI17RCN","__VI_17__RC_N",1,"______",null,null,null,null,{"$f":"IF(ISNUMBER(SEARCH($F$6,AP793)),MAX($AO$11:AO792)+1,0)","v":782},0,{"$f":"ROWS($AQ$12:AQ793)","v":782},{"$f":"IFERROR(VLOOKUP(ROWS($AR$12:AR793),$AO$12:$AP$3014,2,0),\"\")","v":0}]
[null,null,null,null,null,null,null,null,null,null,null,null,null,null,null,null,null,null,null,null,null,null,null,null,null,null,{"$f":"IFERROR(INDEX($AE$13:$AE$1003, SMALL(IF(ISBLANK($AE$13:$AE$1003)+ISERROR($AE$13:$AE$1003)+LEN($AE$13:$AE$1003)=0, \"\", ROW($AE$13:$AE$1003)-MIN(ROW($AE$13:$AE$1003))+1), ROW(783:783))),\"\")","v":"__VI_17__TRAN_N"},{"$f":"IF(AF795=\"\",\"\",IF(COUNTIF(CurrentListing,AF795)>1,AJ795,\"\"))","v":""},{"$f":"IF(LEN(AF795)=0,\"\",IF(ISNA(MATCH(AF795,MasterListing,0)),AJ795,\"\"))","v":""},null,"__VI_17__RMA_N","","VI17RMAN","__VI_17__RMA_N",1,"______",null,null,null,null,{"$f":"IF(ISNUMBER(SEARCH($F$6,AP794)),MAX($AO$11:AO793)+1,0)","v":783},0,{"$f":"ROWS($AQ$12:AQ794)","v":783},{"$f":"IFERROR(VLOOKUP(ROWS($AR$12:AR794),$AO$12:$AP$3014,2,0),\"\")","v":0}]
[null,null,null,null,null,null,null,null,null,null,null,null,null,null,null,null,null,null,null,null,null,null,null,null,null,null,{"$f":"IFERROR(INDEX($AE$13:$AE$1003, SMALL(IF(ISBLANK($AE$13:$AE$1003)+ISERROR($AE$13:$AE$1003)+LEN($AE$13:$AE$1003)=0, \"\", ROW($AE$13:$AE$1003)-MIN(ROW($AE$13:$AE$1003))+1), ROW(784:784))),\"\")","v":"__VI_18__D_N"},{"$f":"IF(AF796=\"\",\"\",IF(COUNTIF(CurrentListing,AF796)>1,AJ796,\"\"))","v":""},{"$f":"IF(LEN(AF796)=0,\"\",IF(ISNA(MATCH(AF796,MasterListing,0)),AJ796,\"\"))","v":""},null,"__VI_17__TRAN_N","","VI17TRANN","__VI_17__TRAN_N",1,"______",null,null,null,null,{"$f":"IF(ISNUMBER(SEARCH($F$6,AP795)),MAX($AO$11:AO794)+1,0)","v":784},0,{"$f":"ROWS($AQ$12:AQ795)","v":784},{"$f":"IFERROR(VLOOKUP(ROWS($AR$12:AR795),$AO$12:$AP$3014,2,0),\"\")","v":0}]
[null,null,null,null,null,null,null,null,null,null,null,null,null,null,null,null,null,null,null,null,null,null,null,null,null,null,{"$f":"IFERROR(INDEX($AE$13:$AE$1003, SMALL(IF(ISBLANK($AE$13:$AE$1003)+ISERROR($AE$13:$AE$1003)+LEN($AE$13:$AE$1003)=0, \"\", ROW($AE$13:$AE$1003)-MIN(ROW($AE$13:$AE$1003))+1), ROW(785:785))),\"\")","v":"__VI_18__DROPOUT_N"},{"$f":"IF(AF797=\"\",\"\",IF(COUNTIF(CurrentListing,AF797)>1,AJ797,\"\"))","v":""},{"$f":"IF(LEN(AF797)=0,\"\",IF(ISNA(MATCH(AF797,MasterListing,0)),AJ797,\"\"))","v":""},null,"__VI_18__D_N","","VI18DN","__VI_18__D_N",1,"______",null,null,null,null,{"$f":"IF(ISNUMBER(SEARCH($F$6,AP796)),MAX($AO$11:AO795)+1,0)","v":785},0,{"$f":"ROWS($AQ$12:AQ796)","v":785},{"$f":"IFERROR(VLOOKUP(ROWS($AR$12:AR796),$AO$12:$AP$3014,2,0),\"\")","v":0}]
[null,null,null,null,null,null,null,null,null,null,null,null,null,null,null,null,null,null,null,null,null,null,null,null,null,null,{"$f":"IFERROR(INDEX($AE$13:$AE$1003, SMALL(IF(ISBLANK($AE$13:$AE$1003)+ISERROR($AE$13:$AE$1003)+LEN($AE$13:$AE$1003)=0, \"\", ROW($AE$13:$AE$1003)-MIN(ROW($AE$13:$AE$1003))+1), ROW(786:786))),\"\")","v":"__VI_18__GHS_N"},{"$f":"IF(AF798=\"\",\"\",IF(COUNTIF(CurrentListing,AF798)>1,AJ798,\"\"))","v":""},{"$f":"IF(LEN(AF798)=0,\"\",IF(ISNA(MATCH(AF798,MasterListing,0)),AJ798,\"\"))","v":""},null,"__VI_18__DROPOUT_N","","VI18DROPOUTN","__VI_18__DROPOUT_N",1,"______",null,null,null,null,{"$f":"IF(ISNUMBER(SEARCH($F$6,AP797)),MAX($AO$11:AO796)+1,0)","v":786},0,{"$f":"ROWS($AQ$12:AQ797)","v":786},{"$f":"IFERROR(VLOOKUP(ROWS($AR$12:AR797),$AO$12:$AP$3014,2,0),\"\")","v":0}]
[null,null,null,null,null,null,null,null,null,null,null,null,null,null,null,null,null,null,null,null,null,null,null,null,null,null,{"$f":"IFERROR(INDEX($AE$13:$AE$1003, SMALL(IF(ISBLANK($AE$13:$AE$1003)+ISERROR($AE$13:$AE$1003)+LEN($AE$13:$AE$1003)=0, \"\", ROW($AE$13:$AE$1003)-MIN(ROW($AE$13:$AE$1003))+1), ROW(787:787))),\"\")","v":"__VI_18__GRADALTDPL_N"},{"$f":"IF(AF799=\"\",\"\",IF(COUNTIF(CurrentListing,AF799)>1,AJ799,\"\"))","v":""},{"$f":"IF(LEN(AF799)=0,\"\",IF(ISNA(MATCH(AF799,MasterListing,0)),AJ799,\"\"))","v":""},null,"__VI_18__GHS_N","","VI18GHSN","__VI_18__GHS_N",1,"______",null,null,null,null,{"$f":"IF(ISNUMBER(SEARCH($F$6,AP798)),MAX($AO$11:AO797)+1,0)","v":787},0,{"$f":"ROWS($AQ$12:AQ798)","v":787},{"$f":"IFERROR(VLOOKUP(ROWS($AR$12:AR798),$AO$12:$AP$3014,2,0),\"\")","v":0}]
[null,null,null,null,null,null,null,null,null,null,null,null,null,null,null,null,null,null,null,null,null,null,null,null,null,null,{"$f":"IFERROR(INDEX($AE$13:$AE$1003, SMALL(IF(ISBLANK($AE$13:$AE$1003)+ISERROR($AE$13:$AE$1003)+LEN($AE$13:$AE$1003)=0, \"\", ROW($AE$13:$AE$1003)-MIN(ROW($AE$13:$AE$1003))+1), ROW(788:788))),\"\")","v":"__VI_18__MKC_N"},{"$f":"IF(AF800=\"\",\"\",IF(COUNTIF(CurrentListing,AF800)>1,AJ800,\"\"))","v":""},{"$f":"IF(LEN(AF800)=0,\"\",IF(ISNA(MATCH(AF800,MasterListing,0)),AJ800,\"\"))","v":""},null,"__VI_18__GRADALTDPL_N","","VI18GRADALTDPLN","__VI_18__GRADALTDPL_N",1,"______",null,null,null,null,{"$f":"IF(ISNUMBER(SEARCH($F$6,AP799)),MAX($AO$11:AO798)+1,0)","v":788},0,{"$f":"ROWS($AQ$12:AQ799)","v":788},{"$f":"IFERROR(VLOOKUP(ROWS($AR$12:AR799),$AO$12:$AP$3014,2,0),\"\")","v":0}]
[null,null,null,null,null,null,null,null,null,null,null,null,null,null,null,null,null,null,null,null,null,null,null,null,null,null,{"$f":"IFERROR(INDEX($AE$13:$AE$1003, SMALL(IF(ISBLANK($AE$13:$AE$1003)+ISERROR($AE$13:$AE$1003)+LEN($AE$13:$AE$1003)=0, \"\", ROW($AE$13:$AE$1003)-MIN(ROW($AE$13:$AE$1003))+1), ROW(789:789))),\"\")","v":"__VI_18__RC_N"},{"$f":"IF(AF801=\"\",\"\",IF(COUNTIF(CurrentListing,AF801)>1,AJ801,\"\"))","v":""},{"$f":"IF(LEN(AF801)=0,\"\",IF(ISNA(MATCH(AF801,MasterListing,0)),AJ801,\"\"))","v":""},null,"__VI_18__MKC_N","","VI18MKCN","__VI_18__MKC_N",1,"______",null,null,null,null,{"$f":"IF(ISNUMBER(SEARCH($F$6,AP800)),MAX($AO$11:AO799)+1,0)","v":789},0,{"$f":"ROWS($AQ$12:AQ800)","v":789},{"$f":"IFERROR(VLOOKUP(ROWS($AR$12:AR800),$AO$12:$AP$3014,2,0),\"\")","v":0}]
[null,null,null,null,null,null,null,null,null,null,null,null,null,null,null,null,null,null,null,null,null,null,null,null,null,null,{"$f":"IFERROR(INDEX($AE$13:$AE$1003, SMALL(IF(ISBLANK($AE$13:$AE$1003)+ISERROR($AE$13:$AE$1003)+LEN($AE$13:$AE$1003)=0, \"\", ROW($AE$13:$AE$1003)-MIN(ROW($AE$13:$AE$1003))+1), ROW(790:790))),\"\")","v":"__VI_18__RMA_N"},{"$f":"IF(AF802=\"\",\"\",IF(COUNTIF(CurrentListing,AF802)>1,AJ802,\"\"))","v":""},{"$f":"IF(LEN(AF802)=0,\"\",IF(ISNA(MATCH(AF802,MasterListing,0)),AJ802,\"\"))","v":""},null,"__VI_18__RC_N","","VI18RCN","__VI_18__RC_N",1,"______",null,null,null,null,{"$f":"IF(ISNUMBER(SEARCH($F$6,AP801)),MAX($AO$11:AO800)+1,0)","v":790},0,{"$f":"ROWS($AQ$12:AQ801)","v":790},{"$f":"IFERROR(VLOOKUP(ROWS($AR$12:AR801),$AO$12:$AP$3014,2,0),\"\")","v":0}]
[null,null,null,null,null,null,null,null,null,null,null,null,null,null,null,null,null,null,null,null,null,null,null,null,null,null,{"$f":"IFERROR(INDEX($AE$13:$AE$1003, SMALL(IF(ISBLANK($AE$13:$AE$1003)+ISERROR($AE$13:$AE$1003)+LEN($AE$13:$AE$1003)=0, \"\", ROW($AE$13:$AE$1003)-MIN(ROW($AE$13:$AE$1003))+1), ROW(791:791))),\"\")","v":"__VI_18__TRAN_N"},{"$f":"IF(AF803=\"\",\"\",IF(COUNTIF(CurrentListing,AF803)>1,AJ803,\"\"))","v":""},{"$f":"IF(LEN(AF803)=0,\"\",IF(ISNA(MATCH(AF803,MasterListing,0)),AJ803,\"\"))","v":""},null,"__VI_18__RMA_N","","VI18RMAN","__VI_18__RMA_N",1,"______",null,null,null,null,{"$f":"IF(ISNUMBER(SEARCH($F$6,AP802)),MAX($AO$11:AO801)+1,0)","v":791},0,{"$f":"ROWS($AQ$12:AQ802)","v":791},{"$f":"IFERROR(VLOOKUP(ROWS($AR$12:AR802),$AO$12:$AP$3014,2,0),\"\")","v":0}]
[null,null,null,null,null,null,null,null,null,null,null,null,null,null,null,null,null,null,null,null,null,null,null,null,null,null,{"$f":"IFERROR(INDEX($AE$13:$AE$1003, SMALL(IF(ISBLANK($AE$13:$AE$1003)+ISERROR($AE$13:$AE$1003)+LEN($AE$13:$AE$1003)=0, \"\", ROW($AE$13:$AE$1003)-MIN(ROW($AE$13:$AE$1003))+1), ROW(792:792))),\"\")","v":"__VI_19__D_N"},{"$f":"IF(AF804=\"\",\"\",IF(COUNTIF(CurrentListing,AF804)>1,AJ804,\"\"))","v":""},{"$f":"IF(LEN(AF804)=0,\"\",IF(ISNA(MATCH(AF804,MasterListing,0)),AJ804,\"\"))","v":""},null,"__VI_18__TRAN_N","","VI18TRANN","__VI_18__TRAN_N",1,"______",null,null,null,null,{"$f":"IF(ISNUMBER(SEARCH($F$6,AP803)),MAX($AO$11:AO802)+1,0)","v":792},0,{"$f":"ROWS($AQ$12:AQ803)","v":792},{"$f":"IFERROR(VLOOKUP(ROWS($AR$12:AR803),$AO$12:$AP$3014,2,0),\"\")","v":0}]
[null,null,null,null,null,null,null,null,null,null,null,null,null,null,null,null,null,null,null,null,null,null,null,null,null,null,{"$f":"IFERROR(INDEX($AE$13:$AE$1003, SMALL(IF(ISBLANK($AE$13:$AE$1003)+ISERROR($AE$13:$AE$1003)+LEN($AE$13:$AE$1003)=0, \"\", ROW($AE$13:$AE$1003)-MIN(ROW($AE$13:$AE$1003))+1), ROW(793:793))),\"\")","v":"__VI_19__DROPOUT_N"},{"$f":"IF(AF805=\"\",\"\",IF(COUNTIF(CurrentListing,AF805)>1,AJ805,\"\"))","v":""},{"$f":"IF(LEN(AF805)=0,\"\",IF(ISNA(MATCH(AF805,MasterListing,0)),AJ805,\"\"))","v":""},null,"__VI_19__D_N","","VI19DN","__VI_19__D_N",1,"______",null,null,null,null,{"$f":"IF(ISNUMBER(SEARCH($F$6,AP804)),MAX($AO$11:AO803)+1,0)","v":793},0,{"$f":"ROWS($AQ$12:AQ804)","v":793},{"$f":"IFERROR(VLOOKUP(ROWS($AR$12:AR804),$AO$12:$AP$3014,2,0),\"\")","v":0}]
[null,null,null,null,null,null,null,null,null,null,null,null,null,null,null,null,null,null,null,null,null,null,null,null,null,null,{"$f":"IFERROR(INDEX($AE$13:$AE$1003, SMALL(IF(ISBLANK($AE$13:$AE$1003)+ISERROR($AE$13:$AE$1003)+LEN($AE$13:$AE$1003)=0, \"\", ROW($AE$13:$AE$1003)-MIN(ROW($AE$13:$AE$1003))+1), ROW(794:794))),\"\")","v":"__VI_19__GHS_N"},{"$f":"IF(AF806=\"\",\"\",IF(COUNTIF(CurrentListing,AF806)>1,AJ806,\"\"))","v":""},{"$f":"IF(LEN(AF806)=0,\"\",IF(ISNA(MATCH(AF806,MasterListing,0)),AJ806,\"\"))","v":""},null,"__VI_19__DROPOUT_N","","VI19DROPOUTN","__VI_19__DROPOUT_N",1,"______",null,null,null,null,{"$f":"IF(ISNUMBER(SEARCH($F$6,AP805)),MAX($AO$11:AO804)+1,0)","v":794},0,{"$f":"ROWS($AQ$12:AQ805)","v":794},{"$f":"IFERROR(VLOOKUP(ROWS($AR$12:AR805),$AO$12:$AP$3014,2,0),\"\")","v":0}]
[null,null,null,null,null,null,null,null,null,null,null,null,null,null,null,null,null,null,null,null,null,null,null,null,null,null,{"$f":"IFERROR(INDEX($AE$13:$AE$1003, SMALL(IF(ISBLANK($AE$13:$AE$1003)+ISERROR($AE$13:$AE$1003)+LEN($AE$13:$AE$1003)=0, \"\", ROW($AE$13:$AE$1003)-MIN(ROW($AE$13:$AE$1003))+1), ROW(795:795))),\"\")","v":"__VI_19__GRADALTDPL_N"},{"$f":"IF(AF807=\"\",\"\",IF(COUNTIF(CurrentListing,AF807)>1,AJ807,\"\"))","v":""},{"$f":"IF(LEN(AF807)=0,\"\",IF(ISNA(MATCH(AF807,MasterListing,0)),AJ807,\"\"))","v":""},null,"__VI_19__GHS_N","","VI19GHSN","__VI_19__GHS_N",1,"______",null,null,null,null,{"$f":"IF(ISNUMBER(SEARCH($F$6,AP806)),MAX($AO$11:AO805)+1,0)","v":795},0,{"$f":"ROWS($AQ$12:AQ806)","v":795},{"$f":"IFERROR(VLOOKUP(ROWS($AR$12:AR806),$AO$12:$AP$3014,2,0),\"\")","v":0}]
[null,null,null,null,null,null,null,null,null,null,null,null,null,null,null,null,null,null,null,null,null,null,null,null,null,null,{"$f":"IFERROR(INDEX($AE$13:$AE$1003, SMALL(IF(ISBLANK($AE$13:$AE$1003)+ISERROR($AE$13:$AE$1003)+LEN($AE$13:$AE$1003)=0, \"\", ROW($AE$13:$AE$1003)-MIN(ROW($AE$13:$AE$1003))+1), ROW(796:796))),\"\")","v":"__VI_19__MKC_N"},{"$f":"IF(AF808=\"\",\"\",IF(COUNTIF(CurrentListing,AF808)>1,AJ808,\"\"))","v":""},{"$f":"IF(LEN(AF808)=0,\"\",IF(ISNA(MATCH(AF808,MasterListing,0)),AJ808,\"\"))","v":""},null,"__VI_19__GRADALTDPL_N","","VI19GRADALTDPLN","__VI_19__GRADALTDPL_N",1,"______",null,null,null,null,{"$f":"IF(ISNUMBER(SEARCH($F$6,AP807)),MAX($AO$11:AO806)+1,0)","v":796},0,{"$f":"ROWS($AQ$12:AQ807)","v":796},{"$f":"IFERROR(VLOOKUP(ROWS($AR$12:AR807),$AO$12:$AP$3014,2,0),\"\")","v":0}]
[null,null,null,null,null,null,null,null,null,null,null,null,null,null,null,null,null,null,null,null,null,null,null,null,null,null,{"$f":"IFERROR(INDEX($AE$13:$AE$1003, SMALL(IF(ISBLANK($AE$13:$AE$1003)+ISERROR($AE$13:$AE$1003)+LEN($AE$13:$AE$1003)=0, \"\", ROW($AE$13:$AE$1003)-MIN(ROW($AE$13:$AE$1003))+1), ROW(797:797))),\"\")","v":"__VI_19__RC_N"},{"$f":"IF(AF809=\"\",\"\",IF(COUNTIF(CurrentListing,AF809)>1,AJ809,\"\"))","v":""},{"$f":"IF(LEN(AF809)=0,\"\",IF(ISNA(MATCH(AF809,MasterListing,0)),AJ809,\"\"))","v":""},null,"__VI_19__MKC_N","","VI19MKCN","__VI_19__MKC_N",1,"______",null,null,null,null,{"$f":"IF(ISNUMBER(SEARCH($F$6,AP808)),MAX($AO$11:AO807)+1,0)","v":797},0,{"$f":"ROWS($AQ$12:AQ808)","v":797},{"$f":"IFERROR(VLOOKUP(ROWS($AR$12:AR808),$AO$12:$AP$3014,2,0),\"\")","v":0}]
[null,null,null,null,null,null,null,null,null,null,null,null,null,null,null,null,null,null,null,null,null,null,null,null,null,null,{"$f":"IFERROR(INDEX($AE$13:$AE$1003, SMALL(IF(ISBLANK($AE$13:$AE$1003)+ISERROR($AE$13:$AE$1003)+LEN($AE$13:$AE$1003)=0, \"\", ROW($AE$13:$AE$1003)-MIN(ROW($AE$13:$AE$1003))+1), ROW(798:798))),\"\")","v":"__VI_19__RMA_N"},{"$f":"IF(AF810=\"\",\"\",IF(COUNTIF(CurrentListing,AF810)>1,AJ810,\"\"))","v":""},{"$f":"IF(LEN(AF810)=0,\"\",IF(ISNA(MATCH(AF810,MasterListing,0)),AJ810,\"\"))","v":""},null,"__VI_19__RC_N","","VI19RCN","__VI_19__RC_N",1,"______",null,null,null,null,{"$f":"IF(ISNUMBER(SEARCH($F$6,AP809)),MAX($AO$11:AO808)+1,0)","v":798},0,{"$f":"ROWS($AQ$12:AQ809)","v":798},{"$f":"IFERROR(VLOOKUP(ROWS($AR$12:AR809),$AO$12:$AP$3014,2,0),\"\")","v":0}]
[null,null,null,null,null,null,null,null,null,null,null,null,null,null,null,null,null,null,null,null,null,null,null,null,null,null,{"$f":"IFERROR(INDEX($AE$13:$AE$1003, SMALL(IF(ISBLANK($AE$13:$AE$1003)+ISERROR($AE$13:$AE$1003)+LEN($AE$13:$AE$1003)=0, \"\", ROW($AE$13:$AE$1003)-MIN(ROW($AE$13:$AE$1003))+1), ROW(799:799))),\"\")","v":"__VI_19__TRAN_N"},{"$f":"IF(AF811=\"\",\"\",IF(COUNTIF(CurrentListing,AF811)>1,AJ811,\"\"))","v":""},{"$f":"IF(LEN(AF811)=0,\"\",IF(ISNA(MATCH(AF811,MasterListing,0)),AJ811,\"\"))","v":""},null,"__VI_19__RMA_N","","VI19RMAN","__VI_19__RMA_N",1,"______",null,null,null,null,{"$f":"IF(ISNUMBER(SEARCH($F$6,AP810)),MAX($AO$11:AO809)+1,0)","v":799},0,{"$f":"ROWS($AQ$12:AQ810)","v":799},{"$f":"IFERROR(VLOOKUP(ROWS($AR$12:AR810),$AO$12:$AP$3014,2,0),\"\")","v":0}]
[null,null,null,null,null,null,null,null,null,null,null,null,null,null,null,null,null,null,null,null,null,null,null,null,null,null,{"$f":"IFERROR(INDEX($AE$13:$AE$1003, SMALL(IF(ISBLANK($AE$13:$AE$1003)+ISERROR($AE$13:$AE$1003)+LEN($AE$13:$AE$1003)=0, \"\", ROW($AE$13:$AE$1003)-MIN(ROW($AE$13:$AE$1003))+1), ROW(800:800))),\"\")","v":"__VI_20__D_N"},{"$f":"IF(AF812=\"\",\"\",IF(COUNTIF(CurrentListing,AF812)>1,AJ812,\"\"))","v":""},{"$f":"IF(LEN(AF812)=0,\"\",IF(ISNA(MATCH(AF812,MasterListing,0)),AJ812,\"\"))","v":""},null,"__VI_19__TRAN_N","","VI19TRANN","__VI_19__TRAN_N",1,"______",null,null,null,null,{"$f":"IF(ISNUMBER(SEARCH($F$6,AP811)),MAX($AO$11:AO810)+1,0)","v":800},0,{"$f":"ROWS($AQ$12:AQ811)","v":800},{"$f":"IFERROR(VLOOKUP(ROWS($AR$12:AR811),$AO$12:$AP$3014,2,0),\"\")","v":0}]
[null,null,null,null,null,null,null,null,null,null,null,null,null,null,null,null,null,null,null,null,null,null,null,null,null,null,{"$f":"IFERROR(INDEX($AE$13:$AE$1003, SMALL(IF(ISBLANK($AE$13:$AE$1003)+ISERROR($AE$13:$AE$1003)+LEN($AE$13:$AE$1003)=0, \"\", ROW($AE$13:$AE$1003)-MIN(ROW($AE$13:$AE$1003))+1), ROW(801:801))),\"\")","v":"__VI_20__DROPOUT_N"},{"$f":"IF(AF813=\"\",\"\",IF(COUNTIF(CurrentListing,AF813)>1,AJ813,\"\"))","v":""},{"$f":"IF(LEN(AF813)=0,\"\",IF(ISNA(MATCH(AF813,MasterListing,0)),AJ813,\"\"))","v":""},null,"__VI_20__D_N","","VI20DN","__VI_20__D_N",1,"______",null,null,null,null,{"$f":"IF(ISNUMBER(SEARCH($F$6,AP812)),MAX($AO$11:AO811)+1,0)","v":801},0,{"$f":"ROWS($AQ$12:AQ812)","v":801},{"$f":"IFERROR(VLOOKUP(ROWS($AR$12:AR812),$AO$12:$AP$3014,2,0),\"\")","v":0}]
[null,null,null,null,null,null,null,null,null,null,null,null,null,null,null,null,null,null,null,null,null,null,null,null,null,null,{"$f":"IFERROR(INDEX($AE$13:$AE$1003, SMALL(IF(ISBLANK($AE$13:$AE$1003)+ISERROR($AE$13:$AE$1003)+LEN($AE$13:$AE$1003)=0, \"\", ROW($AE$13:$AE$1003)-MIN(ROW($AE$13:$AE$1003))+1), ROW(802:802))),\"\")","v":"__VI_20__GHS_N"},{"$f":"IF(AF814=\"\",\"\",IF(COUNTIF(CurrentListing,AF814)>1,AJ814,\"\"))","v":""},{"$f":"IF(LEN(AF814)=0,\"\",IF(ISNA(MATCH(AF814,MasterListing,0)),AJ814,\"\"))","v":""},null,"__VI_20__DROPOUT_N","","VI20DROPOUTN","__VI_20__DROPOUT_N",1,"______",null,null,null,null,{"$f":"IF(ISNUMBER(SEARCH($F$6,AP813)),MAX($AO$11:AO812)+1,0)","v":802},0,{"$f":"ROWS($AQ$12:AQ813)","v":802},{"$f":"IFERROR(VLOOKUP(ROWS($AR$12:AR813),$AO$12:$AP$3014,2,0),\"\")","v":0}]
[null,null,null,null,null,null,null,null,null,null,null,null,null,null,null,null,null,null,null,null,null,null,null,null,null,null,{"$f":"IFERROR(INDEX($AE$13:$AE$1003, SMALL(IF(ISBLANK($AE$13:$AE$1003)+ISERROR($AE$13:$AE$1003)+LEN($AE$13:$AE$1003)=0, \"\", ROW($AE$13:$AE$1003)-MIN(ROW($AE$13:$AE$1003))+1), ROW(803:803))),\"\")","v":"__VI_20__GRADALTDPL_N"},{"$f":"IF(AF815=\"\",\"\",IF(COUNTIF(CurrentListing,AF815)>1,AJ815,\"\"))","v":""},{"$f":"IF(LEN(AF815)=0,\"\",IF(ISNA(MATCH(AF815,MasterListing,0)),AJ815,\"\"))","v":""},null,"__VI_20__GHS_N","","VI20GHSN","__VI_20__GHS_N",1,"______",null,null,null,null,{"$f":"IF(ISNUMBER(SEARCH($F$6,AP814)),MAX($AO$11:AO813)+1,0)","v":803},0,{"$f":"ROWS($AQ$12:AQ814)","v":803},{"$f":"IFERROR(VLOOKUP(ROWS($AR$12:AR814),$AO$12:$AP$3014,2,0),\"\")","v":0}]
[null,null,null,null,null,null,null,null,null,null,null,null,null,null,null,null,null,null,null,null,null,null,null,null,null,null,{"$f":"IFERROR(INDEX($AE$13:$AE$1003, SMALL(IF(ISBLANK($AE$13:$AE$1003)+ISERROR($AE$13:$AE$1003)+LEN($AE$13:$AE$1003)=0, \"\", ROW($AE$13:$AE$1003)-MIN(ROW($AE$13:$AE$1003))+1), ROW(804:804))),\"\")","v":"__VI_20__MKC_N"},{"$f":"IF(AF816=\"\",\"\",IF(COUNTIF(CurrentListing,AF816)>1,AJ816,\"\"))","v":""},{"$f":"IF(LEN(AF816)=0,\"\",IF(ISNA(MATCH(AF816,MasterListing,0)),AJ816,\"\"))","v":""},null,"__VI_20__GRADALTDPL_N","","VI20GRADALTDPLN","__VI_20__GRADALTDPL_N",1,"______",null,null,null,null,{"$f":"IF(ISNUMBER(SEARCH($F$6,AP815)),MAX($AO$11:AO814)+1,0)","v":804},0,{"$f":"ROWS($AQ$12:AQ815)","v":804},{"$f":"IFERROR(VLOOKUP(ROWS($AR$12:AR815),$AO$12:$AP$3014,2,0),\"\")","v":0}]
[null,null,null,null,null,null,null,null,null,null,null,null,null,null,null,null,null,null,null,null,null,null,null,null,null,null,{"$f":"IFERROR(INDEX($AE$13:$AE$1003, SMALL(IF(ISBLANK($AE$13:$AE$1003)+ISERROR($AE$13:$AE$1003)+LEN($AE$13:$AE$1003)=0, \"\", ROW($AE$13:$AE$1003)-MIN(ROW($AE$13:$AE$1003))+1), ROW(805:805))),\"\")","v":"__VI_20__RC_N"},{"$f":"IF(AF817=\"\",\"\",IF(COUNTIF(CurrentListing,AF817)>1,AJ817,\"\"))","v":""},{"$f":"IF(LEN(AF817)=0,\"\",IF(ISNA(MATCH(AF817,MasterListing,0)),AJ817,\"\"))","v":""},null,"__VI_20__MKC_N","","VI20MKCN","__VI_20__MKC_N",1,"______",null,null,null,null,{"$f":"IF(ISNUMBER(SEARCH($F$6,AP816)),MAX($AO$11:AO815)+1,0)","v":805},0,{"$f":"ROWS($AQ$12:AQ816)","v":805},{"$f":"IFERROR(VLOOKUP(ROWS($AR$12:AR816),$AO$12:$AP$3014,2,0),\"\")","v":0}]
[null,null,null,null,null,null,null,null,null,null,null,null,null,null,null,null,null,null,null,null,null,null,null,null,null,null,{"$f":"IFERROR(INDEX($AE$13:$AE$1003, SMALL(IF(ISBLANK($AE$13:$AE$1003)+ISERROR($AE$13:$AE$1003)+LEN($AE$13:$AE$1003)=0, \"\", ROW($AE$13:$AE$1003)-MIN(ROW($AE$13:$AE$1003))+1), ROW(806:806))),\"\")","v":"__VI_20__RMA_N"},{"$f":"IF(AF818=\"\",\"\",IF(COUNTIF(CurrentListing,AF818)>1,AJ818,\"\"))","v":""},{"$f":"IF(LEN(AF818)=0,\"\",IF(ISNA(MATCH(AF818,MasterListing,0)),AJ818,\"\"))","v":""},null,"__VI_20__RC_N","","VI20RCN","__VI_20__RC_N",1,"______",null,null,null,null,{"$f":"IF(ISNUMBER(SEARCH($F$6,AP817)),MAX($AO$11:AO816)+1,0)","v":806},0,{"$f":"ROWS($AQ$12:AQ817)","v":806},{"$f":"IFERROR(VLOOKUP(ROWS($AR$12:AR817),$AO$12:$AP$3014,2,0),\"\")","v":0}]
[null,null,null,null,null,null,null,null,null,null,null,null,null,null,null,null,null,null,null,null,null,null,null,null,null,null,{"$f":"IFERROR(INDEX($AE$13:$AE$1003, SMALL(IF(ISBLANK($AE$13:$AE$1003)+ISERROR($AE$13:$AE$1003)+LEN($AE$13:$AE$1003)=0, \"\", ROW($AE$13:$AE$1003)-MIN(ROW($AE$13:$AE$1003))+1), ROW(807:807))),\"\")","v":"__VI_20__TRAN_N"},{"$f":"IF(AF819=\"\",\"\",IF(COUNTIF(CurrentListing,AF819)>1,AJ819,\"\"))","v":""},{"$f":"IF(LEN(AF819)=0,\"\",IF(ISNA(MATCH(AF819,MasterListing,0)),AJ819,\"\"))","v":""},null,"__VI_20__RMA_N","","VI20RMAN","__VI_20__RMA_N",1,"______",null,null,null,null,{"$f":"IF(ISNUMBER(SEARCH($F$6,AP818)),MAX($AO$11:AO817)+1,0)","v":807},0,{"$f":"ROWS($AQ$12:AQ818)","v":807},{"$f":"IFERROR(VLOOKUP(ROWS($AR$12:AR818),$AO$12:$AP$3014,2,0),\"\")","v":0}]
[null,null,null,null,null,null,null,null,null,null,null,null,null,null,null,null,null,null,null,null,null,null,null,null,null,null,{"$f":"IFERROR(INDEX($AE$13:$AE$1003, SMALL(IF(ISBLANK($AE$13:$AE$1003)+ISERROR($AE$13:$AE$1003)+LEN($AE$13:$AE$1003)=0, \"\", ROW($AE$13:$AE$1003)-MIN(ROW($AE$13:$AE$1003))+1), ROW(808:808))),\"\")","v":"__VI_21__D_N"},{"$f":"IF(AF820=\"\",\"\",IF(COUNTIF(CurrentListing,AF820)>1,AJ820,\"\"))","v":""},{"$f":"IF(LEN(AF820)=0,\"\",IF(ISNA(MATCH(AF820,MasterListing,0)),AJ820,\"\"))","v":""},null,"__VI_20__TRAN_N","","VI20TRANN","__VI_20__TRAN_N",1,"______",null,null,null,null,{"$f":"IF(ISNUMBER(SEARCH($F$6,AP819)),MAX($AO$11:AO818)+1,0)","v":808},0,{"$f":"ROWS($AQ$12:AQ819)","v":808},{"$f":"IFERROR(VLOOKUP(ROWS($AR$12:AR819),$AO$12:$AP$3014,2,0),\"\")","v":0}]
[null,null,null,null,null,null,null,null,null,null,null,null,null,null,null,null,null,null,null,null,null,null,null,null,null,null,{"$f":"IFERROR(INDEX($AE$13:$AE$1003, SMALL(IF(ISBLANK($AE$13:$AE$1003)+ISERROR($AE$13:$AE$1003)+LEN($AE$13:$AE$1003)=0, \"\", ROW($AE$13:$AE$1003)-MIN(ROW($AE$13:$AE$1003))+1), ROW(809:809))),\"\")","v":"__VI_21__DROPOUT_N"},{"$f":"IF(AF821=\"\",\"\",IF(COUNTIF(CurrentListing,AF821)>1,AJ821,\"\"))","v":""},{"$f":"IF(LEN(AF821)=0,\"\",IF(ISNA(MATCH(AF821,MasterListing,0)),AJ821,\"\"))","v":""},null,"__VI_21__D_N","","VI21DN","__VI_21__D_N",1,"______",null,null,null,null,{"$f":"IF(ISNUMBER(SEARCH($F$6,AP820)),MAX($AO$11:AO819)+1,0)","v":809},0,{"$f":"ROWS($AQ$12:AQ820)","v":809},{"$f":"IFERROR(VLOOKUP(ROWS($AR$12:AR820),$AO$12:$AP$3014,2,0),\"\")","v":0}]
[null,null,null,null,null,null,null,null,null,null,null,null,null,null,null,null,null,null,null,null,null,null,null,null,null,null,{"$f":"IFERROR(INDEX($AE$13:$AE$1003, SMALL(IF(ISBLANK($AE$13:$AE$1003)+ISERROR($AE$13:$AE$1003)+LEN($AE$13:$AE$1003)=0, \"\", ROW($AE$13:$AE$1003)-MIN(ROW($AE$13:$AE$1003))+1), ROW(810:810))),\"\")","v":"__VI_21__GHS_N"},{"$f":"IF(AF822=\"\",\"\",IF(COUNTIF(CurrentListing,AF822)>1,AJ822,\"\"))","v":""},{"$f":"IF(LEN(AF822)=0,\"\",IF(ISNA(MATCH(AF822,MasterListing,0)),AJ822,\"\"))","v":""},null,"__VI_21__DROPOUT_N","","VI21DROPOUTN","__VI_21__DROPOUT_N",1,"______",null,null,null,null,{"$f":"IF(ISNUMBER(SEARCH($F$6,AP821)),MAX($AO$11:AO820)+1,0)","v":810},0,{"$f":"ROWS($AQ$12:AQ821)","v":810},{"$f":"IFERROR(VLOOKUP(ROWS($AR$12:AR821),$AO$12:$AP$3014,2,0),\"\")","v":0}]
[null,null,null,null,null,null,null,null,null,null,null,null,null,null,null,null,null,null,null,null,null,null,null,null,null,null,{"$f":"IFERROR(INDEX($AE$13:$AE$1003, SMALL(IF(ISBLANK($AE$13:$AE$1003)+ISERROR($AE$13:$AE$1003)+LEN($AE$13:$AE$1003)=0, \"\", ROW($AE$13:$AE$1003)-MIN(ROW($AE$13:$AE$1003))+1), ROW(811:811))),\"\")","v":"__VI_21__GRADALTDPL_N"},{"$f":"IF(AF823=\"\",\"\",IF(COUNTIF(CurrentListing,AF823)>1,AJ823,\"\"))","v":""},{"$f":"IF(LEN(AF823)=0,\"\",IF(ISNA(MATCH(AF823,MasterListing,0)),AJ823,\"\"))","v":""},null,"__VI_21__GHS_N","","VI21GHSN","__VI_21__GHS_N",1,"______",null,null,null,null,{"$f":"IF(ISNUMBER(SEARCH($F$6,AP822)),MAX($AO$11:AO821)+1,0)","v":811},0,{"$f":"ROWS($AQ$12:AQ822)","v":811},{"$f":"IFERROR(VLOOKUP(ROWS($AR$12:AR822),$AO$12:$AP$3014,2,0),\"\")","v":0}]
[null,null,null,null,null,null,null,null,null,null,null,null,null,null,null,null,null,null,null,null,null,null,null,null,null,null,{"$f":"IFERROR(INDEX($AE$13:$AE$1003, SMALL(IF(ISBLANK($AE$13:$AE$1003)+ISERROR($AE$13:$AE$1003)+LEN($AE$13:$AE$1003)=0, \"\", ROW($AE$13:$AE$1003)-MIN(ROW($AE$13:$AE$1003))+1), ROW(812:812))),\"\")","v":"__VI_21__MKC_N"},{"$f":"IF(AF824=\"\",\"\",IF(COUNTIF(CurrentListing,AF824)>1,AJ824,\"\"))","v":""},{"$f":"IF(LEN(AF824)=0,\"\",IF(ISNA(MATCH(AF824,MasterListing,0)),AJ824,\"\"))","v":""},null,"__VI_21__GRADALTDPL_N","","VI21GRADALTDPLN","__VI_21__GRADALTDPL_N",1,"______",null,null,null,null,{"$f":"IF(ISNUMBER(SEARCH($F$6,AP823)),MAX($AO$11:AO822)+1,0)","v":812},0,{"$f":"ROWS($AQ$12:AQ823)","v":812},{"$f":"IFERROR(VLOOKUP(ROWS($AR$12:AR823),$AO$12:$AP$3014,2,0),\"\")","v":0}]
[null,null,null,null,null,null,null,null,null,null,null,null,null,null,null,null,null,null,null,null,null,null,null,null,null,null,{"$f":"IFERROR(INDEX($AE$13:$AE$1003, SMALL(IF(ISBLANK($AE$13:$AE$1003)+ISERROR($AE$13:$AE$1003)+LEN($AE$13:$AE$1003)=0, \"\", ROW($AE$13:$AE$1003)-MIN(ROW($AE$13:$AE$1003))+1), ROW(813:813))),\"\")","v":"__VI_21__RC_N"},{"$f":"IF(AF825=\"\",\"\",IF(COUNTIF(CurrentListing,AF825)>1,AJ825,\"\"))","v":""},{"$f":"IF(LEN(AF825)=0,\"\",IF(ISNA(MATCH(AF825,MasterListing,0)),AJ825,\"\"))","v":""},null,"__VI_21__MKC_N","","VI21MKCN","__VI_21__MKC_N",1,"______",null,null,null,null,{"$f":"IF(ISNUMBER(SEARCH($F$6,AP824)),MAX($AO$11:AO823)+1,0)","v":813},0,{"$f":"ROWS($AQ$12:AQ824)","v":813},{"$f":"IFERROR(VLOOKUP(ROWS($AR$12:AR824),$AO$12:$AP$3014,2,0),\"\")","v":0}]
[null,null,null,null,null,null,null,null,null,null,null,null,null,null,null,null,null,null,null,null,null,null,null,null,null,null,{"$f":"IFERROR(INDEX($AE$13:$AE$1003, SMALL(IF(ISBLANK($AE$13:$AE$1003)+ISERROR($AE$13:$AE$1003)+LEN($AE$13:$AE$1003)=0, \"\", ROW($AE$13:$AE$1003)-MIN(ROW($AE$13:$AE$1003))+1), ROW(814:814))),\"\")","v":"__VI_21__RMA_N"},{"$f":"IF(AF826=\"\",\"\",IF(COUNTIF(CurrentListing,AF826)>1,AJ826,\"\"))","v":""},{"$f":"IF(LEN(AF826)=0,\"\",IF(ISNA(MATCH(AF826,MasterListing,0)),AJ826,\"\"))","v":""},null,"__VI_21__RC_N","","VI21RCN","__VI_21__RC_N",1,"______",null,null,null,null,{"$f":"IF(ISNUMBER(SEARCH($F$6,AP825)),MAX($AO$11:AO824)+1,0)","v":814},0,{"$f":"ROWS($AQ$12:AQ825)","v":814},{"$f":"IFERROR(VLOOKUP(ROWS($AR$12:AR825),$AO$12:$AP$3014,2,0),\"\")","v":0}]
[null,null,null,null,null,null,null,null,null,null,null,null,null,null,null,null,null,null,null,null,null,null,null,null,null,null,{"$f":"IFERROR(INDEX($AE$13:$AE$1003, SMALL(IF(ISBLANK($AE$13:$AE$1003)+ISERROR($AE$13:$AE$1003)+LEN($AE$13:$AE$1003)=0, \"\", ROW($AE$13:$AE$1003)-MIN(ROW($AE$13:$AE$1003))+1), ROW(815:815))),\"\")","v":"__VI_21__TRAN_N"},{"$f":"IF(AF827=\"\",\"\",IF(COUNTIF(CurrentListing,AF827)>1,AJ827,\"\"))","v":""},{"$f":"IF(LEN(AF827)=0,\"\",IF(ISNA(MATCH(AF827,MasterListing,0)),AJ827,\"\"))","v":""},null,"__VI_21__RMA_N","","VI21RMAN","__VI_21__RMA_N",1,"______",null,null,null,null,{"$f":"IF(ISNUMBER(SEARCH($F$6,AP826)),MAX($AO$11:AO825)+1,0)","v":815},0,{"$f":"ROWS($AQ$12:AQ826)","v":815},{"$f":"IFERROR(VLOOKUP(ROWS($AR$12:AR826),$AO$12:$AP$3014,2,0),\"\")","v":0}]
[null,null,null,null,null,null,null,null,null,null,null,null,null,null,null,null,null,null,null,null,null,null,null,null,null,null,{"$f":"IFERROR(INDEX($AE$13:$AE$1003, SMALL(IF(ISBLANK($AE$13:$AE$1003)+ISERROR($AE$13:$AE$1003)+LEN($AE$13:$AE$1003)=0, \"\", ROW($AE$13:$AE$1003)-MIN(ROW($AE$13:$AE$1003))+1), ROW(816:816))),\"\")","v":"_F_____Y"},{"$f":"IF(AF828=\"\",\"\",IF(COUNTIF(CurrentListing,AF828)>1,AJ828,\"\"))","v":""},{"$f":"IF(LEN(AF828)=0,\"\",IF(ISNA(MATCH(AF828,MasterListing,0)),AJ828,\"\"))","v":""},null,"__VI_21__TRAN_N","","VI21TRANN","__VI_21__TRAN_N",1,"______",null,null,null,null,{"$f":"IF(ISNUMBER(SEARCH($F$6,AP827)),MAX($AO$11:AO826)+1,0)","v":816},0,{"$f":"ROWS($AQ$12:AQ827)","v":816},{"$f":"IFERROR(VLOOKUP(ROWS($AR$12:AR827),$AO$12:$AP$3014,2,0),\"\")","v":0}]
[null,null,null,null,null,null,null,null,null,null,null,null,null,null,null,null,null,null,null,null,null,null,null,null,null,null,{"$f":"IFERROR(INDEX($AE$13:$AE$1003, SMALL(IF(ISBLANK($AE$13:$AE$1003)+ISERROR($AE$13:$AE$1003)+LEN($AE$13:$AE$1003)=0, \"\", ROW($AE$13:$AE$1003)-MIN(ROW($AE$13:$AE$1003))+1), ROW(817:817))),\"\")","v":"_F____D_N"},{"$f":"IF(AF829=\"\",\"\",IF(COUNTIF(CurrentListing,AF829)>1,AJ829,\"\"))","v":""},{"$f":"IF(LEN(AF829)=0,\"\",IF(ISNA(MATCH(AF829,MasterListing,0)),AJ829,\"\"))","v":""},null,"_F_____Y","","FY","_F_____Y",1,"______",null,null,null,null,{"$f":"IF(ISNUMBER(SEARCH($F$6,AP828)),MAX($AO$11:AO827)+1,0)","v":817},0,{"$f":"ROWS($AQ$12:AQ828)","v":817},{"$f":"IFERROR(VLOOKUP(ROWS($AR$12:AR828),$AO$12:$AP$3014,2,0),\"\")","v":0}]
[null,null,null,null,null,null,null,null,null,null,null,null,null,null,null,null,null,null,null,null,null,null,null,null,null,null,{"$f":"IFERROR(INDEX($AE$13:$AE$1003, SMALL(IF(ISBLANK($AE$13:$AE$1003)+ISERROR($AE$13:$AE$1003)+LEN($AE$13:$AE$1003)=0, \"\", ROW($AE$13:$AE$1003)-MIN(ROW($AE$13:$AE$1003))+1), ROW(818:818))),\"\")","v":"_F____DROPOUT_N"},{"$f":"IF(AF830=\"\",\"\",IF(COUNTIF(CurrentListing,AF830)>1,AJ830,\"\"))","v":""},{"$f":"IF(LEN(AF830)=0,\"\",IF(ISNA(MATCH(AF830,MasterListing,0)),AJ830,\"\"))","v":""},null,"_F____D_N","","FDN","_F____D_N",1,"______",null,null,null,null,{"$f":"IF(ISNUMBER(SEARCH($F$6,AP829)),MAX($AO$11:AO828)+1,0)","v":818},0,{"$f":"ROWS($AQ$12:AQ829)","v":818},{"$f":"IFERROR(VLOOKUP(ROWS($AR$12:AR829),$AO$12:$AP$3014,2,0),\"\")","v":0}]
[null,null,null,null,null,null,null,null,null,null,null,null,null,null,null,null,null,null,null,null,null,null,null,null,null,null,{"$f":"IFERROR(INDEX($AE$13:$AE$1003, SMALL(IF(ISBLANK($AE$13:$AE$1003)+ISERROR($AE$13:$AE$1003)+LEN($AE$13:$AE$1003)=0, \"\", ROW($AE$13:$AE$1003)-MIN(ROW($AE$13:$AE$1003))+1), ROW(819:819))),\"\")","v":"_F____GHS_N"},{"$f":"IF(AF831=\"\",\"\",IF(COUNTIF(CurrentListing,AF831)>1,AJ831,\"\"))","v":""},{"$f":"IF(LEN(AF831)=0,\"\",IF(ISNA(MATCH(AF831,MasterListing,0)),AJ831,\"\"))","v":""},null,"_F____DROPOUT_N","","FDROPOUTN","_F____DROPOUT_N",1,"______",null,null,null,null,{"$f":"IF(ISNUMBER(SEARCH($F$6,AP830)),MAX($AO$11:AO829)+1,0)","v":819},0,{"$f":"ROWS($AQ$12:AQ830)","v":819},{"$f":"IFERROR(VLOOKUP(ROWS($AR$12:AR830),$AO$12:$AP$3014,2,0),\"\")","v":0}]
[null,null,null,null,null,null,null,null,null,null,null,null,null,null,null,null,null,null,null,null,null,null,null,null,null,null,{"$f":"IFERROR(INDEX($AE$13:$AE$1003, SMALL(IF(ISBLANK($AE$13:$AE$1003)+ISERROR($AE$13:$AE$1003)+LEN($AE$13:$AE$1003)=0, \"\", ROW($AE$13:$AE$1003)-MIN(ROW($AE$13:$AE$1003))+1), ROW(820:820))),\"\")","v":"_F____GRADALTDPL_N"},{"$f":"IF(AF832=\"\",\"\",IF(COUNTIF(CurrentListing,AF832)>1,AJ832,\"\"))","v":""},{"$f":"IF(LEN(AF832)=0,\"\",IF(ISNA(MATCH(AF832,MasterListing,0)),AJ832,\"\"))","v":""},null,"_F____GHS_N","","FGHSN","_F____GHS_N",1,"______",null,null,null,null,{"$f":"IF(ISNUMBER(SEARCH($F$6,AP831)),MAX($AO$11:AO830)+1,0)","v":820},0,{"$f":"ROWS($AQ$12:AQ831)","v":820},{"$f":"IFERROR(VLOOKUP(ROWS($AR$12:AR831),$AO$12:$AP$3014,2,0),\"\")","v":0}]
[null,null,null,null,null,null,null,null,null,null,null,null,null,null,null,null,null,null,null,null,null,null,null,null,null,null,{"$f":"IFERROR(INDEX($AE$13:$AE$1003, SMALL(IF(ISBLANK($AE$13:$AE$1003)+ISERROR($AE$13:$AE$1003)+LEN($AE$13:$AE$1003)=0, \"\", ROW($AE$13:$AE$1003)-MIN(ROW($AE$13:$AE$1003))+1), ROW(821:821))),\"\")","v":"_F____MKC_N"},{"$f":"IF(AF833=\"\",\"\",IF(COUNTIF(CurrentListing,AF833)>1,AJ833,\"\"))","v":""},{"$f":"IF(LEN(AF833)=0,\"\",IF(ISNA(MATCH(AF833,MasterListing,0)),AJ833,\"\"))","v":""},null,"_F____GRADALTDPL_N","","FGRADALTDPLN","_F____GRADALTDPL_N",1,"______",null,null,null,null,{"$f":"IF(ISNUMBER(SEARCH($F$6,AP832)),MAX($AO$11:AO831)+1,0)","v":821},0,{"$f":"ROWS($AQ$12:AQ832)","v":821},{"$f":"IFERROR(VLOOKUP(ROWS($AR$12:AR832),$AO$12:$AP$3014,2,0),\"\")","v":0}]
[null,null,null,null,null,null,null,null,null,null,null,null,null,null,null,null,null,null,null,null,null,null,null,null,null,null,{"$f":"IFERROR(INDEX($AE$13:$AE$1003, SMALL(IF(ISBLANK($AE$13:$AE$1003)+ISERROR($AE$13:$AE$1003)+LEN($AE$13:$AE$1003)=0, \"\", ROW($AE$13:$AE$1003)-MIN(ROW($AE$13:$AE$1003))+1), ROW(822:822))),\"\")","v":"_F____RC_N"},{"$f":"IF(AF834=\"\",\"\",IF(COUNTIF(CurrentListing,AF834)>1,AJ834,\"\"))","v":""},{"$f":"IF(LEN(AF834)=0,\"\",IF(ISNA(MATCH(AF834,MasterListing,0)),AJ834,\"\"))","v":""},null,"_F____MKC_N","","FMKCN","_F____MKC_N",1,"______",null,null,null,null,{"$f":"IF(ISNUMBER(SEARCH($F$6,AP833)),MAX($AO$11:AO832)+1,0)","v":822},0,{"$f":"ROWS($AQ$12:AQ833)","v":822},{"$f":"IFERROR(VLOOKUP(ROWS($AR$12:AR833),$AO$12:$AP$3014,2,0),\"\")","v":0}]
[null,null,null,null,null,null,null,null,null,null,null,null,null,null,null,null,null,null,null,null,null,null,null,null,null,null,{"$f":"IFERROR(INDEX($AE$13:$AE$1003, SMALL(IF(ISBLANK($AE$13:$AE$1003)+ISERROR($AE$13:$AE$1003)+LEN($AE$13:$AE$1003)=0, \"\", ROW($AE$13:$AE$1003)-MIN(ROW($AE$13:$AE$1003))+1), ROW(823:823))),\"\")","v":"_F____RMA_N"},{"$f":"IF(AF835=\"\",\"\",IF(COUNTIF(CurrentListing,AF835)>1,AJ835,\"\"))","v":""},{"$f":"IF(LEN(AF835)=0,\"\",IF(ISNA(MATCH(AF835,MasterListing,0)),AJ835,\"\"))","v":""},null,"_F____RC_N","","FRCN","_F____RC_N",1,"______",null,null,null,null,{"$f":"IF(ISNUMBER(SEARCH($F$6,AP834)),MAX($AO$11:AO833)+1,0)","v":823},0,{"$f":"ROWS($AQ$12:AQ834)","v":823},{"$f":"IFERROR(VLOOKUP(ROWS($AR$12:AR834),$AO$12:$AP$3014,2,0),\"\")","v":0}]
[null,null,null,null,null,null,null,null,null,null,null,null,null,null,null,null,null,null,null,null,null,null,null,null,null,null,{"$f":"IFERROR(INDEX($AE$13:$AE$1003, SMALL(IF(ISBLANK($AE$13:$AE$1003)+ISERROR($AE$13:$AE$1003)+LEN($AE$13:$AE$1003)=0, \"\", ROW($AE$13:$AE$1003)-MIN(ROW($AE$13:$AE$1003))+1), ROW(824:824))),\"\")","v":"_F____TRAN_N"},{"$f":"IF(AF836=\"\",\"\",IF(COUNTIF(CurrentListing,AF836)>1,AJ836,\"\"))","v":""},{"$f":"IF(LEN(AF836)=0,\"\",IF(ISNA(MATCH(AF836,MasterListing,0)),AJ836,\"\"))","v":""},null,"_F____RMA_N","","FRMAN","_F____RMA_N",1,"______",null,null,null,null,{"$f":"IF(ISNUMBER(SEARCH($F$6,AP835)),MAX($AO$11:AO834)+1,0)","v":824},0,{"$f":"ROWS($AQ$12:AQ835)","v":824},{"$f":"IFERROR(VLOOKUP(ROWS($AR$12:AR835),$AO$12:$AP$3014,2,0),\"\")","v":0}]
[null,null,null,null,null,null,null,null,null,null,null,null,null,null,null,null,null,null,null,null,null,null,null,null,null,null,{"$f":"IFERROR(INDEX($AE$13:$AE$1003, SMALL(IF(ISBLANK($AE$13:$AE$1003)+ISERROR($AE$13:$AE$1003)+LEN($AE$13:$AE$1003)=0, \"\", ROW($AE$13:$AE$1003)-MIN(ROW($AE$13:$AE$1003))+1), ROW(825:825))),\"\")","v":"_M_____Y"},{"$f":"IF(AF837=\"\",\"\",IF(COUNTIF(CurrentListing,AF837)>1,AJ837,\"\"))","v":""},{"$f":"IF(LEN(AF837)=0,\"\",IF(ISNA(MATCH(AF837,MasterListing,0)),AJ837,\"\"))","v":""},null,"_F____TRAN_N","","FTRANN","_F____TRAN_N",1,"______",null,null,null,null,{"$f":"IF(ISNUMBER(SEARCH($F$6,AP836)),MAX($AO$11:AO835)+1,0)","v":825},0,{"$f":"ROWS($AQ$12:AQ836)","v":825},{"$f":"IFERROR(VLOOKUP(ROWS($AR$12:AR836),$AO$12:$AP$3014,2,0),\"\")","v":0}]
[null,null,null,null,null,null,null,null,null,null,null,null,null,null,null,null,null,null,null,null,null,null,null,null,null,null,{"$f":"IFERROR(INDEX($AE$13:$AE$1003, SMALL(IF(ISBLANK($AE$13:$AE$1003)+ISERROR($AE$13:$AE$1003)+LEN($AE$13:$AE$1003)=0, \"\", ROW($AE$13:$AE$1003)-MIN(ROW($AE$13:$AE$1003))+1), ROW(826:826))),\"\")","v":"_M____D_N"},{"$f":"IF(AF838=\"\",\"\",IF(COUNTIF(CurrentListing,AF838)>1,AJ838,\"\"))","v":""},{"$f":"IF(LEN(AF838)=0,\"\",IF(ISNA(MATCH(AF838,MasterListing,0)),AJ838,\"\"))","v":""},null,"_M_____Y","","MY","_M_____Y",1,"______",null,null,null,null,{"$f":"IF(ISNUMBER(SEARCH($F$6,AP837)),MAX($AO$11:AO836)+1,0)","v":826},0,{"$f":"ROWS($AQ$12:AQ837)","v":826},{"$f":"IFERROR(VLOOKUP(ROWS($AR$12:AR837),$AO$12:$AP$3014,2,0),\"\")","v":0}]
[null,null,null,null,null,null,null,null,null,null,null,null,null,null,null,null,null,null,null,null,null,null,null,null,null,null,{"$f":"IFERROR(INDEX($AE$13:$AE$1003, SMALL(IF(ISBLANK($AE$13:$AE$1003)+ISERROR($AE$13:$AE$1003)+LEN($AE$13:$AE$1003)=0, \"\", ROW($AE$13:$AE$1003)-MIN(ROW($AE$13:$AE$1003))+1), ROW(827:827))),\"\")","v":"_M____DROPOUT_N"},{"$f":"IF(AF839=\"\",\"\",IF(COUNTIF(CurrentListing,AF839)>1,AJ839,\"\"))","v":""},{"$f":"IF(LEN(AF839)=0,\"\",IF(ISNA(MATCH(AF839,MasterListing,0)),AJ839,\"\"))","v":""},null,"_M____D_N","","MDN","_M____D_N",1,"______",null,null,null,null,{"$f":"IF(ISNUMBER(SEARCH($F$6,AP838)),MAX($AO$11:AO837)+1,0)","v":827},0,{"$f":"ROWS($AQ$12:AQ838)","v":827},{"$f":"IFERROR(VLOOKUP(ROWS($AR$12:AR838),$AO$12:$AP$3014,2,0),\"\")","v":0}]
[null,null,null,null,null,null,null,null,null,null,null,null,null,null,null,null,null,null,null,null,null,null,null,null,null,null,{"$f":"IFERROR(INDEX($AE$13:$AE$1003, SMALL(IF(ISBLANK($AE$13:$AE$1003)+ISERROR($AE$13:$AE$1003)+LEN($AE$13:$AE$1003)=0, \"\", ROW($AE$13:$AE$1003)-MIN(ROW($AE$13:$AE$1003))+1), ROW(828:828))),\"\")","v":"_M____GHS_N"},{"$f":"IF(AF840=\"\",\"\",IF(COUNTIF(CurrentListing,AF840)>1,AJ840,\"\"))","v":""},{"$f":"IF(LEN(AF840)=0,\"\",IF(ISNA(MATCH(AF840,MasterListing,0)),AJ840,\"\"))","v":""},null,"_M____DROPOUT_N","","MDROPOUTN","_M____DROPOUT_N",1,"______",null,null,null,null,{"$f":"IF(ISNUMBER(SEARCH($F$6,AP839)),MAX($AO$11:AO838)+1,0)","v":828},0,{"$f":"ROWS($AQ$12:AQ839)","v":828},{"$f":"IFERROR(VLOOKUP(ROWS($AR$12:AR839),$AO$12:$AP$3014,2,0),\"\")","v":0}]
[null,null,null,null,null,null,null,null,null,null,null,null,null,null,null,null,null,null,null,null,null,null,null,null,null,null,{"$f":"IFERROR(INDEX($AE$13:$AE$1003, SMALL(IF(ISBLANK($AE$13:$AE$1003)+ISERROR($AE$13:$AE$1003)+LEN($AE$13:$AE$1003)=0, \"\", ROW($AE$13:$AE$1003)-MIN(ROW($AE$13:$AE$1003))+1), ROW(829:829))),\"\")","v":"_M____GRADALTDPL_N"},{"$f":"IF(AF841=\"\",\"\",IF(COUNTIF(CurrentListing,AF841)>1,AJ841,\"\"))","v":""},{"$f":"IF(LEN(AF841)=0,\"\",IF(ISNA(MATCH(AF841,MasterListing,0)),AJ841,\"\"))","v":""},null,"_M____GHS_N","","MGHSN","_M____GHS_N",1,"______",null,null,null,null,{"$f":"IF(ISNUMBER(SEARCH($F$6,AP840)),MAX($AO$11:AO839)+1,0)","v":829},0,{"$f":"ROWS($AQ$12:AQ840)","v":829},{"$f":"IFERROR(VLOOKUP(ROWS($AR$12:AR840),$AO$12:$AP$3014,2,0),\"\")","v":0}]
[null,null,null,null,null,null,null,null,null,null,null,null,null,null,null,null,null,null,null,null,null,null,null,null,null,null,{"$f":"IFERROR(INDEX($AE$13:$AE$1003, SMALL(IF(ISBLANK($AE$13:$AE$1003)+ISERROR($AE$13:$AE$1003)+LEN($AE$13:$AE$1003)=0, \"\", ROW($AE$13:$AE$1003)-MIN(ROW($AE$13:$AE$1003))+1), ROW(830:830))),\"\")","v":"_M____MKC_N"},{"$f":"IF(AF842=\"\",\"\",IF(COUNTIF(CurrentListing,AF842)>1,AJ842,\"\"))","v":""},{"$f":"IF(LEN(AF842)=0,\"\",IF(ISNA(MATCH(AF842,MasterListing,0)),AJ842,\"\"))","v":""},null,"_M____GRADALTDPL_N","","MGRADALTDPLN","_M____GRADALTDPL_N",1,"______",null,null,null,null,{"$f":"IF(ISNUMBER(SEARCH($F$6,AP841)),MAX($AO$11:AO840)+1,0)","v":830},0,{"$f":"ROWS($AQ$12:AQ841)","v":830},{"$f":"IFERROR(VLOOKUP(ROWS($AR$12:AR841),$AO$12:$AP$3014,2,0),\"\")","v":0}]
[null,null,null,null,null,null,null,null,null,null,null,null,null,null,null,null,null,null,null,null,null,null,null,null,null,null,{"$f":"IFERROR(INDEX($AE$13:$AE$1003, SMALL(IF(ISBLANK($AE$13:$AE$1003)+ISERROR($AE$13:$AE$1003)+LEN($AE$13:$AE$1003)=0, \"\", ROW($AE$13:$AE$1003)-MIN(ROW($AE$13:$AE$1003))+1), ROW(831:831))),\"\")","v":"_M____RC_N"},{"$f":"IF(AF843=\"\",\"\",IF(COUNTIF(CurrentListing,AF843)>1,AJ843,\"\"))","v":""},{"$f":"IF(LEN(AF843)=0,\"\",IF(ISNA(MATCH(AF843,MasterListing,0)),AJ843,\"\"))","v":""},null,"_M____MKC_N","","MMKCN","_M____MKC_N",1,"______",null,null,null,null,{"$f":"IF(ISNUMBER(SEARCH($F$6,AP842)),MAX($AO$11:AO841)+1,0)","v":831},0,{"$f":"ROWS($AQ$12:AQ842)","v":831},{"$f":"IFERROR(VLOOKUP(ROWS($AR$12:AR842),$AO$12:$AP$3014,2,0),\"\")","v":0}]
[null,null,null,null,null,null,null,null,null,null,null,null,null,null,null,null,null,null,null,null,null,null,null,null,null,null,{"$f":"IFERROR(INDEX($AE$13:$AE$1003, SMALL(IF(ISBLANK($AE$13:$AE$1003)+ISERROR($AE$13:$AE$1003)+LEN($AE$13:$AE$1003)=0, \"\", ROW($AE$13:$AE$1003)-MIN(ROW($AE$13:$AE$1003))+1), ROW(832:832))),\"\")","v":"_M____RMA_N"},{"$f":"IF(AF844=\"\",\"\",IF(COUNTIF(CurrentListing,AF844)>1,AJ844,\"\"))","v":""},{"$f":"IF(LEN(AF844)=0,\"\",IF(ISNA(MATCH(AF844,MasterListing,0)),AJ844,\"\"))","v":""},null,"_M____RC_N","","MRCN","_M____RC_N",1,"______",null,null,null,null,{"$f":"IF(ISNUMBER(SEARCH($F$6,AP843)),MAX($AO$11:AO842)+1,0)","v":832},0,{"$f":"ROWS($AQ$12:AQ843)","v":832},{"$f":"IFERROR(VLOOKUP(ROWS($AR$12:AR843),$AO$12:$AP$3014,2,0),\"\")","v":0}]
[null,null,null,null,null,null,null,null,null,null,null,null,null,null,null,null,null,null,null,null,null,null,null,null,null,null,{"$f":"IFERROR(INDEX($AE$13:$AE$1003, SMALL(IF(ISBLANK($AE$13:$AE$1003)+ISERROR($AE$13:$AE$1003)+LEN($AE$13:$AE$1003)=0, \"\", ROW($AE$13:$AE$1003)-MIN(ROW($AE$13:$AE$1003))+1), ROW(833:833))),\"\")","v":"_M____TRAN_N"},{"$f":"IF(AF845=\"\",\"\",IF(COUNTIF(CurrentListing,AF845)>1,AJ845,\"\"))","v":""},{"$f":"IF(LEN(AF845)=0,\"\",IF(ISNA(MATCH(AF845,MasterListing,0)),AJ845,\"\"))","v":""},null,{"$f":"IF(LEN(AG844)=0,\"\",IF(ISNA(MATCH(AG844,CurrentListing,0)),AH844,\"\"))","v":"_M____RMA_N"},"","MRMAN","_M____RMA_N",1,"______",null,null,null,null,{"$f":"IF(ISNUMBER(SEARCH($F$6,AP844)),MAX($AO$11:AO843)+1,0)","v":833},0,{"$f":"ROWS($AQ$12:AQ844)","v":833},{"$f":"IFERROR(VLOOKUP(ROWS($AR$12:AR844),$AO$12:$AP$3014,2,0),\"\")","v":0}]
[null,null,null,null,null,null,null,null,null,null,null,null,null,null,null,null,null,null,null,null,null,null,null,null,null,null,{"$f":"IFERROR(INDEX($AE$13:$AE$1003, SMALL(IF(ISBLANK($AE$13:$AE$1003)+ISERROR($AE$13:$AE$1003)+LEN($AE$13:$AE$1003)=0, \"\", ROW($AE$13:$AE$1003)-MIN(ROW($AE$13:$AE$1003))+1), ROW(834:834))),\"\")","v":"AM7______Y"},{"$f":"IF(AF846=\"\",\"\",IF(COUNTIF(CurrentListing,AF846)>1,AJ846,\"\"))","v":""},{"$f":"IF(LEN(AF846)=0,\"\",IF(ISNA(MATCH(AF846,MasterListing,0)),AJ846,\"\"))","v":""},null,"_M____TRAN_N",{"$f":"H845&I845&P845&Q845&R845&V845&W845","v":""},"MTRANN","_M____TRAN_N",1,"______",null,null,null,null,{"$f":"IF(ISNUMBER(SEARCH($F$6,AP845)),MAX($AO$11:AO844)+1,0)","v":834},0,{"$f":"ROWS($AQ$12:AQ845)","v":834},{"$f":"IFERROR(VLOOKUP(ROWS($AR$12:AR845),$AO$12:$AP$3014,2,0),\"\")","v":0}]
[null,null,null,null,null,null,null,null,null,null,null,null,null,null,null,null,null,null,null,null,null,null,null,null,null,null,{"$f":"IFERROR(INDEX($AE$13:$AE$1003, SMALL(IF(ISBLANK($AE$13:$AE$1003)+ISERROR($AE$13:$AE$1003)+LEN($AE$13:$AE$1003)=0, \"\", ROW($AE$13:$AE$1003)-MIN(ROW($AE$13:$AE$1003))+1), ROW(835:835))),\"\")","v":"AM7_____D_N"},{"$f":"IF(AF847=\"\",\"\",IF(COUNTIF(CurrentListing,AF847)>1,AJ847,\"\"))","v":""},{"$f":"IF(LEN(AF847)=0,\"\",IF(ISNA(MATCH(AF847,MasterListing,0)),AJ847,\"\"))","v":""},null,"AM7______Y","","AM7Y","AM7______Y",{"$f":"IF(LEN(AA846)>0,1,0)","v":1},{"$f":"H846&\"_\"&I846&\"_\"&P846&\"_\"&Q846&\"_\"&R846&\"_\"&V846&\"_\"&W846","v":"______"},null,null,null,null,{"$f":"IF(ISNUMBER(SEARCH($F$6,AP846)),MAX($AO$11:AO845)+1,0)","v":835},0,{"$f":"ROWS($AQ$12:AQ846)","v":835},{"$f":"IFERROR(VLOOKUP(ROWS($AR$12:AR846),$AO$12:$AP$3014,2,0),\"\")","v":0}]
[null,null,null,null,null,null,null,null,null,null,null,null,null,null,null,null,null,null,null,null,null,null,null,null,null,null,{"$f":"IFERROR(INDEX($AE$13:$AE$1003, SMALL(IF(ISBLANK($AE$13:$AE$1003)+ISERROR($AE$13:$AE$1003)+LEN($AE$13:$AE$1003)=0, \"\", ROW($AE$13:$AE$1003)-MIN(ROW($AE$13:$AE$1003))+1), ROW(836:836))),\"\")","v":"AM7_____DROPOUT_N"},{"$f":"IF(AF848=\"\",\"\",IF(COUNTIF(CurrentListing,AF848)>1,AJ848,\"\"))","v":""},{"$f":"IF(LEN(AF848)=0,\"\",IF(ISNA(MATCH(AF848,MasterListing,0)),AJ848,\"\"))","v":""},null,"AM7_____D_N","","AM7DN","AM7_____D_N",1,"______",null,null,null,null,{"$f":"IF(ISNUMBER(SEARCH($F$6,AP847)),MAX($AO$11:AO846)+1,0)","v":836},0,{"$f":"ROWS($AQ$12:AQ847)","v":836},{"$f":"IFERROR(VLOOKUP(ROWS($AR$12:AR847),$AO$12:$AP$3014,2,0),\"\")","v":0}]
[null,null,null,null,null,null,null,null,null,null,null,null,null,null,null,null,null,null,null,null,null,null,null,null,null,null,{"$f":"IFERROR(INDEX($AE$13:$AE$1003, SMALL(IF(ISBLANK($AE$13:$AE$1003)+ISERROR($AE$13:$AE$1003)+LEN($AE$13:$AE$1003)=0, \"\", ROW($AE$13:$AE$1003)-MIN(ROW($AE$13:$AE$1003))+1), ROW(837:837))),\"\")","v":"AM7_____GHS_N"},{"$f":"IF(AF849=\"\",\"\",IF(COUNTIF(CurrentListing,AF849)>1,AJ849,\"\"))","v":""},{"$f":"IF(LEN(AF849)=0,\"\",IF(ISNA(MATCH(AF849,MasterListing,0)),AJ849,\"\"))","v":""},null,"AM7_____DROPOUT_N","","AM7DROPOUTN","AM7_____DROPOUT_N",1,"______",null,null,null,null,{"$f":"IF(ISNUMBER(SEARCH($F$6,AP848)),MAX($AO$11:AO847)+1,0)","v":837},0,{"$f":"ROWS($AQ$12:AQ848)","v":837},{"$f":"IFERROR(VLOOKUP(ROWS($AR$12:AR848),$AO$12:$AP$3014,2,0),\"\")","v":0}]
[null,null,null,null,null,null,null,null,null,null,null,null,null,null,null,null,null,null,null,null,null,null,null,null,null,null,{"$f":"IFERROR(INDEX($AE$13:$AE$1003, SMALL(IF(ISBLANK($AE$13:$AE$1003)+ISERROR($AE$13:$AE$1003)+LEN($AE$13:$AE$1003)=0, \"\", ROW($AE$13:$AE$1003)-MIN(ROW($AE$13:$AE$1003))+1), ROW(838:838))),\"\")","v":"AM7_____GRADALTDPL_N"},{"$f":"IF(AF850=\"\",\"\",IF(COUNTIF(CurrentListing,AF850)>1,AJ850,\"\"))","v":""},{"$f":"IF(LEN(AF850)=0,\"\",IF(ISNA(MATCH(AF850,MasterListing,0)),AJ850,\"\"))","v":""},null,"AM7_____GHS_N","","AM7GHSN","AM7_____GHS_N",1,"______",null,null,null,null,{"$f":"IF(ISNUMBER(SEARCH($F$6,AP849)),MAX($AO$11:AO848)+1,0)","v":838},0,{"$f":"ROWS($AQ$12:AQ849)","v":838},{"$f":"IFERROR(VLOOKUP(ROWS($AR$12:AR849),$AO$12:$AP$3014,2,0),\"\")","v":0}]
[null,null,null,null,null,null,null,null,null,null,null,null,null,null,null,null,null,null,null,null,null,null,null,null,null,null,{"$f":"IFERROR(INDEX($AE$13:$AE$1003, SMALL(IF(ISBLANK($AE$13:$AE$1003)+ISERROR($AE$13:$AE$1003)+LEN($AE$13:$AE$1003)=0, \"\", ROW($AE$13:$AE$1003)-MIN(ROW($AE$13:$AE$1003))+1), ROW(839:839))),\"\")","v":"AM7_____MKC_N"},{"$f":"IF(AF851=\"\",\"\",IF(COUNTIF(CurrentListing,AF851)>1,AJ851,\"\"))","v":""},{"$f":"IF(LEN(AF851)=0,\"\",IF(ISNA(MATCH(AF851,MasterListing,0)),AJ851,\"\"))","v":""},null,"AM7_____GRADALTDPL_N","","AM7GRADALTDPLN","AM7_____GRADALTDPL_N",1,"______",null,null,null,null,{"$f":"IF(ISNUMBER(SEARCH($F$6,AP850)),MAX($AO$11:AO849)+1,0)","v":839},0,{"$f":"ROWS($AQ$12:AQ850)","v":839},{"$f":"IFERROR(VLOOKUP(ROWS($AR$12:AR850),$AO$12:$AP$3014,2,0),\"\")","v":0}]
[null,null,null,null,null,null,null,null,null,null,null,null,null,null,null,null,null,null,null,null,null,null,null,null,null,null,{"$f":"IFERROR(INDEX($AE$13:$AE$1003, SMALL(IF(ISBLANK($AE$13:$AE$1003)+ISERROR($AE$13:$AE$1003)+LEN($AE$13:$AE$1003)=0, \"\", ROW($AE$13:$AE$1003)-MIN(ROW($AE$13:$AE$1003))+1), ROW(840:840))),\"\")","v":"AM7_____RC_N"},{"$f":"IF(AF852=\"\",\"\",IF(COUNTIF(CurrentListing,AF852)>1,AJ852,\"\"))","v":""},{"$f":"IF(LEN(AF852)=0,\"\",IF(ISNA(MATCH(AF852,MasterListing,0)),AJ852,\"\"))","v":""},null,"AM7_____MKC_N","","AM7MKCN","AM7_____MKC_N",1,"______",null,null,null,null,{"$f":"IF(ISNUMBER(SEARCH($F$6,AP851)),MAX($AO$11:AO850)+1,0)","v":840},0,{"$f":"ROWS($AQ$12:AQ851)","v":840},{"$f":"IFERROR(VLOOKUP(ROWS($AR$12:AR851),$AO$12:$AP$3014,2,0),\"\")","v":0}]
[null,null,null,null,null,null,null,null,null,null,null,null,null,null,null,null,null,null,null,null,null,null,null,null,null,null,{"$f":"IFERROR(INDEX($AE$13:$AE$1003, SMALL(IF(ISBLANK($AE$13:$AE$1003)+ISERROR($AE$13:$AE$1003)+LEN($AE$13:$AE$1003)=0, \"\", ROW($AE$13:$AE$1003)-MIN(ROW($AE$13:$AE$1003))+1), ROW(841:841))),\"\")","v":"AM7_____RMA_N"},{"$f":"IF(AF853=\"\",\"\",IF(COUNTIF(CurrentListing,AF853)>1,AJ853,\"\"))","v":""},{"$f":"IF(LEN(AF853)=0,\"\",IF(ISNA(MATCH(AF853,MasterListing,0)),AJ853,\"\"))","v":""},null,"AM7_____RC_N","","AM7RCN","AM7_____RC_N",1,"______",null,null,null,null,{"$f":"IF(ISNUMBER(SEARCH($F$6,AP852)),MAX($AO$11:AO851)+1,0)","v":841},0,{"$f":"ROWS($AQ$12:AQ852)","v":841},{"$f":"IFERROR(VLOOKUP(ROWS($AR$12:AR852),$AO$12:$AP$3014,2,0),\"\")","v":0}]
[null,null,null,null,null,null,null,null,null,null,null,null,null,null,null,null,null,null,null,null,null,null,null,null,null,null,{"$f":"IFERROR(INDEX($AE$13:$AE$1003, SMALL(IF(ISBLANK($AE$13:$AE$1003)+ISERROR($AE$13:$AE$1003)+LEN($AE$13:$AE$1003)=0, \"\", ROW($AE$13:$AE$1003)-MIN(ROW($AE$13:$AE$1003))+1), ROW(842:842))),\"\")","v":"AM7_____TRAN_N"},{"$f":"IF(AF854=\"\",\"\",IF(COUNTIF(CurrentListing,AF854)>1,AJ854,\"\"))","v":""},{"$f":"IF(LEN(AF854)=0,\"\",IF(ISNA(MATCH(AF854,MasterListing,0)),AJ854,\"\"))","v":""},null,"AM7_____RMA_N","","AM7RMAN","AM7_____RMA_N",1,"______",null,null,null,null,{"$f":"IF(ISNUMBER(SEARCH($F$6,AP853)),MAX($AO$11:AO852)+1,0)","v":842},0,{"$f":"ROWS($AQ$12:AQ853)","v":842},{"$f":"IFERROR(VLOOKUP(ROWS($AR$12:AR853),$AO$12:$AP$3014,2,0),\"\")","v":0}]
[null,null,null,null,null,null,null,null,null,null,null,null,null,null,null,null,null,null,null,null,null,null,null,null,null,null,{"$f":"IFERROR(INDEX($AE$13:$AE$1003, SMALL(IF(ISBLANK($AE$13:$AE$1003)+ISERROR($AE$13:$AE$1003)+LEN($AE$13:$AE$1003)=0, \"\", ROW($AE$13:$AE$1003)-MIN(ROW($AE$13:$AE$1003))+1), ROW(843:843))),\"\")","v":"AS7______Y"},{"$f":"IF(AF855=\"\",\"\",IF(COUNTIF(CurrentListing,AF855)>1,AJ855,\"\"))","v":""},{"$f":"IF(LEN(AF855)=0,\"\",IF(ISNA(MATCH(AF855,MasterListing,0)),AJ855,\"\"))","v":""},null,"AM7_____TRAN_N","","AM7TRANN","AM7_____TRAN_N",1,"______",null,null,null,null,{"$f":"IF(ISNUMBER(SEARCH($F$6,AP854)),MAX($AO$11:AO853)+1,0)","v":843},0,{"$f":"ROWS($AQ$12:AQ854)","v":843},{"$f":"IFERROR(VLOOKUP(ROWS($AR$12:AR854),$AO$12:$AP$3014,2,0),\"\")","v":0}]
[null,null,null,null,null,null,null,null,null,null,null,null,null,null,null,null,null,null,null,null,null,null,null,null,null,null,{"$f":"IFERROR(INDEX($AE$13:$AE$1003, SMALL(IF(ISBLANK($AE$13:$AE$1003)+ISERROR($AE$13:$AE$1003)+LEN($AE$13:$AE$1003)=0, \"\", ROW($AE$13:$AE$1003)-MIN(ROW($AE$13:$AE$1003))+1), ROW(844:844))),\"\")","v":"AS7_____D_N"},{"$f":"IF(AF856=\"\",\"\",IF(COUNTIF(CurrentListing,AF856)>1,AJ856,\"\"))","v":""},{"$f":"IF(LEN(AF856)=0,\"\",IF(ISNA(MATCH(AF856,MasterListing,0)),AJ856,\"\"))","v":""},null,"AS7______Y","","AS7Y","AS7______Y",1,"______",null,null,null,null,{"$f":"IF(ISNUMBER(SEARCH($F$6,AP855)),MAX($AO$11:AO854)+1,0)","v":844},0,{"$f":"ROWS($AQ$12:AQ855)","v":844},{"$f":"IFERROR(VLOOKUP(ROWS($AR$12:AR855),$AO$12:$AP$3014,2,0),\"\")","v":0}]
[null,null,null,null,null,null,null,null,null,null,null,null,null,null,null,null,null,null,null,null,null,null,null,null,null,null,{"$f":"IFERROR(INDEX($AE$13:$AE$1003, SMALL(IF(ISBLANK($AE$13:$AE$1003)+ISERROR($AE$13:$AE$1003)+LEN($AE$13:$AE$1003)=0, \"\", ROW($AE$13:$AE$1003)-MIN(ROW($AE$13:$AE$1003))+1), ROW(845:845))),\"\")","v":"AS7_____DROPOUT_N"},{"$f":"IF(AF857=\"\",\"\",IF(COUNTIF(CurrentListing,AF857)>1,AJ857,\"\"))","v":""},{"$f":"IF(LEN(AF857)=0,\"\",IF(ISNA(MATCH(AF857,MasterListing,0)),AJ857,\"\"))","v":""},null,"AS7_____D_N","","AS7DN","AS7_____D_N",1,"______",null,null,null,null,{"$f":"IF(ISNUMBER(SEARCH($F$6,AP856)),MAX($AO$11:AO855)+1,0)","v":845},0,{"$f":"ROWS($AQ$12:AQ856)","v":845},{"$f":"IFERROR(VLOOKUP(ROWS($AR$12:AR856),$AO$12:$AP$3014,2,0),\"\")","v":0}]
[null,null,null,null,null,null,null,null,null,null,null,null,null,null,null,null,null,null,null,null,null,null,null,null,null,null,{"$f":"IFERROR(INDEX($AE$13:$AE$1003, SMALL(IF(ISBLANK($AE$13:$AE$1003)+ISERROR($AE$13:$AE$1003)+LEN($AE$13:$AE$1003)=0, \"\", ROW($AE$13:$AE$1003)-MIN(ROW($AE$13:$AE$1003))+1), ROW(846:846))),\"\")","v":"AS7_____GHS_N"},{"$f":"IF(AF858=\"\",\"\",IF(COUNTIF(CurrentListing,AF858)>1,AJ858,\"\"))","v":""},{"$f":"IF(LEN(AF858)=0,\"\",IF(ISNA(MATCH(AF858,MasterListing,0)),AJ858,\"\"))","v":""},null,"AS7_____DROPOUT_N","","AS7DROPOUTN","AS7_____DROPOUT_N",1,"______",null,null,null,null,{"$f":"IF(ISNUMBER(SEARCH($F$6,AP857)),MAX($AO$11:AO856)+1,0)","v":846},0,{"$f":"ROWS($AQ$12:AQ857)","v":846},{"$f":"IFERROR(VLOOKUP(ROWS($AR$12:AR857),$AO$12:$AP$3014,2,0),\"\")","v":0}]
[null,null,null,null,null,null,null,null,null,null,null,null,null,null,null,null,null,null,null,null,null,null,null,null,null,null,{"$f":"IFERROR(INDEX($AE$13:$AE$1003, SMALL(IF(ISBLANK($AE$13:$AE$1003)+ISERROR($AE$13:$AE$1003)+LEN($AE$13:$AE$1003)=0, \"\", ROW($AE$13:$AE$1003)-MIN(ROW($AE$13:$AE$1003))+1), ROW(847:847))),\"\")","v":"AS7_____GRADALTDPL_N"},{"$f":"IF(AF859=\"\",\"\",IF(COUNTIF(CurrentListing,AF859)>1,AJ859,\"\"))","v":""},{"$f":"IF(LEN(AF859)=0,\"\",IF(ISNA(MATCH(AF859,MasterListing,0)),AJ859,\"\"))","v":""},null,"AS7_____GHS_N","","AS7GHSN","AS7_____GHS_N",1,"______",null,null,null,null,{"$f":"IF(ISNUMBER(SEARCH($F$6,AP858)),MAX($AO$11:AO857)+1,0)","v":847},0,{"$f":"ROWS($AQ$12:AQ858)","v":847},{"$f":"IFERROR(VLOOKUP(ROWS($AR$12:AR858),$AO$12:$AP$3014,2,0),\"\")","v":0}]
[null,null,null,null,null,null,null,null,null,null,null,null,null,null,null,null,null,null,null,null,null,null,null,null,null,null,{"$f":"IFERROR(INDEX($AE$13:$AE$1003, SMALL(IF(ISBLANK($AE$13:$AE$1003)+ISERROR($AE$13:$AE$1003)+LEN($AE$13:$AE$1003)=0, \"\", ROW($AE$13:$AE$1003)-MIN(ROW($AE$13:$AE$1003))+1), ROW(848:848))),\"\")","v":"AS7_____MKC_N"},{"$f":"IF(AF860=\"\",\"\",IF(COUNTIF(CurrentListing,AF860)>1,AJ860,\"\"))","v":""},{"$f":"IF(LEN(AF860)=0,\"\",IF(ISNA(MATCH(AF860,MasterListing,0)),AJ860,\"\"))","v":""},null,"AS7_____GRADALTDPL_N","","AS7GRADALTDPLN","AS7_____GRADALTDPL_N",1,"______",null,null,null,null,{"$f":"IF(ISNUMBER(SEARCH($F$6,AP859)),MAX($AO$11:AO858)+1,0)","v":848},0,{"$f":"ROWS($AQ$12:AQ859)","v":848},{"$f":"IFERROR(VLOOKUP(ROWS($AR$12:AR859),$AO$12:$AP$3014,2,0),\"\")","v":0}]
[null,null,null,null,null,null,null,null,null,null,null,null,null,null,null,null,null,null,null,null,null,null,null,null,null,null,{"$f":"IFERROR(INDEX($AE$13:$AE$1003, SMALL(IF(ISBLANK($AE$13:$AE$1003)+ISERROR($AE$13:$AE$1003)+LEN($AE$13:$AE$1003)=0, \"\", ROW($AE$13:$AE$1003)-MIN(ROW($AE$13:$AE$1003))+1), ROW(849:849))),\"\")","v":"AS7_____RC_N"},{"$f":"IF(AF861=\"\",\"\",IF(COUNTIF(CurrentListing,AF861)>1,AJ861,\"\"))","v":""},{"$f":"IF(LEN(AF861)=0,\"\",IF(ISNA(MATCH(AF861,MasterListing,0)),AJ861,\"\"))","v":""},null,"AS7_____MKC_N","","AS7MKCN","AS7_____MKC_N",1,"______",null,null,null,null,{"$f":"IF(ISNUMBER(SEARCH($F$6,AP860)),MAX($AO$11:AO859)+1,0)","v":849},0,{"$f":"ROWS($AQ$12:AQ860)","v":849},{"$f":"IFERROR(VLOOKUP(ROWS($AR$12:AR860),$AO$12:$AP$3014,2,0),\"\")","v":0}]
[null,null,null,null,null,null,null,null,null,null,null,null,null,null,null,null,null,null,null,null,null,null,null,null,null,null,{"$f":"IFERROR(INDEX($AE$13:$AE$1003, SMALL(IF(ISBLANK($AE$13:$AE$1003)+ISERROR($AE$13:$AE$1003)+LEN($AE$13:$AE$1003)=0, \"\", ROW($AE$13:$AE$1003)-MIN(ROW($AE$13:$AE$1003))+1), ROW(850:850))),\"\")","v":"AS7_____RMA_N"},{"$f":"IF(AF862=\"\",\"\",IF(COUNTIF(CurrentListing,AF862)>1,AJ862,\"\"))","v":""},{"$f":"IF(LEN(AF862)=0,\"\",IF(ISNA(MATCH(AF862,MasterListing,0)),AJ862,\"\"))","v":""},null,"AS7_____RC_N","","AS7RCN","AS7_____RC_N",1,"______",null,null,null,null,{"$f":"IF(ISNUMBER(SEARCH($F$6,AP861)),MAX($AO$11:AO860)+1,0)","v":850},0,{"$f":"ROWS($AQ$12:AQ861)","v":850},{"$f":"IFERROR(VLOOKUP(ROWS($AR$12:AR861),$AO$12:$AP$3014,2,0),\"\")","v":0}]
[null,null,null,null,null,null,null,null,null,null,null,null,null,null,null,null,null,null,null,null,null,null,null,null,null,null,{"$f":"IFERROR(INDEX($AE$13:$AE$1003, SMALL(IF(ISBLANK($AE$13:$AE$1003)+ISERROR($AE$13:$AE$1003)+LEN($AE$13:$AE$1003)=0, \"\", ROW($AE$13:$AE$1003)-MIN(ROW($AE$13:$AE$1003))+1), ROW(851:851))),\"\")","v":"AS7_____TRAN_N"},{"$f":"IF(AF863=\"\",\"\",IF(COUNTIF(CurrentListing,AF863)>1,AJ863,\"\"))","v":""},{"$f":"IF(LEN(AF863)=0,\"\",IF(ISNA(MATCH(AF863,MasterListing,0)),AJ863,\"\"))","v":""},null,"AS7_____RMA_N","","AS7RMAN","AS7_____RMA_N",1,"______",null,null,null,null,{"$f":"IF(ISNUMBER(SEARCH($F$6,AP862)),MAX($AO$11:AO861)+1,0)","v":851},0,{"$f":"ROWS($AQ$12:AQ862)","v":851},{"$f":"IFERROR(VLOOKUP(ROWS($AR$12:AR862),$AO$12:$AP$3014,2,0),\"\")","v":0}]
[null,null,null,null,null,null,null,null,null,null,null,null,null,null,null,null,null,null,null,null,null,null,null,null,null,null,{"$f":"IFERROR(INDEX($AE$13:$AE$1003, SMALL(IF(ISBLANK($AE$13:$AE$1003)+ISERROR($AE$13:$AE$1003)+LEN($AE$13:$AE$1003)=0, \"\", ROW($AE$13:$AE$1003)-MIN(ROW($AE$13:$AE$1003))+1), ROW(852:852))),\"\")","v":"BL7______Y"},{"$f":"IF(AF864=\"\",\"\",IF(COUNTIF(CurrentListing,AF864)>1,AJ864,\"\"))","v":""},{"$f":"IF(LEN(AF864)=0,\"\",IF(ISNA(MATCH(AF864,MasterListing,0)),AJ864,\"\"))","v":""},null,"AS7_____TRAN_N","","AS7TRANN","AS7_____TRAN_N",1,"______",null,null,null,null,{"$f":"IF(ISNUMBER(SEARCH($F$6,AP863)),MAX($AO$11:AO862)+1,0)","v":852},0,{"$f":"ROWS($AQ$12:AQ863)","v":852},{"$f":"IFERROR(VLOOKUP(ROWS($AR$12:AR863),$AO$12:$AP$3014,2,0),\"\")","v":0}]
[null,null,null,null,null,null,null,null,null,null,null,null,null,null,null,null,null,null,null,null,null,null,null,null,null,null,{"$f":"IFERROR(INDEX($AE$13:$AE$1003, SMALL(IF(ISBLANK($AE$13:$AE$1003)+ISERROR($AE$13:$AE$1003)+LEN($AE$13:$AE$1003)=0, \"\", ROW($AE$13:$AE$1003)-MIN(ROW($AE$13:$AE$1003))+1), ROW(853:853))),\"\")","v":"BL7_____D_N"},{"$f":"IF(AF865=\"\",\"\",IF(COUNTIF(CurrentListing,AF865)>1,AJ865,\"\"))","v":""},{"$f":"IF(LEN(AF865)=0,\"\",IF(ISNA(MATCH(AF865,MasterListing,0)),AJ865,\"\"))","v":""},null,"BL7______Y","","BL7Y","BL7______Y",1,"______",null,null,null,null,{"$f":"IF(ISNUMBER(SEARCH($F$6,AP864)),MAX($AO$11:AO863)+1,0)","v":853},0,{"$f":"ROWS($AQ$12:AQ864)","v":853},{"$f":"IFERROR(VLOOKUP(ROWS($AR$12:AR864),$AO$12:$AP$3014,2,0),\"\")","v":0}]
[null,null,null,null,null,null,null,null,null,null,null,null,null,null,null,null,null,null,null,null,null,null,null,null,null,null,{"$f":"IFERROR(INDEX($AE$13:$AE$1003, SMALL(IF(ISBLANK($AE$13:$AE$1003)+ISERROR($AE$13:$AE$1003)+LEN($AE$13:$AE$1003)=0, \"\", ROW($AE$13:$AE$1003)-MIN(ROW($AE$13:$AE$1003))+1), ROW(854:854))),\"\")","v":"BL7_____DROPOUT_N"},{"$f":"IF(AF866=\"\",\"\",IF(COUNTIF(CurrentListing,AF866)>1,AJ866,\"\"))","v":""},{"$f":"IF(LEN(AF866)=0,\"\",IF(ISNA(MATCH(AF866,MasterListing,0)),AJ866,\"\"))","v":""},null,"BL7_____D_N","","BL7DN","BL7_____D_N",1,"______",null,null,null,null,{"$f":"IF(ISNUMBER(SEARCH($F$6,AP865)),MAX($AO$11:AO864)+1,0)","v":854},0,{"$f":"ROWS($AQ$12:AQ865)","v":854},{"$f":"IFERROR(VLOOKUP(ROWS($AR$12:AR865),$AO$12:$AP$3014,2,0),\"\")","v":0}]
[null,null,null,null,null,null,null,null,null,null,null,null,null,null,null,null,null,null,null,null,null,null,null,null,null,null,{"$f":"IFERROR(INDEX($AE$13:$AE$1003, SMALL(IF(ISBLANK($AE$13:$AE$1003)+ISERROR($AE$13:$AE$1003)+LEN($AE$13:$AE$1003)=0, \"\", ROW($AE$13:$AE$1003)-MIN(ROW($AE$13:$AE$1003))+1), ROW(855:855))),\"\")","v":"BL7_____GHS_N"},{"$f":"IF(AF867=\"\",\"\",IF(COUNTIF(CurrentListing,AF867)>1,AJ867,\"\"))","v":""},{"$f":"IF(LEN(AF867)=0,\"\",IF(ISNA(MATCH(AF867,MasterListing,0)),AJ867,\"\"))","v":""},null,"BL7_____DROPOUT_N","","BL7DROPOUTN","BL7_____DROPOUT_N",1,"______",null,null,null,null,{"$f":"IF(ISNUMBER(SEARCH($F$6,AP866)),MAX($AO$11:AO865)+1,0)","v":855},0,{"$f":"ROWS($AQ$12:AQ866)","v":855},{"$f":"IFERROR(VLOOKUP(ROWS($AR$12:AR866),$AO$12:$AP$3014,2,0),\"\")","v":0}]
[null,null,null,null,null,null,null,null,null,null,null,null,null,null,null,null,null,null,null,null,null,null,null,null,null,null,{"$f":"IFERROR(INDEX($AE$13:$AE$1003, SMALL(IF(ISBLANK($AE$13:$AE$1003)+ISERROR($AE$13:$AE$1003)+LEN($AE$13:$AE$1003)=0, \"\", ROW($AE$13:$AE$1003)-MIN(ROW($AE$13:$AE$1003))+1), ROW(856:856))),\"\")","v":"BL7_____GRADALTDPL_N"},{"$f":"IF(AF868=\"\",\"\",IF(COUNTIF(CurrentListing,AF868)>1,AJ868,\"\"))","v":""},{"$f":"IF(LEN(AF868)=0,\"\",IF(ISNA(MATCH(AF868,MasterListing,0)),AJ868,\"\"))","v":""},null,"BL7_____GHS_N","","BL7GHSN","BL7_____GHS_N",1,"______",null,null,null,null,{"$f":"IF(ISNUMBER(SEARCH($F$6,AP867)),MAX($AO$11:AO866)+1,0)","v":856},0,{"$f":"ROWS($AQ$12:AQ867)","v":856},{"$f":"IFERROR(VLOOKUP(ROWS($AR$12:AR867),$AO$12:$AP$3014,2,0),\"\")","v":0}]
[null,null,null,null,null,null,null,null,null,null,null,null,null,null,null,null,null,null,null,null,null,null,null,null,null,null,{"$f":"IFERROR(INDEX($AE$13:$AE$1003, SMALL(IF(ISBLANK($AE$13:$AE$1003)+ISERROR($AE$13:$AE$1003)+LEN($AE$13:$AE$1003)=0, \"\", ROW($AE$13:$AE$1003)-MIN(ROW($AE$13:$AE$1003))+1), ROW(857:857))),\"\")","v":"BL7_____MKC_N"},{"$f":"IF(AF869=\"\",\"\",IF(COUNTIF(CurrentListing,AF869)>1,AJ869,\"\"))","v":""},{"$f":"IF(LEN(AF869)=0,\"\",IF(ISNA(MATCH(AF869,MasterListing,0)),AJ869,\"\"))","v":""},null,"BL7_____GRADALTDPL_N","","BL7GRADALTDPLN","BL7_____GRADALTDPL_N",1,"______",null,null,null,null,{"$f":"IF(ISNUMBER(SEARCH($F$6,AP868)),MAX($AO$11:AO867)+1,0)","v":857},0,{"$f":"ROWS($AQ$12:AQ868)","v":857},{"$f":"IFERROR(VLOOKUP(ROWS($AR$12:AR868),$AO$12:$AP$3014,2,0),\"\")","v":0}]
[null,null,null,null,null,null,null,null,null,null,null,null,null,null,null,null,null,null,null,null,null,null,null,null,null,null,{"$f":"IFERROR(INDEX($AE$13:$AE$1003, SMALL(IF(ISBLANK($AE$13:$AE$1003)+ISERROR($AE$13:$AE$1003)+LEN($AE$13:$AE$1003)=0, \"\", ROW($AE$13:$AE$1003)-MIN(ROW($AE$13:$AE$1003))+1), ROW(858:858))),\"\")","v":"BL7_____RC_N"},{"$f":"IF(AF870=\"\",\"\",IF(COUNTIF(CurrentListing,AF870)>1,AJ870,\"\"))","v":""},{"$f":"IF(LEN(AF870)=0,\"\",IF(ISNA(MATCH(AF870,MasterListing,0)),AJ870,\"\"))","v":""},null,"BL7_____MKC_N","","BL7MKCN","BL7_____MKC_N",1,"______",null,null,null,null,{"$f":"IF(ISNUMBER(SEARCH($F$6,AP869)),MAX($AO$11:AO868)+1,0)","v":858},0,{"$f":"ROWS($AQ$12:AQ869)","v":858},{"$f":"IFERROR(VLOOKUP(ROWS($AR$12:AR869),$AO$12:$AP$3014,2,0),\"\")","v":0}]
[null,null,null,null,null,null,null,null,null,null,null,null,null,null,null,null,null,null,null,null,null,null,null,null,null,null,{"$f":"IFERROR(INDEX($AE$13:$AE$1003, SMALL(IF(ISBLANK($AE$13:$AE$1003)+ISERROR($AE$13:$AE$1003)+LEN($AE$13:$AE$1003)=0, \"\", ROW($AE$13:$AE$1003)-MIN(ROW($AE$13:$AE$1003))+1), ROW(859:859))),\"\")","v":"BL7_____RMA_N"},{"$f":"IF(AF871=\"\",\"\",IF(COUNTIF(CurrentListing,AF871)>1,AJ871,\"\"))","v":""},{"$f":"IF(LEN(AF871)=0,\"\",IF(ISNA(MATCH(AF871,MasterListing,0)),AJ871,\"\"))","v":""},null,"BL7_____RC_N","","BL7RCN","BL7_____RC_N",1,"______",null,null,null,null,{"$f":"IF(ISNUMBER(SEARCH($F$6,AP870)),MAX($AO$11:AO869)+1,0)","v":859},0,{"$f":"ROWS($AQ$12:AQ870)","v":859},{"$f":"IFERROR(VLOOKUP(ROWS($AR$12:AR870),$AO$12:$AP$3014,2,0),\"\")","v":0}]
[null,null,null,null,null,null,null,null,null,null,null,null,null,null,null,null,null,null,null,null,null,null,null,null,null,null,{"$f":"IFERROR(INDEX($AE$13:$AE$1003, SMALL(IF(ISBLANK($AE$13:$AE$1003)+ISERROR($AE$13:$AE$1003)+LEN($AE$13:$AE$1003)=0, \"\", ROW($AE$13:$AE$1003)-MIN(ROW($AE$13:$AE$1003))+1), ROW(860:860))),\"\")","v":"BL7_____TRAN_N"},{"$f":"IF(AF872=\"\",\"\",IF(COUNTIF(CurrentListing,AF872)>1,AJ872,\"\"))","v":""},{"$f":"IF(LEN(AF872)=0,\"\",IF(ISNA(MATCH(AF872,MasterListing,0)),AJ872,\"\"))","v":""},null,"BL7_____RMA_N","","BL7RMAN","BL7_____RMA_N",1,"______",null,null,null,null,{"$f":"IF(ISNUMBER(SEARCH($F$6,AP871)),MAX($AO$11:AO870)+1,0)","v":860},0,{"$f":"ROWS($AQ$12:AQ871)","v":860},{"$f":"IFERROR(VLOOKUP(ROWS($AR$12:AR871),$AO$12:$AP$3014,2,0),\"\")","v":0}]
[null,null,null,null,null,null,null,null,null,null,null,null,null,null,null,null,null,null,null,null,null,null,null,null,null,null,{"$f":"IFERROR(INDEX($AE$13:$AE$1003, SMALL(IF(ISBLANK($AE$13:$AE$1003)+ISERROR($AE$13:$AE$1003)+LEN($AE$13:$AE$1003)=0, \"\", ROW($AE$13:$AE$1003)-MIN(ROW($AE$13:$AE$1003))+1), ROW(861:861))),\"\")","v":"HI7______Y"},{"$f":"IF(AF873=\"\",\"\",IF(COUNTIF(CurrentListing,AF873)>1,AJ873,\"\"))","v":""},{"$f":"IF(LEN(AF873)=0,\"\",IF(ISNA(MATCH(AF873,MasterListing,0)),AJ873,\"\"))","v":""},null,"BL7_____TRAN_N","","BL7TRANN","BL7_____TRAN_N",1,"______",null,null,null,null,{"$f":"IF(ISNUMBER(SEARCH($F$6,AP872)),MAX($AO$11:AO871)+1,0)","v":861},0,{"$f":"ROWS($AQ$12:AQ872)","v":861},{"$f":"IFERROR(VLOOKUP(ROWS($AR$12:AR872),$AO$12:$AP$3014,2,0),\"\")","v":0}]
[null,null,null,null,null,null,null,null,null,null,null,null,null,null,null,null,null,null,null,null,null,null,null,null,null,null,{"$f":"IFERROR(INDEX($AE$13:$AE$1003, SMALL(IF(ISBLANK($AE$13:$AE$1003)+ISERROR($AE$13:$AE$1003)+LEN($AE$13:$AE$1003)=0, \"\", ROW($AE$13:$AE$1003)-MIN(ROW($AE$13:$AE$1003))+1), ROW(862:862))),\"\")","v":"HI7_____D_N"},{"$f":"IF(AF874=\"\",\"\",IF(COUNTIF(CurrentListing,AF874)>1,AJ874,\"\"))","v":""},{"$f":"IF(LEN(AF874)=0,\"\",IF(ISNA(MATCH(AF874,MasterListing,0)),AJ874,\"\"))","v":""},null,"HI7______Y","","HI7Y","HI7______Y",1,"______",null,null,null,null,{"$f":"IF(ISNUMBER(SEARCH($F$6,AP873)),MAX($AO$11:AO872)+1,0)","v":862},0,{"$f":"ROWS($AQ$12:AQ873)","v":862},{"$f":"IFERROR(VLOOKUP(ROWS($AR$12:AR873),$AO$12:$AP$3014,2,0),\"\")","v":0}]
[null,null,null,null,null,null,null,null,null,null,null,null,null,null,null,null,null,null,null,null,null,null,null,null,null,null,{"$f":"IFERROR(INDEX($AE$13:$AE$1003, SMALL(IF(ISBLANK($AE$13:$AE$1003)+ISERROR($AE$13:$AE$1003)+LEN($AE$13:$AE$1003)=0, \"\", ROW($AE$13:$AE$1003)-MIN(ROW($AE$13:$AE$1003))+1), ROW(863:863))),\"\")","v":"HI7_____DROPOUT_N"},{"$f":"IF(AF875=\"\",\"\",IF(COUNTIF(CurrentListing,AF875)>1,AJ875,\"\"))","v":""},{"$f":"IF(LEN(AF875)=0,\"\",IF(ISNA(MATCH(AF875,MasterListing,0)),AJ875,\"\"))","v":""},null,"HI7_____D_N","","HI7DN","HI7_____D_N",1,"______",null,null,null,null,{"$f":"IF(ISNUMBER(SEARCH($F$6,AP874)),MAX($AO$11:AO873)+1,0)","v":863},0,{"$f":"ROWS($AQ$12:AQ874)","v":863},{"$f":"IFERROR(VLOOKUP(ROWS($AR$12:AR874),$AO$12:$AP$3014,2,0),\"\")","v":0}]
[null,null,null,null,null,null,null,null,null,null,null,null,null,null,null,null,null,null,null,null,null,null,null,null,null,null,{"$f":"IFERROR(INDEX($AE$13:$AE$1003, SMALL(IF(ISBLANK($AE$13:$AE$1003)+ISERROR($AE$13:$AE$1003)+LEN($AE$13:$AE$1003)=0, \"\", ROW($AE$13:$AE$1003)-MIN(ROW($AE$13:$AE$1003))+1), ROW(864:864))),\"\")","v":"HI7_____GHS_N"},{"$f":"IF(AF876=\"\",\"\",IF(COUNTIF(CurrentListing,AF876)>1,AJ876,\"\"))","v":""},{"$f":"IF(LEN(AF876)=0,\"\",IF(ISNA(MATCH(AF876,MasterListing,0)),AJ876,\"\"))","v":""},null,"HI7_____DROPOUT_N","","HI7DROPOUTN","HI7_____DROPOUT_N",1,"______",null,null,null,null,{"$f":"IF(ISNUMBER(SEARCH($F$6,AP875)),MAX($AO$11:AO874)+1,0)","v":864},0,{"$f":"ROWS($AQ$12:AQ875)","v":864},{"$f":"IFERROR(VLOOKUP(ROWS($AR$12:AR875),$AO$12:$AP$3014,2,0),\"\")","v":0}]
[null,null,null,null,null,null,null,null,null,null,null,null,null,null,null,null,null,null,null,null,null,null,null,null,null,null,{"$f":"IFERROR(INDEX($AE$13:$AE$1003, SMALL(IF(ISBLANK($AE$13:$AE$1003)+ISERROR($AE$13:$AE$1003)+LEN($AE$13:$AE$1003)=0, \"\", ROW($AE$13:$AE$1003)-MIN(ROW($AE$13:$AE$1003))+1), ROW(865:865))),\"\")","v":"HI7_____GRADALTDPL_N"},{"$f":"IF(AF877=\"\",\"\",IF(COUNTIF(CurrentListing,AF877)>1,AJ877,\"\"))","v":""},{"$f":"IF(LEN(AF877)=0,\"\",IF(ISNA(MATCH(AF877,MasterListing,0)),AJ877,\"\"))","v":""},null,"HI7_____GHS_N","","HI7GHSN","HI7_____GHS_N",1,"______",null,null,null,null,{"$f":"IF(ISNUMBER(SEARCH($F$6,AP876)),MAX($AO$11:AO875)+1,0)","v":865},0,{"$f":"ROWS($AQ$12:AQ876)","v":865},{"$f":"IFERROR(VLOOKUP(ROWS($AR$12:AR876),$AO$12:$AP$3014,2,0),\"\")","v":0}]
[null,null,null,null,null,null,null,null,null,null,null,null,null,null,null,null,null,null,null,null,null,null,null,null,null,null,{"$f":"IFERROR(INDEX($AE$13:$AE$1003, SMALL(IF(ISBLANK($AE$13:$AE$1003)+ISERROR($AE$13:$AE$1003)+LEN($AE$13:$AE$1003)=0, \"\", ROW($AE$13:$AE$1003)-MIN(ROW($AE$13:$AE$1003))+1), ROW(866:866))),\"\")","v":"HI7_____MKC_N"},{"$f":"IF(AF878=\"\",\"\",IF(COUNTIF(CurrentListing,AF878)>1,AJ878,\"\"))","v":""},{"$f":"IF(LEN(AF878)=0,\"\",IF(ISNA(MATCH(AF878,MasterListing,0)),AJ878,\"\"))","v":""},null,"HI7_____GRADALTDPL_N","","HI7GRADALTDPLN","HI7_____GRADALTDPL_N",1,"______",null,null,null,null,{"$f":"IF(ISNUMBER(SEARCH($F$6,AP877)),MAX($AO$11:AO876)+1,0)","v":866},0,{"$f":"ROWS($AQ$12:AQ877)","v":866},{"$f":"IFERROR(VLOOKUP(ROWS($AR$12:AR877),$AO$12:$AP$3014,2,0),\"\")","v":0}]
[null,null,null,null,null,null,null,null,null,null,null,null,null,null,null,null,null,null,null,null,null,null,null,null,null,null,{"$f":"IFERROR(INDEX($AE$13:$AE$1003, SMALL(IF(ISBLANK($AE$13:$AE$1003)+ISERROR($AE$13:$AE$1003)+LEN($AE$13:$AE$1003)=0, \"\", ROW($AE$13:$AE$1003)-MIN(ROW($AE$13:$AE$1003))+1), ROW(867:867))),\"\")","v":"HI7_____RC_N"},{"$f":"IF(AF879=\"\",\"\",IF(COUNTIF(CurrentListing,AF879)>1,AJ879,\"\"))","v":""},{"$f":"IF(LEN(AF879)=0,\"\",IF(ISNA(MATCH(AF879,MasterListing,0)),AJ879,\"\"))","v":""},null,"HI7_____MKC_N","","HI7MKCN","HI7_____MKC_N",1,"______",null,null,null,null,{"$f":"IF(ISNUMBER(SEARCH($F$6,AP878)),MAX($AO$11:AO877)+1,0)","v":867},0,{"$f":"ROWS($AQ$12:AQ878)","v":867},{"$f":"IFERROR(VLOOKUP(ROWS($AR$12:AR878),$AO$12:$AP$3014,2,0),\"\")","v":0}]
[null,null,null,null,null,null,null,null,null,null,null,null,null,null,null,null,null,null,null,null,null,null,null,null,null,null,{"$f":"IFERROR(INDEX($AE$13:$AE$1003, SMALL(IF(ISBLANK($AE$13:$AE$1003)+ISERROR($AE$13:$AE$1003)+LEN($AE$13:$AE$1003)=0, \"\", ROW($AE$13:$AE$1003)-MIN(ROW($AE$13:$AE$1003))+1), ROW(868:868))),\"\")","v":"HI7_____RMA_N"},{"$f":"IF(AF880=\"\",\"\",IF(COUNTIF(CurrentListing,AF880)>1,AJ880,\"\"))","v":""},{"$f":"IF(LEN(AF880)=0,\"\",IF(ISNA(MATCH(AF880,MasterListing,0)),AJ880,\"\"))","v":""},null,"HI7_____RC_N","","HI7RCN","HI7_____RC_N",1,"______",null,null,null,null,{"$f":"IF(ISNUMBER(SEARCH($F$6,AP879)),MAX($AO$11:AO878)+1,0)","v":868},0,{"$f":"ROWS($AQ$12:AQ879)","v":868},{"$f":"IFERROR(VLOOKUP(ROWS($AR$12:AR879),$AO$12:$AP$3014,2,0),\"\")","v":0}]
[null,null,null,null,null,null,null,null,null,null,null,null,null,null,null,null,null,null,null,null,null,null,null,null,null,null,{"$f":"IFERROR(INDEX($AE$13:$AE$1003, SMALL(IF(ISBLANK($AE$13:$AE$1003)+ISERROR($AE$13:$AE$1003)+LEN($AE$13:$AE$1003)=0, \"\", ROW($AE$13:$AE$1003)-MIN(ROW($AE$13:$AE$1003))+1), ROW(869:869))),\"\")","v":"HI7_____TRAN_N"},{"$f":"IF(AF881=\"\",\"\",IF(COUNTIF(CurrentListing,AF881)>1,AJ881,\"\"))","v":""},{"$f":"IF(LEN(AF881)=0,\"\",IF(ISNA(MATCH(AF881,MasterListing,0)),AJ881,\"\"))","v":""},null,"HI7_____RMA_N","","HI7RMAN","HI7_____RMA_N",1,"______",null,null,null,null,{"$f":"IF(ISNUMBER(SEARCH($F$6,AP880)),MAX($AO$11:AO879)+1,0)","v":869},0,{"$f":"ROWS($AQ$12:AQ880)","v":869},{"$f":"IFERROR(VLOOKUP(ROWS($AR$12:AR880),$AO$12:$AP$3014,2,0),\"\")","v":0}]
[null,null,null,null,null,null,null,null,null,null,null,null,null,null,null,null,null,null,null,null,null,null,null,null,null,null,{"$f":"IFERROR(INDEX($AE$13:$AE$1003, SMALL(IF(ISBLANK($AE$13:$AE$1003)+ISERROR($AE$13:$AE$1003)+LEN($AE$13:$AE$1003)=0, \"\", ROW($AE$13:$AE$1003)-MIN(ROW($AE$13:$AE$1003))+1), ROW(870:870))),\"\")","v":"MU7______Y"},{"$f":"IF(AF882=\"\",\"\",IF(COUNTIF(CurrentListing,AF882)>1,AJ882,\"\"))","v":""},{"$f":"IF(LEN(AF882)=0,\"\",IF(ISNA(MATCH(AF882,MasterListing,0)),AJ882,\"\"))","v":""},null,"HI7_____TRAN_N","","HI7TRANN","HI7_____TRAN_N",1,"______",null,null,null,null,{"$f":"IF(ISNUMBER(SEARCH($F$6,AP881)),MAX($AO$11:AO880)+1,0)","v":870},0,{"$f":"ROWS($AQ$12:AQ881)","v":870},{"$f":"IFERROR(VLOOKUP(ROWS($AR$12:AR881),$AO$12:$AP$3014,2,0),\"\")","v":0}]
[null,null,null,null,null,null,null,null,null,null,null,null,null,null,null,null,null,null,null,null,null,null,null,null,null,null,{"$f":"IFERROR(INDEX($AE$13:$AE$1003, SMALL(IF(ISBLANK($AE$13:$AE$1003)+ISERROR($AE$13:$AE$1003)+LEN($AE$13:$AE$1003)=0, \"\", ROW($AE$13:$AE$1003)-MIN(ROW($AE$13:$AE$1003))+1), ROW(871:871))),\"\")","v":"MU7_____D_N"},{"$f":"IF(AF883=\"\",\"\",IF(COUNTIF(CurrentListing,AF883)>1,AJ883,\"\"))","v":""},{"$f":"IF(LEN(AF883)=0,\"\",IF(ISNA(MATCH(AF883,MasterListing,0)),AJ883,\"\"))","v":""},null,"MU7______Y","","MU7Y","MU7______Y",1,"______",null,null,null,null,{"$f":"IF(ISNUMBER(SEARCH($F$6,AP882)),MAX($AO$11:AO881)+1,0)","v":871},0,{"$f":"ROWS($AQ$12:AQ882)","v":871},{"$f":"IFERROR(VLOOKUP(ROWS($AR$12:AR882),$AO$12:$AP$3014,2,0),\"\")","v":0}]
[null,null,null,null,null,null,null,null,null,null,null,null,null,null,null,null,null,null,null,null,null,null,null,null,null,null,{"$f":"IFERROR(INDEX($AE$13:$AE$1003, SMALL(IF(ISBLANK($AE$13:$AE$1003)+ISERROR($AE$13:$AE$1003)+LEN($AE$13:$AE$1003)=0, \"\", ROW($AE$13:$AE$1003)-MIN(ROW($AE$13:$AE$1003))+1), ROW(872:872))),\"\")","v":"MU7_____DROPOUT_N"},{"$f":"IF(AF884=\"\",\"\",IF(COUNTIF(CurrentListing,AF884)>1,AJ884,\"\"))","v":""},{"$f":"IF(LEN(AF884)=0,\"\",IF(ISNA(MATCH(AF884,MasterListing,0)),AJ884,\"\"))","v":""},null,"MU7_____D_N","","MU7DN","MU7_____D_N",1,"______",null,null,null,null,{"$f":"IF(ISNUMBER(SEARCH($F$6,AP883)),MAX($AO$11:AO882)+1,0)","v":872},0,{"$f":"ROWS($AQ$12:AQ883)","v":872},{"$f":"IFERROR(VLOOKUP(ROWS($AR$12:AR883),$AO$12:$AP$3014,2,0),\"\")","v":0}]
[null,null,null,null,null,null,null,null,null,null,null,null,null,null,null,null,null,null,null,null,null,null,null,null,null,null,{"$f":"IFERROR(INDEX($AE$13:$AE$1003, SMALL(IF(ISBLANK($AE$13:$AE$1003)+ISERROR($AE$13:$AE$1003)+LEN($AE$13:$AE$1003)=0, \"\", ROW($AE$13:$AE$1003)-MIN(ROW($AE$13:$AE$1003))+1), ROW(873:873))),\"\")","v":"MU7_____GHS_N"},{"$f":"IF(AF885=\"\",\"\",IF(COUNTIF(CurrentListing,AF885)>1,AJ885,\"\"))","v":""},{"$f":"IF(LEN(AF885)=0,\"\",IF(ISNA(MATCH(AF885,MasterListing,0)),AJ885,\"\"))","v":""},null,"MU7_____DROPOUT_N","","MU7DROPOUTN","MU7_____DROPOUT_N",1,"______",null,null,null,null,{"$f":"IF(ISNUMBER(SEARCH($F$6,AP884)),MAX($AO$11:AO883)+1,0)","v":873},0,{"$f":"ROWS($AQ$12:AQ884)","v":873},{"$f":"IFERROR(VLOOKUP(ROWS($AR$12:AR884),$AO$12:$AP$3014,2,0),\"\")","v":0}]
[null,null,null,null,null,null,null,null,null,null,null,null,null,null,null,null,null,null,null,null,null,null,null,null,null,null,{"$f":"IFERROR(INDEX($AE$13:$AE$1003, SMALL(IF(ISBLANK($AE$13:$AE$1003)+ISERROR($AE$13:$AE$1003)+LEN($AE$13:$AE$1003)=0, \"\", ROW($AE$13:$AE$1003)-MIN(ROW($AE$13:$AE$1003))+1), ROW(874:874))),\"\")","v":"MU7_____GRADALTDPL_N"},{"$f":"IF(AF886=\"\",\"\",IF(COUNTIF(CurrentListing,AF886)>1,AJ886,\"\"))","v":""},{"$f":"IF(LEN(AF886)=0,\"\",IF(ISNA(MATCH(AF886,MasterListing,0)),AJ886,\"\"))","v":""},null,"MU7_____GHS_N","","MU7GHSN","MU7_____GHS_N",1,"______",null,null,null,null,{"$f":"IF(ISNUMBER(SEARCH($F$6,AP885)),MAX($AO$11:AO884)+1,0)","v":874},0,{"$f":"ROWS($AQ$12:AQ885)","v":874},{"$f":"IFERROR(VLOOKUP(ROWS($AR$12:AR885),$AO$12:$AP$3014,2,0),\"\")","v":0}]
[null,null,null,null,null,null,null,null,null,null,null,null,null,null,null,null,null,null,null,null,null,null,null,null,null,null,{"$f":"IFERROR(INDEX($AE$13:$AE$1003, SMALL(IF(ISBLANK($AE$13:$AE$1003)+ISERROR($AE$13:$AE$1003)+LEN($AE$13:$AE$1003)=0, \"\", ROW($AE$13:$AE$1003)-MIN(ROW($AE$13:$AE$1003))+1), ROW(875:875))),\"\")","v":"MU7_____MKC_N"},{"$f":"IF(AF887=\"\",\"\",IF(COUNTIF(CurrentListing,AF887)>1,AJ887,\"\"))","v":""},{"$f":"IF(LEN(AF887)=0,\"\",IF(ISNA(MATCH(AF887,MasterListing,0)),AJ887,\"\"))","v":""},null,"MU7_____GRADALTDPL_N","","MU7GRADALTDPLN","MU7_____GRADALTDPL_N",1,"______",null,null,null,null,{"$f":"IF(ISNUMBER(SEARCH($F$6,AP886)),MAX($AO$11:AO885)+1,0)","v":875},0,{"$f":"ROWS($AQ$12:AQ886)","v":875},{"$f":"IFERROR(VLOOKUP(ROWS($AR$12:AR886),$AO$12:$AP$3014,2,0),\"\")","v":0}]
[null,null,null,null,null,null,null,null,null,null,null,null,null,null,null,null,null,null,null,null,null,null,null,null,null,null,{"$f":"IFERROR(INDEX($AE$13:$AE$1003, SMALL(IF(ISBLANK($AE$13:$AE$1003)+ISERROR($AE$13:$AE$1003)+LEN($AE$13:$AE$1003)=0, \"\", ROW($AE$13:$AE$1003)-MIN(ROW($AE$13:$AE$1003))+1), ROW(876:876))),\"\")","v":"MU7_____RC_N"},{"$f":"IF(AF888=\"\",\"\",IF(COUNTIF(CurrentListing,AF888)>1,AJ888,\"\"))","v":""},{"$f":"IF(LEN(AF888)=0,\"\",IF(ISNA(MATCH(AF888,MasterListing,0)),AJ888,\"\"))","v":""},null,"MU7_____MKC_N","","MU7MKCN","MU7_____MKC_N",1,"______",null,null,null,null,{"$f":"IF(ISNUMBER(SEARCH($F$6,AP887)),MAX($AO$11:AO886)+1,0)","v":876},0,{"$f":"ROWS($AQ$12:AQ887)","v":876},{"$f":"IFERROR(VLOOKUP(ROWS($AR$12:AR887),$AO$12:$AP$3014,2,0),\"\")","v":0}]
[null,null,null,null,null,null,null,null,null,null,null,null,null,null,null,null,null,null,null,null,null,null,null,null,null,null,{"$f":"IFERROR(INDEX($AE$13:$AE$1003, SMALL(IF(ISBLANK($AE$13:$AE$1003)+ISERROR($AE$13:$AE$1003)+LEN($AE$13:$AE$1003)=0, \"\", ROW($AE$13:$AE$1003)-MIN(ROW($AE$13:$AE$1003))+1), ROW(877:877))),\"\")","v":"MU7_____RMA_N"},{"$f":"IF(AF889=\"\",\"\",IF(COUNTIF(CurrentListing,AF889)>1,AJ889,\"\"))","v":""},{"$f":"IF(LEN(AF889)=0,\"\",IF(ISNA(MATCH(AF889,MasterListing,0)),AJ889,\"\"))","v":""},null,"MU7_____RC_N","","MU7RCN","MU7_____RC_N",1,"______",null,null,null,null,{"$f":"IF(ISNUMBER(SEARCH($F$6,AP888)),MAX($AO$11:AO887)+1,0)","v":877},0,{"$f":"ROWS($AQ$12:AQ888)","v":877},{"$f":"IFERROR(VLOOKUP(ROWS($AR$12:AR888),$AO$12:$AP$3014,2,0),\"\")","v":0}]
[null,null,null,null,null,null,null,null,null,null,null,null,null,null,null,null,null,null,null,null,null,null,null,null,null,null,{"$f":"IFERROR(INDEX($AE$13:$AE$1003, SMALL(IF(ISBLANK($AE$13:$AE$1003)+ISERROR($AE$13:$AE$1003)+LEN($AE$13:$AE$1003)=0, \"\", ROW($AE$13:$AE$1003)-MIN(ROW($AE$13:$AE$1003))+1), ROW(878:878))),\"\")","v":"MU7_____TRAN_N"},{"$f":"IF(AF890=\"\",\"\",IF(COUNTIF(CurrentListing,AF890)>1,AJ890,\"\"))","v":""},{"$f":"IF(LEN(AF890)=0,\"\",IF(ISNA(MATCH(AF890,MasterListing,0)),AJ890,\"\"))","v":""},null,"MU7_____RMA_N","","MU7RMAN","MU7_____RMA_N",1,"______",null,null,null,null,{"$f":"IF(ISNUMBER(SEARCH($F$6,AP889)),MAX($AO$11:AO888)+1,0)","v":878},0,{"$f":"ROWS($AQ$12:AQ889)","v":878},{"$f":"IFERROR(VLOOKUP(ROWS($AR$12:AR889),$AO$12:$AP$3014,2,0),\"\")","v":0}]
[null,null,null,null,null,null,null,null,null,null,null,null,null,null,null,null,null,null,null,null,null,null,null,null,null,null,{"$f":"IFERROR(INDEX($AE$13:$AE$1003, SMALL(IF(ISBLANK($AE$13:$AE$1003)+ISERROR($AE$13:$AE$1003)+LEN($AE$13:$AE$1003)=0, \"\", ROW($AE$13:$AE$1003)-MIN(ROW($AE$13:$AE$1003))+1), ROW(879:879))),\"\")","v":"PI7______Y"},{"$f":"IF(AF891=\"\",\"\",IF(COUNTIF(CurrentListing,AF891)>1,AJ891,\"\"))","v":""},{"$f":"IF(LEN(AF891)=0,\"\",IF(ISNA(MATCH(AF891,MasterListing,0)),AJ891,\"\"))","v":""},null,"MU7_____TRAN_N","","MU7TRANN","MU7_____TRAN_N",1,"______",null,null,null,null,{"$f":"IF(ISNUMBER(SEARCH($F$6,AP890)),MAX($AO$11:AO889)+1,0)","v":879},0,{"$f":"ROWS($AQ$12:AQ890)","v":879},{"$f":"IFERROR(VLOOKUP(ROWS($AR$12:AR890),$AO$12:$AP$3014,2,0),\"\")","v":0}]
[null,null,null,null,null,null,null,null,null,null,null,null,null,null,null,null,null,null,null,null,null,null,null,null,null,null,{"$f":"IFERROR(INDEX($AE$13:$AE$1003, SMALL(IF(ISBLANK($AE$13:$AE$1003)+ISERROR($AE$13:$AE$1003)+LEN($AE$13:$AE$1003)=0, \"\", ROW($AE$13:$AE$1003)-MIN(ROW($AE$13:$AE$1003))+1), ROW(880:880))),\"\")","v":"PI7_____D_N"},{"$f":"IF(AF892=\"\",\"\",IF(COUNTIF(CurrentListing,AF892)>1,AJ892,\"\"))","v":""},{"$f":"IF(LEN(AF892)=0,\"\",IF(ISNA(MATCH(AF892,MasterListing,0)),AJ892,\"\"))","v":""},null,"PI7______Y","","PI7Y","PI7______Y",1,"______",null,null,null,null,{"$f":"IF(ISNUMBER(SEARCH($F$6,AP891)),MAX($AO$11:AO890)+1,0)","v":880},0,{"$f":"ROWS($AQ$12:AQ891)","v":880},{"$f":"IFERROR(VLOOKUP(ROWS($AR$12:AR891),$AO$12:$AP$3014,2,0),\"\")","v":0}]
[null,null,null,null,null,null,null,null,null,null,null,null,null,null,null,null,null,null,null,null,null,null,null,null,null,null,{"$f":"IFERROR(INDEX($AE$13:$AE$1003, SMALL(IF(ISBLANK($AE$13:$AE$1003)+ISERROR($AE$13:$AE$1003)+LEN($AE$13:$AE$1003)=0, \"\", ROW($AE$13:$AE$1003)-MIN(ROW($AE$13:$AE$1003))+1), ROW(881:881))),\"\")","v":"PI7_____DROPOUT_N"},{"$f":"IF(AF893=\"\",\"\",IF(COUNTIF(CurrentListing,AF893)>1,AJ893,\"\"))","v":""},{"$f":"IF(LEN(AF893)=0,\"\",IF(ISNA(MATCH(AF893,MasterListing,0)),AJ893,\"\"))","v":""},null,"PI7_____D_N","","PI7DN","PI7_____D_N",1,"______",null,null,null,null,{"$f":"IF(ISNUMBER(SEARCH($F$6,AP892)),MAX($AO$11:AO891)+1,0)","v":881},0,{"$f":"ROWS($AQ$12:AQ892)","v":881},{"$f":"IFERROR(VLOOKUP(ROWS($AR$12:AR892),$AO$12:$AP$3014,2,0),\"\")","v":0}]
[null,null,null,null,null,null,null,null,null,null,null,null,null,null,null,null,null,null,null,null,null,null,null,null,null,null,{"$f":"IFERROR(INDEX($AE$13:$AE$1003, SMALL(IF(ISBLANK($AE$13:$AE$1003)+ISERROR($AE$13:$AE$1003)+LEN($AE$13:$AE$1003)=0, \"\", ROW($AE$13:$AE$1003)-MIN(ROW($AE$13:$AE$1003))+1), ROW(882:882))),\"\")","v":"PI7_____GHS_N"},{"$f":"IF(AF894=\"\",\"\",IF(COUNTIF(CurrentListing,AF894)>1,AJ894,\"\"))","v":""},{"$f":"IF(LEN(AF894)=0,\"\",IF(ISNA(MATCH(AF894,MasterListing,0)),AJ894,\"\"))","v":""},null,"PI7_____DROPOUT_N","","PI7DROPOUTN","PI7_____DROPOUT_N",1,"______",null,null,null,null,{"$f":"IF(ISNUMBER(SEARCH($F$6,AP893)),MAX($AO$11:AO892)+1,0)","v":882},0,{"$f":"ROWS($AQ$12:AQ893)","v":882},{"$f":"IFERROR(VLOOKUP(ROWS($AR$12:AR893),$AO$12:$AP$3014,2,0),\"\")","v":0}]
[null,null,null,null,null,null,null,null,null,null,null,null,null,null,null,null,null,null,null,null,null,null,null,null,null,null,{"$f":"IFERROR(INDEX($AE$13:$AE$1003, SMALL(IF(ISBLANK($AE$13:$AE$1003)+ISERROR($AE$13:$AE$1003)+LEN($AE$13:$AE$1003)=0, \"\", ROW($AE$13:$AE$1003)-MIN(ROW($AE$13:$AE$1003))+1), ROW(883:883))),\"\")","v":"PI7_____GRADALTDPL_N"},{"$f":"IF(AF895=\"\",\"\",IF(COUNTIF(CurrentListing,AF895)>1,AJ895,\"\"))","v":""},{"$f":"IF(LEN(AF895)=0,\"\",IF(ISNA(MATCH(AF895,MasterListing,0)),AJ895,\"\"))","v":""},null,"PI7_____GHS_N","","PI7GHSN","PI7_____GHS_N",1,"______",null,null,null,null,{"$f":"IF(ISNUMBER(SEARCH($F$6,AP894)),MAX($AO$11:AO893)+1,0)","v":883},0,{"$f":"ROWS($AQ$12:AQ894)","v":883},{"$f":"IFERROR(VLOOKUP(ROWS($AR$12:AR894),$AO$12:$AP$3014,2,0),\"\")","v":0}]
[null,null,null,null,null,null,null,null,null,null,null,null,null,null,null,null,null,null,null,null,null,null,null,null,null,null,{"$f":"IFERROR(INDEX($AE$13:$AE$1003, SMALL(IF(ISBLANK($AE$13:$AE$1003)+ISERROR($AE$13:$AE$1003)+LEN($AE$13:$AE$1003)=0, \"\", ROW($AE$13:$AE$1003)-MIN(ROW($AE$13:$AE$1003))+1), ROW(884:884))),\"\")","v":"PI7_____MKC_N"},{"$f":"IF(AF896=\"\",\"\",IF(COUNTIF(CurrentListing,AF896)>1,AJ896,\"\"))","v":""},{"$f":"IF(LEN(AF896)=0,\"\",IF(ISNA(MATCH(AF896,MasterListing,0)),AJ896,\"\"))","v":""},null,"PI7_____GRADALTDPL_N","","PI7GRADALTDPLN","PI7_____GRADALTDPL_N",1,"______",null,null,null,null,{"$f":"IF(ISNUMBER(SEARCH($F$6,AP895)),MAX($AO$11:AO894)+1,0)","v":884},0,{"$f":"ROWS($AQ$12:AQ895)","v":884},{"$f":"IFERROR(VLOOKUP(ROWS($AR$12:AR895),$AO$12:$AP$3014,2,0),\"\")","v":0}]
[null,null,null,null,null,null,null,null,null,null,null,null,null,null,null,null,null,null,null,null,null,null,null,null,null,null,{"$f":"IFERROR(INDEX($AE$13:$AE$1003, SMALL(IF(ISBLANK($AE$13:$AE$1003)+ISERROR($AE$13:$AE$1003)+LEN($AE$13:$AE$1003)=0, \"\", ROW($AE$13:$AE$1003)-MIN(ROW($AE$13:$AE$1003))+1), ROW(885:885))),\"\")","v":"PI7_____RC_N"},{"$f":"IF(AF897=\"\",\"\",IF(COUNTIF(CurrentListing,AF897)>1,AJ897,\"\"))","v":""},{"$f":"IF(LEN(AF897)=0,\"\",IF(ISNA(MATCH(AF897,MasterListing,0)),AJ897,\"\"))","v":""},null,"PI7_____MKC_N","","PI7MKCN","PI7_____MKC_N",1,"______",null,null,null,null,{"$f":"IF(ISNUMBER(SEARCH($F$6,AP896)),MAX($AO$11:AO895)+1,0)","v":885},0,{"$f":"ROWS($AQ$12:AQ896)","v":885},{"$f":"IFERROR(VLOOKUP(ROWS($AR$12:AR896),$AO$12:$AP$3014,2,0),\"\")","v":0}]
[null,null,null,null,null,null,null,null,null,null,null,null,null,null,null,null,null,null,null,null,null,null,null,null,null,null,{"$f":"IFERROR(INDEX($AE$13:$AE$1003, SMALL(IF(ISBLANK($AE$13:$AE$1003)+ISERROR($AE$13:$AE$1003)+LEN($AE$13:$AE$1003)=0, \"\", ROW($AE$13:$AE$1003)-MIN(ROW($AE$13:$AE$1003))+1), ROW(886:886))),\"\")","v":"PI7_____RMA_N"},{"$f":"IF(AF898=\"\",\"\",IF(COUNTIF(CurrentListing,AF898)>1,AJ898,\"\"))","v":""},{"$f":"IF(LEN(AF898)=0,\"\",IF(ISNA(MATCH(AF898,MasterListing,0)),AJ898,\"\"))","v":""},null,"PI7_____RC_N","","PI7RCN","PI7_____RC_N",1,"______",null,null,null,null,{"$f":"IF(ISNUMBER(SEARCH($F$6,AP897)),MAX($AO$11:AO896)+1,0)","v":886},0,{"$f":"ROWS($AQ$12:AQ897)","v":886},{"$f":"IFERROR(VLOOKUP(ROWS($AR$12:AR897),$AO$12:$AP$3014,2,0),\"\")","v":0}]
[null,null,null,null,null,null,null,null,null,null,null,null,null,null,null,null,null,null,null,null,null,null,null,null,null,null,{"$f":"IFERROR(INDEX($AE$13:$AE$1003, SMALL(IF(ISBLANK($AE$13:$AE$1003)+ISERROR($AE$13:$AE$1003)+LEN($AE$13:$AE$1003)=0, \"\", ROW($AE$13:$AE$1003)-MIN(ROW($AE$13:$AE$1003))+1), ROW(887:887))),\"\")","v":"PI7_____TRAN_N"},{"$f":"IF(AF899=\"\",\"\",IF(COUNTIF(CurrentListing,AF899)>1,AJ899,\"\"))","v":""},{"$f":"IF(LEN(AF899)=0,\"\",IF(ISNA(MATCH(AF899,MasterListing,0)),AJ899,\"\"))","v":""},null,"PI7_____RMA_N","","PI7RMAN","PI7_____RMA_N",1,"______",null,null,null,null,{"$f":"IF(ISNUMBER(SEARCH($F$6,AP898)),MAX($AO$11:AO897)+1,0)","v":887},0,{"$f":"ROWS($AQ$12:AQ898)","v":887},{"$f":"IFERROR(VLOOKUP(ROWS($AR$12:AR898),$AO$12:$AP$3014,2,0),\"\")","v":0}]
[null,null,null,null,null,null,null,null,null,null,null,null,null,null,null,null,null,null,null,null,null,null,null,null,null,null,{"$f":"IFERROR(INDEX($AE$13:$AE$1003, SMALL(IF(ISBLANK($AE$13:$AE$1003)+ISERROR($AE$13:$AE$1003)+LEN($AE$13:$AE$1003)=0, \"\", ROW($AE$13:$AE$1003)-MIN(ROW($AE$13:$AE$1003))+1), ROW(888:888))),\"\")","v":"WH7______Y"},{"$f":"IF(AF900=\"\",\"\",IF(COUNTIF(CurrentListing,AF900)>1,AJ900,\"\"))","v":""},{"$f":"IF(LEN(AF900)=0,\"\",IF(ISNA(MATCH(AF900,MasterListing,0)),AJ900,\"\"))","v":""},null,"PI7_____TRAN_N","","PI7TRANN","PI7_____TRAN_N",1,"______",null,null,null,null,{"$f":"IF(ISNUMBER(SEARCH($F$6,AP899)),MAX($AO$11:AO898)+1,0)","v":888},0,{"$f":"ROWS($AQ$12:AQ899)","v":888},{"$f":"IFERROR(VLOOKUP(ROWS($AR$12:AR899),$AO$12:$AP$3014,2,0),\"\")","v":0}]
[null,null,null,null,null,null,null,null,null,null,null,null,null,null,null,null,null,null,null,null,null,null,null,null,null,null,{"$f":"IFERROR(INDEX($AE$13:$AE$1003, SMALL(IF(ISBLANK($AE$13:$AE$1003)+ISERROR($AE$13:$AE$1003)+LEN($AE$13:$AE$1003)=0, \"\", ROW($AE$13:$AE$1003)-MIN(ROW($AE$13:$AE$1003))+1), ROW(889:889))),\"\")","v":"WH7_____D_N"},{"$f":"IF(AF901=\"\",\"\",IF(COUNTIF(CurrentListing,AF901)>1,AJ901,\"\"))","v":""},{"$f":"IF(LEN(AF901)=0,\"\",IF(ISNA(MATCH(AF901,MasterListing,0)),AJ901,\"\"))","v":""},null,"WH7______Y","","WH7Y","WH7______Y",1,"______",null,null,null,null,{"$f":"IF(ISNUMBER(SEARCH($F$6,AP900)),MAX($AO$11:AO899)+1,0)","v":889},0,{"$f":"ROWS($AQ$12:AQ900)","v":889},{"$f":"IFERROR(VLOOKUP(ROWS($AR$12:AR900),$AO$12:$AP$3014,2,0),\"\")","v":0}]
[null,null,null,null,null,null,null,null,null,null,null,null,null,null,null,null,null,null,null,null,null,null,null,null,null,null,{"$f":"IFERROR(INDEX($AE$13:$AE$1003, SMALL(IF(ISBLANK($AE$13:$AE$1003)+ISERROR($AE$13:$AE$1003)+LEN($AE$13:$AE$1003)=0, \"\", ROW($AE$13:$AE$1003)-MIN(ROW($AE$13:$AE$1003))+1), ROW(890:890))),\"\")","v":"WH7_____DROPOUT_N"},{"$f":"IF(AF902=\"\",\"\",IF(COUNTIF(CurrentListing,AF902)>1,AJ902,\"\"))","v":""},{"$f":"IF(LEN(AF902)=0,\"\",IF(ISNA(MATCH(AF902,MasterListing,0)),AJ902,\"\"))","v":""},null,"WH7_____D_N","","WH7DN","WH7_____D_N",1,"______",null,null,null,null,{"$f":"IF(ISNUMBER(SEARCH($F$6,AP901)),MAX($AO$11:AO900)+1,0)","v":890},0,{"$f":"ROWS($AQ$12:AQ901)","v":890},{"$f":"IFERROR(VLOOKUP(ROWS($AR$12:AR901),$AO$12:$AP$3014,2,0),\"\")","v":0}]
[null,null,null,null,null,null,null,null,null,null,null,null,null,null,null,null,null,null,null,null,null,null,null,null,null,null,{"$f":"IFERROR(INDEX($AE$13:$AE$1003, SMALL(IF(ISBLANK($AE$13:$AE$1003)+ISERROR($AE$13:$AE$1003)+LEN($AE$13:$AE$1003)=0, \"\", ROW($AE$13:$AE$1003)-MIN(ROW($AE$13:$AE$1003))+1), ROW(891:891))),\"\")","v":"WH7_____GHS_N"},{"$f":"IF(AF903=\"\",\"\",IF(COUNTIF(CurrentListing,AF903)>1,AJ903,\"\"))","v":""},{"$f":"IF(LEN(AF903)=0,\"\",IF(ISNA(MATCH(AF903,MasterListing,0)),AJ903,\"\"))","v":""},null,"WH7_____DROPOUT_N","","WH7DROPOUTN","WH7_____DROPOUT_N",1,"______",null,null,null,null,{"$f":"IF(ISNUMBER(SEARCH($F$6,AP902)),MAX($AO$11:AO901)+1,0)","v":891},0,{"$f":"ROWS($AQ$12:AQ902)","v":891},{"$f":"IFERROR(VLOOKUP(ROWS($AR$12:AR902),$AO$12:$AP$3014,2,0),\"\")","v":0}]
[null,null,null,null,null,null,null,null,null,null,null,null,null,null,null,null,null,null,null,null,null,null,null,null,null,null,{"$f":"IFERROR(INDEX($AE$13:$AE$1003, SMALL(IF(ISBLANK($AE$13:$AE$1003)+ISERROR($AE$13:$AE$1003)+LEN($AE$13:$AE$1003)=0, \"\", ROW($AE$13:$AE$1003)-MIN(ROW($AE$13:$AE$1003))+1), ROW(892:892))),\"\")","v":"WH7_____GRADALTDPL_N"},{"$f":"IF(AF904=\"\",\"\",IF(COUNTIF(CurrentListing,AF904)>1,AJ904,\"\"))","v":""},{"$f":"IF(LEN(AF904)=0,\"\",IF(ISNA(MATCH(AF904,MasterListing,0)),AJ904,\"\"))","v":""},null,"WH7_____GHS_N","","WH7GHSN","WH7_____GHS_N",1,"______",null,null,null,null,{"$f":"IF(ISNUMBER(SEARCH($F$6,AP903)),MAX($AO$11:AO902)+1,0)","v":892},0,{"$f":"ROWS($AQ$12:AQ903)","v":892},{"$f":"IFERROR(VLOOKUP(ROWS($AR$12:AR903),$AO$12:$AP$3014,2,0),\"\")","v":0}]
[null,null,null,null,null,null,null,null,null,null,null,null,null,null,null,null,null,null,null,null,null,null,null,null,null,null,{"$f":"IFERROR(INDEX($AE$13:$AE$1003, SMALL(IF(ISBLANK($AE$13:$AE$1003)+ISERROR($AE$13:$AE$1003)+LEN($AE$13:$AE$1003)=0, \"\", ROW($AE$13:$AE$1003)-MIN(ROW($AE$13:$AE$1003))+1), ROW(893:893))),\"\")","v":"WH7_____MKC_N"},{"$f":"IF(AF905=\"\",\"\",IF(COUNTIF(CurrentListing,AF905)>1,AJ905,\"\"))","v":""},{"$f":"IF(LEN(AF905)=0,\"\",IF(ISNA(MATCH(AF905,MasterListing,0)),AJ905,\"\"))","v":""},null,"WH7_____GRADALTDPL_N","","WH7GRADALTDPLN","WH7_____GRADALTDPL_N",1,"______",null,null,null,null,{"$f":"IF(ISNUMBER(SEARCH($F$6,AP904)),MAX($AO$11:AO903)+1,0)","v":893},0,{"$f":"ROWS($AQ$12:AQ904)","v":893},{"$f":"IFERROR(VLOOKUP(ROWS($AR$12:AR904),$AO$12:$AP$3014,2,0),\"\")","v":0}]
[null,null,null,null,null,null,null,null,null,null,null,null,null,null,null,null,null,null,null,null,null,null,null,null,null,null,{"$f":"IFERROR(INDEX($AE$13:$AE$1003, SMALL(IF(ISBLANK($AE$13:$AE$1003)+ISERROR($AE$13:$AE$1003)+LEN($AE$13:$AE$1003)=0, \"\", ROW($AE$13:$AE$1003)-MIN(ROW($AE$13:$AE$1003))+1), ROW(894:894))),\"\")","v":"WH7_____RC_N"},{"$f":"IF(AF906=\"\",\"\",IF(COUNTIF(CurrentListing,AF906)>1,AJ906,\"\"))","v":""},{"$f":"IF(LEN(AF906)=0,\"\",IF(ISNA(MATCH(AF906,MasterListing,0)),AJ906,\"\"))","v":""},null,"WH7_____MKC_N","","WH7MKCN","WH7_____MKC_N",1,"______",null,null,null,null,{"$f":"IF(ISNUMBER(SEARCH($F$6,AP905)),MAX($AO$11:AO904)+1,0)","v":894},0,{"$f":"ROWS($AQ$12:AQ905)","v":894},{"$f":"IFERROR(VLOOKUP(ROWS($AR$12:AR905),$AO$12:$AP$3014,2,0),\"\")","v":0}]
[null,null,null,null,null,null,null,null,null,null,null,null,null,null,null,null,null,null,null,null,null,null,null,null,null,null,{"$f":"IFERROR(INDEX($AE$13:$AE$1003, SMALL(IF(ISBLANK($AE$13:$AE$1003)+ISERROR($AE$13:$AE$1003)+LEN($AE$13:$AE$1003)=0, \"\", ROW($AE$13:$AE$1003)-MIN(ROW($AE$13:$AE$1003))+1), ROW(895:895))),\"\")","v":"WH7_____RMA_N"},{"$f":"IF(AF907=\"\",\"\",IF(COUNTIF(CurrentListing,AF907)>1,AJ907,\"\"))","v":""},{"$f":"IF(LEN(AF907)=0,\"\",IF(ISNA(MATCH(AF907,MasterListing,0)),AJ907,\"\"))","v":""},null,"WH7_____RC_N","","WH7RCN","WH7_____RC_N",1,"______",null,null,null,null,{"$f":"IF(ISNUMBER(SEARCH($F$6,AP906)),MAX($AO$11:AO905)+1,0)","v":895},0,{"$f":"ROWS($AQ$12:AQ906)","v":895},{"$f":"IFERROR(VLOOKUP(ROWS($AR$12:AR906),$AO$12:$AP$3014,2,0),\"\")","v":0}]
[null,null,null,null,null,null,null,null,null,null,null,null,null,null,null,null,null,null,null,null,null,null,null,null,null,null,{"$f":"IFERROR(INDEX($AE$13:$AE$1003, SMALL(IF(ISBLANK($AE$13:$AE$1003)+ISERROR($AE$13:$AE$1003)+LEN($AE$13:$AE$1003)=0, \"\", ROW($AE$13:$AE$1003)-MIN(ROW($AE$13:$AE$1003))+1), ROW(896:896))),\"\")","v":"WH7_____TRAN_N"},{"$f":"IF(AF908=\"\",\"\",IF(COUNTIF(CurrentListing,AF908)>1,AJ908,\"\"))","v":""},{"$f":"IF(LEN(AF908)=0,\"\",IF(ISNA(MATCH(AF908,MasterListing,0)),AJ908,\"\"))","v":""},null,"WH7_____RMA_N","","WH7RMAN","WH7_____RMA_N",1,"______",null,null,null,null,{"$f":"IF(ISNUMBER(SEARCH($F$6,AP907)),MAX($AO$11:AO906)+1,0)","v":896},0,{"$f":"ROWS($AQ$12:AQ907)","v":896},{"$f":"IFERROR(VLOOKUP(ROWS($AR$12:AR907),$AO$12:$AP$3014,2,0),\"\")","v":0}]
[null,null,null,null,null,null,null,null,null,null,null,null,null,null,null,null,null,null,null,null,null,null,null,null,null,null,{"$f":"IFERROR(INDEX($AE$13:$AE$1003, SMALL(IF(ISBLANK($AE$13:$AE$1003)+ISERROR($AE$13:$AE$1003)+LEN($AE$13:$AE$1003)=0, \"\", ROW($AE$13:$AE$1003)-MIN(ROW($AE$13:$AE$1003))+1), ROW(897:897))),\"\")","v":""},{"$f":"IF(AF909=\"\",\"\",IF(COUNTIF(CurrentListing,AF909)>1,AJ909,\"\"))","v":""},{"$f":"IF(LEN(AF909)=0,\"\",IF(ISNA(MATCH(AF909,MasterListing,0)),AJ909,\"\"))","v":""},null,{"$f":"IF(LEN(AG908)=0,\"\",IF(ISNA(MATCH(AG908,CurrentListing,0)),AH908,\"\"))","v":"WH7_____TRAN_N"},"","WH7TRANN","WH7_____TRAN_N",0,"______",null,null,null,null,{"$f":"IF(ISNUMBER(SEARCH($F$6,AP908)),MAX($AO$11:AO907)+1,0)","v":897},0,{"$f":"ROWS($AQ$12:AQ908)","v":897},{"$f":"IFERROR(VLOOKUP(ROWS($AR$12:AR908),$AO$12:$AP$3014,2,0),\"\")","v":0}]
[null,null,null,null,null,null,null,null,null,null,null,null,null,null,null,null,null,null,null,null,null,null,null,null,null,null,{"$f":"IFERROR(INDEX($AE$13:$AE$1003, SMALL(IF(ISBLANK($AE$13:$AE$1003)+ISERROR($AE$13:$AE$1003)+LEN($AE$13:$AE$1003)=0, \"\", ROW($AE$13:$AE$1003)-MIN(ROW($AE$13:$AE$1003))+1), ROW(898:898))),\"\")","v":""},{"$f":"IF(AF910=\"\",\"\",IF(COUNTIF(CurrentListing,AF910)>1,AJ910,\"\"))","v":""},{"$f":"IF(LEN(AF910)=0,\"\",IF(ISNA(MATCH(AF910,MasterListing,0)),AJ910,\"\"))","v":""},null,"",{"$f":"H909&I909&P909&Q909&R909&V909&W909","v":""},null,"______",0,"______",null,null,null,null,{"$f":"IF(ISNUMBER(SEARCH($F$6,AP909)),MAX($AO$11:AO908)+1,0)","v":898},0,{"$f":"ROWS($AQ$12:AQ909)","v":898},{"$f":"IFERROR(VLOOKUP(ROWS($AR$12:AR909),$AO$12:$AP$3014,2,0),\"\")","v":0}]
[null,null,null,null,null,null,null,null,null,null,null,null,null,null,null,null,null,null,null,null,null,null,null,null,null,null,{"$f":"IFERROR(INDEX($AE$13:$AE$1003, SMALL(IF(ISBLANK($AE$13:$AE$1003)+ISERROR($AE$13:$AE$1003)+LEN($AE$13:$AE$1003)=0, \"\", ROW($AE$13:$AE$1003)-MIN(ROW($AE$13:$AE$1003))+1), ROW(899:899))),\"\")","v":""},{"$f":"IF(AF911=\"\",\"\",IF(COUNTIF(CurrentListing,AF911)>1,AJ911,\"\"))","v":""},{"$f":"IF(LEN(AF911)=0,\"\",IF(ISNA(MATCH(AF911,MasterListing,0)),AJ911,\"\"))","v":""},null,"","",null,"______",{"$f":"IF(LEN(AA910)>0,1,0)","v":0},{"$f":"H910&\"_\"&I910&\"_\"&P910&\"_\"&Q910&\"_\"&R910&\"_\"&V910&\"_\"&W910","v":"______"},null,null,null,null,{"$f":"IF(ISNUMBER(SEARCH($F$6,AP910)),MAX($AO$11:AO909)+1,0)","v":899},0,{"$f":"ROWS($AQ$12:AQ910)","v":899},{"$f":"IFERROR(VLOOKUP(ROWS($AR$12:AR910),$AO$12:$AP$3014,2,0),\"\")","v":0}]
[null,null,null,null,null,null,null,null,null,null,null,null,null,null,null,null,null,null,null,null,null,null,null,null,null,null,{"$f":"IFERROR(INDEX($AE$13:$AE$1003, SMALL(IF(ISBLANK($AE$13:$AE$1003)+ISERROR($AE$13:$AE$1003)+LEN($AE$13:$AE$1003)=0, \"\", ROW($AE$13:$AE$1003)-MIN(ROW($AE$13:$AE$1003))+1), ROW(900:900))),\"\")","v":""},{"$f":"IF(AF912=\"\",\"\",IF(COUNTIF(CurrentListing,AF912)>1,AJ912,\"\"))","v":""},{"$f":"IF(LEN(AF912)=0,\"\",IF(ISNA(MATCH(AF912,MasterListing,0)),AJ912,\"\"))","v":""},null,"","",null,"______",0,"______",null,null,null,null,{"$f":"IF(ISNUMBER(SEARCH($F$6,AP911)),MAX($AO$11:AO910)+1,0)","v":900},0,{"$f":"ROWS($AQ$12:AQ911)","v":900},{"$f":"IFERROR(VLOOKUP(ROWS($AR$12:AR911),$AO$12:$AP$3014,2,0),\"\")","v":0}]
[null,null,null,null,null,null,null,null,null,null,null,null,null,null,null,null,null,null,null,null,null,null,null,null,null,null,{"$f":"IFERROR(INDEX($AE$13:$AE$1003, SMALL(IF(ISBLANK($AE$13:$AE$1003)+ISERROR($AE$13:$AE$1003)+LEN($AE$13:$AE$1003)=0, \"\", ROW($AE$13:$AE$1003)-MIN(ROW($AE$13:$AE$1003))+1), ROW(901:901))),\"\")","v":""},{"$f":"IF(AF913=\"\",\"\",IF(COUNTIF(CurrentListing,AF913)>1,AJ913,\"\"))","v":""},{"$f":"IF(LEN(AF913)=0,\"\",IF(ISNA(MATCH(AF913,MasterListing,0)),AJ913,\"\"))","v":""},null,"","",null,"______",0,"______",null,null,null,null,{"$f":"IF(ISNUMBER(SEARCH($F$6,AP912)),MAX($AO$11:AO911)+1,0)","v":901},0,{"$f":"ROWS($AQ$12:AQ912)","v":901},{"$f":"IFERROR(VLOOKUP(ROWS($AR$12:AR912),$AO$12:$AP$3014,2,0),\"\")","v":0}]
[null,null,null,null,null,null,null,null,null,null,null,null,null,null,null,null,null,null,null,null,null,null,null,null,null,null,{"$f":"IFERROR(INDEX($AE$13:$AE$1003, SMALL(IF(ISBLANK($AE$13:$AE$1003)+ISERROR($AE$13:$AE$1003)+LEN($AE$13:$AE$1003)=0, \"\", ROW($AE$13:$AE$1003)-MIN(ROW($AE$13:$AE$1003))+1), ROW(902:902))),\"\")","v":""},{"$f":"IF(AF914=\"\",\"\",IF(COUNTIF(CurrentListing,AF914)>1,AJ914,\"\"))","v":""},{"$f":"IF(LEN(AF914)=0,\"\",IF(ISNA(MATCH(AF914,MasterListing,0)),AJ914,\"\"))","v":""},null,"","",null,"______",0,"______",null,null,null,null,{"$f":"IF(ISNUMBER(SEARCH($F$6,AP913)),MAX($AO$11:AO912)+1,0)","v":902},0,{"$f":"ROWS($AQ$12:AQ913)","v":902},{"$f":"IFERROR(VLOOKUP(ROWS($AR$12:AR913),$AO$12:$AP$3014,2,0),\"\")","v":0}]
[null,null,null,null,null,null,null,null,null,null,null,null,null,null,null,null,null,null,null,null,null,null,null,null,null,null,{"$f":"IFERROR(INDEX($AE$13:$AE$1003, SMALL(IF(ISBLANK($AE$13:$AE$1003)+ISERROR($AE$13:$AE$1003)+LEN($AE$13:$AE$1003)=0, \"\", ROW($AE$13:$AE$1003)-MIN(ROW($AE$13:$AE$1003))+1), ROW(903:903))),\"\")","v":""},{"$f":"IF(AF915=\"\",\"\",IF(COUNTIF(CurrentListing,AF915)>1,AJ915,\"\"))","v":""},{"$f":"IF(LEN(AF915)=0,\"\",IF(ISNA(MATCH(AF915,MasterListing,0)),AJ915,\"\"))","v":""},null,"","",null,"______",0,"______",null,null,null,null,{"$f":"IF(ISNUMBER(SEARCH($F$6,AP914)),MAX($AO$11:AO913)+1,0)","v":903},0,{"$f":"ROWS($AQ$12:AQ914)","v":903},{"$f":"IFERROR(VLOOKUP(ROWS($AR$12:AR914),$AO$12:$AP$3014,2,0),\"\")","v":0}]
[null,null,null,null,null,null,null,null,null,null,null,null,null,null,null,null,null,null,null,null,null,null,null,null,null,null,{"$f":"IFERROR(INDEX($AE$13:$AE$1003, SMALL(IF(ISBLANK($AE$13:$AE$1003)+ISERROR($AE$13:$AE$1003)+LEN($AE$13:$AE$1003)=0, \"\", ROW($AE$13:$AE$1003)-MIN(ROW($AE$13:$AE$1003))+1), ROW(904:904))),\"\")","v":""},{"$f":"IF(AF916=\"\",\"\",IF(COUNTIF(CurrentListing,AF916)>1,AJ916,\"\"))","v":""},{"$f":"IF(LEN(AF916)=0,\"\",IF(ISNA(MATCH(AF916,MasterListing,0)),AJ916,\"\"))","v":""},null,"","",null,"______",0,"______",null,null,null,null,{"$f":"IF(ISNUMBER(SEARCH($F$6,AP915)),MAX($AO$11:AO914)+1,0)","v":904},0,{"$f":"ROWS($AQ$12:AQ915)","v":904},{"$f":"IFERROR(VLOOKUP(ROWS($AR$12:AR915),$AO$12:$AP$3014,2,0),\"\")","v":0}]
[null,null,null,null,null,null,null,null,null,null,null,null,null,null,null,null,null,null,null,null,null,null,null,null,null,null,{"$f":"IFERROR(INDEX($AE$13:$AE$1003, SMALL(IF(ISBLANK($AE$13:$AE$1003)+ISERROR($AE$13:$AE$1003)+LEN($AE$13:$AE$1003)=0, \"\", ROW($AE$13:$AE$1003)-MIN(ROW($AE$13:$AE$1003))+1), ROW(905:905))),\"\")","v":""},{"$f":"IF(AF917=\"\",\"\",IF(COUNTIF(CurrentListing,AF917)>1,AJ917,\"\"))","v":""},{"$f":"IF(LEN(AF917)=0,\"\",IF(ISNA(MATCH(AF917,MasterListing,0)),AJ917,\"\"))","v":""},null,"","",null,"______",0,"______",null,null,null,null,{"$f":"IF(ISNUMBER(SEARCH($F$6,AP916)),MAX($AO$11:AO915)+1,0)","v":905},0,{"$f":"ROWS($AQ$12:AQ916)","v":905},{"$f":"IFERROR(VLOOKUP(ROWS($AR$12:AR916),$AO$12:$AP$3014,2,0),\"\")","v":0}]
[null,null,null,null,null,null,null,null,null,null,null,null,null,null,null,null,null,null,null,null,null,null,null,null,null,null,{"$f":"IFERROR(INDEX($AE$13:$AE$1003, SMALL(IF(ISBLANK($AE$13:$AE$1003)+ISERROR($AE$13:$AE$1003)+LEN($AE$13:$AE$1003)=0, \"\", ROW($AE$13:$AE$1003)-MIN(ROW($AE$13:$AE$1003))+1), ROW(906:906))),\"\")","v":""},{"$f":"IF(AF918=\"\",\"\",IF(COUNTIF(CurrentListing,AF918)>1,AJ918,\"\"))","v":""},{"$f":"IF(LEN(AF918)=0,\"\",IF(ISNA(MATCH(AF918,MasterListing,0)),AJ918,\"\"))","v":""},null,"","",null,"______",0,"______",null,null,null,null,{"$f":"IF(ISNUMBER(SEARCH($F$6,AP917)),MAX($AO$11:AO916)+1,0)","v":906},0,{"$f":"ROWS($AQ$12:AQ917)","v":906},{"$f":"IFERROR(VLOOKUP(ROWS($AR$12:AR917),$AO$12:$AP$3014,2,0),\"\")","v":0}]
[null,null,null,null,null,null,null,null,null,null,null,null,null,null,null,null,null,null,null,null,null,null,null,null,null,null,{"$f":"IFERROR(INDEX($AE$13:$AE$1003, SMALL(IF(ISBLANK($AE$13:$AE$1003)+ISERROR($AE$13:$AE$1003)+LEN($AE$13:$AE$1003)=0, \"\", ROW($AE$13:$AE$1003)-MIN(ROW($AE$13:$AE$1003))+1), ROW(907:907))),\"\")","v":""},{"$f":"IF(AF919=\"\",\"\",IF(COUNTIF(CurrentListing,AF919)>1,AJ919,\"\"))","v":""},{"$f":"IF(LEN(AF919)=0,\"\",IF(ISNA(MATCH(AF919,MasterListing,0)),AJ919,\"\"))","v":""},null,"","",null,"______",0,"______",null,null,null,null,{"$f":"IF(ISNUMBER(SEARCH($F$6,AP918)),MAX($AO$11:AO917)+1,0)","v":907},0,{"$f":"ROWS($AQ$12:AQ918)","v":907},{"$f":"IFERROR(VLOOKUP(ROWS($AR$12:AR918),$AO$12:$AP$3014,2,0),\"\")","v":0}]
[null,null,null,null,null,null,null,null,null,null,null,null,null,null,null,null,null,null,null,null,null,null,null,null,null,null,{"$f":"IFERROR(INDEX($AE$13:$AE$1003, SMALL(IF(ISBLANK($AE$13:$AE$1003)+ISERROR($AE$13:$AE$1003)+LEN($AE$13:$AE$1003)=0, \"\", ROW($AE$13:$AE$1003)-MIN(ROW($AE$13:$AE$1003))+1), ROW(908:908))),\"\")","v":""},{"$f":"IF(AF920=\"\",\"\",IF(COUNTIF(CurrentListing,AF920)>1,AJ920,\"\"))","v":""},{"$f":"IF(LEN(AF920)=0,\"\",IF(ISNA(MATCH(AF920,MasterListing,0)),AJ920,\"\"))","v":""},null,"","",null,"______",0,"______",null,null,null,null,{"$f":"IF(ISNUMBER(SEARCH($F$6,AP919)),MAX($AO$11:AO918)+1,0)","v":908},0,{"$f":"ROWS($AQ$12:AQ919)","v":908},{"$f":"IFERROR(VLOOKUP(ROWS($AR$12:AR919),$AO$12:$AP$3014,2,0),\"\")","v":0}]
[null,null,null,null,null,null,null,null,null,null,null,null,null,null,null,null,null,null,null,null,null,null,null,null,null,null,{"$f":"IFERROR(INDEX($AE$13:$AE$1003, SMALL(IF(ISBLANK($AE$13:$AE$1003)+ISERROR($AE$13:$AE$1003)+LEN($AE$13:$AE$1003)=0, \"\", ROW($AE$13:$AE$1003)-MIN(ROW($AE$13:$AE$1003))+1), ROW(909:909))),\"\")","v":""},{"$f":"IF(AF921=\"\",\"\",IF(COUNTIF(CurrentListing,AF921)>1,AJ921,\"\"))","v":""},{"$f":"IF(LEN(AF921)=0,\"\",IF(ISNA(MATCH(AF921,MasterListing,0)),AJ921,\"\"))","v":""},null,"","",null,"______",0,"______",null,null,null,null,{"$f":"IF(ISNUMBER(SEARCH($F$6,AP920)),MAX($AO$11:AO919)+1,0)","v":909},0,{"$f":"ROWS($AQ$12:AQ920)","v":909},{"$f":"IFERROR(VLOOKUP(ROWS($AR$12:AR920),$AO$12:$AP$3014,2,0),\"\")","v":0}]
[null,null,null,null,null,null,null,null,null,null,null,null,null,null,null,null,null,null,null,null,null,null,null,null,null,null,{"$f":"IFERROR(INDEX($AE$13:$AE$1003, SMALL(IF(ISBLANK($AE$13:$AE$1003)+ISERROR($AE$13:$AE$1003)+LEN($AE$13:$AE$1003)=0, \"\", ROW($AE$13:$AE$1003)-MIN(ROW($AE$13:$AE$1003))+1), ROW(910:910))),\"\")","v":""},{"$f":"IF(AF922=\"\",\"\",IF(COUNTIF(CurrentListing,AF922)>1,AJ922,\"\"))","v":""},{"$f":"IF(LEN(AF922)=0,\"\",IF(ISNA(MATCH(AF922,MasterListing,0)),AJ922,\"\"))","v":""},null,"","",null,"______",0,"______",null,null,null,null,{"$f":"IF(ISNUMBER(SEARCH($F$6,AP921)),MAX($AO$11:AO920)+1,0)","v":910},0,{"$f":"ROWS($AQ$12:AQ921)","v":910},{"$f":"IFERROR(VLOOKUP(ROWS($AR$12:AR921),$AO$12:$AP$3014,2,0),\"\")","v":0}]
[null,null,null,null,null,null,null,null,null,null,null,null,null,null,null,null,null,null,null,null,null,null,null,null,null,null,{"$f":"IFERROR(INDEX($AE$13:$AE$1003, SMALL(IF(ISBLANK($AE$13:$AE$1003)+ISERROR($AE$13:$AE$1003)+LEN($AE$13:$AE$1003)=0, \"\", ROW($AE$13:$AE$1003)-MIN(ROW($AE$13:$AE$1003))+1), ROW(911:911))),\"\")","v":""},{"$f":"IF(AF923=\"\",\"\",IF(COUNTIF(CurrentListing,AF923)>1,AJ923,\"\"))","v":""},{"$f":"IF(LEN(AF923)=0,\"\",IF(ISNA(MATCH(AF923,MasterListing,0)),AJ923,\"\"))","v":""},null,"","",null,"______",0,"______",null,null,null,null,{"$f":"IF(ISNUMBER(SEARCH($F$6,AP922)),MAX($AO$11:AO921)+1,0)","v":911},0,{"$f":"ROWS($AQ$12:AQ922)","v":911},{"$f":"IFERROR(VLOOKUP(ROWS($AR$12:AR922),$AO$12:$AP$3014,2,0),\"\")","v":0}]
[null,null,null,null,null,null,null,null,null,null,null,null,null,null,null,null,null,null,null,null,null,null,null,null,null,null,{"$f":"IFERROR(INDEX($AE$13:$AE$1003, SMALL(IF(ISBLANK($AE$13:$AE$1003)+ISERROR($AE$13:$AE$1003)+LEN($AE$13:$AE$1003)=0, \"\", ROW($AE$13:$AE$1003)-MIN(ROW($AE$13:$AE$1003))+1), ROW(912:912))),\"\")","v":""},{"$f":"IF(AF924=\"\",\"\",IF(COUNTIF(CurrentListing,AF924)>1,AJ924,\"\"))","v":""},{"$f":"IF(LEN(AF924)=0,\"\",IF(ISNA(MATCH(AF924,MasterListing,0)),AJ924,\"\"))","v":""},null,"","",null,"______",0,"______",null,null,null,null,{"$f":"IF(ISNUMBER(SEARCH($F$6,AP923)),MAX($AO$11:AO922)+1,0)","v":912},0,{"$f":"ROWS($AQ$12:AQ923)","v":912},{"$f":"IFERROR(VLOOKUP(ROWS($AR$12:AR923),$AO$12:$AP$3014,2,0),\"\")","v":0}]
[null,null,null,null,null,null,null,null,null,null,null,null,null,null,null,null,null,null,null,null,null,null,null,null,null,null,{"$f":"IFERROR(INDEX($AE$13:$AE$1003, SMALL(IF(ISBLANK($AE$13:$AE$1003)+ISERROR($AE$13:$AE$1003)+LEN($AE$13:$AE$1003)=0, \"\", ROW($AE$13:$AE$1003)-MIN(ROW($AE$13:$AE$1003))+1), ROW(913:913))),\"\")","v":""},{"$f":"IF(AF925=\"\",\"\",IF(COUNTIF(CurrentListing,AF925)>1,AJ925,\"\"))","v":""},{"$f":"IF(LEN(AF925)=0,\"\",IF(ISNA(MATCH(AF925,MasterListing,0)),AJ925,\"\"))","v":""},null,"","",null,"______",0,"______",null,null,null,null,{"$f":"IF(ISNUMBER(SEARCH($F$6,AP924)),MAX($AO$11:AO923)+1,0)","v":913},0,{"$f":"ROWS($AQ$12:AQ924)","v":913},{"$f":"IFERROR(VLOOKUP(ROWS($AR$12:AR924),$AO$12:$AP$3014,2,0),\"\")","v":0}]
[null,null,null,null,null,null,null,null,null,null,null,null,null,null,null,null,null,null,null,null,null,null,null,null,null,null,{"$f":"IFERROR(INDEX($AE$13:$AE$1003, SMALL(IF(ISBLANK($AE$13:$AE$1003)+ISERROR($AE$13:$AE$1003)+LEN($AE$13:$AE$1003)=0, \"\", ROW($AE$13:$AE$1003)-MIN(ROW($AE$13:$AE$1003))+1), ROW(914:914))),\"\")","v":""},{"$f":"IF(AF926=\"\",\"\",IF(COUNTIF(CurrentListing,AF926)>1,AJ926,\"\"))","v":""},{"$f":"IF(LEN(AF926)=0,\"\",IF(ISNA(MATCH(AF926,MasterListing,0)),AJ926,\"\"))","v":""},null,"","",null,"______",0,"______",null,null,null,null,{"$f":"IF(ISNUMBER(SEARCH($F$6,AP925)),MAX($AO$11:AO924)+1,0)","v":914},0,{"$f":"ROWS($AQ$12:AQ925)","v":914},{"$f":"IFERROR(VLOOKUP(ROWS($AR$12:AR925),$AO$12:$AP$3014,2,0),\"\")","v":0}]
[null,null,null,null,null,null,null,null,null,null,null,null,null,null,null,null,null,null,null,null,null,null,null,null,null,null,{"$f":"IFERROR(INDEX($AE$13:$AE$1003, SMALL(IF(ISBLANK($AE$13:$AE$1003)+ISERROR($AE$13:$AE$1003)+LEN($AE$13:$AE$1003)=0, \"\", ROW($AE$13:$AE$1003)-MIN(ROW($AE$13:$AE$1003))+1), ROW(915:915))),\"\")","v":""},{"$f":"IF(AF927=\"\",\"\",IF(COUNTIF(CurrentListing,AF927)>1,AJ927,\"\"))","v":""},{"$f":"IF(LEN(AF927)=0,\"\",IF(ISNA(MATCH(AF927,MasterListing,0)),AJ927,\"\"))","v":""},null,"","",null,"______",0,"______",null,null,null,null,{"$f":"IF(ISNUMBER(SEARCH($F$6,AP926)),MAX($AO$11:AO925)+1,0)","v":915},0,{"$f":"ROWS($AQ$12:AQ926)","v":915},{"$f":"IFERROR(VLOOKUP(ROWS($AR$12:AR926),$AO$12:$AP$3014,2,0),\"\")","v":0}]
[null,null,null,null,null,null,null,null,null,null,null,null,null,null,null,null,null,null,null,null,null,null,null,null,null,null,{"$f":"IFERROR(INDEX($AE$13:$AE$1003, SMALL(IF(ISBLANK($AE$13:$AE$1003)+ISERROR($AE$13:$AE$1003)+LEN($AE$13:$AE$1003)=0, \"\", ROW($AE$13:$AE$1003)-MIN(ROW($AE$13:$AE$1003))+1), ROW(916:916))),\"\")","v":""},{"$f":"IF(AF928=\"\",\"\",IF(COUNTIF(CurrentListing,AF928)>1,AJ928,\"\"))","v":""},{"$f":"IF(LEN(AF928)=0,\"\",IF(ISNA(MATCH(AF928,MasterListing,0)),AJ928,\"\"))","v":""},null,"","",null,"______",0,"______",null,null,null,null,{"$f":"IF(ISNUMBER(SEARCH($F$6,AP927)),MAX($AO$11:AO926)+1,0)","v":916},0,{"$f":"ROWS($AQ$12:AQ927)","v":916},{"$f":"IFERROR(VLOOKUP(ROWS($AR$12:AR927),$AO$12:$AP$3014,2,0),\"\")","v":0}]
[null,null,null,null,null,null,null,null,null,null,null,null,null,null,null,null,null,null,null,null,null,null,null,null,null,null,{"$f":"IFERROR(INDEX($AE$13:$AE$1003, SMALL(IF(ISBLANK($AE$13:$AE$1003)+ISERROR($AE$13:$AE$1003)+LEN($AE$13:$AE$1003)=0, \"\", ROW($AE$13:$AE$1003)-MIN(ROW($AE$13:$AE$1003))+1), ROW(917:917))),\"\")","v":""},{"$f":"IF(AF929=\"\",\"\",IF(COUNTIF(CurrentListing,AF929)>1,AJ929,\"\"))","v":""},{"$f":"IF(LEN(AF929)=0,\"\",IF(ISNA(MATCH(AF929,MasterListing,0)),AJ929,\"\"))","v":""},null,"","",null,"______",0,"______",null,null,null,null,{"$f":"IF(ISNUMBER(SEARCH($F$6,AP928)),MAX($AO$11:AO927)+1,0)","v":917},0,{"$f":"ROWS($AQ$12:AQ928)","v":917},{"$f":"IFERROR(VLOOKUP(ROWS($AR$12:AR928),$AO$12:$AP$3014,2,0),\"\")","v":0}]
[null,null,null,null,null,null,null,null,null,null,null,null,null,null,null,null,null,null,null,null,null,null,null,null,null,null,{"$f":"IFERROR(INDEX($AE$13:$AE$1003, SMALL(IF(ISBLANK($AE$13:$AE$1003)+ISERROR($AE$13:$AE$1003)+LEN($AE$13:$AE$1003)=0, \"\", ROW($AE$13:$AE$1003)-MIN(ROW($AE$13:$AE$1003))+1), ROW(918:918))),\"\")","v":""},{"$f":"IF(AF930=\"\",\"\",IF(COUNTIF(CurrentListing,AF930)>1,AJ930,\"\"))","v":""},{"$f":"IF(LEN(AF930)=0,\"\",IF(ISNA(MATCH(AF930,MasterListing,0)),AJ930,\"\"))","v":""},null,"","",null,"______",0,"______",null,null,null,null,{"$f":"IF(ISNUMBER(SEARCH($F$6,AP929)),MAX($AO$11:AO928)+1,0)","v":918},0,{"$f":"ROWS($AQ$12:AQ929)","v":918},{"$f":"IFERROR(VLOOKUP(ROWS($AR$12:AR929),$AO$12:$AP$3014,2,0),\"\")","v":0}]
[null,null,null,null,null,null,null,null,null,null,null,null,null,null,null,null,null,null,null,null,null,null,null,null,null,null,{"$f":"IFERROR(INDEX($AE$13:$AE$1003, SMALL(IF(ISBLANK($AE$13:$AE$1003)+ISERROR($AE$13:$AE$1003)+LEN($AE$13:$AE$1003)=0, \"\", ROW($AE$13:$AE$1003)-MIN(ROW($AE$13:$AE$1003))+1), ROW(919:919))),\"\")","v":""},{"$f":"IF(AF931=\"\",\"\",IF(COUNTIF(CurrentListing,AF931)>1,AJ931,\"\"))","v":""},{"$f":"IF(LEN(AF931)=0,\"\",IF(ISNA(MATCH(AF931,MasterListing,0)),AJ931,\"\"))","v":""},null,"","",null,"______",0,"______",null,null,null,null,{"$f":"IF(ISNUMBER(SEARCH($F$6,AP930)),MAX($AO$11:AO929)+1,0)","v":919},0,{"$f":"ROWS($AQ$12:AQ930)","v":919},{"$f":"IFERROR(VLOOKUP(ROWS($AR$12:AR930),$AO$12:$AP$3014,2,0),\"\")","v":0}]
[null,null,null,null,null,null,null,null,null,null,null,null,null,null,null,null,null,null,null,null,null,null,null,null,null,null,{"$f":"IFERROR(INDEX($AE$13:$AE$1003, SMALL(IF(ISBLANK($AE$13:$AE$1003)+ISERROR($AE$13:$AE$1003)+LEN($AE$13:$AE$1003)=0, \"\", ROW($AE$13:$AE$1003)-MIN(ROW($AE$13:$AE$1003))+1), ROW(920:920))),\"\")","v":""},{"$f":"IF(AF932=\"\",\"\",IF(COUNTIF(CurrentListing,AF932)>1,AJ932,\"\"))","v":""},{"$f":"IF(LEN(AF932)=0,\"\",IF(ISNA(MATCH(AF932,MasterListing,0)),AJ932,\"\"))","v":""},null,"","",null,"______",0,"______",null,null,null,null,{"$f":"IF(ISNUMBER(SEARCH($F$6,AP931)),MAX($AO$11:AO930)+1,0)","v":920},0,{"$f":"ROWS($AQ$12:AQ931)","v":920},{"$f":"IFERROR(VLOOKUP(ROWS($AR$12:AR931),$AO$12:$AP$3014,2,0),\"\")","v":0}]
[null,null,null,null,null,null,null,null,null,null,null,null,null,null,null,null,null,null,null,null,null,null,null,null,null,null,{"$f":"IFERROR(INDEX($AE$13:$AE$1003, SMALL(IF(ISBLANK($AE$13:$AE$1003)+ISERROR($AE$13:$AE$1003)+LEN($AE$13:$AE$1003)=0, \"\", ROW($AE$13:$AE$1003)-MIN(ROW($AE$13:$AE$1003))+1), ROW(921:921))),\"\")","v":""},{"$f":"IF(AF933=\"\",\"\",IF(COUNTIF(CurrentListing,AF933)>1,AJ933,\"\"))","v":""},{"$f":"IF(LEN(AF933)=0,\"\",IF(ISNA(MATCH(AF933,MasterListing,0)),AJ933,\"\"))","v":""},null,"","",null,"______",0,"______",null,null,null,null,{"$f":"IF(ISNUMBER(SEARCH($F$6,AP932)),MAX($AO$11:AO931)+1,0)","v":921},0,{"$f":"ROWS($AQ$12:AQ932)","v":921},{"$f":"IFERROR(VLOOKUP(ROWS($AR$12:AR932),$AO$12:$AP$3014,2,0),\"\")","v":0}]
[null,null,null,null,null,null,null,null,null,null,null,null,null,null,null,null,null,null,null,null,null,null,null,null,null,null,{"$f":"IFERROR(INDEX($AE$13:$AE$1003, SMALL(IF(ISBLANK($AE$13:$AE$1003)+ISERROR($AE$13:$AE$1003)+LEN($AE$13:$AE$1003)=0, \"\", ROW($AE$13:$AE$1003)-MIN(ROW($AE$13:$AE$1003))+1), ROW(922:922))),\"\")","v":""},{"$f":"IF(AF934=\"\",\"\",IF(COUNTIF(CurrentListing,AF934)>1,AJ934,\"\"))","v":""},{"$f":"IF(LEN(AF934)=0,\"\",IF(ISNA(MATCH(AF934,MasterListing,0)),AJ934,\"\"))","v":""},null,"","",null,"______",0,"______",null,null,null,null,{"$f":"IF(ISNUMBER(SEARCH($F$6,AP933)),MAX($AO$11:AO932)+1,0)","v":922},0,{"$f":"ROWS($AQ$12:AQ933)","v":922},{"$f":"IFERROR(VLOOKUP(ROWS($AR$12:AR933),$AO$12:$AP$3014,2,0),\"\")","v":0}]
[null,null,null,null,null,null,null,null,null,null,null,null,null,null,null,null,null,null,null,null,null,null,null,null,null,null,{"$f":"IFERROR(INDEX($AE$13:$AE$1003, SMALL(IF(ISBLANK($AE$13:$AE$1003)+ISERROR($AE$13:$AE$1003)+LEN($AE$13:$AE$1003)=0, \"\", ROW($AE$13:$AE$1003)-MIN(ROW($AE$13:$AE$1003))+1), ROW(923:923))),\"\")","v":""},{"$f":"IF(AF935=\"\",\"\",IF(COUNTIF(CurrentListing,AF935)>1,AJ935,\"\"))","v":""},{"$f":"IF(LEN(AF935)=0,\"\",IF(ISNA(MATCH(AF935,MasterListing,0)),AJ935,\"\"))","v":""},null,"","",null,"______",0,"______",null,null,null,null,{"$f":"IF(ISNUMBER(SEARCH($F$6,AP934)),MAX($AO$11:AO933)+1,0)","v":923},0,{"$f":"ROWS($AQ$12:AQ934)","v":923},{"$f":"IFERROR(VLOOKUP(ROWS($AR$12:AR934),$AO$12:$AP$3014,2,0),\"\")","v":0}]
[null,null,null,null,null,null,null,null,null,null,null,null,null,null,null,null,null,null,null,null,null,null,null,null,null,null,{"$f":"IFERROR(INDEX($AE$13:$AE$1003, SMALL(IF(ISBLANK($AE$13:$AE$1003)+ISERROR($AE$13:$AE$1003)+LEN($AE$13:$AE$1003)=0, \"\", ROW($AE$13:$AE$1003)-MIN(ROW($AE$13:$AE$1003))+1), ROW(924:924))),\"\")","v":""},{"$f":"IF(AF936=\"\",\"\",IF(COUNTIF(CurrentListing,AF936)>1,AJ936,\"\"))","v":""},{"$f":"IF(LEN(AF936)=0,\"\",IF(ISNA(MATCH(AF936,MasterListing,0)),AJ936,\"\"))","v":""},null,"","",null,"______",0,"______",null,null,null,null,{"$f":"IF(ISNUMBER(SEARCH($F$6,AP935)),MAX($AO$11:AO934)+1,0)","v":924},0,{"$f":"ROWS($AQ$12:AQ935)","v":924},{"$f":"IFERROR(VLOOKUP(ROWS($AR$12:AR935),$AO$12:$AP$3014,2,0),\"\")","v":0}]
[null,null,null,null,null,null,null,null,null,null,null,null,null,null,null,null,null,null,null,null,null,null,null,null,null,null,{"$f":"IFERROR(INDEX($AE$13:$AE$1003, SMALL(IF(ISBLANK($AE$13:$AE$1003)+ISERROR($AE$13:$AE$1003)+LEN($AE$13:$AE$1003)=0, \"\", ROW($AE$13:$AE$1003)-MIN(ROW($AE$13:$AE$1003))+1), ROW(925:925))),\"\")","v":""},{"$f":"IF(AF937=\"\",\"\",IF(COUNTIF(CurrentListing,AF937)>1,AJ937,\"\"))","v":""},{"$f":"IF(LEN(AF937)=0,\"\",IF(ISNA(MATCH(AF937,MasterListing,0)),AJ937,\"\"))","v":""},null,"","",null,"______",0,"______",null,null,null,null,{"$f":"IF(ISNUMBER(SEARCH($F$6,AP936)),MAX($AO$11:AO935)+1,0)","v":925},0,{"$f":"ROWS($AQ$12:AQ936)","v":925},{"$f":"IFERROR(VLOOKUP(ROWS($AR$12:AR936),$AO$12:$AP$3014,2,0),\"\")","v":0}]
[null,null,null,null,null,null,null,null,null,null,null,null,null,null,null,null,null,null,null,null,null,null,null,null,null,null,{"$f":"IFERROR(INDEX($AE$13:$AE$1003, SMALL(IF(ISBLANK($AE$13:$AE$1003)+ISERROR($AE$13:$AE$1003)+LEN($AE$13:$AE$1003)=0, \"\", ROW($AE$13:$AE$1003)-MIN(ROW($AE$13:$AE$1003))+1), ROW(926:926))),\"\")","v":""},{"$f":"IF(AF938=\"\",\"\",IF(COUNTIF(CurrentListing,AF938)>1,AJ938,\"\"))","v":""},{"$f":"IF(LEN(AF938)=0,\"\",IF(ISNA(MATCH(AF938,MasterListing,0)),AJ938,\"\"))","v":""},null,"","",null,"______",0,"______",null,null,null,null,{"$f":"IF(ISNUMBER(SEARCH($F$6,AP937)),MAX($AO$11:AO936)+1,0)","v":926},0,{"$f":"ROWS($AQ$12:AQ937)","v":926},{"$f":"IFERROR(VLOOKUP(ROWS($AR$12:AR937),$AO$12:$AP$3014,2,0),\"\")","v":0}]
[null,null,null,null,null,null,null,null,null,null,null,null,null,null,null,null,null,null,null,null,null,null,null,null,null,null,{"$f":"IFERROR(INDEX($AE$13:$AE$1003, SMALL(IF(ISBLANK($AE$13:$AE$1003)+ISERROR($AE$13:$AE$1003)+LEN($AE$13:$AE$1003)=0, \"\", ROW($AE$13:$AE$1003)-MIN(ROW($AE$13:$AE$1003))+1), ROW(927:927))),\"\")","v":""},{"$f":"IF(AF939=\"\",\"\",IF(COUNTIF(CurrentListing,AF939)>1,AJ939,\"\"))","v":""},{"$f":"IF(LEN(AF939)=0,\"\",IF(ISNA(MATCH(AF939,MasterListing,0)),AJ939,\"\"))","v":""},null,"","",null,"______",0,"______",null,null,null,null,{"$f":"IF(ISNUMBER(SEARCH($F$6,AP938)),MAX($AO$11:AO937)+1,0)","v":927},0,{"$f":"ROWS($AQ$12:AQ938)","v":927},{"$f":"IFERROR(VLOOKUP(ROWS($AR$12:AR938),$AO$12:$AP$3014,2,0),\"\")","v":0}]
[null,null,null,null,null,null,null,null,null,null,null,null,null,null,null,null,null,null,null,null,null,null,null,null,null,null,{"$f":"IFERROR(INDEX($AE$13:$AE$1003, SMALL(IF(ISBLANK($AE$13:$AE$1003)+ISERROR($AE$13:$AE$1003)+LEN($AE$13:$AE$1003)=0, \"\", ROW($AE$13:$AE$1003)-MIN(ROW($AE$13:$AE$1003))+1), ROW(928:928))),\"\")","v":""},{"$f":"IF(AF940=\"\",\"\",IF(COUNTIF(CurrentListing,AF940)>1,AJ940,\"\"))","v":""},{"$f":"IF(LEN(AF940)=0,\"\",IF(ISNA(MATCH(AF940,MasterListing,0)),AJ940,\"\"))","v":""},null,"","",null,"______",0,"______",null,null,null,null,{"$f":"IF(ISNUMBER(SEARCH($F$6,AP939)),MAX($AO$11:AO938)+1,0)","v":928},0,{"$f":"ROWS($AQ$12:AQ939)","v":928},{"$f":"IFERROR(VLOOKUP(ROWS($AR$12:AR939),$AO$12:$AP$3014,2,0),\"\")","v":0}]
[null,null,null,null,null,null,null,null,null,null,null,null,null,null,null,null,null,null,null,null,null,null,null,null,null,null,{"$f":"IFERROR(INDEX($AE$13:$AE$1003, SMALL(IF(ISBLANK($AE$13:$AE$1003)+ISERROR($AE$13:$AE$1003)+LEN($AE$13:$AE$1003)=0, \"\", ROW($AE$13:$AE$1003)-MIN(ROW($AE$13:$AE$1003))+1), ROW(929:929))),\"\")","v":""},{"$f":"IF(AF941=\"\",\"\",IF(COUNTIF(CurrentListing,AF941)>1,AJ941,\"\"))","v":""},{"$f":"IF(LEN(AF941)=0,\"\",IF(ISNA(MATCH(AF941,MasterListing,0)),AJ941,\"\"))","v":""},null,"","",null,"______",0,"______",null,null,null,null,{"$f":"IF(ISNUMBER(SEARCH($F$6,AP940)),MAX($AO$11:AO939)+1,0)","v":929},0,{"$f":"ROWS($AQ$12:AQ940)","v":929},{"$f":"IFERROR(VLOOKUP(ROWS($AR$12:AR940),$AO$12:$AP$3014,2,0),\"\")","v":0}]
[null,null,null,null,null,null,null,null,null,null,null,null,null,null,null,null,null,null,null,null,null,null,null,null,null,null,{"$f":"IFERROR(INDEX($AE$13:$AE$1003, SMALL(IF(ISBLANK($AE$13:$AE$1003)+ISERROR($AE$13:$AE$1003)+LEN($AE$13:$AE$1003)=0, \"\", ROW($AE$13:$AE$1003)-MIN(ROW($AE$13:$AE$1003))+1), ROW(930:930))),\"\")","v":""},{"$f":"IF(AF942=\"\",\"\",IF(COUNTIF(CurrentListing,AF942)>1,AJ942,\"\"))","v":""},{"$f":"IF(LEN(AF942)=0,\"\",IF(ISNA(MATCH(AF942,MasterListing,0)),AJ942,\"\"))","v":""},null,"","",null,"______",0,"______",null,null,null,null,{"$f":"IF(ISNUMBER(SEARCH($F$6,AP941)),MAX($AO$11:AO940)+1,0)","v":930},0,{"$f":"ROWS($AQ$12:AQ941)","v":930},{"$f":"IFERROR(VLOOKUP(ROWS($AR$12:AR941),$AO$12:$AP$3014,2,0),\"\")","v":0}]
[null,null,null,null,null,null,null,null,null,null,null,null,null,null,null,null,null,null,null,null,null,null,null,null,null,null,{"$f":"IFERROR(INDEX($AE$13:$AE$1003, SMALL(IF(ISBLANK($AE$13:$AE$1003)+ISERROR($AE$13:$AE$1003)+LEN($AE$13:$AE$1003)=0, \"\", ROW($AE$13:$AE$1003)-MIN(ROW($AE$13:$AE$1003))+1), ROW(931:931))),\"\")","v":""},{"$f":"IF(AF943=\"\",\"\",IF(COUNTIF(CurrentListing,AF943)>1,AJ943,\"\"))","v":""},{"$f":"IF(LEN(AF943)=0,\"\",IF(ISNA(MATCH(AF943,MasterListing,0)),AJ943,\"\"))","v":""},null,"","",null,"______",0,"______",null,null,null,null,{"$f":"IF(ISNUMBER(SEARCH($F$6,AP942)),MAX($AO$11:AO941)+1,0)","v":931},0,{"$f":"ROWS($AQ$12:AQ942)","v":931},{"$f":"IFERROR(VLOOKUP(ROWS($AR$12:AR942),$AO$12:$AP$3014,2,0),\"\")","v":0}]
[null,null,null,null,null,null,null,null,null,null,null,null,null,null,null,null,null,null,null,null,null,null,null,null,null,null,{"$f":"IFERROR(INDEX($AE$13:$AE$1003, SMALL(IF(ISBLANK($AE$13:$AE$1003)+ISERROR($AE$13:$AE$1003)+LEN($AE$13:$AE$1003)=0, \"\", ROW($AE$13:$AE$1003)-MIN(ROW($AE$13:$AE$1003))+1), ROW(932:932))),\"\")","v":""},{"$f":"IF(AF944=\"\",\"\",IF(COUNTIF(CurrentListing,AF944)>1,AJ944,\"\"))","v":""},{"$f":"IF(LEN(AF944)=0,\"\",IF(ISNA(MATCH(AF944,MasterListing,0)),AJ944,\"\"))","v":""},null,"","",null,"______",0,"______",null,null,null,null,{"$f":"IF(ISNUMBER(SEARCH($F$6,AP943)),MAX($AO$11:AO942)+1,0)","v":932},0,{"$f":"ROWS($AQ$12:AQ943)","v":932},{"$f":"IFERROR(VLOOKUP(ROWS($AR$12:AR943),$AO$12:$AP$3014,2,0),\"\")","v":0}]
[null,null,null,null,null,null,null,null,null,null,null,null,null,null,null,null,null,null,null,null,null,null,null,null,null,null,{"$f":"IFERROR(INDEX($AE$13:$AE$1003, SMALL(IF(ISBLANK($AE$13:$AE$1003)+ISERROR($AE$13:$AE$1003)+LEN($AE$13:$AE$1003)=0, \"\", ROW($AE$13:$AE$1003)-MIN(ROW($AE$13:$AE$1003))+1), ROW(933:933))),\"\")","v":""},{"$f":"IF(AF945=\"\",\"\",IF(COUNTIF(CurrentListing,AF945)>1,AJ945,\"\"))","v":""},{"$f":"IF(LEN(AF945)=0,\"\",IF(ISNA(MATCH(AF945,MasterListing,0)),AJ945,\"\"))","v":""},null,"","",null,"______",0,"______",null,null,null,null,{"$f":"IF(ISNUMBER(SEARCH($F$6,AP944)),MAX($AO$11:AO943)+1,0)","v":933},0,{"$f":"ROWS($AQ$12:AQ944)","v":933},{"$f":"IFERROR(VLOOKUP(ROWS($AR$12:AR944),$AO$12:$AP$3014,2,0),\"\")","v":0}]
[null,null,null,null,null,null,null,null,null,null,null,null,null,null,null,null,null,null,null,null,null,null,null,null,null,null,{"$f":"IFERROR(INDEX($AE$13:$AE$1003, SMALL(IF(ISBLANK($AE$13:$AE$1003)+ISERROR($AE$13:$AE$1003)+LEN($AE$13:$AE$1003)=0, \"\", ROW($AE$13:$AE$1003)-MIN(ROW($AE$13:$AE$1003))+1), ROW(934:934))),\"\")","v":""},{"$f":"IF(AF946=\"\",\"\",IF(COUNTIF(CurrentListing,AF946)>1,AJ946,\"\"))","v":""},{"$f":"IF(LEN(AF946)=0,\"\",IF(ISNA(MATCH(AF946,MasterListing,0)),AJ946,\"\"))","v":""},null,"","",null,"______",0,"______",null,null,null,null,{"$f":"IF(ISNUMBER(SEARCH($F$6,AP945)),MAX($AO$11:AO944)+1,0)","v":934},0,{"$f":"ROWS($AQ$12:AQ945)","v":934},{"$f":"IFERROR(VLOOKUP(ROWS($AR$12:AR945),$AO$12:$AP$3014,2,0),\"\")","v":0}]
[null,null,null,null,null,null,null,null,null,null,null,null,null,null,null,null,null,null,null,null,null,null,null,null,null,null,{"$f":"IFERROR(INDEX($AE$13:$AE$1003, SMALL(IF(ISBLANK($AE$13:$AE$1003)+ISERROR($AE$13:$AE$1003)+LEN($AE$13:$AE$1003)=0, \"\", ROW($AE$13:$AE$1003)-MIN(ROW($AE$13:$AE$1003))+1), ROW(935:935))),\"\")","v":""},{"$f":"IF(AF947=\"\",\"\",IF(COUNTIF(CurrentListing,AF947)>1,AJ947,\"\"))","v":""},{"$f":"IF(LEN(AF947)=0,\"\",IF(ISNA(MATCH(AF947,MasterListing,0)),AJ947,\"\"))","v":""},null,"","",null,"______",0,"______",null,null,null,null,{"$f":"IF(ISNUMBER(SEARCH($F$6,AP946)),MAX($AO$11:AO945)+1,0)","v":935},0,{"$f":"ROWS($AQ$12:AQ946)","v":935},{"$f":"IFERROR(VLOOKUP(ROWS($AR$12:AR946),$AO$12:$AP$3014,2,0),\"\")","v":0}]
[null,null,null,null,null,null,null,null,null,null,null,null,null,null,null,null,null,null,null,null,null,null,null,null,null,null,{"$f":"IFERROR(INDEX($AE$13:$AE$1003, SMALL(IF(ISBLANK($AE$13:$AE$1003)+ISERROR($AE$13:$AE$1003)+LEN($AE$13:$AE$1003)=0, \"\", ROW($AE$13:$AE$1003)-MIN(ROW($AE$13:$AE$1003))+1), ROW(936:936))),\"\")","v":""},{"$f":"IF(AF948=\"\",\"\",IF(COUNTIF(CurrentListing,AF948)>1,AJ948,\"\"))","v":""},{"$f":"IF(LEN(AF948)=0,\"\",IF(ISNA(MATCH(AF948,MasterListing,0)),AJ948,\"\"))","v":""},null,"","",null,"______",0,"______",null,null,null,null,{"$f":"IF(ISNUMBER(SEARCH($F$6,AP947)),MAX($AO$11:AO946)+1,0)","v":936},0,{"$f":"ROWS($AQ$12:AQ947)","v":936},{"$f":"IFERROR(VLOOKUP(ROWS($AR$12:AR947),$AO$12:$AP$3014,2,0),\"\")","v":0}]
[null,null,null,null,null,null,null,null,null,null,null,null,null,null,null,null,null,null,null,null,null,null,null,null,null,null,{"$f":"IFERROR(INDEX($AE$13:$AE$1003, SMALL(IF(ISBLANK($AE$13:$AE$1003)+ISERROR($AE$13:$AE$1003)+LEN($AE$13:$AE$1003)=0, \"\", ROW($AE$13:$AE$1003)-MIN(ROW($AE$13:$AE$1003))+1), ROW(937:937))),\"\")","v":""},{"$f":"IF(AF949=\"\",\"\",IF(COUNTIF(CurrentListing,AF949)>1,AJ949,\"\"))","v":""},{"$f":"IF(LEN(AF949)=0,\"\",IF(ISNA(MATCH(AF949,MasterListing,0)),AJ949,\"\"))","v":""},null,"","",null,"______",0,"______",null,null,null,null,{"$f":"IF(ISNUMBER(SEARCH($F$6,AP948)),MAX($AO$11:AO947)+1,0)","v":937},0,{"$f":"ROWS($AQ$12:AQ948)","v":937},{"$f":"IFERROR(VLOOKUP(ROWS($AR$12:AR948),$AO$12:$AP$3014,2,0),\"\")","v":0}]
[null,null,null,null,null,null,null,null,null,null,null,null,null,null,null,null,null,null,null,null,null,null,null,null,null,null,{"$f":"IFERROR(INDEX($AE$13:$AE$1003, SMALL(IF(ISBLANK($AE$13:$AE$1003)+ISERROR($AE$13:$AE$1003)+LEN($AE$13:$AE$1003)=0, \"\", ROW($AE$13:$AE$1003)-MIN(ROW($AE$13:$AE$1003))+1), ROW(938:938))),\"\")","v":""},{"$f":"IF(AF950=\"\",\"\",IF(COUNTIF(CurrentListing,AF950)>1,AJ950,\"\"))","v":""},{"$f":"IF(LEN(AF950)=0,\"\",IF(ISNA(MATCH(AF950,MasterListing,0)),AJ950,\"\"))","v":""},null,"","",null,"______",0,"______",null,null,null,null,{"$f":"IF(ISNUMBER(SEARCH($F$6,AP949)),MAX($AO$11:AO948)+1,0)","v":938},0,{"$f":"ROWS($AQ$12:AQ949)","v":938},{"$f":"IFERROR(VLOOKUP(ROWS($AR$12:AR949),$AO$12:$AP$3014,2,0),\"\")","v":0}]
[null,null,null,null,null,null,null,null,null,null,null,null,null,null,null,null,null,null,null,null,null,null,null,null,null,null,{"$f":"IFERROR(INDEX($AE$13:$AE$1003, SMALL(IF(ISBLANK($AE$13:$AE$1003)+ISERROR($AE$13:$AE$1003)+LEN($AE$13:$AE$1003)=0, \"\", ROW($AE$13:$AE$1003)-MIN(ROW($AE$13:$AE$1003))+1), ROW(939:939))),\"\")","v":""},{"$f":"IF(AF951=\"\",\"\",IF(COUNTIF(CurrentListing,AF951)>1,AJ951,\"\"))","v":""},{"$f":"IF(LEN(AF951)=0,\"\",IF(ISNA(MATCH(AF951,MasterListing,0)),AJ951,\"\"))","v":""},null,"","",null,"______",0,"______",null,null,null,null,{"$f":"IF(ISNUMBER(SEARCH($F$6,AP950)),MAX($AO$11:AO949)+1,0)","v":939},0,{"$f":"ROWS($AQ$12:AQ950)","v":939},{"$f":"IFERROR(VLOOKUP(ROWS($AR$12:AR950),$AO$12:$AP$3014,2,0),\"\")","v":0}]
[null,null,null,null,null,null,null,null,null,null,null,null,null,null,null,null,null,null,null,null,null,null,null,null,null,null,{"$f":"IFERROR(INDEX($AE$13:$AE$1003, SMALL(IF(ISBLANK($AE$13:$AE$1003)+ISERROR($AE$13:$AE$1003)+LEN($AE$13:$AE$1003)=0, \"\", ROW($AE$13:$AE$1003)-MIN(ROW($AE$13:$AE$1003))+1), ROW(940:940))),\"\")","v":""},{"$f":"IF(AF952=\"\",\"\",IF(COUNTIF(CurrentListing,AF952)>1,AJ952,\"\"))","v":""},{"$f":"IF(LEN(AF952)=0,\"\",IF(ISNA(MATCH(AF952,MasterListing,0)),AJ952,\"\"))","v":""},null,"","",null,"______",0,"______",null,null,null,null,{"$f":"IF(ISNUMBER(SEARCH($F$6,AP951)),MAX($AO$11:AO950)+1,0)","v":940},0,{"$f":"ROWS($AQ$12:AQ951)","v":940},{"$f":"IFERROR(VLOOKUP(ROWS($AR$12:AR951),$AO$12:$AP$3014,2,0),\"\")","v":0}]
[null,null,null,null,null,null,null,null,null,null,null,null,null,null,null,null,null,null,null,null,null,null,null,null,null,null,{"$f":"IFERROR(INDEX($AE$13:$AE$1003, SMALL(IF(ISBLANK($AE$13:$AE$1003)+ISERROR($AE$13:$AE$1003)+LEN($AE$13:$AE$1003)=0, \"\", ROW($AE$13:$AE$1003)-MIN(ROW($AE$13:$AE$1003))+1), ROW(941:941))),\"\")","v":""},{"$f":"IF(AF953=\"\",\"\",IF(COUNTIF(CurrentListing,AF953)>1,AJ953,\"\"))","v":""},{"$f":"IF(LEN(AF953)=0,\"\",IF(ISNA(MATCH(AF953,MasterListing,0)),AJ953,\"\"))","v":""},null,"","",null,"______",0,"______",null,null,null,null,{"$f":"IF(ISNUMBER(SEARCH($F$6,AP952)),MAX($AO$11:AO951)+1,0)","v":941},0,{"$f":"ROWS($AQ$12:AQ952)","v":941},{"$f":"IFERROR(VLOOKUP(ROWS($AR$12:AR952),$AO$12:$AP$3014,2,0),\"\")","v":0}]
[null,null,null,null,null,null,null,null,null,null,null,null,null,null,null,null,null,null,null,null,null,null,null,null,null,null,{"$f":"IFERROR(INDEX($AE$13:$AE$1003, SMALL(IF(ISBLANK($AE$13:$AE$1003)+ISERROR($AE$13:$AE$1003)+LEN($AE$13:$AE$1003)=0, \"\", ROW($AE$13:$AE$1003)-MIN(ROW($AE$13:$AE$1003))+1), ROW(942:942))),\"\")","v":""},{"$f":"IF(AF954=\"\",\"\",IF(COUNTIF(CurrentListing,AF954)>1,AJ954,\"\"))","v":""},{"$f":"IF(LEN(AF954)=0,\"\",IF(ISNA(MATCH(AF954,MasterListing,0)),AJ954,\"\"))","v":""},null,"","",null,"______",0,"______",null,null,null,null,{"$f":"IF(ISNUMBER(SEARCH($F$6,AP953)),MAX($AO$11:AO952)+1,0)","v":942},0,{"$f":"ROWS($AQ$12:AQ953)","v":942},{"$f":"IFERROR(VLOOKUP(ROWS($AR$12:AR953),$AO$12:$AP$3014,2,0),\"\")","v":0}]
[null,null,null,null,null,null,null,null,null,null,null,null,null,null,null,null,null,null,null,null,null,null,null,null,null,null,{"$f":"IFERROR(INDEX($AE$13:$AE$1003, SMALL(IF(ISBLANK($AE$13:$AE$1003)+ISERROR($AE$13:$AE$1003)+LEN($AE$13:$AE$1003)=0, \"\", ROW($AE$13:$AE$1003)-MIN(ROW($AE$13:$AE$1003))+1), ROW(943:943))),\"\")","v":""},{"$f":"IF(AF955=\"\",\"\",IF(COUNTIF(CurrentListing,AF955)>1,AJ955,\"\"))","v":""},{"$f":"IF(LEN(AF955)=0,\"\",IF(ISNA(MATCH(AF955,MasterListing,0)),AJ955,\"\"))","v":""},null,"","",null,"______",0,"______",null,null,null,null,{"$f":"IF(ISNUMBER(SEARCH($F$6,AP954)),MAX($AO$11:AO953)+1,0)","v":943},0,{"$f":"ROWS($AQ$12:AQ954)","v":943},{"$f":"IFERROR(VLOOKUP(ROWS($AR$12:AR954),$AO$12:$AP$3014,2,0),\"\")","v":0}]
[null,null,null,null,null,null,null,null,null,null,null,null,null,null,null,null,null,null,null,null,null,null,null,null,null,null,{"$f":"IFERROR(INDEX($AE$13:$AE$1003, SMALL(IF(ISBLANK($AE$13:$AE$1003)+ISERROR($AE$13:$AE$1003)+LEN($AE$13:$AE$1003)=0, \"\", ROW($AE$13:$AE$1003)-MIN(ROW($AE$13:$AE$1003))+1), ROW(944:944))),\"\")","v":""},{"$f":"IF(AF956=\"\",\"\",IF(COUNTIF(CurrentListing,AF956)>1,AJ956,\"\"))","v":""},{"$f":"IF(LEN(AF956)=0,\"\",IF(ISNA(MATCH(AF956,MasterListing,0)),AJ956,\"\"))","v":""},null,"","",null,"______",0,"______",null,null,null,null,{"$f":"IF(ISNUMBER(SEARCH($F$6,AP955)),MAX($AO$11:AO954)+1,0)","v":944},0,{"$f":"ROWS($AQ$12:AQ955)","v":944},{"$f":"IFERROR(VLOOKUP(ROWS($AR$12:AR955),$AO$12:$AP$3014,2,0),\"\")","v":0}]
[null,null,null,null,null,null,null,null,null,null,null,null,null,null,null,null,null,null,null,null,null,null,null,null,null,null,{"$f":"IFERROR(INDEX($AE$13:$AE$1003, SMALL(IF(ISBLANK($AE$13:$AE$1003)+ISERROR($AE$13:$AE$1003)+LEN($AE$13:$AE$1003)=0, \"\", ROW($AE$13:$AE$1003)-MIN(ROW($AE$13:$AE$1003))+1), ROW(945:945))),\"\")","v":""},{"$f":"IF(AF957=\"\",\"\",IF(COUNTIF(CurrentListing,AF957)>1,AJ957,\"\"))","v":""},{"$f":"IF(LEN(AF957)=0,\"\",IF(ISNA(MATCH(AF957,MasterListing,0)),AJ957,\"\"))","v":""},null,"","",null,"______",0,"______",null,null,null,null,{"$f":"IF(ISNUMBER(SEARCH($F$6,AP956)),MAX($AO$11:AO955)+1,0)","v":945},0,{"$f":"ROWS($AQ$12:AQ956)","v":945},{"$f":"IFERROR(VLOOKUP(ROWS($AR$12:AR956),$AO$12:$AP$3014,2,0),\"\")","v":0}]
[null,null,null,null,null,null,null,null,null,null,null,null,null,null,null,null,null,null,null,null,null,null,null,null,null,null,{"$f":"IFERROR(INDEX($AE$13:$AE$1003, SMALL(IF(ISBLANK($AE$13:$AE$1003)+ISERROR($AE$13:$AE$1003)+LEN($AE$13:$AE$1003)=0, \"\", ROW($AE$13:$AE$1003)-MIN(ROW($AE$13:$AE$1003))+1), ROW(946:946))),\"\")","v":""},{"$f":"IF(AF958=\"\",\"\",IF(COUNTIF(CurrentListing,AF958)>1,AJ958,\"\"))","v":""},{"$f":"IF(LEN(AF958)=0,\"\",IF(ISNA(MATCH(AF958,MasterListing,0)),AJ958,\"\"))","v":""},null,"","",null,"______",0,"______",null,null,null,null,{"$f":"IF(ISNUMBER(SEARCH($F$6,AP957)),MAX($AO$11:AO956)+1,0)","v":946},0,{"$f":"ROWS($AQ$12:AQ957)","v":946},{"$f":"IFERROR(VLOOKUP(ROWS($AR$12:AR957),$AO$12:$AP$3014,2,0),\"\")","v":0}]
[null,null,null,null,null,null,null,null,null,null,null,null,null,null,null,null,null,null,null,null,null,null,null,null,null,null,{"$f":"IFERROR(INDEX($AE$13:$AE$1003, SMALL(IF(ISBLANK($AE$13:$AE$1003)+ISERROR($AE$13:$AE$1003)+LEN($AE$13:$AE$1003)=0, \"\", ROW($AE$13:$AE$1003)-MIN(ROW($AE$13:$AE$1003))+1), ROW(947:947))),\"\")","v":""},{"$f":"IF(AF959=\"\",\"\",IF(COUNTIF(CurrentListing,AF959)>1,AJ959,\"\"))","v":""},{"$f":"IF(LEN(AF959)=0,\"\",IF(ISNA(MATCH(AF959,MasterListing,0)),AJ959,\"\"))","v":""},null,"","",null,"______",0,"______",null,null,null,null,{"$f":"IF(ISNUMBER(SEARCH($F$6,AP958)),MAX($AO$11:AO957)+1,0)","v":947},0,{"$f":"ROWS($AQ$12:AQ958)","v":947},{"$f":"IFERROR(VLOOKUP(ROWS($AR$12:AR958),$AO$12:$AP$3014,2,0),\"\")","v":0}]
[null,null,null,null,null,null,null,null,null,null,null,null,null,null,null,null,null,null,null,null,null,null,null,null,null,null,{"$f":"IFERROR(INDEX($AE$13:$AE$1003, SMALL(IF(ISBLANK($AE$13:$AE$1003)+ISERROR($AE$13:$AE$1003)+LEN($AE$13:$AE$1003)=0, \"\", ROW($AE$13:$AE$1003)-MIN(ROW($AE$13:$AE$1003))+1), ROW(948:948))),\"\")","v":""},{"$f":"IF(AF960=\"\",\"\",IF(COUNTIF(CurrentListing,AF960)>1,AJ960,\"\"))","v":""},{"$f":"IF(LEN(AF960)=0,\"\",IF(ISNA(MATCH(AF960,MasterListing,0)),AJ960,\"\"))","v":""},null,"","",null,"______",0,"______",null,null,null,null,{"$f":"IF(ISNUMBER(SEARCH($F$6,AP959)),MAX($AO$11:AO958)+1,0)","v":948},0,{"$f":"ROWS($AQ$12:AQ959)","v":948},{"$f":"IFERROR(VLOOKUP(ROWS($AR$12:AR959),$AO$12:$AP$3014,2,0),\"\")","v":0}]
[null,null,null,null,null,null,null,null,null,null,null,null,null,null,null,null,null,null,null,null,null,null,null,null,null,null,{"$f":"IFERROR(INDEX($AE$13:$AE$1003, SMALL(IF(ISBLANK($AE$13:$AE$1003)+ISERROR($AE$13:$AE$1003)+LEN($AE$13:$AE$1003)=0, \"\", ROW($AE$13:$AE$1003)-MIN(ROW($AE$13:$AE$1003))+1), ROW(949:949))),\"\")","v":""},{"$f":"IF(AF961=\"\",\"\",IF(COUNTIF(CurrentListing,AF961)>1,AJ961,\"\"))","v":""},{"$f":"IF(LEN(AF961)=0,\"\",IF(ISNA(MATCH(AF961,MasterListing,0)),AJ961,\"\"))","v":""},null,"","",null,"______",0,"______",null,null,null,null,{"$f":"IF(ISNUMBER(SEARCH($F$6,AP960)),MAX($AO$11:AO959)+1,0)","v":949},0,{"$f":"ROWS($AQ$12:AQ960)","v":949},{"$f":"IFERROR(VLOOKUP(ROWS($AR$12:AR960),$AO$12:$AP$3014,2,0),\"\")","v":0}]
[null,null,null,null,null,null,null,null,null,null,null,null,null,null,null,null,null,null,null,null,null,null,null,null,null,null,{"$f":"IFERROR(INDEX($AE$13:$AE$1003, SMALL(IF(ISBLANK($AE$13:$AE$1003)+ISERROR($AE$13:$AE$1003)+LEN($AE$13:$AE$1003)=0, \"\", ROW($AE$13:$AE$1003)-MIN(ROW($AE$13:$AE$1003))+1), ROW(950:950))),\"\")","v":""},{"$f":"IF(AF962=\"\",\"\",IF(COUNTIF(CurrentListing,AF962)>1,AJ962,\"\"))","v":""},{"$f":"IF(LEN(AF962)=0,\"\",IF(ISNA(MATCH(AF962,MasterListing,0)),AJ962,\"\"))","v":""},null,"","",null,"______",0,"______",null,null,null,null,{"$f":"IF(ISNUMBER(SEARCH($F$6,AP961)),MAX($AO$11:AO960)+1,0)","v":950},0,{"$f":"ROWS($AQ$12:AQ961)","v":950},{"$f":"IFERROR(VLOOKUP(ROWS($AR$12:AR961),$AO$12:$AP$3014,2,0),\"\")","v":0}]
[null,null,null,null,null,null,null,null,null,null,null,null,null,null,null,null,null,null,null,null,null,null,null,null,null,null,{"$f":"IFERROR(INDEX($AE$13:$AE$1003, SMALL(IF(ISBLANK($AE$13:$AE$1003)+ISERROR($AE$13:$AE$1003)+LEN($AE$13:$AE$1003)=0, \"\", ROW($AE$13:$AE$1003)-MIN(ROW($AE$13:$AE$1003))+1), ROW(951:951))),\"\")","v":""},{"$f":"IF(AF963=\"\",\"\",IF(COUNTIF(CurrentListing,AF963)>1,AJ963,\"\"))","v":""},{"$f":"IF(LEN(AF963)=0,\"\",IF(ISNA(MATCH(AF963,MasterListing,0)),AJ963,\"\"))","v":""},null,"","",null,"______",0,"______",null,null,null,null,{"$f":"IF(ISNUMBER(SEARCH($F$6,AP962)),MAX($AO$11:AO961)+1,0)","v":951},0,{"$f":"ROWS($AQ$12:AQ962)","v":951},{"$f":"IFERROR(VLOOKUP(ROWS($AR$12:AR962),$AO$12:$AP$3014,2,0),\"\")","v":0}]
[null,null,null,null,null,null,null,null,null,null,null,null,null,null,null,null,null,null,null,null,null,null,null,null,null,null,{"$f":"IFERROR(INDEX($AE$13:$AE$1003, SMALL(IF(ISBLANK($AE$13:$AE$1003)+ISERROR($AE$13:$AE$1003)+LEN($AE$13:$AE$1003)=0, \"\", ROW($AE$13:$AE$1003)-MIN(ROW($AE$13:$AE$1003))+1), ROW(952:952))),\"\")","v":""},{"$f":"IF(AF964=\"\",\"\",IF(COUNTIF(CurrentListing,AF964)>1,AJ964,\"\"))","v":""},{"$f":"IF(LEN(AF964)=0,\"\",IF(ISNA(MATCH(AF964,MasterListing,0)),AJ964,\"\"))","v":""},null,"","",null,"______",0,"______",null,null,null,null,{"$f":"IF(ISNUMBER(SEARCH($F$6,AP963)),MAX($AO$11:AO962)+1,0)","v":952},0,{"$f":"ROWS($AQ$12:AQ963)","v":952},{"$f":"IFERROR(VLOOKUP(ROWS($AR$12:AR963),$AO$12:$AP$3014,2,0),\"\")","v":0}]
[null,null,null,null,null,null,null,null,null,null,null,null,null,null,null,null,null,null,null,null,null,null,null,null,null,null,{"$f":"IFERROR(INDEX($AE$13:$AE$1003, SMALL(IF(ISBLANK($AE$13:$AE$1003)+ISERROR($AE$13:$AE$1003)+LEN($AE$13:$AE$1003)=0, \"\", ROW($AE$13:$AE$1003)-MIN(ROW($AE$13:$AE$1003))+1), ROW(953:953))),\"\")","v":""},{"$f":"IF(AF965=\"\",\"\",IF(COUNTIF(CurrentListing,AF965)>1,AJ965,\"\"))","v":""},{"$f":"IF(LEN(AF965)=0,\"\",IF(ISNA(MATCH(AF965,MasterListing,0)),AJ965,\"\"))","v":""},null,"","",null,"______",0,"______",null,null,null,null,{"$f":"IF(ISNUMBER(SEARCH($F$6,AP964)),MAX($AO$11:AO963)+1,0)","v":953},0,{"$f":"ROWS($AQ$12:AQ964)","v":953},{"$f":"IFERROR(VLOOKUP(ROWS($AR$12:AR964),$AO$12:$AP$3014,2,0),\"\")","v":0}]
[null,null,null,null,null,null,null,null,null,null,null,null,null,null,null,null,null,null,null,null,null,null,null,null,null,null,{"$f":"IFERROR(INDEX($AE$13:$AE$1003, SMALL(IF(ISBLANK($AE$13:$AE$1003)+ISERROR($AE$13:$AE$1003)+LEN($AE$13:$AE$1003)=0, \"\", ROW($AE$13:$AE$1003)-MIN(ROW($AE$13:$AE$1003))+1), ROW(954:954))),\"\")","v":""},{"$f":"IF(AF966=\"\",\"\",IF(COUNTIF(CurrentListing,AF966)>1,AJ966,\"\"))","v":""},{"$f":"IF(LEN(AF966)=0,\"\",IF(ISNA(MATCH(AF966,MasterListing,0)),AJ966,\"\"))","v":""},null,"","",null,"______",0,"______",null,null,null,null,{"$f":"IF(ISNUMBER(SEARCH($F$6,AP965)),MAX($AO$11:AO964)+1,0)","v":954},0,{"$f":"ROWS($AQ$12:AQ965)","v":954},{"$f":"IFERROR(VLOOKUP(ROWS($AR$12:AR965),$AO$12:$AP$3014,2,0),\"\")","v":0}]
[null,null,null,null,null,null,null,null,null,null,null,null,null,null,null,null,null,null,null,null,null,null,null,null,null,null,{"$f":"IFERROR(INDEX($AE$13:$AE$1003, SMALL(IF(ISBLANK($AE$13:$AE$1003)+ISERROR($AE$13:$AE$1003)+LEN($AE$13:$AE$1003)=0, \"\", ROW($AE$13:$AE$1003)-MIN(ROW($AE$13:$AE$1003))+1), ROW(955:955))),\"\")","v":""},{"$f":"IF(AF967=\"\",\"\",IF(COUNTIF(CurrentListing,AF967)>1,AJ967,\"\"))","v":""},{"$f":"IF(LEN(AF967)=0,\"\",IF(ISNA(MATCH(AF967,MasterListing,0)),AJ967,\"\"))","v":""},null,"","",null,"______",0,"______",null,null,null,null,{"$f":"IF(ISNUMBER(SEARCH($F$6,AP966)),MAX($AO$11:AO965)+1,0)","v":955},0,{"$f":"ROWS($AQ$12:AQ966)","v":955},{"$f":"IFERROR(VLOOKUP(ROWS($AR$12:AR966),$AO$12:$AP$3014,2,0),\"\")","v":0}]
[null,null,null,null,null,null,null,null,null,null,null,null,null,null,null,null,null,null,null,null,null,null,null,null,null,null,{"$f":"IFERROR(INDEX($AE$13:$AE$1003, SMALL(IF(ISBLANK($AE$13:$AE$1003)+ISERROR($AE$13:$AE$1003)+LEN($AE$13:$AE$1003)=0, \"\", ROW($AE$13:$AE$1003)-MIN(ROW($AE$13:$AE$1003))+1), ROW(956:956))),\"\")","v":""},{"$f":"IF(AF968=\"\",\"\",IF(COUNTIF(CurrentListing,AF968)>1,AJ968,\"\"))","v":""},{"$f":"IF(LEN(AF968)=0,\"\",IF(ISNA(MATCH(AF968,MasterListing,0)),AJ968,\"\"))","v":""},null,"","",null,"______",0,"______",null,null,null,null,{"$f":"IF(ISNUMBER(SEARCH($F$6,AP967)),MAX($AO$11:AO966)+1,0)","v":956},0,{"$f":"ROWS($AQ$12:AQ967)","v":956},{"$f":"IFERROR(VLOOKUP(ROWS($AR$12:AR967),$AO$12:$AP$3014,2,0),\"\")","v":0}]
[null,null,null,null,null,null,null,null,null,null,null,null,null,null,null,null,null,null,null,null,null,null,null,null,null,null,{"$f":"IFERROR(INDEX($AE$13:$AE$1003, SMALL(IF(ISBLANK($AE$13:$AE$1003)+ISERROR($AE$13:$AE$1003)+LEN($AE$13:$AE$1003)=0, \"\", ROW($AE$13:$AE$1003)-MIN(ROW($AE$13:$AE$1003))+1), ROW(957:957))),\"\")","v":""},{"$f":"IF(AF969=\"\",\"\",IF(COUNTIF(CurrentListing,AF969)>1,AJ969,\"\"))","v":""},{"$f":"IF(LEN(AF969)=0,\"\",IF(ISNA(MATCH(AF969,MasterListing,0)),AJ969,\"\"))","v":""},null,"","",null,"______",0,"______",null,null,null,null,{"$f":"IF(ISNUMBER(SEARCH($F$6,AP968)),MAX($AO$11:AO967)+1,0)","v":957},0,{"$f":"ROWS($AQ$12:AQ968)","v":957},{"$f":"IFERROR(VLOOKUP(ROWS($AR$12:AR968),$AO$12:$AP$3014,2,0),\"\")","v":0}]
[null,null,null,null,null,null,null,null,null,null,null,null,null,null,null,null,null,null,null,null,null,null,null,null,null,null,{"$f":"IFERROR(INDEX($AE$13:$AE$1003, SMALL(IF(ISBLANK($AE$13:$AE$1003)+ISERROR($AE$13:$AE$1003)+LEN($AE$13:$AE$1003)=0, \"\", ROW($AE$13:$AE$1003)-MIN(ROW($AE$13:$AE$1003))+1), ROW(958:958))),\"\")","v":""},{"$f":"IF(AF970=\"\",\"\",IF(COUNTIF(CurrentListing,AF970)>1,AJ970,\"\"))","v":""},{"$f":"IF(LEN(AF970)=0,\"\",IF(ISNA(MATCH(AF970,MasterListing,0)),AJ970,\"\"))","v":""},null,"","",null,"______",0,"______",null,null,null,null,{"$f":"IF(ISNUMBER(SEARCH($F$6,AP969)),MAX($AO$11:AO968)+1,0)","v":958},0,{"$f":"ROWS($AQ$12:AQ969)","v":958},{"$f":"IFERROR(VLOOKUP(ROWS($AR$12:AR969),$AO$12:$AP$3014,2,0),\"\")","v":0}]
[null,null,null,null,null,null,null,null,null,null,null,null,null,null,null,null,null,null,null,null,null,null,null,null,null,null,{"$f":"IFERROR(INDEX($AE$13:$AE$1003, SMALL(IF(ISBLANK($AE$13:$AE$1003)+ISERROR($AE$13:$AE$1003)+LEN($AE$13:$AE$1003)=0, \"\", ROW($AE$13:$AE$1003)-MIN(ROW($AE$13:$AE$1003))+1), ROW(959:959))),\"\")","v":""},{"$f":"IF(AF971=\"\",\"\",IF(COUNTIF(CurrentListing,AF971)>1,AJ971,\"\"))","v":""},{"$f":"IF(LEN(AF971)=0,\"\",IF(ISNA(MATCH(AF971,MasterListing,0)),AJ971,\"\"))","v":""},null,"","",null,"______",0,"______",null,null,null,null,{"$f":"IF(ISNUMBER(SEARCH($F$6,AP970)),MAX($AO$11:AO969)+1,0)","v":959},0,{"$f":"ROWS($AQ$12:AQ970)","v":959},{"$f":"IFERROR(VLOOKUP(ROWS($AR$12:AR970),$AO$12:$AP$3014,2,0),\"\")","v":0}]
[null,null,null,null,null,null,null,null,null,null,null,null,null,null,null,null,null,null,null,null,null,null,null,null,null,null,{"$f":"IFERROR(INDEX($AE$13:$AE$1003, SMALL(IF(ISBLANK($AE$13:$AE$1003)+ISERROR($AE$13:$AE$1003)+LEN($AE$13:$AE$1003)=0, \"\", ROW($AE$13:$AE$1003)-MIN(ROW($AE$13:$AE$1003))+1), ROW(960:960))),\"\")","v":""},{"$f":"IF(AF972=\"\",\"\",IF(COUNTIF(CurrentListing,AF972)>1,AJ972,\"\"))","v":""},{"$f":"IF(LEN(AF972)=0,\"\",IF(ISNA(MATCH(AF972,MasterListing,0)),AJ972,\"\"))","v":""},null,"","",null,"______",0,"______",null,null,null,null,{"$f":"IF(ISNUMBER(SEARCH($F$6,AP971)),MAX($AO$11:AO970)+1,0)","v":960},0,{"$f":"ROWS($AQ$12:AQ971)","v":960},{"$f":"IFERROR(VLOOKUP(ROWS($AR$12:AR971),$AO$12:$AP$3014,2,0),\"\")","v":0}]
[null,null,null,null,null,null,null,null,null,null,null,null,null,null,null,null,null,null,null,null,null,null,null,null,null,null,{"$f":"IFERROR(INDEX($AE$13:$AE$1003, SMALL(IF(ISBLANK($AE$13:$AE$1003)+ISERROR($AE$13:$AE$1003)+LEN($AE$13:$AE$1003)=0, \"\", ROW($AE$13:$AE$1003)-MIN(ROW($AE$13:$AE$1003))+1), ROW(961:961))),\"\")","v":""},{"$f":"IF(AF973=\"\",\"\",IF(COUNTIF(CurrentListing,AF973)>1,AJ973,\"\"))","v":""},{"$f":"IF(LEN(AF973)=0,\"\",IF(ISNA(MATCH(AF973,MasterListing,0)),AJ973,\"\"))","v":""},null,{"$f":"IF(LEN(AG972)=0,\"\",IF(ISNA(MATCH(AG972,CurrentListing,0)),AH972,\"\"))","v":""},"",null,"______",0,"______",null,null,null,null,{"$f":"IF(ISNUMBER(SEARCH($F$6,AP972)),MAX($AO$11:AO971)+1,0)","v":961},0,{"$f":"ROWS($AQ$12:AQ972)","v":961},{"$f":"IFERROR(VLOOKUP(ROWS($AR$12:AR972),$AO$12:$AP$3014,2,0),\"\")","v":0}]
[null,null,null,null,null,null,null,null,null,null,null,null,null,null,null,null,null,null,null,null,null,null,null,null,null,null,{"$f":"IFERROR(INDEX($AE$13:$AE$1003, SMALL(IF(ISBLANK($AE$13:$AE$1003)+ISERROR($AE$13:$AE$1003)+LEN($AE$13:$AE$1003)=0, \"\", ROW($AE$13:$AE$1003)-MIN(ROW($AE$13:$AE$1003))+1), ROW(962:962))),\"\")","v":""},{"$f":"IF(AF974=\"\",\"\",IF(COUNTIF(CurrentListing,AF974)>1,AJ974,\"\"))","v":""},{"$f":"IF(LEN(AF974)=0,\"\",IF(ISNA(MATCH(AF974,MasterListing,0)),AJ974,\"\"))","v":""},null,"",{"$f":"H973&I973&P973&Q973&R973&V973&W973","v":""},null,"______",0,"______",null,null,null,null,{"$f":"IF(ISNUMBER(SEARCH($F$6,AP973)),MAX($AO$11:AO972)+1,0)","v":962},0,{"$f":"ROWS($AQ$12:AQ973)","v":962},{"$f":"IFERROR(VLOOKUP(ROWS($AR$12:AR973),$AO$12:$AP$3014,2,0),\"\")","v":0}]
[null,null,null,null,null,null,null,null,null,null,null,null,null,null,null,null,null,null,null,null,null,null,null,null,null,null,{"$f":"IFERROR(INDEX($AE$13:$AE$1003, SMALL(IF(ISBLANK($AE$13:$AE$1003)+ISERROR($AE$13:$AE$1003)+LEN($AE$13:$AE$1003)=0, \"\", ROW($AE$13:$AE$1003)-MIN(ROW($AE$13:$AE$1003))+1), ROW(963:963))),\"\")","v":""},{"$f":"IF(AF975=\"\",\"\",IF(COUNTIF(CurrentListing,AF975)>1,AJ975,\"\"))","v":""},{"$f":"IF(LEN(AF975)=0,\"\",IF(ISNA(MATCH(AF975,MasterListing,0)),AJ975,\"\"))","v":""},null,"","",null,"______",{"$f":"IF(LEN(AA974)>0,1,0)","v":0},{"$f":"H974&\"_\"&I974&\"_\"&P974&\"_\"&Q974&\"_\"&R974&\"_\"&V974&\"_\"&W974","v":"______"},null,null,null,null,{"$f":"IF(ISNUMBER(SEARCH($F$6,AP974)),MAX($AO$11:AO973)+1,0)","v":963},0,{"$f":"ROWS($AQ$12:AQ974)","v":963},{"$f":"IFERROR(VLOOKUP(ROWS($AR$12:AR974),$AO$12:$AP$3014,2,0),\"\")","v":0}]
[null,null,null,null,null,null,null,null,null,null,null,null,null,null,null,null,null,null,null,null,null,null,null,null,null,null,{"$f":"IFERROR(INDEX($AE$13:$AE$1003, SMALL(IF(ISBLANK($AE$13:$AE$1003)+ISERROR($AE$13:$AE$1003)+LEN($AE$13:$AE$1003)=0, \"\", ROW($AE$13:$AE$1003)-MIN(ROW($AE$13:$AE$1003))+1), ROW(964:964))),\"\")","v":""},{"$f":"IF(AF976=\"\",\"\",IF(COUNTIF(CurrentListing,AF976)>1,AJ976,\"\"))","v":""},{"$f":"IF(LEN(AF976)=0,\"\",IF(ISNA(MATCH(AF976,MasterListing,0)),AJ976,\"\"))","v":""},null,"","",null,"______",0,"______",null,null,null,null,{"$f":"IF(ISNUMBER(SEARCH($F$6,AP975)),MAX($AO$11:AO974)+1,0)","v":964},0,{"$f":"ROWS($AQ$12:AQ975)","v":964},{"$f":"IFERROR(VLOOKUP(ROWS($AR$12:AR975),$AO$12:$AP$3014,2,0),\"\")","v":0}]
[null,null,null,null,null,null,null,null,null,null,null,null,null,null,null,null,null,null,null,null,null,null,null,null,null,null,{"$f":"IFERROR(INDEX($AE$13:$AE$1003, SMALL(IF(ISBLANK($AE$13:$AE$1003)+ISERROR($AE$13:$AE$1003)+LEN($AE$13:$AE$1003)=0, \"\", ROW($AE$13:$AE$1003)-MIN(ROW($AE$13:$AE$1003))+1), ROW(965:965))),\"\")","v":""},{"$f":"IF(AF977=\"\",\"\",IF(COUNTIF(CurrentListing,AF977)>1,AJ977,\"\"))","v":""},{"$f":"IF(LEN(AF977)=0,\"\",IF(ISNA(MATCH(AF977,MasterListing,0)),AJ977,\"\"))","v":""},null,"","",null,"______",0,"______",null,null,null,null,{"$f":"IF(ISNUMBER(SEARCH($F$6,AP976)),MAX($AO$11:AO975)+1,0)","v":965},0,{"$f":"ROWS($AQ$12:AQ976)","v":965},{"$f":"IFERROR(VLOOKUP(ROWS($AR$12:AR976),$AO$12:$AP$3014,2,0),\"\")","v":0}]
[null,null,null,null,null,null,null,null,null,null,null,null,null,null,null,null,null,null,null,null,null,null,null,null,null,null,{"$f":"IFERROR(INDEX($AE$13:$AE$1003, SMALL(IF(ISBLANK($AE$13:$AE$1003)+ISERROR($AE$13:$AE$1003)+LEN($AE$13:$AE$1003)=0, \"\", ROW($AE$13:$AE$1003)-MIN(ROW($AE$13:$AE$1003))+1), ROW(966:966))),\"\")","v":""},{"$f":"IF(AF978=\"\",\"\",IF(COUNTIF(CurrentListing,AF978)>1,AJ978,\"\"))","v":""},{"$f":"IF(LEN(AF978)=0,\"\",IF(ISNA(MATCH(AF978,MasterListing,0)),AJ978,\"\"))","v":""},null,"","",null,"______",0,"______",null,null,null,null,{"$f":"IF(ISNUMBER(SEARCH($F$6,AP977)),MAX($AO$11:AO976)+1,0)","v":966},0,{"$f":"ROWS($AQ$12:AQ977)","v":966},{"$f":"IFERROR(VLOOKUP(ROWS($AR$12:AR977),$AO$12:$AP$3014,2,0),\"\")","v":0}]
[null,null,null,null,null,null,null,null,null,null,null,null,null,null,null,null,null,null,null,null,null,null,null,null,null,null,{"$f":"IFERROR(INDEX($AE$13:$AE$1003, SMALL(IF(ISBLANK($AE$13:$AE$1003)+ISERROR($AE$13:$AE$1003)+LEN($AE$13:$AE$1003)=0, \"\", ROW($AE$13:$AE$1003)-MIN(ROW($AE$13:$AE$1003))+1), ROW(967:967))),\"\")","v":""},{"$f":"IF(AF979=\"\",\"\",IF(COUNTIF(CurrentListing,AF979)>1,AJ979,\"\"))","v":""},{"$f":"IF(LEN(AF979)=0,\"\",IF(ISNA(MATCH(AF979,MasterListing,0)),AJ979,\"\"))","v":""},null,"","",null,"______",0,"______",null,null,null,null,{"$f":"IF(ISNUMBER(SEARCH($F$6,AP978)),MAX($AO$11:AO977)+1,0)","v":967},0,{"$f":"ROWS($AQ$12:AQ978)","v":967},{"$f":"IFERROR(VLOOKUP(ROWS($AR$12:AR978),$AO$12:$AP$3014,2,0),\"\")","v":0}]
[null,null,null,null,null,null,null,null,null,null,null,null,null,null,null,null,null,null,null,null,null,null,null,null,null,null,{"$f":"IFERROR(INDEX($AE$13:$AE$1003, SMALL(IF(ISBLANK($AE$13:$AE$1003)+ISERROR($AE$13:$AE$1003)+LEN($AE$13:$AE$1003)=0, \"\", ROW($AE$13:$AE$1003)-MIN(ROW($AE$13:$AE$1003))+1), ROW(968:968))),\"\")","v":""},{"$f":"IF(AF980=\"\",\"\",IF(COUNTIF(CurrentListing,AF980)>1,AJ980,\"\"))","v":""},{"$f":"IF(LEN(AF980)=0,\"\",IF(ISNA(MATCH(AF980,MasterListing,0)),AJ980,\"\"))","v":""},null,"","",null,"______",0,"______",null,null,null,null,{"$f":"IF(ISNUMBER(SEARCH($F$6,AP979)),MAX($AO$11:AO978)+1,0)","v":968},0,{"$f":"ROWS($AQ$12:AQ979)","v":968},{"$f":"IFERROR(VLOOKUP(ROWS($AR$12:AR979),$AO$12:$AP$3014,2,0),\"\")","v":0}]
[null,null,null,null,null,null,null,null,null,null,null,null,null,null,null,null,null,null,null,null,null,null,null,null,null,null,{"$f":"IFERROR(INDEX($AE$13:$AE$1003, SMALL(IF(ISBLANK($AE$13:$AE$1003)+ISERROR($AE$13:$AE$1003)+LEN($AE$13:$AE$1003)=0, \"\", ROW($AE$13:$AE$1003)-MIN(ROW($AE$13:$AE$1003))+1), ROW(969:969))),\"\")","v":""},{"$f":"IF(AF981=\"\",\"\",IF(COUNTIF(CurrentListing,AF981)>1,AJ981,\"\"))","v":""},{"$f":"IF(LEN(AF981)=0,\"\",IF(ISNA(MATCH(AF981,MasterListing,0)),AJ981,\"\"))","v":""},null,"","",null,"______",0,"______",null,null,null,null,{"$f":"IF(ISNUMBER(SEARCH($F$6,AP980)),MAX($AO$11:AO979)+1,0)","v":969},0,{"$f":"ROWS($AQ$12:AQ980)","v":969},{"$f":"IFERROR(VLOOKUP(ROWS($AR$12:AR980),$AO$12:$AP$3014,2,0),\"\")","v":0}]
[null,null,null,null,null,null,null,null,null,null,null,null,null,null,null,null,null,null,null,null,null,null,null,null,null,null,{"$f":"IFERROR(INDEX($AE$13:$AE$1003, SMALL(IF(ISBLANK($AE$13:$AE$1003)+ISERROR($AE$13:$AE$1003)+LEN($AE$13:$AE$1003)=0, \"\", ROW($AE$13:$AE$1003)-MIN(ROW($AE$13:$AE$1003))+1), ROW(970:970))),\"\")","v":""},{"$f":"IF(AF982=\"\",\"\",IF(COUNTIF(CurrentListing,AF982)>1,AJ982,\"\"))","v":""},{"$f":"IF(LEN(AF982)=0,\"\",IF(ISNA(MATCH(AF982,MasterListing,0)),AJ982,\"\"))","v":""},null,"","",null,"______",0,"______",null,null,null,null,{"$f":"IF(ISNUMBER(SEARCH($F$6,AP981)),MAX($AO$11:AO980)+1,0)","v":970},0,{"$f":"ROWS($AQ$12:AQ981)","v":970},{"$f":"IFERROR(VLOOKUP(ROWS($AR$12:AR981),$AO$12:$AP$3014,2,0),\"\")","v":0}]
[null,null,null,null,null,null,null,null,null,null,null,null,null,null,null,null,null,null,null,null,null,null,null,null,null,null,{"$f":"IFERROR(INDEX($AE$13:$AE$1003, SMALL(IF(ISBLANK($AE$13:$AE$1003)+ISERROR($AE$13:$AE$1003)+LEN($AE$13:$AE$1003)=0, \"\", ROW($AE$13:$AE$1003)-MIN(ROW($AE$13:$AE$1003))+1), ROW(971:971))),\"\")","v":""},{"$f":"IF(AF983=\"\",\"\",IF(COUNTIF(CurrentListing,AF983)>1,AJ983,\"\"))","v":""},{"$f":"IF(LEN(AF983)=0,\"\",IF(ISNA(MATCH(AF983,MasterListing,0)),AJ983,\"\"))","v":""},null,"","",null,"______",0,"______",null,null,null,null,{"$f":"IF(ISNUMBER(SEARCH($F$6,AP982)),MAX($AO$11:AO981)+1,0)","v":971},0,{"$f":"ROWS($AQ$12:AQ982)","v":971},{"$f":"IFERROR(VLOOKUP(ROWS($AR$12:AR982),$AO$12:$AP$3014,2,0),\"\")","v":0}]
[null,null,null,null,null,null,null,null,null,null,null,null,null,null,null,null,null,null,null,null,null,null,null,null,null,null,{"$f":"IFERROR(INDEX($AE$13:$AE$1003, SMALL(IF(ISBLANK($AE$13:$AE$1003)+ISERROR($AE$13:$AE$1003)+LEN($AE$13:$AE$1003)=0, \"\", ROW($AE$13:$AE$1003)-MIN(ROW($AE$13:$AE$1003))+1), ROW(972:972))),\"\")","v":""},{"$f":"IF(AF984=\"\",\"\",IF(COUNTIF(CurrentListing,AF984)>1,AJ984,\"\"))","v":""},{"$f":"IF(LEN(AF984)=0,\"\",IF(ISNA(MATCH(AF984,MasterListing,0)),AJ984,\"\"))","v":""},null,"","",null,"______",0,"______",null,null,null,null,{"$f":"IF(ISNUMBER(SEARCH($F$6,AP983)),MAX($AO$11:AO982)+1,0)","v":972},0,{"$f":"ROWS($AQ$12:AQ983)","v":972},{"$f":"IFERROR(VLOOKUP(ROWS($AR$12:AR983),$AO$12:$AP$3014,2,0),\"\")","v":0}]
[null,null,null,null,null,null,null,null,null,null,null,null,null,null,null,null,null,null,null,null,null,null,null,null,null,null,{"$f":"IFERROR(INDEX($AE$13:$AE$1003, SMALL(IF(ISBLANK($AE$13:$AE$1003)+ISERROR($AE$13:$AE$1003)+LEN($AE$13:$AE$1003)=0, \"\", ROW($AE$13:$AE$1003)-MIN(ROW($AE$13:$AE$1003))+1), ROW(973:973))),\"\")","v":""},{"$f":"IF(AF985=\"\",\"\",IF(COUNTIF(CurrentListing,AF985)>1,AJ985,\"\"))","v":""},{"$f":"IF(LEN(AF985)=0,\"\",IF(ISNA(MATCH(AF985,MasterListing,0)),AJ985,\"\"))","v":""},null,"","",null,"______",0,"______",null,null,null,null,{"$f":"IF(ISNUMBER(SEARCH($F$6,AP984)),MAX($AO$11:AO983)+1,0)","v":973},0,{"$f":"ROWS($AQ$12:AQ984)","v":973},{"$f":"IFERROR(VLOOKUP(ROWS($AR$12:AR984),$AO$12:$AP$3014,2,0),\"\")","v":0}]
[null,null,null,null,null,null,null,null,null,null,null,null,null,null,null,null,null,null,null,null,null,null,null,null,null,null,{"$f":"IFERROR(INDEX($AE$13:$AE$1003, SMALL(IF(ISBLANK($AE$13:$AE$1003)+ISERROR($AE$13:$AE$1003)+LEN($AE$13:$AE$1003)=0, \"\", ROW($AE$13:$AE$1003)-MIN(ROW($AE$13:$AE$1003))+1), ROW(974:974))),\"\")","v":""},{"$f":"IF(AF986=\"\",\"\",IF(COUNTIF(CurrentListing,AF986)>1,AJ986,\"\"))","v":""},{"$f":"IF(LEN(AF986)=0,\"\",IF(ISNA(MATCH(AF986,MasterListing,0)),AJ986,\"\"))","v":""},null,"","",null,"______",0,"______",null,null,null,null,{"$f":"IF(ISNUMBER(SEARCH($F$6,AP985)),MAX($AO$11:AO984)+1,0)","v":974},0,{"$f":"ROWS($AQ$12:AQ985)","v":974},{"$f":"IFERROR(VLOOKUP(ROWS($AR$12:AR985),$AO$12:$AP$3014,2,0),\"\")","v":0}]
[null,null,null,null,null,null,null,null,null,null,null,null,null,null,null,null,null,null,null,null,null,null,null,null,null,null,{"$f":"IFERROR(INDEX($AE$13:$AE$1003, SMALL(IF(ISBLANK($AE$13:$AE$1003)+ISERROR($AE$13:$AE$1003)+LEN($AE$13:$AE$1003)=0, \"\", ROW($AE$13:$AE$1003)-MIN(ROW($AE$13:$AE$1003))+1), ROW(975:975))),\"\")","v":""},{"$f":"IF(AF987=\"\",\"\",IF(COUNTIF(CurrentListing,AF987)>1,AJ987,\"\"))","v":""},{"$f":"IF(LEN(AF987)=0,\"\",IF(ISNA(MATCH(AF987,MasterListing,0)),AJ987,\"\"))","v":""},null,"","",null,"______",0,"______",null,null,null,null,{"$f":"IF(ISNUMBER(SEARCH($F$6,AP986)),MAX($AO$11:AO985)+1,0)","v":975},0,{"$f":"ROWS($AQ$12:AQ986)","v":975},{"$f":"IFERROR(VLOOKUP(ROWS($AR$12:AR986),$AO$12:$AP$3014,2,0),\"\")","v":0}]
[null,null,null,null,null,null,null,null,null,null,null,null,null,null,null,null,null,null,null,null,null,null,null,null,null,null,{"$f":"IFERROR(INDEX($AE$13:$AE$1003, SMALL(IF(ISBLANK($AE$13:$AE$1003)+ISERROR($AE$13:$AE$1003)+LEN($AE$13:$AE$1003)=0, \"\", ROW($AE$13:$AE$1003)-MIN(ROW($AE$13:$AE$1003))+1), ROW(976:976))),\"\")","v":""},{"$f":"IF(AF988=\"\",\"\",IF(COUNTIF(CurrentListing,AF988)>1,AJ988,\"\"))","v":""},{"$f":"IF(LEN(AF988)=0,\"\",IF(ISNA(MATCH(AF988,MasterListing,0)),AJ988,\"\"))","v":""},null,"","",null,"______",0,"______",null,null,null,null,{"$f":"IF(ISNUMBER(SEARCH($F$6,AP987)),MAX($AO$11:AO986)+1,0)","v":976},0,{"$f":"ROWS($AQ$12:AQ987)","v":976},{"$f":"IFERROR(VLOOKUP(ROWS($AR$12:AR987),$AO$12:$AP$3014,2,0),\"\")","v":0}]
[null,null,null,null,null,null,null,null,null,null,null,null,null,null,null,null,null,null,null,null,null,null,null,null,null,null,{"$f":"IFERROR(INDEX($AE$13:$AE$1003, SMALL(IF(ISBLANK($AE$13:$AE$1003)+ISERROR($AE$13:$AE$1003)+LEN($AE$13:$AE$1003)=0, \"\", ROW($AE$13:$AE$1003)-MIN(ROW($AE$13:$AE$1003))+1), ROW(977:977))),\"\")","v":""},{"$f":"IF(AF989=\"\",\"\",IF(COUNTIF(CurrentListing,AF989)>1,AJ989,\"\"))","v":""},{"$f":"IF(LEN(AF989)=0,\"\",IF(ISNA(MATCH(AF989,MasterListing,0)),AJ989,\"\"))","v":""},null,"","",null,"______",0,"______",null,null,null,null,{"$f":"IF(ISNUMBER(SEARCH($F$6,AP988)),MAX($AO$11:AO987)+1,0)","v":977},0,{"$f":"ROWS($AQ$12:AQ988)","v":977},{"$f":"IFERROR(VLOOKUP(ROWS($AR$12:AR988),$AO$12:$AP$3014,2,0),\"\")","v":0}]
[null,null,null,null,null,null,null,null,null,null,null,null,null,null,null,null,null,null,null,null,null,null,null,null,null,null,{"$f":"IFERROR(INDEX($AE$13:$AE$1003, SMALL(IF(ISBLANK($AE$13:$AE$1003)+ISERROR($AE$13:$AE$1003)+LEN($AE$13:$AE$1003)=0, \"\", ROW($AE$13:$AE$1003)-MIN(ROW($AE$13:$AE$1003))+1), ROW(978:978))),\"\")","v":""},{"$f":"IF(AF990=\"\",\"\",IF(COUNTIF(CurrentListing,AF990)>1,AJ990,\"\"))","v":""},{"$f":"IF(LEN(AF990)=0,\"\",IF(ISNA(MATCH(AF990,MasterListing,0)),AJ990,\"\"))","v":""},null,"","",null,"______",0,"______",null,null,null,null,{"$f":"IF(ISNUMBER(SEARCH($F$6,AP989)),MAX($AO$11:AO988)+1,0)","v":978},0,{"$f":"ROWS($AQ$12:AQ989)","v":978},{"$f":"IFERROR(VLOOKUP(ROWS($AR$12:AR989),$AO$12:$AP$3014,2,0),\"\")","v":0}]
[null,null,null,null,null,null,null,null,null,null,null,null,null,null,null,null,null,null,null,null,null,null,null,null,null,null,{"$f":"IFERROR(INDEX($AE$13:$AE$1003, SMALL(IF(ISBLANK($AE$13:$AE$1003)+ISERROR($AE$13:$AE$1003)+LEN($AE$13:$AE$1003)=0, \"\", ROW($AE$13:$AE$1003)-MIN(ROW($AE$13:$AE$1003))+1), ROW(979:979))),\"\")","v":""},{"$f":"IF(AF991=\"\",\"\",IF(COUNTIF(CurrentListing,AF991)>1,AJ991,\"\"))","v":""},{"$f":"IF(LEN(AF991)=0,\"\",IF(ISNA(MATCH(AF991,MasterListing,0)),AJ991,\"\"))","v":""},null,"","",null,"______",0,"______",null,null,null,null,{"$f":"IF(ISNUMBER(SEARCH($F$6,AP990)),MAX($AO$11:AO989)+1,0)","v":979},0,{"$f":"ROWS($AQ$12:AQ990)","v":979},{"$f":"IFERROR(VLOOKUP(ROWS($AR$12:AR990),$AO$12:$AP$3014,2,0),\"\")","v":0}]
[null,null,null,null,null,null,null,null,null,null,null,null,null,null,null,null,null,null,null,null,null,null,null,null,null,null,{"$f":"IFERROR(INDEX($AE$13:$AE$1003, SMALL(IF(ISBLANK($AE$13:$AE$1003)+ISERROR($AE$13:$AE$1003)+LEN($AE$13:$AE$1003)=0, \"\", ROW($AE$13:$AE$1003)-MIN(ROW($AE$13:$AE$1003))+1), ROW(980:980))),\"\")","v":""},{"$f":"IF(AF992=\"\",\"\",IF(COUNTIF(CurrentListing,AF992)>1,AJ992,\"\"))","v":""},{"$f":"IF(LEN(AF992)=0,\"\",IF(ISNA(MATCH(AF992,MasterListing,0)),AJ992,\"\"))","v":""},null,"","",null,"______",0,"______",null,null,null,null,{"$f":"IF(ISNUMBER(SEARCH($F$6,AP991)),MAX($AO$11:AO990)+1,0)","v":980},0,{"$f":"ROWS($AQ$12:AQ991)","v":980},{"$f":"IFERROR(VLOOKUP(ROWS($AR$12:AR991),$AO$12:$AP$3014,2,0),\"\")","v":0}]
[null,null,null,null,null,null,null,null,null,null,null,null,null,null,null,null,null,null,null,null,null,null,null,null,null,null,{"$f":"IFERROR(INDEX($AE$13:$AE$1003, SMALL(IF(ISBLANK($AE$13:$AE$1003)+ISERROR($AE$13:$AE$1003)+LEN($AE$13:$AE$1003)=0, \"\", ROW($AE$13:$AE$1003)-MIN(ROW($AE$13:$AE$1003))+1), ROW(981:981))),\"\")","v":""},{"$f":"IF(AF993=\"\",\"\",IF(COUNTIF(CurrentListing,AF993)>1,AJ993,\"\"))","v":""},{"$f":"IF(LEN(AF993)=0,\"\",IF(ISNA(MATCH(AF993,MasterListing,0)),AJ993,\"\"))","v":""},null,"","",null,"______",0,"______",null,null,null,null,{"$f":"IF(ISNUMBER(SEARCH($F$6,AP992)),MAX($AO$11:AO991)+1,0)","v":981},0,{"$f":"ROWS($AQ$12:AQ992)","v":981},{"$f":"IFERROR(VLOOKUP(ROWS($AR$12:AR992),$AO$12:$AP$3014,2,0),\"\")","v":0}]
[null,null,null,null,null,null,null,null,null,null,null,null,null,null,null,null,null,null,null,null,null,null,null,null,null,null,{"$f":"IFERROR(INDEX($AE$13:$AE$1003, SMALL(IF(ISBLANK($AE$13:$AE$1003)+ISERROR($AE$13:$AE$1003)+LEN($AE$13:$AE$1003)=0, \"\", ROW($AE$13:$AE$1003)-MIN(ROW($AE$13:$AE$1003))+1), ROW(982:982))),\"\")","v":""},{"$f":"IF(AF994=\"\",\"\",IF(COUNTIF(CurrentListing,AF994)>1,AJ994,\"\"))","v":""},{"$f":"IF(LEN(AF994)=0,\"\",IF(ISNA(MATCH(AF994,MasterListing,0)),AJ994,\"\"))","v":""},null,"","",null,"______",0,"______",null,null,null,null,{"$f":"IF(ISNUMBER(SEARCH($F$6,AP993)),MAX($AO$11:AO992)+1,0)","v":982},0,{"$f":"ROWS($AQ$12:AQ993)","v":982},{"$f":"IFERROR(VLOOKUP(ROWS($AR$12:AR993),$AO$12:$AP$3014,2,0),\"\")","v":0}]
[null,null,null,null,null,null,null,null,null,null,null,null,null,null,null,null,null,null,null,null,null,null,null,null,null,null,{"$f":"IFERROR(INDEX($AE$13:$AE$1003, SMALL(IF(ISBLANK($AE$13:$AE$1003)+ISERROR($AE$13:$AE$1003)+LEN($AE$13:$AE$1003)=0, \"\", ROW($AE$13:$AE$1003)-MIN(ROW($AE$13:$AE$1003))+1), ROW(983:983))),\"\")","v":""},{"$f":"IF(AF995=\"\",\"\",IF(COUNTIF(CurrentListing,AF995)>1,AJ995,\"\"))","v":""},{"$f":"IF(LEN(AF995)=0,\"\",IF(ISNA(MATCH(AF995,MasterListing,0)),AJ995,\"\"))","v":""},null,"","",null,"______",0,"______",null,null,null,null,{"$f":"IF(ISNUMBER(SEARCH($F$6,AP994)),MAX($AO$11:AO993)+1,0)","v":983},0,{"$f":"ROWS($AQ$12:AQ994)","v":983},{"$f":"IFERROR(VLOOKUP(ROWS($AR$12:AR994),$AO$12:$AP$3014,2,0),\"\")","v":0}]
[null,null,null,null,null,null,null,null,null,null,null,null,null,null,null,null,null,null,null,null,null,null,null,null,null,null,{"$f":"IFERROR(INDEX($AE$13:$AE$1003, SMALL(IF(ISBLANK($AE$13:$AE$1003)+ISERROR($AE$13:$AE$1003)+LEN($AE$13:$AE$1003)=0, \"\", ROW($AE$13:$AE$1003)-MIN(ROW($AE$13:$AE$1003))+1), ROW(984:984))),\"\")","v":""},{"$f":"IF(AF996=\"\",\"\",IF(COUNTIF(CurrentListing,AF996)>1,AJ996,\"\"))","v":""},{"$f":"IF(LEN(AF996)=0,\"\",IF(ISNA(MATCH(AF996,MasterListing,0)),AJ996,\"\"))","v":""},null,"","",null,"______",0,"______",null,null,null,null,{"$f":"IF(ISNUMBER(SEARCH($F$6,AP995)),MAX($AO$11:AO994)+1,0)","v":984},0,{"$f":"ROWS($AQ$12:AQ995)","v":984},{"$f":"IFERROR(VLOOKUP(ROWS($AR$12:AR995),$AO$12:$AP$3014,2,0),\"\")","v":0}]
[null,null,null,null,null,null,null,null,null,null,null,null,null,null,null,null,null,null,null,null,null,null,null,null,null,null,{"$f":"IFERROR(INDEX($AE$13:$AE$1003, SMALL(IF(ISBLANK($AE$13:$AE$1003)+ISERROR($AE$13:$AE$1003)+LEN($AE$13:$AE$1003)=0, \"\", ROW($AE$13:$AE$1003)-MIN(ROW($AE$13:$AE$1003))+1), ROW(985:985))),\"\")","v":""},{"$f":"IF(AF997=\"\",\"\",IF(COUNTIF(CurrentListing,AF997)>1,AJ997,\"\"))","v":""},{"$f":"IF(LEN(AF997)=0,\"\",IF(ISNA(MATCH(AF997,MasterListing,0)),AJ997,\"\"))","v":""},null,"","",null,"______",0,"______",null,null,null,null,{"$f":"IF(ISNUMBER(SEARCH($F$6,AP996)),MAX($AO$11:AO995)+1,0)","v":985},0,{"$f":"ROWS($AQ$12:AQ996)","v":985},{"$f":"IFERROR(VLOOKUP(ROWS($AR$12:AR996),$AO$12:$AP$3014,2,0),\"\")","v":0}]
[null,null,null,null,null,null,null,null,null,null,null,null,null,null,null,null,null,null,null,null,null,null,null,null,null,null,{"$f":"IFERROR(INDEX($AE$13:$AE$1003, SMALL(IF(ISBLANK($AE$13:$AE$1003)+ISERROR($AE$13:$AE$1003)+LEN($AE$13:$AE$1003)=0, \"\", ROW($AE$13:$AE$1003)-MIN(ROW($AE$13:$AE$1003))+1), ROW(986:986))),\"\")","v":""},{"$f":"IF(AF998=\"\",\"\",IF(COUNTIF(CurrentListing,AF998)>1,AJ998,\"\"))","v":""},{"$f":"IF(LEN(AF998)=0,\"\",IF(ISNA(MATCH(AF998,MasterListing,0)),AJ998,\"\"))","v":""},null,"","",null,"______",0,"______",null,null,null,null,{"$f":"IF(ISNUMBER(SEARCH($F$6,AP997)),MAX($AO$11:AO996)+1,0)","v":986},0,{"$f":"ROWS($AQ$12:AQ997)","v":986},{"$f":"IFERROR(VLOOKUP(ROWS($AR$12:AR997),$AO$12:$AP$3014,2,0),\"\")","v":0}]
[null,null,null,null,null,null,null,null,null,null,null,null,null,null,null,null,null,null,null,null,null,null,null,null,null,null,{"$f":"IFERROR(INDEX($AE$13:$AE$1003, SMALL(IF(ISBLANK($AE$13:$AE$1003)+ISERROR($AE$13:$AE$1003)+LEN($AE$13:$AE$1003)=0, \"\", ROW($AE$13:$AE$1003)-MIN(ROW($AE$13:$AE$1003))+1), ROW(987:987))),\"\")","v":""},{"$f":"IF(AF999=\"\",\"\",IF(COUNTIF(CurrentListing,AF999)>1,AJ999,\"\"))","v":""},{"$f":"IF(LEN(AF999)=0,\"\",IF(ISNA(MATCH(AF999,MasterListing,0)),AJ999,\"\"))","v":""},null,"","",null,"______",0,"______",null,null,null,null,{"$f":"IF(ISNUMBER(SEARCH($F$6,AP998)),MAX($AO$11:AO997)+1,0)","v":987},0,{"$f":"ROWS($AQ$12:AQ998)","v":987},{"$f":"IFERROR(VLOOKUP(ROWS($AR$12:AR998),$AO$12:$AP$3014,2,0),\"\")","v":0}]
[null,null,null,null,null,null,null,null,null,null,null,null,null,null,null,null,null,null,null,null,null,null,null,null,null,null,{"$f":"IFERROR(INDEX($AE$13:$AE$1003, SMALL(IF(ISBLANK($AE$13:$AE$1003)+ISERROR($AE$13:$AE$1003)+LEN($AE$13:$AE$1003)=0, \"\", ROW($AE$13:$AE$1003)-MIN(ROW($AE$13:$AE$1003))+1), ROW(988:988))),\"\")","v":""},{"$f":"IF(AF1000=\"\",\"\",IF(COUNTIF(CurrentListing,AF1000)>1,AJ1000,\"\"))","v":""},{"$f":"IF(LEN(AF1000)=0,\"\",IF(ISNA(MATCH(AF1000,MasterListing,0)),AJ1000,\"\"))","v":""},null,"","",null,"______",0,"______",null,null,null,null,{"$f":"IF(ISNUMBER(SEARCH($F$6,AP999)),MAX($AO$11:AO998)+1,0)","v":988},0,{"$f":"ROWS($AQ$12:AQ999)","v":988},{"$f":"IFERROR(VLOOKUP(ROWS($AR$12:AR999),$AO$12:$AP$3014,2,0),\"\")","v":0}]
[null,null,null,null,null,null,null,null,null,null,null,null,null,null,null,null,null,null,null,null,null,null,null,null,null,null,{"$f":"IFERROR(INDEX($AE$13:$AE$1003, SMALL(IF(ISBLANK($AE$13:$AE$1003)+ISERROR($AE$13:$AE$1003)+LEN($AE$13:$AE$1003)=0, \"\", ROW($AE$13:$AE$1003)-MIN(ROW($AE$13:$AE$1003))+1), ROW(989:989))),\"\")","v":""},null,null,null,"","",null,"______",0,"______",null,null,null,null,{"$f":"IF(ISNUMBER(SEARCH($F$6,AP1000)),MAX($AO$11:AO999)+1,0)","v":989},0,{"$f":"ROWS($AQ$12:AQ1000)","v":989},{"$f":"IFERROR(VLOOKUP(ROWS($AR$12:AR1000),$AO$12:$AP$3014,2,0),\"\")","v":0}]
[null,null,null,null,null,null,null,null,null,null,null,null,null,null,null,null,null,null,null,null,null,null,null,null,null,null,null,null,null,null,"",null,null,"______",0,"______",null,null,null,null,{"$f":"IF(ISNUMBER(SEARCH($F$6,AP1002)),MAX($AO$11:AO1001)+1,0)","v":991},0,{"$f":"ROWS($AQ$12:AQ1002)","v":991},{"$f":"IFERROR(VLOOKUP(ROWS($AR$12:AR1002),$AO$12:$AP$3014,2,0),\"\")","v":0}]
[null,null,null,null,null,null,null,null,null,null,null,null,null,null,null,null,null,null,null,null,null,null,null,null,null,null,null,null,null,null,null,null,null,null,null,null,null,null,null,null,{"$f":"IF(ISNUMBER(SEARCH($F$6,AP1004)),MAX($AO$11:AO1003)+1,0)","v":993},0,{"$f":"ROWS($AQ$12:AQ1004)","v":993},{"$f":"IFERROR(VLOOKUP(ROWS($AR$12:AR1004),$AO$12:$AP$3014,2,0),\"\")","v":0}]
[null,null,null,null,null,null,null,null,null,null,null,null,null,null,null,null,null,null,null,null,null,null,null,null,null,null,null,null,null,null,null,null,null,null,null,null,null,null,null,null,{"$f":"IF(ISNUMBER(SEARCH($F$6,AP1007)),MAX($AO$11:AO1006)+1,0)","v":996},0,{"$f":"ROWS($AQ$12:AQ1007)","v":996},{"$f":"IFERROR(VLOOKUP(ROWS($AR$12:AR1007),$AO$12:$AP$3014,2,0),\"\")","v":0}]
[null,null,null,null,null,null,null,null,null,null,null,null,null,null,null,null,null,null,null,null,null,null,null,null,null,null,null,null,null,null,null,null,null,null,null,null,null,null,null,null,{"$f":"IF(ISNUMBER(SEARCH($F$6,AP1011)),MAX($AO$11:AO1010)+1,0)","v":1000},0,{"$f":"ROWS($AQ$12:AQ1011)","v":1000},{"$f":"IFERROR(VLOOKUP(ROWS($AR$12:AR1011),$AO$12:$AP$3014,2,0),\"\")","v":0}]
[null,null,null,null,null,null,null,null,null,null,null,null,null,null,null,null,null,null,null,null,null,null,null,null,null,null,null,null,null,null,null,null,null,null,null,null,null,null,null,null,{"$f":"IF(ISNUMBER(SEARCH($F$6,AP1013)),MAX($AO$11:AO1012)+1,0)","v":1002},0,{"$f":"ROWS($AQ$12:AQ1013)","v":1002},{"$f":"IFERROR(VLOOKUP(ROWS($AR$12:AR1013),$AO$12:$AP$3014,2,0),\"\")","v":0}]
[null,null,null,null,null,null,null,null,null,null,null,null,null,null,null,null,null,null,null,null,null,null,null,null,null,null,null,null,null,null,null,null,null,null,null,null,null,null,null,null,{"$f":"IF(ISNUMBER(SEARCH($F$6,AP1016)),MAX($AO$11:AO1015)+1,0)","v":1005},0,{"$f":"ROWS($AQ$12:AQ1016)","v":1005},{"$f":"IFERROR(VLOOKUP(ROWS($AR$12:AR1016),$AO$12:$AP$3014,2,0),\"\")","v":0}]
[null,null,null,null,null,null,null,null,null,null,null,null,null,null,null,null,null,null,null,null,null,null,null,null,null,null,null,null,null,null,null,null,null,null,null,null,null,null,null,null,{"$f":"IF(ISNUMBER(SEARCH($F$6,AP1017)),MAX($AO$11:AO1016)+1,0)","v":1006},0,{"$f":"ROWS($AQ$12:AQ1017)","v":1006},{"$f":"IFERROR(VLOOKUP(ROWS($AR$12:AR1017),$AO$12:$AP$3014,2,0),\"\")","v":0}]
[null,null,null,null,null,null,null,null,null,null,null,null,null,null,null,null,null,null,null,null,null,null,null,null,null,null,null,null,null,null,null,null,null,null,null,null,null,null,null,null,{"$f":"IF(ISNUMBER(SEARCH($F$6,AP1020)),MAX($AO$11:AO1019)+1,0)","v":1009},0,{"$f":"ROWS($AQ$12:AQ1020)","v":1009},{"$f":"IFERROR(VLOOKUP(ROWS($AR$12:AR1020),$AO$12:$AP$3014,2,0),\"\")","v":0}]
[null,null,null,null,null,null,null,null,null,null,null,null,null,null,null,null,null,null,null,null,null,null,null,null,null,null,null,null,null,null,null,null,null,null,null,null,null,null,null,null,{"$f":"IF(ISNUMBER(SEARCH($F$6,AP1024)),MAX($AO$11:AO1023)+1,0)","v":1013},0,{"$f":"ROWS($AQ$12:AQ1024)","v":1013},{"$f":"IFERROR(VLOOKUP(ROWS($AR$12:AR1024),$AO$12:$AP$3014,2,0),\"\")","v":0}]
[null,null,null,null,null,null,null,null,null,null,null,null,null,null,null,null,null,null,null,null,null,null,null,null,null,null,null,null,null,null,null,null,null,null,null,null,null,null,null,null,{"$f":"IF(ISNUMBER(SEARCH($F$6,AP1026)),MAX($AO$11:AO1025)+1,0)","v":1015},0,{"$f":"ROWS($AQ$12:AQ1026)","v":1015},{"$f":"IFERROR(VLOOKUP(ROWS($AR$12:AR1026),$AO$12:$AP$3014,2,0),\"\")","v":0}]
[null,null,null,null,null,null,null,null,null,null,null,null,null,null,null,null,null,null,null,null,null,null,null,null,null,null,null,null,null,null,null,null,null,null,null,null,null,null,null,null,{"$f":"IF(ISNUMBER(SEARCH($F$6,AP1029)),MAX($AO$11:AO1028)+1,0)","v":1018},0,{"$f":"ROWS($AQ$12:AQ1029)","v":1018},{"$f":"IFERROR(VLOOKUP(ROWS($AR$12:AR1029),$AO$12:$AP$3014,2,0),\"\")","v":0}]
[null,null,null,null,null,null,null,null,null,null,null,null,null,null,null,null,null,null,null,null,null,null,null,null,null,null,null,null,null,null,null,null,null,null,null,null,null,null,null,null,{"$f":"IF(ISNUMBER(SEARCH($F$6,AP1033)),MAX($AO$11:AO1032)+1,0)","v":1022},0,{"$f":"ROWS($AQ$12:AQ1033)","v":1022},{"$f":"IFERROR(VLOOKUP(ROWS($AR$12:AR1033),$AO$12:$AP$3014,2,0),\"\")","v":0}]
[null,null,null,null,null,null,null,null,null,null,null,null,null,null,null,null,null,null,null,null,null,null,null,null,null,null,null,null,null,null,null,null,null,null,null,null,null,null,null,null,{"$f":"IF(ISNUMBER(SEARCH($F$6,AP1035)),MAX($AO$11:AO1034)+1,0)","v":1024},0,{"$f":"ROWS($AQ$12:AQ1035)","v":1024},{"$f":"IFERROR(VLOOKUP(ROWS($AR$12:AR1035),$AO$12:$AP$3014,2,0),\"\")","v":0}]
[null,null,null,null,null,null,null,null,null,null,null,null,null,null,null,null,null,null,null,null,null,null,null,null,null,null,null,null,null,null,null,null,null,null,null,null,null,null,null,null,{"$f":"IF(ISNUMBER(SEARCH($F$6,AP1038)),MAX($AO$11:AO1037)+1,0)","v":1027},0,{"$f":"ROWS($AQ$12:AQ1038)","v":1027},{"$f":"IFERROR(VLOOKUP(ROWS($AR$12:AR1038),$AO$12:$AP$3014,2,0),\"\")","v":0}]
[null,null,null,null,null,null,null,null,null,null,null,null,null,null,null,null,null,null,null,null,null,null,null,null,null,null,null,null,null,null,null,null,null,null,null,null,null,null,null,null,{"$f":"IF(ISNUMBER(SEARCH($F$6,AP1039)),MAX($AO$11:AO1038)+1,0)","v":1028},0,{"$f":"ROWS($AQ$12:AQ1039)","v":1028},{"$f":"IFERROR(VLOOKUP(ROWS($AR$12:AR1039),$AO$12:$AP$3014,2,0),\"\")","v":0}]
[null,null,null,null,null,null,null,null,null,null,null,null,null,null,null,null,null,null,null,null,null,null,null,null,null,null,null,null,null,null,null,null,null,null,null,null,null,null,null,null,{"$f":"IF(ISNUMBER(SEARCH($F$6,AP1042)),MAX($AO$11:AO1041)+1,0)","v":1031},0,{"$f":"ROWS($AQ$12:AQ1042)","v":1031},{"$f":"IFERROR(VLOOKUP(ROWS($AR$12:AR1042),$AO$12:$AP$3014,2,0),\"\")","v":0}]
[null,null,null,null,null,null,null,null,null,null,null,null,null,null,null,null,null,null,null,null,null,null,null,null,null,null,null,null,null,null,null,null,null,null,null,null,null,null,null,null,{"$f":"IF(ISNUMBER(SEARCH($F$6,AP1046)),MAX($AO$11:AO1045)+1,0)","v":1035},0,{"$f":"ROWS($AQ$12:AQ1046)","v":1035},{"$f":"IFERROR(VLOOKUP(ROWS($AR$12:AR1046),$AO$12:$AP$3014,2,0),\"\")","v":0}]
[null,null,null,null,null,null,null,null,null,null,null,null,null,null,null,null,null,null,null,null,null,null,null,null,null,null,null,null,null,null,null,null,null,null,null,null,null,null,null,null,{"$f":"IF(ISNUMBER(SEARCH($F$6,AP1048)),MAX($AO$11:AO1047)+1,0)","v":1037},0,{"$f":"ROWS($AQ$12:AQ1048)","v":1037},{"$f":"IFERROR(VLOOKUP(ROWS($AR$12:AR1048),$AO$12:$AP$3014,2,0),\"\")","v":0}]
[null,null,null,null,null,null,null,null,null,null,null,null,null,null,null,null,null,null,null,null,null,null,null,null,null,null,null,null,null,null,null,null,null,null,null,null,null,null,null,null,{"$f":"IF(ISNUMBER(SEARCH($F$6,AP1051)),MAX($AO$11:AO1050)+1,0)","v":1040},0,{"$f":"ROWS($AQ$12:AQ1051)","v":1040},{"$f":"IFERROR(VLOOKUP(ROWS($AR$12:AR1051),$AO$12:$AP$3014,2,0),\"\")","v":0}]
[null,null,null,null,null,null,null,null,null,null,null,null,null,null,null,null,null,null,null,null,null,null,null,null,null,null,null,null,null,null,null,null,null,null,null,null,null,null,null,null,{"$f":"IF(ISNUMBER(SEARCH($F$6,AP1055)),MAX($AO$11:AO1054)+1,0)","v":1044},0,{"$f":"ROWS($AQ$12:AQ1055)","v":1044},{"$f":"IFERROR(VLOOKUP(ROWS($AR$12:AR1055),$AO$12:$AP$3014,2,0),\"\")","v":0}]
[null,null,null,null,null,null,null,null,null,null,null,null,null,null,null,null,null,null,null,null,null,null,null,null,null,null,null,null,null,null,null,null,null,null,null,null,null,null,null,null,{"$f":"IF(ISNUMBER(SEARCH($F$6,AP1057)),MAX($AO$11:AO1056)+1,0)","v":1046},0,{"$f":"ROWS($AQ$12:AQ1057)","v":1046},{"$f":"IFERROR(VLOOKUP(ROWS($AR$12:AR1057),$AO$12:$AP$3014,2,0),\"\")","v":0}]
[null,null,null,null,null,null,null,null,null,null,null,null,null,null,null,null,null,null,null,null,null,null,null,null,null,null,null,null,null,null,null,null,null,null,null,null,null,null,null,null,{"$f":"IF(ISNUMBER(SEARCH($F$6,AP1058)),MAX($AO$11:AO1057)+1,0)","v":1047},0,{"$f":"ROWS($AQ$12:AQ1058)","v":1047},{"$f":"IFERROR(VLOOKUP(ROWS($AR$12:AR1058),$AO$12:$AP$3014,2,0),\"\")","v":0}]
[null,null,null,null,null,null,null,null,null,null,null,null,null,null,null,null,null,null,null,null,null,null,null,null,null,null,null,null,null,null,null,null,null,null,null,null,null,null,null,null,{"$f":"IF(ISNUMBER(SEARCH($F$6,AP1061)),MAX($AO$11:AO1060)+1,0)","v":1050},0,{"$f":"ROWS($AQ$12:AQ1061)","v":1050},{"$f":"IFERROR(VLOOKUP(ROWS($AR$12:AR1061),$AO$12:$AP$3014,2,0),\"\")","v":0}]
[null,null,null,null,null,null,null,null,null,null,null,null,null,null,null,null,null,null,null,null,null,null,null,null,null,null,null,null,null,null,null,null,null,null,null,null,null,null,null,null,{"$f":"IF(ISNUMBER(SEARCH($F$6,AP1064)),MAX($AO$11:AO1063)+1,0)","v":1053},0,{"$f":"ROWS($AQ$12:AQ1064)","v":1053},{"$f":"IFERROR(VLOOKUP(ROWS($AR$12:AR1064),$AO$12:$AP$3014,2,0),\"\")","v":0}]
[null,null,null,null,null,null,null,null,null,null,null,null,null,null,null,null,null,null,null,null,null,null,null,null,null,null,null,null,null,null,null,null,null,null,null,null,null,null,null,null,{"$f":"IF(ISNUMBER(SEARCH($F$6,AP1068)),MAX($AO$11:AO1067)+1,0)","v":1057},0,{"$f":"ROWS($AQ$12:AQ1068)","v":1057},{"$f":"IFERROR(VLOOKUP(ROWS($AR$12:AR1068),$AO$12:$AP$3014,2,0),\"\")","v":0}]
[null,null,null,null,null,null,null,null,null,null,null,null,null,null,null,null,null,null,null,null,null,null,null,null,null,null,null,null,null,null,null,null,null,null,null,null,null,null,null,null,{"$f":"IF(ISNUMBER(SEARCH($F$6,AP1070)),MAX($AO$11:AO1069)+1,0)","v":1059},0,{"$f":"ROWS($AQ$12:AQ1070)","v":1059},{"$f":"IFERROR(VLOOKUP(ROWS($AR$12:AR1070),$AO$12:$AP$3014,2,0),\"\")","v":0}]
[null,null,null,null,null,null,null,null,null,null,null,null,null,null,null,null,null,null,null,null,null,null,null,null,null,null,null,null,null,null,null,null,null,null,null,null,null,null,null,null,{"$f":"IF(ISNUMBER(SEARCH($F$6,AP1073)),MAX($AO$11:AO1072)+1,0)","v":1062},0,{"$f":"ROWS($AQ$12:AQ1073)","v":1062},{"$f":"IFERROR(VLOOKUP(ROWS($AR$12:AR1073),$AO$12:$AP$3014,2,0),\"\")","v":0}]
[null,null,null,null,null,null,null,null,null,null,null,null,null,null,null,null,null,null,null,null,null,null,null,null,null,null,null,null,null,null,null,null,null,null,null,null,null,null,null,null,{"$f":"IF(ISNUMBER(SEARCH($F$6,AP1077)),MAX($AO$11:AO1076)+1,0)","v":1066},0,{"$f":"ROWS($AQ$12:AQ1077)","v":1066},{"$f":"IFERROR(VLOOKUP(ROWS($AR$12:AR1077),$AO$12:$AP$3014,2,0),\"\")","v":0}]
[null,null,null,null,null,null,null,null,null,null,null,null,null,null,null,null,null,null,null,null,null,null,null,null,null,null,null,null,null,null,null,null,null,null,null,null,null,null,null,null,{"$f":"IF(ISNUMBER(SEARCH($F$6,AP1079)),MAX($AO$11:AO1078)+1,0)","v":1068},0,{"$f":"ROWS($AQ$12:AQ1079)","v":1068},{"$f":"IFERROR(VLOOKUP(ROWS($AR$12:AR1079),$AO$12:$AP$3014,2,0),\"\")","v":0}]
[null,null,null,null,null,null,null,null,null,null,null,null,null,null,null,null,null,null,null,null,null,null,null,null,null,null,null,null,null,null,null,null,null,null,null,null,null,null,null,null,{"$f":"IF(ISNUMBER(SEARCH($F$6,AP1080)),MAX($AO$11:AO1079)+1,0)","v":1069},0,{"$f":"ROWS($AQ$12:AQ1080)","v":1069},{"$f":"IFERROR(VLOOKUP(ROWS($AR$12:AR1080),$AO$12:$AP$3014,2,0),\"\")","v":0}]
[null,null,null,null,null,null,null,null,null,null,null,null,null,null,null,null,null,null,null,null,null,null,null,null,null,null,null,null,null,null,null,null,null,null,null,null,null,null,null,null,{"$f":"IF(ISNUMBER(SEARCH($F$6,AP1083)),MAX($AO$11:AO1082)+1,0)","v":1072},0,{"$f":"ROWS($AQ$12:AQ1083)","v":1072},{"$f":"IFERROR(VLOOKUP(ROWS($AR$12:AR1083),$AO$12:$AP$3014,2,0),\"\")","v":0}]
[null,null,null,null,null,null,null,null,null,null,null,null,null,null,null,null,null,null,null,null,null,null,null,null,null,null,null,null,null,null,null,null,null,null,null,null,null,null,null,null,{"$f":"IF(ISNUMBER(SEARCH($F$6,AP1086)),MAX($AO$11:AO1085)+1,0)","v":1075},0,{"$f":"ROWS($AQ$12:AQ1086)","v":1075},{"$f":"IFERROR(VLOOKUP(ROWS($AR$12:AR1086),$AO$12:$AP$3014,2,0),\"\")","v":0}]
[null,null,null,null,null,null,null,null,null,null,null,null,null,null,null,null,null,null,null,null,null,null,null,null,null,null,null,null,null,null,null,null,null,null,null,null,null,null,null,null,{"$f":"IF(ISNUMBER(SEARCH($F$6,AP1090)),MAX($AO$11:AO1089)+1,0)","v":1079},0,{"$f":"ROWS($AQ$12:AQ1090)","v":1079},{"$f":"IFERROR(VLOOKUP(ROWS($AR$12:AR1090),$AO$12:$AP$3014,2,0),\"\")","v":0}]
[null,null,null,null,null,null,null,null,null,null,null,null,null,null,null,null,null,null,null,null,null,null,null,null,null,null,null,null,null,null,null,null,null,null,null,null,null,null,null,null,{"$f":"IF(ISNUMBER(SEARCH($F$6,AP1092)),MAX($AO$11:AO1091)+1,0)","v":1081},0,{"$f":"ROWS($AQ$12:AQ1092)","v":1081},{"$f":"IFERROR(VLOOKUP(ROWS($AR$12:AR1092),$AO$12:$AP$3014,2,0),\"\")","v":0}]
[null,null,null,null,null,null,null,null,null,null,null,null,null,null,null,null,null,null,null,null,null,null,null,null,null,null,null,null,null,null,null,null,null,null,null,null,null,null,null,null,{"$f":"IF(ISNUMBER(SEARCH($F$6,AP1095)),MAX($AO$11:AO1094)+1,0)","v":1084},0,{"$f":"ROWS($AQ$12:AQ1095)","v":1084},{"$f":"IFERROR(VLOOKUP(ROWS($AR$12:AR1095),$AO$12:$AP$3014,2,0),\"\")","v":0}]
[null,null,null,null,null,null,null,null,null,null,null,null,null,null,null,null,null,null,null,null,null,null,null,null,null,null,null,null,null,null,null,null,null,null,null,null,null,null,null,null,{"$f":"IF(ISNUMBER(SEARCH($F$6,AP1099)),MAX($AO$11:AO1098)+1,0)","v":1088},0,{"$f":"ROWS($AQ$12:AQ1099)","v":1088},{"$f":"IFERROR(VLOOKUP(ROWS($AR$12:AR1099),$AO$12:$AP$3014,2,0),\"\")","v":0}]
[null,null,null,null,null,null,null,null,null,null,null,null,null,null,null,null,null,null,null,null,null,null,null,null,null,null,null,null,null,null,null,null,null,null,null,null,null,null,null,null,{"$f":"IF(ISNUMBER(SEARCH($F$6,AP1101)),MAX($AO$11:AO1100)+1,0)","v":1090},0,{"$f":"ROWS($AQ$12:AQ1101)","v":1090},{"$f":"IFERROR(VLOOKUP(ROWS($AR$12:AR1101),$AO$12:$AP$3014,2,0),\"\")","v":0}]
[null,null,null,null,null,null,null,null,null,null,null,null,null,null,null,null,null,null,null,null,null,null,null,null,null,null,null,null,null,null,null,null,null,null,null,null,null,null,null,null,{"$f":"IF(ISNUMBER(SEARCH($F$6,AP1102)),MAX($AO$11:AO1101)+1,0)","v":1091},0,{"$f":"ROWS($AQ$12:AQ1102)","v":1091},{"$f":"IFERROR(VLOOKUP(ROWS($AR$12:AR1102),$AO$12:$AP$3014,2,0),\"\")","v":0}]
[null,null,null,null,null,null,null,null,null,null,null,null,null,null,null,null,null,null,null,null,null,null,null,null,null,null,null,null,null,null,null,null,null,null,null,null,null,null,null,null,{"$f":"IF(ISNUMBER(SEARCH($F$6,AP1105)),MAX($AO$11:AO1104)+1,0)","v":1094},0,{"$f":"ROWS($AQ$12:AQ1105)","v":1094},{"$f":"IFERROR(VLOOKUP(ROWS($AR$12:AR1105),$AO$12:$AP$3014,2,0),\"\")","v":0}]
[null,null,null,null,null,null,null,null,null,null,null,null,null,null,null,null,null,null,null,null,null,null,null,null,null,null,null,null,null,null,null,null,null,null,null,null,null,null,null,null,{"$f":"IF(ISNUMBER(SEARCH($F$6,AP1108)),MAX($AO$11:AO1107)+1,0)","v":1097},0,{"$f":"ROWS($AQ$12:AQ1108)","v":1097},{"$f":"IFERROR(VLOOKUP(ROWS($AR$12:AR1108),$AO$12:$AP$3014,2,0),\"\")","v":0}]
[null,null,null,null,null,null,null,null,null,null,null,null,null,null,null,null,null,null,null,null,null,null,null,null,null,null,null,null,null,null,null,null,null,null,null,null,null,null,null,null,{"$f":"IF(ISNUMBER(SEARCH($F$6,AP1112)),MAX($AO$11:AO1111)+1,0)","v":1101},0,{"$f":"ROWS($AQ$12:AQ1112)","v":1101},{"$f":"IFERROR(VLOOKUP(ROWS($AR$12:AR1112),$AO$12:$AP$3014,2,0),\"\")","v":0}]
[null,null,null,null,null,null,null,null,null,null,null,null,null,null,null,null,null,null,null,null,null,null,null,null,null,null,null,null,null,null,null,null,null,null,null,null,null,null,null,null,{"$f":"IF(ISNUMBER(SEARCH($F$6,AP1114)),MAX($AO$11:AO1113)+1,0)","v":1103},0,{"$f":"ROWS($AQ$12:AQ1114)","v":1103},{"$f":"IFERROR(VLOOKUP(ROWS($AR$12:AR1114),$AO$12:$AP$3014,2,0),\"\")","v":0}]
[null,null,null,null,null,null,null,null,null,null,null,null,null,null,null,null,null,null,null,null,null,null,null,null,null,null,null,null,null,null,null,null,null,null,null,null,null,null,null,null,{"$f":"IF(ISNUMBER(SEARCH($F$6,AP1118)),MAX($AO$11:AO1117)+1,0)","v":1107},0,{"$f":"ROWS($AQ$12:AQ1118)","v":1107},{"$f":"IFERROR(VLOOKUP(ROWS($AR$12:AR1118),$AO$12:$AP$3014,2,0),\"\")","v":0}]
[null,null,null,null,null,null,null,null,null,null,null,null,null,null,null,null,null,null,null,null,null,null,null,null,null,null,null,null,null,null,null,null,null,null,null,null,null,null,null,null,{"$f":"IF(ISNUMBER(SEARCH($F$6,AP1121)),MAX($AO$11:AO1120)+1,0)","v":1110},0,{"$f":"ROWS($AQ$12:AQ1121)","v":1110},{"$f":"IFERROR(VLOOKUP(ROWS($AR$12:AR1121),$AO$12:$AP$3014,2,0),\"\")","v":0}]
[null,null,null,null,null,null,null,null,null,null,null,null,null,null,null,null,null,null,null,null,null,null,null,null,null,null,null,null,null,null,null,null,null,null,null,null,null,null,null,null,{"$f":"IF(ISNUMBER(SEARCH($F$6,AP1124)),MAX($AO$11:AO1123)+1,0)","v":1113},0,{"$f":"ROWS($AQ$12:AQ1124)","v":1113},{"$f":"IFERROR(VLOOKUP(ROWS($AR$12:AR1124),$AO$12:$AP$3014,2,0),\"\")","v":0}]
[null,null,null,null,null,null,null,null,null,null,null,null,null,null,null,null,null,null,null,null,null,null,null,null,null,null,null,null,null,null,null,null,null,null,null,null,null,null,null,null,{"$f":"IF(ISNUMBER(SEARCH($F$6,AP1125)),MAX($AO$11:AO1124)+1,0)","v":1114},0,{"$f":"ROWS($AQ$12:AQ1125)","v":1114},{"$f":"IFERROR(VLOOKUP(ROWS($AR$12:AR1125),$AO$12:$AP$3014,2,0),\"\")","v":0}]
[null,null,null,null,null,null,null,null,null,null,null,null,null,null,null,null,null,null,null,null,null,null,null,null,null,null,null,null,null,null,null,null,null,null,null,null,null,null,null,null,{"$f":"IF(ISNUMBER(SEARCH($F$6,AP1127)),MAX($AO$11:AO1126)+1,0)","v":1116},0,{"$f":"ROWS($AQ$12:AQ1127)","v":1116},{"$f":"IFERROR(VLOOKUP(ROWS($AR$12:AR1127),$AO$12:$AP$3014,2,0),\"\")","v":0}]
[null,null,null,null,null,null,null,null,null,null,null,null,null,null,null,null,null,null,null,null,null,null,null,null,null,null,null,null,null,null,null,null,null,null,null,null,null,null,null,null,{"$f":"IF(ISNUMBER(SEARCH($F$6,AP1130)),MAX($AO$11:AO1129)+1,0)","v":1119},0,{"$f":"ROWS($AQ$12:AQ1130)","v":1119},{"$f":"IFERROR(VLOOKUP(ROWS($AR$12:AR1130),$AO$12:$AP$3014,2,0),\"\")","v":0}]
[null,null,null,null,null,null,null,null,null,null,null,null,null,null,null,null,null,null,null,null,null,null,null,null,null,null,null,null,null,null,null,null,null,null,null,null,null,null,null,null,{"$f":"IF(ISNUMBER(SEARCH($F$6,AP1134)),MAX($AO$11:AO1133)+1,0)","v":1123},0,{"$f":"ROWS($AQ$12:AQ1134)","v":1123},{"$f":"IFERROR(VLOOKUP(ROWS($AR$12:AR1134),$AO$12:$AP$3014,2,0),\"\")","v":0}]
[null,null,null,null,null,null,null,null,null,null,null,null,null,null,null,null,null,null,null,null,null,null,null,null,null,null,null,null,null,null,null,null,null,null,null,null,null,null,null,null,{"$f":"IF(ISNUMBER(SEARCH($F$6,AP1136)),MAX($AO$11:AO1135)+1,0)","v":1125},0,{"$f":"ROWS($AQ$12:AQ1136)","v":1125},{"$f":"IFERROR(VLOOKUP(ROWS($AR$12:AR1136),$AO$12:$AP$3014,2,0),\"\")","v":0}]
[null,null,null,null,null,null,null,null,null,null,null,null,null,null,null,null,null,null,null,null,null,null,null,null,null,null,null,null,null,null,null,null,null,null,null,null,null,null,null,null,{"$f":"IF(ISNUMBER(SEARCH($F$6,AP1140)),MAX($AO$11:AO1139)+1,0)","v":1129},0,{"$f":"ROWS($AQ$12:AQ1140)","v":1129},{"$f":"IFERROR(VLOOKUP(ROWS($AR$12:AR1140),$AO$12:$AP$3014,2,0),\"\")","v":0}]
[null,null,null,null,null,null,null,null,null,null,null,null,null,null,null,null,null,null,null,null,null,null,null,null,null,null,null,null,null,null,null,null,null,null,null,null,null,null,null,null,{"$f":"IF(ISNUMBER(SEARCH($F$6,AP1143)),MAX($AO$11:AO1142)+1,0)","v":1132},0,{"$f":"ROWS($AQ$12:AQ1143)","v":1132},{"$f":"IFERROR(VLOOKUP(ROWS($AR$12:AR1143),$AO$12:$AP$3014,2,0),\"\")","v":0}]
[null,null,null,null,null,null,null,null,null,null,null,null,null,null,null,null,null,null,null,null,null,null,null,null,null,null,null,null,null,null,null,null,null,null,null,null,null,null,null,null,{"$f":"IF(ISNUMBER(SEARCH($F$6,AP1146)),MAX($AO$11:AO1145)+1,0)","v":1135},0,{"$f":"ROWS($AQ$12:AQ1146)","v":1135},{"$f":"IFERROR(VLOOKUP(ROWS($AR$12:AR1146),$AO$12:$AP$3014,2,0),\"\")","v":0}]
[null,null,null,null,null,null,null,null,null,null,null,null,null,null,null,null,null,null,null,null,null,null,null,null,null,null,null,null,null,null,null,null,null,null,null,null,null,null,null,null,{"$f":"IF(ISNUMBER(SEARCH($F$6,AP1147)),MAX($AO$11:AO1146)+1,0)","v":1136},0,{"$f":"ROWS($AQ$12:AQ1147)","v":1136},{"$f":"IFERROR(VLOOKUP(ROWS($AR$12:AR1147),$AO$12:$AP$3014,2,0),\"\")","v":0}]
[null,null,null,null,null,null,null,null,null,null,null,null,null,null,null,null,null,null,null,null,null,null,null,null,null,null,null,null,null,null,null,null,null,null,null,null,null,null,null,null,{"$f":"IF(ISNUMBER(SEARCH($F$6,AP1149)),MAX($AO$11:AO1148)+1,0)","v":1138},0,{"$f":"ROWS($AQ$12:AQ1149)","v":1138},{"$f":"IFERROR(VLOOKUP(ROWS($AR$12:AR1149),$AO$12:$AP$3014,2,0),\"\")","v":0}]
[null,null,null,null,null,null,null,null,null,null,null,null,null,null,null,null,null,null,null,null,null,null,null,null,null,null,null,null,null,null,null,null,null,null,null,null,null,null,null,null,{"$f":"IF(ISNUMBER(SEARCH($F$6,AP1153)),MAX($AO$11:AO1152)+1,0)","v":1142},0,{"$f":"ROWS($AQ$12:AQ1153)","v":1142},{"$f":"IFERROR(VLOOKUP(ROWS($AR$12:AR1153),$AO$12:$AP$3014,2,0),\"\")","v":0}]
[null,null,null,null,null,null,null,null,null,null,null,null,null,null,null,null,null,null,null,null,null,null,null,null,null,null,null,null,null,null,null,null,null,null,null,null,null,null,null,null,{"$f":"IF(ISNUMBER(SEARCH($F$6,AP1156)),MAX($AO$11:AO1155)+1,0)","v":1145},0,{"$f":"ROWS($AQ$12:AQ1156)","v":1145},{"$f":"IFERROR(VLOOKUP(ROWS($AR$12:AR1156),$AO$12:$AP$3014,2,0),\"\")","v":0}]
[null,null,null,null,null,null,null,null,null,null,null,null,null,null,null,null,null,null,null,null,null,null,null,null,null,null,null,null,null,null,null,null,null,null,null,null,null,null,null,null,{"$f":"IF(ISNUMBER(SEARCH($F$6,AP1158)),MAX($AO$11:AO1157)+1,0)","v":1147},0,{"$f":"ROWS($AQ$12:AQ1158)","v":1147},{"$f":"IFERROR(VLOOKUP(ROWS($AR$12:AR1158),$AO$12:$AP$3014,2,0),\"\")","v":0}]
[null,null,null,null,null,null,null,null,null,null,null,null,null,null,null,null,null,null,null,null,null,null,null,null,null,null,null,null,null,null,null,null,null,null,null,null,null,null,null,null,{"$f":"IF(ISNUMBER(SEARCH($F$6,AP1162)),MAX($AO$11:AO1161)+1,0)","v":1151},0,{"$f":"ROWS($AQ$12:AQ1162)","v":1151},{"$f":"IFERROR(VLOOKUP(ROWS($AR$12:AR1162),$AO$12:$AP$3014,2,0),\"\")","v":0}]
[null,null,null,null,null,null,null,null,null,null,null,null,null,null,null,null,null,null,null,null,null,null,null,null,null,null,null,null,null,null,null,null,null,null,null,null,null,null,null,null,{"$f":"IF(ISNUMBER(SEARCH($F$6,AP1165)),MAX($AO$11:AO1164)+1,0)","v":1154},0,{"$f":"ROWS($AQ$12:AQ1165)","v":1154},{"$f":"IFERROR(VLOOKUP(ROWS($AR$12:AR1165),$AO$12:$AP$3014,2,0),\"\")","v":0}]
[null,null,null,null,null,null,null,null,null,null,null,null,null,null,null,null,null,null,null,null,null,null,null,null,null,null,null,null,null,null,null,null,null,null,null,null,null,null,null,null,{"$f":"IF(ISNUMBER(SEARCH($F$6,AP1168)),MAX($AO$11:AO1167)+1,0)","v":1157},0,{"$f":"ROWS($AQ$12:AQ1168)","v":1157},{"$f":"IFERROR(VLOOKUP(ROWS($AR$12:AR1168),$AO$12:$AP$3014,2,0),\"\")","v":0}]
[null,null,null,null,null,null,null,null,null,null,null,null,null,null,null,null,null,null,null,null,null,null,null,null,null,null,null,null,null,null,null,null,null,null,null,null,null,null,null,null,{"$f":"IF(ISNUMBER(SEARCH($F$6,AP1169)),MAX($AO$11:AO1168)+1,0)","v":1158},0,{"$f":"ROWS($AQ$12:AQ1169)","v":1158},{"$f":"IFERROR(VLOOKUP(ROWS($AR$12:AR1169),$AO$12:$AP$3014,2,0),\"\")","v":0}]
[null,null,null,null,null,null,null,null,null,null,null,null,null,null,null,null,null,null,null,null,null,null,null,null,null,null,null,null,null,null,null,null,null,null,null,null,null,null,null,null,{"$f":"IF(ISNUMBER(SEARCH($F$6,AP1171)),MAX($AO$11:AO1170)+1,0)","v":1160},0,{"$f":"ROWS($AQ$12:AQ1171)","v":1160},{"$f":"IFERROR(VLOOKUP(ROWS($AR$12:AR1171),$AO$12:$AP$3014,2,0),\"\")","v":0}]
[null,null,null,null,null,null,null,null,null,null,null,null,null,null,null,null,null,null,null,null,null,null,null,null,null,null,null,null,null,null,null,null,null,null,null,null,null,null,null,null,{"$f":"IF(ISNUMBER(SEARCH($F$6,AP1175)),MAX($AO$11:AO1174)+1,0)","v":1164},0,{"$f":"ROWS($AQ$12:AQ1175)","v":1164},{"$f":"IFERROR(VLOOKUP(ROWS($AR$12:AR1175),$AO$12:$AP$3014,2,0),\"\")","v":0}]
[null,null,null,null,null,null,null,null,null,null,null,null,null,null,null,null,null,null,null,null,null,null,null,null,null,null,null,null,null,null,null,null,null,null,null,null,null,null,null,null,{"$f":"IF(ISNUMBER(SEARCH($F$6,AP1178)),MAX($AO$11:AO1177)+1,0)","v":1167},0,{"$f":"ROWS($AQ$12:AQ1178)","v":1167},{"$f":"IFERROR(VLOOKUP(ROWS($AR$12:AR1178),$AO$12:$AP$3014,2,0),\"\")","v":0}]
[null,null,null,null,null,null,null,null,null,null,null,null,null,null,null,null,null,null,null,null,null,null,null,null,null,null,null,null,null,null,null,null,null,null,null,null,null,null,null,null,{"$f":"IF(ISNUMBER(SEARCH($F$6,AP1180)),MAX($AO$11:AO1179)+1,0)","v":1169},0,{"$f":"ROWS($AQ$12:AQ1180)","v":1169},{"$f":"IFERROR(VLOOKUP(ROWS($AR$12:AR1180),$AO$12:$AP$3014,2,0),\"\")","v":0}]
[null,null,null,null,null,null,null,null,null,null,null,null,null,null,null,null,null,null,null,null,null,null,null,null,null,null,null,null,null,null,null,null,null,null,null,null,null,null,null,null,{"$f":"IF(ISNUMBER(SEARCH($F$6,AP1184)),MAX($AO$11:AO1183)+1,0)","v":1173},0,{"$f":"ROWS($AQ$12:AQ1184)","v":1173},{"$f":"IFERROR(VLOOKUP(ROWS($AR$12:AR1184),$AO$12:$AP$3014,2,0),\"\")","v":0}]
[null,null,null,null,null,null,null,null,null,null,null,null,null,null,null,null,null,null,null,null,null,null,null,null,null,null,null,null,null,null,null,null,null,null,null,null,null,null,null,null,{"$f":"IF(ISNUMBER(SEARCH($F$6,AP1187)),MAX($AO$11:AO1186)+1,0)","v":1176},0,{"$f":"ROWS($AQ$12:AQ1187)","v":1176},{"$f":"IFERROR(VLOOKUP(ROWS($AR$12:AR1187),$AO$12:$AP$3014,2,0),\"\")","v":0}]
[null,null,null,null,null,null,null,null,null,null,null,null,null,null,null,null,null,null,null,null,null,null,null,null,null,null,null,null,null,null,null,null,null,null,null,null,null,null,null,null,{"$f":"IF(ISNUMBER(SEARCH($F$6,AP1190)),MAX($AO$11:AO1189)+1,0)","v":1179},0,{"$f":"ROWS($AQ$12:AQ1190)","v":1179},{"$f":"IFERROR(VLOOKUP(ROWS($AR$12:AR1190),$AO$12:$AP$3014,2,0),\"\")","v":0}]
[null,null,null,null,null,null,null,null,null,null,null,null,null,null,null,null,null,null,null,null,null,null,null,null,null,null,null,null,null,null,null,null,null,null,null,null,null,null,null,null,{"$f":"IF(ISNUMBER(SEARCH($F$6,AP1191)),MAX($AO$11:AO1190)+1,0)","v":1180},0,{"$f":"ROWS($AQ$12:AQ1191)","v":1180},{"$f":"IFERROR(VLOOKUP(ROWS($AR$12:AR1191),$AO$12:$AP$3014,2,0),\"\")","v":0}]
[null,null,null,null,null,null,null,null,null,null,null,null,null,null,null,null,null,null,null,null,null,null,null,null,null,null,null,null,null,null,null,null,null,null,null,null,null,null,null,null,{"$f":"IF(ISNUMBER(SEARCH($F$6,AP1193)),MAX($AO$11:AO1192)+1,0)","v":1182},0,{"$f":"ROWS($AQ$12:AQ1193)","v":1182},{"$f":"IFERROR(VLOOKUP(ROWS($AR$12:AR1193),$AO$12:$AP$3014,2,0),\"\")","v":0}]
[null,null,null,null,null,null,null,null,null,null,null,null,null,null,null,null,null,null,null,null,null,null,null,null,null,null,null,null,null,null,null,null,null,null,null,null,null,null,null,null,{"$f":"IF(ISNUMBER(SEARCH($F$6,AP1197)),MAX($AO$11:AO1196)+1,0)","v":1186},0,{"$f":"ROWS($AQ$12:AQ1197)","v":1186},{"$f":"IFERROR(VLOOKUP(ROWS($AR$12:AR1197),$AO$12:$AP$3014,2,0),\"\")","v":0}]
[null,null,null,null,null,null,null,null,null,null,null,null,null,null,null,null,null,null,null,null,null,null,null,null,null,null,null,null,null,null,null,null,null,null,null,null,null,null,null,null,{"$f":"IF(ISNUMBER(SEARCH($F$6,AP1200)),MAX($AO$11:AO1199)+1,0)","v":1189},0,{"$f":"ROWS($AQ$12:AQ1200)","v":1189},{"$f":"IFERROR(VLOOKUP(ROWS($AR$12:AR1200),$AO$12:$AP$3014,2,0),\"\")","v":0}]
[null,null,null,null,null,null,null,null,null,null,null,null,null,null,null,null,null,null,null,null,null,null,null,null,null,null,null,null,null,null,null,null,null,null,null,null,null,null,null,null,{"$f":"IF(ISNUMBER(SEARCH($F$6,AP1202)),MAX($AO$11:AO1201)+1,0)","v":1191},0,{"$f":"ROWS($AQ$12:AQ1202)","v":1191},{"$f":"IFERROR(VLOOKUP(ROWS($AR$12:AR1202),$AO$12:$AP$3014,2,0),\"\")","v":0}]
[null,null,null,null,null,null,null,null,null,null,null,null,null,null,null,null,null,null,null,null,null,null,null,null,null,null,null,null,null,null,null,null,null,null,null,null,null,null,null,null,{"$f":"IF(ISNUMBER(SEARCH($F$6,AP1206)),MAX($AO$11:AO1205)+1,0)","v":1195},0,{"$f":"ROWS($AQ$12:AQ1206)","v":1195},{"$f":"IFERROR(VLOOKUP(ROWS($AR$12:AR1206),$AO$12:$AP$3014,2,0),\"\")","v":0}]
[null,null,null,null,null,null,null,null,null,null,null,null,null,null,null,null,null,null,null,null,null,null,null,null,null,null,null,null,null,null,null,null,null,null,null,null,null,null,null,null,{"$f":"IF(ISNUMBER(SEARCH($F$6,AP1209)),MAX($AO$11:AO1208)+1,0)","v":1198},0,{"$f":"ROWS($AQ$12:AQ1209)","v":1198},{"$f":"IFERROR(VLOOKUP(ROWS($AR$12:AR1209),$AO$12:$AP$3014,2,0),\"\")","v":0}]
[null,null,null,null,null,null,null,null,null,null,null,null,null,null,null,null,null,null,null,null,null,null,null,null,null,null,null,null,null,null,null,null,null,null,null,null,null,null,null,null,{"$f":"IF(ISNUMBER(SEARCH($F$6,AP1210)),MAX($AO$11:AO1209)+1,0)","v":1199},0,{"$f":"ROWS($AQ$12:AQ1210)","v":1199},{"$f":"IFERROR(VLOOKUP(ROWS($AR$12:AR1210),$AO$12:$AP$3014,2,0),\"\")","v":0}]
[null,null,null,null,null,null,null,null,null,null,null,null,null,null,null,null,null,null,null,null,null,null,null,null,null,null,null,null,null,null,null,null,null,null,null,null,null,null,null,null,{"$f":"IF(ISNUMBER(SEARCH($F$6,AP1213)),MAX($AO$11:AO1212)+1,0)","v":1202},0,{"$f":"ROWS($AQ$12:AQ1213)","v":1202},{"$f":"IFERROR(VLOOKUP(ROWS($AR$12:AR1213),$AO$12:$AP$3014,2,0),\"\")","v":0}]
[null,null,null,null,null,null,null,null,null,null,null,null,null,null,null,null,null,null,null,null,null,null,null,null,null,null,null,null,null,null,null,null,null,null,null,null,null,null,null,null,{"$f":"IF(ISNUMBER(SEARCH($F$6,AP1215)),MAX($AO$11:AO1214)+1,0)","v":1204},0,{"$f":"ROWS($AQ$12:AQ1215)","v":1204},{"$f":"IFERROR(VLOOKUP(ROWS($AR$12:AR1215),$AO$12:$AP$3014,2,0),\"\")","v":0}]
[null,null,null,null,null,null,null,null,null,null,null,null,null,null,null,null,null,null,null,null,null,null,null,null,null,null,null,null,null,null,null,null,null,null,null,null,null,null,null,null,{"$f":"IF(ISNUMBER(SEARCH($F$6,AP1219)),MAX($AO$11:AO1218)+1,0)","v":1208},0,{"$f":"ROWS($AQ$12:AQ1219)","v":1208},{"$f":"IFERROR(VLOOKUP(ROWS($AR$12:AR1219),$AO$12:$AP$3014,2,0),\"\")","v":0}]
[null,null,null,null,null,null,null,null,null,null,null,null,null,null,null,null,null,null,null,null,null,null,null,null,null,null,null,null,null,null,null,null,null,null,null,null,null,null,null,null,{"$f":"IF(ISNUMBER(SEARCH($F$6,AP1222)),MAX($AO$11:AO1221)+1,0)","v":1211},0,{"$f":"ROWS($AQ$12:AQ1222)","v":1211},{"$f":"IFERROR(VLOOKUP(ROWS($AR$12:AR1222),$AO$12:$AP$3014,2,0),\"\")","v":0}]
[null,null,null,null,null,null,null,null,null,null,null,null,null,null,null,null,null,null,null,null,null,null,null,null,null,null,null,null,null,null,null,null,null,null,null,null,null,null,null,null,{"$f":"IF(ISNUMBER(SEARCH($F$6,AP1224)),MAX($AO$11:AO1223)+1,0)","v":1213},0,{"$f":"ROWS($AQ$12:AQ1224)","v":1213},{"$f":"IFERROR(VLOOKUP(ROWS($AR$12:AR1224),$AO$12:$AP$3014,2,0),\"\")","v":0}]
[null,null,null,null,null,null,null,null,null,null,null,null,null,null,null,null,null,null,null,null,null,null,null,null,null,null,null,null,null,null,null,null,null,null,null,null,null,null,null,null,{"$f":"IF(ISNUMBER(SEARCH($F$6,AP1228)),MAX($AO$11:AO1227)+1,0)","v":1217},0,{"$f":"ROWS($AQ$12:AQ1228)","v":1217},{"$f":"IFERROR(VLOOKUP(ROWS($AR$12:AR1228),$AO$12:$AP$3014,2,0),\"\")","v":0}]
[null,null,null,null,null,null,null,null,null,null,null,null,null,null,null,null,null,null,null,null,null,null,null,null,null,null,null,null,null,null,null,null,null,null,null,null,null,null,null,null,{"$f":"IF(ISNUMBER(SEARCH($F$6,AP1231)),MAX($AO$11:AO1230)+1,0)","v":1220},0,{"$f":"ROWS($AQ$12:AQ1231)","v":1220},{"$f":"IFERROR(VLOOKUP(ROWS($AR$12:AR1231),$AO$12:$AP$3014,2,0),\"\")","v":0}]
[null,null,null,null,null,null,null,null,null,null,null,null,null,null,null,null,null,null,null,null,null,null,null,null,null,null,null,null,null,null,null,null,null,null,null,null,null,null,null,null,{"$f":"IF(ISNUMBER(SEARCH($F$6,AP1232)),MAX($AO$11:AO1231)+1,0)","v":1221},0,{"$f":"ROWS($AQ$12:AQ1232)","v":1221},{"$f":"IFERROR(VLOOKUP(ROWS($AR$12:AR1232),$AO$12:$AP$3014,2,0),\"\")","v":0}]
[null,null,null,null,null,null,null,null,null,null,null,null,null,null,null,null,null,null,null,null,null,null,null,null,null,null,null,null,null,null,null,null,null,null,null,null,null,null,null,null,{"$f":"IF(ISNUMBER(SEARCH($F$6,AP1235)),MAX($AO$11:AO1234)+1,0)","v":1224},0,{"$f":"ROWS($AQ$12:AQ1235)","v":1224},{"$f":"IFERROR(VLOOKUP(ROWS($AR$12:AR1235),$AO$12:$AP$3014,2,0),\"\")","v":0}]
[null,null,null,null,null,null,null,null,null,null,null,null,null,null,null,null,null,null,null,null,null,null,null,null,null,null,null,null,null,null,null,null,null,null,null,null,null,null,null,null,{"$f":"IF(ISNUMBER(SEARCH($F$6,AP1239)),MAX($AO$11:AO1238)+1,0)","v":1228},0,{"$f":"ROWS($AQ$12:AQ1239)","v":1228},{"$f":"IFERROR(VLOOKUP(ROWS($AR$12:AR1239),$AO$12:$AP$3014,2,0),\"\")","v":0}]
[null,null,null,null,null,null,null,null,null,null,null,null,null,null,null,null,null,null,null,null,null,null,null,null,null,null,null,null,null,null,null,null,null,null,null,null,null,null,null,null,{"$f":"IF(ISNUMBER(SEARCH($F$6,AP1241)),MAX($AO$11:AO1240)+1,0)","v":1230},0,{"$f":"ROWS($AQ$12:AQ1241)","v":1230},{"$f":"IFERROR(VLOOKUP(ROWS($AR$12:AR1241),$AO$12:$AP$3014,2,0),\"\")","v":0}]
[null,null,null,null,null,null,null,null,null,null,null,null,null,null,null,null,null,null,null,null,null,null,null,null,null,null,null,null,null,null,null,null,null,null,null,null,null,null,null,null,{"$f":"IF(ISNUMBER(SEARCH($F$6,AP1244)),MAX($AO$11:AO1243)+1,0)","v":1233},0,{"$f":"ROWS($AQ$12:AQ1244)","v":1233},{"$f":"IFERROR(VLOOKUP(ROWS($AR$12:AR1244),$AO$12:$AP$3014,2,0),\"\")","v":0}]
[null,null,null,null,null,null,null,null,null,null,null,null,null,null,null,null,null,null,null,null,null,null,null,null,null,null,null,null,null,null,null,null,null,null,null,null,null,null,null,null,{"$f":"IF(ISNUMBER(SEARCH($F$6,AP1247)),MAX($AO$11:AO1246)+1,0)","v":1236},0,{"$f":"ROWS($AQ$12:AQ1247)","v":1236},{"$f":"IFERROR(VLOOKUP(ROWS($AR$12:AR1247),$AO$12:$AP$3014,2,0),\"\")","v":0}]
[null,null,null,null,null,null,null,null,null,null,null,null,null,null,null,null,null,null,null,null,null,null,null,null,null,null,null,null,null,null,null,null,null,null,null,null,null,null,null,null,{"$f":"IF(ISNUMBER(SEARCH($F$6,AP1250)),MAX($AO$11:AO1249)+1,0)","v":1239},0,{"$f":"ROWS($AQ$12:AQ1250)","v":1239},{"$f":"IFERROR(VLOOKUP(ROWS($AR$12:AR1250),$AO$12:$AP$3014,2,0),\"\")","v":0}]
[null,null,null,null,null,null,null,null,null,null,null,null,null,null,null,null,null,null,null,null,null,null,null,null,null,null,null,null,null,null,null,null,null,null,null,null,null,null,null,null,{"$f":"IF(ISNUMBER(SEARCH($F$6,AP1253)),MAX($AO$11:AO1252)+1,0)","v":1242},0,{"$f":"ROWS($AQ$12:AQ1253)","v":1242},{"$f":"IFERROR(VLOOKUP(ROWS($AR$12:AR1253),$AO$12:$AP$3014,2,0),\"\")","v":0}]
[null,null,null,null,null,null,null,null,null,null,null,null,null,null,null,null,null,null,null,null,null,null,null,null,null,null,null,null,null,null,null,null,null,null,null,null,null,null,null,null,{"$f":"IF(ISNUMBER(SEARCH($F$6,AP1254)),MAX($AO$11:AO1253)+1,0)","v":1243},0,{"$f":"ROWS($AQ$12:AQ1254)","v":1243},{"$f":"IFERROR(VLOOKUP(ROWS($AR$12:AR1254),$AO$12:$AP$3014,2,0),\"\")","v":0}]
[null,null,null,null,null,null,null,null,null,null,null,null,null,null,null,null,null,null,null,null,null,null,null,null,null,null,null,null,null,null,null,null,null,null,null,null,null,null,null,null,{"$f":"IF(ISNUMBER(SEARCH($F$6,AP1257)),MAX($AO$11:AO1256)+1,0)","v":1246},0,{"$f":"ROWS($AQ$12:AQ1257)","v":1246},{"$f":"IFERROR(VLOOKUP(ROWS($AR$12:AR1257),$AO$12:$AP$3014,2,0),\"\")","v":0}]
[null,null,null,null,null,null,null,null,null,null,null,null,null,null,null,null,null,null,null,null,null,null,null,null,null,null,null,null,null,null,null,null,null,null,null,null,null,null,null,null,{"$f":"IF(ISNUMBER(SEARCH($F$6,AP1261)),MAX($AO$11:AO1260)+1,0)","v":1250},0,{"$f":"ROWS($AQ$12:AQ1261)","v":1250},{"$f":"IFERROR(VLOOKUP(ROWS($AR$12:AR1261),$AO$12:$AP$3014,2,0),\"\")","v":0}]
[null,null,null,null,null,null,null,null,null,null,null,null,null,null,null,null,null,null,null,null,null,null,null,null,null,null,null,null,null,null,null,null,null,null,null,null,null,null,null,null,{"$f":"IF(ISNUMBER(SEARCH($F$6,AP1263)),MAX($AO$11:AO1262)+1,0)","v":1252},0,{"$f":"ROWS($AQ$12:AQ1263)","v":1252},{"$f":"IFERROR(VLOOKUP(ROWS($AR$12:AR1263),$AO$12:$AP$3014,2,0),\"\")","v":0}]
[null,null,null,null,null,null,null,null,null,null,null,null,null,null,null,null,null,null,null,null,null,null,null,null,null,null,null,null,null,null,null,null,null,null,null,null,null,null,null,null,{"$f":"IF(ISNUMBER(SEARCH($F$6,AP1266)),MAX($AO$11:AO1265)+1,0)","v":1255},0,{"$f":"ROWS($AQ$12:AQ1266)","v":1255},{"$f":"IFERROR(VLOOKUP(ROWS($AR$12:AR1266),$AO$12:$AP$3014,2,0),\"\")","v":0}]
[null,null,null,null,null,null,null,null,null,null,null,null,null,null,null,null,null,null,null,null,null,null,null,null,null,null,null,null,null,null,null,null,null,null,null,null,null,null,null,null,{"$f":"IF(ISNUMBER(SEARCH($F$6,AP1270)),MAX($AO$11:AO1269)+1,0)","v":1259},0,{"$f":"ROWS($AQ$12:AQ1270)","v":1259},{"$f":"IFERROR(VLOOKUP(ROWS($AR$12:AR1270),$AO$12:$AP$3014,2,0),\"\")","v":0}]
[null,null,null,null,null,null,null,null,null,null,null,null,null,null,null,null,null,null,null,null,null,null,null,null,null,null,null,null,null,null,null,null,null,null,null,null,null,null,null,null,{"$f":"IF(ISNUMBER(SEARCH($F$6,AP1272)),MAX($AO$11:AO1271)+1,0)","v":1261},0,{"$f":"ROWS($AQ$12:AQ1272)","v":1261},{"$f":"IFERROR(VLOOKUP(ROWS($AR$12:AR1272),$AO$12:$AP$3014,2,0),\"\")","v":0}]
[null,null,null,null,null,null,null,null,null,null,null,null,null,null,null,null,null,null,null,null,null,null,null,null,null,null,null,null,null,null,null,null,null,null,null,null,null,null,null,null,{"$f":"IF(ISNUMBER(SEARCH($F$6,AP1275)),MAX($AO$11:AO1274)+1,0)","v":1264},0,{"$f":"ROWS($AQ$12:AQ1275)","v":1264},{"$f":"IFERROR(VLOOKUP(ROWS($AR$12:AR1275),$AO$12:$AP$3014,2,0),\"\")","v":0}]
[null,null,null,null,null,null,null,null,null,null,null,null,null,null,null,null,null,null,null,null,null,null,null,null,null,null,null,null,null,null,null,null,null,null,null,null,null,null,null,null,{"$f":"IF(ISNUMBER(SEARCH($F$6,AP1276)),MAX($AO$11:AO1275)+1,0)","v":1265},0,{"$f":"ROWS($AQ$12:AQ1276)","v":1265},{"$f":"IFERROR(VLOOKUP(ROWS($AR$12:AR1276),$AO$12:$AP$3014,2,0),\"\")","v":0}]
[null,null,null,null,null,null,null,null,null,null,null,null,null,null,null,null,null,null,null,null,null,null,null,null,null,null,null,null,null,null,null,null,null,null,null,null,null,null,null,null,{"$f":"IF(ISNUMBER(SEARCH($F$6,AP1279)),MAX($AO$11:AO1278)+1,0)","v":1268},0,{"$f":"ROWS($AQ$12:AQ1279)","v":1268},{"$f":"IFERROR(VLOOKUP(ROWS($AR$12:AR1279),$AO$12:$AP$3014,2,0),\"\")","v":0}]
[null,null,null,null,null,null,null,null,null,null,null,null,null,null,null,null,null,null,null,null,null,null,null,null,null,null,null,null,null,null,null,null,null,null,null,null,null,null,null,null,{"$f":"IF(ISNUMBER(SEARCH($F$6,AP1283)),MAX($AO$11:AO1282)+1,0)","v":1272},0,{"$f":"ROWS($AQ$12:AQ1283)","v":1272},{"$f":"IFERROR(VLOOKUP(ROWS($AR$12:AR1283),$AO$12:$AP$3014,2,0),\"\")","v":0}]
[null,null,null,null,null,null,null,null,null,null,null,null,null,null,null,null,null,null,null,null,null,null,null,null,null,null,null,null,null,null,null,null,null,null,null,null,null,null,null,null,{"$f":"IF(ISNUMBER(SEARCH($F$6,AP1285)),MAX($AO$11:AO1284)+1,0)","v":1274},0,{"$f":"ROWS($AQ$12:AQ1285)","v":1274},{"$f":"IFERROR(VLOOKUP(ROWS($AR$12:AR1285),$AO$12:$AP$3014,2,0),\"\")","v":0}]
[null,null,null,null,null,null,null,null,null,null,null,null,null,null,null,null,null,null,null,null,null,null,null,null,null,null,null,null,null,null,null,null,null,null,null,null,null,null,null,null,{"$f":"IF(ISNUMBER(SEARCH($F$6,AP1288)),MAX($AO$11:AO1287)+1,0)","v":1277},0,{"$f":"ROWS($AQ$12:AQ1288)","v":1277},{"$f":"IFERROR(VLOOKUP(ROWS($AR$12:AR1288),$AO$12:$AP$3014,2,0),\"\")","v":0}]
[null,null,null,null,null,null,null,null,null,null,null,null,null,null,null,null,null,null,null,null,null,null,null,null,null,null,null,null,null,null,null,null,null,null,null,null,null,null,null,null,{"$f":"IF(ISNUMBER(SEARCH($F$6,AP1292)),MAX($AO$11:AO1291)+1,0)","v":1281},0,{"$f":"ROWS($AQ$12:AQ1292)","v":1281},{"$f":"IFERROR(VLOOKUP(ROWS($AR$12:AR1292),$AO$12:$AP$3014,2,0),\"\")","v":0}]
[null,null,null,null,null,null,null,null,null,null,null,null,null,null,null,null,null,null,null,null,null,null,null,null,null,null,null,null,null,null,null,null,null,null,null,null,null,null,null,null,{"$f":"IF(ISNUMBER(SEARCH($F$6,AP1294)),MAX($AO$11:AO1293)+1,0)","v":1283},0,{"$f":"ROWS($AQ$12:AQ1294)","v":1283},{"$f":"IFERROR(VLOOKUP(ROWS($AR$12:AR1294),$AO$12:$AP$3014,2,0),\"\")","v":0}]
[null,null,null,null,null,null,null,null,null,null,null,null,null,null,null,null,null,null,null,null,null,null,null,null,null,null,null,null,null,null,null,null,null,null,null,null,null,null,null,null,{"$f":"IF(ISNUMBER(SEARCH($F$6,AP1297)),MAX($AO$11:AO1296)+1,0)","v":1286},0,{"$f":"ROWS($AQ$12:AQ1297)","v":1286},{"$f":"IFERROR(VLOOKUP(ROWS($AR$12:AR1297),$AO$12:$AP$3014,2,0),\"\")","v":0}]
[null,null,null,null,null,null,null,null,null,null,null,null,null,null,null,null,null,null,null,null,null,null,null,null,null,null,null,null,null,null,null,null,null,null,null,null,null,null,null,null,{"$f":"IF(ISNUMBER(SEARCH($F$6,AP1298)),MAX($AO$11:AO1297)+1,0)","v":1287},0,{"$f":"ROWS($AQ$12:AQ1298)","v":1287},{"$f":"IFERROR(VLOOKUP(ROWS($AR$12:AR1298),$AO$12:$AP$3014,2,0),\"\")","v":0}]
[null,null,null,null,null,null,null,null,null,null,null,null,null,null,null,null,null,null,null,null,null,null,null,null,null,null,null,null,null,null,null,null,null,null,null,null,null,null,null,null,{"$f":"IF(ISNUMBER(SEARCH($F$6,AP1301)),MAX($AO$11:AO1300)+1,0)","v":1290},0,{"$f":"ROWS($AQ$12:AQ1301)","v":1290},{"$f":"IFERROR(VLOOKUP(ROWS($AR$12:AR1301),$AO$12:$AP$3014,2,0),\"\")","v":0}]
[null,null,null,null,null,null,null,null,null,null,null,null,null,null,null,null,null,null,null,null,null,null,null,null,null,null,null,null,null,null,null,null,null,null,null,null,null,null,null,null,{"$f":"IF(ISNUMBER(SEARCH($F$6,AP1305)),MAX($AO$11:AO1304)+1,0)","v":1294},0,{"$f":"ROWS($AQ$12:AQ1305)","v":1294},{"$f":"IFERROR(VLOOKUP(ROWS($AR$12:AR1305),$AO$12:$AP$3014,2,0),\"\")","v":0}]
[null,null,null,null,null,null,null,null,null,null,null,null,null,null,null,null,null,null,null,null,null,null,null,null,null,null,null,null,null,null,null,null,null,null,null,null,null,null,null,null,{"$f":"IF(ISNUMBER(SEARCH($F$6,AP1307)),MAX($AO$11:AO1306)+1,0)","v":1296},0,{"$f":"ROWS($AQ$12:AQ1307)","v":1296},{"$f":"IFERROR(VLOOKUP(ROWS($AR$12:AR1307),$AO$12:$AP$3014,2,0),\"\")","v":0}]
[null,null,null,null,null,null,null,null,null,null,null,null,null,null,null,null,null,null,null,null,null,null,null,null,null,null,null,null,null,null,null,null,null,null,null,null,null,null,null,null,{"$f":"IF(ISNUMBER(SEARCH($F$6,AP1310)),MAX($AO$11:AO1309)+1,0)","v":1299},0,{"$f":"ROWS($AQ$12:AQ1310)","v":1299},{"$f":"IFERROR(VLOOKUP(ROWS($AR$12:AR1310),$AO$12:$AP$3014,2,0),\"\")","v":0}]
[null,null,null,null,null,null,null,null,null,null,null,null,null,null,null,null,null,null,null,null,null,null,null,null,null,null,null,null,null,null,null,null,null,null,null,null,null,null,null,null,{"$f":"IF(ISNUMBER(SEARCH($F$6,AP1314)),MAX($AO$11:AO1313)+1,0)","v":1303},0,{"$f":"ROWS($AQ$12:AQ1314)","v":1303},{"$f":"IFERROR(VLOOKUP(ROWS($AR$12:AR1314),$AO$12:$AP$3014,2,0),\"\")","v":0}]
[null,null,null,null,null,null,null,null,null,null,null,null,null,null,null,null,null,null,null,null,null,null,null,null,null,null,null,null,null,null,null,null,null,null,null,null,null,null,null,null,{"$f":"IF(ISNUMBER(SEARCH($F$6,AP1316)),MAX($AO$11:AO1315)+1,0)","v":1305},0,{"$f":"ROWS($AQ$12:AQ1316)","v":1305},{"$f":"IFERROR(VLOOKUP(ROWS($AR$12:AR1316),$AO$12:$AP$3014,2,0),\"\")","v":0}]
[null,null,null,null,null,null,null,null,null,null,null,null,null,null,null,null,null,null,null,null,null,null,null,null,null,null,null,null,null,null,null,null,null,null,null,null,null,null,null,null,{"$f":"IF(ISNUMBER(SEARCH($F$6,AP1319)),MAX($AO$11:AO1318)+1,0)","v":1308},0,{"$f":"ROWS($AQ$12:AQ1319)","v":1308},{"$f":"IFERROR(VLOOKUP(ROWS($AR$12:AR1319),$AO$12:$AP$3014,2,0),\"\")","v":0}]
[null,null,null,null,null,null,null,null,null,null,null,null,null,null,null,null,null,null,null,null,null,null,null,null,null,null,null,null,null,null,null,null,null,null,null,null,null,null,null,null,{"$f":"IF(ISNUMBER(SEARCH($F$6,AP1320)),MAX($AO$11:AO1319)+1,0)","v":1309},0,{"$f":"ROWS($AQ$12:AQ1320)","v":1309},{"$f":"IFERROR(VLOOKUP(ROWS($AR$12:AR1320),$AO$12:$AP$3014,2,0),\"\")","v":0}]
[null,null,null,null,null,null,null,null,null,null,null,null,null,null,null,null,null,null,null,null,null,null,null,null,null,null,null,null,null,null,null,null,null,null,null,null,null,null,null,null,{"$f":"IF(ISNUMBER(SEARCH($F$6,AP1323)),MAX($AO$11:AO1322)+1,0)","v":1312},0,{"$f":"ROWS($AQ$12:AQ1323)","v":1312},{"$f":"IFERROR(VLOOKUP(ROWS($AR$12:AR1323),$AO$12:$AP$3014,2,0),\"\")","v":0}]
[null,null,null,null,null,null,null,null,null,null,null,null,null,null,null,null,null,null,null,null,null,null,null,null,null,null,null,null,null,null,null,null,null,null,null,null,null,null,null,null,{"$f":"IF(ISNUMBER(SEARCH($F$6,AP1327)),MAX($AO$11:AO1326)+1,0)","v":1316},0,{"$f":"ROWS($AQ$12:AQ1327)","v":1316},{"$f":"IFERROR(VLOOKUP(ROWS($AR$12:AR1327),$AO$12:$AP$3014,2,0),\"\")","v":0}]
[null,null,null,null,null,null,null,null,null,null,null,null,null,null,null,null,null,null,null,null,null,null,null,null,null,null,null,null,null,null,null,null,null,null,null,null,null,null,null,null,{"$f":"IF(ISNUMBER(SEARCH($F$6,AP1329)),MAX($AO$11:AO1328)+1,0)","v":1318},0,{"$f":"ROWS($AQ$12:AQ1329)","v":1318},{"$f":"IFERROR(VLOOKUP(ROWS($AR$12:AR1329),$AO$12:$AP$3014,2,0),\"\")","v":0}]
[null,null,null,null,null,null,null,null,null,null,null,null,null,null,null,null,null,null,null,null,null,null,null,null,null,null,null,null,null,null,null,null,null,null,null,null,null,null,null,null,{"$f":"IF(ISNUMBER(SEARCH($F$6,AP1332)),MAX($AO$11:AO1331)+1,0)","v":1321},0,{"$f":"ROWS($AQ$12:AQ1332)","v":1321},{"$f":"IFERROR(VLOOKUP(ROWS($AR$12:AR1332),$AO$12:$AP$3014,2,0),\"\")","v":0}]
[null,null,null,null,null,null,null,null,null,null,null,null,null,null,null,null,null,null,null,null,null,null,null,null,null,null,null,null,null,null,null,null,null,null,null,null,null,null,null,null,{"$f":"IF(ISNUMBER(SEARCH($F$6,AP1336)),MAX($AO$11:AO1335)+1,0)","v":1325},0,{"$f":"ROWS($AQ$12:AQ1336)","v":1325},{"$f":"IFERROR(VLOOKUP(ROWS($AR$12:AR1336),$AO$12:$AP$3014,2,0),\"\")","v":0}]
[null,null,null,null,null,null,null,null,null,null,null,null,null,null,null,null,null,null,null,null,null,null,null,null,null,null,null,null,null,null,null,null,null,null,null,null,null,null,null,null,{"$f":"IF(ISNUMBER(SEARCH($F$6,AP1338)),MAX($AO$11:AO1337)+1,0)","v":1327},0,{"$f":"ROWS($AQ$12:AQ1338)","v":1327},{"$f":"IFERROR(VLOOKUP(ROWS($AR$12:AR1338),$AO$12:$AP$3014,2,0),\"\")","v":0}]
[null,null,null,null,null,null,null,null,null,null,null,null,null,null,null,null,null,null,null,null,null,null,null,null,null,null,null,null,null,null,null,null,null,null,null,null,null,null,null,null,{"$f":"IF(ISNUMBER(SEARCH($F$6,AP1341)),MAX($AO$11:AO1340)+1,0)","v":1330},0,{"$f":"ROWS($AQ$12:AQ1341)","v":1330},{"$f":"IFERROR(VLOOKUP(ROWS($AR$12:AR1341),$AO$12:$AP$3014,2,0),\"\")","v":0}]
[null,null,null,null,null,null,null,null,null,null,null,null,null,null,null,null,null,null,null,null,null,null,null,null,null,null,null,null,null,null,null,null,null,null,null,null,null,null,null,null,{"$f":"IF(ISNUMBER(SEARCH($F$6,AP1342)),MAX($AO$11:AO1341)+1,0)","v":1331},0,{"$f":"ROWS($AQ$12:AQ1342)","v":1331},{"$f":"IFERROR(VLOOKUP(ROWS($AR$12:AR1342),$AO$12:$AP$3014,2,0),\"\")","v":0}]
[null,null,null,null,null,null,null,null,null,null,null,null,null,null,null,null,null,null,null,null,null,null,null,null,null,null,null,null,null,null,null,null,null,null,null,null,null,null,null,null,{"$f":"IF(ISNUMBER(SEARCH($F$6,AP1345)),MAX($AO$11:AO1344)+1,0)","v":1334},0,{"$f":"ROWS($AQ$12:AQ1345)","v":1334},{"$f":"IFERROR(VLOOKUP(ROWS($AR$12:AR1345),$AO$12:$AP$3014,2,0),\"\")","v":0}]
[null,null,null,null,null,null,null,null,null,null,null,null,null,null,null,null,null,null,null,null,null,null,null,null,null,null,null,null,null,null,null,null,null,null,null,null,null,null,null,null,{"$f":"IF(ISNUMBER(SEARCH($F$6,AP1349)),MAX($AO$11:AO1348)+1,0)","v":1338},0,{"$f":"ROWS($AQ$12:AQ1349)","v":1338},{"$f":"IFERROR(VLOOKUP(ROWS($AR$12:AR1349),$AO$12:$AP$3014,2,0),\"\")","v":0}]
[null,null,null,null,null,null,null,null,null,null,null,null,null,null,null,null,null,null,null,null,null,null,null,null,null,null,null,null,null,null,null,null,null,null,null,null,null,null,null,null,{"$f":"IF(ISNUMBER(SEARCH($F$6,AP1351)),MAX($AO$11:AO1350)+1,0)","v":1340},0,{"$f":"ROWS($AQ$12:AQ1351)","v":1340},{"$f":"IFERROR(VLOOKUP(ROWS($AR$12:AR1351),$AO$12:$AP$3014,2,0),\"\")","v":0}]
[null,null,null,null,null,null,null,null,null,null,null,null,null,null,null,null,null,null,null,null,null,null,null,null,null,null,null,null,null,null,null,null,null,null,null,null,null,null,null,null,{"$f":"IF(ISNUMBER(SEARCH($F$6,AP1354)),MAX($AO$11:AO1353)+1,0)","v":1343},0,{"$f":"ROWS($AQ$12:AQ1354)","v":1343},{"$f":"IFERROR(VLOOKUP(ROWS($AR$12:AR1354),$AO$12:$AP$3014,2,0),\"\")","v":0}]
[null,null,null,null,null,null,null,null,null,null,null,null,null,null,null,null,null,null,null,null,null,null,null,null,null,null,null,null,null,null,null,null,null,null,null,null,null,null,null,null,{"$f":"IF(ISNUMBER(SEARCH($F$6,AP1358)),MAX($AO$11:AO1357)+1,0)","v":1347},0,{"$f":"ROWS($AQ$12:AQ1358)","v":1347},{"$f":"IFERROR(VLOOKUP(ROWS($AR$12:AR1358),$AO$12:$AP$3014,2,0),\"\")","v":0}]
[null,null,null,null,null,null,null,null,null,null,null,null,null,null,null,null,null,null,null,null,null,null,null,null,null,null,null,null,null,null,null,null,null,null,null,null,null,null,null,null,{"$f":"IF(ISNUMBER(SEARCH($F$6,AP1361)),MAX($AO$11:AO1360)+1,0)","v":1350},0,{"$f":"ROWS($AQ$12:AQ1361)","v":1350},{"$f":"IFERROR(VLOOKUP(ROWS($AR$12:AR1361),$AO$12:$AP$3014,2,0),\"\")","v":0}]
[null,null,null,null,null,null,null,null,null,null,null,null,null,null,null,null,null,null,null,null,null,null,null,null,null,null,null,null,null,null,null,null,null,null,null,null,null,null,null,null,{"$f":"IF(ISNUMBER(SEARCH($F$6,AP1362)),MAX($AO$11:AO1361)+1,0)","v":1351},0,{"$f":"ROWS($AQ$12:AQ1362)","v":1351},{"$f":"IFERROR(VLOOKUP(ROWS($AR$12:AR1362),$AO$12:$AP$3014,2,0),\"\")","v":0}]
[null,null,null,null,null,null,null,null,null,null,null,null,null,null,null,null,null,null,null,null,null,null,null,null,null,null,null,null,null,null,null,null,null,null,null,null,null,null,null,null,{"$f":"IF(ISNUMBER(SEARCH($F$6,AP1364)),MAX($AO$11:AO1363)+1,0)","v":1353},0,{"$f":"ROWS($AQ$12:AQ1364)","v":1353},{"$f":"IFERROR(VLOOKUP(ROWS($AR$12:AR1364),$AO$12:$AP$3014,2,0),\"\")","v":0}]
[null,null,null,null,null,null,null,null,null,null,null,null,null,null,null,null,null,null,null,null,null,null,null,null,null,null,null,null,null,null,null,null,null,null,null,null,null,null,null,null,{"$f":"IF(ISNUMBER(SEARCH($F$6,AP1367)),MAX($AO$11:AO1366)+1,0)","v":1356},0,{"$f":"ROWS($AQ$12:AQ1367)","v":1356},{"$f":"IFERROR(VLOOKUP(ROWS($AR$12:AR1367),$AO$12:$AP$3014,2,0),\"\")","v":0}]
[null,null,null,null,null,null,null,null,null,null,null,null,null,null,null,null,null,null,null,null,null,null,null,null,null,null,null,null,null,null,null,null,null,null,null,null,null,null,null,null,{"$f":"IF(ISNUMBER(SEARCH($F$6,AP1371)),MAX($AO$11:AO1370)+1,0)","v":1360},0,{"$f":"ROWS($AQ$12:AQ1371)","v":1360},{"$f":"IFERROR(VLOOKUP(ROWS($AR$12:AR1371),$AO$12:$AP$3014,2,0),\"\")","v":0}]
[null,null,null,null,null,null,null,null,null,null,null,null,null,null,null,null,null,null,null,null,null,null,null,null,null,null,null,null,null,null,null,null,null,null,null,null,null,null,null,null,{"$f":"IF(ISNUMBER(SEARCH($F$6,AP1373)),MAX($AO$11:AO1372)+1,0)","v":1362},0,{"$f":"ROWS($AQ$12:AQ1373)","v":1362},{"$f":"IFERROR(VLOOKUP(ROWS($AR$12:AR1373),$AO$12:$AP$3014,2,0),\"\")","v":0}]
[null,null,null,null,null,null,null,null,null,null,null,null,null,null,null,null,null,null,null,null,null,null,null,null,null,null,null,null,null,null,null,null,null,null,null,null,null,null,null,null,{"$f":"IF(ISNUMBER(SEARCH($F$6,AP1376)),MAX($AO$11:AO1375)+1,0)","v":1365},0,{"$f":"ROWS($AQ$12:AQ1376)","v":1365},{"$f":"IFERROR(VLOOKUP(ROWS($AR$12:AR1376),$AO$12:$AP$3014,2,0),\"\")","v":0}]
[null,null,null,null,null,null,null,null,null,null,null,null,null,null,null,null,null,null,null,null,null,null,null,null,null,null,null,null,null,null,null,null,null,null,null,null,null,null,null,null,{"$f":"IF(ISNUMBER(SEARCH($F$6,AP1380)),MAX($AO$11:AO1379)+1,0)","v":1369},0,{"$f":"ROWS($AQ$12:AQ1380)","v":1369},{"$f":"IFERROR(VLOOKUP(ROWS($AR$12:AR1380),$AO$12:$AP$3014,2,0),\"\")","v":0}]
[null,null,null,null,null,null,null,null,null,null,null,null,null,null,null,null,null,null,null,null,null,null,null,null,null,null,null,null,null,null,null,null,null,null,null,null,null,null,null,null,{"$f":"IF(ISNUMBER(SEARCH($F$6,AP1383)),MAX($AO$11:AO1382)+1,0)","v":1372},0,{"$f":"ROWS($AQ$12:AQ1383)","v":1372},{"$f":"IFERROR(VLOOKUP(ROWS($AR$12:AR1383),$AO$12:$AP$3014,2,0),\"\")","v":0}]
[null,null,null,null,null,null,null,null,null,null,null,null,null,null,null,null,null,null,null,null,null,null,null,null,null,null,null,null,null,null,null,null,null,null,null,null,null,null,null,null,{"$f":"IF(ISNUMBER(SEARCH($F$6,AP1384)),MAX($AO$11:AO1383)+1,0)","v":1373},0,{"$f":"ROWS($AQ$12:AQ1384)","v":1373},{"$f":"IFERROR(VLOOKUP(ROWS($AR$12:AR1384),$AO$12:$AP$3014,2,0),\"\")","v":0}]
[null,null,null,null,null,null,null,null,null,null,null,null,null,null,null,null,null,null,null,null,null,null,null,null,null,null,null,null,null,null,null,null,null,null,null,null,null,null,null,null,{"$f":"IF(ISNUMBER(SEARCH($F$6,AP1386)),MAX($AO$11:AO1385)+1,0)","v":1375},0,{"$f":"ROWS($AQ$12:AQ1386)","v":1375},{"$f":"IFERROR(VLOOKUP(ROWS($AR$12:AR1386),$AO$12:$AP$3014,2,0),\"\")","v":0}]
[null,null,null,null,null,null,null,null,null,null,null,null,null,null,null,null,null,null,null,null,null,null,null,null,null,null,null,null,null,null,null,null,null,null,null,null,null,null,null,null,{"$f":"IF(ISNUMBER(SEARCH($F$6,AP1389)),MAX($AO$11:AO1388)+1,0)","v":1378},0,{"$f":"ROWS($AQ$12:AQ1389)","v":1378},{"$f":"IFERROR(VLOOKUP(ROWS($AR$12:AR1389),$AO$12:$AP$3014,2,0),\"\")","v":0}]
[null,null,null,null,null,null,null,null,null,null,null,null,null,null,null,null,null,null,null,null,null,null,null,null,null,null,null,null,null,null,null,null,null,null,null,null,null,null,null,null,{"$f":"IF(ISNUMBER(SEARCH($F$6,AP1393)),MAX($AO$11:AO1392)+1,0)","v":1382},0,{"$f":"ROWS($AQ$12:AQ1393)","v":1382},{"$f":"IFERROR(VLOOKUP(ROWS($AR$12:AR1393),$AO$12:$AP$3014,2,0),\"\")","v":0}]
[null,null,null,null,null,null,null,null,null,null,null,null,null,null,null,null,null,null,null,null,null,null,null,null,null,null,null,null,null,null,null,null,null,null,null,null,null,null,null,null,{"$f":"IF(ISNUMBER(SEARCH($F$6,AP1395)),MAX($AO$11:AO1394)+1,0)","v":1384},0,{"$f":"ROWS($AQ$12:AQ1395)","v":1384},{"$f":"IFERROR(VLOOKUP(ROWS($AR$12:AR1395),$AO$12:$AP$3014,2,0),\"\")","v":0}]
[null,null,null,null,null,null,null,null,null,null,null,null,null,null,null,null,null,null,null,null,null,null,null,null,null,null,null,null,null,null,null,null,null,null,null,null,null,null,null,null,{"$f":"IF(ISNUMBER(SEARCH($F$6,AP1399)),MAX($AO$11:AO1398)+1,0)","v":1388},0,{"$f":"ROWS($AQ$12:AQ1399)","v":1388},{"$f":"IFERROR(VLOOKUP(ROWS($AR$12:AR1399),$AO$12:$AP$3014,2,0),\"\")","v":0}]
[null,null,null,null,null,null,null,null,null,null,null,null,null,null,null,null,null,null,null,null,null,null,null,null,null,null,null,null,null,null,null,null,null,null,null,null,null,null,null,null,{"$f":"IF(ISNUMBER(SEARCH($F$6,AP1402)),MAX($AO$11:AO1401)+1,0)","v":1391},0,{"$f":"ROWS($AQ$12:AQ1402)","v":1391},{"$f":"IFERROR(VLOOKUP(ROWS($AR$12:AR1402),$AO$12:$AP$3014,2,0),\"\")","v":0}]
[null,null,null,null,null,null,null,null,null,null,null,null,null,null,null,null,null,null,null,null,null,null,null,null,null,null,null,null,null,null,null,null,null,null,null,null,null,null,null,null,{"$f":"IF(ISNUMBER(SEARCH($F$6,AP1405)),MAX($AO$11:AO1404)+1,0)","v":1394},0,{"$f":"ROWS($AQ$12:AQ1405)","v":1394},{"$f":"IFERROR(VLOOKUP(ROWS($AR$12:AR1405),$AO$12:$AP$3014,2,0),\"\")","v":0}]
[null,null,null,null,null,null,null,null,null,null,null,null,null,null,null,null,null,null,null,null,null,null,null,null,null,null,null,null,null,null,null,null,null,null,null,null,null,null,null,null,{"$f":"IF(ISNUMBER(SEARCH($F$6,AP1406)),MAX($AO$11:AO1405)+1,0)","v":1395},0,{"$f":"ROWS($AQ$12:AQ1406)","v":1395},{"$f":"IFERROR(VLOOKUP(ROWS($AR$12:AR1406),$AO$12:$AP$3014,2,0),\"\")","v":0}]
[null,null,null,null,null,null,null,null,null,null,null,null,null,null,null,null,null,null,null,null,null,null,null,null,null,null,null,null,null,null,null,null,null,null,null,null,null,null,null,null,{"$f":"IF(ISNUMBER(SEARCH($F$6,AP1408)),MAX($AO$11:AO1407)+1,0)","v":1397},0,{"$f":"ROWS($AQ$12:AQ1408)","v":1397},{"$f":"IFERROR(VLOOKUP(ROWS($AR$12:AR1408),$AO$12:$AP$3014,2,0),\"\")","v":0}]
[null,null,null,null,null,null,null,null,null,null,null,null,null,null,null,null,null,null,null,null,null,null,null,null,null,null,null,null,null,null,null,null,null,null,null,null,null,null,null,null,{"$f":"IF(ISNUMBER(SEARCH($F$6,AP1411)),MAX($AO$11:AO1410)+1,0)","v":1400},0,{"$f":"ROWS($AQ$12:AQ1411)","v":1400},{"$f":"IFERROR(VLOOKUP(ROWS($AR$12:AR1411),$AO$12:$AP$3014,2,0),\"\")","v":0}]
[null,null,null,null,null,null,null,null,null,null,null,null,null,null,null,null,null,null,null,null,null,null,null,null,null,null,null,null,null,null,null,null,null,null,null,null,null,null,null,null,{"$f":"IF(ISNUMBER(SEARCH($F$6,AP1415)),MAX($AO$11:AO1414)+1,0)","v":1404},0,{"$f":"ROWS($AQ$12:AQ1415)","v":1404},{"$f":"IFERROR(VLOOKUP(ROWS($AR$12:AR1415),$AO$12:$AP$3014,2,0),\"\")","v":0}]
[null,null,null,null,null,null,null,null,null,null,null,null,null,null,null,null,null,null,null,null,null,null,null,null,null,null,null,null,null,null,null,null,null,null,null,null,null,null,null,null,{"$f":"IF(ISNUMBER(SEARCH($F$6,AP1417)),MAX($AO$11:AO1416)+1,0)","v":1406},0,{"$f":"ROWS($AQ$12:AQ1417)","v":1406},{"$f":"IFERROR(VLOOKUP(ROWS($AR$12:AR1417),$AO$12:$AP$3014,2,0),\"\")","v":0}]
[null,null,null,null,null,null,null,null,null,null,null,null,null,null,null,null,null,null,null,null,null,null,null,null,null,null,null,null,null,null,null,null,null,null,null,null,null,null,null,null,{"$f":"IF(ISNUMBER(SEARCH($F$6,AP1421)),MAX($AO$11:AO1420)+1,0)","v":1410},0,{"$f":"ROWS($AQ$12:AQ1421)","v":1410},{"$f":"IFERROR(VLOOKUP(ROWS($AR$12:AR1421),$AO$12:$AP$3014,2,0),\"\")","v":0}]
[null,null,null,null,null,null,null,null,null,null,null,null,null,null,null,null,null,null,null,null,null,null,null,null,null,null,null,null,null,null,null,null,null,null,null,null,null,null,null,null,{"$f":"IF(ISNUMBER(SEARCH($F$6,AP1424)),MAX($AO$11:AO1423)+1,0)","v":1413},0,{"$f":"ROWS($AQ$12:AQ1424)","v":1413},{"$f":"IFERROR(VLOOKUP(ROWS($AR$12:AR1424),$AO$12:$AP$3014,2,0),\"\")","v":0}]
[null,null,null,null,null,null,null,null,null,null,null,null,null,null,null,null,null,null,null,null,null,null,null,null,null,null,null,null,null,null,null,null,null,null,null,null,null,null,null,null,{"$f":"IF(ISNUMBER(SEARCH($F$6,AP1427)),MAX($AO$11:AO1426)+1,0)","v":1416},0,{"$f":"ROWS($AQ$12:AQ1427)","v":1416},{"$f":"IFERROR(VLOOKUP(ROWS($AR$12:AR1427),$AO$12:$AP$3014,2,0),\"\")","v":0}]
[null,null,null,null,null,null,null,null,null,null,null,null,null,null,null,null,null,null,null,null,null,null,null,null,null,null,null,null,null,null,null,null,null,null,null,null,null,null,null,null,{"$f":"IF(ISNUMBER(SEARCH($F$6,AP1428)),MAX($AO$11:AO1427)+1,0)","v":1417},0,{"$f":"ROWS($AQ$12:AQ1428)","v":1417},{"$f":"IFERROR(VLOOKUP(ROWS($AR$12:AR1428),$AO$12:$AP$3014,2,0),\"\")","v":0}]
[null,null,null,null,null,null,null,null,null,null,null,null,null,null,null,null,null,null,null,null,null,null,null,null,null,null,null,null,null,null,null,null,null,null,null,null,null,null,null,null,{"$f":"IF(ISNUMBER(SEARCH($F$6,AP1430)),MAX($AO$11:AO1429)+1,0)","v":1419},0,{"$f":"ROWS($AQ$12:AQ1430)","v":1419},{"$f":"IFERROR(VLOOKUP(ROWS($AR$12:AR1430),$AO$12:$AP$3014,2,0),\"\")","v":0}]
[null,null,null,null,null,null,null,null,null,null,null,null,null,null,null,null,null,null,null,null,null,null,null,null,null,null,null,null,null,null,null,null,null,null,null,null,null,null,null,null,{"$f":"IF(ISNUMBER(SEARCH($F$6,AP1433)),MAX($AO$11:AO1432)+1,0)","v":1422},0,{"$f":"ROWS($AQ$12:AQ1433)","v":1422},{"$f":"IFERROR(VLOOKUP(ROWS($AR$12:AR1433),$AO$12:$AP$3014,2,0),\"\")","v":0}]
[null,null,null,null,null,null,null,null,null,null,null,null,null,null,null,null,null,null,null,null,null,null,null,null,null,null,null,null,null,null,null,null,null,null,null,null,null,null,null,null,{"$f":"IF(ISNUMBER(SEARCH($F$6,AP1437)),MAX($AO$11:AO1436)+1,0)","v":1426},0,{"$f":"ROWS($AQ$12:AQ1437)","v":1426},{"$f":"IFERROR(VLOOKUP(ROWS($AR$12:AR1437),$AO$12:$AP$3014,2,0),\"\")","v":0}]
[null,null,null,null,null,null,null,null,null,null,null,null,null,null,null,null,null,null,null,null,null,null,null,null,null,null,null,null,null,null,null,null,null,null,null,null,null,null,null,null,{"$f":"IF(ISNUMBER(SEARCH($F$6,AP1439)),MAX($AO$11:AO1438)+1,0)","v":1428},0,{"$f":"ROWS($AQ$12:AQ1439)","v":1428},{"$f":"IFERROR(VLOOKUP(ROWS($AR$12:AR1439),$AO$12:$AP$3014,2,0),\"\")","v":0}]
[null,null,null,null,null,null,null,null,null,null,null,null,null,null,null,null,null,null,null,null,null,null,null,null,null,null,null,null,null,null,null,null,null,null,null,null,null,null,null,null,{"$f":"IF(ISNUMBER(SEARCH($F$6,AP1443)),MAX($AO$11:AO1442)+1,0)","v":1432},0,{"$f":"ROWS($AQ$12:AQ1443)","v":1432},{"$f":"IFERROR(VLOOKUP(ROWS($AR$12:AR1443),$AO$12:$AP$3014,2,0),\"\")","v":0}]
[null,null,null,null,null,null,null,null,null,null,null,null,null,null,null,null,null,null,null,null,null,null,null,null,null,null,null,null,null,null,null,null,null,null,null,null,null,null,null,null,{"$f":"IF(ISNUMBER(SEARCH($F$6,AP1446)),MAX($AO$11:AO1445)+1,0)","v":1435},0,{"$f":"ROWS($AQ$12:AQ1446)","v":1435},{"$f":"IFERROR(VLOOKUP(ROWS($AR$12:AR1446),$AO$12:$AP$3014,2,0),\"\")","v":0}]
[null,null,null,null,null,null,null,null,null,null,null,null,null,null,null,null,null,null,null,null,null,null,null,null,null,null,null,null,null,null,null,null,null,null,null,null,null,null,null,null,{"$f":"IF(ISNUMBER(SEARCH($F$6,AP1449)),MAX($AO$11:AO1448)+1,0)","v":1438},0,{"$f":"ROWS($AQ$12:AQ1449)","v":1438},{"$f":"IFERROR(VLOOKUP(ROWS($AR$12:AR1449),$AO$12:$AP$3014,2,0),\"\")","v":0}]
[null,null,null,null,null,null,null,null,null,null,null,null,null,null,null,null,null,null,null,null,null,null,null,null,null,null,null,null,null,null,null,null,null,null,null,null,null,null,null,null,{"$f":"IF(ISNUMBER(SEARCH($F$6,AP1450)),MAX($AO$11:AO1449)+1,0)","v":1439},0,{"$f":"ROWS($AQ$12:AQ1450)","v":1439},{"$f":"IFERROR(VLOOKUP(ROWS($AR$12:AR1450),$AO$12:$AP$3014,2,0),\"\")","v":0}]
[null,null,null,null,null,null,null,null,null,null,null,null,null,null,null,null,null,null,null,null,null,null,null,null,null,null,null,null,null,null,null,null,null,null,null,null,null,null,null,null,{"$f":"IF(ISNUMBER(SEARCH($F$6,AP1452)),MAX($AO$11:AO1451)+1,0)","v":1441},0,{"$f":"ROWS($AQ$12:AQ1452)","v":1441},{"$f":"IFERROR(VLOOKUP(ROWS($AR$12:AR1452),$AO$12:$AP$3014,2,0),\"\")","v":0}]
[null,null,null,null,null,null,null,null,null,null,null,null,null,null,null,null,null,null,null,null,null,null,null,null,null,null,null,null,null,null,null,null,null,null,null,null,null,null,null,null,{"$f":"IF(ISNUMBER(SEARCH($F$6,AP1456)),MAX($AO$11:AO1455)+1,0)","v":1445},0,{"$f":"ROWS($AQ$12:AQ1456)","v":1445},{"$f":"IFERROR(VLOOKUP(ROWS($AR$12:AR1456),$AO$12:$AP$3014,2,0),\"\")","v":0}]
[null,null,null,null,null,null,null,null,null,null,null,null,null,null,null,null,null,null,null,null,null,null,null,null,null,null,null,null,null,null,null,null,null,null,null,null,null,null,null,null,{"$f":"IF(ISNUMBER(SEARCH($F$6,AP1459)),MAX($AO$11:AO1458)+1,0)","v":1448},0,{"$f":"ROWS($AQ$12:AQ1459)","v":1448},{"$f":"IFERROR(VLOOKUP(ROWS($AR$12:AR1459),$AO$12:$AP$3014,2,0),\"\")","v":0}]
[null,null,null,null,null,null,null,null,null,null,null,null,null,null,null,null,null,null,null,null,null,null,null,null,null,null,null,null,null,null,null,null,null,null,null,null,null,null,null,null,{"$f":"IF(ISNUMBER(SEARCH($F$6,AP1462)),MAX($AO$11:AO1461)+1,0)","v":1451},0,{"$f":"ROWS($AQ$12:AQ1462)","v":1451},{"$f":"IFERROR(VLOOKUP(ROWS($AR$12:AR1462),$AO$12:$AP$3014,2,0),\"\")","v":0}]
[null,null,null,null,null,null,null,null,null,null,null,null,null,null,null,null,null,null,null,null,null,null,null,null,null,null,null,null,null,null,null,null,null,null,null,null,null,null,null,null,{"$f":"IF(ISNUMBER(SEARCH($F$6,AP1465)),MAX($AO$11:AO1464)+1,0)","v":1454},0,{"$f":"ROWS($AQ$12:AQ1465)","v":1454},{"$f":"IFERROR(VLOOKUP(ROWS($AR$12:AR1465),$AO$12:$AP$3014,2,0),\"\")","v":0}]
[null,null,null,null,null,null,null,null,null,null,null,null,null,null,null,null,null,null,null,null,null,null,null,null,null,null,null,null,null,null,null,null,null,null,null,null,null,null,null,null,{"$f":"IF(ISNUMBER(SEARCH($F$6,AP1468)),MAX($AO$11:AO1467)+1,0)","v":1457},0,{"$f":"ROWS($AQ$12:AQ1468)","v":1457},{"$f":"IFERROR(VLOOKUP(ROWS($AR$12:AR1468),$AO$12:$AP$3014,2,0),\"\")","v":0}]
[null,null,null,null,null,null,null,null,null,null,null,null,null,null,null,null,null,null,null,null,null,null,null,null,null,null,null,null,null,null,null,null,null,null,null,null,null,null,null,null,{"$f":"IF(ISNUMBER(SEARCH($F$6,AP1471)),MAX($AO$11:AO1470)+1,0)","v":1460},0,{"$f":"ROWS($AQ$12:AQ1471)","v":1460},{"$f":"IFERROR(VLOOKUP(ROWS($AR$12:AR1471),$AO$12:$AP$3014,2,0),\"\")","v":0}]
[null,null,null,null,null,null,null,null,null,null,null,null,null,null,null,null,null,null,null,null,null,null,null,null,null,null,null,null,null,null,null,null,null,null,null,null,null,null,null,null,{"$f":"IF(ISNUMBER(SEARCH($F$6,AP1472)),MAX($AO$11:AO1471)+1,0)","v":1461},0,{"$f":"ROWS($AQ$12:AQ1472)","v":1461},{"$f":"IFERROR(VLOOKUP(ROWS($AR$12:AR1472),$AO$12:$AP$3014,2,0),\"\")","v":0}]
[null,null,null,null,null,null,null,null,null,null,null,null,null,null,null,null,null,null,null,null,null,null,null,null,null,null,null,null,null,null,null,null,null,null,null,null,null,null,null,null,{"$f":"IF(ISNUMBER(SEARCH($F$6,AP1476)),MAX($AO$11:AO1475)+1,0)","v":1465},0,{"$f":"ROWS($AQ$12:AQ1476)","v":1465},{"$f":"IFERROR(VLOOKUP(ROWS($AR$12:AR1476),$AO$12:$AP$3014,2,0),\"\")","v":0}]
[null,null,null,null,null,null,null,null,null,null,null,null,null,null,null,null,null,null,null,null,null,null,null,null,null,null,null,null,null,null,null,null,null,null,null,null,null,null,null,null,{"$f":"IF(ISNUMBER(SEARCH($F$6,AP1478)),MAX($AO$11:AO1477)+1,0)","v":1467},0,{"$f":"ROWS($AQ$12:AQ1478)","v":1467},{"$f":"IFERROR(VLOOKUP(ROWS($AR$12:AR1478),$AO$12:$AP$3014,2,0),\"\")","v":0}]
[null,null,null,null,null,null,null,null,null,null,null,null,null,null,null,null,null,null,null,null,null,null,null,null,null,null,null,null,null,null,null,null,null,null,null,null,null,null,null,null,{"$f":"IF(ISNUMBER(SEARCH($F$6,AP1481)),MAX($AO$11:AO1480)+1,0)","v":1470},0,{"$f":"ROWS($AQ$12:AQ1481)","v":1470},{"$f":"IFERROR(VLOOKUP(ROWS($AR$12:AR1481),$AO$12:$AP$3014,2,0),\"\")","v":0}]
[null,null,null,null,null,null,null,null,null,null,null,null,null,null,null,null,null,null,null,null,null,null,null,null,null,null,null,null,null,null,null,null,null,null,null,null,null,null,null,null,{"$f":"IF(ISNUMBER(SEARCH($F$6,AP1484)),MAX($AO$11:AO1483)+1,0)","v":1473},0,{"$f":"ROWS($AQ$12:AQ1484)","v":1473},{"$f":"IFERROR(VLOOKUP(ROWS($AR$12:AR1484),$AO$12:$AP$3014,2,0),\"\")","v":0}]
[null,null,null,null,null,null,null,null,null,null,null,null,null,null,null,null,null,null,null,null,null,null,null,null,null,null,null,null,null,null,null,null,null,null,null,null,null,null,null,null,{"$f":"IF(ISNUMBER(SEARCH($F$6,AP1487)),MAX($AO$11:AO1486)+1,0)","v":1476},0,{"$f":"ROWS($AQ$12:AQ1487)","v":1476},{"$f":"IFERROR(VLOOKUP(ROWS($AR$12:AR1487),$AO$12:$AP$3014,2,0),\"\")","v":0}]
[null,null,null,null,null,null,null,null,null,null,null,null,null,null,null,null,null,null,null,null,null,null,null,null,null,null,null,null,null,null,null,null,null,null,null,null,null,null,null,null,{"$f":"IF(ISNUMBER(SEARCH($F$6,AP1490)),MAX($AO$11:AO1489)+1,0)","v":1479},0,{"$f":"ROWS($AQ$12:AQ1490)","v":1479},{"$f":"IFERROR(VLOOKUP(ROWS($AR$12:AR1490),$AO$12:$AP$3014,2,0),\"\")","v":0}]
[null,null,null,null,null,null,null,null,null,null,null,null,null,null,null,null,null,null,null,null,null,null,null,null,null,null,null,null,null,null,null,null,null,null,null,null,null,null,null,null,{"$f":"IF(ISNUMBER(SEARCH($F$6,AP1493)),MAX($AO$11:AO1492)+1,0)","v":1482},0,{"$f":"ROWS($AQ$12:AQ1493)","v":1482},{"$f":"IFERROR(VLOOKUP(ROWS($AR$12:AR1493),$AO$12:$AP$3014,2,0),\"\")","v":0}]
[null,null,null,null,null,null,null,null,null,null,null,null,null,null,null,null,null,null,null,null,null,null,null,null,null,null,null,null,null,null,null,null,null,null,null,null,null,null,null,null,{"$f":"IF(ISNUMBER(SEARCH($F$6,AP1494)),MAX($AO$11:AO1493)+1,0)","v":1483},0,{"$f":"ROWS($AQ$12:AQ1494)","v":1483},{"$f":"IFERROR(VLOOKUP(ROWS($AR$12:AR1494),$AO$12:$AP$3014,2,0),\"\")","v":0}]
[null,null,null,null,null,null,null,null,null,null,null,null,null,null,null,null,null,null,null,null,null,null,null,null,null,null,null,null,null,null,null,null,null,null,null,null,null,null,null,null,{"$f":"IF(ISNUMBER(SEARCH($F$6,AP1498)),MAX($AO$11:AO1497)+1,0)","v":1487},0,{"$f":"ROWS($AQ$12:AQ1498)","v":1487},{"$f":"IFERROR(VLOOKUP(ROWS($AR$12:AR1498),$AO$12:$AP$3014,2,0),\"\")","v":0}]
[null,null,null,null,null,null,null,null,null,null,null,null,null,null,null,null,null,null,null,null,null,null,null,null,null,null,null,null,null,null,null,null,null,null,null,null,null,null,null,null,{"$f":"IF(ISNUMBER(SEARCH($F$6,AP1500)),MAX($AO$11:AO1499)+1,0)","v":1489},0,{"$f":"ROWS($AQ$12:AQ1500)","v":1489},{"$f":"IFERROR(VLOOKUP(ROWS($AR$12:AR1500),$AO$12:$AP$3014,2,0),\"\")","v":0}]
[null,null,null,null,null,null,null,null,null,null,null,null,null,null,null,null,null,null,null,null,null,null,null,null,null,null,null,null,null,null,null,null,null,null,null,null,null,null,null,null,{"$f":"IF(ISNUMBER(SEARCH($F$6,AP1503)),MAX($AO$11:AO1502)+1,0)","v":1492},0,{"$f":"ROWS($AQ$12:AQ1503)","v":1492},{"$f":"IFERROR(VLOOKUP(ROWS($AR$12:AR1503),$AO$12:$AP$3014,2,0),\"\")","v":0}]
[null,null,null,null,null,null,null,null,null,null,null,null,null,null,null,null,null,null,null,null,null,null,null,null,null,null,null,null,null,null,null,null,null,null,null,null,null,null,null,null,{"$f":"IF(ISNUMBER(SEARCH($F$6,AP1506)),MAX($AO$11:AO1505)+1,0)","v":1495},0,{"$f":"ROWS($AQ$12:AQ1506)","v":1495},{"$f":"IFERROR(VLOOKUP(ROWS($AR$12:AR1506),$AO$12:$AP$3014,2,0),\"\")","v":0}]
[null,null,null,null,null,null,null,null,null,null,null,null,null,null,null,null,null,null,null,null,null,null,null,null,null,null,null,null,null,null,null,null,null,null,null,null,null,null,null,null,{"$f":"IF(ISNUMBER(SEARCH($F$6,AP1509)),MAX($AO$11:AO1508)+1,0)","v":1498},0,{"$f":"ROWS($AQ$12:AQ1509)","v":1498},{"$f":"IFERROR(VLOOKUP(ROWS($AR$12:AR1509),$AO$12:$AP$3014,2,0),\"\")","v":0}]
[null,null,null,null,null,null,null,null,null,null,null,null,null,null,null,null,null,null,null,null,null,null,null,null,null,null,null,null,null,null,null,null,null,null,null,null,null,null,null,null,{"$f":"IF(ISNUMBER(SEARCH($F$6,AP1512)),MAX($AO$11:AO1511)+1,0)","v":1501},0,{"$f":"ROWS($AQ$12:AQ1512)","v":1501},{"$f":"IFERROR(VLOOKUP(ROWS($AR$12:AR1512),$AO$12:$AP$3014,2,0),\"\")","v":0}]
[null,null,null,null,null,null,null,null,null,null,null,null,null,null,null,null,null,null,null,null,null,null,null,null,null,null,null,null,null,null,null,null,null,null,null,null,null,null,null,null,{"$f":"IF(ISNUMBER(SEARCH($F$6,AP1513)),MAX($AO$11:AO1512)+1,0)","v":1502},0,{"$f":"ROWS($AQ$12:AQ1513)","v":1502},{"$f":"IFERROR(VLOOKUP(ROWS($AR$12:AR1513),$AO$12:$AP$3014,2,0),\"\")","v":0}]
[null,null,null,null,null,null,null,null,null,null,null,null,null,null,null,null,null,null,null,null,null,null,null,null,null,null,null,null,null,null,null,null,null,null,null,null,null,null,null,null,{"$f":"IF(ISNUMBER(SEARCH($F$6,AP1516)),MAX($AO$11:AO1515)+1,0)","v":1505},0,{"$f":"ROWS($AQ$12:AQ1516)","v":1505},{"$f":"IFERROR(VLOOKUP(ROWS($AR$12:AR1516),$AO$12:$AP$3014,2,0),\"\")","v":0}]
[null,null,null,null,null,null,null,null,null,null,null,null,null,null,null,null,null,null,null,null,null,null,null,null,null,null,null,null,null,null,null,null,null,null,null,null,null,null,null,null,{"$f":"IF(ISNUMBER(SEARCH($F$6,AP1520)),MAX($AO$11:AO1519)+1,0)","v":1509},0,{"$f":"ROWS($AQ$12:AQ1520)","v":1509},{"$f":"IFERROR(VLOOKUP(ROWS($AR$12:AR1520),$AO$12:$AP$3014,2,0),\"\")","v":0}]
[null,null,null,null,null,null,null,null,null,null,null,null,null,null,null,null,null,null,null,null,null,null,null,null,null,null,null,null,null,null,null,null,null,null,null,null,null,null,null,null,{"$f":"IF(ISNUMBER(SEARCH($F$6,AP1522)),MAX($AO$11:AO1521)+1,0)","v":1511},0,{"$f":"ROWS($AQ$12:AQ1522)","v":1511},{"$f":"IFERROR(VLOOKUP(ROWS($AR$12:AR1522),$AO$12:$AP$3014,2,0),\"\")","v":0}]
[null,null,null,null,null,null,null,null,null,null,null,null,null,null,null,null,null,null,null,null,null,null,null,null,null,null,null,null,null,null,null,null,null,null,null,null,null,null,null,null,{"$f":"IF(ISNUMBER(SEARCH($F$6,AP1525)),MAX($AO$11:AO1524)+1,0)","v":1514},0,{"$f":"ROWS($AQ$12:AQ1525)","v":1514},{"$f":"IFERROR(VLOOKUP(ROWS($AR$12:AR1525),$AO$12:$AP$3014,2,0),\"\")","v":0}]
[null,null,null,null,null,null,null,null,null,null,null,null,null,null,null,null,null,null,null,null,null,null,null,null,null,null,null,null,null,null,null,null,null,null,null,null,null,null,null,null,{"$f":"IF(ISNUMBER(SEARCH($F$6,AP1528)),MAX($AO$11:AO1527)+1,0)","v":1517},0,{"$f":"ROWS($AQ$12:AQ1528)","v":1517},{"$f":"IFERROR(VLOOKUP(ROWS($AR$12:AR1528),$AO$12:$AP$3014,2,0),\"\")","v":0}]
[null,null,null,null,null,null,null,null,null,null,null,null,null,null,null,null,null,null,null,null,null,null,null,null,null,null,null,null,null,null,null,null,null,null,null,null,null,null,null,null,{"$f":"IF(ISNUMBER(SEARCH($F$6,AP1531)),MAX($AO$11:AO1530)+1,0)","v":1520},0,{"$f":"ROWS($AQ$12:AQ1531)","v":1520},{"$f":"IFERROR(VLOOKUP(ROWS($AR$12:AR1531),$AO$12:$AP$3014,2,0),\"\")","v":0}]
[null,null,null,null,null,null,null,null,null,null,null,null,null,null,null,null,null,null,null,null,null,null,null,null,null,null,null,null,null,null,null,null,null,null,null,null,null,null,null,null,{"$f":"IF(ISNUMBER(SEARCH($F$6,AP1534)),MAX($AO$11:AO1533)+1,0)","v":1523},0,{"$f":"ROWS($AQ$12:AQ1534)","v":1523},{"$f":"IFERROR(VLOOKUP(ROWS($AR$12:AR1534),$AO$12:$AP$3014,2,0),\"\")","v":0}]
[null,null,null,null,null,null,null,null,null,null,null,null,null,null,null,null,null,null,null,null,null,null,null,null,null,null,null,null,null,null,null,null,null,null,null,null,null,null,null,null,{"$f":"IF(ISNUMBER(SEARCH($F$6,AP1535)),MAX($AO$11:AO1534)+1,0)","v":1524},0,{"$f":"ROWS($AQ$12:AQ1535)","v":1524},{"$f":"IFERROR(VLOOKUP(ROWS($AR$12:AR1535),$AO$12:$AP$3014,2,0),\"\")","v":0}]
[null,null,null,null,null,null,null,null,null,null,null,null,null,null,null,null,null,null,null,null,null,null,null,null,null,null,null,null,null,null,null,null,null,null,null,null,null,null,null,null,{"$f":"IF(ISNUMBER(SEARCH($F$6,AP1538)),MAX($AO$11:AO1537)+1,0)","v":1527},0,{"$f":"ROWS($AQ$12:AQ1538)","v":1527},{"$f":"IFERROR(VLOOKUP(ROWS($AR$12:AR1538),$AO$12:$AP$3014,2,0),\"\")","v":0}]
[null,null,null,null,null,null,null,null,null,null,null,null,null,null,null,null,null,null,null,null,null,null,null,null,null,null,null,null,null,null,null,null,null,null,null,null,null,null,null,null,{"$f":"IF(ISNUMBER(SEARCH($F$6,AP1542)),MAX($AO$11:AO1541)+1,0)","v":1531},0,{"$f":"ROWS($AQ$12:AQ1542)","v":1531},{"$f":"IFERROR(VLOOKUP(ROWS($AR$12:AR1542),$AO$12:$AP$3014,2,0),\"\")","v":0}]
[null,null,null,null,null,null,null,null,null,null,null,null,null,null,null,null,null,null,null,null,null,null,null,null,null,null,null,null,null,null,null,null,null,null,null,null,null,null,null,null,{"$f":"IF(ISNUMBER(SEARCH($F$6,AP1544)),MAX($AO$11:AO1543)+1,0)","v":1533},0,{"$f":"ROWS($AQ$12:AQ1544)","v":1533},{"$f":"IFERROR(VLOOKUP(ROWS($AR$12:AR1544),$AO$12:$AP$3014,2,0),\"\")","v":0}]
[null,null,null,null,null,null,null,null,null,null,null,null,null,null,null,null,null,null,null,null,null,null,null,null,null,null,null,null,null,null,null,null,null,null,null,null,null,null,null,null,{"$f":"IF(ISNUMBER(SEARCH($F$6,AP1547)),MAX($AO$11:AO1546)+1,0)","v":1536},0,{"$f":"ROWS($AQ$12:AQ1547)","v":1536},{"$f":"IFERROR(VLOOKUP(ROWS($AR$12:AR1547),$AO$12:$AP$3014,2,0),\"\")","v":0}]
[null,null,null,null,null,null,null,null,null,null,null,null,null,null,null,null,null,null,null,null,null,null,null,null,null,null,null,null,null,null,null,null,null,null,null,null,null,null,null,null,{"$f":"IF(ISNUMBER(SEARCH($F$6,AP1551)),MAX($AO$11:AO1550)+1,0)","v":1540},0,{"$f":"ROWS($AQ$12:AQ1551)","v":1540},{"$f":"IFERROR(VLOOKUP(ROWS($AR$12:AR1551),$AO$12:$AP$3014,2,0),\"\")","v":0}]
[null,null,null,null,null,null,null,null,null,null,null,null,null,null,null,null,null,null,null,null,null,null,null,null,null,null,null,null,null,null,null,null,null,null,null,null,null,null,null,null,{"$f":"IF(ISNUMBER(SEARCH($F$6,AP1553)),MAX($AO$11:AO1552)+1,0)","v":1542},0,{"$f":"ROWS($AQ$12:AQ1553)","v":1542},{"$f":"IFERROR(VLOOKUP(ROWS($AR$12:AR1553),$AO$12:$AP$3014,2,0),\"\")","v":0}]
[null,null,null,null,null,null,null,null,null,null,null,null,null,null,null,null,null,null,null,null,null,null,null,null,null,null,null,null,null,null,null,null,null,null,null,null,null,null,null,null,{"$f":"IF(ISNUMBER(SEARCH($F$6,AP1556)),MAX($AO$11:AO1555)+1,0)","v":1545},0,{"$f":"ROWS($AQ$12:AQ1556)","v":1545},{"$f":"IFERROR(VLOOKUP(ROWS($AR$12:AR1556),$AO$12:$AP$3014,2,0),\"\")","v":0}]
[null,null,null,null,null,null,null,null,null,null,null,null,null,null,null,null,null,null,null,null,null,null,null,null,null,null,null,null,null,null,null,null,null,null,null,null,null,null,null,null,{"$f":"IF(ISNUMBER(SEARCH($F$6,AP1557)),MAX($AO$11:AO1556)+1,0)","v":1546},0,{"$f":"ROWS($AQ$12:AQ1557)","v":1546},{"$f":"IFERROR(VLOOKUP(ROWS($AR$12:AR1557),$AO$12:$AP$3014,2,0),\"\")","v":0}]
[null,null,null,null,null,null,null,null,null,null,null,null,null,null,null,null,null,null,null,null,null,null,null,null,null,null,null,null,null,null,null,null,null,null,null,null,null,null,null,null,{"$f":"IF(ISNUMBER(SEARCH($F$6,AP1560)),MAX($AO$11:AO1559)+1,0)","v":1549},0,{"$f":"ROWS($AQ$12:AQ1560)","v":1549},{"$f":"IFERROR(VLOOKUP(ROWS($AR$12:AR1560),$AO$12:$AP$3014,2,0),\"\")","v":0}]
[null,null,null,null,null,null,null,null,null,null,null,null,null,null,null,null,null,null,null,null,null,null,null,null,null,null,null,null,null,null,null,null,null,null,null,null,null,null,null,null,{"$f":"IF(ISNUMBER(SEARCH($F$6,AP1564)),MAX($AO$11:AO1563)+1,0)","v":1553},0,{"$f":"ROWS($AQ$12:AQ1564)","v":1553},{"$f":"IFERROR(VLOOKUP(ROWS($AR$12:AR1564),$AO$12:$AP$3014,2,0),\"\")","v":0}]
[null,null,null,null,null,null,null,null,null,null,null,null,null,null,null,null,null,null,null,null,null,null,null,null,null,null,null,null,null,null,null,null,null,null,null,null,null,null,null,null,{"$f":"IF(ISNUMBER(SEARCH($F$6,AP1566)),MAX($AO$11:AO1565)+1,0)","v":1555},0,{"$f":"ROWS($AQ$12:AQ1566)","v":1555},{"$f":"IFERROR(VLOOKUP(ROWS($AR$12:AR1566),$AO$12:$AP$3014,2,0),\"\")","v":0}]
[null,null,null,null,null,null,null,null,null,null,null,null,null,null,null,null,null,null,null,null,null,null,null,null,null,null,null,null,null,null,null,null,null,null,null,null,null,null,null,null,{"$f":"IF(ISNUMBER(SEARCH($F$6,AP1569)),MAX($AO$11:AO1568)+1,0)","v":1558},0,{"$f":"ROWS($AQ$12:AQ1569)","v":1558},{"$f":"IFERROR(VLOOKUP(ROWS($AR$12:AR1569),$AO$12:$AP$3014,2,0),\"\")","v":0}]
[null,null,null,null,null,null,null,null,null,null,null,null,null,null,null,null,null,null,null,null,null,null,null,null,null,null,null,null,null,null,null,null,null,null,null,null,null,null,null,null,{"$f":"IF(ISNUMBER(SEARCH($F$6,AP1573)),MAX($AO$11:AO1572)+1,0)","v":1562},0,{"$f":"ROWS($AQ$12:AQ1573)","v":1562},{"$f":"IFERROR(VLOOKUP(ROWS($AR$12:AR1573),$AO$12:$AP$3014,2,0),\"\")","v":0}]
[null,null,null,null,null,null,null,null,null,null,null,null,null,null,null,null,null,null,null,null,null,null,null,null,null,null,null,null,null,null,null,null,null,null,null,null,null,null,null,null,{"$f":"IF(ISNUMBER(SEARCH($F$6,AP1576)),MAX($AO$11:AO1575)+1,0)","v":1565},0,{"$f":"ROWS($AQ$12:AQ1576)","v":1565},{"$f":"IFERROR(VLOOKUP(ROWS($AR$12:AR1576),$AO$12:$AP$3014,2,0),\"\")","v":0}]
[null,null,null,null,null,null,null,null,null,null,null,null,null,null,null,null,null,null,null,null,null,null,null,null,null,null,null,null,null,null,null,null,null,null,null,null,null,null,null,null,{"$f":"IF(ISNUMBER(SEARCH($F$6,AP1577)),MAX($AO$11:AO1576)+1,0)","v":1566},0,{"$f":"ROWS($AQ$12:AQ1577)","v":1566},{"$f":"IFERROR(VLOOKUP(ROWS($AR$12:AR1577),$AO$12:$AP$3014,2,0),\"\")","v":0}]
[null,null,null,null,null,null,null,null,null,null,null,null,null,null,null,null,null,null,null,null,null,null,null,null,null,null,null,null,null,null,null,null,null,null,null,null,null,null,null,null,{"$f":"IF(ISNUMBER(SEARCH($F$6,AP1579)),MAX($AO$11:AO1578)+1,0)","v":1568},0,{"$f":"ROWS($AQ$12:AQ1579)","v":1568},{"$f":"IFERROR(VLOOKUP(ROWS($AR$12:AR1579),$AO$12:$AP$3014,2,0),\"\")","v":0}]
[null,null,null,null,null,null,null,null,null,null,null,null,null,null,null,null,null,null,null,null,null,null,null,null,null,null,null,null,null,null,null,null,null,null,null,null,null,null,null,null,{"$f":"IF(ISNUMBER(SEARCH($F$6,AP1582)),MAX($AO$11:AO1581)+1,0)","v":1571},0,{"$f":"ROWS($AQ$12:AQ1582)","v":1571},{"$f":"IFERROR(VLOOKUP(ROWS($AR$12:AR1582),$AO$12:$AP$3014,2,0),\"\")","v":0}]
[null,null,null,null,null,null,null,null,null,null,null,null,null,null,null,null,null,null,null,null,null,null,null,null,null,null,null,null,null,null,null,null,null,null,null,null,null,null,null,null,{"$f":"IF(ISNUMBER(SEARCH($F$6,AP1585)),MAX($AO$11:AO1584)+1,0)","v":1574},0,{"$f":"ROWS($AQ$12:AQ1585)","v":1574},{"$f":"IFERROR(VLOOKUP(ROWS($AR$12:AR1585),$AO$12:$AP$3014,2,0),\"\")","v":0}]
[null,null,null,null,null,null,null,null,null,null,null,null,null,null,null,null,null,null,null,null,null,null,null,null,null,null,null,null,null,null,null,null,null,null,null,null,null,null,null,null,{"$f":"IF(ISNUMBER(SEARCH($F$6,AP1588)),MAX($AO$11:AO1587)+1,0)","v":1577},0,{"$f":"ROWS($AQ$12:AQ1588)","v":1577},{"$f":"IFERROR(VLOOKUP(ROWS($AR$12:AR1588),$AO$12:$AP$3014,2,0),\"\")","v":0}]
[null,null,null,null,null,null,null,null,null,null,null,null,null,null,null,null,null,null,null,null,null,null,null,null,null,null,null,null,null,null,null,null,null,null,null,null,null,null,null,null,{"$f":"IF(ISNUMBER(SEARCH($F$6,AP1591)),MAX($AO$11:AO1590)+1,0)","v":1580},0,{"$f":"ROWS($AQ$12:AQ1591)","v":1580},{"$f":"IFERROR(VLOOKUP(ROWS($AR$12:AR1591),$AO$12:$AP$3014,2,0),\"\")","v":0}]
[null,null,null,null,null,null,null,null,null,null,null,null,null,null,null,null,null,null,null,null,null,null,null,null,null,null,null,null,null,null,null,null,null,null,null,null,null,null,null,null,{"$f":"IF(ISNUMBER(SEARCH($F$6,AP1595)),MAX($AO$11:AO1594)+1,0)","v":1584},0,{"$f":"ROWS($AQ$12:AQ1595)","v":1584},{"$f":"IFERROR(VLOOKUP(ROWS($AR$12:AR1595),$AO$12:$AP$3014,2,0),\"\")","v":0}]
[null,null,null,null,null,null,null,null,null,null,null,null,null,null,null,null,null,null,null,null,null,null,null,null,null,null,null,null,null,null,null,null,null,null,null,null,null,null,null,null,{"$f":"IF(ISNUMBER(SEARCH($F$6,AP1598)),MAX($AO$11:AO1597)+1,0)","v":1587},0,{"$f":"ROWS($AQ$12:AQ1598)","v":1587},{"$f":"IFERROR(VLOOKUP(ROWS($AR$12:AR1598),$AO$12:$AP$3014,2,0),\"\")","v":0}]
[null,null,null,null,null,null,null,null,null,null,null,null,null,null,null,null,null,null,null,null,null,null,null,null,null,null,null,null,null,null,null,null,null,null,null,null,null,null,null,null,{"$f":"IF(ISNUMBER(SEARCH($F$6,AP1599)),MAX($AO$11:AO1598)+1,0)","v":1588},0,{"$f":"ROWS($AQ$12:AQ1599)","v":1588},{"$f":"IFERROR(VLOOKUP(ROWS($AR$12:AR1599),$AO$12:$AP$3014,2,0),\"\")","v":0}]
[null,null,null,null,null,null,null,null,null,null,null,null,null,null,null,null,null,null,null,null,null,null,null,null,null,null,null,null,null,null,null,null,null,null,null,null,null,null,null,null,{"$f":"IF(ISNUMBER(SEARCH($F$6,AP1601)),MAX($AO$11:AO1600)+1,0)","v":1590},0,{"$f":"ROWS($AQ$12:AQ1601)","v":1590},{"$f":"IFERROR(VLOOKUP(ROWS($AR$12:AR1601),$AO$12:$AP$3014,2,0),\"\")","v":0}]
[null,null,null,null,null,null,null,null,null,null,null,null,null,null,null,null,null,null,null,null,null,null,null,null,null,null,null,null,null,null,null,null,null,null,null,null,null,null,null,null,{"$f":"IF(ISNUMBER(SEARCH($F$6,AP1604)),MAX($AO$11:AO1603)+1,0)","v":1593},0,{"$f":"ROWS($AQ$12:AQ1604)","v":1593},{"$f":"IFERROR(VLOOKUP(ROWS($AR$12:AR1604),$AO$12:$AP$3014,2,0),\"\")","v":0}]
[null,null,null,null,null,null,null,null,null,null,null,null,null,null,null,null,null,null,null,null,null,null,null,null,null,null,null,null,null,null,null,null,null,null,null,null,null,null,null,null,{"$f":"IF(ISNUMBER(SEARCH($F$6,AP1608)),MAX($AO$11:AO1607)+1,0)","v":1597},0,{"$f":"ROWS($AQ$12:AQ1608)","v":1597},{"$f":"IFERROR(VLOOKUP(ROWS($AR$12:AR1608),$AO$12:$AP$3014,2,0),\"\")","v":0}]
[null,null,null,null,null,null,null,null,null,null,null,null,null,null,null,null,null,null,null,null,null,null,null,null,null,null,null,null,null,null,null,null,null,null,null,null,null,null,null,null,{"$f":"IF(ISNUMBER(SEARCH($F$6,AP1610)),MAX($AO$11:AO1609)+1,0)","v":1599},0,{"$f":"ROWS($AQ$12:AQ1610)","v":1599},{"$f":"IFERROR(VLOOKUP(ROWS($AR$12:AR1610),$AO$12:$AP$3014,2,0),\"\")","v":0}]
[null,null,null,null,null,null,null,null,null,null,null,null,null,null,null,null,null,null,null,null,null,null,null,null,null,null,null,null,null,null,null,null,null,null,null,null,null,null,null,null,{"$f":"IF(ISNUMBER(SEARCH($F$6,AP1613)),MAX($AO$11:AO1612)+1,0)","v":1602},0,{"$f":"ROWS($AQ$12:AQ1613)","v":1602},{"$f":"IFERROR(VLOOKUP(ROWS($AR$12:AR1613),$AO$12:$AP$3014,2,0),\"\")","v":0}]
[null,null,null,null,null,null,null,null,null,null,null,null,null,null,null,null,null,null,null,null,null,null,null,null,null,null,null,null,null,null,null,null,null,null,null,null,null,null,null,null,{"$f":"IF(ISNUMBER(SEARCH($F$6,AP1617)),MAX($AO$11:AO1616)+1,0)","v":1606},0,{"$f":"ROWS($AQ$12:AQ1617)","v":1606},{"$f":"IFERROR(VLOOKUP(ROWS($AR$12:AR1617),$AO$12:$AP$3014,2,0),\"\")","v":0}]
[null,null,null,null,null,null,null,null,null,null,null,null,null,null,null,null,null,null,null,null,null,null,null,null,null,null,null,null,null,null,null,null,null,null,null,null,null,null,null,null,{"$f":"IF(ISNUMBER(SEARCH($F$6,AP1620)),MAX($AO$11:AO1619)+1,0)","v":1609},0,{"$f":"ROWS($AQ$12:AQ1620)","v":1609},{"$f":"IFERROR(VLOOKUP(ROWS($AR$12:AR1620),$AO$12:$AP$3014,2,0),\"\")","v":0}]
[null,null,null,null,null,null,null,null,null,null,null,null,null,null,null,null,null,null,null,null,null,null,null,null,null,null,null,null,null,null,null,null,null,null,null,null,null,null,null,null,{"$f":"IF(ISNUMBER(SEARCH($F$6,AP1621)),MAX($AO$11:AO1620)+1,0)","v":1610},0,{"$f":"ROWS($AQ$12:AQ1621)","v":1610},{"$f":"IFERROR(VLOOKUP(ROWS($AR$12:AR1621),$AO$12:$AP$3014,2,0),\"\")","v":0}]
[null,null,null,null,null,null,null,null,null,null,null,null,null,null,null,null,null,null,null,null,null,null,null,null,null,null,null,null,null,null,null,null,null,null,null,null,null,null,null,null,{"$f":"IF(ISNUMBER(SEARCH($F$6,AP1623)),MAX($AO$11:AO1622)+1,0)","v":1612},0,{"$f":"ROWS($AQ$12:AQ1623)","v":1612},{"$f":"IFERROR(VLOOKUP(ROWS($AR$12:AR1623),$AO$12:$AP$3014,2,0),\"\")","v":0}]
[null,null,null,null,null,null,null,null,null,null,null,null,null,null,null,null,null,null,null,null,null,null,null,null,null,null,null,null,null,null,null,null,null,null,null,null,null,null,null,null,{"$f":"IF(ISNUMBER(SEARCH($F$6,AP1626)),MAX($AO$11:AO1625)+1,0)","v":1615},0,{"$f":"ROWS($AQ$12:AQ1626)","v":1615},{"$f":"IFERROR(VLOOKUP(ROWS($AR$12:AR1626),$AO$12:$AP$3014,2,0),\"\")","v":0}]
[null,null,null,null,null,null,null,null,null,null,null,null,null,null,null,null,null,null,null,null,null,null,null,null,null,null,null,null,null,null,null,null,null,null,null,null,null,null,null,null,{"$f":"IF(ISNUMBER(SEARCH($F$6,AP1630)),MAX($AO$11:AO1629)+1,0)","v":1619},0,{"$f":"ROWS($AQ$12:AQ1630)","v":1619},{"$f":"IFERROR(VLOOKUP(ROWS($AR$12:AR1630),$AO$12:$AP$3014,2,0),\"\")","v":0}]
[null,null,null,null,null,null,null,null,null,null,null,null,null,null,null,null,null,null,null,null,null,null,null,null,null,null,null,null,null,null,null,null,null,null,null,null,null,null,null,null,{"$f":"IF(ISNUMBER(SEARCH($F$6,AP1632)),MAX($AO$11:AO1631)+1,0)","v":1621},0,{"$f":"ROWS($AQ$12:AQ1632)","v":1621},{"$f":"IFERROR(VLOOKUP(ROWS($AR$12:AR1632),$AO$12:$AP$3014,2,0),\"\")","v":0}]
[null,null,null,null,null,null,null,null,null,null,null,null,null,null,null,null,null,null,null,null,null,null,null,null,null,null,null,null,null,null,null,null,null,null,null,null,null,null,null,null,{"$f":"IF(ISNUMBER(SEARCH($F$6,AP1635)),MAX($AO$11:AO1634)+1,0)","v":1624},0,{"$f":"ROWS($AQ$12:AQ1635)","v":1624},{"$f":"IFERROR(VLOOKUP(ROWS($AR$12:AR1635),$AO$12:$AP$3014,2,0),\"\")","v":0}]
[null,null,null,null,null,null,null,null,null,null,null,null,null,null,null,null,null,null,null,null,null,null,null,null,null,null,null,null,null,null,null,null,null,null,null,null,null,null,null,null,{"$f":"IF(ISNUMBER(SEARCH($F$6,AP1639)),MAX($AO$11:AO1638)+1,0)","v":1628},0,{"$f":"ROWS($AQ$12:AQ1639)","v":1628},{"$f":"IFERROR(VLOOKUP(ROWS($AR$12:AR1639),$AO$12:$AP$3014,2,0),\"\")","v":0}]
[null,null,null,null,null,null,null,null,null,null,null,null,null,null,null,null,null,null,null,null,null,null,null,null,null,null,null,null,null,null,null,null,null,null,null,null,null,null,null,null,{"$f":"IF(ISNUMBER(SEARCH($F$6,AP1642)),MAX($AO$11:AO1641)+1,0)","v":1631},0,{"$f":"ROWS($AQ$12:AQ1642)","v":1631},{"$f":"IFERROR(VLOOKUP(ROWS($AR$12:AR1642),$AO$12:$AP$3014,2,0),\"\")","v":0}]
[null,null,null,null,null,null,null,null,null,null,null,null,null,null,null,null,null,null,null,null,null,null,null,null,null,null,null,null,null,null,null,null,null,null,null,null,null,null,null,null,{"$f":"IF(ISNUMBER(SEARCH($F$6,AP1643)),MAX($AO$11:AO1642)+1,0)","v":1632},0,{"$f":"ROWS($AQ$12:AQ1643)","v":1632},{"$f":"IFERROR(VLOOKUP(ROWS($AR$12:AR1643),$AO$12:$AP$3014,2,0),\"\")","v":0}]
[null,null,null,null,null,null,null,null,null,null,null,null,null,null,null,null,null,null,null,null,null,null,null,null,null,null,null,null,null,null,null,null,null,null,null,null,null,null,null,null,{"$f":"IF(ISNUMBER(SEARCH($F$6,AP1645)),MAX($AO$11:AO1644)+1,0)","v":1634},0,{"$f":"ROWS($AQ$12:AQ1645)","v":1634},{"$f":"IFERROR(VLOOKUP(ROWS($AR$12:AR1645),$AO$12:$AP$3014,2,0),\"\")","v":0}]
[null,null,null,null,null,null,null,null,null,null,null,null,null,null,null,null,null,null,null,null,null,null,null,null,null,null,null,null,null,null,null,null,null,null,null,null,null,null,null,null,{"$f":"IF(ISNUMBER(SEARCH($F$6,AP1648)),MAX($AO$11:AO1647)+1,0)","v":1637},0,{"$f":"ROWS($AQ$12:AQ1648)","v":1637},{"$f":"IFERROR(VLOOKUP(ROWS($AR$12:AR1648),$AO$12:$AP$3014,2,0),\"\")","v":0}]
[null,null,null,null,null,null,null,null,null,null,null,null,null,null,null,null,null,null,null,null,null,null,null,null,null,null,null,null,null,null,null,null,null,null,null,null,null,null,null,null,{"$f":"IF(ISNUMBER(SEARCH($F$6,AP1652)),MAX($AO$11:AO1651)+1,0)","v":1641},0,{"$f":"ROWS($AQ$12:AQ1652)","v":1641},{"$f":"IFERROR(VLOOKUP(ROWS($AR$12:AR1652),$AO$12:$AP$3014,2,0),\"\")","v":0}]
[null,null,null,null,null,null,null,null,null,null,null,null,null,null,null,null,null,null,null,null,null,null,null,null,null,null,null,null,null,null,null,null,null,null,null,null,null,null,null,null,{"$f":"IF(ISNUMBER(SEARCH($F$6,AP1654)),MAX($AO$11:AO1653)+1,0)","v":1643},0,{"$f":"ROWS($AQ$12:AQ1654)","v":1643},{"$f":"IFERROR(VLOOKUP(ROWS($AR$12:AR1654),$AO$12:$AP$3014,2,0),\"\")","v":0}]
[null,null,null,null,null,null,null,null,null,null,null,null,null,null,null,null,null,null,null,null,null,null,null,null,null,null,null,null,null,null,null,null,null,null,null,null,null,null,null,null,{"$f":"IF(ISNUMBER(SEARCH($F$6,AP1657)),MAX($AO$11:AO1656)+1,0)","v":1646},0,{"$f":"ROWS($AQ$12:AQ1657)","v":1646},{"$f":"IFERROR(VLOOKUP(ROWS($AR$12:AR1657),$AO$12:$AP$3014,2,0),\"\")","v":0}]
[null,null,null,null,null,null,null,null,null,null,null,null,null,null,null,null,null,null,null,null,null,null,null,null,null,null,null,null,null,null,null,null,null,null,null,null,null,null,null,null,{"$f":"IF(ISNUMBER(SEARCH($F$6,AP1661)),MAX($AO$11:AO1660)+1,0)","v":1650},0,{"$f":"ROWS($AQ$12:AQ1661)","v":1650},{"$f":"IFERROR(VLOOKUP(ROWS($AR$12:AR1661),$AO$12:$AP$3014,2,0),\"\")","v":0}]
[null,null,null,null,null,null,null,null,null,null,null,null,null,null,null,null,null,null,null,null,null,null,null,null,null,null,null,null,null,null,null,null,null,null,null,null,null,null,null,null,{"$f":"IF(ISNUMBER(SEARCH($F$6,AP1664)),MAX($AO$11:AO1663)+1,0)","v":1653},0,{"$f":"ROWS($AQ$12:AQ1664)","v":1653},{"$f":"IFERROR(VLOOKUP(ROWS($AR$12:AR1664),$AO$12:$AP$3014,2,0),\"\")","v":0}]
[null,null,null,null,null,null,null,null,null,null,null,null,null,null,null,null,null,null,null,null,null,null,null,null,null,null,null,null,null,null,null,null,null,null,null,null,null,null,null,null,{"$f":"IF(ISNUMBER(SEARCH($F$6,AP1665)),MAX($AO$11:AO1664)+1,0)","v":1654},0,{"$f":"ROWS($AQ$12:AQ1665)","v":1654},{"$f":"IFERROR(VLOOKUP(ROWS($AR$12:AR1665),$AO$12:$AP$3014,2,0),\"\")","v":0}]
[null,null,null,null,null,null,null,null,null,null,null,null,null,null,null,null,null,null,null,null,null,null,null,null,null,null,null,null,null,null,null,null,null,null,null,null,null,null,null,null,{"$f":"IF(ISNUMBER(SEARCH($F$6,AP1667)),MAX($AO$11:AO1666)+1,0)","v":1656},0,{"$f":"ROWS($AQ$12:AQ1667)","v":1656},{"$f":"IFERROR(VLOOKUP(ROWS($AR$12:AR1667),$AO$12:$AP$3014,2,0),\"\")","v":0}]
[null,null,null,null,null,null,null,null,null,null,null,null,null,null,null,null,null,null,null,null,null,null,null,null,null,null,null,null,null,null,null,null,null,null,null,null,null,null,null,null,{"$f":"IF(ISNUMBER(SEARCH($F$6,AP1670)),MAX($AO$11:AO1669)+1,0)","v":1659},0,{"$f":"ROWS($AQ$12:AQ1670)","v":1659},{"$f":"IFERROR(VLOOKUP(ROWS($AR$12:AR1670),$AO$12:$AP$3014,2,0),\"\")","v":0}]
[null,null,null,null,null,null,null,null,null,null,null,null,null,null,null,null,null,null,null,null,null,null,null,null,null,null,null,null,null,null,null,null,null,null,null,null,null,null,null,null,{"$f":"IF(ISNUMBER(SEARCH($F$6,AP1674)),MAX($AO$11:AO1673)+1,0)","v":1663},0,{"$f":"ROWS($AQ$12:AQ1674)","v":1663},{"$f":"IFERROR(VLOOKUP(ROWS($AR$12:AR1674),$AO$12:$AP$3014,2,0),\"\")","v":0}]
[null,null,null,null,null,null,null,null,null,null,null,null,null,null,null,null,null,null,null,null,null,null,null,null,null,null,null,null,null,null,null,null,null,null,null,null,null,null,null,null,{"$f":"IF(ISNUMBER(SEARCH($F$6,AP1676)),MAX($AO$11:AO1675)+1,0)","v":1665},0,{"$f":"ROWS($AQ$12:AQ1676)","v":1665},{"$f":"IFERROR(VLOOKUP(ROWS($AR$12:AR1676),$AO$12:$AP$3014,2,0),\"\")","v":0}]
[null,null,null,null,null,null,null,null,null,null,null,null,null,null,null,null,null,null,null,null,null,null,null,null,null,null,null,null,null,null,null,null,null,null,null,null,null,null,null,null,{"$f":"IF(ISNUMBER(SEARCH($F$6,AP1679)),MAX($AO$11:AO1678)+1,0)","v":1668},0,{"$f":"ROWS($AQ$12:AQ1679)","v":1668},{"$f":"IFERROR(VLOOKUP(ROWS($AR$12:AR1679),$AO$12:$AP$3014,2,0),\"\")","v":0}]
[null,null,null,null,null,null,null,null,null,null,null,null,null,null,null,null,null,null,null,null,null,null,null,null,null,null,null,null,null,null,null,null,null,null,null,null,null,null,null,null,{"$f":"IF(ISNUMBER(SEARCH($F$6,AP1683)),MAX($AO$11:AO1682)+1,0)","v":1672},0,{"$f":"ROWS($AQ$12:AQ1683)","v":1672},{"$f":"IFERROR(VLOOKUP(ROWS($AR$12:AR1683),$AO$12:$AP$3014,2,0),\"\")","v":0}]
[null,null,null,null,null,null,null,null,null,null,null,null,null,null,null,null,null,null,null,null,null,null,null,null,null,null,null,null,null,null,null,null,null,null,null,null,null,null,null,null,{"$f":"IF(ISNUMBER(SEARCH($F$6,AP1686)),MAX($AO$11:AO1685)+1,0)","v":1675},0,{"$f":"ROWS($AQ$12:AQ1686)","v":1675},{"$f":"IFERROR(VLOOKUP(ROWS($AR$12:AR1686),$AO$12:$AP$3014,2,0),\"\")","v":0}]
[null,null,null,null,null,null,null,null,null,null,null,null,null,null,null,null,null,null,null,null,null,null,null,null,null,null,null,null,null,null,null,null,null,null,null,null,null,null,null,null,{"$f":"IF(ISNUMBER(SEARCH($F$6,AP1687)),MAX($AO$11:AO1686)+1,0)","v":1676},0,{"$f":"ROWS($AQ$12:AQ1687)","v":1676},{"$f":"IFERROR(VLOOKUP(ROWS($AR$12:AR1687),$AO$12:$AP$3014,2,0),\"\")","v":0}]
[null,null,null,null,null,null,null,null,null,null,null,null,null,null,null,null,null,null,null,null,null,null,null,null,null,null,null,null,null,null,null,null,null,null,null,null,null,null,null,null,{"$f":"IF(ISNUMBER(SEARCH($F$6,AP1691)),MAX($AO$11:AO1690)+1,0)","v":1680},0,{"$f":"ROWS($AQ$12:AQ1691)","v":1680},{"$f":"IFERROR(VLOOKUP(ROWS($AR$12:AR1691),$AO$12:$AP$3014,2,0),\"\")","v":0}]
[null,null,null,null,null,null,null,null,null,null,null,null,null,null,null,null,null,null,null,null,null,null,null,null,null,null,null,null,null,null,null,null,null,null,null,null,null,null,null,null,{"$f":"IF(ISNUMBER(SEARCH($F$6,AP1692)),MAX($AO$11:AO1691)+1,0)","v":1681},0,{"$f":"ROWS($AQ$12:AQ1692)","v":1681},{"$f":"IFERROR(VLOOKUP(ROWS($AR$12:AR1692),$AO$12:$AP$3014,2,0),\"\")","v":0}]
[null,null,null,null,null,null,null,null,null,null,null,null,null,null,null,null,null,null,null,null,null,null,null,null,null,null,null,null,null,null,null,null,null,null,null,null,null,null,null,null,{"$f":"IF(ISNUMBER(SEARCH($F$6,AP1696)),MAX($AO$11:AO1695)+1,0)","v":1685},0,{"$f":"ROWS($AQ$12:AQ1696)","v":1685},{"$f":"IFERROR(VLOOKUP(ROWS($AR$12:AR1696),$AO$12:$AP$3014,2,0),\"\")","v":0}]
[null,null,null,null,null,null,null,null,null,null,null,null,null,null,null,null,null,null,null,null,null,null,null,null,null,null,null,null,null,null,null,null,null,null,null,null,null,null,null,null,{"$f":"IF(ISNUMBER(SEARCH($F$6,AP1699)),MAX($AO$11:AO1698)+1,0)","v":1688},0,{"$f":"ROWS($AQ$12:AQ1699)","v":1688},{"$f":"IFERROR(VLOOKUP(ROWS($AR$12:AR1699),$AO$12:$AP$3014,2,0),\"\")","v":0}]
[null,null,null,null,null,null,null,null,null,null,null,null,null,null,null,null,null,null,null,null,null,null,null,null,null,null,null,null,null,null,null,null,null,null,null,null,null,null,null,null,{"$f":"IF(ISNUMBER(SEARCH($F$6,AP1702)),MAX($AO$11:AO1701)+1,0)","v":1691},0,{"$f":"ROWS($AQ$12:AQ1702)","v":1691},{"$f":"IFERROR(VLOOKUP(ROWS($AR$12:AR1702),$AO$12:$AP$3014,2,0),\"\")","v":0}]
[null,null,null,null,null,null,null,null,null,null,null,null,null,null,null,null,null,null,null,null,null,null,null,null,null,null,null,null,null,null,null,null,null,null,null,null,null,null,null,null,{"$f":"IF(ISNUMBER(SEARCH($F$6,AP1705)),MAX($AO$11:AO1704)+1,0)","v":1694},0,{"$f":"ROWS($AQ$12:AQ1705)","v":1694},{"$f":"IFERROR(VLOOKUP(ROWS($AR$12:AR1705),$AO$12:$AP$3014,2,0),\"\")","v":0}]
[null,null,null,null,null,null,null,null,null,null,null,null,null,null,null,null,null,null,null,null,null,null,null,null,null,null,null,null,null,null,null,null,null,null,null,null,null,null,null,null,{"$f":"IF(ISNUMBER(SEARCH($F$6,AP1708)),MAX($AO$11:AO1707)+1,0)","v":1697},0,{"$f":"ROWS($AQ$12:AQ1708)","v":1697},{"$f":"IFERROR(VLOOKUP(ROWS($AR$12:AR1708),$AO$12:$AP$3014,2,0),\"\")","v":0}]
[null,null,null,null,null,null,null,null,null,null,null,null,null,null,null,null,null,null,null,null,null,null,null,null,null,null,null,null,null,null,null,null,null,null,null,null,null,null,null,null,{"$f":"IF(ISNUMBER(SEARCH($F$6,AP1709)),MAX($AO$11:AO1708)+1,0)","v":1698},0,{"$f":"ROWS($AQ$12:AQ1709)","v":1698},{"$f":"IFERROR(VLOOKUP(ROWS($AR$12:AR1709),$AO$12:$AP$3014,2,0),\"\")","v":0}]
[null,null,null,null,null,null,null,null,null,null,null,null,null,null,null,null,null,null,null,null,null,null,null,null,null,null,null,null,null,null,null,null,null,null,null,null,null,null,null,null,{"$f":"IF(ISNUMBER(SEARCH($F$6,AP1713)),MAX($AO$11:AO1712)+1,0)","v":1702},0,{"$f":"ROWS($AQ$12:AQ1713)","v":1702},{"$f":"IFERROR(VLOOKUP(ROWS($AR$12:AR1713),$AO$12:$AP$3014,2,0),\"\")","v":0}]
[null,null,null,null,null,null,null,null,null,null,null,null,null,null,null,null,null,null,null,null,null,null,null,null,null,null,null,null,null,null,null,null,null,null,null,null,null,null,null,null,{"$f":"IF(ISNUMBER(SEARCH($F$6,AP1714)),MAX($AO$11:AO1713)+1,0)","v":1703},0,{"$f":"ROWS($AQ$12:AQ1714)","v":1703},{"$f":"IFERROR(VLOOKUP(ROWS($AR$12:AR1714),$AO$12:$AP$3014,2,0),\"\")","v":0}]
[null,null,null,null,null,null,null,null,null,null,null,null,null,null,null,null,null,null,null,null,null,null,null,null,null,null,null,null,null,null,null,null,null,null,null,null,null,null,null,null,{"$f":"IF(ISNUMBER(SEARCH($F$6,AP1718)),MAX($AO$11:AO1717)+1,0)","v":1707},0,{"$f":"ROWS($AQ$12:AQ1718)","v":1707},{"$f":"IFERROR(VLOOKUP(ROWS($AR$12:AR1718),$AO$12:$AP$3014,2,0),\"\")","v":0}]
[null,null,null,null,null,null,null,null,null,null,null,null,null,null,null,null,null,null,null,null,null,null,null,null,null,null,null,null,null,null,null,null,null,null,null,null,null,null,null,null,{"$f":"IF(ISNUMBER(SEARCH($F$6,AP1721)),MAX($AO$11:AO1720)+1,0)","v":1710},0,{"$f":"ROWS($AQ$12:AQ1721)","v":1710},{"$f":"IFERROR(VLOOKUP(ROWS($AR$12:AR1721),$AO$12:$AP$3014,2,0),\"\")","v":0}]
[null,null,null,null,null,null,null,null,null,null,null,null,null,null,null,null,null,null,null,null,null,null,null,null,null,null,null,null,null,null,null,null,null,null,null,null,null,null,null,null,{"$f":"IF(ISNUMBER(SEARCH($F$6,AP1724)),MAX($AO$11:AO1723)+1,0)","v":1713},0,{"$f":"ROWS($AQ$12:AQ1724)","v":1713},{"$f":"IFERROR(VLOOKUP(ROWS($AR$12:AR1724),$AO$12:$AP$3014,2,0),\"\")","v":0}]
[null,null,null,null,null,null,null,null,null,null,null,null,null,null,null,null,null,null,null,null,null,null,null,null,null,null,null,null,null,null,null,null,null,null,null,null,null,null,null,null,{"$f":"IF(ISNUMBER(SEARCH($F$6,AP1727)),MAX($AO$11:AO1726)+1,0)","v":1716},0,{"$f":"ROWS($AQ$12:AQ1727)","v":1716},{"$f":"IFERROR(VLOOKUP(ROWS($AR$12:AR1727),$AO$12:$AP$3014,2,0),\"\")","v":0}]
[null,null,null,null,null,null,null,null,null,null,null,null,null,null,null,null,null,null,null,null,null,null,null,null,null,null,null,null,null,null,null,null,null,null,null,null,null,null,null,null,{"$f":"IF(ISNUMBER(SEARCH($F$6,AP1730)),MAX($AO$11:AO1729)+1,0)","v":1719},0,{"$f":"ROWS($AQ$12:AQ1730)","v":1719},{"$f":"IFERROR(VLOOKUP(ROWS($AR$12:AR1730),$AO$12:$AP$3014,2,0),\"\")","v":0}]
[null,null,null,null,null,null,null,null,null,null,null,null,null,null,null,null,null,null,null,null,null,null,null,null,null,null,null,null,null,null,null,null,null,null,null,null,null,null,null,null,{"$f":"IF(ISNUMBER(SEARCH($F$6,AP1731)),MAX($AO$11:AO1730)+1,0)","v":1720},0,{"$f":"ROWS($AQ$12:AQ1731)","v":1720},{"$f":"IFERROR(VLOOKUP(ROWS($AR$12:AR1731),$AO$12:$AP$3014,2,0),\"\")","v":0}]
[null,null,null,null,null,null,null,null,null,null,null,null,null,null,null,null,null,null,null,null,null,null,null,null,null,null,null,null,null,null,null,null,null,null,null,null,null,null,null,null,{"$f":"IF(ISNUMBER(SEARCH($F$6,AP1735)),MAX($AO$11:AO1734)+1,0)","v":1724},0,{"$f":"ROWS($AQ$12:AQ1735)","v":1724},{"$f":"IFERROR(VLOOKUP(ROWS($AR$12:AR1735),$AO$12:$AP$3014,2,0),\"\")","v":0}]
[null,null,null,null,null,null,null,null,null,null,null,null,null,null,null,null,null,null,null,null,null,null,null,null,null,null,null,null,null,null,null,null,null,null,null,null,null,null,null,null,{"$f":"IF(ISNUMBER(SEARCH($F$6,AP1736)),MAX($AO$11:AO1735)+1,0)","v":1725},0,{"$f":"ROWS($AQ$12:AQ1736)","v":1725},{"$f":"IFERROR(VLOOKUP(ROWS($AR$12:AR1736),$AO$12:$AP$3014,2,0),\"\")","v":0}]
[null,null,null,null,null,null,null,null,null,null,null,null,null,null,null,null,null,null,null,null,null,null,null,null,null,null,null,null,null,null,null,null,null,null,null,null,null,null,null,null,{"$f":"IF(ISNUMBER(SEARCH($F$6,AP1740)),MAX($AO$11:AO1739)+1,0)","v":1729},0,{"$f":"ROWS($AQ$12:AQ1740)","v":1729},{"$f":"IFERROR(VLOOKUP(ROWS($AR$12:AR1740),$AO$12:$AP$3014,2,0),\"\")","v":0}]
[null,null,null,null,null,null,null,null,null,null,null,null,null,null,null,null,null,null,null,null,null,null,null,null,null,null,null,null,null,null,null,null,null,null,null,null,null,null,null,null,{"$f":"IF(ISNUMBER(SEARCH($F$6,AP1743)),MAX($AO$11:AO1742)+1,0)","v":1732},0,{"$f":"ROWS($AQ$12:AQ1743)","v":1732},{"$f":"IFERROR(VLOOKUP(ROWS($AR$12:AR1743),$AO$12:$AP$3014,2,0),\"\")","v":0}]
[null,null,null,null,null,null,null,null,null,null,null,null,null,null,null,null,null,null,null,null,null,null,null,null,null,null,null,null,null,null,null,null,null,null,null,null,null,null,null,null,{"$f":"IF(ISNUMBER(SEARCH($F$6,AP1746)),MAX($AO$11:AO1745)+1,0)","v":1735},0,{"$f":"ROWS($AQ$12:AQ1746)","v":1735},{"$f":"IFERROR(VLOOKUP(ROWS($AR$12:AR1746),$AO$12:$AP$3014,2,0),\"\")","v":0}]
[null,null,null,null,null,null,null,null,null,null,null,null,null,null,null,null,null,null,null,null,null,null,null,null,null,null,null,null,null,null,null,null,null,null,null,null,null,null,null,null,{"$f":"IF(ISNUMBER(SEARCH($F$6,AP1749)),MAX($AO$11:AO1748)+1,0)","v":1738},0,{"$f":"ROWS($AQ$12:AQ1749)","v":1738},{"$f":"IFERROR(VLOOKUP(ROWS($AR$12:AR1749),$AO$12:$AP$3014,2,0),\"\")","v":0}]
[null,null,null,null,null,null,null,null,null,null,null,null,null,null,null,null,null,null,null,null,null,null,null,null,null,null,null,null,null,null,null,null,null,null,null,null,null,null,null,null,{"$f":"IF(ISNUMBER(SEARCH($F$6,AP1752)),MAX($AO$11:AO1751)+1,0)","v":1741},0,{"$f":"ROWS($AQ$12:AQ1752)","v":1741},{"$f":"IFERROR(VLOOKUP(ROWS($AR$12:AR1752),$AO$12:$AP$3014,2,0),\"\")","v":0}]
[null,null,null,null,null,null,null,null,null,null,null,null,null,null,null,null,null,null,null,null,null,null,null,null,null,null,null,null,null,null,null,null,null,null,null,null,null,null,null,null,{"$f":"IF(ISNUMBER(SEARCH($F$6,AP1753)),MAX($AO$11:AO1752)+1,0)","v":1742},0,{"$f":"ROWS($AQ$12:AQ1753)","v":1742},{"$f":"IFERROR(VLOOKUP(ROWS($AR$12:AR1753),$AO$12:$AP$3014,2,0),\"\")","v":0}]
[null,null,null,null,null,null,null,null,null,null,null,null,null,null,null,null,null,null,null,null,null,null,null,null,null,null,null,null,null,null,null,null,null,null,null,null,null,null,null,null,{"$f":"IF(ISNUMBER(SEARCH($F$6,AP1757)),MAX($AO$11:AO1756)+1,0)","v":1746},0,{"$f":"ROWS($AQ$12:AQ1757)","v":1746},{"$f":"IFERROR(VLOOKUP(ROWS($AR$12:AR1757),$AO$12:$AP$3014,2,0),\"\")","v":0}]
[null,null,null,null,null,null,null,null,null,null,null,null,null,null,null,null,null,null,null,null,null,null,null,null,null,null,null,null,null,null,null,null,null,null,null,null,null,null,null,null,{"$f":"IF(ISNUMBER(SEARCH($F$6,AP1759)),MAX($AO$11:AO1758)+1,0)","v":1748},0,{"$f":"ROWS($AQ$12:AQ1759)","v":1748},{"$f":"IFERROR(VLOOKUP(ROWS($AR$12:AR1759),$AO$12:$AP$3014,2,0),\"\")","v":0}]
[null,null,null,null,null,null,null,null,null,null,null,null,null,null,null,null,null,null,null,null,null,null,null,null,null,null,null,null,null,null,null,null,null,null,null,null,null,null,null,null,{"$f":"IF(ISNUMBER(SEARCH($F$6,AP1762)),MAX($AO$11:AO1761)+1,0)","v":1751},0,{"$f":"ROWS($AQ$12:AQ1762)","v":1751},{"$f":"IFERROR(VLOOKUP(ROWS($AR$12:AR1762),$AO$12:$AP$3014,2,0),\"\")","v":0}]
[null,null,null,null,null,null,null,null,null,null,null,null,null,null,null,null,null,null,null,null,null,null,null,null,null,null,null,null,null,null,null,null,null,null,null,null,null,null,null,null,{"$f":"IF(ISNUMBER(SEARCH($F$6,AP1765)),MAX($AO$11:AO1764)+1,0)","v":1754},0,{"$f":"ROWS($AQ$12:AQ1765)","v":1754},{"$f":"IFERROR(VLOOKUP(ROWS($AR$12:AR1765),$AO$12:$AP$3014,2,0),\"\")","v":0}]
[null,null,null,null,null,null,null,null,null,null,null,null,null,null,null,null,null,null,null,null,null,null,null,null,null,null,null,null,null,null,null,null,null,null,null,null,null,null,null,null,{"$f":"IF(ISNUMBER(SEARCH($F$6,AP1768)),MAX($AO$11:AO1767)+1,0)","v":1757},0,{"$f":"ROWS($AQ$12:AQ1768)","v":1757},{"$f":"IFERROR(VLOOKUP(ROWS($AR$12:AR1768),$AO$12:$AP$3014,2,0),\"\")","v":0}]
[null,null,null,null,null,null,null,null,null,null,null,null,null,null,null,null,null,null,null,null,null,null,null,null,null,null,null,null,null,null,null,null,null,null,null,null,null,null,null,null,{"$f":"IF(ISNUMBER(SEARCH($F$6,AP1771)),MAX($AO$11:AO1770)+1,0)","v":1760},0,{"$f":"ROWS($AQ$12:AQ1771)","v":1760},{"$f":"IFERROR(VLOOKUP(ROWS($AR$12:AR1771),$AO$12:$AP$3014,2,0),\"\")","v":0}]
[null,null,null,null,null,null,null,null,null,null,null,null,null,null,null,null,null,null,null,null,null,null,null,null,null,null,null,null,null,null,null,null,null,null,null,null,null,null,null,null,{"$f":"IF(ISNUMBER(SEARCH($F$6,AP1774)),MAX($AO$11:AO1773)+1,0)","v":1763},0,{"$f":"ROWS($AQ$12:AQ1774)","v":1763},{"$f":"IFERROR(VLOOKUP(ROWS($AR$12:AR1774),$AO$12:$AP$3014,2,0),\"\")","v":0}]
[null,null,null,null,null,null,null,null,null,null,null,null,null,null,null,null,null,null,null,null,null,null,null,null,null,null,null,null,null,null,null,null,null,null,null,null,null,null,null,null,{"$f":"IF(ISNUMBER(SEARCH($F$6,AP1775)),MAX($AO$11:AO1774)+1,0)","v":1764},0,{"$f":"ROWS($AQ$12:AQ1775)","v":1764},{"$f":"IFERROR(VLOOKUP(ROWS($AR$12:AR1775),$AO$12:$AP$3014,2,0),\"\")","v":0}]
[null,null,null,null,null,null,null,null,null,null,null,null,null,null,null,null,null,null,null,null,null,null,null,null,null,null,null,null,null,null,null,null,null,null,null,null,null,null,null,null,{"$f":"IF(ISNUMBER(SEARCH($F$6,AP1779)),MAX($AO$11:AO1778)+1,0)","v":1768},0,{"$f":"ROWS($AQ$12:AQ1779)","v":1768},{"$f":"IFERROR(VLOOKUP(ROWS($AR$12:AR1779),$AO$12:$AP$3014,2,0),\"\")","v":0}]
[null,null,null,null,null,null,null,null,null,null,null,null,null,null,null,null,null,null,null,null,null,null,null,null,null,null,null,null,null,null,null,null,null,null,null,null,null,null,null,null,{"$f":"IF(ISNUMBER(SEARCH($F$6,AP1781)),MAX($AO$11:AO1780)+1,0)","v":1770},0,{"$f":"ROWS($AQ$12:AQ1781)","v":1770},{"$f":"IFERROR(VLOOKUP(ROWS($AR$12:AR1781),$AO$12:$AP$3014,2,0),\"\")","v":0}]
[null,null,null,null,null,null,null,null,null,null,null,null,null,null,null,null,null,null,null,null,null,null,null,null,null,null,null,null,null,null,null,null,null,null,null,null,null,null,null,null,{"$f":"IF(ISNUMBER(SEARCH($F$6,AP1784)),MAX($AO$11:AO1783)+1,0)","v":1773},0,{"$f":"ROWS($AQ$12:AQ1784)","v":1773},{"$f":"IFERROR(VLOOKUP(ROWS($AR$12:AR1784),$AO$12:$AP$3014,2,0),\"\")","v":0}]
[null,null,null,null,null,null,null,null,null,null,null,null,null,null,null,null,null,null,null,null,null,null,null,null,null,null,null,null,null,null,null,null,null,null,null,null,null,null,null,null,{"$f":"IF(ISNUMBER(SEARCH($F$6,AP1787)),MAX($AO$11:AO1786)+1,0)","v":1776},0,{"$f":"ROWS($AQ$12:AQ1787)","v":1776},{"$f":"IFERROR(VLOOKUP(ROWS($AR$12:AR1787),$AO$12:$AP$3014,2,0),\"\")","v":0}]
[null,null,null,null,null,null,null,null,null,null,null,null,null,null,null,null,null,null,null,null,null,null,null,null,null,null,null,null,null,null,null,null,null,null,null,null,null,null,null,null,{"$f":"IF(ISNUMBER(SEARCH($F$6,AP1790)),MAX($AO$11:AO1789)+1,0)","v":1779},0,{"$f":"ROWS($AQ$12:AQ1790)","v":1779},{"$f":"IFERROR(VLOOKUP(ROWS($AR$12:AR1790),$AO$12:$AP$3014,2,0),\"\")","v":0}]
[null,null,null,null,null,null,null,null,null,null,null,null,null,null,null,null,null,null,null,null,null,null,null,null,null,null,null,null,null,null,null,null,null,null,null,null,null,null,null,null,{"$f":"IF(ISNUMBER(SEARCH($F$6,AP1793)),MAX($AO$11:AO1792)+1,0)","v":1782},0,{"$f":"ROWS($AQ$12:AQ1793)","v":1782},{"$f":"IFERROR(VLOOKUP(ROWS($AR$12:AR1793),$AO$12:$AP$3014,2,0),\"\")","v":0}]
[null,null,null,null,null,null,null,null,null,null,null,null,null,null,null,null,null,null,null,null,null,null,null,null,null,null,null,null,null,null,null,null,null,null,null,null,null,null,null,null,{"$f":"IF(ISNUMBER(SEARCH($F$6,AP1794)),MAX($AO$11:AO1793)+1,0)","v":1783},0,{"$f":"ROWS($AQ$12:AQ1794)","v":1783},{"$f":"IFERROR(VLOOKUP(ROWS($AR$12:AR1794),$AO$12:$AP$3014,2,0),\"\")","v":0}]
[null,null,null,null,null,null,null,null,null,null,null,null,null,null,null,null,null,null,null,null,null,null,null,null,null,null,null,null,null,null,null,null,null,null,null,null,null,null,null,null,{"$f":"IF(ISNUMBER(SEARCH($F$6,AP1797)),MAX($AO$11:AO1796)+1,0)","v":1786},0,{"$f":"ROWS($AQ$12:AQ1797)","v":1786},{"$f":"IFERROR(VLOOKUP(ROWS($AR$12:AR1797),$AO$12:$AP$3014,2,0),\"\")","v":0}]
[null,null,null,null,null,null,null,null,null,null,null,null,null,null,null,null,null,null,null,null,null,null,null,null,null,null,null,null,null,null,null,null,null,null,null,null,null,null,null,null,{"$f":"IF(ISNUMBER(SEARCH($F$6,AP1801)),MAX($AO$11:AO1800)+1,0)","v":1790},0,{"$f":"ROWS($AQ$12:AQ1801)","v":1790},{"$f":"IFERROR(VLOOKUP(ROWS($AR$12:AR1801),$AO$12:$AP$3014,2,0),\"\")","v":0}]
[null,null,null,null,null,null,null,null,null,null,null,null,null,null,null,null,null,null,null,null,null,null,null,null,null,null,null,null,null,null,null,null,null,null,null,null,null,null,null,null,{"$f":"IF(ISNUMBER(SEARCH($F$6,AP1803)),MAX($AO$11:AO1802)+1,0)","v":1792},0,{"$f":"ROWS($AQ$12:AQ1803)","v":1792},{"$f":"IFERROR(VLOOKUP(ROWS($AR$12:AR1803),$AO$12:$AP$3014,2,0),\"\")","v":0}]
[null,null,null,null,null,null,null,null,null,null,null,null,null,null,null,null,null,null,null,null,null,null,null,null,null,null,null,null,null,null,null,null,null,null,null,null,null,null,null,null,{"$f":"IF(ISNUMBER(SEARCH($F$6,AP1806)),MAX($AO$11:AO1805)+1,0)","v":1795},0,{"$f":"ROWS($AQ$12:AQ1806)","v":1795},{"$f":"IFERROR(VLOOKUP(ROWS($AR$12:AR1806),$AO$12:$AP$3014,2,0),\"\")","v":0}]
[null,null,null,null,null,null,null,null,null,null,null,null,null,null,null,null,null,null,null,null,null,null,null,null,null,null,null,null,null,null,null,null,null,null,null,null,null,null,null,null,{"$f":"IF(ISNUMBER(SEARCH($F$6,AP1809)),MAX($AO$11:AO1808)+1,0)","v":1798},0,{"$f":"ROWS($AQ$12:AQ1809)","v":1798},{"$f":"IFERROR(VLOOKUP(ROWS($AR$12:AR1809),$AO$12:$AP$3014,2,0),\"\")","v":0}]
[null,null,null,null,null,null,null,null,null,null,null,null,null,null,null,null,null,null,null,null,null,null,null,null,null,null,null,null,null,null,null,null,null,null,null,null,null,null,null,null,{"$f":"IF(ISNUMBER(SEARCH($F$6,AP1813)),MAX($AO$11:AO1812)+1,0)","v":1802},0,{"$f":"ROWS($AQ$12:AQ1813)","v":1802},{"$f":"IFERROR(VLOOKUP(ROWS($AR$12:AR1813),$AO$12:$AP$3014,2,0),\"\")","v":0}]
[null,null,null,null,null,null,null,null,null,null,null,null,null,null,null,null,null,null,null,null,null,null,null,null,null,null,null,null,null,null,null,null,null,null,null,null,null,null,null,null,{"$f":"IF(ISNUMBER(SEARCH($F$6,AP1814)),MAX($AO$11:AO1813)+1,0)","v":1803},0,{"$f":"ROWS($AQ$12:AQ1814)","v":1803},{"$f":"IFERROR(VLOOKUP(ROWS($AR$12:AR1814),$AO$12:$AP$3014,2,0),\"\")","v":0}]
[null,null,null,null,null,null,null,null,null,null,null,null,null,null,null,null,null,null,null,null,null,null,null,null,null,null,null,null,null,null,null,null,null,null,null,null,null,null,null,null,{"$f":"IF(ISNUMBER(SEARCH($F$6,AP1816)),MAX($AO$11:AO1815)+1,0)","v":1805},0,{"$f":"ROWS($AQ$12:AQ1816)","v":1805},{"$f":"IFERROR(VLOOKUP(ROWS($AR$12:AR1816),$AO$12:$AP$3014,2,0),\"\")","v":0}]
[null,null,null,null,null,null,null,null,null,null,null,null,null,null,null,null,null,null,null,null,null,null,null,null,null,null,null,null,null,null,null,null,null,null,null,null,null,null,null,null,{"$f":"IF(ISNUMBER(SEARCH($F$6,AP1819)),MAX($AO$11:AO1818)+1,0)","v":1808},0,{"$f":"ROWS($AQ$12:AQ1819)","v":1808},{"$f":"IFERROR(VLOOKUP(ROWS($AR$12:AR1819),$AO$12:$AP$3014,2,0),\"\")","v":0}]
[null,null,null,null,null,null,null,null,null,null,null,null,null,null,null,null,null,null,null,null,null,null,null,null,null,null,null,null,null,null,null,null,null,null,null,null,null,null,null,null,{"$f":"IF(ISNUMBER(SEARCH($F$6,AP1822)),MAX($AO$11:AO1821)+1,0)","v":1811},0,{"$f":"ROWS($AQ$12:AQ1822)","v":1811},{"$f":"IFERROR(VLOOKUP(ROWS($AR$12:AR1822),$AO$12:$AP$3014,2,0),\"\")","v":0}]
[null,null,null,null,null,null,null,null,null,null,null,null,null,null,null,null,null,null,null,null,null,null,null,null,null,null,null,null,null,null,null,null,null,null,null,null,null,null,null,null,{"$f":"IF(ISNUMBER(SEARCH($F$6,AP1825)),MAX($AO$11:AO1824)+1,0)","v":1814},0,{"$f":"ROWS($AQ$12:AQ1825)","v":1814},{"$f":"IFERROR(VLOOKUP(ROWS($AR$12:AR1825),$AO$12:$AP$3014,2,0),\"\")","v":0}]
[null,null,null,null,null,null,null,null,null,null,null,null,null,null,null,null,null,null,null,null,null,null,null,null,null,null,null,null,null,null,null,null,null,null,null,null,null,null,null,null,{"$f":"IF(ISNUMBER(SEARCH($F$6,AP1828)),MAX($AO$11:AO1827)+1,0)","v":1817},0,{"$f":"ROWS($AQ$12:AQ1828)","v":1817},{"$f":"IFERROR(VLOOKUP(ROWS($AR$12:AR1828),$AO$12:$AP$3014,2,0),\"\")","v":0}]
[null,null,null,null,null,null,null,null,null,null,null,null,null,null,null,null,null,null,null,null,null,null,null,null,null,null,null,null,null,null,null,null,null,null,null,null,null,null,null,null,{"$f":"IF(ISNUMBER(SEARCH($F$6,AP1831)),MAX($AO$11:AO1830)+1,0)","v":1820},0,{"$f":"ROWS($AQ$12:AQ1831)","v":1820},{"$f":"IFERROR(VLOOKUP(ROWS($AR$12:AR1831),$AO$12:$AP$3014,2,0),\"\")","v":0}]
[null,null,null,null,null,null,null,null,null,null,null,null,null,null,null,null,null,null,null,null,null,null,null,null,null,null,null,null,null,null,null,null,null,null,null,null,null,null,null,null,{"$f":"IF(ISNUMBER(SEARCH($F$6,AP1835)),MAX($AO$11:AO1834)+1,0)","v":1824},0,{"$f":"ROWS($AQ$12:AQ1835)","v":1824},{"$f":"IFERROR(VLOOKUP(ROWS($AR$12:AR1835),$AO$12:$AP$3014,2,0),\"\")","v":0}]
[null,null,null,null,null,null,null,null,null,null,null,null,null,null,null,null,null,null,null,null,null,null,null,null,null,null,null,null,null,null,null,null,null,null,null,null,null,null,null,null,{"$f":"IF(ISNUMBER(SEARCH($F$6,AP1836)),MAX($AO$11:AO1835)+1,0)","v":1825},0,{"$f":"ROWS($AQ$12:AQ1836)","v":1825},{"$f":"IFERROR(VLOOKUP(ROWS($AR$12:AR1836),$AO$12:$AP$3014,2,0),\"\")","v":0}]
[null,null,null,null,null,null,null,null,null,null,null,null,null,null,null,null,null,null,null,null,null,null,null,null,null,null,null,null,null,null,null,null,null,null,null,null,null,null,null,null,{"$f":"IF(ISNUMBER(SEARCH($F$6,AP1838)),MAX($AO$11:AO1837)+1,0)","v":1827},0,{"$f":"ROWS($AQ$12:AQ1838)","v":1827},{"$f":"IFERROR(VLOOKUP(ROWS($AR$12:AR1838),$AO$12:$AP$3014,2,0),\"\")","v":0}]
[null,null,null,null,null,null,null,null,null,null,null,null,null,null,null,null,null,null,null,null,null,null,null,null,null,null,null,null,null,null,null,null,null,null,null,null,null,null,null,null,{"$f":"IF(ISNUMBER(SEARCH($F$6,AP1841)),MAX($AO$11:AO1840)+1,0)","v":1830},0,{"$f":"ROWS($AQ$12:AQ1841)","v":1830},{"$f":"IFERROR(VLOOKUP(ROWS($AR$12:AR1841),$AO$12:$AP$3014,2,0),\"\")","v":0}]
[null,null,null,null,null,null,null,null,null,null,null,null,null,null,null,null,null,null,null,null,null,null,null,null,null,null,null,null,null,null,null,null,null,null,null,null,null,null,null,null,{"$f":"IF(ISNUMBER(SEARCH($F$6,AP1844)),MAX($AO$11:AO1843)+1,0)","v":1833},0,{"$f":"ROWS($AQ$12:AQ1844)","v":1833},{"$f":"IFERROR(VLOOKUP(ROWS($AR$12:AR1844),$AO$12:$AP$3014,2,0),\"\")","v":0}]
[null,null,null,null,null,null,null,null,null,null,null,null,null,null,null,null,null,null,null,null,null,null,null,null,null,null,null,null,null,null,null,null,null,null,null,null,null,null,null,null,{"$f":"IF(ISNUMBER(SEARCH($F$6,AP1847)),MAX($AO$11:AO1846)+1,0)","v":1836},0,{"$f":"ROWS($AQ$12:AQ1847)","v":1836},{"$f":"IFERROR(VLOOKUP(ROWS($AR$12:AR1847),$AO$12:$AP$3014,2,0),\"\")","v":0}]
[null,null,null,null,null,null,null,null,null,null,null,null,null,null,null,null,null,null,null,null,null,null,null,null,null,null,null,null,null,null,null,null,null,null,null,null,null,null,null,null,{"$f":"IF(ISNUMBER(SEARCH($F$6,AP1850)),MAX($AO$11:AO1849)+1,0)","v":1839},0,{"$f":"ROWS($AQ$12:AQ1850)","v":1839},{"$f":"IFERROR(VLOOKUP(ROWS($AR$12:AR1850),$AO$12:$AP$3014,2,0),\"\")","v":0}]
[null,null,null,null,null,null,null,null,null,null,null,null,null,null,null,null,null,null,null,null,null,null,null,null,null,null,null,null,null,null,null,null,null,null,null,null,null,null,null,null,{"$f":"IF(ISNUMBER(SEARCH($F$6,AP1854)),MAX($AO$11:AO1853)+1,0)","v":1843},0,{"$f":"ROWS($AQ$12:AQ1854)","v":1843},{"$f":"IFERROR(VLOOKUP(ROWS($AR$12:AR1854),$AO$12:$AP$3014,2,0),\"\")","v":0}]
[null,null,null,null,null,null,null,null,null,null,null,null,null,null,null,null,null,null,null,null,null,null,null,null,null,null,null,null,null,null,null,null,null,null,null,null,null,null,null,null,{"$f":"IF(ISNUMBER(SEARCH($F$6,AP1857)),MAX($AO$11:AO1856)+1,0)","v":1846},0,{"$f":"ROWS($AQ$12:AQ1857)","v":1846},{"$f":"IFERROR(VLOOKUP(ROWS($AR$12:AR1857),$AO$12:$AP$3014,2,0),\"\")","v":0}]
[null,null,null,null,null,null,null,null,null,null,null,null,null,null,null,null,null,null,null,null,null,null,null,null,null,null,null,null,null,null,null,null,null,null,null,null,null,null,null,null,{"$f":"IF(ISNUMBER(SEARCH($F$6,AP1858)),MAX($AO$11:AO1857)+1,0)","v":1847},0,{"$f":"ROWS($AQ$12:AQ1858)","v":1847},{"$f":"IFERROR(VLOOKUP(ROWS($AR$12:AR1858),$AO$12:$AP$3014,2,0),\"\")","v":0}]
[null,null,null,null,null,null,null,null,null,null,null,null,null,null,null,null,null,null,null,null,null,null,null,null,null,null,null,null,null,null,null,null,null,null,null,null,null,null,null,null,{"$f":"IF(ISNUMBER(SEARCH($F$6,AP1860)),MAX($AO$11:AO1859)+1,0)","v":1849},0,{"$f":"ROWS($AQ$12:AQ1860)","v":1849},{"$f":"IFERROR(VLOOKUP(ROWS($AR$12:AR1860),$AO$12:$AP$3014,2,0),\"\")","v":0}]
[null,null,null,null,null,null,null,null,null,null,null,null,null,null,null,null,null,null,null,null,null,null,null,null,null,null,null,null,null,null,null,null,null,null,null,null,null,null,null,null,{"$f":"IF(ISNUMBER(SEARCH($F$6,AP1863)),MAX($AO$11:AO1862)+1,0)","v":1852},0,{"$f":"ROWS($AQ$12:AQ1863)","v":1852},{"$f":"IFERROR(VLOOKUP(ROWS($AR$12:AR1863),$AO$12:$AP$3014,2,0),\"\")","v":0}]
[null,null,null,null,null,null,null,null,null,null,null,null,null,null,null,null,null,null,null,null,null,null,null,null,null,null,null,null,null,null,null,null,null,null,null,null,null,null,null,null,{"$f":"IF(ISNUMBER(SEARCH($F$6,AP1866)),MAX($AO$11:AO1865)+1,0)","v":1855},0,{"$f":"ROWS($AQ$12:AQ1866)","v":1855},{"$f":"IFERROR(VLOOKUP(ROWS($AR$12:AR1866),$AO$12:$AP$3014,2,0),\"\")","v":0}]
[null,null,null,null,null,null,null,null,null,null,null,null,null,null,null,null,null,null,null,null,null,null,null,null,null,null,null,null,null,null,null,null,null,null,null,null,null,null,null,null,{"$f":"IF(ISNUMBER(SEARCH($F$6,AP1869)),MAX($AO$11:AO1868)+1,0)","v":1858},0,{"$f":"ROWS($AQ$12:AQ1869)","v":1858},{"$f":"IFERROR(VLOOKUP(ROWS($AR$12:AR1869),$AO$12:$AP$3014,2,0),\"\")","v":0}]
[null,null,null,null,null,null,null,null,null,null,null,null,null,null,null,null,null,null,null,null,null,null,null,null,null,null,null,null,null,null,null,null,null,null,null,null,null,null,null,null,{"$f":"IF(ISNUMBER(SEARCH($F$6,AP1872)),MAX($AO$11:AO1871)+1,0)","v":1861},0,{"$f":"ROWS($AQ$12:AQ1872)","v":1861},{"$f":"IFERROR(VLOOKUP(ROWS($AR$12:AR1872),$AO$12:$AP$3014,2,0),\"\")","v":0}]
[null,null,null,null,null,null,null,null,null,null,null,null,null,null,null,null,null,null,null,null,null,null,null,null,null,null,null,null,null,null,null,null,null,null,null,null,null,null,null,null,{"$f":"IF(ISNUMBER(SEARCH($F$6,AP1876)),MAX($AO$11:AO1875)+1,0)","v":1865},0,{"$f":"ROWS($AQ$12:AQ1876)","v":1865},{"$f":"IFERROR(VLOOKUP(ROWS($AR$12:AR1876),$AO$12:$AP$3014,2,0),\"\")","v":0}]
[null,null,null,null,null,null,null,null,null,null,null,null,null,null,null,null,null,null,null,null,null,null,null,null,null,null,null,null,null,null,null,null,null,null,null,null,null,null,null,null,{"$f":"IF(ISNUMBER(SEARCH($F$6,AP1879)),MAX($AO$11:AO1878)+1,0)","v":1868},0,{"$f":"ROWS($AQ$12:AQ1879)","v":1868},{"$f":"IFERROR(VLOOKUP(ROWS($AR$12:AR1879),$AO$12:$AP$3014,2,0),\"\")","v":0}]
[null,null,null,null,null,null,null,null,null,null,null,null,null,null,null,null,null,null,null,null,null,null,null,null,null,null,null,null,null,null,null,null,null,null,null,null,null,null,null,null,{"$f":"IF(ISNUMBER(SEARCH($F$6,AP1880)),MAX($AO$11:AO1879)+1,0)","v":1869},0,{"$f":"ROWS($AQ$12:AQ1880)","v":1869},{"$f":"IFERROR(VLOOKUP(ROWS($AR$12:AR1880),$AO$12:$AP$3014,2,0),\"\")","v":0}]
[null,null,null,null,null,null,null,null,null,null,null,null,null,null,null,null,null,null,null,null,null,null,null,null,null,null,null,null,null,null,null,null,null,null,null,null,null,null,null,null,{"$f":"IF(ISNUMBER(SEARCH($F$6,AP1882)),MAX($AO$11:AO1881)+1,0)","v":1871},0,{"$f":"ROWS($AQ$12:AQ1882)","v":1871},{"$f":"IFERROR(VLOOKUP(ROWS($AR$12:AR1882),$AO$12:$AP$3014,2,0),\"\")","v":0}]
[null,null,null,null,null,null,null,null,null,null,null,null,null,null,null,null,null,null,null,null,null,null,null,null,null,null,null,null,null,null,null,null,null,null,null,null,null,null,null,null,{"$f":"IF(ISNUMBER(SEARCH($F$6,AP1885)),MAX($AO$11:AO1884)+1,0)","v":1874},0,{"$f":"ROWS($AQ$12:AQ1885)","v":1874},{"$f":"IFERROR(VLOOKUP(ROWS($AR$12:AR1885),$AO$12:$AP$3014,2,0),\"\")","v":0}]
[null,null,null,null,null,null,null,null,null,null,null,null,null,null,null,null,null,null,null,null,null,null,null,null,null,null,null,null,null,null,null,null,null,null,null,null,null,null,null,null,{"$f":"IF(ISNUMBER(SEARCH($F$6,AP1888)),MAX($AO$11:AO1887)+1,0)","v":1877},0,{"$f":"ROWS($AQ$12:AQ1888)","v":1877},{"$f":"IFERROR(VLOOKUP(ROWS($AR$12:AR1888),$AO$12:$AP$3014,2,0),\"\")","v":0}]
[null,null,null,null,null,null,null,null,null,null,null,null,null,null,null,null,null,null,null,null,null,null,null,null,null,null,null,null,null,null,null,null,null,null,null,null,null,null,null,null,{"$f":"IF(ISNUMBER(SEARCH($F$6,AP1891)),MAX($AO$11:AO1890)+1,0)","v":1880},0,{"$f":"ROWS($AQ$12:AQ1891)","v":1880},{"$f":"IFERROR(VLOOKUP(ROWS($AR$12:AR1891),$AO$12:$AP$3014,2,0),\"\")","v":0}]
[null,null,null,null,null,null,null,null,null,null,null,null,null,null,null,null,null,null,null,null,null,null,null,null,null,null,null,null,null,null,null,null,null,null,null,null,null,null,null,null,{"$f":"IF(ISNUMBER(SEARCH($F$6,AP1894)),MAX($AO$11:AO1893)+1,0)","v":1883},0,{"$f":"ROWS($AQ$12:AQ1894)","v":1883},{"$f":"IFERROR(VLOOKUP(ROWS($AR$12:AR1894),$AO$12:$AP$3014,2,0),\"\")","v":0}]
[null,null,null,null,null,null,null,null,null,null,null,null,null,null,null,null,null,null,null,null,null,null,null,null,null,null,null,null,null,null,null,null,null,null,null,null,null,null,null,null,{"$f":"IF(ISNUMBER(SEARCH($F$6,AP1898)),MAX($AO$11:AO1897)+1,0)","v":1887},0,{"$f":"ROWS($AQ$12:AQ1898)","v":1887},{"$f":"IFERROR(VLOOKUP(ROWS($AR$12:AR1898),$AO$12:$AP$3014,2,0),\"\")","v":0}]
[null,null,null,null,null,null,null,null,null,null,null,null,null,null,null,null,null,null,null,null,null,null,null,null,null,null,null,null,null,null,null,null,null,null,null,null,null,null,null,null,{"$f":"IF(ISNUMBER(SEARCH($F$6,AP1901)),MAX($AO$11:AO1900)+1,0)","v":1890},0,{"$f":"ROWS($AQ$12:AQ1901)","v":1890},{"$f":"IFERROR(VLOOKUP(ROWS($AR$12:AR1901),$AO$12:$AP$3014,2,0),\"\")","v":0}]
[null,null,null,null,null,null,null,null,null,null,null,null,null,null,null,null,null,null,null,null,null,null,null,null,null,null,null,null,null,null,null,null,null,null,null,null,null,null,null,null,{"$f":"IF(ISNUMBER(SEARCH($F$6,AP1902)),MAX($AO$11:AO1901)+1,0)","v":1891},0,{"$f":"ROWS($AQ$12:AQ1902)","v":1891},{"$f":"IFERROR(VLOOKUP(ROWS($AR$12:AR1902),$AO$12:$AP$3014,2,0),\"\")","v":0}]
[null,null,null,null,null,null,null,null,null,null,null,null,null,null,null,null,null,null,null,null,null,null,null,null,null,null,null,null,null,null,null,null,null,null,null,null,null,null,null,null,{"$f":"IF(ISNUMBER(SEARCH($F$6,AP1904)),MAX($AO$11:AO1903)+1,0)","v":1893},0,{"$f":"ROWS($AQ$12:AQ1904)","v":1893},{"$f":"IFERROR(VLOOKUP(ROWS($AR$12:AR1904),$AO$12:$AP$3014,2,0),\"\")","v":0}]
[null,null,null,null,null,null,null,null,null,null,null,null,null,null,null,null,null,null,null,null,null,null,null,null,null,null,null,null,null,null,null,null,null,null,null,null,null,null,null,null,{"$f":"IF(ISNUMBER(SEARCH($F$6,AP1907)),MAX($AO$11:AO1906)+1,0)","v":1896},0,{"$f":"ROWS($AQ$12:AQ1907)","v":1896},{"$f":"IFERROR(VLOOKUP(ROWS($AR$12:AR1907),$AO$12:$AP$3014,2,0),\"\")","v":0}]
[null,null,null,null,null,null,null,null,null,null,null,null,null,null,null,null,null,null,null,null,null,null,null,null,null,null,null,null,null,null,null,null,null,null,null,null,null,null,null,null,{"$f":"IF(ISNUMBER(SEARCH($F$6,AP1911)),MAX($AO$11:AO1910)+1,0)","v":1900},0,{"$f":"ROWS($AQ$12:AQ1911)","v":1900},{"$f":"IFERROR(VLOOKUP(ROWS($AR$12:AR1911),$AO$12:$AP$3014,2,0),\"\")","v":0}]
[null,null,null,null,null,null,null,null,null,null,null,null,null,null,null,null,null,null,null,null,null,null,null,null,null,null,null,null,null,null,null,null,null,null,null,null,null,null,null,null,{"$f":"IF(ISNUMBER(SEARCH($F$6,AP1913)),MAX($AO$11:AO1912)+1,0)","v":1902},0,{"$f":"ROWS($AQ$12:AQ1913)","v":1902},{"$f":"IFERROR(VLOOKUP(ROWS($AR$12:AR1913),$AO$12:$AP$3014,2,0),\"\")","v":0}]
[null,null,null,null,null,null,null,null,null,null,null,null,null,null,null,null,null,null,null,null,null,null,null,null,null,null,null,null,null,null,null,null,null,null,null,null,null,null,null,null,{"$f":"IF(ISNUMBER(SEARCH($F$6,AP1916)),MAX($AO$11:AO1915)+1,0)","v":1905},0,{"$f":"ROWS($AQ$12:AQ1916)","v":1905},{"$f":"IFERROR(VLOOKUP(ROWS($AR$12:AR1916),$AO$12:$AP$3014,2,0),\"\")","v":0}]
[null,null,null,null,null,null,null,null,null,null,null,null,null,null,null,null,null,null,null,null,null,null,null,null,null,null,null,null,null,null,null,null,null,null,null,null,null,null,null,null,{"$f":"IF(ISNUMBER(SEARCH($F$6,AP1920)),MAX($AO$11:AO1919)+1,0)","v":1909},0,{"$f":"ROWS($AQ$12:AQ1920)","v":1909},{"$f":"IFERROR(VLOOKUP(ROWS($AR$12:AR1920),$AO$12:$AP$3014,2,0),\"\")","v":0}]
[null,null,null,null,null,null,null,null,null,null,null,null,null,null,null,null,null,null,null,null,null,null,null,null,null,null,null,null,null,null,null,null,null,null,null,null,null,null,null,null,{"$f":"IF(ISNUMBER(SEARCH($F$6,AP1923)),MAX($AO$11:AO1922)+1,0)","v":1912},0,{"$f":"ROWS($AQ$12:AQ1923)","v":1912},{"$f":"IFERROR(VLOOKUP(ROWS($AR$12:AR1923),$AO$12:$AP$3014,2,0),\"\")","v":0}]
[null,null,null,null,null,null,null,null,null,null,null,null,null,null,null,null,null,null,null,null,null,null,null,null,null,null,null,null,null,null,null,null,null,null,null,null,null,null,null,null,{"$f":"IF(ISNUMBER(SEARCH($F$6,AP1926)),MAX($AO$11:AO1925)+1,0)","v":1915},0,{"$f":"ROWS($AQ$12:AQ1926)","v":1915},{"$f":"IFERROR(VLOOKUP(ROWS($AR$12:AR1926),$AO$12:$AP$3014,2,0),\"\")","v":0}]
[null,null,null,null,null,null,null,null,null,null,null,null,null,null,null,null,null,null,null,null,null,null,null,null,null,null,null,null,null,null,null,null,null,null,null,null,null,null,null,null,{"$f":"IF(ISNUMBER(SEARCH($F$6,AP1928)),MAX($AO$11:AO1927)+1,0)","v":1917},0,{"$f":"ROWS($AQ$12:AQ1928)","v":1917},{"$f":"IFERROR(VLOOKUP(ROWS($AR$12:AR1928),$AO$12:$AP$3014,2,0),\"\")","v":0}]
[null,null,null,null,null,null,null,null,null,null,null,null,null,null,null,null,null,null,null,null,null,null,null,null,null,null,null,null,null,null,null,null,null,null,null,null,null,null,null,null,{"$f":"IF(ISNUMBER(SEARCH($F$6,AP1929)),MAX($AO$11:AO1928)+1,0)","v":1918},0,{"$f":"ROWS($AQ$12:AQ1929)","v":1918},{"$f":"IFERROR(VLOOKUP(ROWS($AR$12:AR1929),$AO$12:$AP$3014,2,0),\"\")","v":0}]
[null,null,null,null,null,null,null,null,null,null,null,null,null,null,null,null,null,null,null,null,null,null,null,null,null,null,null,null,null,null,null,null,null,null,null,null,null,null,null,null,{"$f":"IF(ISNUMBER(SEARCH($F$6,AP1933)),MAX($AO$11:AO1932)+1,0)","v":1922},0,{"$f":"ROWS($AQ$12:AQ1933)","v":1922},{"$f":"IFERROR(VLOOKUP(ROWS($AR$12:AR1933),$AO$12:$AP$3014,2,0),\"\")","v":0}]
[null,null,null,null,null,null,null,null,null,null,null,null,null,null,null,null,null,null,null,null,null,null,null,null,null,null,null,null,null,null,null,null,null,null,null,null,null,null,null,null,{"$f":"IF(ISNUMBER(SEARCH($F$6,AP1936)),MAX($AO$11:AO1935)+1,0)","v":1925},0,{"$f":"ROWS($AQ$12:AQ1936)","v":1925},{"$f":"IFERROR(VLOOKUP(ROWS($AR$12:AR1936),$AO$12:$AP$3014,2,0),\"\")","v":0}]
[null,null,null,null,null,null,null,null,null,null,null,null,null,null,null,null,null,null,null,null,null,null,null,null,null,null,null,null,null,null,null,null,null,null,null,null,null,null,null,null,{"$f":"IF(ISNUMBER(SEARCH($F$6,AP1939)),MAX($AO$11:AO1938)+1,0)","v":1928},0,{"$f":"ROWS($AQ$12:AQ1939)","v":1928},{"$f":"IFERROR(VLOOKUP(ROWS($AR$12:AR1939),$AO$12:$AP$3014,2,0),\"\")","v":0}]
[null,null,null,null,null,null,null,null,null,null,null,null,null,null,null,null,null,null,null,null,null,null,null,null,null,null,null,null,null,null,null,null,null,null,null,null,null,null,null,null,{"$f":"IF(ISNUMBER(SEARCH($F$6,AP1942)),MAX($AO$11:AO1941)+1,0)","v":1931},0,{"$f":"ROWS($AQ$12:AQ1942)","v":1931},{"$f":"IFERROR(VLOOKUP(ROWS($AR$12:AR1942),$AO$12:$AP$3014,2,0),\"\")","v":0}]
[null,null,null,null,null,null,null,null,null,null,null,null,null,null,null,null,null,null,null,null,null,null,null,null,null,null,null,null,null,null,null,null,null,null,null,null,null,null,null,null,{"$f":"IF(ISNUMBER(SEARCH($F$6,AP1945)),MAX($AO$11:AO1944)+1,0)","v":1934},0,{"$f":"ROWS($AQ$12:AQ1945)","v":1934},{"$f":"IFERROR(VLOOKUP(ROWS($AR$12:AR1945),$AO$12:$AP$3014,2,0),\"\")","v":0}]
[null,null,null,null,null,null,null,null,null,null,null,null,null,null,null,null,null,null,null,null,null,null,null,null,null,null,null,null,null,null,null,null,null,null,null,null,null,null,null,null,{"$f":"IF(ISNUMBER(SEARCH($F$6,AP1946)),MAX($AO$11:AO1945)+1,0)","v":1935},0,{"$f":"ROWS($AQ$12:AQ1946)","v":1935},{"$f":"IFERROR(VLOOKUP(ROWS($AR$12:AR1946),$AO$12:$AP$3014,2,0),\"\")","v":0}]
[null,null,null,null,null,null,null,null,null,null,null,null,null,null,null,null,null,null,null,null,null,null,null,null,null,null,null,null,null,null,null,null,null,null,null,null,null,null,null,null,{"$f":"IF(ISNUMBER(SEARCH($F$6,AP1950)),MAX($AO$11:AO1949)+1,0)","v":1939},0,{"$f":"ROWS($AQ$12:AQ1950)","v":1939},{"$f":"IFERROR(VLOOKUP(ROWS($AR$12:AR1950),$AO$12:$AP$3014,2,0),\"\")","v":0}]
[null,null,null,null,null,null,null,null,null,null,null,null,null,null,null,null,null,null,null,null,null,null,null,null,null,null,null,null,null,null,null,null,null,null,null,null,null,null,null,null,{"$f":"IF(ISNUMBER(SEARCH($F$6,AP1951)),MAX($AO$11:AO1950)+1,0)","v":1940},0,{"$f":"ROWS($AQ$12:AQ1951)","v":1940},{"$f":"IFERROR(VLOOKUP(ROWS($AR$12:AR1951),$AO$12:$AP$3014,2,0),\"\")","v":0}]
[null,null,null,null,null,null,null,null,null,null,null,null,null,null,null,null,null,null,null,null,null,null,null,null,null,null,null,null,null,null,null,null,null,null,null,null,null,null,null,null,{"$f":"IF(ISNUMBER(SEARCH($F$6,AP1955)),MAX($AO$11:AO1954)+1,0)","v":1944},0,{"$f":"ROWS($AQ$12:AQ1955)","v":1944},{"$f":"IFERROR(VLOOKUP(ROWS($AR$12:AR1955),$AO$12:$AP$3014,2,0),\"\")","v":0}]
[null,null,null,null,null,null,null,null,null,null,null,null,null,null,null,null,null,null,null,null,null,null,null,null,null,null,null,null,null,null,null,null,null,null,null,null,null,null,null,null,{"$f":"IF(ISNUMBER(SEARCH($F$6,AP1958)),MAX($AO$11:AO1957)+1,0)","v":1947},0,{"$f":"ROWS($AQ$12:AQ1958)","v":1947},{"$f":"IFERROR(VLOOKUP(ROWS($AR$12:AR1958),$AO$12:$AP$3014,2,0),\"\")","v":0}]
[null,null,null,null,null,null,null,null,null,null,null,null,null,null,null,null,null,null,null,null,null,null,null,null,null,null,null,null,null,null,null,null,null,null,null,null,null,null,null,null,{"$f":"IF(ISNUMBER(SEARCH($F$6,AP1961)),MAX($AO$11:AO1960)+1,0)","v":1950},0,{"$f":"ROWS($AQ$12:AQ1961)","v":1950},{"$f":"IFERROR(VLOOKUP(ROWS($AR$12:AR1961),$AO$12:$AP$3014,2,0),\"\")","v":0}]
[null,null,null,null,null,null,null,null,null,null,null,null,null,null,null,null,null,null,null,null,null,null,null,null,null,null,null,null,null,null,null,null,null,null,null,null,null,null,null,null,{"$f":"IF(ISNUMBER(SEARCH($F$6,AP1964)),MAX($AO$11:AO1963)+1,0)","v":1953},0,{"$f":"ROWS($AQ$12:AQ1964)","v":1953},{"$f":"IFERROR(VLOOKUP(ROWS($AR$12:AR1964),$AO$12:$AP$3014,2,0),\"\")","v":0}]
[null,null,null,null,null,null,null,null,null,null,null,null,null,null,null,null,null,null,null,null,null,null,null,null,null,null,null,null,null,null,null,null,null,null,null,null,null,null,null,null,{"$f":"IF(ISNUMBER(SEARCH($F$6,AP1967)),MAX($AO$11:AO1966)+1,0)","v":1956},0,{"$f":"ROWS($AQ$12:AQ1967)","v":1956},{"$f":"IFERROR(VLOOKUP(ROWS($AR$12:AR1967),$AO$12:$AP$3014,2,0),\"\")","v":0}]
[null,null,null,null,null,null,null,null,null,null,null,null,null,null,null,null,null,null,null,null,null,null,null,null,null,null,null,null,null,null,null,null,null,null,null,null,null,null,null,null,{"$f":"IF(ISNUMBER(SEARCH($F$6,AP1968)),MAX($AO$11:AO1967)+1,0)","v":1957},0,{"$f":"ROWS($AQ$12:AQ1968)","v":1957},{"$f":"IFERROR(VLOOKUP(ROWS($AR$12:AR1968),$AO$12:$AP$3014,2,0),\"\")","v":0}]
[null,null,null,null,null,null,null,null,null,null,null,null,null,null,null,null,null,null,null,null,null,null,null,null,null,null,null,null,null,null,null,null,null,null,null,null,null,null,null,null,{"$f":"IF(ISNUMBER(SEARCH($F$6,AP1972)),MAX($AO$11:AO1971)+1,0)","v":1961},0,{"$f":"ROWS($AQ$12:AQ1972)","v":1961},{"$f":"IFERROR(VLOOKUP(ROWS($AR$12:AR1972),$AO$12:$AP$3014,2,0),\"\")","v":0}]
[null,null,null,null,null,null,null,null,null,null,null,null,null,null,null,null,null,null,null,null,null,null,null,null,null,null,null,null,null,null,null,null,null,null,null,null,null,null,null,null,{"$f":"IF(ISNUMBER(SEARCH($F$6,AP1973)),MAX($AO$11:AO1972)+1,0)","v":1962},0,{"$f":"ROWS($AQ$12:AQ1973)","v":1962},{"$f":"IFERROR(VLOOKUP(ROWS($AR$12:AR1973),$AO$12:$AP$3014,2,0),\"\")","v":0}]
[null,null,null,null,null,null,null,null,null,null,null,null,null,null,null,null,null,null,null,null,null,null,null,null,null,null,null,null,null,null,null,null,null,null,null,null,null,null,null,null,{"$f":"IF(ISNUMBER(SEARCH($F$6,AP1977)),MAX($AO$11:AO1976)+1,0)","v":1966},0,{"$f":"ROWS($AQ$12:AQ1977)","v":1966},{"$f":"IFERROR(VLOOKUP(ROWS($AR$12:AR1977),$AO$12:$AP$3014,2,0),\"\")","v":0}]
[null,null,null,null,null,null,null,null,null,null,null,null,null,null,null,null,null,null,null,null,null,null,null,null,null,null,null,null,null,null,null,null,null,null,null,null,null,null,null,null,{"$f":"IF(ISNUMBER(SEARCH($F$6,AP1980)),MAX($AO$11:AO1979)+1,0)","v":1969},0,{"$f":"ROWS($AQ$12:AQ1980)","v":1969},{"$f":"IFERROR(VLOOKUP(ROWS($AR$12:AR1980),$AO$12:$AP$3014,2,0),\"\")","v":0}]
[null,null,null,null,null,null,null,null,null,null,null,null,null,null,null,null,null,null,null,null,null,null,null,null,null,null,null,null,null,null,null,null,null,null,null,null,null,null,null,null,{"$f":"IF(ISNUMBER(SEARCH($F$6,AP1983)),MAX($AO$11:AO1982)+1,0)","v":1972},0,{"$f":"ROWS($AQ$12:AQ1983)","v":1972},{"$f":"IFERROR(VLOOKUP(ROWS($AR$12:AR1983),$AO$12:$AP$3014,2,0),\"\")","v":0}]
[null,null,null,null,null,null,null,null,null,null,null,null,null,null,null,null,null,null,null,null,null,null,null,null,null,null,null,null,null,null,null,null,null,null,null,null,null,null,null,null,{"$f":"IF(ISNUMBER(SEARCH($F$6,AP1986)),MAX($AO$11:AO1985)+1,0)","v":1975},0,{"$f":"ROWS($AQ$12:AQ1986)","v":1975},{"$f":"IFERROR(VLOOKUP(ROWS($AR$12:AR1986),$AO$12:$AP$3014,2,0),\"\")","v":0}]
[null,null,null,null,null,null,null,null,null,null,null,null,null,null,null,null,null,null,null,null,null,null,null,null,null,null,null,null,null,null,null,null,null,null,null,null,null,null,null,null,{"$f":"IF(ISNUMBER(SEARCH($F$6,AP1989)),MAX($AO$11:AO1988)+1,0)","v":1978},0,{"$f":"ROWS($AQ$12:AQ1989)","v":1978},{"$f":"IFERROR(VLOOKUP(ROWS($AR$12:AR1989),$AO$12:$AP$3014,2,0),\"\")","v":0}]
[null,null,null,null,null,null,null,null,null,null,null,null,null,null,null,null,null,null,null,null,null,null,null,null,null,null,null,null,null,null,null,null,null,null,null,null,null,null,null,null,{"$f":"IF(ISNUMBER(SEARCH($F$6,AP1990)),MAX($AO$11:AO1989)+1,0)","v":1979},0,{"$f":"ROWS($AQ$12:AQ1990)","v":1979},{"$f":"IFERROR(VLOOKUP(ROWS($AR$12:AR1990),$AO$12:$AP$3014,2,0),\"\")","v":0}]
[null,null,null,null,null,null,null,null,null,null,null,null,null,null,null,null,null,null,null,null,null,null,null,null,null,null,null,null,null,null,null,null,null,null,null,null,null,null,null,null,{"$f":"IF(ISNUMBER(SEARCH($F$6,AP1994)),MAX($AO$11:AO1993)+1,0)","v":1983},0,{"$f":"ROWS($AQ$12:AQ1994)","v":1983},{"$f":"IFERROR(VLOOKUP(ROWS($AR$12:AR1994),$AO$12:$AP$3014,2,0),\"\")","v":0}]
[null,null,null,null,null,null,null,null,null,null,null,null,null,null,null,null,null,null,null,null,null,null,null,null,null,null,null,null,null,null,null,null,null,null,null,null,null,null,null,null,{"$f":"IF(ISNUMBER(SEARCH($F$6,AP1995)),MAX($AO$11:AO1994)+1,0)","v":1984},0,{"$f":"ROWS($AQ$12:AQ1995)","v":1984},{"$f":"IFERROR(VLOOKUP(ROWS($AR$12:AR1995),$AO$12:$AP$3014,2,0),\"\")","v":0}]
[null,null,null,null,null,null,null,null,null,null,null,null,null,null,null,null,null,null,null,null,null,null,null,null,null,null,null,null,null,null,null,null,null,null,null,null,null,null,null,null,{"$f":"IF(ISNUMBER(SEARCH($F$6,AP1999)),MAX($AO$11:AO1998)+1,0)","v":1988},0,{"$f":"ROWS($AQ$12:AQ1999)","v":1988},{"$f":"IFERROR(VLOOKUP(ROWS($AR$12:AR1999),$AO$12:$AP$3014,2,0),\"\")","v":0}]
[null,null,null,null,null,null,null,null,null,null,null,null,null,null,null,null,null,null,null,null,null,null,null,null,null,null,null,null,null,null,null,null,null,null,null,null,null,null,null,null,{"$f":"IF(ISNUMBER(SEARCH($F$6,AP2002)),MAX($AO$11:AO2001)+1,0)","v":1991},0,{"$f":"ROWS($AQ$12:AQ2002)","v":1991},{"$f":"IFERROR(VLOOKUP(ROWS($AR$12:AR2002),$AO$12:$AP$3014,2,0),\"\")","v":0}]
[null,null,null,null,null,null,null,null,null,null,null,null,null,null,null,null,null,null,null,null,null,null,null,null,null,null,null,null,null,null,null,null,null,null,null,null,null,null,null,null,{"$f":"IF(ISNUMBER(SEARCH($F$6,AP2005)),MAX($AO$11:AO2004)+1,0)","v":1994},0,{"$f":"ROWS($AQ$12:AQ2005)","v":1994},{"$f":"IFERROR(VLOOKUP(ROWS($AR$12:AR2005),$AO$12:$AP$3014,2,0),\"\")","v":0}]
[null,null,null,null,null,null,null,null,null,null,null,null,null,null,null,null,null,null,null,null,null,null,null,null,null,null,null,null,null,null,null,null,null,null,null,null,null,null,null,null,{"$f":"IF(ISNUMBER(SEARCH($F$6,AP2008)),MAX($AO$11:AO2007)+1,0)","v":1997},0,{"$f":"ROWS($AQ$12:AQ2008)","v":1997},{"$f":"IFERROR(VLOOKUP(ROWS($AR$12:AR2008),$AO$12:$AP$3014,2,0),\"\")","v":0}]
[null,null,null,null,null,null,null,null,null,null,null,null,null,null,null,null,null,null,null,null,null,null,null,null,null,null,null,null,null,null,null,null,null,null,null,null,null,null,null,null,{"$f":"IF(ISNUMBER(SEARCH($F$6,AP2011)),MAX($AO$11:AO2010)+1,0)","v":2000},0,{"$f":"ROWS($AQ$12:AQ2011)","v":2000},{"$f":"IFERROR(VLOOKUP(ROWS($AR$12:AR2011),$AO$12:$AP$3014,2,0),\"\")","v":0}]
[null,null,null,null,null,null,null,null,null,null,null,null,null,null,null,null,null,null,null,null,null,null,null,null,null,null,null,null,null,null,null,null,null,null,null,null,null,null,null,null,{"$f":"IF(ISNUMBER(SEARCH($F$6,AP2012)),MAX($AO$11:AO2011)+1,0)","v":2001},0,{"$f":"ROWS($AQ$12:AQ2012)","v":2001},{"$f":"IFERROR(VLOOKUP(ROWS($AR$12:AR2012),$AO$12:$AP$3014,2,0),\"\")","v":0}]
[null,null,null,null,null,null,null,null,null,null,null,null,null,null,null,null,null,null,null,null,null,null,null,null,null,null,null,null,null,null,null,null,null,null,null,null,null,null,null,null,{"$f":"IF(ISNUMBER(SEARCH($F$6,AP2016)),MAX($AO$11:AO2015)+1,0)","v":2005},0,{"$f":"ROWS($AQ$12:AQ2016)","v":2005},{"$f":"IFERROR(VLOOKUP(ROWS($AR$12:AR2016),$AO$12:$AP$3014,2,0),\"\")","v":0}]
[null,null,null,null,null,null,null,null,null,null,null,null,null,null,null,null,null,null,null,null,null,null,null,null,null,null,null,null,null,null,null,null,null,null,null,null,null,null,null,null,{"$f":"IF(ISNUMBER(SEARCH($F$6,AP2017)),MAX($AO$11:AO2016)+1,0)","v":2006},0,{"$f":"ROWS($AQ$12:AQ2017)","v":2006},{"$f":"IFERROR(VLOOKUP(ROWS($AR$12:AR2017),$AO$12:$AP$3014,2,0),\"\")","v":0}]
[null,null,null,null,null,null,null,null,null,null,null,null,null,null,null,null,null,null,null,null,null,null,null,null,null,null,null,null,null,null,null,null,null,null,null,null,null,null,null,null,{"$f":"IF(ISNUMBER(SEARCH($F$6,AP2021)),MAX($AO$11:AO2020)+1,0)","v":2010},0,{"$f":"ROWS($AQ$12:AQ2021)","v":2010},{"$f":"IFERROR(VLOOKUP(ROWS($AR$12:AR2021),$AO$12:$AP$3014,2,0),\"\")","v":0}]
[null,null,null,null,null,null,null,null,null,null,null,null,null,null,null,null,null,null,null,null,null,null,null,null,null,null,null,null,null,null,null,null,null,null,null,null,null,null,null,null,{"$f":"IF(ISNUMBER(SEARCH($F$6,AP2024)),MAX($AO$11:AO2023)+1,0)","v":2013},0,{"$f":"ROWS($AQ$12:AQ2024)","v":2013},{"$f":"IFERROR(VLOOKUP(ROWS($AR$12:AR2024),$AO$12:$AP$3014,2,0),\"\")","v":0}]
[null,null,null,null,null,null,null,null,null,null,null,null,null,null,null,null,null,null,null,null,null,null,null,null,null,null,null,null,null,null,null,null,null,null,null,null,null,null,null,null,{"$f":"IF(ISNUMBER(SEARCH($F$6,AP2027)),MAX($AO$11:AO2026)+1,0)","v":2016},0,{"$f":"ROWS($AQ$12:AQ2027)","v":2016},{"$f":"IFERROR(VLOOKUP(ROWS($AR$12:AR2027),$AO$12:$AP$3014,2,0),\"\")","v":0}]
[null,null,null,null,null,null,null,null,null,null,null,null,null,null,null,null,null,null,null,null,null,null,null,null,null,null,null,null,null,null,null,null,null,null,null,null,null,null,null,null,{"$f":"IF(ISNUMBER(SEARCH($F$6,AP2030)),MAX($AO$11:AO2029)+1,0)","v":2019},0,{"$f":"ROWS($AQ$12:AQ2030)","v":2019},{"$f":"IFERROR(VLOOKUP(ROWS($AR$12:AR2030),$AO$12:$AP$3014,2,0),\"\")","v":0}]
[null,null,null,null,null,null,null,null,null,null,null,null,null,null,null,null,null,null,null,null,null,null,null,null,null,null,null,null,null,null,null,null,null,null,null,null,null,null,null,null,{"$f":"IF(ISNUMBER(SEARCH($F$6,AP2033)),MAX($AO$11:AO2032)+1,0)","v":2022},0,{"$f":"ROWS($AQ$12:AQ2033)","v":2022},{"$f":"IFERROR(VLOOKUP(ROWS($AR$12:AR2033),$AO$12:$AP$3014,2,0),\"\")","v":0}]
[null,null,null,null,null,null,null,null,null,null,null,null,null,null,null,null,null,null,null,null,null,null,null,null,null,null,null,null,null,null,null,null,null,null,null,null,null,null,null,null,{"$f":"IF(ISNUMBER(SEARCH($F$6,AP2034)),MAX($AO$11:AO2033)+1,0)","v":2023},0,{"$f":"ROWS($AQ$12:AQ2034)","v":2023},{"$f":"IFERROR(VLOOKUP(ROWS($AR$12:AR2034),$AO$12:$AP$3014,2,0),\"\")","v":0}]
[null,null,null,null,null,null,null,null,null,null,null,null,null,null,null,null,null,null,null,null,null,null,null,null,null,null,null,null,null,null,null,null,null,null,null,null,null,null,null,null,{"$f":"IF(ISNUMBER(SEARCH($F$6,AP2037)),MAX($AO$11:AO2036)+1,0)","v":2026},0,{"$f":"ROWS($AQ$12:AQ2037)","v":2026},{"$f":"IFERROR(VLOOKUP(ROWS($AR$12:AR2037),$AO$12:$AP$3014,2,0),\"\")","v":0}]
[null,null,null,null,null,null,null,null,null,null,null,null,null,null,null,null,null,null,null,null,null,null,null,null,null,null,null,null,null,null,null,null,null,null,null,null,null,null,null,null,{"$f":"IF(ISNUMBER(SEARCH($F$6,AP2040)),MAX($AO$11:AO2039)+1,0)","v":2029},0,{"$f":"ROWS($AQ$12:AQ2040)","v":2029},{"$f":"IFERROR(VLOOKUP(ROWS($AR$12:AR2040),$AO$12:$AP$3014,2,0),\"\")","v":0}]
[null,null,null,null,null,null,null,null,null,null,null,null,null,null,null,null,null,null,null,null,null,null,null,null,null,null,null,null,null,null,null,null,null,null,null,null,null,null,null,null,{"$f":"IF(ISNUMBER(SEARCH($F$6,AP2043)),MAX($AO$11:AO2042)+1,0)","v":2032},0,{"$f":"ROWS($AQ$12:AQ2043)","v":2032},{"$f":"IFERROR(VLOOKUP(ROWS($AR$12:AR2043),$AO$12:$AP$3014,2,0),\"\")","v":0}]
[null,null,null,null,null,null,null,null,null,null,null,null,null,null,null,null,null,null,null,null,null,null,null,null,null,null,null,null,null,null,null,null,null,null,null,null,null,null,null,null,{"$f":"IF(ISNUMBER(SEARCH($F$6,AP2046)),MAX($AO$11:AO2045)+1,0)","v":2035},0,{"$f":"ROWS($AQ$12:AQ2046)","v":2035},{"$f":"IFERROR(VLOOKUP(ROWS($AR$12:AR2046),$AO$12:$AP$3014,2,0),\"\")","v":0}]
[null,null,null,null,null,null,null,null,null,null,null,null,null,null,null,null,null,null,null,null,null,null,null,null,null,null,null,null,null,null,null,null,null,null,null,null,null,null,null,null,{"$f":"IF(ISNUMBER(SEARCH($F$6,AP2050)),MAX($AO$11:AO2049)+1,0)","v":2039},0,{"$f":"ROWS($AQ$12:AQ2050)","v":2039},{"$f":"IFERROR(VLOOKUP(ROWS($AR$12:AR2050),$AO$12:$AP$3014,2,0),\"\")","v":0}]
[null,null,null,null,null,null,null,null,null,null,null,null,null,null,null,null,null,null,null,null,null,null,null,null,null,null,null,null,null,null,null,null,null,null,null,null,null,null,null,null,{"$f":"IF(ISNUMBER(SEARCH($F$6,AP2051)),MAX($AO$11:AO2050)+1,0)","v":2040},0,{"$f":"ROWS($AQ$12:AQ2051)","v":2040},{"$f":"IFERROR(VLOOKUP(ROWS($AR$12:AR2051),$AO$12:$AP$3014,2,0),\"\")","v":0}]
[null,null,null,null,null,null,null,null,null,null,null,null,null,null,null,null,null,null,null,null,null,null,null,null,null,null,null,null,null,null,null,null,null,null,null,null,null,null,null,null,{"$f":"IF(ISNUMBER(SEARCH($F$6,AP2055)),MAX($AO$11:AO2054)+1,0)","v":2044},0,{"$f":"ROWS($AQ$12:AQ2055)","v":2044},{"$f":"IFERROR(VLOOKUP(ROWS($AR$12:AR2055),$AO$12:$AP$3014,2,0),\"\")","v":0}]
[null,null,null,null,null,null,null,null,null,null,null,null,null,null,null,null,null,null,null,null,null,null,null,null,null,null,null,null,null,null,null,null,null,null,null,null,null,null,null,null,{"$f":"IF(ISNUMBER(SEARCH($F$6,AP2056)),MAX($AO$11:AO2055)+1,0)","v":2045},0,{"$f":"ROWS($AQ$12:AQ2056)","v":2045},{"$f":"IFERROR(VLOOKUP(ROWS($AR$12:AR2056),$AO$12:$AP$3014,2,0),\"\")","v":0}]
[null,null,null,null,null,null,null,null,null,null,null,null,null,null,null,null,null,null,null,null,null,null,null,null,null,null,null,null,null,null,null,null,null,null,null,null,null,null,null,null,{"$f":"IF(ISNUMBER(SEARCH($F$6,AP2059)),MAX($AO$11:AO2058)+1,0)","v":2048},0,{"$f":"ROWS($AQ$12:AQ2059)","v":2048},{"$f":"IFERROR(VLOOKUP(ROWS($AR$12:AR2059),$AO$12:$AP$3014,2,0),\"\")","v":0}]
[null,null,null,null,null,null,null,null,null,null,null,null,null,null,null,null,null,null,null,null,null,null,null,null,null,null,null,null,null,null,null,null,null,null,null,null,null,null,null,null,{"$f":"IF(ISNUMBER(SEARCH($F$6,AP2062)),MAX($AO$11:AO2061)+1,0)","v":2051},0,{"$f":"ROWS($AQ$12:AQ2062)","v":2051},{"$f":"IFERROR(VLOOKUP(ROWS($AR$12:AR2062),$AO$12:$AP$3014,2,0),\"\")","v":0}]
[null,null,null,null,null,null,null,null,null,null,null,null,null,null,null,null,null,null,null,null,null,null,null,null,null,null,null,null,null,null,null,null,null,null,null,null,null,null,null,null,{"$f":"IF(ISNUMBER(SEARCH($F$6,AP2065)),MAX($AO$11:AO2064)+1,0)","v":2054},0,{"$f":"ROWS($AQ$12:AQ2065)","v":2054},{"$f":"IFERROR(VLOOKUP(ROWS($AR$12:AR2065),$AO$12:$AP$3014,2,0),\"\")","v":0}]
[null,null,null,null,null,null,null,null,null,null,null,null,null,null,null,null,null,null,null,null,null,null,null,null,null,null,null,null,null,null,null,null,null,null,null,null,null,null,null,null,{"$f":"IF(ISNUMBER(SEARCH($F$6,AP2068)),MAX($AO$11:AO2067)+1,0)","v":2057},0,{"$f":"ROWS($AQ$12:AQ2068)","v":2057},{"$f":"IFERROR(VLOOKUP(ROWS($AR$12:AR2068),$AO$12:$AP$3014,2,0),\"\")","v":0}]
[null,null,null,null,null,null,null,null,null,null,null,null,null,null,null,null,null,null,null,null,null,null,null,null,null,null,null,null,null,null,null,null,null,null,null,null,null,null,null,null,{"$f":"IF(ISNUMBER(SEARCH($F$6,AP2072)),MAX($AO$11:AO2071)+1,0)","v":2061},0,{"$f":"ROWS($AQ$12:AQ2072)","v":2061},{"$f":"IFERROR(VLOOKUP(ROWS($AR$12:AR2072),$AO$12:$AP$3014,2,0),\"\")","v":0}]
[null,null,null,null,null,null,null,null,null,null,null,null,null,null,null,null,null,null,null,null,null,null,null,null,null,null,null,null,null,null,null,null,null,null,null,null,null,null,null,null,{"$f":"IF(ISNUMBER(SEARCH($F$6,AP2073)),MAX($AO$11:AO2072)+1,0)","v":2062},0,{"$f":"ROWS($AQ$12:AQ2073)","v":2062},{"$f":"IFERROR(VLOOKUP(ROWS($AR$12:AR2073),$AO$12:$AP$3014,2,0),\"\")","v":0}]
[null,null,null,null,null,null,null,null,null,null,null,null,null,null,null,null,null,null,null,null,null,null,null,null,null,null,null,null,null,null,null,null,null,null,null,null,null,null,null,null,{"$f":"IF(ISNUMBER(SEARCH($F$6,AP2077)),MAX($AO$11:AO2076)+1,0)","v":2066},0,{"$f":"ROWS($AQ$12:AQ2077)","v":2066},{"$f":"IFERROR(VLOOKUP(ROWS($AR$12:AR2077),$AO$12:$AP$3014,2,0),\"\")","v":0}]
[null,null,null,null,null,null,null,null,null,null,null,null,null,null,null,null,null,null,null,null,null,null,null,null,null,null,null,null,null,null,null,null,null,null,null,null,null,null,null,null,{"$f":"IF(ISNUMBER(SEARCH($F$6,AP2078)),MAX($AO$11:AO2077)+1,0)","v":2067},0,{"$f":"ROWS($AQ$12:AQ2078)","v":2067},{"$f":"IFERROR(VLOOKUP(ROWS($AR$12:AR2078),$AO$12:$AP$3014,2,0),\"\")","v":0}]
[null,null,null,null,null,null,null,null,null,null,null,null,null,null,null,null,null,null,null,null,null,null,null,null,null,null,null,null,null,null,null,null,null,null,null,null,null,null,null,null,{"$f":"IF(ISNUMBER(SEARCH($F$6,AP2081)),MAX($AO$11:AO2080)+1,0)","v":2070},0,{"$f":"ROWS($AQ$12:AQ2081)","v":2070},{"$f":"IFERROR(VLOOKUP(ROWS($AR$12:AR2081),$AO$12:$AP$3014,2,0),\"\")","v":0}]
[null,null,null,null,null,null,null,null,null,null,null,null,null,null,null,null,null,null,null,null,null,null,null,null,null,null,null,null,null,null,null,null,null,null,null,null,null,null,null,null,{"$f":"IF(ISNUMBER(SEARCH($F$6,AP2084)),MAX($AO$11:AO2083)+1,0)","v":2073},0,{"$f":"ROWS($AQ$12:AQ2084)","v":2073},{"$f":"IFERROR(VLOOKUP(ROWS($AR$12:AR2084),$AO$12:$AP$3014,2,0),\"\")","v":0}]
[null,null,null,null,null,null,null,null,null,null,null,null,null,null,null,null,null,null,null,null,null,null,null,null,null,null,null,null,null,null,null,null,null,null,null,null,null,null,null,null,{"$f":"IF(ISNUMBER(SEARCH($F$6,AP2087)),MAX($AO$11:AO2086)+1,0)","v":2076},0,{"$f":"ROWS($AQ$12:AQ2087)","v":2076},{"$f":"IFERROR(VLOOKUP(ROWS($AR$12:AR2087),$AO$12:$AP$3014,2,0),\"\")","v":0}]
[null,null,null,null,null,null,null,null,null,null,null,null,null,null,null,null,null,null,null,null,null,null,null,null,null,null,null,null,null,null,null,null,null,null,null,null,null,null,null,null,{"$f":"IF(ISNUMBER(SEARCH($F$6,AP2090)),MAX($AO$11:AO2089)+1,0)","v":2079},0,{"$f":"ROWS($AQ$12:AQ2090)","v":2079},{"$f":"IFERROR(VLOOKUP(ROWS($AR$12:AR2090),$AO$12:$AP$3014,2,0),\"\")","v":0}]
[null,null,null,null,null,null,null,null,null,null,null,null,null,null,null,null,null,null,null,null,null,null,null,null,null,null,null,null,null,null,null,null,null,null,null,null,null,null,null,null,{"$f":"IF(ISNUMBER(SEARCH($F$6,AP2094)),MAX($AO$11:AO2093)+1,0)","v":2083},0,{"$f":"ROWS($AQ$12:AQ2094)","v":2083},{"$f":"IFERROR(VLOOKUP(ROWS($AR$12:AR2094),$AO$12:$AP$3014,2,0),\"\")","v":0}]
[null,null,null,null,null,null,null,null,null,null,null,null,null,null,null,null,null,null,null,null,null,null,null,null,null,null,null,null,null,null,null,null,null,null,null,null,null,null,null,null,{"$f":"IF(ISNUMBER(SEARCH($F$6,AP2095)),MAX($AO$11:AO2094)+1,0)","v":2084},0,{"$f":"ROWS($AQ$12:AQ2095)","v":2084},{"$f":"IFERROR(VLOOKUP(ROWS($AR$12:AR2095),$AO$12:$AP$3014,2,0),\"\")","v":0}]
[null,null,null,null,null,null,null,null,null,null,null,null,null,null,null,null,null,null,null,null,null,null,null,null,null,null,null,null,null,null,null,null,null,null,null,null,null,null,null,null,{"$f":"IF(ISNUMBER(SEARCH($F$6,AP2097)),MAX($AO$11:AO2096)+1,0)","v":2086},0,{"$f":"ROWS($AQ$12:AQ2097)","v":2086},{"$f":"IFERROR(VLOOKUP(ROWS($AR$12:AR2097),$AO$12:$AP$3014,2,0),\"\")","v":0}]
[null,null,null,null,null,null,null,null,null,null,null,null,null,null,null,null,null,null,null,null,null,null,null,null,null,null,null,null,null,null,null,null,null,null,null,null,null,null,null,null,{"$f":"IF(ISNUMBER(SEARCH($F$6,AP2100)),MAX($AO$11:AO2099)+1,0)","v":2089},0,{"$f":"ROWS($AQ$12:AQ2100)","v":2089},{"$f":"IFERROR(VLOOKUP(ROWS($AR$12:AR2100),$AO$12:$AP$3014,2,0),\"\")","v":0}]
[null,null,null,null,null,null,null,null,null,null,null,null,null,null,null,null,null,null,null,null,null,null,null,null,null,null,null,null,null,null,null,null,null,null,null,null,null,null,null,null,{"$f":"IF(ISNUMBER(SEARCH($F$6,AP2103)),MAX($AO$11:AO2102)+1,0)","v":2092},0,{"$f":"ROWS($AQ$12:AQ2103)","v":2092},{"$f":"IFERROR(VLOOKUP(ROWS($AR$12:AR2103),$AO$12:$AP$3014,2,0),\"\")","v":0}]
[null,null,null,null,null,null,null,null,null,null,null,null,null,null,null,null,null,null,null,null,null,null,null,null,null,null,null,null,null,null,null,null,null,null,null,null,null,null,null,null,{"$f":"IF(ISNUMBER(SEARCH($F$6,AP2106)),MAX($AO$11:AO2105)+1,0)","v":2095},0,{"$f":"ROWS($AQ$12:AQ2106)","v":2095},{"$f":"IFERROR(VLOOKUP(ROWS($AR$12:AR2106),$AO$12:$AP$3014,2,0),\"\")","v":0}]
[null,null,null,null,null,null,null,null,null,null,null,null,null,null,null,null,null,null,null,null,null,null,null,null,null,null,null,null,null,null,null,null,null,null,null,null,null,null,null,null,{"$f":"IF(ISNUMBER(SEARCH($F$6,AP2109)),MAX($AO$11:AO2108)+1,0)","v":2098},0,{"$f":"ROWS($AQ$12:AQ2109)","v":2098},{"$f":"IFERROR(VLOOKUP(ROWS($AR$12:AR2109),$AO$12:$AP$3014,2,0),\"\")","v":0}]
[null,null,null,null,null,null,null,null,null,null,null,null,null,null,null,null,null,null,null,null,null,null,null,null,null,null,null,null,null,null,null,null,null,null,null,null,null,null,null,null,{"$f":"IF(ISNUMBER(SEARCH($F$6,AP2112)),MAX($AO$11:AO2111)+1,0)","v":2101},0,{"$f":"ROWS($AQ$12:AQ2112)","v":2101},{"$f":"IFERROR(VLOOKUP(ROWS($AR$12:AR2112),$AO$12:$AP$3014,2,0),\"\")","v":0}]
[null,null,null,null,null,null,null,null,null,null,null,null,null,null,null,null,null,null,null,null,null,null,null,null,null,null,null,null,null,null,null,null,null,null,null,null,null,null,null,null,{"$f":"IF(ISNUMBER(SEARCH($F$6,AP2116)),MAX($AO$11:AO2115)+1,0)","v":2105},0,{"$f":"ROWS($AQ$12:AQ2116)","v":2105},{"$f":"IFERROR(VLOOKUP(ROWS($AR$12:AR2116),$AO$12:$AP$3014,2,0),\"\")","v":0}]
[null,null,null,null,null,null,null,null,null,null,null,null,null,null,null,null,null,null,null,null,null,null,null,null,null,null,null,null,null,null,null,null,null,null,null,null,null,null,null,null,{"$f":"IF(ISNUMBER(SEARCH($F$6,AP2117)),MAX($AO$11:AO2116)+1,0)","v":2106},0,{"$f":"ROWS($AQ$12:AQ2117)","v":2106},{"$f":"IFERROR(VLOOKUP(ROWS($AR$12:AR2117),$AO$12:$AP$3014,2,0),\"\")","v":0}]
[null,null,null,null,null,null,null,null,null,null,null,null,null,null,null,null,null,null,null,null,null,null,null,null,null,null,null,null,null,null,null,null,null,null,null,null,null,null,null,null,{"$f":"IF(ISNUMBER(SEARCH($F$6,AP2119)),MAX($AO$11:AO2118)+1,0)","v":2108},0,{"$f":"ROWS($AQ$12:AQ2119)","v":2108},{"$f":"IFERROR(VLOOKUP(ROWS($AR$12:AR2119),$AO$12:$AP$3014,2,0),\"\")","v":0}]
[null,null,null,null,null,null,null,null,null,null,null,null,null,null,null,null,null,null,null,null,null,null,null,null,null,null,null,null,null,null,null,null,null,null,null,null,null,null,null,null,{"$f":"IF(ISNUMBER(SEARCH($F$6,AP2122)),MAX($AO$11:AO2121)+1,0)","v":2111},0,{"$f":"ROWS($AQ$12:AQ2122)","v":2111},{"$f":"IFERROR(VLOOKUP(ROWS($AR$12:AR2122),$AO$12:$AP$3014,2,0),\"\")","v":0}]
[null,null,null,null,null,null,null,null,null,null,null,null,null,null,null,null,null,null,null,null,null,null,null,null,null,null,null,null,null,null,null,null,null,null,null,null,null,null,null,null,{"$f":"IF(ISNUMBER(SEARCH($F$6,AP2125)),MAX($AO$11:AO2124)+1,0)","v":2114},0,{"$f":"ROWS($AQ$12:AQ2125)","v":2114},{"$f":"IFERROR(VLOOKUP(ROWS($AR$12:AR2125),$AO$12:$AP$3014,2,0),\"\")","v":0}]
[null,null,null,null,null,null,null,null,null,null,null,null,null,null,null,null,null,null,null,null,null,null,null,null,null,null,null,null,null,null,null,null,null,null,null,null,null,null,null,null,{"$f":"IF(ISNUMBER(SEARCH($F$6,AP2128)),MAX($AO$11:AO2127)+1,0)","v":2117},0,{"$f":"ROWS($AQ$12:AQ2128)","v":2117},{"$f":"IFERROR(VLOOKUP(ROWS($AR$12:AR2128),$AO$12:$AP$3014,2,0),\"\")","v":0}]
[null,null,null,null,null,null,null,null,null,null,null,null,null,null,null,null,null,null,null,null,null,null,null,null,null,null,null,null,null,null,null,null,null,null,null,null,null,null,null,null,{"$f":"IF(ISNUMBER(SEARCH($F$6,AP2131)),MAX($AO$11:AO2130)+1,0)","v":2120},0,{"$f":"ROWS($AQ$12:AQ2131)","v":2120},{"$f":"IFERROR(VLOOKUP(ROWS($AR$12:AR2131),$AO$12:$AP$3014,2,0),\"\")","v":0}]
[null,null,null,null,null,null,null,null,null,null,null,null,null,null,null,null,null,null,null,null,null,null,null,null,null,null,null,null,null,null,null,null,null,null,null,null,null,null,null,null,{"$f":"IF(ISNUMBER(SEARCH($F$6,AP2134)),MAX($AO$11:AO2133)+1,0)","v":2123},0,{"$f":"ROWS($AQ$12:AQ2134)","v":2123},{"$f":"IFERROR(VLOOKUP(ROWS($AR$12:AR2134),$AO$12:$AP$3014,2,0),\"\")","v":0}]
[null,null,null,null,null,null,null,null,null,null,null,null,null,null,null,null,null,null,null,null,null,null,null,null,null,null,null,null,null,null,null,null,null,null,null,null,null,null,null,null,{"$f":"IF(ISNUMBER(SEARCH($F$6,AP2138)),MAX($AO$11:AO2137)+1,0)","v":2127},0,{"$f":"ROWS($AQ$12:AQ2138)","v":2127},{"$f":"IFERROR(VLOOKUP(ROWS($AR$12:AR2138),$AO$12:$AP$3014,2,0),\"\")","v":0}]
[null,null,null,null,null,null,null,null,null,null,null,null,null,null,null,null,null,null,null,null,null,null,null,null,null,null,null,null,null,null,null,null,null,null,null,null,null,null,null,null,{"$f":"IF(ISNUMBER(SEARCH($F$6,AP2139)),MAX($AO$11:AO2138)+1,0)","v":2128},0,{"$f":"ROWS($AQ$12:AQ2139)","v":2128},{"$f":"IFERROR(VLOOKUP(ROWS($AR$12:AR2139),$AO$12:$AP$3014,2,0),\"\")","v":0}]
[null,null,null,null,null,null,null,null,null,null,null,null,null,null,null,null,null,null,null,null,null,null,null,null,null,null,null,null,null,null,null,null,null,null,null,null,null,null,null,null,{"$f":"IF(ISNUMBER(SEARCH($F$6,AP2141)),MAX($AO$11:AO2140)+1,0)","v":2130},0,{"$f":"ROWS($AQ$12:AQ2141)","v":2130},{"$f":"IFERROR(VLOOKUP(ROWS($AR$12:AR2141),$AO$12:$AP$3014,2,0),\"\")","v":0}]
[null,null,null,null,null,null,null,null,null,null,null,null,null,null,null,null,null,null,null,null,null,null,null,null,null,null,null,null,null,null,null,null,null,null,null,null,null,null,null,null,{"$f":"IF(ISNUMBER(SEARCH($F$6,AP2144)),MAX($AO$11:AO2143)+1,0)","v":2133},0,{"$f":"ROWS($AQ$12:AQ2144)","v":2133},{"$f":"IFERROR(VLOOKUP(ROWS($AR$12:AR2144),$AO$12:$AP$3014,2,0),\"\")","v":0}]
[null,null,null,null,null,null,null,null,null,null,null,null,null,null,null,null,null,null,null,null,null,null,null,null,null,null,null,null,null,null,null,null,null,null,null,null,null,null,null,null,{"$f":"IF(ISNUMBER(SEARCH($F$6,AP2147)),MAX($AO$11:AO2146)+1,0)","v":2136},0,{"$f":"ROWS($AQ$12:AQ2147)","v":2136},{"$f":"IFERROR(VLOOKUP(ROWS($AR$12:AR2147),$AO$12:$AP$3014,2,0),\"\")","v":0}]
[null,null,null,null,null,null,null,null,null,null,null,null,null,null,null,null,null,null,null,null,null,null,null,null,null,null,null,null,null,null,null,null,null,null,null,null,null,null,null,null,{"$f":"IF(ISNUMBER(SEARCH($F$6,AP2151)),MAX($AO$11:AO2150)+1,0)","v":2140},0,{"$f":"ROWS($AQ$12:AQ2151)","v":2140},{"$f":"IFERROR(VLOOKUP(ROWS($AR$12:AR2151),$AO$12:$AP$3014,2,0),\"\")","v":0}]
[null,null,null,null,null,null,null,null,null,null,null,null,null,null,null,null,null,null,null,null,null,null,null,null,null,null,null,null,null,null,null,null,null,null,null,null,null,null,null,null,{"$f":"IF(ISNUMBER(SEARCH($F$6,AP2154)),MAX($AO$11:AO2153)+1,0)","v":2143},0,{"$f":"ROWS($AQ$12:AQ2154)","v":2143},{"$f":"IFERROR(VLOOKUP(ROWS($AR$12:AR2154),$AO$12:$AP$3014,2,0),\"\")","v":0}]
[null,null,null,null,null,null,null,null,null,null,null,null,null,null,null,null,null,null,null,null,null,null,null,null,null,null,null,null,null,null,null,null,null,null,null,null,null,null,null,null,{"$f":"IF(ISNUMBER(SEARCH($F$6,AP2157)),MAX($AO$11:AO2156)+1,0)","v":2146},0,{"$f":"ROWS($AQ$12:AQ2157)","v":2146},{"$f":"IFERROR(VLOOKUP(ROWS($AR$12:AR2157),$AO$12:$AP$3014,2,0),\"\")","v":0}]
[null,null,null,null,null,null,null,null,null,null,null,null,null,null,null,null,null,null,null,null,null,null,null,null,null,null,null,null,null,null,null,null,null,null,null,null,null,null,null,null,{"$f":"IF(ISNUMBER(SEARCH($F$6,AP2160)),MAX($AO$11:AO2159)+1,0)","v":2149},0,{"$f":"ROWS($AQ$12:AQ2160)","v":2149},{"$f":"IFERROR(VLOOKUP(ROWS($AR$12:AR2160),$AO$12:$AP$3014,2,0),\"\")","v":0}]
[null,null,null,null,null,null,null,null,null,null,null,null,null,null,null,null,null,null,null,null,null,null,null,null,null,null,null,null,null,null,null,null,null,null,null,null,null,null,null,null,{"$f":"IF(ISNUMBER(SEARCH($F$6,AP2163)),MAX($AO$11:AO2162)+1,0)","v":2152},0,{"$f":"ROWS($AQ$12:AQ2163)","v":2152},{"$f":"IFERROR(VLOOKUP(ROWS($AR$12:AR2163),$AO$12:$AP$3014,2,0),\"\")","v":0}]
[null,null,null,null,null,null,null,null,null,null,null,null,null,null,null,null,null,null,null,null,null,null,null,null,null,null,null,null,null,null,null,null,null,null,null,null,null,null,null,null,{"$f":"IF(ISNUMBER(SEARCH($F$6,AP2165)),MAX($AO$11:AO2164)+1,0)","v":2154},0,{"$f":"ROWS($AQ$12:AQ2165)","v":2154},{"$f":"IFERROR(VLOOKUP(ROWS($AR$12:AR2165),$AO$12:$AP$3014,2,0),\"\")","v":0}]
[null,null,null,null,null,null,null,null,null,null,null,null,null,null,null,null,null,null,null,null,null,null,null,null,null,null,null,null,null,null,null,null,null,null,null,null,null,null,null,null,{"$f":"IF(ISNUMBER(SEARCH($F$6,AP2166)),MAX($AO$11:AO2165)+1,0)","v":2155},0,{"$f":"ROWS($AQ$12:AQ2166)","v":2155},{"$f":"IFERROR(VLOOKUP(ROWS($AR$12:AR2166),$AO$12:$AP$3014,2,0),\"\")","v":0}]
[null,null,null,null,null,null,null,null,null,null,null,null,null,null,null,null,null,null,null,null,null,null,null,null,null,null,null,null,null,null,null,null,null,null,null,null,null,null,null,null,{"$f":"IF(ISNUMBER(SEARCH($F$6,AP2169)),MAX($AO$11:AO2168)+1,0)","v":2158},0,{"$f":"ROWS($AQ$12:AQ2169)","v":2158},{"$f":"IFERROR(VLOOKUP(ROWS($AR$12:AR2169),$AO$12:$AP$3014,2,0),\"\")","v":0}]
[null,null,null,null,null,null,null,null,null,null,null,null,null,null,null,null,null,null,null,null,null,null,null,null,null,null,null,null,null,null,null,null,null,null,null,null,null,null,null,null,{"$f":"IF(ISNUMBER(SEARCH($F$6,AP2173)),MAX($AO$11:AO2172)+1,0)","v":2162},0,{"$f":"ROWS($AQ$12:AQ2173)","v":2162},{"$f":"IFERROR(VLOOKUP(ROWS($AR$12:AR2173),$AO$12:$AP$3014,2,0),\"\")","v":0}]
[null,null,null,null,null,null,null,null,null,null,null,null,null,null,null,null,null,null,null,null,null,null,null,null,null,null,null,null,null,null,null,null,null,null,null,null,null,null,null,null,{"$f":"IF(ISNUMBER(SEARCH($F$6,AP2176)),MAX($AO$11:AO2175)+1,0)","v":2165},0,{"$f":"ROWS($AQ$12:AQ2176)","v":2165},{"$f":"IFERROR(VLOOKUP(ROWS($AR$12:AR2176),$AO$12:$AP$3014,2,0),\"\")","v":0}]
[null,null,null,null,null,null,null,null,null,null,null,null,null,null,null,null,null,null,null,null,null,null,null,null,null,null,null,null,null,null,null,null,null,null,null,null,null,null,null,null,{"$f":"IF(ISNUMBER(SEARCH($F$6,AP2179)),MAX($AO$11:AO2178)+1,0)","v":2168},0,{"$f":"ROWS($AQ$12:AQ2179)","v":2168},{"$f":"IFERROR(VLOOKUP(ROWS($AR$12:AR2179),$AO$12:$AP$3014,2,0),\"\")","v":0}]
[null,null,null,null,null,null,null,null,null,null,null,null,null,null,null,null,null,null,null,null,null,null,null,null,null,null,null,null,null,null,null,null,null,null,null,null,null,null,null,null,{"$f":"IF(ISNUMBER(SEARCH($F$6,AP2182)),MAX($AO$11:AO2181)+1,0)","v":2171},0,{"$f":"ROWS($AQ$12:AQ2182)","v":2171},{"$f":"IFERROR(VLOOKUP(ROWS($AR$12:AR2182),$AO$12:$AP$3014,2,0),\"\")","v":0}]
[null,null,null,null,null,null,null,null,null,null,null,null,null,null,null,null,null,null,null,null,null,null,null,null,null,null,null,null,null,null,null,null,null,null,null,null,null,null,null,null,{"$f":"IF(ISNUMBER(SEARCH($F$6,AP2185)),MAX($AO$11:AO2184)+1,0)","v":2174},0,{"$f":"ROWS($AQ$12:AQ2185)","v":2174},{"$f":"IFERROR(VLOOKUP(ROWS($AR$12:AR2185),$AO$12:$AP$3014,2,0),\"\")","v":0}]
[null,null,null,null,null,null,null,null,null,null,null,null,null,null,null,null,null,null,null,null,null,null,null,null,null,null,null,null,null,null,null,null,null,null,null,null,null,null,null,null,{"$f":"IF(ISNUMBER(SEARCH($F$6,AP2187)),MAX($AO$11:AO2186)+1,0)","v":2176},0,{"$f":"ROWS($AQ$12:AQ2187)","v":2176},{"$f":"IFERROR(VLOOKUP(ROWS($AR$12:AR2187),$AO$12:$AP$3014,2,0),\"\")","v":0}]
[null,null,null,null,null,null,null,null,null,null,null,null,null,null,null,null,null,null,null,null,null,null,null,null,null,null,null,null,null,null,null,null,null,null,null,null,null,null,null,null,{"$f":"IF(ISNUMBER(SEARCH($F$6,AP2188)),MAX($AO$11:AO2187)+1,0)","v":2177},0,{"$f":"ROWS($AQ$12:AQ2188)","v":2177},{"$f":"IFERROR(VLOOKUP(ROWS($AR$12:AR2188),$AO$12:$AP$3014,2,0),\"\")","v":0}]
[null,null,null,null,null,null,null,null,null,null,null,null,null,null,null,null,null,null,null,null,null,null,null,null,null,null,null,null,null,null,null,null,null,null,null,null,null,null,null,null,{"$f":"IF(ISNUMBER(SEARCH($F$6,AP2192)),MAX($AO$11:AO2191)+1,0)","v":2181},0,{"$f":"ROWS($AQ$12:AQ2192)","v":2181},{"$f":"IFERROR(VLOOKUP(ROWS($AR$12:AR2192),$AO$12:$AP$3014,2,0),\"\")","v":0}]
[null,null,null,null,null,null,null,null,null,null,null,null,null,null,null,null,null,null,null,null,null,null,null,null,null,null,null,null,null,null,null,null,null,null,null,null,null,null,null,null,{"$f":"IF(ISNUMBER(SEARCH($F$6,AP2195)),MAX($AO$11:AO2194)+1,0)","v":2184},0,{"$f":"ROWS($AQ$12:AQ2195)","v":2184},{"$f":"IFERROR(VLOOKUP(ROWS($AR$12:AR2195),$AO$12:$AP$3014,2,0),\"\")","v":0}]
[null,null,null,null,null,null,null,null,null,null,null,null,null,null,null,null,null,null,null,null,null,null,null,null,null,null,null,null,null,null,null,null,null,null,null,null,null,null,null,null,{"$f":"IF(ISNUMBER(SEARCH($F$6,AP2198)),MAX($AO$11:AO2197)+1,0)","v":2187},0,{"$f":"ROWS($AQ$12:AQ2198)","v":2187},{"$f":"IFERROR(VLOOKUP(ROWS($AR$12:AR2198),$AO$12:$AP$3014,2,0),\"\")","v":0}]
[null,null,null,null,null,null,null,null,null,null,null,null,null,null,null,null,null,null,null,null,null,null,null,null,null,null,null,null,null,null,null,null,null,null,null,null,null,null,null,null,{"$f":"IF(ISNUMBER(SEARCH($F$6,AP2201)),MAX($AO$11:AO2200)+1,0)","v":2190},0,{"$f":"ROWS($AQ$12:AQ2201)","v":2190},{"$f":"IFERROR(VLOOKUP(ROWS($AR$12:AR2201),$AO$12:$AP$3014,2,0),\"\")","v":0}]
[null,null,null,null,null,null,null,null,null,null,null,null,null,null,null,null,null,null,null,null,null,null,null,null,null,null,null,null,null,null,null,null,null,null,null,null,null,null,null,null,{"$f":"IF(ISNUMBER(SEARCH($F$6,AP2204)),MAX($AO$11:AO2203)+1,0)","v":2193},0,{"$f":"ROWS($AQ$12:AQ2204)","v":2193},{"$f":"IFERROR(VLOOKUP(ROWS($AR$12:AR2204),$AO$12:$AP$3014,2,0),\"\")","v":0}]
[null,null,null,null,null,null,null,null,null,null,null,null,null,null,null,null,null,null,null,null,null,null,null,null,null,null,null,null,null,null,null,null,null,null,null,null,null,null,null,null,{"$f":"IF(ISNUMBER(SEARCH($F$6,AP2207)),MAX($AO$11:AO2206)+1,0)","v":2196},0,{"$f":"ROWS($AQ$12:AQ2207)","v":2196},{"$f":"IFERROR(VLOOKUP(ROWS($AR$12:AR2207),$AO$12:$AP$3014,2,0),\"\")","v":0}]
[null,null,null,null,null,null,null,null,null,null,null,null,null,null,null,null,null,null,null,null,null,null,null,null,null,null,null,null,null,null,null,null,null,null,null,null,null,null,null,null,{"$f":"IF(ISNUMBER(SEARCH($F$6,AP2209)),MAX($AO$11:AO2208)+1,0)","v":2198},0,{"$f":"ROWS($AQ$12:AQ2209)","v":2198},{"$f":"IFERROR(VLOOKUP(ROWS($AR$12:AR2209),$AO$12:$AP$3014,2,0),\"\")","v":0}]
[null,null,null,null,null,null,null,null,null,null,null,null,null,null,null,null,null,null,null,null,null,null,null,null,null,null,null,null,null,null,null,null,null,null,null,null,null,null,null,null,{"$f":"IF(ISNUMBER(SEARCH($F$6,AP2210)),MAX($AO$11:AO2209)+1,0)","v":2199},0,{"$f":"ROWS($AQ$12:AQ2210)","v":2199},{"$f":"IFERROR(VLOOKUP(ROWS($AR$12:AR2210),$AO$12:$AP$3014,2,0),\"\")","v":0}]
[null,null,null,null,null,null,null,null,null,null,null,null,null,null,null,null,null,null,null,null,null,null,null,null,null,null,null,null,null,null,null,null,null,null,null,null,null,null,null,null,{"$f":"IF(ISNUMBER(SEARCH($F$6,AP2214)),MAX($AO$11:AO2213)+1,0)","v":2203},0,{"$f":"ROWS($AQ$12:AQ2214)","v":2203},{"$f":"IFERROR(VLOOKUP(ROWS($AR$12:AR2214),$AO$12:$AP$3014,2,0),\"\")","v":0}]
[null,null,null,null,null,null,null,null,null,null,null,null,null,null,null,null,null,null,null,null,null,null,null,null,null,null,null,null,null,null,null,null,null,null,null,null,null,null,null,null,{"$f":"IF(ISNUMBER(SEARCH($F$6,AP2217)),MAX($AO$11:AO2216)+1,0)","v":2206},0,{"$f":"ROWS($AQ$12:AQ2217)","v":2206},{"$f":"IFERROR(VLOOKUP(ROWS($AR$12:AR2217),$AO$12:$AP$3014,2,0),\"\")","v":0}]
[null,null,null,null,null,null,null,null,null,null,null,null,null,null,null,null,null,null,null,null,null,null,null,null,null,null,null,null,null,null,null,null,null,null,null,null,null,null,null,null,{"$f":"IF(ISNUMBER(SEARCH($F$6,AP2220)),MAX($AO$11:AO2219)+1,0)","v":2209},0,{"$f":"ROWS($AQ$12:AQ2220)","v":2209},{"$f":"IFERROR(VLOOKUP(ROWS($AR$12:AR2220),$AO$12:$AP$3014,2,0),\"\")","v":0}]
[null,null,null,null,null,null,null,null,null,null,null,null,null,null,null,null,null,null,null,null,null,null,null,null,null,null,null,null,null,null,null,null,null,null,null,null,null,null,null,null,{"$f":"IF(ISNUMBER(SEARCH($F$6,AP2223)),MAX($AO$11:AO2222)+1,0)","v":2212},0,{"$f":"ROWS($AQ$12:AQ2223)","v":2212},{"$f":"IFERROR(VLOOKUP(ROWS($AR$12:AR2223),$AO$12:$AP$3014,2,0),\"\")","v":0}]
[null,null,null,null,null,null,null,null,null,null,null,null,null,null,null,null,null,null,null,null,null,null,null,null,null,null,null,null,null,null,null,null,null,null,null,null,null,null,null,null,{"$f":"IF(ISNUMBER(SEARCH($F$6,AP2226)),MAX($AO$11:AO2225)+1,0)","v":2215},0,{"$f":"ROWS($AQ$12:AQ2226)","v":2215},{"$f":"IFERROR(VLOOKUP(ROWS($AR$12:AR2226),$AO$12:$AP$3014,2,0),\"\")","v":0}]
[null,null,null,null,null,null,null,null,null,null,null,null,null,null,null,null,null,null,null,null,null,null,null,null,null,null,null,null,null,null,null,null,null,null,null,null,null,null,null,null,{"$f":"IF(ISNUMBER(SEARCH($F$6,AP2229)),MAX($AO$11:AO2228)+1,0)","v":2218},0,{"$f":"ROWS($AQ$12:AQ2229)","v":2218},{"$f":"IFERROR(VLOOKUP(ROWS($AR$12:AR2229),$AO$12:$AP$3014,2,0),\"\")","v":0}]
[null,null,null,null,null,null,null,null,null,null,null,null,null,null,null,null,null,null,null,null,null,null,null,null,null,null,null,null,null,null,null,null,null,null,null,null,null,null,null,null,{"$f":"IF(ISNUMBER(SEARCH($F$6,AP2231)),MAX($AO$11:AO2230)+1,0)","v":2220},0,{"$f":"ROWS($AQ$12:AQ2231)","v":2220},{"$f":"IFERROR(VLOOKUP(ROWS($AR$12:AR2231),$AO$12:$AP$3014,2,0),\"\")","v":0}]
[null,null,null,null,null,null,null,null,null,null,null,null,null,null,null,null,null,null,null,null,null,null,null,null,null,null,null,null,null,null,null,null,null,null,null,null,null,null,null,null,{"$f":"IF(ISNUMBER(SEARCH($F$6,AP2232)),MAX($AO$11:AO2231)+1,0)","v":2221},0,{"$f":"ROWS($AQ$12:AQ2232)","v":2221},{"$f":"IFERROR(VLOOKUP(ROWS($AR$12:AR2232),$AO$12:$AP$3014,2,0),\"\")","v":0}]
[null,null,null,null,null,null,null,null,null,null,null,null,null,null,null,null,null,null,null,null,null,null,null,null,null,null,null,null,null,null,null,null,null,null,null,null,null,null,null,null,{"$f":"IF(ISNUMBER(SEARCH($F$6,AP2236)),MAX($AO$11:AO2235)+1,0)","v":2225},0,{"$f":"ROWS($AQ$12:AQ2236)","v":2225},{"$f":"IFERROR(VLOOKUP(ROWS($AR$12:AR2236),$AO$12:$AP$3014,2,0),\"\")","v":0}]
[null,null,null,null,null,null,null,null,null,null,null,null,null,null,null,null,null,null,null,null,null,null,null,null,null,null,null,null,null,null,null,null,null,null,null,null,null,null,null,null,{"$f":"IF(ISNUMBER(SEARCH($F$6,AP2239)),MAX($AO$11:AO2238)+1,0)","v":2228},0,{"$f":"ROWS($AQ$12:AQ2239)","v":2228},{"$f":"IFERROR(VLOOKUP(ROWS($AR$12:AR2239),$AO$12:$AP$3014,2,0),\"\")","v":0}]
[null,null,null,null,null,null,null,null,null,null,null,null,null,null,null,null,null,null,null,null,null,null,null,null,null,null,null,null,null,null,null,null,null,null,null,null,null,null,null,null,{"$f":"IF(ISNUMBER(SEARCH($F$6,AP2242)),MAX($AO$11:AO2241)+1,0)","v":2231},0,{"$f":"ROWS($AQ$12:AQ2242)","v":2231},{"$f":"IFERROR(VLOOKUP(ROWS($AR$12:AR2242),$AO$12:$AP$3014,2,0),\"\")","v":0}]
[null,null,null,null,null,null,null,null,null,null,null,null,null,null,null,null,null,null,null,null,null,null,null,null,null,null,null,null,null,null,null,null,null,null,null,null,null,null,null,null,{"$f":"IF(ISNUMBER(SEARCH($F$6,AP2245)),MAX($AO$11:AO2244)+1,0)","v":2234},0,{"$f":"ROWS($AQ$12:AQ2245)","v":2234},{"$f":"IFERROR(VLOOKUP(ROWS($AR$12:AR2245),$AO$12:$AP$3014,2,0),\"\")","v":0}]
[null,null,null,null,null,null,null,null,null,null,null,null,null,null,null,null,null,null,null,null,null,null,null,null,null,null,null,null,null,null,null,null,null,null,null,null,null,null,null,null,{"$f":"IF(ISNUMBER(SEARCH($F$6,AP2248)),MAX($AO$11:AO2247)+1,0)","v":2237},0,{"$f":"ROWS($AQ$12:AQ2248)","v":2237},{"$f":"IFERROR(VLOOKUP(ROWS($AR$12:AR2248),$AO$12:$AP$3014,2,0),\"\")","v":0}]
[null,null,null,null,null,null,null,null,null,null,null,null,null,null,null,null,null,null,null,null,null,null,null,null,null,null,null,null,null,null,null,null,null,null,null,null,null,null,null,null,{"$f":"IF(ISNUMBER(SEARCH($F$6,AP2249)),MAX($AO$11:AO2248)+1,0)","v":2238},0,{"$f":"ROWS($AQ$12:AQ2249)","v":2238},{"$f":"IFERROR(VLOOKUP(ROWS($AR$12:AR2249),$AO$12:$AP$3014,2,0),\"\")","v":0}]
[null,null,null,null,null,null,null,null,null,null,null,null,null,null,null,null,null,null,null,null,null,null,null,null,null,null,null,null,null,null,null,null,null,null,null,null,null,null,null,null,{"$f":"IF(ISNUMBER(SEARCH($F$6,AP2253)),MAX($AO$11:AO2252)+1,0)","v":2242},0,{"$f":"ROWS($AQ$12:AQ2253)","v":2242},{"$f":"IFERROR(VLOOKUP(ROWS($AR$12:AR2253),$AO$12:$AP$3014,2,0),\"\")","v":0}]
[null,null,null,null,null,null,null,null,null,null,null,null,null,null,null,null,null,null,null,null,null,null,null,null,null,null,null,null,null,null,null,null,null,null,null,null,null,null,null,null,{"$f":"IF(ISNUMBER(SEARCH($F$6,AP2254)),MAX($AO$11:AO2253)+1,0)","v":2243},0,{"$f":"ROWS($AQ$12:AQ2254)","v":2243},{"$f":"IFERROR(VLOOKUP(ROWS($AR$12:AR2254),$AO$12:$AP$3014,2,0),\"\")","v":0}]
[null,null,null,null,null,null,null,null,null,null,null,null,null,null,null,null,null,null,null,null,null,null,null,null,null,null,null,null,null,null,null,null,null,null,null,null,null,null,null,null,{"$f":"IF(ISNUMBER(SEARCH($F$6,AP2258)),MAX($AO$11:AO2257)+1,0)","v":2247},0,{"$f":"ROWS($AQ$12:AQ2258)","v":2247},{"$f":"IFERROR(VLOOKUP(ROWS($AR$12:AR2258),$AO$12:$AP$3014,2,0),\"\")","v":0}]
[null,null,null,null,null,null,null,null,null,null,null,null,null,null,null,null,null,null,null,null,null,null,null,null,null,null,null,null,null,null,null,null,null,null,null,null,null,null,null,null,{"$f":"IF(ISNUMBER(SEARCH($F$6,AP2261)),MAX($AO$11:AO2260)+1,0)","v":2250},0,{"$f":"ROWS($AQ$12:AQ2261)","v":2250},{"$f":"IFERROR(VLOOKUP(ROWS($AR$12:AR2261),$AO$12:$AP$3014,2,0),\"\")","v":0}]
[null,null,null,null,null,null,null,null,null,null,null,null,null,null,null,null,null,null,null,null,null,null,null,null,null,null,null,null,null,null,null,null,null,null,null,null,null,null,null,null,{"$f":"IF(ISNUMBER(SEARCH($F$6,AP2264)),MAX($AO$11:AO2263)+1,0)","v":2253},0,{"$f":"ROWS($AQ$12:AQ2264)","v":2253},{"$f":"IFERROR(VLOOKUP(ROWS($AR$12:AR2264),$AO$12:$AP$3014,2,0),\"\")","v":0}]
[null,null,null,null,null,null,null,null,null,null,null,null,null,null,null,null,null,null,null,null,null,null,null,null,null,null,null,null,null,null,null,null,null,null,null,null,null,null,null,null,{"$f":"IF(ISNUMBER(SEARCH($F$6,AP2266)),MAX($AO$11:AO2265)+1,0)","v":2255},0,{"$f":"ROWS($AQ$12:AQ2266)","v":2255},{"$f":"IFERROR(VLOOKUP(ROWS($AR$12:AR2266),$AO$12:$AP$3014,2,0),\"\")","v":0}]
[null,null,null,null,null,null,null,null,null,null,null,null,null,null,null,null,null,null,null,null,null,null,null,null,null,null,null,null,null,null,null,null,null,null,null,null,null,null,null,null,{"$f":"IF(ISNUMBER(SEARCH($F$6,AP2270)),MAX($AO$11:AO2269)+1,0)","v":2259},0,{"$f":"ROWS($AQ$12:AQ2270)","v":2259},{"$f":"IFERROR(VLOOKUP(ROWS($AR$12:AR2270),$AO$12:$AP$3014,2,0),\"\")","v":0}]
[null,null,null,null,null,null,null,null,null,null,null,null,null,null,null,null,null,null,null,null,null,null,null,null,null,null,null,null,null,null,null,null,null,null,null,null,null,null,null,null,{"$f":"IF(ISNUMBER(SEARCH($F$6,AP2271)),MAX($AO$11:AO2270)+1,0)","v":2260},0,{"$f":"ROWS($AQ$12:AQ2271)","v":2260},{"$f":"IFERROR(VLOOKUP(ROWS($AR$12:AR2271),$AO$12:$AP$3014,2,0),\"\")","v":0}]
[null,null,null,null,null,null,null,null,null,null,null,null,null,null,null,null,null,null,null,null,null,null,null,null,null,null,null,null,null,null,null,null,null,null,null,null,null,null,null,null,{"$f":"IF(ISNUMBER(SEARCH($F$6,AP2274)),MAX($AO$11:AO2273)+1,0)","v":2263},0,{"$f":"ROWS($AQ$12:AQ2274)","v":2263},{"$f":"IFERROR(VLOOKUP(ROWS($AR$12:AR2274),$AO$12:$AP$3014,2,0),\"\")","v":0}]
[null,null,null,null,null,null,null,null,null,null,null,null,null,null,null,null,null,null,null,null,null,null,null,null,null,null,null,null,null,null,null,null,null,null,null,null,null,null,null,null,{"$f":"IF(ISNUMBER(SEARCH($F$6,AP2277)),MAX($AO$11:AO2276)+1,0)","v":2266},0,{"$f":"ROWS($AQ$12:AQ2277)","v":2266},{"$f":"IFERROR(VLOOKUP(ROWS($AR$12:AR2277),$AO$12:$AP$3014,2,0),\"\")","v":0}]
[null,null,null,null,null,null,null,null,null,null,null,null,null,null,null,null,null,null,null,null,null,null,null,null,null,null,null,null,null,null,null,null,null,null,null,null,null,null,null,null,{"$f":"IF(ISNUMBER(SEARCH($F$6,AP2280)),MAX($AO$11:AO2279)+1,0)","v":2269},0,{"$f":"ROWS($AQ$12:AQ2280)","v":2269},{"$f":"IFERROR(VLOOKUP(ROWS($AR$12:AR2280),$AO$12:$AP$3014,2,0),\"\")","v":0}]
[null,null,null,null,null,null,null,null,null,null,null,null,null,null,null,null,null,null,null,null,null,null,null,null,null,null,null,null,null,null,null,null,null,null,null,null,null,null,null,null,{"$f":"IF(ISNUMBER(SEARCH($F$6,AP2283)),MAX($AO$11:AO2282)+1,0)","v":2272},0,{"$f":"ROWS($AQ$12:AQ2283)","v":2272},{"$f":"IFERROR(VLOOKUP(ROWS($AR$12:AR2283),$AO$12:$AP$3014,2,0),\"\")","v":0}]
[null,null,null,null,null,null,null,null,null,null,null,null,null,null,null,null,null,null,null,null,null,null,null,null,null,null,null,null,null,null,null,null,null,null,null,null,null,null,null,null,{"$f":"IF(ISNUMBER(SEARCH($F$6,AP2286)),MAX($AO$11:AO2285)+1,0)","v":2275},0,{"$f":"ROWS($AQ$12:AQ2286)","v":2275},{"$f":"IFERROR(VLOOKUP(ROWS($AR$12:AR2286),$AO$12:$AP$3014,2,0),\"\")","v":0}]
[null,null,null,null,null,null,null,null,null,null,null,null,null,null,null,null,null,null,null,null,null,null,null,null,null,null,null,null,null,null,null,null,null,null,null,null,null,null,null,null,{"$f":"IF(ISNUMBER(SEARCH($F$6,AP2288)),MAX($AO$11:AO2287)+1,0)","v":2277},0,{"$f":"ROWS($AQ$12:AQ2288)","v":2277},{"$f":"IFERROR(VLOOKUP(ROWS($AR$12:AR2288),$AO$12:$AP$3014,2,0),\"\")","v":0}]
[null,null,null,null,null,null,null,null,null,null,null,null,null,null,null,null,null,null,null,null,null,null,null,null,null,null,null,null,null,null,null,null,null,null,null,null,null,null,null,null,{"$f":"IF(ISNUMBER(SEARCH($F$6,AP2292)),MAX($AO$11:AO2291)+1,0)","v":2281},0,{"$f":"ROWS($AQ$12:AQ2292)","v":2281},{"$f":"IFERROR(VLOOKUP(ROWS($AR$12:AR2292),$AO$12:$AP$3014,2,0),\"\")","v":0}]
[null,null,null,null,null,null,null,null,null,null,null,null,null,null,null,null,null,null,null,null,null,null,null,null,null,null,null,null,null,null,null,null,null,null,null,null,null,null,null,null,{"$f":"IF(ISNUMBER(SEARCH($F$6,AP2293)),MAX($AO$11:AO2292)+1,0)","v":2282},0,{"$f":"ROWS($AQ$12:AQ2293)","v":2282},{"$f":"IFERROR(VLOOKUP(ROWS($AR$12:AR2293),$AO$12:$AP$3014,2,0),\"\")","v":0}]
[null,null,null,null,null,null,null,null,null,null,null,null,null,null,null,null,null,null,null,null,null,null,null,null,null,null,null,null,null,null,null,null,null,null,null,null,null,null,null,null,{"$f":"IF(ISNUMBER(SEARCH($F$6,AP2296)),MAX($AO$11:AO2295)+1,0)","v":2285},0,{"$f":"ROWS($AQ$12:AQ2296)","v":2285},{"$f":"IFERROR(VLOOKUP(ROWS($AR$12:AR2296),$AO$12:$AP$3014,2,0),\"\")","v":0}]
[null,null,null,null,null,null,null,null,null,null,null,null,null,null,null,null,null,null,null,null,null,null,null,null,null,null,null,null,null,null,null,null,null,null,null,null,null,null,null,null,{"$f":"IF(ISNUMBER(SEARCH($F$6,AP2299)),MAX($AO$11:AO2298)+1,0)","v":2288},0,{"$f":"ROWS($AQ$12:AQ2299)","v":2288},{"$f":"IFERROR(VLOOKUP(ROWS($AR$12:AR2299),$AO$12:$AP$3014,2,0),\"\")","v":0}]
[null,null,null,null,null,null,null,null,null,null,null,null,null,null,null,null,null,null,null,null,null,null,null,null,null,null,null,null,null,null,null,null,null,null,null,null,null,null,null,null,{"$f":"IF(ISNUMBER(SEARCH($F$6,AP2302)),MAX($AO$11:AO2301)+1,0)","v":2291},0,{"$f":"ROWS($AQ$12:AQ2302)","v":2291},{"$f":"IFERROR(VLOOKUP(ROWS($AR$12:AR2302),$AO$12:$AP$3014,2,0),\"\")","v":0}]
[null,null,null,null,null,null,null,null,null,null,null,null,null,null,null,null,null,null,null,null,null,null,null,null,null,null,null,null,null,null,null,null,null,null,null,null,null,null,null,null,{"$f":"IF(ISNUMBER(SEARCH($F$6,AP2305)),MAX($AO$11:AO2304)+1,0)","v":2294},0,{"$f":"ROWS($AQ$12:AQ2305)","v":2294},{"$f":"IFERROR(VLOOKUP(ROWS($AR$12:AR2305),$AO$12:$AP$3014,2,0),\"\")","v":0}]
[null,null,null,null,null,null,null,null,null,null,null,null,null,null,null,null,null,null,null,null,null,null,null,null,null,null,null,null,null,null,null,null,null,null,null,null,null,null,null,null,{"$f":"IF(ISNUMBER(SEARCH($F$6,AP2309)),MAX($AO$11:AO2308)+1,0)","v":2298},0,{"$f":"ROWS($AQ$12:AQ2309)","v":2298},{"$f":"IFERROR(VLOOKUP(ROWS($AR$12:AR2309),$AO$12:$AP$3014,2,0),\"\")","v":0}]
[null,null,null,null,null,null,null,null,null,null,null,null,null,null,null,null,null,null,null,null,null,null,null,null,null,null,null,null,null,null,null,null,null,null,null,null,null,null,null,null,{"$f":"IF(ISNUMBER(SEARCH($F$6,AP2310)),MAX($AO$11:AO2309)+1,0)","v":2299},0,{"$f":"ROWS($AQ$12:AQ2310)","v":2299},{"$f":"IFERROR(VLOOKUP(ROWS($AR$12:AR2310),$AO$12:$AP$3014,2,0),\"\")","v":0}]
[null,null,null,null,null,null,null,null,null,null,null,null,null,null,null,null,null,null,null,null,null,null,null,null,null,null,null,null,null,null,null,null,null,null,null,null,null,null,null,null,{"$f":"IF(ISNUMBER(SEARCH($F$6,AP2314)),MAX($AO$11:AO2313)+1,0)","v":2303},0,{"$f":"ROWS($AQ$12:AQ2314)","v":2303},{"$f":"IFERROR(VLOOKUP(ROWS($AR$12:AR2314),$AO$12:$AP$3014,2,0),\"\")","v":0}]
[null,null,null,null,null,null,null,null,null,null,null,null,null,null,null,null,null,null,null,null,null,null,null,null,null,null,null,null,null,null,null,null,null,null,null,null,null,null,null,null,{"$f":"IF(ISNUMBER(SEARCH($F$6,AP2315)),MAX($AO$11:AO2314)+1,0)","v":2304},0,{"$f":"ROWS($AQ$12:AQ2315)","v":2304},{"$f":"IFERROR(VLOOKUP(ROWS($AR$12:AR2315),$AO$12:$AP$3014,2,0),\"\")","v":0}]
[null,null,null,null,null,null,null,null,null,null,null,null,null,null,null,null,null,null,null,null,null,null,null,null,null,null,null,null,null,null,null,null,null,null,null,null,null,null,null,null,{"$f":"IF(ISNUMBER(SEARCH($F$6,AP2318)),MAX($AO$11:AO2317)+1,0)","v":2307},0,{"$f":"ROWS($AQ$12:AQ2318)","v":2307},{"$f":"IFERROR(VLOOKUP(ROWS($AR$12:AR2318),$AO$12:$AP$3014,2,0),\"\")","v":0}]
[null,null,null,null,null,null,null,null,null,null,null,null,null,null,null,null,null,null,null,null,null,null,null,null,null,null,null,null,null,null,null,null,null,null,null,null,null,null,null,null,{"$f":"IF(ISNUMBER(SEARCH($F$6,AP2321)),MAX($AO$11:AO2320)+1,0)","v":2310},0,{"$f":"ROWS($AQ$12:AQ2321)","v":2310},{"$f":"IFERROR(VLOOKUP(ROWS($AR$12:AR2321),$AO$12:$AP$3014,2,0),\"\")","v":0}]
[null,null,null,null,null,null,null,null,null,null,null,null,null,null,null,null,null,null,null,null,null,null,null,null,null,null,null,null,null,null,null,null,null,null,null,null,null,null,null,null,{"$f":"IF(ISNUMBER(SEARCH($F$6,AP2324)),MAX($AO$11:AO2323)+1,0)","v":2313},0,{"$f":"ROWS($AQ$12:AQ2324)","v":2313},{"$f":"IFERROR(VLOOKUP(ROWS($AR$12:AR2324),$AO$12:$AP$3014,2,0),\"\")","v":0}]
[null,null,null,null,null,null,null,null,null,null,null,null,null,null,null,null,null,null,null,null,null,null,null,null,null,null,null,null,null,null,null,null,null,null,null,null,null,null,null,null,{"$f":"IF(ISNUMBER(SEARCH($F$6,AP2327)),MAX($AO$11:AO2326)+1,0)","v":2316},0,{"$f":"ROWS($AQ$12:AQ2327)","v":2316},{"$f":"IFERROR(VLOOKUP(ROWS($AR$12:AR2327),$AO$12:$AP$3014,2,0),\"\")","v":0}]
[null,null,null,null,null,null,null,null,null,null,null,null,null,null,null,null,null,null,null,null,null,null,null,null,null,null,null,null,null,null,null,null,null,null,null,null,null,null,null,null,{"$f":"IF(ISNUMBER(SEARCH($F$6,AP2331)),MAX($AO$11:AO2330)+1,0)","v":2320},0,{"$f":"ROWS($AQ$12:AQ2331)","v":2320},{"$f":"IFERROR(VLOOKUP(ROWS($AR$12:AR2331),$AO$12:$AP$3014,2,0),\"\")","v":0}]
[null,null,null,null,null,null,null,null,null,null,null,null,null,null,null,null,null,null,null,null,null,null,null,null,null,null,null,null,null,null,null,null,null,null,null,null,null,null,null,null,{"$f":"IF(ISNUMBER(SEARCH($F$6,AP2332)),MAX($AO$11:AO2331)+1,0)","v":2321},0,{"$f":"ROWS($AQ$12:AQ2332)","v":2321},{"$f":"IFERROR(VLOOKUP(ROWS($AR$12:AR2332),$AO$12:$AP$3014,2,0),\"\")","v":0}]
[null,null,null,null,null,null,null,null,null,null,null,null,null,null,null,null,null,null,null,null,null,null,null,null,null,null,null,null,null,null,null,null,null,null,null,null,null,null,null,null,{"$f":"IF(ISNUMBER(SEARCH($F$6,AP2336)),MAX($AO$11:AO2335)+1,0)","v":2325},0,{"$f":"ROWS($AQ$12:AQ2336)","v":2325},{"$f":"IFERROR(VLOOKUP(ROWS($AR$12:AR2336),$AO$12:$AP$3014,2,0),\"\")","v":0}]
[null,null,null,null,null,null,null,null,null,null,null,null,null,null,null,null,null,null,null,null,null,null,null,null,null,null,null,null,null,null,null,null,null,null,null,null,null,null,null,null,{"$f":"IF(ISNUMBER(SEARCH($F$6,AP2337)),MAX($AO$11:AO2336)+1,0)","v":2326},0,{"$f":"ROWS($AQ$12:AQ2337)","v":2326},{"$f":"IFERROR(VLOOKUP(ROWS($AR$12:AR2337),$AO$12:$AP$3014,2,0),\"\")","v":0}]
[null,null,null,null,null,null,null,null,null,null,null,null,null,null,null,null,null,null,null,null,null,null,null,null,null,null,null,null,null,null,null,null,null,null,null,null,null,null,null,null,{"$f":"IF(ISNUMBER(SEARCH($F$6,AP2340)),MAX($AO$11:AO2339)+1,0)","v":2329},0,{"$f":"ROWS($AQ$12:AQ2340)","v":2329},{"$f":"IFERROR(VLOOKUP(ROWS($AR$12:AR2340),$AO$12:$AP$3014,2,0),\"\")","v":0}]
[null,null,null,null,null,null,null,null,null,null,null,null,null,null,null,null,null,null,null,null,null,null,null,null,null,null,null,null,null,null,null,null,null,null,null,null,null,null,null,null,{"$f":"IF(ISNUMBER(SEARCH($F$6,AP2343)),MAX($AO$11:AO2342)+1,0)","v":2332},0,{"$f":"ROWS($AQ$12:AQ2343)","v":2332},{"$f":"IFERROR(VLOOKUP(ROWS($AR$12:AR2343),$AO$12:$AP$3014,2,0),\"\")","v":0}]
[null,null,null,null,null,null,null,null,null,null,null,null,null,null,null,null,null,null,null,null,null,null,null,null,null,null,null,null,null,null,null,null,null,null,null,null,null,null,null,null,{"$f":"IF(ISNUMBER(SEARCH($F$6,AP2346)),MAX($AO$11:AO2345)+1,0)","v":2335},0,{"$f":"ROWS($AQ$12:AQ2346)","v":2335},{"$f":"IFERROR(VLOOKUP(ROWS($AR$12:AR2346),$AO$12:$AP$3014,2,0),\"\")","v":0}]
[null,null,null,null,null,null,null,null,null,null,null,null,null,null,null,null,null,null,null,null,null,null,null,null,null,null,null,null,null,null,null,null,null,null,null,null,null,null,null,null,{"$f":"IF(ISNUMBER(SEARCH($F$6,AP2349)),MAX($AO$11:AO2348)+1,0)","v":2338},0,{"$f":"ROWS($AQ$12:AQ2349)","v":2338},{"$f":"IFERROR(VLOOKUP(ROWS($AR$12:AR2349),$AO$12:$AP$3014,2,0),\"\")","v":0}]
[null,null,null,null,null,null,null,null,null,null,null,null,null,null,null,null,null,null,null,null,null,null,null,null,null,null,null,null,null,null,null,null,null,null,null,null,null,null,null,null,{"$f":"IF(ISNUMBER(SEARCH($F$6,AP2353)),MAX($AO$11:AO2352)+1,0)","v":2342},0,{"$f":"ROWS($AQ$12:AQ2353)","v":2342},{"$f":"IFERROR(VLOOKUP(ROWS($AR$12:AR2353),$AO$12:$AP$3014,2,0),\"\")","v":0}]
[null,null,null,null,null,null,null,null,null,null,null,null,null,null,null,null,null,null,null,null,null,null,null,null,null,null,null,null,null,null,null,null,null,null,null,null,null,null,null,null,{"$f":"IF(ISNUMBER(SEARCH($F$6,AP2354)),MAX($AO$11:AO2353)+1,0)","v":2343},0,{"$f":"ROWS($AQ$12:AQ2354)","v":2343},{"$f":"IFERROR(VLOOKUP(ROWS($AR$12:AR2354),$AO$12:$AP$3014,2,0),\"\")","v":0}]
[null,null,null,null,null,null,null,null,null,null,null,null,null,null,null,null,null,null,null,null,null,null,null,null,null,null,null,null,null,null,null,null,null,null,null,null,null,null,null,null,{"$f":"IF(ISNUMBER(SEARCH($F$6,AP2358)),MAX($AO$11:AO2357)+1,0)","v":2347},0,{"$f":"ROWS($AQ$12:AQ2358)","v":2347},{"$f":"IFERROR(VLOOKUP(ROWS($AR$12:AR2358),$AO$12:$AP$3014,2,0),\"\")","v":0}]
[null,null,null,null,null,null,null,null,null,null,null,null,null,null,null,null,null,null,null,null,null,null,null,null,null,null,null,null,null,null,null,null,null,null,null,null,null,null,null,null,{"$f":"IF(ISNUMBER(SEARCH($F$6,AP2359)),MAX($AO$11:AO2358)+1,0)","v":2348},0,{"$f":"ROWS($AQ$12:AQ2359)","v":2348},{"$f":"IFERROR(VLOOKUP(ROWS($AR$12:AR2359),$AO$12:$AP$3014,2,0),\"\")","v":0}]
[null,null,null,null,null,null,null,null,null,null,null,null,null,null,null,null,null,null,null,null,null,null,null,null,null,null,null,null,null,null,null,null,null,null,null,null,null,null,null,null,{"$f":"IF(ISNUMBER(SEARCH($F$6,AP2362)),MAX($AO$11:AO2361)+1,0)","v":2351},0,{"$f":"ROWS($AQ$12:AQ2362)","v":2351},{"$f":"IFERROR(VLOOKUP(ROWS($AR$12:AR2362),$AO$12:$AP$3014,2,0),\"\")","v":0}]
[null,null,null,null,null,null,null,null,null,null,null,null,null,null,null,null,null,null,null,null,null,null,null,null,null,null,null,null,null,null,null,null,null,null,null,null,null,null,null,null,{"$f":"IF(ISNUMBER(SEARCH($F$6,AP2365)),MAX($AO$11:AO2364)+1,0)","v":2354},0,{"$f":"ROWS($AQ$12:AQ2365)","v":2354},{"$f":"IFERROR(VLOOKUP(ROWS($AR$12:AR2365),$AO$12:$AP$3014,2,0),\"\")","v":0}]
[null,null,null,null,null,null,null,null,null,null,null,null,null,null,null,null,null,null,null,null,null,null,null,null,null,null,null,null,null,null,null,null,null,null,null,null,null,null,null,null,{"$f":"IF(ISNUMBER(SEARCH($F$6,AP2368)),MAX($AO$11:AO2367)+1,0)","v":2357},0,{"$f":"ROWS($AQ$12:AQ2368)","v":2357},{"$f":"IFERROR(VLOOKUP(ROWS($AR$12:AR2368),$AO$12:$AP$3014,2,0),\"\")","v":0}]
[null,null,null,null,null,null,null,null,null,null,null,null,null,null,null,null,null,null,null,null,null,null,null,null,null,null,null,null,null,null,null,null,null,null,null,null,null,null,null,null,{"$f":"IF(ISNUMBER(SEARCH($F$6,AP2371)),MAX($AO$11:AO2370)+1,0)","v":2360},0,{"$f":"ROWS($AQ$12:AQ2371)","v":2360},{"$f":"IFERROR(VLOOKUP(ROWS($AR$12:AR2371),$AO$12:$AP$3014,2,0),\"\")","v":0}]
[null,null,null,null,null,null,null,null,null,null,null,null,null,null,null,null,null,null,null,null,null,null,null,null,null,null,null,null,null,null,null,null,null,null,null,null,null,null,null,null,{"$f":"IF(ISNUMBER(SEARCH($F$6,AP2375)),MAX($AO$11:AO2374)+1,0)","v":2364},0,{"$f":"ROWS($AQ$12:AQ2375)","v":2364},{"$f":"IFERROR(VLOOKUP(ROWS($AR$12:AR2375),$AO$12:$AP$3014,2,0),\"\")","v":0}]
[null,null,null,null,null,null,null,null,null,null,null,null,null,null,null,null,null,null,null,null,null,null,null,null,null,null,null,null,null,null,null,null,null,null,null,null,null,null,null,null,{"$f":"IF(ISNUMBER(SEARCH($F$6,AP2378)),MAX($AO$11:AO2377)+1,0)","v":2367},0,{"$f":"ROWS($AQ$12:AQ2378)","v":2367},{"$f":"IFERROR(VLOOKUP(ROWS($AR$12:AR2378),$AO$12:$AP$3014,2,0),\"\")","v":0}]
[null,null,null,null,null,null,null,null,null,null,null,null,null,null,null,null,null,null,null,null,null,null,null,null,null,null,null,null,null,null,null,null,null,null,null,null,null,null,null,null,{"$f":"IF(ISNUMBER(SEARCH($F$6,AP2380)),MAX($AO$11:AO2379)+1,0)","v":2369},0,{"$f":"ROWS($AQ$12:AQ2380)","v":2369},{"$f":"IFERROR(VLOOKUP(ROWS($AR$12:AR2380),$AO$12:$AP$3014,2,0),\"\")","v":0}]
[null,null,null,null,null,null,null,null,null,null,null,null,null,null,null,null,null,null,null,null,null,null,null,null,null,null,null,null,null,null,null,null,null,null,null,null,null,null,null,null,{"$f":"IF(ISNUMBER(SEARCH($F$6,AP2381)),MAX($AO$11:AO2380)+1,0)","v":2370},0,{"$f":"ROWS($AQ$12:AQ2381)","v":2370},{"$f":"IFERROR(VLOOKUP(ROWS($AR$12:AR2381),$AO$12:$AP$3014,2,0),\"\")","v":0}]
[null,null,null,null,null,null,null,null,null,null,null,null,null,null,null,null,null,null,null,null,null,null,null,null,null,null,null,null,null,null,null,null,null,null,null,null,null,null,null,null,{"$f":"IF(ISNUMBER(SEARCH($F$6,AP2384)),MAX($AO$11:AO2383)+1,0)","v":2373},0,{"$f":"ROWS($AQ$12:AQ2384)","v":2373},{"$f":"IFERROR(VLOOKUP(ROWS($AR$12:AR2384),$AO$12:$AP$3014,2,0),\"\")","v":0}]
[null,null,null,null,null,null,null,null,null,null,null,null,null,null,null,null,null,null,null,null,null,null,null,null,null,null,null,null,null,null,null,null,null,null,null,null,null,null,null,null,{"$f":"IF(ISNUMBER(SEARCH($F$6,AP2388)),MAX($AO$11:AO2387)+1,0)","v":2377},0,{"$f":"ROWS($AQ$12:AQ2388)","v":2377},{"$f":"IFERROR(VLOOKUP(ROWS($AR$12:AR2388),$AO$12:$AP$3014,2,0),\"\")","v":0}]
[null,null,null,null,null,null,null,null,null,null,null,null,null,null,null,null,null,null,null,null,null,null,null,null,null,null,null,null,null,null,null,null,null,null,null,null,null,null,null,null,{"$f":"IF(ISNUMBER(SEARCH($F$6,AP2391)),MAX($AO$11:AO2390)+1,0)","v":2380},0,{"$f":"ROWS($AQ$12:AQ2391)","v":2380},{"$f":"IFERROR(VLOOKUP(ROWS($AR$12:AR2391),$AO$12:$AP$3014,2,0),\"\")","v":0}]
[null,null,null,null,null,null,null,null,null,null,null,null,null,null,null,null,null,null,null,null,null,null,null,null,null,null,null,null,null,null,null,null,null,null,null,null,null,null,null,null,{"$f":"IF(ISNUMBER(SEARCH($F$6,AP2393)),MAX($AO$11:AO2392)+1,0)","v":2382},0,{"$f":"ROWS($AQ$12:AQ2393)","v":2382},{"$f":"IFERROR(VLOOKUP(ROWS($AR$12:AR2393),$AO$12:$AP$3014,2,0),\"\")","v":0}]
[null,null,null,null,null,null,null,null,null,null,null,null,null,null,null,null,null,null,null,null,null,null,null,null,null,null,null,null,null,null,null,null,null,null,null,null,null,null,null,null,{"$f":"IF(ISNUMBER(SEARCH($F$6,AP2397)),MAX($AO$11:AO2396)+1,0)","v":2386},0,{"$f":"ROWS($AQ$12:AQ2397)","v":2386},{"$f":"IFERROR(VLOOKUP(ROWS($AR$12:AR2397),$AO$12:$AP$3014,2,0),\"\")","v":0}]
[null,null,null,null,null,null,null,null,null,null,null,null,null,null,null,null,null,null,null,null,null,null,null,null,null,null,null,null,null,null,null,null,null,null,null,null,null,null,null,null,{"$f":"IF(ISNUMBER(SEARCH($F$6,AP2400)),MAX($AO$11:AO2399)+1,0)","v":2389},0,{"$f":"ROWS($AQ$12:AQ2400)","v":2389},{"$f":"IFERROR(VLOOKUP(ROWS($AR$12:AR2400),$AO$12:$AP$3014,2,0),\"\")","v":0}]
[null,null,null,null,null,null,null,null,null,null,null,null,null,null,null,null,null,null,null,null,null,null,null,null,null,null,null,null,null,null,null,null,null,null,null,null,null,null,null,null,{"$f":"IF(ISNUMBER(SEARCH($F$6,AP2402)),MAX($AO$11:AO2401)+1,0)","v":2391},0,{"$f":"ROWS($AQ$12:AQ2402)","v":2391},{"$f":"IFERROR(VLOOKUP(ROWS($AR$12:AR2402),$AO$12:$AP$3014,2,0),\"\")","v":0}]
[null,null,null,null,null,null,null,null,null,null,null,null,null,null,null,null,null,null,null,null,null,null,null,null,null,null,null,null,null,null,null,null,null,null,null,null,null,null,null,null,{"$f":"IF(ISNUMBER(SEARCH($F$6,AP2403)),MAX($AO$11:AO2402)+1,0)","v":2392},0,{"$f":"ROWS($AQ$12:AQ2403)","v":2392},{"$f":"IFERROR(VLOOKUP(ROWS($AR$12:AR2403),$AO$12:$AP$3014,2,0),\"\")","v":0}]
[null,null,null,null,null,null,null,null,null,null,null,null,null,null,null,null,null,null,null,null,null,null,null,null,null,null,null,null,null,null,null,null,null,null,null,null,null,null,null,null,{"$f":"IF(ISNUMBER(SEARCH($F$6,AP2406)),MAX($AO$11:AO2405)+1,0)","v":2395},0,{"$f":"ROWS($AQ$12:AQ2406)","v":2395},{"$f":"IFERROR(VLOOKUP(ROWS($AR$12:AR2406),$AO$12:$AP$3014,2,0),\"\")","v":0}]
[null,null,null,null,null,null,null,null,null,null,null,null,null,null,null,null,null,null,null,null,null,null,null,null,null,null,null,null,null,null,null,null,null,null,null,null,null,null,null,null,{"$f":"IF(ISNUMBER(SEARCH($F$6,AP2410)),MAX($AO$11:AO2409)+1,0)","v":2399},0,{"$f":"ROWS($AQ$12:AQ2410)","v":2399},{"$f":"IFERROR(VLOOKUP(ROWS($AR$12:AR2410),$AO$12:$AP$3014,2,0),\"\")","v":0}]
[null,null,null,null,null,null,null,null,null,null,null,null,null,null,null,null,null,null,null,null,null,null,null,null,null,null,null,null,null,null,null,null,null,null,null,null,null,null,null,null,{"$f":"IF(ISNUMBER(SEARCH($F$6,AP2413)),MAX($AO$11:AO2412)+1,0)","v":2402},0,{"$f":"ROWS($AQ$12:AQ2413)","v":2402},{"$f":"IFERROR(VLOOKUP(ROWS($AR$12:AR2413),$AO$12:$AP$3014,2,0),\"\")","v":0}]
[null,null,null,null,null,null,null,null,null,null,null,null,null,null,null,null,null,null,null,null,null,null,null,null,null,null,null,null,null,null,null,null,null,null,null,null,null,null,null,null,{"$f":"IF(ISNUMBER(SEARCH($F$6,AP2415)),MAX($AO$11:AO2414)+1,0)","v":2404},0,{"$f":"ROWS($AQ$12:AQ2415)","v":2404},{"$f":"IFERROR(VLOOKUP(ROWS($AR$12:AR2415),$AO$12:$AP$3014,2,0),\"\")","v":0}]
[null,null,null,null,null,null,null,null,null,null,null,null,null,null,null,null,null,null,null,null,null,null,null,null,null,null,null,null,null,null,null,null,null,null,null,null,null,null,null,null,{"$f":"IF(ISNUMBER(SEARCH($F$6,AP2419)),MAX($AO$11:AO2418)+1,0)","v":2408},0,{"$f":"ROWS($AQ$12:AQ2419)","v":2408},{"$f":"IFERROR(VLOOKUP(ROWS($AR$12:AR2419),$AO$12:$AP$3014,2,0),\"\")","v":0}]
[null,null,null,null,null,null,null,null,null,null,null,null,null,null,null,null,null,null,null,null,null,null,null,null,null,null,null,null,null,null,null,null,null,null,null,null,null,null,null,null,{"$f":"IF(ISNUMBER(SEARCH($F$6,AP2422)),MAX($AO$11:AO2421)+1,0)","v":2411},0,{"$f":"ROWS($AQ$12:AQ2422)","v":2411},{"$f":"IFERROR(VLOOKUP(ROWS($AR$12:AR2422),$AO$12:$AP$3014,2,0),\"\")","v":0}]
[null,null,null,null,null,null,null,null,null,null,null,null,null,null,null,null,null,null,null,null,null,null,null,null,null,null,null,null,null,null,null,null,null,null,null,null,null,null,null,null,{"$f":"IF(ISNUMBER(SEARCH($F$6,AP2424)),MAX($AO$11:AO2423)+1,0)","v":2413},0,{"$f":"ROWS($AQ$12:AQ2424)","v":2413},{"$f":"IFERROR(VLOOKUP(ROWS($AR$12:AR2424),$AO$12:$AP$3014,2,0),\"\")","v":0}]
[null,null,null,null,null,null,null,null,null,null,null,null,null,null,null,null,null,null,null,null,null,null,null,null,null,null,null,null,null,null,null,null,null,null,null,null,null,null,null,null,{"$f":"IF(ISNUMBER(SEARCH($F$6,AP2425)),MAX($AO$11:AO2424)+1,0)","v":2414},0,{"$f":"ROWS($AQ$12:AQ2425)","v":2414},{"$f":"IFERROR(VLOOKUP(ROWS($AR$12:AR2425),$AO$12:$AP$3014,2,0),\"\")","v":0}]
[null,null,null,null,null,null,null,null,null,null,null,null,null,null,null,null,null,null,null,null,null,null,null,null,null,null,null,null,null,null,null,null,null,null,null,null,null,null,null,null,{"$f":"IF(ISNUMBER(SEARCH($F$6,AP2428)),MAX($AO$11:AO2427)+1,0)","v":2417},0,{"$f":"ROWS($AQ$12:AQ2428)","v":2417},{"$f":"IFERROR(VLOOKUP(ROWS($AR$12:AR2428),$AO$12:$AP$3014,2,0),\"\")","v":0}]
[null,null,null,null,null,null,null,null,null,null,null,null,null,null,null,null,null,null,null,null,null,null,null,null,null,null,null,null,null,null,null,null,null,null,null,null,null,null,null,null,{"$f":"IF(ISNUMBER(SEARCH($F$6,AP2432)),MAX($AO$11:AO2431)+1,0)","v":2421},0,{"$f":"ROWS($AQ$12:AQ2432)","v":2421},{"$f":"IFERROR(VLOOKUP(ROWS($AR$12:AR2432),$AO$12:$AP$3014,2,0),\"\")","v":0}]
[null,null,null,null,null,null,null,null,null,null,null,null,null,null,null,null,null,null,null,null,null,null,null,null,null,null,null,null,null,null,null,null,null,null,null,null,null,null,null,null,{"$f":"IF(ISNUMBER(SEARCH($F$6,AP2435)),MAX($AO$11:AO2434)+1,0)","v":2424},0,{"$f":"ROWS($AQ$12:AQ2435)","v":2424},{"$f":"IFERROR(VLOOKUP(ROWS($AR$12:AR2435),$AO$12:$AP$3014,2,0),\"\")","v":0}]
[null,null,null,null,null,null,null,null,null,null,null,null,null,null,null,null,null,null,null,null,null,null,null,null,null,null,null,null,null,null,null,null,null,null,null,null,null,null,null,null,{"$f":"IF(ISNUMBER(SEARCH($F$6,AP2438)),MAX($AO$11:AO2437)+1,0)","v":2427},0,{"$f":"ROWS($AQ$12:AQ2438)","v":2427},{"$f":"IFERROR(VLOOKUP(ROWS($AR$12:AR2438),$AO$12:$AP$3014,2,0),\"\")","v":0}]
[null,null,null,null,null,null,null,null,null,null,null,null,null,null,null,null,null,null,null,null,null,null,null,null,null,null,null,null,null,null,null,null,null,null,null,null,null,null,null,null,{"$f":"IF(ISNUMBER(SEARCH($F$6,AP2441)),MAX($AO$11:AO2440)+1,0)","v":2430},0,{"$f":"ROWS($AQ$12:AQ2441)","v":2430},{"$f":"IFERROR(VLOOKUP(ROWS($AR$12:AR2441),$AO$12:$AP$3014,2,0),\"\")","v":0}]
[null,null,null,null,null,null,null,null,null,null,null,null,null,null,null,null,null,null,null,null,null,null,null,null,null,null,null,null,null,null,null,null,null,null,null,null,null,null,null,null,{"$f":"IF(ISNUMBER(SEARCH($F$6,AP2444)),MAX($AO$11:AO2443)+1,0)","v":2433},0,{"$f":"ROWS($AQ$12:AQ2444)","v":2433},{"$f":"IFERROR(VLOOKUP(ROWS($AR$12:AR2444),$AO$12:$AP$3014,2,0),\"\")","v":0}]
[null,null,null,null,null,null,null,null,null,null,null,null,null,null,null,null,null,null,null,null,null,null,null,null,null,null,null,null,null,null,null,null,null,null,null,null,null,null,null,null,{"$f":"IF(ISNUMBER(SEARCH($F$6,AP2446)),MAX($AO$11:AO2445)+1,0)","v":2435},0,{"$f":"ROWS($AQ$12:AQ2446)","v":2435},{"$f":"IFERROR(VLOOKUP(ROWS($AR$12:AR2446),$AO$12:$AP$3014,2,0),\"\")","v":0}]
[null,null,null,null,null,null,null,null,null,null,null,null,null,null,null,null,null,null,null,null,null,null,null,null,null,null,null,null,null,null,null,null,null,null,null,null,null,null,null,null,{"$f":"IF(ISNUMBER(SEARCH($F$6,AP2447)),MAX($AO$11:AO2446)+1,0)","v":2436},0,{"$f":"ROWS($AQ$12:AQ2447)","v":2436},{"$f":"IFERROR(VLOOKUP(ROWS($AR$12:AR2447),$AO$12:$AP$3014,2,0),\"\")","v":0}]
[null,null,null,null,null,null,null,null,null,null,null,null,null,null,null,null,null,null,null,null,null,null,null,null,null,null,null,null,null,null,null,null,null,null,null,null,null,null,null,null,{"$f":"IF(ISNUMBER(SEARCH($F$6,AP2450)),MAX($AO$11:AO2449)+1,0)","v":2439},0,{"$f":"ROWS($AQ$12:AQ2450)","v":2439},{"$f":"IFERROR(VLOOKUP(ROWS($AR$12:AR2450),$AO$12:$AP$3014,2,0),\"\")","v":0}]
[null,null,null,null,null,null,null,null,null,null,null,null,null,null,null,null,null,null,null,null,null,null,null,null,null,null,null,null,null,null,null,null,null,null,null,null,null,null,null,null,{"$f":"IF(ISNUMBER(SEARCH($F$6,AP2454)),MAX($AO$11:AO2453)+1,0)","v":2443},0,{"$f":"ROWS($AQ$12:AQ2454)","v":2443},{"$f":"IFERROR(VLOOKUP(ROWS($AR$12:AR2454),$AO$12:$AP$3014,2,0),\"\")","v":0}]
[null,null,null,null,null,null,null,null,null,null,null,null,null,null,null,null,null,null,null,null,null,null,null,null,null,null,null,null,null,null,null,null,null,null,null,null,null,null,null,null,{"$f":"IF(ISNUMBER(SEARCH($F$6,AP2457)),MAX($AO$11:AO2456)+1,0)","v":2446},0,{"$f":"ROWS($AQ$12:AQ2457)","v":2446},{"$f":"IFERROR(VLOOKUP(ROWS($AR$12:AR2457),$AO$12:$AP$3014,2,0),\"\")","v":0}]
[null,null,null,null,null,null,null,null,null,null,null,null,null,null,null,null,null,null,null,null,null,null,null,null,null,null,null,null,null,null,null,null,null,null,null,null,null,null,null,null,{"$f":"IF(ISNUMBER(SEARCH($F$6,AP2460)),MAX($AO$11:AO2459)+1,0)","v":2449},0,{"$f":"ROWS($AQ$12:AQ2460)","v":2449},{"$f":"IFERROR(VLOOKUP(ROWS($AR$12:AR2460),$AO$12:$AP$3014,2,0),\"\")","v":0}]
[null,null,null,null,null,null,null,null,null,null,null,null,null,null,null,null,null,null,null,null,null,null,null,null,null,null,null,null,null,null,null,null,null,null,null,null,null,null,null,null,{"$f":"IF(ISNUMBER(SEARCH($F$6,AP2463)),MAX($AO$11:AO2462)+1,0)","v":2452},0,{"$f":"ROWS($AQ$12:AQ2463)","v":2452},{"$f":"IFERROR(VLOOKUP(ROWS($AR$12:AR2463),$AO$12:$AP$3014,2,0),\"\")","v":0}]
[null,null,null,null,null,null,null,null,null,null,null,null,null,null,null,null,null,null,null,null,null,null,null,null,null,null,null,null,null,null,null,null,null,null,null,null,null,null,null,null,{"$f":"IF(ISNUMBER(SEARCH($F$6,AP2466)),MAX($AO$11:AO2465)+1,0)","v":2455},0,{"$f":"ROWS($AQ$12:AQ2466)","v":2455},{"$f":"IFERROR(VLOOKUP(ROWS($AR$12:AR2466),$AO$12:$AP$3014,2,0),\"\")","v":0}]
[null,null,null,null,null,null,null,null,null,null,null,null,null,null,null,null,null,null,null,null,null,null,null,null,null,null,null,null,null,null,null,null,null,null,null,null,null,null,null,null,{"$f":"IF(ISNUMBER(SEARCH($F$6,AP2468)),MAX($AO$11:AO2467)+1,0)","v":2457},0,{"$f":"ROWS($AQ$12:AQ2468)","v":2457},{"$f":"IFERROR(VLOOKUP(ROWS($AR$12:AR2468),$AO$12:$AP$3014,2,0),\"\")","v":0}]
[null,null,null,null,null,null,null,null,null,null,null,null,null,null,null,null,null,null,null,null,null,null,null,null,null,null,null,null,null,null,null,null,null,null,null,null,null,null,null,null,{"$f":"IF(ISNUMBER(SEARCH($F$6,AP2469)),MAX($AO$11:AO2468)+1,0)","v":2458},0,{"$f":"ROWS($AQ$12:AQ2469)","v":2458},{"$f":"IFERROR(VLOOKUP(ROWS($AR$12:AR2469),$AO$12:$AP$3014,2,0),\"\")","v":0}]
[null,null,null,null,null,null,null,null,null,null,null,null,null,null,null,null,null,null,null,null,null,null,null,null,null,null,null,null,null,null,null,null,null,null,null,null,null,null,null,null,{"$f":"IF(ISNUMBER(SEARCH($F$6,AP2472)),MAX($AO$11:AO2471)+1,0)","v":2461},0,{"$f":"ROWS($AQ$12:AQ2472)","v":2461},{"$f":"IFERROR(VLOOKUP(ROWS($AR$12:AR2472),$AO$12:$AP$3014,2,0),\"\")","v":0}]
[null,null,null,null,null,null,null,null,null,null,null,null,null,null,null,null,null,null,null,null,null,null,null,null,null,null,null,null,null,null,null,null,null,null,null,null,null,null,null,null,{"$f":"IF(ISNUMBER(SEARCH($F$6,AP2476)),MAX($AO$11:AO2475)+1,0)","v":2465},0,{"$f":"ROWS($AQ$12:AQ2476)","v":2465},{"$f":"IFERROR(VLOOKUP(ROWS($AR$12:AR2476),$AO$12:$AP$3014,2,0),\"\")","v":0}]
[null,null,null,null,null,null,null,null,null,null,null,null,null,null,null,null,null,null,null,null,null,null,null,null,null,null,null,null,null,null,null,null,null,null,null,null,null,null,null,null,{"$f":"IF(ISNUMBER(SEARCH($F$6,AP2479)),MAX($AO$11:AO2478)+1,0)","v":2468},0,{"$f":"ROWS($AQ$12:AQ2479)","v":2468},{"$f":"IFERROR(VLOOKUP(ROWS($AR$12:AR2479),$AO$12:$AP$3014,2,0),\"\")","v":0}]
[null,null,null,null,null,null,null,null,null,null,null,null,null,null,null,null,null,null,null,null,null,null,null,null,null,null,null,null,null,null,null,null,null,null,null,null,null,null,null,null,{"$f":"IF(ISNUMBER(SEARCH($F$6,AP2482)),MAX($AO$11:AO2481)+1,0)","v":2471},0,{"$f":"ROWS($AQ$12:AQ2482)","v":2471},{"$f":"IFERROR(VLOOKUP(ROWS($AR$12:AR2482),$AO$12:$AP$3014,2,0),\"\")","v":0}]
[null,null,null,null,null,null,null,null,null,null,null,null,null,null,null,null,null,null,null,null,null,null,null,null,null,null,null,null,null,null,null,null,null,null,null,null,null,null,null,null,{"$f":"IF(ISNUMBER(SEARCH($F$6,AP2485)),MAX($AO$11:AO2484)+1,0)","v":2474},0,{"$f":"ROWS($AQ$12:AQ2485)","v":2474},{"$f":"IFERROR(VLOOKUP(ROWS($AR$12:AR2485),$AO$12:$AP$3014,2,0),\"\")","v":0}]
[null,null,null,null,null,null,null,null,null,null,null,null,null,null,null,null,null,null,null,null,null,null,null,null,null,null,null,null,null,null,null,null,null,null,null,null,null,null,null,null,{"$f":"IF(ISNUMBER(SEARCH($F$6,AP2488)),MAX($AO$11:AO2487)+1,0)","v":2477},0,{"$f":"ROWS($AQ$12:AQ2488)","v":2477},{"$f":"IFERROR(VLOOKUP(ROWS($AR$12:AR2488),$AO$12:$AP$3014,2,0),\"\")","v":0}]
[null,null,null,null,null,null,null,null,null,null,null,null,null,null,null,null,null,null,null,null,null,null,null,null,null,null,null,null,null,null,null,null,null,null,null,null,null,null,null,null,{"$f":"IF(ISNUMBER(SEARCH($F$6,AP2490)),MAX($AO$11:AO2489)+1,0)","v":2479},0,{"$f":"ROWS($AQ$12:AQ2490)","v":2479},{"$f":"IFERROR(VLOOKUP(ROWS($AR$12:AR2490),$AO$12:$AP$3014,2,0),\"\")","v":0}]
[null,null,null,null,null,null,null,null,null,null,null,null,null,null,null,null,null,null,null,null,null,null,null,null,null,null,null,null,null,null,null,null,null,null,null,null,null,null,null,null,{"$f":"IF(ISNUMBER(SEARCH($F$6,AP2491)),MAX($AO$11:AO2490)+1,0)","v":2480},0,{"$f":"ROWS($AQ$12:AQ2491)","v":2480},{"$f":"IFERROR(VLOOKUP(ROWS($AR$12:AR2491),$AO$12:$AP$3014,2,0),\"\")","v":0}]
[null,null,null,null,null,null,null,null,null,null,null,null,null,null,null,null,null,null,null,null,null,null,null,null,null,null,null,null,null,null,null,null,null,null,null,null,null,null,null,null,{"$f":"IF(ISNUMBER(SEARCH($F$6,AP2495)),MAX($AO$11:AO2494)+1,0)","v":2484},0,{"$f":"ROWS($AQ$12:AQ2495)","v":2484},{"$f":"IFERROR(VLOOKUP(ROWS($AR$12:AR2495),$AO$12:$AP$3014,2,0),\"\")","v":0}]
[null,null,null,null,null,null,null,null,null,null,null,null,null,null,null,null,null,null,null,null,null,null,null,null,null,null,null,null,null,null,null,null,null,null,null,null,null,null,null,null,{"$f":"IF(ISNUMBER(SEARCH($F$6,AP2498)),MAX($AO$11:AO2497)+1,0)","v":2487},0,{"$f":"ROWS($AQ$12:AQ2498)","v":2487},{"$f":"IFERROR(VLOOKUP(ROWS($AR$12:AR2498),$AO$12:$AP$3014,2,0),\"\")","v":0}]
[null,null,null,null,null,null,null,null,null,null,null,null,null,null,null,null,null,null,null,null,null,null,null,null,null,null,null,null,null,null,null,null,null,null,null,null,null,null,null,null,{"$f":"IF(ISNUMBER(SEARCH($F$6,AP2501)),MAX($AO$11:AO2500)+1,0)","v":2490},0,{"$f":"ROWS($AQ$12:AQ2501)","v":2490},{"$f":"IFERROR(VLOOKUP(ROWS($AR$12:AR2501),$AO$12:$AP$3014,2,0),\"\")","v":0}]
[null,null,null,null,null,null,null,null,null,null,null,null,null,null,null,null,null,null,null,null,null,null,null,null,null,null,null,null,null,null,null,null,null,null,null,null,null,null,null,null,{"$f":"IF(ISNUMBER(SEARCH($F$6,AP2503)),MAX($AO$11:AO2502)+1,0)","v":2492},0,{"$f":"ROWS($AQ$12:AQ2503)","v":2492},{"$f":"IFERROR(VLOOKUP(ROWS($AR$12:AR2503),$AO$12:$AP$3014,2,0),\"\")","v":0}]
[null,null,null,null,null,null,null,null,null,null,null,null,null,null,null,null,null,null,null,null,null,null,null,null,null,null,null,null,null,null,null,null,null,null,null,null,null,null,null,null,{"$f":"IF(ISNUMBER(SEARCH($F$6,AP2507)),MAX($AO$11:AO2506)+1,0)","v":2496},0,{"$f":"ROWS($AQ$12:AQ2507)","v":2496},{"$f":"IFERROR(VLOOKUP(ROWS($AR$12:AR2507),$AO$12:$AP$3014,2,0),\"\")","v":0}]
[null,null,null,null,null,null,null,null,null,null,null,null,null,null,null,null,null,null,null,null,null,null,null,null,null,null,null,null,null,null,null,null,null,null,null,null,null,null,null,null,{"$f":"IF(ISNUMBER(SEARCH($F$6,AP2510)),MAX($AO$11:AO2509)+1,0)","v":2499},0,{"$f":"ROWS($AQ$12:AQ2510)","v":2499},{"$f":"IFERROR(VLOOKUP(ROWS($AR$12:AR2510),$AO$12:$AP$3014,2,0),\"\")","v":0}]
[null,null,null,null,null,null,null,null,null,null,null,null,null,null,null,null,null,null,null,null,null,null,null,null,null,null,null,null,null,null,null,null,null,null,null,null,null,null,null,null,{"$f":"IF(ISNUMBER(SEARCH($F$6,AP2511)),MAX($AO$11:AO2510)+1,0)","v":2500},0,{"$f":"ROWS($AQ$12:AQ2511)","v":2500},{"$f":"IFERROR(VLOOKUP(ROWS($AR$12:AR2511),$AO$12:$AP$3014,2,0),\"\")","v":0}]
[null,null,null,null,null,null,null,null,null,null,null,null,null,null,null,null,null,null,null,null,null,null,null,null,null,null,null,null,null,null,null,null,null,null,null,null,null,null,null,null,{"$f":"IF(ISNUMBER(SEARCH($F$6,AP2514)),MAX($AO$11:AO2513)+1,0)","v":2503},0,{"$f":"ROWS($AQ$12:AQ2514)","v":2503},{"$f":"IFERROR(VLOOKUP(ROWS($AR$12:AR2514),$AO$12:$AP$3014,2,0),\"\")","v":0}]
[null,null,null,null,null,null,null,null,null,null,null,null,null,null,null,null,null,null,null,null,null,null,null,null,null,null,null,null,null,null,null,null,null,null,null,null,null,null,null,null,{"$f":"IF(ISNUMBER(SEARCH($F$6,AP2517)),MAX($AO$11:AO2516)+1,0)","v":2506},0,{"$f":"ROWS($AQ$12:AQ2517)","v":2506},{"$f":"IFERROR(VLOOKUP(ROWS($AR$12:AR2517),$AO$12:$AP$3014,2,0),\"\")","v":0}]
[null,null,null,null,null,null,null,null,null,null,null,null,null,null,null,null,null,null,null,null,null,null,null,null,null,null,null,null,null,null,null,null,null,null,null,null,null,null,null,null,{"$f":"IF(ISNUMBER(SEARCH($F$6,AP2520)),MAX($AO$11:AO2519)+1,0)","v":2509},0,{"$f":"ROWS($AQ$12:AQ2520)","v":2509},{"$f":"IFERROR(VLOOKUP(ROWS($AR$12:AR2520),$AO$12:$AP$3014,2,0),\"\")","v":0}]
[null,null,null,null,null,null,null,null,null,null,null,null,null,null,null,null,null,null,null,null,null,null,null,null,null,null,null,null,null,null,null,null,null,null,null,null,null,null,null,null,{"$f":"IF(ISNUMBER(SEARCH($F$6,AP2523)),MAX($AO$11:AO2522)+1,0)","v":2512},0,{"$f":"ROWS($AQ$12:AQ2523)","v":2512},{"$f":"IFERROR(VLOOKUP(ROWS($AR$12:AR2523),$AO$12:$AP$3014,2,0),\"\")","v":0}]
[null,null,null,null,null,null,null,null,null,null,null,null,null,null,null,null,null,null,null,null,null,null,null,null,null,null,null,null,null,null,null,null,null,null,null,null,null,null,null,null,{"$f":"IF(ISNUMBER(SEARCH($F$6,AP2525)),MAX($AO$11:AO2524)+1,0)","v":2514},0,{"$f":"ROWS($AQ$12:AQ2525)","v":2514},{"$f":"IFERROR(VLOOKUP(ROWS($AR$12:AR2525),$AO$12:$AP$3014,2,0),\"\")","v":0}]
[null,null,null,null,null,null,null,null,null,null,null,null,null,null,null,null,null,null,null,null,null,null,null,null,null,null,null,null,null,null,null,null,null,null,null,null,null,null,null,null,{"$f":"IF(ISNUMBER(SEARCH($F$6,AP2529)),MAX($AO$11:AO2528)+1,0)","v":2518},0,{"$f":"ROWS($AQ$12:AQ2529)","v":2518},{"$f":"IFERROR(VLOOKUP(ROWS($AR$12:AR2529),$AO$12:$AP$3014,2,0),\"\")","v":0}]
[null,null,null,null,null,null,null,null,null,null,null,null,null,null,null,null,null,null,null,null,null,null,null,null,null,null,null,null,null,null,null,null,null,null,null,null,null,null,null,null,{"$f":"IF(ISNUMBER(SEARCH($F$6,AP2532)),MAX($AO$11:AO2531)+1,0)","v":2521},0,{"$f":"ROWS($AQ$12:AQ2532)","v":2521},{"$f":"IFERROR(VLOOKUP(ROWS($AR$12:AR2532),$AO$12:$AP$3014,2,0),\"\")","v":0}]
[null,null,null,null,null,null,null,null,null,null,null,null,null,null,null,null,null,null,null,null,null,null,null,null,null,null,null,null,null,null,null,null,null,null,null,null,null,null,null,null,{"$f":"IF(ISNUMBER(SEARCH($F$6,AP2533)),MAX($AO$11:AO2532)+1,0)","v":2522},0,{"$f":"ROWS($AQ$12:AQ2533)","v":2522},{"$f":"IFERROR(VLOOKUP(ROWS($AR$12:AR2533),$AO$12:$AP$3014,2,0),\"\")","v":0}]
[null,null,null,null,null,null,null,null,null,null,null,null,null,null,null,null,null,null,null,null,null,null,null,null,null,null,null,null,null,null,null,null,null,null,null,null,null,null,null,null,{"$f":"IF(ISNUMBER(SEARCH($F$6,AP2536)),MAX($AO$11:AO2535)+1,0)","v":2525},0,{"$f":"ROWS($AQ$12:AQ2536)","v":2525},{"$f":"IFERROR(VLOOKUP(ROWS($AR$12:AR2536),$AO$12:$AP$3014,2,0),\"\")","v":0}]
[null,null,null,null,null,null,null,null,null,null,null,null,null,null,null,null,null,null,null,null,null,null,null,null,null,null,null,null,null,null,null,null,null,null,null,null,null,null,null,null,{"$f":"IF(ISNUMBER(SEARCH($F$6,AP2539)),MAX($AO$11:AO2538)+1,0)","v":2528},0,{"$f":"ROWS($AQ$12:AQ2539)","v":2528},{"$f":"IFERROR(VLOOKUP(ROWS($AR$12:AR2539),$AO$12:$AP$3014,2,0),\"\")","v":0}]
[null,null,null,null,null,null,null,null,null,null,null,null,null,null,null,null,null,null,null,null,null,null,null,null,null,null,null,null,null,null,null,null,null,null,null,null,null,null,null,null,{"$f":"IF(ISNUMBER(SEARCH($F$6,AP2542)),MAX($AO$11:AO2541)+1,0)","v":2531},0,{"$f":"ROWS($AQ$12:AQ2542)","v":2531},{"$f":"IFERROR(VLOOKUP(ROWS($AR$12:AR2542),$AO$12:$AP$3014,2,0),\"\")","v":0}]
[null,null,null,null,null,null,null,null,null,null,null,null,null,null,null,null,null,null,null,null,null,null,null,null,null,null,null,null,null,null,null,null,null,null,null,null,null,null,null,null,{"$f":"IF(ISNUMBER(SEARCH($F$6,AP2545)),MAX($AO$11:AO2544)+1,0)","v":2534},0,{"$f":"ROWS($AQ$12:AQ2545)","v":2534},{"$f":"IFERROR(VLOOKUP(ROWS($AR$12:AR2545),$AO$12:$AP$3014,2,0),\"\")","v":0}]
[null,null,null,null,null,null,null,null,null,null,null,null,null,null,null,null,null,null,null,null,null,null,null,null,null,null,null,null,null,null,null,null,null,null,null,null,null,null,null,null,{"$f":"IF(ISNUMBER(SEARCH($F$6,AP2547)),MAX($AO$11:AO2546)+1,0)","v":2536},0,{"$f":"ROWS($AQ$12:AQ2547)","v":2536},{"$f":"IFERROR(VLOOKUP(ROWS($AR$12:AR2547),$AO$12:$AP$3014,2,0),\"\")","v":0}]
[null,null,null,null,null,null,null,null,null,null,null,null,null,null,null,null,null,null,null,null,null,null,null,null,null,null,null,null,null,null,null,null,null,null,null,null,null,null,null,null,{"$f":"IF(ISNUMBER(SEARCH($F$6,AP2551)),MAX($AO$11:AO2550)+1,0)","v":2540},0,{"$f":"ROWS($AQ$12:AQ2551)","v":2540},{"$f":"IFERROR(VLOOKUP(ROWS($AR$12:AR2551),$AO$12:$AP$3014,2,0),\"\")","v":0}]
[null,null,null,null,null,null,null,null,null,null,null,null,null,null,null,null,null,null,null,null,null,null,null,null,null,null,null,null,null,null,null,null,null,null,null,null,null,null,null,null,{"$f":"IF(ISNUMBER(SEARCH($F$6,AP2552)),MAX($AO$11:AO2551)+1,0)","v":2541},0,{"$f":"ROWS($AQ$12:AQ2552)","v":2541},{"$f":"IFERROR(VLOOKUP(ROWS($AR$12:AR2552),$AO$12:$AP$3014,2,0),\"\")","v":0}]
[null,null,null,null,null,null,null,null,null,null,null,null,null,null,null,null,null,null,null,null,null,null,null,null,null,null,null,null,null,null,null,null,null,null,null,null,null,null,null,null,{"$f":"IF(ISNUMBER(SEARCH($F$6,AP2555)),MAX($AO$11:AO2554)+1,0)","v":2544},0,{"$f":"ROWS($AQ$12:AQ2555)","v":2544},{"$f":"IFERROR(VLOOKUP(ROWS($AR$12:AR2555),$AO$12:$AP$3014,2,0),\"\")","v":0}]
[null,null,null,null,null,null,null,null,null,null,null,null,null,null,null,null,null,null,null,null,null,null,null,null,null,null,null,null,null,null,null,null,null,null,null,null,null,null,null,null,{"$f":"IF(ISNUMBER(SEARCH($F$6,AP2558)),MAX($AO$11:AO2557)+1,0)","v":2547},0,{"$f":"ROWS($AQ$12:AQ2558)","v":2547},{"$f":"IFERROR(VLOOKUP(ROWS($AR$12:AR2558),$AO$12:$AP$3014,2,0),\"\")","v":0}]
[null,null,null,null,null,null,null,null,null,null,null,null,null,null,null,null,null,null,null,null,null,null,null,null,null,null,null,null,null,null,null,null,null,null,null,null,null,null,null,null,{"$f":"IF(ISNUMBER(SEARCH($F$6,AP2561)),MAX($AO$11:AO2560)+1,0)","v":2550},0,{"$f":"ROWS($AQ$12:AQ2561)","v":2550},{"$f":"IFERROR(VLOOKUP(ROWS($AR$12:AR2561),$AO$12:$AP$3014,2,0),\"\")","v":0}]
[null,null,null,null,null,null,null,null,null,null,null,null,null,null,null,null,null,null,null,null,null,null,null,null,null,null,null,null,null,null,null,null,null,null,null,null,null,null,null,null,{"$f":"IF(ISNUMBER(SEARCH($F$6,AP2564)),MAX($AO$11:AO2563)+1,0)","v":2553},0,{"$f":"ROWS($AQ$12:AQ2564)","v":2553},{"$f":"IFERROR(VLOOKUP(ROWS($AR$12:AR2564),$AO$12:$AP$3014,2,0),\"\")","v":0}]
[null,null,null,null,null,null,null,null,null,null,null,null,null,null,null,null,null,null,null,null,null,null,null,null,null,null,null,null,null,null,null,null,null,null,null,null,null,null,null,null,{"$f":"IF(ISNUMBER(SEARCH($F$6,AP2567)),MAX($AO$11:AO2566)+1,0)","v":2556},0,{"$f":"ROWS($AQ$12:AQ2567)","v":2556},{"$f":"IFERROR(VLOOKUP(ROWS($AR$12:AR2567),$AO$12:$AP$3014,2,0),\"\")","v":0}]
[null,null,null,null,null,null,null,null,null,null,null,null,null,null,null,null,null,null,null,null,null,null,null,null,null,null,null,null,null,null,null,null,null,null,null,null,null,null,null,null,{"$f":"IF(ISNUMBER(SEARCH($F$6,AP2569)),MAX($AO$11:AO2568)+1,0)","v":2558},0,{"$f":"ROWS($AQ$12:AQ2569)","v":2558},{"$f":"IFERROR(VLOOKUP(ROWS($AR$12:AR2569),$AO$12:$AP$3014,2,0),\"\")","v":0}]
[null,null,null,null,null,null,null,null,null,null,null,null,null,null,null,null,null,null,null,null,null,null,null,null,null,null,null,null,null,null,null,null,null,null,null,null,null,null,null,null,{"$f":"IF(ISNUMBER(SEARCH($F$6,AP2573)),MAX($AO$11:AO2572)+1,0)","v":2562},0,{"$f":"ROWS($AQ$12:AQ2573)","v":2562},{"$f":"IFERROR(VLOOKUP(ROWS($AR$12:AR2573),$AO$12:$AP$3014,2,0),\"\")","v":0}]
[null,null,null,null,null,null,null,null,null,null,null,null,null,null,null,null,null,null,null,null,null,null,null,null,null,null,null,null,null,null,null,null,null,null,null,null,null,null,null,null,{"$f":"IF(ISNUMBER(SEARCH($F$6,AP2574)),MAX($AO$11:AO2573)+1,0)","v":2563},0,{"$f":"ROWS($AQ$12:AQ2574)","v":2563},{"$f":"IFERROR(VLOOKUP(ROWS($AR$12:AR2574),$AO$12:$AP$3014,2,0),\"\")","v":0}]
[null,null,null,null,null,null,null,null,null,null,null,null,null,null,null,null,null,null,null,null,null,null,null,null,null,null,null,null,null,null,null,null,null,null,null,null,null,null,null,null,{"$f":"IF(ISNUMBER(SEARCH($F$6,AP2577)),MAX($AO$11:AO2576)+1,0)","v":2566},0,{"$f":"ROWS($AQ$12:AQ2577)","v":2566},{"$f":"IFERROR(VLOOKUP(ROWS($AR$12:AR2577),$AO$12:$AP$3014,2,0),\"\")","v":0}]
[null,null,null,null,null,null,null,null,null,null,null,null,null,null,null,null,null,null,null,null,null,null,null,null,null,null,null,null,null,null,null,null,null,null,null,null,null,null,null,null,{"$f":"IF(ISNUMBER(SEARCH($F$6,AP2580)),MAX($AO$11:AO2579)+1,0)","v":2569},0,{"$f":"ROWS($AQ$12:AQ2580)","v":2569},{"$f":"IFERROR(VLOOKUP(ROWS($AR$12:AR2580),$AO$12:$AP$3014,2,0),\"\")","v":0}]
[null,null,null,null,null,null,null,null,null,null,null,null,null,null,null,null,null,null,null,null,null,null,null,null,null,null,null,null,null,null,null,null,null,null,null,null,null,null,null,null,{"$f":"IF(ISNUMBER(SEARCH($F$6,AP2583)),MAX($AO$11:AO2582)+1,0)","v":2572},0,{"$f":"ROWS($AQ$12:AQ2583)","v":2572},{"$f":"IFERROR(VLOOKUP(ROWS($AR$12:AR2583),$AO$12:$AP$3014,2,0),\"\")","v":0}]
[null,null,null,null,null,null,null,null,null,null,null,null,null,null,null,null,null,null,null,null,null,null,null,null,null,null,null,null,null,null,null,null,null,null,null,null,null,null,null,null,{"$f":"IF(ISNUMBER(SEARCH($F$6,AP2586)),MAX($AO$11:AO2585)+1,0)","v":2575},0,{"$f":"ROWS($AQ$12:AQ2586)","v":2575},{"$f":"IFERROR(VLOOKUP(ROWS($AR$12:AR2586),$AO$12:$AP$3014,2,0),\"\")","v":0}]
[null,null,null,null,null,null,null,null,null,null,null,null,null,null,null,null,null,null,null,null,null,null,null,null,null,null,null,null,null,null,null,null,null,null,null,null,null,null,null,null,{"$f":"IF(ISNUMBER(SEARCH($F$6,AP2590)),MAX($AO$11:AO2589)+1,0)","v":2579},0,{"$f":"ROWS($AQ$12:AQ2590)","v":2579},{"$f":"IFERROR(VLOOKUP(ROWS($AR$12:AR2590),$AO$12:$AP$3014,2,0),\"\")","v":0}]
[null,null,null,null,null,null,null,null,null,null,null,null,null,null,null,null,null,null,null,null,null,null,null,null,null,null,null,null,null,null,null,null,null,null,null,null,null,null,null,null,{"$f":"IF(ISNUMBER(SEARCH($F$6,AP2591)),MAX($AO$11:AO2590)+1,0)","v":2580},0,{"$f":"ROWS($AQ$12:AQ2591)","v":2580},{"$f":"IFERROR(VLOOKUP(ROWS($AR$12:AR2591),$AO$12:$AP$3014,2,0),\"\")","v":0}]
[null,null,null,null,null,null,null,null,null,null,null,null,null,null,null,null,null,null,null,null,null,null,null,null,null,null,null,null,null,null,null,null,null,null,null,null,null,null,null,null,{"$f":"IF(ISNUMBER(SEARCH($F$6,AP2595)),MAX($AO$11:AO2594)+1,0)","v":2584},0,{"$f":"ROWS($AQ$12:AQ2595)","v":2584},{"$f":"IFERROR(VLOOKUP(ROWS($AR$12:AR2595),$AO$12:$AP$3014,2,0),\"\")","v":0}]
[null,null,null,null,null,null,null,null,null,null,null,null,null,null,null,null,null,null,null,null,null,null,null,null,null,null,null,null,null,null,null,null,null,null,null,null,null,null,null,null,{"$f":"IF(ISNUMBER(SEARCH($F$6,AP2596)),MAX($AO$11:AO2595)+1,0)","v":2585},0,{"$f":"ROWS($AQ$12:AQ2596)","v":2585},{"$f":"IFERROR(VLOOKUP(ROWS($AR$12:AR2596),$AO$12:$AP$3014,2,0),\"\")","v":0}]
[null,null,null,null,null,null,null,null,null,null,null,null,null,null,null,null,null,null,null,null,null,null,null,null,null,null,null,null,null,null,null,null,null,null,null,null,null,null,null,null,{"$f":"IF(ISNUMBER(SEARCH($F$6,AP2599)),MAX($AO$11:AO2598)+1,0)","v":2588},0,{"$f":"ROWS($AQ$12:AQ2599)","v":2588},{"$f":"IFERROR(VLOOKUP(ROWS($AR$12:AR2599),$AO$12:$AP$3014,2,0),\"\")","v":0}]
[null,null,null,null,null,null,null,null,null,null,null,null,null,null,null,null,null,null,null,null,null,null,null,null,null,null,null,null,null,null,null,null,null,null,null,null,null,null,null,null,{"$f":"IF(ISNUMBER(SEARCH($F$6,AP2602)),MAX($AO$11:AO2601)+1,0)","v":2591},0,{"$f":"ROWS($AQ$12:AQ2602)","v":2591},{"$f":"IFERROR(VLOOKUP(ROWS($AR$12:AR2602),$AO$12:$AP$3014,2,0),\"\")","v":0}]
[null,null,null,null,null,null,null,null,null,null,null,null,null,null,null,null,null,null,null,null,null,null,null,null,null,null,null,null,null,null,null,null,null,null,null,null,null,null,null,null,{"$f":"IF(ISNUMBER(SEARCH($F$6,AP2605)),MAX($AO$11:AO2604)+1,0)","v":2594},0,{"$f":"ROWS($AQ$12:AQ2605)","v":2594},{"$f":"IFERROR(VLOOKUP(ROWS($AR$12:AR2605),$AO$12:$AP$3014,2,0),\"\")","v":0}]
[null,null,null,null,null,null,null,null,null,null,null,null,null,null,null,null,null,null,null,null,null,null,null,null,null,null,null,null,null,null,null,null,null,null,null,null,null,null,null,null,{"$f":"IF(ISNUMBER(SEARCH($F$6,AP2608)),MAX($AO$11:AO2607)+1,0)","v":2597},0,{"$f":"ROWS($AQ$12:AQ2608)","v":2597},{"$f":"IFERROR(VLOOKUP(ROWS($AR$12:AR2608),$AO$12:$AP$3014,2,0),\"\")","v":0}]
[null,null,null,null,null,null,null,null,null,null,null,null,null,null,null,null,null,null,null,null,null,null,null,null,null,null,null,null,null,null,null,null,null,null,null,null,null,null,null,null,{"$f":"IF(ISNUMBER(SEARCH($F$6,AP2612)),MAX($AO$11:AO2611)+1,0)","v":2601},0,{"$f":"ROWS($AQ$12:AQ2612)","v":2601},{"$f":"IFERROR(VLOOKUP(ROWS($AR$12:AR2612),$AO$12:$AP$3014,2,0),\"\")","v":0}]
[null,null,null,null,null,null,null,null,null,null,null,null,null,null,null,null,null,null,null,null,null,null,null,null,null,null,null,null,null,null,null,null,null,null,null,null,null,null,null,null,{"$f":"IF(ISNUMBER(SEARCH($F$6,AP2615)),MAX($AO$11:AO2614)+1,0)","v":2604},0,{"$f":"ROWS($AQ$12:AQ2615)","v":2604},{"$f":"IFERROR(VLOOKUP(ROWS($AR$12:AR2615),$AO$12:$AP$3014,2,0),\"\")","v":0}]
[null,null,null,null,null,null,null,null,null,null,null,null,null,null,null,null,null,null,null,null,null,null,null,null,null,null,null,null,null,null,null,null,null,null,null,null,null,null,null,null,{"$f":"IF(ISNUMBER(SEARCH($F$6,AP2617)),MAX($AO$11:AO2616)+1,0)","v":2606},0,{"$f":"ROWS($AQ$12:AQ2617)","v":2606},{"$f":"IFERROR(VLOOKUP(ROWS($AR$12:AR2617),$AO$12:$AP$3014,2,0),\"\")","v":0}]
[null,null,null,null,null,null,null,null,null,null,null,null,null,null,null,null,null,null,null,null,null,null,null,null,null,null,null,null,null,null,null,null,null,null,null,null,null,null,null,null,{"$f":"IF(ISNUMBER(SEARCH($F$6,AP2618)),MAX($AO$11:AO2617)+1,0)","v":2607},0,{"$f":"ROWS($AQ$12:AQ2618)","v":2607},{"$f":"IFERROR(VLOOKUP(ROWS($AR$12:AR2618),$AO$12:$AP$3014,2,0),\"\")","v":0}]
[null,null,null,null,null,null,null,null,null,null,null,null,null,null,null,null,null,null,null,null,null,null,null,null,null,null,null,null,null,null,null,null,null,null,null,null,null,null,null,null,{"$f":"IF(ISNUMBER(SEARCH($F$6,AP2621)),MAX($AO$11:AO2620)+1,0)","v":2610},0,{"$f":"ROWS($AQ$12:AQ2621)","v":2610},{"$f":"IFERROR(VLOOKUP(ROWS($AR$12:AR2621),$AO$12:$AP$3014,2,0),\"\")","v":0}]
[null,null,null,null,null,null,null,null,null,null,null,null,null,null,null,null,null,null,null,null,null,null,null,null,null,null,null,null,null,null,null,null,null,null,null,null,null,null,null,null,{"$f":"IF(ISNUMBER(SEARCH($F$6,AP2624)),MAX($AO$11:AO2623)+1,0)","v":2613},0,{"$f":"ROWS($AQ$12:AQ2624)","v":2613},{"$f":"IFERROR(VLOOKUP(ROWS($AR$12:AR2624),$AO$12:$AP$3014,2,0),\"\")","v":0}]
[null,null,null,null,null,null,null,null,null,null,null,null,null,null,null,null,null,null,null,null,null,null,null,null,null,null,null,null,null,null,null,null,null,null,null,null,null,null,null,null,{"$f":"IF(ISNUMBER(SEARCH($F$6,AP2628)),MAX($AO$11:AO2627)+1,0)","v":2617},0,{"$f":"ROWS($AQ$12:AQ2628)","v":2617},{"$f":"IFERROR(VLOOKUP(ROWS($AR$12:AR2628),$AO$12:$AP$3014,2,0),\"\")","v":0}]
[null,null,null,null,null,null,null,null,null,null,null,null,null,null,null,null,null,null,null,null,null,null,null,null,null,null,null,null,null,null,null,null,null,null,null,null,null,null,null,null,{"$f":"IF(ISNUMBER(SEARCH($F$6,AP2630)),MAX($AO$11:AO2629)+1,0)","v":2619},0,{"$f":"ROWS($AQ$12:AQ2630)","v":2619},{"$f":"IFERROR(VLOOKUP(ROWS($AR$12:AR2630),$AO$12:$AP$3014,2,0),\"\")","v":0}]
[null,null,null,null,null,null,null,null,null,null,null,null,null,null,null,null,null,null,null,null,null,null,null,null,null,null,null,null,null,null,null,null,null,null,null,null,null,null,null,null,{"$f":"IF(ISNUMBER(SEARCH($F$6,AP2634)),MAX($AO$11:AO2633)+1,0)","v":2623},0,{"$f":"ROWS($AQ$12:AQ2634)","v":2623},{"$f":"IFERROR(VLOOKUP(ROWS($AR$12:AR2634),$AO$12:$AP$3014,2,0),\"\")","v":0}]
[null,null,null,null,null,null,null,null,null,null,null,null,null,null,null,null,null,null,null,null,null,null,null,null,null,null,null,null,null,null,null,null,null,null,null,null,null,null,null,null,{"$f":"IF(ISNUMBER(SEARCH($F$6,AP2637)),MAX($AO$11:AO2636)+1,0)","v":2626},0,{"$f":"ROWS($AQ$12:AQ2637)","v":2626},{"$f":"IFERROR(VLOOKUP(ROWS($AR$12:AR2637),$AO$12:$AP$3014,2,0),\"\")","v":0}]
[null,null,null,null,null,null,null,null,null,null,null,null,null,null,null,null,null,null,null,null,null,null,null,null,null,null,null,null,null,null,null,null,null,null,null,null,null,null,null,null,{"$f":"IF(ISNUMBER(SEARCH($F$6,AP2639)),MAX($AO$11:AO2638)+1,0)","v":2628},0,{"$f":"ROWS($AQ$12:AQ2639)","v":2628},{"$f":"IFERROR(VLOOKUP(ROWS($AR$12:AR2639),$AO$12:$AP$3014,2,0),\"\")","v":0}]
[null,null,null,null,null,null,null,null,null,null,null,null,null,null,null,null,null,null,null,null,null,null,null,null,null,null,null,null,null,null,null,null,null,null,null,null,null,null,null,null,{"$f":"IF(ISNUMBER(SEARCH($F$6,AP2640)),MAX($AO$11:AO2639)+1,0)","v":2629},0,{"$f":"ROWS($AQ$12:AQ2640)","v":2629},{"$f":"IFERROR(VLOOKUP(ROWS($AR$12:AR2640),$AO$12:$AP$3014,2,0),\"\")","v":0}]
[null,null,null,null,null,null,null,null,null,null,null,null,null,null,null,null,null,null,null,null,null,null,null,null,null,null,null,null,null,null,null,null,null,null,null,null,null,null,null,null,{"$f":"IF(ISNUMBER(SEARCH($F$6,AP2643)),MAX($AO$11:AO2642)+1,0)","v":2632},0,{"$f":"ROWS($AQ$12:AQ2643)","v":2632},{"$f":"IFERROR(VLOOKUP(ROWS($AR$12:AR2643),$AO$12:$AP$3014,2,0),\"\")","v":0}]
[null,null,null,null,null,null,null,null,null,null,null,null,null,null,null,null,null,null,null,null,null,null,null,null,null,null,null,null,null,null,null,null,null,null,null,null,null,null,null,null,{"$f":"IF(ISNUMBER(SEARCH($F$6,AP2647)),MAX($AO$11:AO2646)+1,0)","v":2636},0,{"$f":"ROWS($AQ$12:AQ2647)","v":2636},{"$f":"IFERROR(VLOOKUP(ROWS($AR$12:AR2647),$AO$12:$AP$3014,2,0),\"\")","v":0}]
[null,null,null,null,null,null,null,null,null,null,null,null,null,null,null,null,null,null,null,null,null,null,null,null,null,null,null,null,null,null,null,null,null,null,null,null,null,null,null,null,{"$f":"IF(ISNUMBER(SEARCH($F$6,AP2650)),MAX($AO$11:AO2649)+1,0)","v":2639},0,{"$f":"ROWS($AQ$12:AQ2650)","v":2639},{"$f":"IFERROR(VLOOKUP(ROWS($AR$12:AR2650),$AO$12:$AP$3014,2,0),\"\")","v":0}]
[null,null,null,null,null,null,null,null,null,null,null,null,null,null,null,null,null,null,null,null,null,null,null,null,null,null,null,null,null,null,null,null,null,null,null,null,null,null,null,null,{"$f":"IF(ISNUMBER(SEARCH($F$6,AP2652)),MAX($AO$11:AO2651)+1,0)","v":2641},0,{"$f":"ROWS($AQ$12:AQ2652)","v":2641},{"$f":"IFERROR(VLOOKUP(ROWS($AR$12:AR2652),$AO$12:$AP$3014,2,0),\"\")","v":0}]
[null,null,null,null,null,null,null,null,null,null,null,null,null,null,null,null,null,null,null,null,null,null,null,null,null,null,null,null,null,null,null,null,null,null,null,null,null,null,null,null,{"$f":"IF(ISNUMBER(SEARCH($F$6,AP2656)),MAX($AO$11:AO2655)+1,0)","v":2645},0,{"$f":"ROWS($AQ$12:AQ2656)","v":2645},{"$f":"IFERROR(VLOOKUP(ROWS($AR$12:AR2656),$AO$12:$AP$3014,2,0),\"\")","v":0}]
[null,null,null,null,null,null,null,null,null,null,null,null,null,null,null,null,null,null,null,null,null,null,null,null,null,null,null,null,null,null,null,null,null,null,null,null,null,null,null,null,{"$f":"IF(ISNUMBER(SEARCH($F$6,AP2659)),MAX($AO$11:AO2658)+1,0)","v":2648},0,{"$f":"ROWS($AQ$12:AQ2659)","v":2648},{"$f":"IFERROR(VLOOKUP(ROWS($AR$12:AR2659),$AO$12:$AP$3014,2,0),\"\")","v":0}]
[null,null,null,null,null,null,null,null,null,null,null,null,null,null,null,null,null,null,null,null,null,null,null,null,null,null,null,null,null,null,null,null,null,null,null,null,null,null,null,null,{"$f":"IF(ISNUMBER(SEARCH($F$6,AP2661)),MAX($AO$11:AO2660)+1,0)","v":2650},0,{"$f":"ROWS($AQ$12:AQ2661)","v":2650},{"$f":"IFERROR(VLOOKUP(ROWS($AR$12:AR2661),$AO$12:$AP$3014,2,0),\"\")","v":0}]
[null,null,null,null,null,null,null,null,null,null,null,null,null,null,null,null,null,null,null,null,null,null,null,null,null,null,null,null,null,null,null,null,null,null,null,null,null,null,null,null,{"$f":"IF(ISNUMBER(SEARCH($F$6,AP2662)),MAX($AO$11:AO2661)+1,0)","v":2651},0,{"$f":"ROWS($AQ$12:AQ2662)","v":2651},{"$f":"IFERROR(VLOOKUP(ROWS($AR$12:AR2662),$AO$12:$AP$3014,2,0),\"\")","v":0}]
[null,null,null,null,null,null,null,null,null,null,null,null,null,null,null,null,null,null,null,null,null,null,null,null,null,null,null,null,null,null,null,null,null,null,null,null,null,null,null,null,{"$f":"IF(ISNUMBER(SEARCH($F$6,AP2665)),MAX($AO$11:AO2664)+1,0)","v":2654},0,{"$f":"ROWS($AQ$12:AQ2665)","v":2654},{"$f":"IFERROR(VLOOKUP(ROWS($AR$12:AR2665),$AO$12:$AP$3014,2,0),\"\")","v":0}]
[null,null,null,null,null,null,null,null,null,null,null,null,null,null,null,null,null,null,null,null,null,null,null,null,null,null,null,null,null,null,null,null,null,null,null,null,null,null,null,null,{"$f":"IF(ISNUMBER(SEARCH($F$6,AP2669)),MAX($AO$11:AO2668)+1,0)","v":2658},0,{"$f":"ROWS($AQ$12:AQ2669)","v":2658},{"$f":"IFERROR(VLOOKUP(ROWS($AR$12:AR2669),$AO$12:$AP$3014,2,0),\"\")","v":0}]
[null,null,null,null,null,null,null,null,null,null,null,null,null,null,null,null,null,null,null,null,null,null,null,null,null,null,null,null,null,null,null,null,null,null,null,null,null,null,null,null,{"$f":"IF(ISNUMBER(SEARCH($F$6,AP2672)),MAX($AO$11:AO2671)+1,0)","v":2661},0,{"$f":"ROWS($AQ$12:AQ2672)","v":2661},{"$f":"IFERROR(VLOOKUP(ROWS($AR$12:AR2672),$AO$12:$AP$3014,2,0),\"\")","v":0}]
[null,null,null,null,null,null,null,null,null,null,null,null,null,null,null,null,null,null,null,null,null,null,null,null,null,null,null,null,null,null,null,null,null,null,null,null,null,null,null,null,{"$f":"IF(ISNUMBER(SEARCH($F$6,AP2674)),MAX($AO$11:AO2673)+1,0)","v":2663},0,{"$f":"ROWS($AQ$12:AQ2674)","v":2663},{"$f":"IFERROR(VLOOKUP(ROWS($AR$12:AR2674),$AO$12:$AP$3014,2,0),\"\")","v":0}]
[null,null,null,null,null,null,null,null,null,null,null,null,null,null,null,null,null,null,null,null,null,null,null,null,null,null,null,null,null,null,null,null,null,null,null,null,null,null,null,null,{"$f":"IF(ISNUMBER(SEARCH($F$6,AP2678)),MAX($AO$11:AO2677)+1,0)","v":2667},0,{"$f":"ROWS($AQ$12:AQ2678)","v":2667},{"$f":"IFERROR(VLOOKUP(ROWS($AR$12:AR2678),$AO$12:$AP$3014,2,0),\"\")","v":0}]
[null,null,null,null,null,null,null,null,null,null,null,null,null,null,null,null,null,null,null,null,null,null,null,null,null,null,null,null,null,null,null,null,null,null,null,null,null,null,null,null,{"$f":"IF(ISNUMBER(SEARCH($F$6,AP2681)),MAX($AO$11:AO2680)+1,0)","v":2670},0,{"$f":"ROWS($AQ$12:AQ2681)","v":2670},{"$f":"IFERROR(VLOOKUP(ROWS($AR$12:AR2681),$AO$12:$AP$3014,2,0),\"\")","v":0}]
[null,null,null,null,null,null,null,null,null,null,null,null,null,null,null,null,null,null,null,null,null,null,null,null,null,null,null,null,null,null,null,null,null,null,null,null,null,null,null,null,{"$f":"IF(ISNUMBER(SEARCH($F$6,AP2683)),MAX($AO$11:AO2682)+1,0)","v":2672},0,{"$f":"ROWS($AQ$12:AQ2683)","v":2672},{"$f":"IFERROR(VLOOKUP(ROWS($AR$12:AR2683),$AO$12:$AP$3014,2,0),\"\")","v":0}]
[null,null,null,null,null,null,null,null,null,null,null,null,null,null,null,null,null,null,null,null,null,null,null,null,null,null,null,null,null,null,null,null,null,null,null,null,null,null,null,null,{"$f":"IF(ISNUMBER(SEARCH($F$6,AP2684)),MAX($AO$11:AO2683)+1,0)","v":2673},0,{"$f":"ROWS($AQ$12:AQ2684)","v":2673},{"$f":"IFERROR(VLOOKUP(ROWS($AR$12:AR2684),$AO$12:$AP$3014,2,0),\"\")","v":0}]
[null,null,null,null,null,null,null,null,null,null,null,null,null,null,null,null,null,null,null,null,null,null,null,null,null,null,null,null,null,null,null,null,null,null,null,null,null,null,null,null,{"$f":"IF(ISNUMBER(SEARCH($F$6,AP2687)),MAX($AO$11:AO2686)+1,0)","v":2676},0,{"$f":"ROWS($AQ$12:AQ2687)","v":2676},{"$f":"IFERROR(VLOOKUP(ROWS($AR$12:AR2687),$AO$12:$AP$3014,2,0),\"\")","v":0}]
[null,null,null,null,null,null,null,null,null,null,null,null,null,null,null,null,null,null,null,null,null,null,null,null,null,null,null,null,null,null,null,null,null,null,null,null,null,null,null,null,{"$f":"IF(ISNUMBER(SEARCH($F$6,AP2691)),MAX($AO$11:AO2690)+1,0)","v":2680},0,{"$f":"ROWS($AQ$12:AQ2691)","v":2680},{"$f":"IFERROR(VLOOKUP(ROWS($AR$12:AR2691),$AO$12:$AP$3014,2,0),\"\")","v":0}]
[null,null,null,null,null,null,null,null,null,null,null,null,null,null,null,null,null,null,null,null,null,null,null,null,null,null,null,null,null,null,null,null,null,null,null,null,null,null,null,null,{"$f":"IF(ISNUMBER(SEARCH($F$6,AP2694)),MAX($AO$11:AO2693)+1,0)","v":2683},0,{"$f":"ROWS($AQ$12:AQ2694)","v":2683},{"$f":"IFERROR(VLOOKUP(ROWS($AR$12:AR2694),$AO$12:$AP$3014,2,0),\"\")","v":0}]
[null,null,null,null,null,null,null,null,null,null,null,null,null,null,null,null,null,null,null,null,null,null,null,null,null,null,null,null,null,null,null,null,null,null,null,null,null,null,null,null,{"$f":"IF(ISNUMBER(SEARCH($F$6,AP2696)),MAX($AO$11:AO2695)+1,0)","v":2685},0,{"$f":"ROWS($AQ$12:AQ2696)","v":2685},{"$f":"IFERROR(VLOOKUP(ROWS($AR$12:AR2696),$AO$12:$AP$3014,2,0),\"\")","v":0}]
[null,null,null,null,null,null,null,null,null,null,null,null,null,null,null,null,null,null,null,null,null,null,null,null,null,null,null,null,null,null,null,null,null,null,null,null,null,null,null,null,{"$f":"IF(ISNUMBER(SEARCH($F$6,AP2700)),MAX($AO$11:AO2699)+1,0)","v":2689},0,{"$f":"ROWS($AQ$12:AQ2700)","v":2689},{"$f":"IFERROR(VLOOKUP(ROWS($AR$12:AR2700),$AO$12:$AP$3014,2,0),\"\")","v":0}]
[null,null,null,null,null,null,null,null,null,null,null,null,null,null,null,null,null,null,null,null,null,null,null,null,null,null,null,null,null,null,null,null,null,null,null,null,null,null,null,null,{"$f":"IF(ISNUMBER(SEARCH($F$6,AP2703)),MAX($AO$11:AO2702)+1,0)","v":2692},0,{"$f":"ROWS($AQ$12:AQ2703)","v":2692},{"$f":"IFERROR(VLOOKUP(ROWS($AR$12:AR2703),$AO$12:$AP$3014,2,0),\"\")","v":0}]
[null,null,null,null,null,null,null,null,null,null,null,null,null,null,null,null,null,null,null,null,null,null,null,null,null,null,null,null,null,null,null,null,null,null,null,null,null,null,null,null,{"$f":"IF(ISNUMBER(SEARCH($F$6,AP2705)),MAX($AO$11:AO2704)+1,0)","v":2694},0,{"$f":"ROWS($AQ$12:AQ2705)","v":2694},{"$f":"IFERROR(VLOOKUP(ROWS($AR$12:AR2705),$AO$12:$AP$3014,2,0),\"\")","v":0}]
[null,null,null,null,null,null,null,null,null,null,null,null,null,null,null,null,null,null,null,null,null,null,null,null,null,null,null,null,null,null,null,null,null,null,null,null,null,null,null,null,{"$f":"IF(ISNUMBER(SEARCH($F$6,AP2706)),MAX($AO$11:AO2705)+1,0)","v":2695},0,{"$f":"ROWS($AQ$12:AQ2706)","v":2695},{"$f":"IFERROR(VLOOKUP(ROWS($AR$12:AR2706),$AO$12:$AP$3014,2,0),\"\")","v":0}]
[null,null,null,null,null,null,null,null,null,null,null,null,null,null,null,null,null,null,null,null,null,null,null,null,null,null,null,null,null,null,null,null,null,null,null,null,null,null,null,null,{"$f":"IF(ISNUMBER(SEARCH($F$6,AP2709)),MAX($AO$11:AO2708)+1,0)","v":2698},0,{"$f":"ROWS($AQ$12:AQ2709)","v":2698},{"$f":"IFERROR(VLOOKUP(ROWS($AR$12:AR2709),$AO$12:$AP$3014,2,0),\"\")","v":0}]
[null,null,null,null,null,null,null,null,null,null,null,null,null,null,null,null,null,null,null,null,null,null,null,null,null,null,null,null,null,null,null,null,null,null,null,null,null,null,null,null,{"$f":"IF(ISNUMBER(SEARCH($F$6,AP2713)),MAX($AO$11:AO2712)+1,0)","v":2702},0,{"$f":"ROWS($AQ$12:AQ2713)","v":2702},{"$f":"IFERROR(VLOOKUP(ROWS($AR$12:AR2713),$AO$12:$AP$3014,2,0),\"\")","v":0}]
[null,null,null,null,null,null,null,null,null,null,null,null,null,null,null,null,null,null,null,null,null,null,null,null,null,null,null,null,null,null,null,null,null,null,null,null,null,null,null,null,{"$f":"IF(ISNUMBER(SEARCH($F$6,AP2716)),MAX($AO$11:AO2715)+1,0)","v":2705},0,{"$f":"ROWS($AQ$12:AQ2716)","v":2705},{"$f":"IFERROR(VLOOKUP(ROWS($AR$12:AR2716),$AO$12:$AP$3014,2,0),\"\")","v":0}]
[null,null,null,null,null,null,null,null,null,null,null,null,null,null,null,null,null,null,null,null,null,null,null,null,null,null,null,null,null,null,null,null,null,null,null,null,null,null,null,null,{"$f":"IF(ISNUMBER(SEARCH($F$6,AP2718)),MAX($AO$11:AO2717)+1,0)","v":2707},0,{"$f":"ROWS($AQ$12:AQ2718)","v":2707},{"$f":"IFERROR(VLOOKUP(ROWS($AR$12:AR2718),$AO$12:$AP$3014,2,0),\"\")","v":0}]
[null,null,null,null,null,null,null,null,null,null,null,null,null,null,null,null,null,null,null,null,null,null,null,null,null,null,null,null,null,null,null,null,null,null,null,null,null,null,null,null,{"$f":"IF(ISNUMBER(SEARCH($F$6,AP2722)),MAX($AO$11:AO2721)+1,0)","v":2711},0,{"$f":"ROWS($AQ$12:AQ2722)","v":2711},{"$f":"IFERROR(VLOOKUP(ROWS($AR$12:AR2722),$AO$12:$AP$3014,2,0),\"\")","v":0}]
[null,null,null,null,null,null,null,null,null,null,null,null,null,null,null,null,null,null,null,null,null,null,null,null,null,null,null,null,null,null,null,null,null,null,null,null,null,null,null,null,{"$f":"IF(ISNUMBER(SEARCH($F$6,AP2725)),MAX($AO$11:AO2724)+1,0)","v":2714},0,{"$f":"ROWS($AQ$12:AQ2725)","v":2714},{"$f":"IFERROR(VLOOKUP(ROWS($AR$12:AR2725),$AO$12:$AP$3014,2,0),\"\")","v":0}]
[null,null,null,null,null,null,null,null,null,null,null,null,null,null,null,null,null,null,null,null,null,null,null,null,null,null,null,null,null,null,null,null,null,null,null,null,null,null,null,null,{"$f":"IF(ISNUMBER(SEARCH($F$6,AP2726)),MAX($AO$11:AO2725)+1,0)","v":2715},0,{"$f":"ROWS($AQ$12:AQ2726)","v":2715},{"$f":"IFERROR(VLOOKUP(ROWS($AR$12:AR2726),$AO$12:$AP$3014,2,0),\"\")","v":0}]
[null,null,null,null,null,null,null,null,null,null,null,null,null,null,null,null,null,null,null,null,null,null,null,null,null,null,null,null,null,null,null,null,null,null,null,null,null,null,null,null,{"$f":"IF(ISNUMBER(SEARCH($F$6,AP2729)),MAX($AO$11:AO2728)+1,0)","v":2718},0,{"$f":"ROWS($AQ$12:AQ2729)","v":2718},{"$f":"IFERROR(VLOOKUP(ROWS($AR$12:AR2729),$AO$12:$AP$3014,2,0),\"\")","v":0}]
[null,null,null,null,null,null,null,null,null,null,null,null,null,null,null,null,null,null,null,null,null,null,null,null,null,null,null,null,null,null,null,null,null,null,null,null,null,null,null,null,{"$f":"IF(ISNUMBER(SEARCH($F$6,AP2731)),MAX($AO$11:AO2730)+1,0)","v":2720},0,{"$f":"ROWS($AQ$12:AQ2731)","v":2720},{"$f":"IFERROR(VLOOKUP(ROWS($AR$12:AR2731),$AO$12:$AP$3014,2,0),\"\")","v":0}]
[null,null,null,null,null,null,null,null,null,null,null,null,null,null,null,null,null,null,null,null,null,null,null,null,null,null,null,null,null,null,null,null,null,null,null,null,null,null,null,null,{"$f":"IF(ISNUMBER(SEARCH($F$6,AP2735)),MAX($AO$11:AO2734)+1,0)","v":2724},0,{"$f":"ROWS($AQ$12:AQ2735)","v":2724},{"$f":"IFERROR(VLOOKUP(ROWS($AR$12:AR2735),$AO$12:$AP$3014,2,0),\"\")","v":0}]
[null,null,null,null,null,null,null,null,null,null,null,null,null,null,null,null,null,null,null,null,null,null,null,null,null,null,null,null,null,null,null,null,null,null,null,null,null,null,null,null,{"$f":"IF(ISNUMBER(SEARCH($F$6,AP2738)),MAX($AO$11:AO2737)+1,0)","v":2727},0,{"$f":"ROWS($AQ$12:AQ2738)","v":2727},{"$f":"IFERROR(VLOOKUP(ROWS($AR$12:AR2738),$AO$12:$AP$3014,2,0),\"\")","v":0}]
[null,null,null,null,null,null,null,null,null,null,null,null,null,null,null,null,null,null,null,null,null,null,null,null,null,null,null,null,null,null,null,null,null,null,null,null,null,null,null,null,{"$f":"IF(ISNUMBER(SEARCH($F$6,AP2740)),MAX($AO$11:AO2739)+1,0)","v":2729},0,{"$f":"ROWS($AQ$12:AQ2740)","v":2729},{"$f":"IFERROR(VLOOKUP(ROWS($AR$12:AR2740),$AO$12:$AP$3014,2,0),\"\")","v":0}]
[null,null,null,null,null,null,null,null,null,null,null,null,null,null,null,null,null,null,null,null,null,null,null,null,null,null,null,null,null,null,null,null,null,null,null,null,null,null,null,null,{"$f":"IF(ISNUMBER(SEARCH($F$6,AP2744)),MAX($AO$11:AO2743)+1,0)","v":2733},0,{"$f":"ROWS($AQ$12:AQ2744)","v":2733},{"$f":"IFERROR(VLOOKUP(ROWS($AR$12:AR2744),$AO$12:$AP$3014,2,0),\"\")","v":0}]
[null,null,null,null,null,null,null,null,null,null,null,null,null,null,null,null,null,null,null,null,null,null,null,null,null,null,null,null,null,null,null,null,null,null,null,null,null,null,null,null,{"$f":"IF(ISNUMBER(SEARCH($F$6,AP2747)),MAX($AO$11:AO2746)+1,0)","v":2736},0,{"$f":"ROWS($AQ$12:AQ2747)","v":2736},{"$f":"IFERROR(VLOOKUP(ROWS($AR$12:AR2747),$AO$12:$AP$3014,2,0),\"\")","v":0}]
[null,null,null,null,null,null,null,null,null,null,null,null,null,null,null,null,null,null,null,null,null,null,null,null,null,null,null,null,null,null,null,null,null,null,null,null,null,null,null,null,{"$f":"IF(ISNUMBER(SEARCH($F$6,AP2748)),MAX($AO$11:AO2747)+1,0)","v":2737},0,{"$f":"ROWS($AQ$12:AQ2748)","v":2737},{"$f":"IFERROR(VLOOKUP(ROWS($AR$12:AR2748),$AO$12:$AP$3014,2,0),\"\")","v":0}]
[null,null,null,null,null,null,null,null,null,null,null,null,null,null,null,null,null,null,null,null,null,null,null,null,null,null,null,null,null,null,null,null,null,null,null,null,null,null,null,null,{"$f":"IF(ISNUMBER(SEARCH($F$6,AP2751)),MAX($AO$11:AO2750)+1,0)","v":2740},0,{"$f":"ROWS($AQ$12:AQ2751)","v":2740},{"$f":"IFERROR(VLOOKUP(ROWS($AR$12:AR2751),$AO$12:$AP$3014,2,0),\"\")","v":0}]
[null,null,null,null,null,null,null,null,null,null,null,null,null,null,null,null,null,null,null,null,null,null,null,null,null,null,null,null,null,null,null,null,null,null,null,null,null,null,null,null,{"$f":"IF(ISNUMBER(SEARCH($F$6,AP2753)),MAX($AO$11:AO2752)+1,0)","v":2742},0,{"$f":"ROWS($AQ$12:AQ2753)","v":2742},{"$f":"IFERROR(VLOOKUP(ROWS($AR$12:AR2753),$AO$12:$AP$3014,2,0),\"\")","v":0}]
[null,null,null,null,null,null,null,null,null,null,null,null,null,null,null,null,null,null,null,null,null,null,null,null,null,null,null,null,null,null,null,null,null,null,null,null,null,null,null,null,{"$f":"IF(ISNUMBER(SEARCH($F$6,AP2757)),MAX($AO$11:AO2756)+1,0)","v":2746},0,{"$f":"ROWS($AQ$12:AQ2757)","v":2746},{"$f":"IFERROR(VLOOKUP(ROWS($AR$12:AR2757),$AO$12:$AP$3014,2,0),\"\")","v":0}]
[null,null,null,null,null,null,null,null,null,null,null,null,null,null,null,null,null,null,null,null,null,null,null,null,null,null,null,null,null,null,null,null,null,null,null,null,null,null,null,null,{"$f":"IF(ISNUMBER(SEARCH($F$6,AP2760)),MAX($AO$11:AO2759)+1,0)","v":2749},0,{"$f":"ROWS($AQ$12:AQ2760)","v":2749},{"$f":"IFERROR(VLOOKUP(ROWS($AR$12:AR2760),$AO$12:$AP$3014,2,0),\"\")","v":0}]
[null,null,null,null,null,null,null,null,null,null,null,null,null,null,null,null,null,null,null,null,null,null,null,null,null,null,null,null,null,null,null,null,null,null,null,null,null,null,null,null,{"$f":"IF(ISNUMBER(SEARCH($F$6,AP2762)),MAX($AO$11:AO2761)+1,0)","v":2751},0,{"$f":"ROWS($AQ$12:AQ2762)","v":2751},{"$f":"IFERROR(VLOOKUP(ROWS($AR$12:AR2762),$AO$12:$AP$3014,2,0),\"\")","v":0}]
[null,null,null,null,null,null,null,null,null,null,null,null,null,null,null,null,null,null,null,null,null,null,null,null,null,null,null,null,null,null,null,null,null,null,null,null,null,null,null,null,{"$f":"IF(ISNUMBER(SEARCH($F$6,AP2766)),MAX($AO$11:AO2765)+1,0)","v":2755},0,{"$f":"ROWS($AQ$12:AQ2766)","v":2755},{"$f":"IFERROR(VLOOKUP(ROWS($AR$12:AR2766),$AO$12:$AP$3014,2,0),\"\")","v":0}]
[null,null,null,null,null,null,null,null,null,null,null,null,null,null,null,null,null,null,null,null,null,null,null,null,null,null,null,null,null,null,null,null,null,null,null,null,null,null,null,null,{"$f":"IF(ISNUMBER(SEARCH($F$6,AP2769)),MAX($AO$11:AO2768)+1,0)","v":2758},0,{"$f":"ROWS($AQ$12:AQ2769)","v":2758},{"$f":"IFERROR(VLOOKUP(ROWS($AR$12:AR2769),$AO$12:$AP$3014,2,0),\"\")","v":0}]
[null,null,null,null,null,null,null,null,null,null,null,null,null,null,null,null,null,null,null,null,null,null,null,null,null,null,null,null,null,null,null,null,null,null,null,null,null,null,null,null,{"$f":"IF(ISNUMBER(SEARCH($F$6,AP2770)),MAX($AO$11:AO2769)+1,0)","v":2759},0,{"$f":"ROWS($AQ$12:AQ2770)","v":2759},{"$f":"IFERROR(VLOOKUP(ROWS($AR$12:AR2770),$AO$12:$AP$3014,2,0),\"\")","v":0}]
[null,null,null,null,null,null,null,null,null,null,null,null,null,null,null,null,null,null,null,null,null,null,null,null,null,null,null,null,null,null,null,null,null,null,null,null,null,null,null,null,{"$f":"IF(ISNUMBER(SEARCH($F$6,AP2773)),MAX($AO$11:AO2772)+1,0)","v":2762},0,{"$f":"ROWS($AQ$12:AQ2773)","v":2762},{"$f":"IFERROR(VLOOKUP(ROWS($AR$12:AR2773),$AO$12:$AP$3014,2,0),\"\")","v":0}]
[null,null,null,null,null,null,null,null,null,null,null,null,null,null,null,null,null,null,null,null,null,null,null,null,null,null,null,null,null,null,null,null,null,null,null,null,null,null,null,null,{"$f":"IF(ISNUMBER(SEARCH($F$6,AP2775)),MAX($AO$11:AO2774)+1,0)","v":2764},0,{"$f":"ROWS($AQ$12:AQ2775)","v":2764},{"$f":"IFERROR(VLOOKUP(ROWS($AR$12:AR2775),$AO$12:$AP$3014,2,0),\"\")","v":0}]
[null,null,null,null,null,null,null,null,null,null,null,null,null,null,null,null,null,null,null,null,null,null,null,null,null,null,null,null,null,null,null,null,null,null,null,null,null,null,null,null,{"$f":"IF(ISNUMBER(SEARCH($F$6,AP2779)),MAX($AO$11:AO2778)+1,0)","v":2768},0,{"$f":"ROWS($AQ$12:AQ2779)","v":2768},{"$f":"IFERROR(VLOOKUP(ROWS($AR$12:AR2779),$AO$12:$AP$3014,2,0),\"\")","v":0}]
[null,null,null,null,null,null,null,null,null,null,null,null,null,null,null,null,null,null,null,null,null,null,null,null,null,null,null,null,null,null,null,null,null,null,null,null,null,null,null,null,{"$f":"IF(ISNUMBER(SEARCH($F$6,AP2782)),MAX($AO$11:AO2781)+1,0)","v":2771},0,{"$f":"ROWS($AQ$12:AQ2782)","v":2771},{"$f":"IFERROR(VLOOKUP(ROWS($AR$12:AR2782),$AO$12:$AP$3014,2,0),\"\")","v":0}]
[null,null,null,null,null,null,null,null,null,null,null,null,null,null,null,null,null,null,null,null,null,null,null,null,null,null,null,null,null,null,null,null,null,null,null,null,null,null,null,null,{"$f":"IF(ISNUMBER(SEARCH($F$6,AP2784)),MAX($AO$11:AO2783)+1,0)","v":2773},0,{"$f":"ROWS($AQ$12:AQ2784)","v":2773},{"$f":"IFERROR(VLOOKUP(ROWS($AR$12:AR2784),$AO$12:$AP$3014,2,0),\"\")","v":0}]
[null,null,null,null,null,null,null,null,null,null,null,null,null,null,null,null,null,null,null,null,null,null,null,null,null,null,null,null,null,null,null,null,null,null,null,null,null,null,null,null,{"$f":"IF(ISNUMBER(SEARCH($F$6,AP2788)),MAX($AO$11:AO2787)+1,0)","v":2777},0,{"$f":"ROWS($AQ$12:AQ2788)","v":2777},{"$f":"IFERROR(VLOOKUP(ROWS($AR$12:AR2788),$AO$12:$AP$3014,2,0),\"\")","v":0}]
[null,null,null,null,null,null,null,null,null,null,null,null,null,null,null,null,null,null,null,null,null,null,null,null,null,null,null,null,null,null,null,null,null,null,null,null,null,null,null,null,{"$f":"IF(ISNUMBER(SEARCH($F$6,AP2791)),MAX($AO$11:AO2790)+1,0)","v":2780},0,{"$f":"ROWS($AQ$12:AQ2791)","v":2780},{"$f":"IFERROR(VLOOKUP(ROWS($AR$12:AR2791),$AO$12:$AP$3014,2,0),\"\")","v":0}]
[null,null,null,null,null,null,null,null,null,null,null,null,null,null,null,null,null,null,null,null,null,null,null,null,null,null,null,null,null,null,null,null,null,null,null,null,null,null,null,null,{"$f":"IF(ISNUMBER(SEARCH($F$6,AP2792)),MAX($AO$11:AO2791)+1,0)","v":2781},0,{"$f":"ROWS($AQ$12:AQ2792)","v":2781},{"$f":"IFERROR(VLOOKUP(ROWS($AR$12:AR2792),$AO$12:$AP$3014,2,0),\"\")","v":0}]
[null,null,null,null,null,null,null,null,null,null,null,null,null,null,null,null,null,null,null,null,null,null,null,null,null,null,null,null,null,null,null,null,null,null,null,null,null,null,null,null,{"$f":"IF(ISNUMBER(SEARCH($F$6,AP2795)),MAX($AO$11:AO2794)+1,0)","v":2784},0,{"$f":"ROWS($AQ$12:AQ2795)","v":2784},{"$f":"IFERROR(VLOOKUP(ROWS($AR$12:AR2795),$AO$12:$AP$3014,2,0),\"\")","v":0}]
[null,null,null,null,null,null,null,null,null,null,null,null,null,null,null,null,null,null,null,null,null,null,null,null,null,null,null,null,null,null,null,null,null,null,null,null,null,null,null,null,{"$f":"IF(ISNUMBER(SEARCH($F$6,AP2798)),MAX($AO$11:AO2797)+1,0)","v":2787},0,{"$f":"ROWS($AQ$12:AQ2798)","v":2787},{"$f":"IFERROR(VLOOKUP(ROWS($AR$12:AR2798),$AO$12:$AP$3014,2,0),\"\")","v":0}]
[null,null,null,null,null,null,null,null,null,null,null,null,null,null,null,null,null,null,null,null,null,null,null,null,null,null,null,null,null,null,null,null,null,null,null,null,null,null,null,null,{"$f":"IF(ISNUMBER(SEARCH($F$6,AP2801)),MAX($AO$11:AO2800)+1,0)","v":2790},0,{"$f":"ROWS($AQ$12:AQ2801)","v":2790},{"$f":"IFERROR(VLOOKUP(ROWS($AR$12:AR2801),$AO$12:$AP$3014,2,0),\"\")","v":0}]
[null,null,null,null,null,null,null,null,null,null,null,null,null,null,null,null,null,null,null,null,null,null,null,null,null,null,null,null,null,null,null,null,null,null,null,null,null,null,null,null,{"$f":"IF(ISNUMBER(SEARCH($F$6,AP2804)),MAX($AO$11:AO2803)+1,0)","v":2793},0,{"$f":"ROWS($AQ$12:AQ2804)","v":2793},{"$f":"IFERROR(VLOOKUP(ROWS($AR$12:AR2804),$AO$12:$AP$3014,2,0),\"\")","v":0}]
[null,null,null,null,null,null,null,null,null,null,null,null,null,null,null,null,null,null,null,null,null,null,null,null,null,null,null,null,null,null,null,null,null,null,null,null,null,null,null,null,{"$f":"IF(ISNUMBER(SEARCH($F$6,AP2806)),MAX($AO$11:AO2805)+1,0)","v":2795},0,{"$f":"ROWS($AQ$12:AQ2806)","v":2795},{"$f":"IFERROR(VLOOKUP(ROWS($AR$12:AR2806),$AO$12:$AP$3014,2,0),\"\")","v":0}]
[null,null,null,null,null,null,null,null,null,null,null,null,null,null,null,null,null,null,null,null,null,null,null,null,null,null,null,null,null,null,null,null,null,null,null,null,null,null,null,null,{"$f":"IF(ISNUMBER(SEARCH($F$6,AP2810)),MAX($AO$11:AO2809)+1,0)","v":2799},0,{"$f":"ROWS($AQ$12:AQ2810)","v":2799},{"$f":"IFERROR(VLOOKUP(ROWS($AR$12:AR2810),$AO$12:$AP$3014,2,0),\"\")","v":0}]
[null,null,null,null,null,null,null,null,null,null,null,null,null,null,null,null,null,null,null,null,null,null,null,null,null,null,null,null,null,null,null,null,null,null,null,null,null,null,null,null,{"$f":"IF(ISNUMBER(SEARCH($F$6,AP2813)),MAX($AO$11:AO2812)+1,0)","v":2802},0,{"$f":"ROWS($AQ$12:AQ2813)","v":2802},{"$f":"IFERROR(VLOOKUP(ROWS($AR$12:AR2813),$AO$12:$AP$3014,2,0),\"\")","v":0}]
[null,null,null,null,null,null,null,null,null,null,null,null,null,null,null,null,null,null,null,null,null,null,null,null,null,null,null,null,null,null,null,null,null,null,null,null,null,null,null,null,{"$f":"IF(ISNUMBER(SEARCH($F$6,AP2814)),MAX($AO$11:AO2813)+1,0)","v":2803},0,{"$f":"ROWS($AQ$12:AQ2814)","v":2803},{"$f":"IFERROR(VLOOKUP(ROWS($AR$12:AR2814),$AO$12:$AP$3014,2,0),\"\")","v":0}]
[null,null,null,null,null,null,null,null,null,null,null,null,null,null,null,null,null,null,null,null,null,null,null,null,null,null,null,null,null,null,null,null,null,null,null,null,null,null,null,null,{"$f":"IF(ISNUMBER(SEARCH($F$6,AP2817)),MAX($AO$11:AO2816)+1,0)","v":2806},0,{"$f":"ROWS($AQ$12:AQ2817)","v":2806},{"$f":"IFERROR(VLOOKUP(ROWS($AR$12:AR2817),$AO$12:$AP$3014,2,0),\"\")","v":0}]
[null,null,null,null,null,null,null,null,null,null,null,null,null,null,null,null,null,null,null,null,null,null,null,null,null,null,null,null,null,null,null,null,null,null,null,null,null,null,null,null,{"$f":"IF(ISNUMBER(SEARCH($F$6,AP2820)),MAX($AO$11:AO2819)+1,0)","v":2809},0,{"$f":"ROWS($AQ$12:AQ2820)","v":2809},{"$f":"IFERROR(VLOOKUP(ROWS($AR$12:AR2820),$AO$12:$AP$3014,2,0),\"\")","v":0}]
[null,null,null,null,null,null,null,null,null,null,null,null,null,null,null,null,null,null,null,null,null,null,null,null,null,null,null,null,null,null,null,null,null,null,null,null,null,null,null,null,{"$f":"IF(ISNUMBER(SEARCH($F$6,AP2823)),MAX($AO$11:AO2822)+1,0)","v":2812},0,{"$f":"ROWS($AQ$12:AQ2823)","v":2812},{"$f":"IFERROR(VLOOKUP(ROWS($AR$12:AR2823),$AO$12:$AP$3014,2,0),\"\")","v":0}]
[null,null,null,null,null,null,null,null,null,null,null,null,null,null,null,null,null,null,null,null,null,null,null,null,null,null,null,null,null,null,null,null,null,null,null,null,null,null,null,null,{"$f":"IF(ISNUMBER(SEARCH($F$6,AP2826)),MAX($AO$11:AO2825)+1,0)","v":2815},0,{"$f":"ROWS($AQ$12:AQ2826)","v":2815},{"$f":"IFERROR(VLOOKUP(ROWS($AR$12:AR2826),$AO$12:$AP$3014,2,0),\"\")","v":0}]
[null,null,null,null,null,null,null,null,null,null,null,null,null,null,null,null,null,null,null,null,null,null,null,null,null,null,null,null,null,null,null,null,null,null,null,null,null,null,null,null,{"$f":"IF(ISNUMBER(SEARCH($F$6,AP2828)),MAX($AO$11:AO2827)+1,0)","v":2817},0,{"$f":"ROWS($AQ$12:AQ2828)","v":2817},{"$f":"IFERROR(VLOOKUP(ROWS($AR$12:AR2828),$AO$12:$AP$3014,2,0),\"\")","v":0}]
[null,null,null,null,null,null,null,null,null,null,null,null,null,null,null,null,null,null,null,null,null,null,null,null,null,null,null,null,null,null,null,null,null,null,null,null,null,null,null,null,{"$f":"IF(ISNUMBER(SEARCH($F$6,AP2832)),MAX($AO$11:AO2831)+1,0)","v":2821},0,{"$f":"ROWS($AQ$12:AQ2832)","v":2821},{"$f":"IFERROR(VLOOKUP(ROWS($AR$12:AR2832),$AO$12:$AP$3014,2,0),\"\")","v":0}]
[null,null,null,null,null,null,null,null,null,null,null,null,null,null,null,null,null,null,null,null,null,null,null,null,null,null,null,null,null,null,null,null,null,null,null,null,null,null,null,null,{"$f":"IF(ISNUMBER(SEARCH($F$6,AP2833)),MAX($AO$11:AO2832)+1,0)","v":2822},0,{"$f":"ROWS($AQ$12:AQ2833)","v":2822},{"$f":"IFERROR(VLOOKUP(ROWS($AR$12:AR2833),$AO$12:$AP$3014,2,0),\"\")","v":0}]
[null,null,null,null,null,null,null,null,null,null,null,null,null,null,null,null,null,null,null,null,null,null,null,null,null,null,null,null,null,null,null,null,null,null,null,null,null,null,null,null,{"$f":"IF(ISNUMBER(SEARCH($F$6,AP2836)),MAX($AO$11:AO2835)+1,0)","v":2825},0,{"$f":"ROWS($AQ$12:AQ2836)","v":2825},{"$f":"IFERROR(VLOOKUP(ROWS($AR$12:AR2836),$AO$12:$AP$3014,2,0),\"\")","v":0}]
[null,null,null,null,null,null,null,null,null,null,null,null,null,null,null,null,null,null,null,null,null,null,null,null,null,null,null,null,null,null,null,null,null,null,null,null,null,null,null,null,{"$f":"IF(ISNUMBER(SEARCH($F$6,AP2839)),MAX($AO$11:AO2838)+1,0)","v":2828},0,{"$f":"ROWS($AQ$12:AQ2839)","v":2828},{"$f":"IFERROR(VLOOKUP(ROWS($AR$12:AR2839),$AO$12:$AP$3014,2,0),\"\")","v":0}]
[null,null,null,null,null,null,null,null,null,null,null,null,null,null,null,null,null,null,null,null,null,null,null,null,null,null,null,null,null,null,null,null,null,null,null,null,null,null,null,null,{"$f":"IF(ISNUMBER(SEARCH($F$6,AP2843)),MAX($AO$11:AO2842)+1,0)","v":2832},0,{"$f":"ROWS($AQ$12:AQ2843)","v":2832},{"$f":"IFERROR(VLOOKUP(ROWS($AR$12:AR2843),$AO$12:$AP$3014,2,0),\"\")","v":0}]
[null,null,null,null,null,null,null,null,null,null,null,null,null,null,null,null,null,null,null,null,null,null,null,null,null,null,null,null,null,null,null,null,null,null,null,null,null,null,null,null,{"$f":"IF(ISNUMBER(SEARCH($F$6,AP2845)),MAX($AO$11:AO2844)+1,0)","v":2834},0,{"$f":"ROWS($AQ$12:AQ2845)","v":2834},{"$f":"IFERROR(VLOOKUP(ROWS($AR$12:AR2845),$AO$12:$AP$3014,2,0),\"\")","v":0}]
[null,null,null,null,null,null,null,null,null,null,null,null,null,null,null,null,null,null,null,null,null,null,null,null,null,null,null,null,null,null,null,null,null,null,null,null,null,null,null,null,{"$f":"IF(ISNUMBER(SEARCH($F$6,AP2848)),MAX($AO$11:AO2847)+1,0)","v":2837},0,{"$f":"ROWS($AQ$12:AQ2848)","v":2837},{"$f":"IFERROR(VLOOKUP(ROWS($AR$12:AR2848),$AO$12:$AP$3014,2,0),\"\")","v":0}]
[null,null,null,null,null,null,null,null,null,null,null,null,null,null,null,null,null,null,null,null,null,null,null,null,null,null,null,null,null,null,null,null,null,null,null,null,null,null,null,null,{"$f":"IF(ISNUMBER(SEARCH($F$6,AP2852)),MAX($AO$11:AO2851)+1,0)","v":2841},0,{"$f":"ROWS($AQ$12:AQ2852)","v":2841},{"$f":"IFERROR(VLOOKUP(ROWS($AR$12:AR2852),$AO$12:$AP$3014,2,0),\"\")","v":0}]
[null,null,null,null,null,null,null,null,null,null,null,null,null,null,null,null,null,null,null,null,null,null,null,null,null,null,null,null,null,null,null,null,null,null,null,null,null,null,null,null,{"$f":"IF(ISNUMBER(SEARCH($F$6,AP2854)),MAX($AO$11:AO2853)+1,0)","v":2843},0,{"$f":"ROWS($AQ$12:AQ2854)","v":2843},{"$f":"IFERROR(VLOOKUP(ROWS($AR$12:AR2854),$AO$12:$AP$3014,2,0),\"\")","v":0}]
[null,null,null,null,null,null,null,null,null,null,null,null,null,null,null,null,null,null,null,null,null,null,null,null,null,null,null,null,null,null,null,null,null,null,null,null,null,null,null,null,{"$f":"IF(ISNUMBER(SEARCH($F$6,AP2855)),MAX($AO$11:AO2854)+1,0)","v":2844},0,{"$f":"ROWS($AQ$12:AQ2855)","v":2844},{"$f":"IFERROR(VLOOKUP(ROWS($AR$12:AR2855),$AO$12:$AP$3014,2,0),\"\")","v":0}]
[null,null,null,null,null,null,null,null,null,null,null,null,null,null,null,null,null,null,null,null,null,null,null,null,null,null,null,null,null,null,null,null,null,null,null,null,null,null,null,null,{"$f":"IF(ISNUMBER(SEARCH($F$6,AP2858)),MAX($AO$11:AO2857)+1,0)","v":2847},0,{"$f":"ROWS($AQ$12:AQ2858)","v":2847},{"$f":"IFERROR(VLOOKUP(ROWS($AR$12:AR2858),$AO$12:$AP$3014,2,0),\"\")","v":0}]
[null,null,null,null,null,null,null,null,null,null,null,null,null,null,null,null,null,null,null,null,null,null,null,null,null,null,null,null,null,null,null,null,null,null,null,null,null,null,null,null,{"$f":"IF(ISNUMBER(SEARCH($F$6,AP2861)),MAX($AO$11:AO2860)+1,0)","v":2850},0,{"$f":"ROWS($AQ$12:AQ2861)","v":2850},{"$f":"IFERROR(VLOOKUP(ROWS($AR$12:AR2861),$AO$12:$AP$3014,2,0),\"\")","v":0}]
[null,null,null,null,null,null,null,null,null,null,null,null,null,null,null,null,null,null,null,null,null,null,null,null,null,null,null,null,null,null,null,null,null,null,null,null,null,null,null,null,{"$f":"IF(ISNUMBER(SEARCH($F$6,AP2865)),MAX($AO$11:AO2864)+1,0)","v":2854},0,{"$f":"ROWS($AQ$12:AQ2865)","v":2854},{"$f":"IFERROR(VLOOKUP(ROWS($AR$12:AR2865),$AO$12:$AP$3014,2,0),\"\")","v":0}]
[null,null,null,null,null,null,null,null,null,null,null,null,null,null,null,null,null,null,null,null,null,null,null,null,null,null,null,null,null,null,null,null,null,null,null,null,null,null,null,null,{"$f":"IF(ISNUMBER(SEARCH($F$6,AP2867)),MAX($AO$11:AO2866)+1,0)","v":2856},0,{"$f":"ROWS($AQ$12:AQ2867)","v":2856},{"$f":"IFERROR(VLOOKUP(ROWS($AR$12:AR2867),$AO$12:$AP$3014,2,0),\"\")","v":0}]
[null,null,null,null,null,null,null,null,null,null,null,null,null,null,null,null,null,null,null,null,null,null,null,null,null,null,null,null,null,null,null,null,null,null,null,null,null,null,null,null,{"$f":"IF(ISNUMBER(SEARCH($F$6,AP2870)),MAX($AO$11:AO2869)+1,0)","v":2859},0,{"$f":"ROWS($AQ$12:AQ2870)","v":2859},{"$f":"IFERROR(VLOOKUP(ROWS($AR$12:AR2870),$AO$12:$AP$3014,2,0),\"\")","v":0}]
[null,null,null,null,null,null,null,null,null,null,null,null,null,null,null,null,null,null,null,null,null,null,null,null,null,null,null,null,null,null,null,null,null,null,null,null,null,null,null,null,{"$f":"IF(ISNUMBER(SEARCH($F$6,AP2874)),MAX($AO$11:AO2873)+1,0)","v":2863},0,{"$f":"ROWS($AQ$12:AQ2874)","v":2863},{"$f":"IFERROR(VLOOKUP(ROWS($AR$12:AR2874),$AO$12:$AP$3014,2,0),\"\")","v":0}]
[null,null,null,null,null,null,null,null,null,null,null,null,null,null,null,null,null,null,null,null,null,null,null,null,null,null,null,null,null,null,null,null,null,null,null,null,null,null,null,null,{"$f":"IF(ISNUMBER(SEARCH($F$6,AP2876)),MAX($AO$11:AO2875)+1,0)","v":2865},0,{"$f":"ROWS($AQ$12:AQ2876)","v":2865},{"$f":"IFERROR(VLOOKUP(ROWS($AR$12:AR2876),$AO$12:$AP$3014,2,0),\"\")","v":0}]
[null,null,null,null,null,null,null,null,null,null,null,null,null,null,null,null,null,null,null,null,null,null,null,null,null,null,null,null,null,null,null,null,null,null,null,null,null,null,null,null,{"$f":"IF(ISNUMBER(SEARCH($F$6,AP2877)),MAX($AO$11:AO2876)+1,0)","v":2866},0,{"$f":"ROWS($AQ$12:AQ2877)","v":2866},{"$f":"IFERROR(VLOOKUP(ROWS($AR$12:AR2877),$AO$12:$AP$3014,2,0),\"\")","v":0}]
[null,null,null,null,null,null,null,null,null,null,null,null,null,null,null,null,null,null,null,null,null,null,null,null,null,null,null,null,null,null,null,null,null,null,null,null,null,null,null,null,{"$f":"IF(ISNUMBER(SEARCH($F$6,AP2880)),MAX($AO$11:AO2879)+1,0)","v":2869},0,{"$f":"ROWS($AQ$12:AQ2880)","v":2869},{"$f":"IFERROR(VLOOKUP(ROWS($AR$12:AR2880),$AO$12:$AP$3014,2,0),\"\")","v":0}]
[null,null,null,null,null,null,null,null,null,null,null,null,null,null,null,null,null,null,null,null,null,null,null,null,null,null,null,null,null,null,null,null,null,null,null,null,null,null,null,null,{"$f":"IF(ISNUMBER(SEARCH($F$6,AP2883)),MAX($AO$11:AO2882)+1,0)","v":2872},0,{"$f":"ROWS($AQ$12:AQ2883)","v":2872},{"$f":"IFERROR(VLOOKUP(ROWS($AR$12:AR2883),$AO$12:$AP$3014,2,0),\"\")","v":0}]
[null,null,null,null,null,null,null,null,null,null,null,null,null,null,null,null,null,null,null,null,null,null,null,null,null,null,null,null,null,null,null,null,null,null,null,null,null,null,null,null,{"$f":"IF(ISNUMBER(SEARCH($F$6,AP2887)),MAX($AO$11:AO2886)+1,0)","v":2876},0,{"$f":"ROWS($AQ$12:AQ2887)","v":2876},{"$f":"IFERROR(VLOOKUP(ROWS($AR$12:AR2887),$AO$12:$AP$3014,2,0),\"\")","v":0}]
[null,null,null,null,null,null,null,null,null,null,null,null,null,null,null,null,null,null,null,null,null,null,null,null,null,null,null,null,null,null,null,null,null,null,null,null,null,null,null,null,{"$f":"IF(ISNUMBER(SEARCH($F$6,AP2889)),MAX($AO$11:AO2888)+1,0)","v":2878},0,{"$f":"ROWS($AQ$12:AQ2889)","v":2878},{"$f":"IFERROR(VLOOKUP(ROWS($AR$12:AR2889),$AO$12:$AP$3014,2,0),\"\")","v":0}]
[null,null,null,null,null,null,null,null,null,null,null,null,null,null,null,null,null,null,null,null,null,null,null,null,null,null,null,null,null,null,null,null,null,null,null,null,null,null,null,null,{"$f":"IF(ISNUMBER(SEARCH($F$6,AP2893)),MAX($AO$11:AO2892)+1,0)","v":2882},0,{"$f":"ROWS($AQ$12:AQ2893)","v":2882},{"$f":"IFERROR(VLOOKUP(ROWS($AR$12:AR2893),$AO$12:$AP$3014,2,0),\"\")","v":0}]
[null,null,null,null,null,null,null,null,null,null,null,null,null,null,null,null,null,null,null,null,null,null,null,null,null,null,null,null,null,null,null,null,null,null,null,null,null,null,null,null,{"$f":"IF(ISNUMBER(SEARCH($F$6,AP2896)),MAX($AO$11:AO2895)+1,0)","v":2885},0,{"$f":"ROWS($AQ$12:AQ2896)","v":2885},{"$f":"IFERROR(VLOOKUP(ROWS($AR$12:AR2896),$AO$12:$AP$3014,2,0),\"\")","v":0}]
[null,null,null,null,null,null,null,null,null,null,null,null,null,null,null,null,null,null,null,null,null,null,null,null,null,null,null,null,null,null,null,null,null,null,null,null,null,null,null,null,{"$f":"IF(ISNUMBER(SEARCH($F$6,AP2898)),MAX($AO$11:AO2897)+1,0)","v":2887},0,{"$f":"ROWS($AQ$12:AQ2898)","v":2887},{"$f":"IFERROR(VLOOKUP(ROWS($AR$12:AR2898),$AO$12:$AP$3014,2,0),\"\")","v":0}]
[null,null,null,null,null,null,null,null,null,null,null,null,null,null,null,null,null,null,null,null,null,null,null,null,null,null,null,null,null,null,null,null,null,null,null,null,null,null,null,null,{"$f":"IF(ISNUMBER(SEARCH($F$6,AP2899)),MAX($AO$11:AO2898)+1,0)","v":2888},0,{"$f":"ROWS($AQ$12:AQ2899)","v":2888},{"$f":"IFERROR(VLOOKUP(ROWS($AR$12:AR2899),$AO$12:$AP$3014,2,0),\"\")","v":0}]
[null,null,null,null,null,null,null,null,null,null,null,null,null,null,null,null,null,null,null,null,null,null,null,null,null,null,null,null,null,null,null,null,null,null,null,null,null,null,null,null,{"$f":"IF(ISNUMBER(SEARCH($F$6,AP2902)),MAX($AO$11:AO2901)+1,0)","v":2891},0,{"$f":"ROWS($AQ$12:AQ2902)","v":2891},{"$f":"IFERROR(VLOOKUP(ROWS($AR$12:AR2902),$AO$12:$AP$3014,2,0),\"\")","v":0}]
[null,null,null,null,null,null,null,null,null,null,null,null,null,null,null,null,null,null,null,null,null,null,null,null,null,null,null,null,null,null,null,null,null,null,null,null,null,null,null,null,{"$f":"IF(ISNUMBER(SEARCH($F$6,AP2905)),MAX($AO$11:AO2904)+1,0)","v":2894},0,{"$f":"ROWS($AQ$12:AQ2905)","v":2894},{"$f":"IFERROR(VLOOKUP(ROWS($AR$12:AR2905),$AO$12:$AP$3014,2,0),\"\")","v":0}]
[null,null,null,null,null,null,null,null,null,null,null,null,null,null,null,null,null,null,null,null,null,null,null,null,null,null,null,null,null,null,null,null,null,null,null,null,null,null,null,null,{"$f":"IF(ISNUMBER(SEARCH($F$6,AP2909)),MAX($AO$11:AO2908)+1,0)","v":2898},0,{"$f":"ROWS($AQ$12:AQ2909)","v":2898},{"$f":"IFERROR(VLOOKUP(ROWS($AR$12:AR2909),$AO$12:$AP$3014,2,0),\"\")","v":0}]
[null,null,null,null,null,null,null,null,null,null,null,null,null,null,null,null,null,null,null,null,null,null,null,null,null,null,null,null,null,null,null,null,null,null,null,null,null,null,null,null,{"$f":"IF(ISNUMBER(SEARCH($F$6,AP2911)),MAX($AO$11:AO2910)+1,0)","v":2900},0,{"$f":"ROWS($AQ$12:AQ2911)","v":2900},{"$f":"IFERROR(VLOOKUP(ROWS($AR$12:AR2911),$AO$12:$AP$3014,2,0),\"\")","v":0}]
[null,null,null,null,null,null,null,null,null,null,null,null,null,null,null,null,null,null,null,null,null,null,null,null,null,null,null,null,null,null,null,null,null,null,null,null,null,null,null,null,{"$f":"IF(ISNUMBER(SEARCH($F$6,AP2915)),MAX($AO$11:AO2914)+1,0)","v":2904},0,{"$f":"ROWS($AQ$12:AQ2915)","v":2904},{"$f":"IFERROR(VLOOKUP(ROWS($AR$12:AR2915),$AO$12:$AP$3014,2,0),\"\")","v":0}]
[null,null,null,null,null,null,null,null,null,null,null,null,null,null,null,null,null,null,null,null,null,null,null,null,null,null,null,null,null,null,null,null,null,null,null,null,null,null,null,null,{"$f":"IF(ISNUMBER(SEARCH($F$6,AP2918)),MAX($AO$11:AO2917)+1,0)","v":2907},0,{"$f":"ROWS($AQ$12:AQ2918)","v":2907},{"$f":"IFERROR(VLOOKUP(ROWS($AR$12:AR2918),$AO$12:$AP$3014,2,0),\"\")","v":0}]
[null,null,null,null,null,null,null,null,null,null,null,null,null,null,null,null,null,null,null,null,null,null,null,null,null,null,null,null,null,null,null,null,null,null,null,null,null,null,null,null,{"$f":"IF(ISNUMBER(SEARCH($F$6,AP2920)),MAX($AO$11:AO2919)+1,0)","v":2909},0,{"$f":"ROWS($AQ$12:AQ2920)","v":2909},{"$f":"IFERROR(VLOOKUP(ROWS($AR$12:AR2920),$AO$12:$AP$3014,2,0),\"\")","v":0}]
[null,null,null,null,null,null,null,null,null,null,null,null,null,null,null,null,null,null,null,null,null,null,null,null,null,null,null,null,null,null,null,null,null,null,null,null,null,null,null,null,{"$f":"IF(ISNUMBER(SEARCH($F$6,AP2921)),MAX($AO$11:AO2920)+1,0)","v":2910},0,{"$f":"ROWS($AQ$12:AQ2921)","v":2910},{"$f":"IFERROR(VLOOKUP(ROWS($AR$12:AR2921),$AO$12:$AP$3014,2,0),\"\")","v":0}]
[null,null,null,null,null,null,null,null,null,null,null,null,null,null,null,null,null,null,null,null,null,null,null,null,null,null,null,null,null,null,null,null,null,null,null,null,null,null,null,null,{"$f":"IF(ISNUMBER(SEARCH($F$6,AP2924)),MAX($AO$11:AO2923)+1,0)","v":2913},0,{"$f":"ROWS($AQ$12:AQ2924)","v":2913},{"$f":"IFERROR(VLOOKUP(ROWS($AR$12:AR2924),$AO$12:$AP$3014,2,0),\"\")","v":0}]
[null,null,null,null,null,null,null,null,null,null,null,null,null,null,null,null,null,null,null,null,null,null,null,null,null,null,null,null,null,null,null,null,null,null,null,null,null,null,null,null,{"$f":"IF(ISNUMBER(SEARCH($F$6,AP2927)),MAX($AO$11:AO2926)+1,0)","v":2916},0,{"$f":"ROWS($AQ$12:AQ2927)","v":2916},{"$f":"IFERROR(VLOOKUP(ROWS($AR$12:AR2927),$AO$12:$AP$3014,2,0),\"\")","v":0}]
[null,null,null,null,null,null,null,null,null,null,null,null,null,null,null,null,null,null,null,null,null,null,null,null,null,null,null,null,null,null,null,null,null,null,null,null,null,null,null,null,{"$f":"IF(ISNUMBER(SEARCH($F$6,AP2931)),MAX($AO$11:AO2930)+1,0)","v":2920},0,{"$f":"ROWS($AQ$12:AQ2931)","v":2920},{"$f":"IFERROR(VLOOKUP(ROWS($AR$12:AR2931),$AO$12:$AP$3014,2,0),\"\")","v":0}]
[null,null,null,null,null,null,null,null,null,null,null,null,null,null,null,null,null,null,null,null,null,null,null,null,null,null,null,null,null,null,null,null,null,null,null,null,null,null,null,null,{"$f":"IF(ISNUMBER(SEARCH($F$6,AP2933)),MAX($AO$11:AO2932)+1,0)","v":2922},0,{"$f":"ROWS($AQ$12:AQ2933)","v":2922},{"$f":"IFERROR(VLOOKUP(ROWS($AR$12:AR2933),$AO$12:$AP$3014,2,0),\"\")","v":0}]
[null,null,null,null,null,null,null,null,null,null,null,null,null,null,null,null,null,null,null,null,null,null,null,null,null,null,null,null,null,null,null,null,null,null,null,null,null,null,null,null,{"$f":"IF(ISNUMBER(SEARCH($F$6,AP2937)),MAX($AO$11:AO2936)+1,0)","v":2926},0,{"$f":"ROWS($AQ$12:AQ2937)","v":2926},{"$f":"IFERROR(VLOOKUP(ROWS($AR$12:AR2937),$AO$12:$AP$3014,2,0),\"\")","v":0}]
[null,null,null,null,null,null,null,null,null,null,null,null,null,null,null,null,null,null,null,null,null,null,null,null,null,null,null,null,null,null,null,null,null,null,null,null,null,null,null,null,{"$f":"IF(ISNUMBER(SEARCH($F$6,AP2940)),MAX($AO$11:AO2939)+1,0)","v":2929},0,{"$f":"ROWS($AQ$12:AQ2940)","v":2929},{"$f":"IFERROR(VLOOKUP(ROWS($AR$12:AR2940),$AO$12:$AP$3014,2,0),\"\")","v":0}]
[null,null,null,null,null,null,null,null,null,null,null,null,null,null,null,null,null,null,null,null,null,null,null,null,null,null,null,null,null,null,null,null,null,null,null,null,null,null,null,null,{"$f":"IF(ISNUMBER(SEARCH($F$6,AP2942)),MAX($AO$11:AO2941)+1,0)","v":2931},0,{"$f":"ROWS($AQ$12:AQ2942)","v":2931},{"$f":"IFERROR(VLOOKUP(ROWS($AR$12:AR2942),$AO$12:$AP$3014,2,0),\"\")","v":0}]
[null,null,null,null,null,null,null,null,null,null,null,null,null,null,null,null,null,null,null,null,null,null,null,null,null,null,null,null,null,null,null,null,null,null,null,null,null,null,null,null,{"$f":"IF(ISNUMBER(SEARCH($F$6,AP2943)),MAX($AO$11:AO2942)+1,0)","v":2932},0,{"$f":"ROWS($AQ$12:AQ2943)","v":2932},{"$f":"IFERROR(VLOOKUP(ROWS($AR$12:AR2943),$AO$12:$AP$3014,2,0),\"\")","v":0}]
[null,null,null,null,null,null,null,null,null,null,null,null,null,null,null,null,null,null,null,null,null,null,null,null,null,null,null,null,null,null,null,null,null,null,null,null,null,null,null,null,{"$f":"IF(ISNUMBER(SEARCH($F$6,AP2946)),MAX($AO$11:AO2945)+1,0)","v":2935},0,{"$f":"ROWS($AQ$12:AQ2946)","v":2935},{"$f":"IFERROR(VLOOKUP(ROWS($AR$12:AR2946),$AO$12:$AP$3014,2,0),\"\")","v":0}]
[null,null,null,null,null,null,null,null,null,null,null,null,null,null,null,null,null,null,null,null,null,null,null,null,null,null,null,null,null,null,null,null,null,null,null,null,null,null,null,null,{"$f":"IF(ISNUMBER(SEARCH($F$6,AP2950)),MAX($AO$11:AO2949)+1,0)","v":2939},0,{"$f":"ROWS($AQ$12:AQ2950)","v":2939},{"$f":"IFERROR(VLOOKUP(ROWS($AR$12:AR2950),$AO$12:$AP$3014,2,0),\"\")","v":0}]
[null,null,null,null,null,null,null,null,null,null,null,null,null,null,null,null,null,null,null,null,null,null,null,null,null,null,null,null,null,null,null,null,null,null,null,null,null,null,null,null,{"$f":"IF(ISNUMBER(SEARCH($F$6,AP2953)),MAX($AO$11:AO2952)+1,0)","v":2942},0,{"$f":"ROWS($AQ$12:AQ2953)","v":2942},{"$f":"IFERROR(VLOOKUP(ROWS($AR$12:AR2953),$AO$12:$AP$3014,2,0),\"\")","v":0}]
[null,null,null,null,null,null,null,null,null,null,null,null,null,null,null,null,null,null,null,null,null,null,null,null,null,null,null,null,null,null,null,null,null,null,null,null,null,null,null,null,{"$f":"IF(ISNUMBER(SEARCH($F$6,AP2955)),MAX($AO$11:AO2954)+1,0)","v":2944},0,{"$f":"ROWS($AQ$12:AQ2955)","v":2944},{"$f":"IFERROR(VLOOKUP(ROWS($AR$12:AR2955),$AO$12:$AP$3014,2,0),\"\")","v":0}]
[null,null,null,null,null,null,null,null,null,null,null,null,null,null,null,null,null,null,null,null,null,null,null,null,null,null,null,null,null,null,null,null,null,null,null,null,null,null,null,null,{"$f":"IF(ISNUMBER(SEARCH($F$6,AP2959)),MAX($AO$11:AO2958)+1,0)","v":2948},0,{"$f":"ROWS($AQ$12:AQ2959)","v":2948},{"$f":"IFERROR(VLOOKUP(ROWS($AR$12:AR2959),$AO$12:$AP$3014,2,0),\"\")","v":0}]
[null,null,null,null,null,null,null,null,null,null,null,null,null,null,null,null,null,null,null,null,null,null,null,null,null,null,null,null,null,null,null,null,null,null,null,null,null,null,null,null,{"$f":"IF(ISNUMBER(SEARCH($F$6,AP2962)),MAX($AO$11:AO2961)+1,0)","v":2951},0,{"$f":"ROWS($AQ$12:AQ2962)","v":2951},{"$f":"IFERROR(VLOOKUP(ROWS($AR$12:AR2962),$AO$12:$AP$3014,2,0),\"\")","v":0}]
[null,null,null,null,null,null,null,null,null,null,null,null,null,null,null,null,null,null,null,null,null,null,null,null,null,null,null,null,null,null,null,null,null,null,null,null,null,null,null,null,{"$f":"IF(ISNUMBER(SEARCH($F$6,AP2965)),MAX($AO$11:AO2964)+1,0)","v":2954},0,{"$f":"ROWS($AQ$12:AQ2965)","v":2954},{"$f":"IFERROR(VLOOKUP(ROWS($AR$12:AR2965),$AO$12:$AP$3014,2,0),\"\")","v":0}]
[null,null,null,null,null,null,null,null,null,null,null,null,null,null,null,null,null,null,null,null,null,null,null,null,null,null,null,null,null,null,null,null,null,null,null,null,null,null,null,null,{"$f":"IF(ISNUMBER(SEARCH($F$6,AP2966)),MAX($AO$11:AO2965)+1,0)","v":2955},0,{"$f":"ROWS($AQ$12:AQ2966)","v":2955},{"$f":"IFERROR(VLOOKUP(ROWS($AR$12:AR2966),$AO$12:$AP$3014,2,0),\"\")","v":0}]
[null,null,null,null,null,null,null,null,null,null,null,null,null,null,null,null,null,null,null,null,null,null,null,null,null,null,null,null,null,null,null,null,null,null,null,null,null,null,null,null,{"$f":"IF(ISNUMBER(SEARCH($F$6,AP2968)),MAX($AO$11:AO2967)+1,0)","v":2957},0,{"$f":"ROWS($AQ$12:AQ2968)","v":2957},{"$f":"IFERROR(VLOOKUP(ROWS($AR$12:AR2968),$AO$12:$AP$3014,2,0),\"\")","v":0}]
[null,null,null,null,null,null,null,null,null,null,null,null,null,null,null,null,null,null,null,null,null,null,null,null,null,null,null,null,null,null,null,null,null,null,null,null,null,null,null,null,{"$f":"IF(ISNUMBER(SEARCH($F$6,AP2972)),MAX($AO$11:AO2971)+1,0)","v":2961},0,{"$f":"ROWS($AQ$12:AQ2972)","v":2961},{"$f":"IFERROR(VLOOKUP(ROWS($AR$12:AR2972),$AO$12:$AP$3014,2,0),\"\")","v":0}]
[null,null,null,null,null,null,null,null,null,null,null,null,null,null,null,null,null,null,null,null,null,null,null,null,null,null,null,null,null,null,null,null,null,null,null,null,null,null,null,null,{"$f":"IF(ISNUMBER(SEARCH($F$6,AP2975)),MAX($AO$11:AO2974)+1,0)","v":2964},0,{"$f":"ROWS($AQ$12:AQ2975)","v":2964},{"$f":"IFERROR(VLOOKUP(ROWS($AR$12:AR2975),$AO$12:$AP$3014,2,0),\"\")","v":0}]
[null,null,null,null,null,null,null,null,null,null,null,null,null,null,null,null,null,null,null,null,null,null,null,null,null,null,null,null,null,null,null,null,null,null,null,null,null,null,null,null,{"$f":"IF(ISNUMBER(SEARCH($F$6,AP2977)),MAX($AO$11:AO2976)+1,0)","v":2966},0,{"$f":"ROWS($AQ$12:AQ2977)","v":2966},{"$f":"IFERROR(VLOOKUP(ROWS($AR$12:AR2977),$AO$12:$AP$3014,2,0),\"\")","v":0}]
[null,null,null,null,null,null,null,null,null,null,null,null,null,null,null,null,null,null,null,null,null,null,null,null,null,null,null,null,null,null,null,null,null,null,null,null,null,null,null,null,{"$f":"IF(ISNUMBER(SEARCH($F$6,AP2981)),MAX($AO$11:AO2980)+1,0)","v":2970},0,{"$f":"ROWS($AQ$12:AQ2981)","v":2970},{"$f":"IFERROR(VLOOKUP(ROWS($AR$12:AR2981),$AO$12:$AP$3014,2,0),\"\")","v":0}]
[null,null,null,null,null,null,null,null,null,null,null,null,null,null,null,null,null,null,null,null,null,null,null,null,null,null,null,null,null,null,null,null,null,null,null,null,null,null,null,null,{"$f":"IF(ISNUMBER(SEARCH($F$6,AP2984)),MAX($AO$11:AO2983)+1,0)","v":2973},0,{"$f":"ROWS($AQ$12:AQ2984)","v":2973},{"$f":"IFERROR(VLOOKUP(ROWS($AR$12:AR2984),$AO$12:$AP$3014,2,0),\"\")","v":0}]
[null,null,null,null,null,null,null,null,null,null,null,null,null,null,null,null,null,null,null,null,null,null,null,null,null,null,null,null,null,null,null,null,null,null,null,null,null,null,null,null,{"$f":"IF(ISNUMBER(SEARCH($F$6,AP2985)),MAX($AO$11:AO2984)+1,0)","v":2974},0,{"$f":"ROWS($AQ$12:AQ2985)","v":2974},{"$f":"IFERROR(VLOOKUP(ROWS($AR$12:AR2985),$AO$12:$AP$3014,2,0),\"\")","v":0}]
[null,null,null,null,null,null,null,null,null,null,null,null,null,null,null,null,null,null,null,null,null,null,null,null,null,null,null,null,null,null,null,null,null,null,null,null,null,null,null,null,{"$f":"IF(ISNUMBER(SEARCH($F$6,AP2988)),MAX($AO$11:AO2987)+1,0)","v":2977},0,{"$f":"ROWS($AQ$12:AQ2988)","v":2977},{"$f":"IFERROR(VLOOKUP(ROWS($AR$12:AR2988),$AO$12:$AP$3014,2,0),\"\")","v":0}]
[null,null,null,null,null,null,null,null,null,null,null,null,null,null,null,null,null,null,null,null,null,null,null,null,null,null,null,null,null,null,null,null,null,null,null,null,null,null,null,null,{"$f":"IF(ISNUMBER(SEARCH($F$6,AP2990)),MAX($AO$11:AO2989)+1,0)","v":2979},0,{"$f":"ROWS($AQ$12:AQ2990)","v":2979},{"$f":"IFERROR(VLOOKUP(ROWS($AR$12:AR2990),$AO$12:$AP$3014,2,0),\"\")","v":0}]
[null,null,null,null,null,null,null,null,null,null,null,null,null,null,null,null,null,null,null,null,null,null,null,null,null,null,null,null,null,null,null,null,null,null,null,null,null,null,null,null,{"$f":"IF(ISNUMBER(SEARCH($F$6,AP2994)),MAX($AO$11:AO2993)+1,0)","v":2983},0,{"$f":"ROWS($AQ$12:AQ2994)","v":2983},{"$f":"IFERROR(VLOOKUP(ROWS($AR$12:AR2994),$AO$12:$AP$3014,2,0),\"\")","v":0}]
[null,null,null,null,null,null,null,null,null,null,null,null,null,null,null,null,null,null,null,null,null,null,null,null,null,null,null,null,null,null,null,null,null,null,null,null,null,null,null,null,{"$f":"IF(ISNUMBER(SEARCH($F$6,AP2997)),MAX($AO$11:AO2996)+1,0)","v":2986},0,{"$f":"ROWS($AQ$12:AQ2997)","v":2986},{"$f":"IFERROR(VLOOKUP(ROWS($AR$12:AR2997),$AO$12:$AP$3014,2,0),\"\")","v":0}]
[null,null,null,null,null,null,null,null,null,null,null,null,null,null,null,null,null,null,null,null,null,null,null,null,null,null,null,null,null,null,null,null,null,null,null,null,null,null,null,null,{"$f":"IF(ISNUMBER(SEARCH($F$6,AP2999)),MAX($AO$11:AO2998)+1,0)","v":2988},0,{"$f":"ROWS($AQ$12:AQ2999)","v":2988},{"$f":"IFERROR(VLOOKUP(ROWS($AR$12:AR2999),$AO$12:$AP$3014,2,0),\"\")","v":0}]
[null,null,null,null,null,null,null,null,null,null,null,null,null,null,null,null,null,null,null,null,null,null,null,null,null,null,null,null,null,null,null,null,null,null,null,null,null,null,null,null,{"$f":"IF(ISNUMBER(SEARCH($F$6,AP3003)),MAX($AO$11:AO3002)+1,0)","v":2992},0,{"$f":"ROWS($AQ$12:AQ3003)","v":2992},{"$f":"IFERROR(VLOOKUP(ROWS($AR$12:AR3003),$AO$12:$AP$3014,2,0),\"\")","v":0}]
[null,null,null,null,null,null,null,null,null,null,null,null,null,null,null,null,null,null,null,null,null,null,null,null,null,null,null,null,null,null,null,null,null,null,null,null,null,null,null,null,{"$f":"IF(ISNUMBER(SEARCH($F$6,AP3006)),MAX($AO$11:AO3005)+1,0)","v":2995},0,{"$f":"ROWS($AQ$12:AQ3006)","v":2995},{"$f":"IFERROR(VLOOKUP(ROWS($AR$12:AR3006),$AO$12:$AP$3014,2,0),\"\")","v":0}]
[null,null,null,null,null,null,null,null,null,null,null,null,null,null,null,null,null,null,null,null,null,null,null,null,null,null,null,null,null,null,null,null,null,null,null,null,null,null,null,null,{"$f":"IF(ISNUMBER(SEARCH($F$6,AP3007)),MAX($AO$11:AO3006)+1,0)","v":2996},0,{"$f":"ROWS($AQ$12:AQ3007)","v":2996},{"$f":"IFERROR(VLOOKUP(ROWS($AR$12:AR3007),$AO$12:$AP$3014,2,0),\"\")","v":0}]
[null,null,null,null,null,null,null,null,null,null,null,null,null,null,null,null,null,null,null,null,null,null,null,null,null,null,null,null,null,null,null,null,null,null,null,null,null,null,null,null,{"$f":"IF(ISNUMBER(SEARCH($F$6,AP3010)),MAX($AO$11:AO3009)+1,0)","v":2999},0,{"$f":"ROWS($AQ$12:AQ3010)","v":2999},{"$f":"IFERROR(VLOOKUP(ROWS($AR$12:AR3010),$AO$12:$AP$3014,2,0),\"\")","v":0}]
[null,null,null,null,null,null,null,null,null,null,null,null,null,null,null,null,null,null,null,null,null,null,null,null,null,null,null,null,null,null,null,null,null,null,null,null,null,null,null,null,{"$f":"IF(ISNUMBER(SEARCH($F$6,AP3012)),MAX($AO$11:AO3011)+1,0)","v":3001},0,{"$f":"ROWS($AQ$12:AQ3012)","v":3001},{"$f":"IFERROR(VLOOKUP(ROWS($AR$12:AR3012),$AO$12:$AP$3014,2,0),\"\")","v":0}]
[null,null,null,null,null,null,null,null,null,null,null,null,null,null,null,null,null,null,null,null,null,null,null,null,null,null,null,null,null,null,null,null,null,null,null,null,null,null,null,null,null,0]
[null,null,null,null,null,null,null,null,null,null,null,null,null,null,null,null,null,null,null,null,null,null,null,null,null,null,null,null,null,null,null,null,null,null,null,null,null,null,null,null,null,0]
[null,null,null,null,null,null,null,null,null,null,null,null,null,null,null,null,null,null,null,null,null,null,null,null,null,null,null,null,null,null,null,null,null,null,null,null,null,null,null,null,null,0]
[null,null,null,null,null,null,null,null,null,null,null,null,null,null,null,null,null,null,null,null,null,null,null,null,null,null,null,null,null,null,null,null,null,null,null,null,null,null,null,null,null,0]
[null,null,null,null,null,null,null,null,null,null,null,null,null,null,null,null,null,null,null,null,null,null,null,null,null,null,null,null,null,null,null,null,null,null,null,null,null,null,null,null,null,0]
[null,null,null,null,null,null,null,null,null,null,null,null,null,null,null,null,null,null,null,null,null,null,null,null,null,null,null,null,null,null,null,null,null,null,null,null,null,null,null,null,null,0]
[null,null,null,null,null,null,null,null,null,null,null,null,null,null,null,null,null,null,null,null,null,null,null,null,null,null,null,null,null,null,null,null,null,null,null,null,null,null,null,null,null,0]
[null,null,null,null,null,null,null,null,null,null,null,null,null,null,null,null,null,null,null,null,null,null,null,null,null,null,null,null,null,null,null,null,null,null,null,null,null,null,null,null,null,0]
[null,null,null,null,null,null,null,null,null,null,null,null,null,null,null,null,null,null,null,null,null,null,null,null,null,null,null,null,null,null,null,null,null,null,null,null,null,null,null,null,null,0]
[null,null,null,null,null,null,null,null,null,null,null,null,null,null,null,null,null,null,null,null,null,null,null,null,null,null,null,null,null,null,null,null,null,null,null,null,null,null,null,null,null,0]
[null,null,null,null,null,null,null,null,null,null,null,null,null,null,null,null,null,null,null,null,null,null,null,null,null,null,null,null,null,null,null,null,null,null,null,null,null,null,null,null,null,0]
[null,null,null,null,null,null,null,null,null,null,null,null,null,null,null,null,null,null,null,null,null,null,null,null,null,null,null,null,null,null,null,null,null,null,null,null,null,null,null,null,null,0]
[null,null,null,null,null,null,null,null,null,null,null,null,null,null,null,null,null,null,null,null,null,null,null,null,null,null,null,null,null,null,null,null,null,null,null,null,null,null,null,null,null,0]
[null,null,null,null,null,null,null,null,null,null,null,null,null,null,null,null,null,null,null,null,null,null,null,null,null,null,null,null,null,null,null,null,null,null,null,null,null,null,null,null,null,0]
[null,null,null,null,null,null,null,null,null,null,null,null,null,null,null,null,null,null,null,null,null,null,null,null,null,null,null,null,null,null,null,null,null,null,null,null,null,null,null,null,null,0]
[null,null,null,null,null,null,null,null,null,null,null,null,null,null,null,null,null,null,null,null,null,null,null,null,null,null,null,null,null,null,null,null,null,null,null,null,null,null,null,null,null,0]
[null,null,null,null,null,null,null,null,null,null,null,null,null,null,null,null,null,null,null,null,null,null,null,null,null,null,null,null,null,null,null,null,null,null,null,null,null,null,null,null,null,0]
[null,null,null,null,null,null,null,null,null,null,null,null,null,null,null,null,null,null,null,null,null,null,null,null,null,null,null,null,null,null,null,null,null,null,null,null,null,null,null,null,null,0]
[null,null,null,null,null,null,null,null,null,null,null,null,null,null,null,null,null,null,null,null,null,null,null,null,null,null,null,null,null,null,null,null,null,null,null,null,null,null,null,null,null,0]
[null,null,null,null,null,null,null,null,null,null,null,null,null,null,null,null,null,null,null,null,null,null,null,null,null,null,null,null,null,null,null,null,null,null,null,null,null,null,null,null,null,0]
[null,null,null,null,null,null,null,null,null,null,null,null,null,null,null,null,null,null,null,null,null,null,null,null,null,null,null,null,null,null,null,null,null,null,null,null,null,null,null,null,null,0]
[null,null,null,null,null,null,null,null,null,null,null,null,null,null,null,null,null,null,null,null,null,null,null,null,null,null,null,null,null,null,null,null,null,null,null,null,null,null,null,null,null,0]
[null,null,null,null,null,null,null,null,null,null,null,null,null,null,null,null,null,null,null,null,null,null,null,null,null,null,null,null,null,null,null,null,null,null,null,null,null,null,null,null,null,0]
[null,null,null,null,null,null,null,null,null,null,null,null,null,null,null,null,null,null,null,null,null,null,null,null,null,null,null,null,null,null,null,null,null,null,null,null,null,null,null,null,null,0]
[null,null,null,null,null,null,null,null,null,null,null,null,null,null,null,null,null,null,null,null,null,null,null,null,null,null,null,null,null,null,null,null,null,null,null,null,null,null,null,null,null,0]
[null,null,null,null,null,null,null,null,null,null,null,null,null,null,null,null,null,null,null,null,null,null,null,null,null,null,null,null,null,null,null,null,null,null,null,null,null,null,null,null,null,0]
[null,null,null,null,null,null,null,null,null,null,null,null,null,null,null,null,null,null,null,null,null,null,null,null,null,null,null,null,null,null,null,null,null,null,null,null,null,null,null,null,null,0]
[null,null,null,null,null,null,null,null,null,null,null,null,null,null,null,null,null,null,null,null,null,null,null,null,null,null,null,null,null,null,null,null,null,null,null,null,null,null,null,null,null,0]
[null,null,null,null,null,null,null,null,null,null,null,null,null,null,null,null,null,null,null,null,null,null,null,null,null,null,null,null,null,null,null,null,null,null,null,null,null,null,null,null,null,0]
[null,null,null,null,null,null,null,null,null,null,null,null,null,null,null,null,null,null,null,null,null,null,null,null,null,null,null,null,null,null,null,null,null,null,null,null,null,null,null,null,null,0]
[null,null,null,null,null,null,null,null,null,null,null,null,null,null,null,null,null,null,null,null,null,null,null,null,null,null,null,null,null,null,null,null,null,null,null,null,null,null,null,null,null,0]
[null,null,null,null,null,null,null,null,null,null,null,null,null,null,null,null,null,null,null,null,null,null,null,null,null,null,null,null,null,null,null,null,null,null,null,null,null,null,null,null,null,0]
[null,null,null,null,null,null,null,null,null,null,null,null,null,null,null,null,null,null,null,null,null,null,null,null,null,null,null,null,null,null,null,null,null,null,null,null,null,null,null,null,null,0]
[null,null,null,null,null,null,null,null,null,null,null,null,null,null,null,null,null,null,null,null,null,null,null,null,null,null,null,null,null,null,null,null,null,null,null,null,null,null,null,null,null,0]
[null,null,null,null,null,null,null,null,null,null,null,null,null,null,null,null,null,null,null,null,null,null,null,null,null,null,null,null,null,null,null,null,null,null,null,null,null,null,null,null,null,0]
[null,null,null,null,null,null,null,null,null,null,null,null,null,null,null,null,null,null,null,null,null,null,null,null,null,null,null,null,null,null,null,null,null,null,null,null,null,null,null,null,null,0]
[null,null,null,null,null,null,null,null,null,null,null,null,null,null,null,null,null,null,null,null,null,null,null,null,null,null,null,null,null,null,null,null,null,null,null,null,null,null,null,null,null,0]
[null,null,null,null,null,null,null,null,null,null,null,null,null,null,null,null,null,null,null,null,null,null,null,null,null,null,null,null,null,null,null,null,null,null,null,null,null,null,null,null,null,0]
[null,null,null,null,null,null,null,null,null,null,null,null,null,null,null,null,null,null,null,null,null,null,null,null,null,null,null,null,null,null,null,null,null,null,null,null,null,null,null,null,null,0]
[null,null,null,null,null,null,null,null,null,null,null,null,null,null,null,null,null,null,null,null,null,null,null,null,null,null,null,null,null,null,null,null,null,null,null,null,null,null,null,null,null,0]
[null,null,null,null,null,null,null,null,null,null,null,null,null,null,null,null,null,null,null,null,null,null,null,null,null,null,null,null,null,null,null,null,null,null,null,null,null,null,null,null,null,0]
[null,null,null,null,null,null,null,null,null,null,null,null,null,null,null,null,null,null,null,null,null,null,null,null,null,null,null,null,null,null,null,null,null,null,null,null,null,null,null,null,null,0]
[null,null,null,null,null,null,null,null,null,null,null,null,null,null,null,null,null,null,null,null,null,null,null,null,null,null,null,null,null,null,null,null,null,null,null,null,null,null,null,null,null,0]
[null,null,null,null,null,null,null,null,null,null,null,null,null,null,null,null,null,null,null,null,null,null,null,null,null,null,null,null,null,null,null,null,null,null,null,null,null,null,null,null,null,0]
[null,null,null,null,null,null,null,null,null,null,null,null,null,null,null,null,null,null,null,null,null,null,null,null,null,null,null,null,null,null,null,null,null,null,null,null,null,null,null,null,null,0]
[null,null,null,null,null,null,null,null,null,null,null,null,null,null,null,null,null,null,null,null,null,null,null,null,null,null,null,null,null,null,null,null,null,null,null,null,null,null,null,null,null,0]
[null,null,null,null,null,null,null,null,null,null,null,null,null,null,null,null,null,null,null,null,null,null,null,null,null,null,null,null,null,null,null,null,null,null,null,null,null,null,null,null,null,0]
[null,null,null,null,null,null,null,null,null,null,null,null,null,null,null,null,null,null,null,null,null,null,null,null,null,null,null,null,null,null,null,null,null,null,null,null,null,null,null,null,null,0]
[null,null,null,null,null,null,null,null,null,null,null,null,null,null,null,null,null,null,null,null,null,null,null,null,null,null,null,null,null,null,null,null,null,null,null,null,null,null,null,null,null,0]
[null,null,null,null,null,null,null,null,null,null,null,null,null,null,null,null,null,null,null,null,null,null,null,null,null,null,null,null,null,null,null,null,null,null,null,null,null,null,null,null,null,0]
[null,null,null,null,null,null,null,null,null,null,null,null,null,null,null,null,null,null,null,null,null,null,null,null,null,null,null,null,null,null,null,null,null,null,null,null,null,null,null,null,null,0]
[null,null,null,null,null,null,null,null,null,null,null,null,null,null,null,null,null,null,null,null,null,null,null,null,null,null,null,null,null,null,null,null,null,null,null,null,null,null,null,null,null,0]
[null,null,null,null,null,null,null,null,null,null,null,null,null,null,null,null,null,null,null,null,null,null,null,null,null,null,null,null,null,null,null,null,null,null,null,null,null,null,null,null,null,0]
[null,null,null,null,null,null,null,null,null,null,null,null,null,null,null,null,null,null,null,null,null,null,null,null,null,null,null,null,null,null,null,null,null,null,null,null,null,null,null,null,null,0]
[null,null,null,null,null,null,null,null,null,null,null,null,null,null,null,null,null,null,null,null,null,null,null,null,null,null,null,null,null,null,null,null,null,null,null,null,null,null,null,null,null,0]
[null,null,null,null,null,null,null,null,null,null,null,null,null,null,null,null,null,null,null,null,null,null,null,null,null,null,null,null,null,null,null,null,null,null,null,null,null,null,null,null,null,0]
[null,null,null,null,null,null,null,null,null,null,null,null,null,null,null,null,null,null,null,null,null,null,null,null,null,null,null,null,null,null,null,null,null,null,null,null,null,null,null,null,null,0]
[null,null,null,null,null,null,null,null,null,null,null,null,null,null,null,null,null,null,null,null,null,null,null,null,null,null,null,null,null,null,null,null,null,null,null,null,null,null,null,null,null,0]
[null,null,null,null,null,null,null,null,null,null,null,null,null,null,null,null,null,null,null,null,null,null,null,null,null,null,null,null,null,null,null,null,null,null,null,null,null,null,null,null,null,0]
[null,null,null,null,null,null,null,null,null,null,null,null,null,null,null,null,null,null,null,null,null,null,null,null,null,null,null,null,null,null,null,null,null,null,null,null,null,null,null,null,null,0]
[null,null,null,null,null,null,null,null,null,null,null,null,null,null,null,null,null,null,null,null,null,null,null,null,null,null,null,null,null,null,null,null,null,null,null,null,null,null,null,null,null,0]
[null,null,null,null,null,null,null,null,null,null,null,null,null,null,null,null,null,null,null,null,null,null,null,null,null,null,null,null,null,null,null,null,null,null,null,null,null,null,null,null,null,0]
[null,null,null,null,null,null,null,null,null,null,null,null,null,null,null,null,null,null,null,null,null,null,null,null,null,null,null,null,null,null,null,null,null,null,null,null,null,null,null,null,null,0]
[null,null,null,null,null,null,null,null,null,null,null,null,null,null,null,null,null,null,null,null,null,null,null,null,null,null,null,null,null,null,null,null,null,null,null,null,null,null,null,null,null,0]
[null,null,null,null,null,null,null,null,null,null,null,null,null,null,null,null,null,null,null,null,null,null,null,null,null,null,null,null,null,null,null,null,null,null,null,null,null,null,null,null,null,0]
[null,null,null,null,null,null,null,null,null,null,null,null,null,null,null,null,null,null,null,null,null,null,null,null,null,null,null,null,null,null,null,null,null,null,null,null,null,null,null,null,null,0]
[null,null,null,null,null,null,null,null,null,null,null,null,null,null,null,null,null,null,null,null,null,null,null,null,null,null,null,null,null,null,null,null,null,null,null,null,null,null,null,null,null,0]
[null,null,null,null,null,null,null,null,null,null,null,null,null,null,null,null,null,null,null,null,null,null,null,null,null,null,null,null,null,null,null,null,null,null,null,null,null,null,null,null,null,0]
[null,null,null,null,null,null,null,null,null,null,null,null,null,null,null,null,null,null,null,null,null,null,null,null,null,null,null,null,null,null,null,null,null,null,null,null,null,null,null,null,null,0]
[null,null,null,null,null,null,null,null,null,null,null,null,null,null,null,null,null,null,null,null,null,null,null,null,null,null,null,null,null,null,null,null,null,null,null,null,null,null,null,null,null,0]
[null,null,null,null,null,null,null,null,null,null,null,null,null,null,null,null,null,null,null,null,null,null,null,null,null,null,null,null,null,null,null,null,null,null,null,null,null,null,null,null,null,0]
[null,null,null,null,null,null,null,null,null,null,null,null,null,null,null,null,null,null,null,null,null,null,null,null,null,null,null,null,null,null,null,null,null,null,null,null,null,null,null,null,null,0]
[null,null,null,null,null,null,null,null,null,null,null,null,null,null,null,null,null,null,null,null,null,null,null,null,null,null,null,null,null,null,null,null,null,null,null,null,null,null,null,null,null,0]
[null,null,null,null,null,null,null,null,null,null,null,null,null,null,null,null,null,null,null,null,null,null,null,null,null,null,null,null,null,null,null,null,null,null,null,null,null,null,null,null,null,0]
[null,null,null,null,null,null,null,null,null,null,null,null,null,null,null,null,null,null,null,null,null,null,null,null,null,null,null,null,null,null,null,null,null,null,null,null,null,null,null,null,null,0]
[null,null,null,null,null,null,null,null,null,null,null,null,null,null,null,null,null,null,null,null,null,null,null,null,null,null,null,null,null,null,null,null,null,null,null,null,null,null,null,null,null,0]
[null,null,null,null,null,null,null,null,null,null,null,null,null,null,null,null,null,null,null,null,null,null,null,null,null,null,null,null,null,null,null,null,null,null,null,null,null,null,null,null,null,0]
[null,null,null,null,null,null,null,null,null,null,null,null,null,null,null,null,null,null,null,null,null,null,null,null,null,null,null,null,null,null,null,null,null,null,null,null,null,null,null,null,null,0]
[null,null,null,null,null,null,null,null,null,null,null,null,null,null,null,null,null,null,null,null,null,null,null,null,null,null,null,null,null,null,null,null,null,null,null,null,null,null,null,null,null,0]
[null,null,null,null,null,null,null,null,null,null,null,null,null,null,null,null,null,null,null,null,null,null,null,null,null,null,null,null,null,null,null,null,null,null,null,null,null,null,null,null,null,0]
[null,null,null,null,null,null,null,null,null,null,null,null,null,null,null,null,null,null,null,null,null,null,null,null,null,null,null,null,null,null,null,null,null,null,null,null,null,null,null,null,null,0]
[null,null,null,null,null,null,null,null,null,null,null,null,null,null,null,null,null,null,null,null,null,null,null,null,null,null,null,null,null,null,null,null,null,null,null,null,null,null,null,null,null,0]
[null,null,null,null,null,null,null,null,null,null,null,null,null,null,null,null,null,null,null,null,null,null,null,null,null,null,null,null,null,null,null,null,null,null,null,null,null,null,null,null,null,0]
[null,null,null,null,null,null,null,null,null,null,null,null,null,null,null,null,null,null,null,null,null,null,null,null,null,null,null,null,null,null,null,null,null,null,null,null,null,null,null,null,null,0]
[null,null,null,null,null,null,null,null,null,null,null,null,null,null,null,null,null,null,null,null,null,null,null,null,null,null,null,null,null,null,null,null,null,null,null,null,null,null,null,null,null,0]
[null,null,null,null,null,null,null,null,null,null,null,null,null,null,null,null,null,null,null,null,null,null,null,null,null,null,null,null,null,null,null,null,null,null,null,null,null,null,null,null,null,0]
[null,null,null,null,null,null,null,null,null,null,null,null,null,null,null,null,null,null,null,null,null,null,null,null,null,null,null,null,null,null,null,null,null,null,null,null,null,null,null,null,null,0]
[null,null,null,null,null,null,null,null,null,null,null,null,null,null,null,null,null,null,null,null,null,null,null,null,null,null,null,null,null,null,null,null,null,null,null,null,null,null,null,null,null,0]
[null,null,null,null,null,null,null,null,null,null,null,null,null,null,null,null,null,null,null,null,null,null,null,null,null,null,null,null,null,null,null,null,null,null,null,null,null,null,null,null,null,0]
[null,null,null,null,null,null,null,null,null,null,null,null,null,null,null,null,null,null,null,null,null,null,null,null,null,null,null,null,null,null,null,null,null,null,null,null,null,null,null,null,null,0]
[null,null,null,null,null,null,null,null,null,null,null,null,null,null,null,null,null,null,null,null,null,null,null,null,null,null,null,null,null,null,null,null,null,null,null,null,null,null,null,null,null,0]
[null,null,null,null,null,null,null,null,null,null,null,null,null,null,null,null,null,null,null,null,null,null,null,null,null,null,null,null,null,null,null,null,null,null,null,null,null,null,null,null,null,0]
[null,null,null,null,null,null,null,null,null,null,null,null,null,null,null,null,null,null,null,null,null,null,null,null,null,null,null,null,null,null,null,null,null,null,null,null,null,null,null,null,null,0]
[null,null,null,null,null,null,null,null,null,null,null,null,null,null,null,null,null,null,null,null,null,null,null,null,null,null,null,null,null,null,null,null,null,null,null,null,null,null,null,null,null,0]
[null,null,null,null,null,null,null,null,null,null,null,null,null,null,null,null,null,null,null,null,null,null,null,null,null,null,null,null,null,null,null,null,null,null,null,null,null,null,null,null,null,0]
[null,null,null,null,null,null,null,null,null,null,null,null,null,null,null,null,null,null,null,null,null,null,null,null,null,null,null,null,null,null,null,null,null,null,null,null,null,null,null,null,null,0]
[null,null,null,null,null,null,null,null,null,null,null,null,null,null,null,null,null,null,null,null,null,null,null,null,null,null,null,null,null,null,null,null,null,null,null,null,null,null,null,null,null,0]
[null,null,null,null,null,null,null,null,null,null,null,null,null,null,null,null,null,null,null,null,null,null,null,null,null,null,null,null,null,null,null,null,null,null,null,null,null,null,null,null,null,0]
[null,null,null,null,null,null,null,null,null,null,null,null,null,null,null,null,null,null,null,null,null,null,null,null,null,null,null,null,null,null,null,null,null,null,null,null,null,null,null,null,null,0]
[null,null,null,null,null,null,null,null,null,null,null,null,null,null,null,null,null,null,null,null,null,null,null,null,null,null,null,null,null,null,null,null,null,null,null,null,null,null,null,null,null,0]
[null,null,null,null,null,null,null,null,null,null,null,null,null,null,null,null,null,null,null,null,null,null,null,null,null,null,null,null,null,null,null,null,null,null,null,null,null,null,null,null,null,0]
[null,null,null,null,null,null,null,null,null,null,null,null,null,null,null,null,null,null,null,null,null,null,null,null,null,null,null,null,null,null,null,null,null,null,null,null,null,null,null,null,null,0]
[null,null,null,null,null,null,null,null,null,null,null,null,null,null,null,null,null,null,null,null,null,null,null,null,null,null,null,null,null,null,null,null,null,null,null,null,null,null,null,null,null,0]
[null,null,null,null,null,null,null,null,null,null,null,null,null,null,null,null,null,null,null,null,null,null,null,null,null,null,null,null,null,null,null,null,null,null,null,null,null,null,null,null,null,0]
[null,null,null,null,null,null,null,null,null,null,null,null,null,null,null,null,null,null,null,null,null,null,null,null,null,null,null,null,null,null,null,null,null,null,null,null,null,null,null,null,null,0]
[null,null,null,null,null,null,null,null,null,null,null,null,null,null,null,null,null,null,null,null,null,null,null,null,null,null,null,null,null,null,null,null,null,null,null,null,null,null,null,null,null,0]
[null,null,null,null,null,null,null,null,null,null,null,null,null,null,null,null,null,null,null,null,null,null,null,null,null,null,null,null,null,null,null,null,null,null,null,null,null,null,null,null,null,0]
[null,null,null,null,null,null,null,null,null,null,null,null,null,null,null,null,null,null,null,null,null,null,null,null,null,null,null,null,null,null,null,null,null,null,null,null,null,null,null,null,null,0]
[null,null,null,null,null,null,null,null,null,null,null,null,null,null,null,null,null,null,null,null,null,null,null,null,null,null,null,null,null,null,null,null,null,null,null,null,null,null,null,null,null,0]
[null,null,null,null,null,null,null,null,null,null,null,null,null,null,null,null,null,null,null,null,null,null,null,null,null,null,null,null,null,null,null,null,null,null,null,null,null,null,null,null,null,0]
[null,null,null,null,null,null,null,null,null,null,null,null,null,null,null,null,null,null,null,null,null,null,null,null,null,null,null,null,null,null,null,null,null,null,null,null,null,null,null,null,null,0]
[null,null,null,null,null,null,null,null,null,null,null,null,null,null,null,null,null,null,null,null,null,null,null,null,null,null,null,null,null,null,null,null,null,null,null,null,null,null,null,null,null,0]
[null,null,null,null,null,null,null,null,null,null,null,null,null,null,null,null,null,null,null,null,null,null,null,null,null,null,null,null,null,null,null,null,null,null,null,null,null,null,null,null,null,0]
[null,null,null,null,null,null,null,null,null,null,null,null,null,null,null,null,null,null,null,null,null,null,null,null,null,null,null,null,null,null,null,null,null,null,null,null,null,null,null,null,null,0]
[null,null,null,null,null,null,null,null,null,null,null,null,null,null,null,null,null,null,null,null,null,null,null,null,null,null,null,null,null,null,null,null,null,null,null,null,null,null,null,null,null,0]
[null,null,null,null,null,null,null,null,null,null,null,null,null,null,null,null,null,null,null,null,null,null,null,null,null,null,null,null,null,null,null,null,null,null,null,null,null,null,null,null,null,0]
[null,null,null,null,null,null,null,null,null,null,null,null,null,null,null,null,null,null,null,null,null,null,null,null,null,null,null,null,null,null,null,null,null,null,null,null,null,null,null,null,null,0]
[null,null,null,null,null,null,null,null,null,null,null,null,null,null,null,null,null,null,null,null,null,null,null,null,null,null,null,null,null,null,null,null,null,null,null,null,null,null,null,null,null,0]
[null,null,null,null,null,null,null,null,null,null,null,null,null,null,null,null,null,null,null,null,null,null,null,null,null,null,null,null,null,null,null,null,null,null,null,null,null,null,null,null,null,0]
[null,null,null,null,null,null,null,null,null,null,null,null,null,null,null,null,null,null,null,null,null,null,null,null,null,null,null,null,null,null,null,null,null,null,null,null,null,null,null,null,null,0]
[null,null,null,null,null,null,null,null,null,null,null,null,null,null,null,null,null,null,null,null,null,null,null,null,null,null,null,null,null,null,null,null,null,null,null,null,null,null,null,null,null,0]
[null,null,null,null,null,null,null,null,null,null,null,null,null,null,null,null,null,null,null,null,null,null,null,null,null,null,null,null,null,null,null,null,null,null,null,null,null,null,null,null,null,0]
[null,null,null,null,null,null,null,null,null,null,null,null,null,null,null,null,null,null,null,null,null,null,null,null,null,null,null,null,null,null,null,null,null,null,null,null,null,null,null,null,null,0]
[null,null,null,null,null,null,null,null,null,null,null,null,null,null,null,null,null,null,null,null,null,null,null,null,null,null,null,null,null,null,null,null,null,null,null,null,null,null,null,null,null,0]
[null,null,null,null,null,null,null,null,null,null,null,null,null,null,null,null,null,null,null,null,null,null,null,null,null,null,null,null,null,null,null,null,null,null,null,null,null,null,null,null,null,0]
[null,null,null,null,null,null,null,null,null,null,null,null,null,null,null,null,null,null,null,null,null,null,null,null,null,null,null,null,null,null,null,null,null,null,null,null,null,null,null,null,null,0]
[null,null,null,null,null,null,null,null,null,null,null,null,null,null,null,null,null,null,null,null,null,null,null,null,null,null,null,null,null,null,null,null,null,null,null,null,null,null,null,null,null,0]
[null,null,null,null,null,null,null,null,null,null,null,null,null,null,null,null,null,null,null,null,null,null,null,null,null,null,null,null,null,null,null,null,null,null,null,null,null,null,null,null,null,0]
[null,null,null,null,null,null,null,null,null,null,null,null,null,null,null,null,null,null,null,null,null,null,null,null,null,null,null,null,null,null,null,null,null,null,null,null,null,null,null,null,null,0]
[null,null,null,null,null,null,null,null,null,null,null,null,null,null,null,null,null,null,null,null,null,null,null,null,null,null,null,null,null,null,null,null,null,null,null,null,null,null,null,null,null,0]
[null,null,null,null,null,null,null,null,null,null,null,null,null,null,null,null,null,null,null,null,null,null,null,null,null,null,null,null,null,null,null,null,null,null,null,null,null,null,null,null,null,0]
[null,null,null,null,null,null,null,null,null,null,null,null,null,null,null,null,null,null,null,null,null,null,null,null,null,null,null,null,null,null,null,null,null,null,null,null,null,null,null,null,null,0]
[null,null,null,null,null,null,null,null,null,null,null,null,null,null,null,null,null,null,null,null,null,null,null,null,null,null,null,null,null,null,null,null,null,null,null,null,null,null,null,null,null,0]
[null,null,null,null,null,null,null,null,null,null,null,null,null,null,null,null,null,null,null,null,null,null,null,null,null,null,null,null,null,null,null,null,null,null,null,null,null,null,null,null,null,0]
[null,null,null,null,null,null,null,null,null,null,null,null,null,null,null,null,null,null,null,null,null,null,null,null,null,null,null,null,null,null,null,null,null,null,null,null,null,null,null,null,null,0]
[null,null,null,null,null,null,null,null,null,null,null,null,null,null,null,null,null,null,null,null,null,null,null,null,null,null,null,null,null,null,null,null,null,null,null,null,null,null,null,null,null,0]
[null,null,null,null,null,null,null,null,null,null,null,null,null,null,null,null,null,null,null,null,null,null,null,null,null,null,null,null,null,null,null,null,null,null,null,null,null,null,null,null,null,0]
[null,null,null,null,null,null,null,null,null,null,null,null,null,null,null,null,null,null,null,null,null,null,null,null,null,null,null,null,null,null,null,null,null,null,null,null,null,null,null,null,null,0]
[null,null,null,null,null,null,null,null,null,null,null,null,null,null,null,null,null,null,null,null,null,null,null,null,null,null,null,null,null,null,null,null,null,null,null,null,null,null,null,null,null,0]
[null,null,null,null,null,null,null,null,null,null,null,null,null,null,null,null,null,null,null,null,null,null,null,null,null,null,null,null,null,null,null,null,null,null,null,null,null,null,null,null,null,0]
[null,null,null,null,null,null,null,null,null,null,null,null,null,null,null,null,null,null,null,null,null,null,null,null,null,null,null,null,null,null,null,null,null,null,null,null,null,null,null,null,null,0]
[null,null,null,null,null,null,null,null,null,null,null,null,null,null,null,null,null,null,null,null,null,null,null,null,null,null,null,null,null,null,null,null,null,null,null,null,null,null,null,null,null,0]
[null,null,null,null,null,null,null,null,null,null,null,null,null,null,null,null,null,null,null,null,null,null,null,null,null,null,null,null,null,null,null,null,null,null,null,null,null,null,null,null,null,0]
[null,null,null,null,null,null,null,null,null,null,null,null,null,null,null,null,null,null,null,null,null,null,null,null,null,null,null,null,null,null,null,null,null,null,null,null,null,null,null,null,null,0]
[null,null,null,null,null,null,null,null,null,null,null,null,null,null,null,null,null,null,null,null,null,null,null,null,null,null,null,null,null,null,null,null,null,null,null,null,null,null,null,null,null,0]
[null,null,null,null,null,null,null,null,null,null,null,null,null,null,null,null,null,null,null,null,null,null,null,null,null,null,null,null,null,null,null,null,null,null,null,null,null,null,null,null,null,0]
[null,null,null,null,null,null,null,null,null,null,null,null,null,null,null,null,null,null,null,null,null,null,null,null,null,null,null,null,null,null,null,null,null,null,null,null,null,null,null,null,null,0]
[null,null,null,null,null,null,null,null,null,null,null,null,null,null,null,null,null,null,null,null,null,null,null,null,null,null,null,null,null,null,null,null,null,null,null,null,null,null,null,null,null,0]
[null,null,null,null,null,null,null,null,null,null,null,null,null,null,null,null,null,null,null,null,null,null,null,null,null,null,null,null,null,null,null,null,null,null,null,null,null,null,null,null,null,0]
[null,null,null,null,null,null,null,null,null,null,null,null,null,null,null,null,null,null,null,null,null,null,null,null,null,null,null,null,null,null,null,null,null,null,null,null,null,null,null,null,null,0]
[null,null,null,null,null,null,null,null,null,null,null,null,null,null,null,null,null,null,null,null,null,null,null,null,null,null,null,null,null,null,null,null,null,null,null,null,null,null,null,null,null,0]
[null,null,null,null,null,null,null,null,null,null,null,null,null,null,null,null,null,null,null,null,null,null,null,null,null,null,null,null,null,null,null,null,null,null,null,null,null,null,null,null,null,0]
[null,null,null,null,null,null,null,null,null,null,null,null,null,null,null,null,null,null,null,null,null,null,null,null,null,null,null,null,null,null,null,null,null,null,null,null,null,null,null,null,null,0]
[null,null,null,null,null,null,null,null,null,null,null,null,null,null,null,null,null,null,null,null,null,null,null,null,null,null,null,null,null,null,null,null,null,null,null,null,null,null,null,null,null,0]
[null,null,null,null,null,null,null,null,null,null,null,null,null,null,null,null,null,null,null,null,null,null,null,null,null,null,null,null,null,null,null,null,null,null,null,null,null,null,null,null,null,0]
[null,null,null,null,null,null,null,null,null,null,null,null,null,null,null,null,null,null,null,null,null,null,null,null,null,null,null,null,null,null,null,null,null,null,null,null,null,null,null,null,null,0]
[null,null,null,null,null,null,null,null,null,null,null,null,null,null,null,null,null,null,null,null,null,null,null,null,null,null,null,null,null,null,null,null,null,null,null,null,null,null,null,null,null,0]
[null,null,null,null,null,null,null,null,null,null,null,null,null,null,null,null,null,null,null,null,null,null,null,null,null,null,null,null,null,null,null,null,null,null,null,null,null,null,null,null,null,0]
[null,null,null,null,null,null,null,null,null,null,null,null,null,null,null,null,null,null,null,null,null,null,null,null,null,null,null,null,null,null,null,null,null,null,null,null,null,null,null,null,null,0]
[null,null,null,null,null,null,null,null,null,null,null,null,null,null,null,null,null,null,null,null,null,null,null,null,null,null,null,null,null,null,null,null,null,null,null,null,null,null,null,null,null,0]
[null,null,null,null,null,null,null,null,null,null,null,null,null,null,null,null,null,null,null,null,null,null,null,null,null,null,null,null,null,null,null,null,null,null,null,null,null,null,null,null,null,0]
[null,null,null,null,null,null,null,null,null,null,null,null,null,null,null,null,null,null,null,null,null,null,null,null,null,null,null,null,null,null,null,null,null,null,null,null,null,null,null,null,null,0]
[null,null,null,null,null,null,null,null,null,null,null,null,null,null,null,null,null,null,null,null,null,null,null,null,null,null,null,null,null,null,null,null,null,null,null,null,null,null,null,null,null,0]
[null,null,null,null,null,null,null,null,null,null,null,null,null,null,null,null,null,null,null,null,null,null,null,null,null,null,null,null,null,null,null,null,null,null,null,null,null,null,null,null,null,0]
[null,null,null,null,null,null,null,null,null,null,null,null,null,null,null,null,null,null,null,null,null,null,null,null,null,null,null,null,null,null,null,null,null,null,null,null,null,null,null,null,null,0]
[null,null,null,null,null,null,null,null,null,null,null,null,null,null,null,null,null,null,null,null,null,null,null,null,null,null,null,null,null,null,null,null,null,null,null,null,null,null,null,null,null,0]
[null,null,null,null,null,null,null,null,null,null,null,null,null,null,null,null,null,null,null,null,null,null,null,null,null,null,null,null,null,null,null,null,null,null,null,null,null,null,null,null,null,0]
[null,null,null,null,null,null,null,null,null,null,null,null,null,null,null,null,null,null,null,null,null,null,null,null,null,null,null,null,null,null,null,null,null,null,null,null,null,null,null,null,null,0]
[null,null,null,null,null,null,null,null,null,null,null,null,null,null,null,null,null,null,null,null,null,null,null,null,null,null,null,null,null,null,null,null,null,null,null,null,null,null,null,null,null,0]
[null,null,null,null,null,null,null,null,null,null,null,null,null,null,null,null,null,null,null,null,null,null,null,null,null,null,null,null,null,null,null,null,null,null,null,null,null,null,null,null,null,0]
[null,null,null,null,null,null,null,null,null,null,null,null,null,null,null,null,null,null,null,null,null,null,null,null,null,null,null,null,null,null,null,null,null,null,null,null,null,null,null,null,null,0]
[null,null,null,null,null,null,null,null,null,null,null,null,null,null,null,null,null,null,null,null,null,null,null,null,null,null,null,null,null,null,null,null,null,null,null,null,null,null,null,null,null,0]
[null,null,null,null,null,null,null,null,null,null,null,null,null,null,null,null,null,null,null,null,null,null,null,null,null,null,null,null,null,null,null,null,null,null,null,null,null,null,null,null,null,0]
[null,null,null,null,null,null,null,null,null,null,null,null,null,null,null,null,null,null,null,null,null,null,null,null,null,null,null,null,null,null,null,null,null,null,null,null,null,null,null,null,null,0]
[null,null,null,null,null,null,null,null,null,null,null,null,null,null,null,null,null,null,null,null,null,null,null,null,null,null,null,null,null,null,null,null,null,null,null,null,null,null,null,null,null,0]
[null,null,null,null,null,null,null,null,null,null,null,null,null,null,null,null,null,null,null,null,null,null,null,null,null,null,null,null,null,null,null,null,null,null,null,null,null,null,null,null,null,0]
[null,null,null,null,null,null,null,null,null,null,null,null,null,null,null,null,null,null,null,null,null,null,null,null,null,null,null,null,null,null,null,null,null,null,null,null,null,null,null,null,null,0]
[null,null,null,null,null,null,null,null,null,null,null,null,null,null,null,null,null,null,null,null,null,null,null,null,null,null,null,null,null,null,null,null,null,null,null,null,null,null,null,null,null,0]
[null,null,null,null,null,null,null,null,null,null,null,null,null,null,null,null,null,null,null,null,null,null,null,null,null,null,null,null,null,null,null,null,null,null,null,null,null,null,null,null,null,0]
[null,null,null,null,null,null,null,null,null,null,null,null,null,null,null,null,null,null,null,null,null,null,null,null,null,null,null,null,null,null,null,null,null,null,null,null,null,null,null,null,null,0]
[null,null,null,null,null,null,null,null,null,null,null,null,null,null,null,null,null,null,null,null,null,null,null,null,null,null,null,null,null,null,null,null,null,null,null,null,null,null,null,null,null,0]
[null,null,null,null,null,null,null,null,null,null,null,null,null,null,null,null,null,null,null,null,null,null,null,null,null,null,null,null,null,null,null,null,null,null,null,null,null,null,null,null,null,0]
[null,null,null,null,null,null,null,null,null,null,null,null,null,null,null,null,null,null,null,null,null,null,null,null,null,null,null,null,null,null,null,null,null,null,null,null,null,null,null,null,null,0]
[null,null,null,null,null,null,null,null,null,null,null,null,null,null,null,null,null,null,null,null,null,null,null,null,null,null,null,null,null,null,null,null,null,null,null,null,null,null,null,null,null,0]
[null,null,null,null,null,null,null,null,null,null,null,null,null,null,null,null,null,null,null,null,null,null,null,null,null,null,null,null,null,null,null,null,null,null,null,null,null,null,null,null,null,0]
[null,null,null,null,null,null,null,null,null,null,null,null,null,null,null,null,null,null,null,null,null,null,null,null,null,null,null,null,null,null,null,null,null,null,null,null,null,null,null,null,null,0]
[null,null,null,null,null,null,null,null,null,null,null,null,null,null,null,null,null,null,null,null,null,null,null,null,null,null,null,null,null,null,null,null,null,null,null,null,null,null,null,null,null,0]
[null,null,null,null,null,null,null,null,null,null,null,null,null,null,null,null,null,null,null,null,null,null,null,null,null,null,null,null,null,null,null,null,null,null,null,null,null,null,null,null,null,0]
[null,null,null,null,null,null,null,null,null,null,null,null,null,null,null,null,null,null,null,null,null,null,null,null,null,null,null,null,null,null,null,null,null,null,null,null,null,null,null,null,null,0]
[null,null,null,null,null,null,null,null,null,null,null,null,null,null,null,null,null,null,null,null,null,null,null,null,null,null,null,null,null,null,null,null,null,null,null,null,null,null,null,null,null,0]
[null,null,null,null,null,null,null,null,null,null,null,null,null,null,null,null,null,null,null,null,null,null,null,null,null,null,null,null,null,null,null,null,null,null,null,null,null,null,null,null,null,0]
[null,null,null,null,null,null,null,null,null,null,null,null,null,null,null,null,null,null,null,null,null,null,null,null,null,null,null,null,null,null,null,null,null,null,null,null,null,null,null,null,null,0]
[null,null,null,null,null,null,null,null,null,null,null,null,null,null,null,null,null,null,null,null,null,null,null,null,null,null,null,null,null,null,null,null,null,null,null,null,null,null,null,null,null,0]
[null,null,null,null,null,null,null,null,null,null,null,null,null,null,null,null,null,null,null,null,null,null,null,null,null,null,null,null,null,null,null,null,null,null,null,null,null,null,null,null,null,0]
[null,null,null,null,null,null,null,null,null,null,null,null,null,null,null,null,null,null,null,null,null,null,null,null,null,null,null,null,null,null,null,null,null,null,null,null,null,null,null,null,null,0]
[null,null,null,null,null,null,null,null,null,null,null,null,null,null,null,null,null,null,null,null,null,null,null,null,null,null,null,null,null,null,null,null,null,null,null,null,null,null,null,null,null,0]
[null,null,null,null,null,null,null,null,null,null,null,null,null,null,null,null,null,null,null,null,null,null,null,null,null,null,null,null,null,null,null,null,null,null,null,null,null,null,null,null,null,0]
[null,null,null,null,null,null,null,null,null,null,null,null,null,null,null,null,null,null,null,null,null,null,null,null,null,null,null,null,null,null,null,null,null,null,null,null,null,null,null,null,null,0]
[null,null,null,null,null,null,null,null,null,null,null,null,null,null,null,null,null,null,null,null,null,null,null,null,null,null,null,null,null,null,null,null,null,null,null,null,null,null,null,null,null,0]
[null,null,null,null,null,null,null,null,null,null,null,null,null,null,null,null,null,null,null,null,null,null,null,null,null,null,null,null,null,null,null,null,null,null,null,null,null,null,null,null,null,0]
[null,null,null,null,null,null,null,null,null,null,null,null,null,null,null,null,null,null,null,null,null,null,null,null,null,null,null,null,null,null,null,null,null,null,null,null,null,null,null,null,null,0]
[null,null,null,null,null,null,null,null,null,null,null,null,null,null,null,null,null,null,null,null,null,null,null,null,null,null,null,null,null,null,null,null,null,null,null,null,null,null,null,null,null,0]
[null,null,null,null,null,null,null,null,null,null,null,null,null,null,null,null,null,null,null,null,null,null,null,null,null,null,null,null,null,null,null,null,null,null,null,null,null,null,null,null,null,0]
[null,null,null,null,null,null,null,null,null,null,null,null,null,null,null,null,null,null,null,null,null,null,null,null,null,null,null,null,null,null,null,null,null,null,null,null,null,null,null,null,null,0]
[null,null,null,null,null,null,null,null,null,null,null,null,null,null,null,null,null,null,null,null,null,null,null,null,null,null,null,null,null,null,null,null,null,null,null,null,null,null,null,null,null,0]
[null,null,null,null,null,null,null,null,null,null,null,null,null,null,null,null,null,null,null,null,null,null,null,null,null,null,null,null,null,null,null,null,null,null,null,null,null,null,null,null,null,0]
[null,null,null,null,null,null,null,null,null,null,null,null,null,null,null,null,null,null,null,null,null,null,null,null,null,null,null,null,null,null,null,null,null,null,null,null,null,null,null,null,null,0]
[null,null,null,null,null,null,null,null,null,null,null,null,null,null,null,null,null,null,null,null,null,null,null,null,null,null,null,null,null,null,null,null,null,null,null,null,null,null,null,null,null,0]
[null,null,null,null,null,null,null,null,null,null,null,null,null,null,null,null,null,null,null,null,null,null,null,null,null,null,null,null,null,null,null,null,null,null,null,null,null,null,null,null,null,0]
[null,null,null,null,null,null,null,null,null,null,null,null,null,null,null,null,null,null,null,null,null,null,null,null,null,null,null,null,null,null,null,null,null,null,null,null,null,null,null,null,null,0]
[null,null,null,null,null,null,null,null,null,null,null,null,null,null,null,null,null,null,null,null,null,null,null,null,null,null,null,null,null,null,null,null,null,null,null,null,null,null,null,null,null,0]
[null,null,null,null,null,null,null,null,null,null,null,null,null,null,null,null,null,null,null,null,null,null,null,null,null,null,null,null,null,null,null,null,null,null,null,null,null,null,null,null,null,0]
[null,null,null,null,null,null,null,null,null,null,null,null,null,null,null,null,null,null,null,null,null,null,null,null,null,null,null,null,null,null,null,null,null,null,null,null,null,null,null,null,null,0]
[null,null,null,null,null,null,null,null,null,null,null,null,null,null,null,null,null,null,null,null,null,null,null,null,null,null,null,null,null,null,null,null,null,null,null,null,null,null,null,null,null,0]
[null,null,null,null,null,null,null,null,null,null,null,null,null,null,null,null,null,null,null,null,null,null,null,null,null,null,null,null,null,null,null,null,null,null,null,null,null,null,null,null,null,0]
[null,null,null,null,null,null,null,null,null,null,null,null,null,null,null,null,null,null,null,null,null,null,null,null,null,null,null,null,null,null,null,null,null,null,null,null,null,null,null,null,null,0]
[null,null,null,null,null,null,null,null,null,null,null,null,null,null,null,null,null,null,null,null,null,null,null,null,null,null,null,null,null,null,null,null,null,null,null,null,null,null,null,null,null,0]
[null,null,null,null,null,null,null,null,null,null,null,null,null,null,null,null,null,null,null,null,null,null,null,null,null,null,null,null,null,null,null,null,null,null,null,null,null,null,null,null,null,0]
[null,null,null,null,null,null,null,null,null,null,null,null,null,null,null,null,null,null,null,null,null,null,null,null,null,null,null,null,null,null,null,null,null,null,null,null,null,null,null,null,null,0]
[null,null,null,null,null,null,null,null,null,null,null,null,null,null,null,null,null,null,null,null,null,null,null,null,null,null,null,null,null,null,null,null,null,null,null,null,null,null,null,null,null,0]
[null,null,null,null,null,null,null,null,null,null,null,null,null,null,null,null,null,null,null,null,null,null,null,null,null,null,null,null,null,null,null,null,null,null,null,null,null,null,null,null,null,0]
[null,null,null,null,null,null,null,null,null,null,null,null,null,null,null,null,null,null,null,null,null,null,null,null,null,null,null,null,null,null,null,null,null,null,null,null,null,null,null,null,null,0]
[null,null,null,null,null,null,null,null,null,null,null,null,null,null,null,null,null,null,null,null,null,null,null,null,null,null,null,null,null,null,null,null,null,null,null,null,null,null,null,null,null,0]
[null,null,null,null,null,null,null,null,null,null,null,null,null,null,null,null,null,null,null,null,null,null,null,null,null,null,null,null,null,null,null,null,null,null,null,null,null,null,null,null,null,0]
[null,null,null,null,null,null,null,null,null,null,null,null,null,null,null,null,null,null,null,null,null,null,null,null,null,null,null,null,null,null,null,null,null,null,null,null,null,null,null,null,null,0]
[null,null,null,null,null,null,null,null,null,null,null,null,null,null,null,null,null,null,null,null,null,null,null,null,null,null,null,null,null,null,null,null,null,null,null,null,null,null,null,null,null,0]
[null,null,null,null,null,null,null,null,null,null,null,null,null,null,null,null,null,null,null,null,null,null,null,null,null,null,null,null,null,null,null,null,null,null,null,null,null,null,null,null,null,0]
[null,null,null,null,null,null,null,null,null,null,null,null,null,null,null,null,null,null,null,null,null,null,null,null,null,null,null,null,null,null,null,null,null,null,null,null,null,null,null,null,null,0]
[null,null,null,null,null,null,null,null,null,null,null,null,null,null,null,null,null,null,null,null,null,null,null,null,null,null,null,null,null,null,null,null,null,null,null,null,null,null,null,null,null,0]
[null,null,null,null,null,null,null,null,null,null,null,null,null,null,null,null,null,null,null,null,null,null,null,null,null,null,null,null,null,null,null,null,null,null,null,null,null,null,null,null,null,0]
[null,null,null,null,null,null,null,null,null,null,null,null,null,null,null,null,null,null,null,null,null,null,null,null,null,null,null,null,null,null,null,null,null,null,null,null,null,null,null,null,null,0]
[null,null,null,null,null,null,null,null,null,null,null,null,null,null,null,null,null,null,null,null,null,null,null,null,null,null,null,null,null,null,null,null,null,null,null,null,null,null,null,null,null,0]
[null,null,null,null,null,null,null,null,null,null,null,null,null,null,null,null,null,null,null,null,null,null,null,null,null,null,null,null,null,null,null,null,null,null,null,null,null,null,null,null,null,0]
[null,null,null,null,null,null,null,null,null,null,null,null,null,null,null,null,null,null,null,null,null,null,null,null,null,null,null,null,null,null,null,null,null,null,null,null,null,null,null,null,null,0]
[null,null,null,null,null,null,null,null,null,null,null,null,null,null,null,null,null,null,null,null,null,null,null,null,null,null,null,null,null,null,null,null,null,null,null,null,null,null,null,null,null,0]
[null,null,null,null,null,null,null,null,null,null,null,null,null,null,null,null,null,null,null,null,null,null,null,null,null,null,null,null,null,null,null,null,null,null,null,null,null,null,null,null,null,0]
[null,null,null,null,null,null,null,null,null,null,null,null,null,null,null,null,null,null,null,null,null,null,null,null,null,null,null,null,null,null,null,null,null,null,null,null,null,null,null,null,null,0]
[null,null,null,null,null,null,null,null,null,null,null,null,null,null,null,null,null,null,null,null,null,null,null,null,null,null,null,null,null,null,null,null,null,null,null,null,null,null,null,null,null,0]
[null,null,null,null,null,null,null,null,null,null,null,null,null,null,null,null,null,null,null,null,null,null,null,null,null,null,null,null,null,null,null,null,null,null,null,null,null,null,null,null,null,0]
[null,null,null,null,null,null,null,null,null,null,null,null,null,null,null,null,null,null,null,null,null,null,null,null,null,null,null,null,null,null,null,null,null,null,null,null,null,null,null,null,null,0]
[null,null,null,null,null,null,null,null,null,null,null,null,null,null,null,null,null,null,null,null,null,null,null,null,null,null,null,null,null,null,null,null,null,null,null,null,null,null,null,null,null,0]
[null,null,null,null,null,null,null,null,null,null,null,null,null,null,null,null,null,null,null,null,null,null,null,null,null,null,null,null,null,null,null,null,null,null,null,null,null,null,null,null,null,0]
[null,null,null,null,null,null,null,null,null,null,null,null,null,null,null,null,null,null,null,null,null,null,null,null,null,null,null,null,null,null,null,null,null,null,null,null,null,null,null,null,null,0]
[null,null,null,null,null,null,null,null,null,null,null,null,null,null,null,null,null,null,null,null,null,null,null,null,null,null,null,null,null,null,null,null,null,null,null,null,null,null,null,null,null,0]
[null,null,null,null,null,null,null,null,null,null,null,null,null,null,null,null,null,null,null,null,null,null,null,null,null,null,null,null,null,null,null,null,null,null,null,null,null,null,null,null,null,0]
[null,null,null,null,null,null,null,null,null,null,null,null,null,null,null,null,null,null,null,null,null,null,null,null,null,null,null,null,null,null,null,null,null,null,null,null,null,null,null,null,null,0]
[null,null,null,null,null,null,null,null,null,null,null,null,null,null,null,null,null,null,null,null,null,null,null,null,null,null,null,null,null,null,null,null,null,null,null,null,null,null,null,null,null,0]
[null,null,null,null,null,null,null,null,null,null,null,null,null,null,null,null,null,null,null,null,null,null,null,null,null,null,null,null,null,null,null,null,null,null,null,null,null,null,null,null,null,0]
[null,null,null,null,null,null,null,null,null,null,null,null,null,null,null,null,null,null,null,null,null,null,null,null,null,null,null,null,null,null,null,null,null,null,null,null,null,null,null,null,null,0]
[null,null,null,null,null,null,null,null,null,null,null,null,null,null,null,null,null,null,null,null,null,null,null,null,null,null,null,null,null,null,null,null,null,null,null,null,null,null,null,null,null,0]
[null,null,null,null,null,null,null,null,null,null,null,null,null,null,null,null,null,null,null,null,null,null,null,null,null,null,null,null,null,null,null,null,null,null,null,null,null,null,null,null,null,0]
[null,null,null,null,null,null,null,null,null,null,null,null,null,null,null,null,null,null,null,null,null,null,null,null,null,null,null,null,null,null,null,null,null,null,null,null,null,null,null,null,null,0]
[null,null,null,null,null,null,null,null,null,null,null,null,null,null,null,null,null,null,null,null,null,null,null,null,null,null,null,null,null,null,null,null,null,null,null,null,null,null,null,null,null,0]
[null,null,null,null,null,null,null,null,null,null,null,null,null,null,null,null,null,null,null,null,null,null,null,null,null,null,null,null,null,null,null,null,null,null,null,null,null,null,null,null,null,0]
[null,null,null,null,null,null,null,null,null,null,null,null,null,null,null,null,null,null,null,null,null,null,null,null,null,null,null,null,null,null,null,null,null,null,null,null,null,null,null,null,null,0]
[null,null,null,null,null,null,null,null,null,null,null,null,null,null,null,null,null,null,null,null,null,null,null,null,null,null,null,null,null,null,null,null,null,null,null,null,null,null,null,null,null,0]
[null,null,null,null,null,null,null,null,null,null,null,null,null,null,null,null,null,null,null,null,null,null,null,null,null,null,null,null,null,null,null,null,null,null,null,null,null,null,null,null,null,0]
[null,null,null,null,null,null,null,null,null,null,null,null,null,null,null,null,null,null,null,null,null,null,null,null,null,null,null,null,null,null,null,null,null,null,null,null,null,null,null,null,null,0]
[null,null,null,null,null,null,null,null,null,null,null,null,null,null,null,null,null,null,null,null,null,null,null,null,null,null,null,null,null,null,null,null,null,null,null,null,null,null,null,null,null,0]
[null,null,null,null,null,null,null,null,null,null,null,null,null,null,null,null,null,null,null,null,null,null,null,null,null,null,null,null,null,null,null,null,null,null,null,null,null,null,null,null,null,0]
[null,null,null,null,null,null,null,null,null,null,null,null,null,null,null,null,null,null,null,null,null,null,null,null,null,null,null,null,null,null,null,null,null,null,null,null,null,null,null,null,null,0]
[null,null,null,null,null,null,null,null,null,null,null,null,null,null,null,null,null,null,null,null,null,null,null,null,null,null,null,null,null,null,null,null,null,null,null,null,null,null,null,null,null,0]
[null,null,null,null,null,null,null,null,null,null,null,null,null,null,null,null,null,null,null,null,null,null,null,null,null,null,null,null,null,null,null,null,null,null,null,null,null,null,null,null,null,0]
[null,null,null,null,null,null,null,null,null,null,null,null,null,null,null,null,null,null,null,null,null,null,null,null,null,null,null,null,null,null,null,null,null,null,null,null,null,null,null,null,null,0]
[null,null,null,null,null,null,null,null,null,null,null,null,null,null,null,null,null,null,null,null,null,null,null,null,null,null,null,null,null,null,null,null,null,null,null,null,null,null,null,null,null,0]
[null,null,null,null,null,null,null,null,null,null,null,null,null,null,null,null,null,null,null,null,null,null,null,null,null,null,null,null,null,null,null,null,null,null,null,null,null,null,null,null,null,0]
[null,null,null,null,null,null,null,null,null,null,null,null,null,null,null,null,null,null,null,null,null,null,null,null,null,null,null,null,null,null,null,null,null,null,null,null,null,null,null,null,null,0]
[null,null,null,null,null,null,null,null,null,null,null,null,null,null,null,null,null,null,null,null,null,null,null,null,null,null,null,null,null,null,null,null,null,null,null,null,null,null,null,null,null,0]
[null,null,null,null,null,null,null,null,null,null,null,null,null,null,null,null,null,null,null,null,null,null,null,null,null,null,null,null,null,null,null,null,null,null,null,null,null,null,null,null,null,0]
[null,null,null,null,null,null,null,null,null,null,null,null,null,null,null,null,null,null,null,null,null,null,null,null,null,null,null,null,null,null,null,null,null,null,null,null,null,null,null,null,null,0]
[null,null,null,null,null,null,null,null,null,null,null,null,null,null,null,null,null,null,null,null,null,null,null,null,null,null,null,null,null,null,null,null,null,null,null,null,null,null,null,null,null,0]
[null,null,null,null,null,null,null,null,null,null,null,null,null,null,null,null,null,null,null,null,null,null,null,null,null,null,null,null,null,null,null,null,null,null,null,null,null,null,null,null,null,0]
[null,null,null,null,null,null,null,null,null,null,null,null,null,null,null,null,null,null,null,null,null,null,null,null,null,null,null,null,null,null,null,null,null,null,null,null,null,null,null,null,null,0]
[null,null,null,null,null,null,null,null,null,null,null,null,null,null,null,null,null,null,null,null,null,null,null,null,null,null,null,null,null,null,null,null,null,null,null,null,null,null,null,null,null,0]
[null,null,null,null,null,null,null,null,null,null,null,null,null,null,null,null,null,null,null,null,null,null,null,null,null,null,null,null,null,null,null,null,null,null,null,null,null,null,null,null,null,0]
[null,null,null,null,null,null,null,null,null,null,null,null,null,null,null,null,null,null,null,null,null,null,null,null,null,null,null,null,null,null,null,null,null,null,null,null,null,null,null,null,null,0]
[null,null,null,null,null,null,null,null,null,null,null,null,null,null,null,null,null,null,null,null,null,null,null,null,null,null,null,null,null,null,null,null,null,null,null,null,null,null,null,null,null,0]
[null,null,null,null,null,null,null,null,null,null,null,null,null,null,null,null,null,null,null,null,null,null,null,null,null,null,null,null,null,null,null,null,null,null,null,null,null,null,null,null,null,0]
[null,null,null,null,null,null,null,null,null,null,null,null,null,null,null,null,null,null,null,null,null,null,null,null,null,null,null,null,null,null,null,null,null,null,null,null,null,null,null,null,null,0]
[null,null,null,null,null,null,null,null,null,null,null,null,null,null,null,null,null,null,null,null,null,null,null,null,null,null,null,null,null,null,null,null,null,null,null,null,null,null,null,null,null,0]
[null,null,null,null,null,null,null,null,null,null,null,null,null,null,null,null,null,null,null,null,null,null,null,null,null,null,null,null,null,null,null,null,null,null,null,null,null,null,null,null,null,0]
[null,null,null,null,null,null,null,null,null,null,null,null,null,null,null,null,null,null,null,null,null,null,null,null,null,null,null,null,null,null,null,null,null,null,null,null,null,null,null,null,null,0]
[null,null,null,null,null,null,null,null,null,null,null,null,null,null,null,null,null,null,null,null,null,null,null,null,null,null,null,null,null,null,null,null,null,null,null,null,null,null,null,null,null,0]
[null,null,null,null,null,null,null,null,null,null,null,null,null,null,null,null,null,null,null,null,null,null,null,null,null,null,null,null,null,null,null,null,null,null,null,null,null,null,null,null,null,0]
[null,null,null,null,null,null,null,null,null,null,null,null,null,null,null,null,null,null,null,null,null,null,null,null,null,null,null,null,null,null,null,null,null,null,null,null,null,null,null,null,null,0]
[null,null,null,null,null,null,null,null,null,null,null,null,null,null,null,null,null,null,null,null,null,null,null,null,null,null,null,null,null,null,null,null,null,null,null,null,null,null,null,null,null,0]
[null,null,null,null,null,null,null,null,null,null,null,null,null,null,null,null,null,null,null,null,null,null,null,null,null,null,null,null,null,null,null,null,null,null,null,null,null,null,null,null,null,0]
[null,null,null,null,null,null,null,null,null,null,null,null,null,null,null,null,null,null,null,null,null,null,null,null,null,null,null,null,null,null,null,null,null,null,null,null,null,null,null,null,null,0]
[null,null,null,null,null,null,null,null,null,null,null,null,null,null,null,null,null,null,null,null,null,null,null,null,null,null,null,null,null,null,null,null,null,null,null,null,null,null,null,null,null,0]
[null,null,null,null,null,null,null,null,null,null,null,null,null,null,null,null,null,null,null,null,null,null,null,null,null,null,null,null,null,null,null,null,null,null,null,null,null,null,null,null,null,0]
[null,null,null,null,null,null,null,null,null,null,null,null,null,null,null,null,null,null,null,null,null,null,null,null,null,null,null,null,null,null,null,null,null,null,null,null,null,null,null,null,null,0]
[null,null,null,null,null,null,null,null,null,null,null,null,null,null,null,null,null,null,null,null,null,null,null,null,null,null,null,null,null,null,null,null,null,null,null,null,null,null,null,null,null,0]
[null,null,null,null,null,null,null,null,null,null,null,null,null,null,null,null,null,null,null,null,null,null,null,null,null,null,null,null,null,null,null,null,null,null,null,null,null,null,null,null,null,0]
[null,null,null,null,null,null,null,null,null,null,null,null,null,null,null,null,null,null,null,null,null,null,null,null,null,null,null,null,null,null,null,null,null,null,null,null,null,null,null,null,null,0]
[null,null,null,null,null,null,null,null,null,null,null,null,null,null,null,null,null,null,null,null,null,null,null,null,null,null,null,null,null,null,null,null,null,null,null,null,null,null,null,null,null,0]
[null,null,null,null,null,null,null,null,null,null,null,null,null,null,null,null,null,null,null,null,null,null,null,null,null,null,null,null,null,null,null,null,null,null,null,null,null,null,null,null,null,0]
[null,null,null,null,null,null,null,null,null,null,null,null,null,null,null,null,null,null,null,null,null,null,null,null,null,null,null,null,null,null,null,null,null,null,null,null,null,null,null,null,null,0]
[null,null,null,null,null,null,null,null,null,null,null,null,null,null,null,null,null,null,null,null,null,null,null,null,null,null,null,null,null,null,null,null,null,null,null,null,null,null,null,null,null,0]
[null,null,null,null,null,null,null,null,null,null,null,null,null,null,null,null,null,null,null,null,null,null,null,null,null,null,null,null,null,null,null,null,null,null,null,null,null,null,null,null,null,0]
[null,null,null,null,null,null,null,null,null,null,null,null,null,null,null,null,null,null,null,null,null,null,null,null,null,null,null,null,null,null,null,null,null,null,null,null,null,null,null,null,null,0]
[null,null,null,null,null,null,null,null,null,null,null,null,null,null,null,null,null,null,null,null,null,null,null,null,null,null,null,null,null,null,null,null,null,null,null,null,null,null,null,null,null,0]
[null,null,null,null,null,null,null,null,null,null,null,null,null,null,null,null,null,null,null,null,null,null,null,null,null,null,null,null,null,null,null,null,null,null,null,null,null,null,null,null,null,0]
[null,null,null,null,null,null,null,null,null,null,null,null,null,null,null,null,null,null,null,null,null,null,null,null,null,null,null,null,null,null,null,null,null,null,null,null,null,null,null,null,null,0]
[null,null,null,null,null,null,null,null,null,null,null,null,null,null,null,null,null,null,null,null,null,null,null,null,null,null,null,null,null,null,null,null,null,null,null,null,null,null,null,null,null,0]
[null,null,null,null,null,null,null,null,null,null,null,null,null,null,null,null,null,null,null,null,null,null,null,null,null,null,null,null,null,null,null,null,null,null,null,null,null,null,null,null,null,0]
[null,null,null,null,null,null,null,null,null,null,null,null,null,null,null,null,null,null,null,null,null,null,null,null,null,null,null,null,null,null,null,null,null,null,null,null,null,null,null,null,null,0]
[null,null,null,null,null,null,null,null,null,null,null,null,null,null,null,null,null,null,null,null,null,null,null,null,null,null,null,null,null,null,null,null,null,null,null,null,null,null,null,null,null,0]
[null,null,null,null,null,null,null,null,null,null,null,null,null,null,null,null,null,null,null,null,null,null,null,null,null,null,null,null,null,null,null,null,null,null,null,null,null,null,null,null,null,0]
[null,null,null,null,null,null,null,null,null,null,null,null,null,null,null,null,null,null,null,null,null,null,null,null,null,null,null,null,null,null,null,null,null,null,null,null,null,null,null,null,null,0]
[null,null,null,null,null,null,null,null,null,null,null,null,null,null,null,null,null,null,null,null,null,null,null,null,null,null,null,null,null,null,null,null,null,null,null,null,null,null,null,null,null,0]
[null,null,null,null,null,null,null,null,null,null,null,null,null,null,null,null,null,null,null,null,null,null,null,null,null,null,null,null,null,null,null,null,null,null,null,null,null,null,null,null,null,0]
[null,null,null,null,null,null,null,null,null,null,null,null,null,null,null,null,null,null,null,null,null,null,null,null,null,null,null,null,null,null,null,null,null,null,null,null,null,null,null,null,null,0]
[null,null,null,null,null,null,null,null,null,null,null,null,null,null,null,null,null,null,null,null,null,null,null,null,null,null,null,null,null,null,null,null,null,null,null,null,null,null,null,null,null,0]
[null,null,null,null,null,null,null,null,null,null,null,null,null,null,null,null,null,null,null,null,null,null,null,null,null,null,null,null,null,null,null,null,null,null,null,null,null,null,null,null,null,0]
[null,null,null,null,null,null,null,null,null,null,null,null,null,null,null,null,null,null,null,null,null,null,null,null,null,null,null,null,null,null,null,null,null,null,null,null,null,null,null,null,null,0]
[null,null,null,null,null,null,null,null,null,null,null,null,null,null,null,null,null,null,null,null,null,null,null,null,null,null,null,null,null,null,null,null,null,null,null,null,null,null,null,null,null,0]
[null,null,null,null,null,null,null,null,null,null,null,null,null,null,null,null,null,null,null,null,null,null,null,null,null,null,null,null,null,null,null,null,null,null,null,null,null,null,null,null,null,0]
[null,null,null,null,null,null,null,null,null,null,null,null,null,null,null,null,null,null,null,null,null,null,null,null,null,null,null,null,null,null,null,null,null,null,null,null,null,null,null,null,null,0]
[null,null,null,null,null,null,null,null,null,null,null,null,null,null,null,null,null,null,null,null,null,null,null,null,null,null,null,null,null,null,null,null,null,null,null,null,null,null,null,null,null,0]
[null,null,null,null,null,null,null,null,null,null,null,null,null,null,null,null,null,null,null,null,null,null,null,null,null,null,null,null,null,null,null,null,null,null,null,null,null,null,null,null,null,0]
[null,null,null,null,null,null,null,null,null,null,null,null,null,null,null,null,null,null,null,null,null,null,null,null,null,null,null,null,null,null,null,null,null,null,null,null,null,null,null,null,null,0]
[null,null,null,null,null,null,null,null,null,null,null,null,null,null,null,null,null,null,null,null,null,null,null,null,null,null,null,null,null,null,null,null,null,null,null,null,null,null,null,null,null,0]
[null,null,null,null,null,null,null,null,null,null,null,null,null,null,null,null,null,null,null,null,null,null,null,null,null,null,null,null,null,null,null,null,null,null,null,null,null,null,null,null,null,0]
[null,null,null,null,null,null,null,null,null,null,null,null,null,null,null,null,null,null,null,null,null,null,null,null,null,null,null,null,null,null,null,null,null,null,null,null,null,null,null,null,null,0]
[null,null,null,null,null,null,null,null,null,null,null,null,null,null,null,null,null,null,null,null,null,null,null,null,null,null,null,null,null,null,null,null,null,null,null,null,null,null,null,null,null,0]
[null,null,null,null,null,null,null,null,null,null,null,null,null,null,null,null,null,null,null,null,null,null,null,null,null,null,null,null,null,null,null,null,null,null,null,null,null,null,null,null,null,0]
[null,null,null,null,null,null,null,null,null,null,null,null,null,null,null,null,null,null,null,null,null,null,null,null,null,null,null,null,null,null,null,null,null,null,null,null,null,null,null,null,null,0]
[null,null,null,null,null,null,null,null,null,null,null,null,null,null,null,null,null,null,null,null,null,null,null,null,null,null,null,null,null,null,null,null,null,null,null,null,null,null,null,null,null,0]
[null,null,null,null,null,null,null,null,null,null,null,null,null,null,null,null,null,null,null,null,null,null,null,null,null,null,null,null,null,null,null,null,null,null,null,null,null,null,null,null,null,0]
[null,null,null,null,null,null,null,null,null,null,null,null,null,null,null,null,null,null,null,null,null,null,null,null,null,null,null,null,null,null,null,null,null,null,null,null,null,null,null,null,null,0]
[null,null,null,null,null,null,null,null,null,null,null,null,null,null,null,null,null,null,null,null,null,null,null,null,null,null,null,null,null,null,null,null,null,null,null,null,null,null,null,null,null,0]
[null,null,null,null,null,null,null,null,null,null,null,null,null,null,null,null,null,null,null,null,null,null,null,null,null,null,null,null,null,null,null,null,null,null,null,null,null,null,null,null,null,0]
[null,null,null,null,null,null,null,null,null,null,null,null,null,null,null,null,null,null,null,null,null,null,null,null,null,null,null,null,null,null,null,null,null,null,null,null,null,null,null,null,null,0]
[null,null,null,null,null,null,null,null,null,null,null,null,null,null,null,null,null,null,null,null,null,null,null,null,null,null,null,null,null,null,null,null,null,null,null,null,null,null,null,null,null,0]
[null,null,null,null,null,null,null,null,null,null,null,null,null,null,null,null,null,null,null,null,null,null,null,null,null,null,null,null,null,null,null,null,null,null,null,null,null,null,null,null,null,0]
[null,null,null,null,null,null,null,null,null,null,null,null,null,null,null,null,null,null,null,null,null,null,null,null,null,null,null,null,null,null,null,null,null,null,null,null,null,null,null,null,null,0]
[null,null,null,null,null,null,null,null,null,null,null,null,null,null,null,null,null,null,null,null,null,null,null,null,null,null,null,null,null,null,null,null,null,null,null,null,null,null,null,null,null,0]
[null,null,null,null,null,null,null,null,null,null,null,null,null,null,null,null,null,null,null,null,null,null,null,null,null,null,null,null,null,null,null,null,null,null,null,null,null,null,null,null,null,0]
[null,null,null,null,null,null,null,null,null,null,null,null,null,null,null,null,null,null,null,null,null,null,null,null,null,null,null,null,null,null,null,null,null,null,null,null,null,null,null,null,null,0]
[null,null,null,null,null,null,null,null,null,null,null,null,null,null,null,null,null,null,null,null,null,null,null,null,null,null,null,null,null,null,null,null,null,null,null,null,null,null,null,null,null,0]
[null,null,null,null,null,null,null,null,null,null,null,null,null,null,null,null,null,null,null,null,null,null,null,null,null,null,null,null,null,null,null,null,null,null,null,null,null,null,null,null,null,0]
[null,null,null,null,null,null,null,null,null,null,null,null,null,null,null,null,null,null,null,null,null,null,null,null,null,null,null,null,null,null,null,null,null,null,null,null,null,null,null,null,null,0]
[null,null,null,null,null,null,null,null,null,null,null,null,null,null,null,null,null,null,null,null,null,null,null,null,null,null,null,null,null,null,null,null,null,null,null,null,null,null,null,null,null,0]
[null,null,null,null,null,null,null,null,null,null,null,null,null,null,null,null,null,null,null,null,null,null,null,null,null,null,null,null,null,null,null,null,null,null,null,null,null,null,null,null,null,0]
[null,null,null,null,null,null,null,null,null,null,null,null,null,null,null,null,null,null,null,null,null,null,null,null,null,null,null,null,null,null,null,null,null,null,null,null,null,null,null,null,null,0]
[null,null,null,null,null,null,null,null,null,null,null,null,null,null,null,null,null,null,null,null,null,null,null,null,null,null,null,null,null,null,null,null,null,null,null,null,null,null,null,null,null,0]
[null,null,null,null,null,null,null,null,null,null,null,null,null,null,null,null,null,null,null,null,null,null,null,null,null,null,null,null,null,null,null,null,null,null,null,null,null,null,null,null,null,0]
[null,null,null,null,null,null,null,null,null,null,null,null,null,null,null,null,null,null,null,null,null,null,null,null,null,null,null,null,null,null,null,null,null,null,null,null,null,null,null,null,null,0]
[null,null,null,null,null,null,null,null,null,null,null,null,null,null,null,null,null,null,null,null,null,null,null,null,null,null,null,null,null,null,null,null,null,null,null,null,null,null,null,null,null,0]
[null,null,null,null,null,null,null,null,null,null,null,null,null,null,null,null,null,null,null,null,null,null,null,null,null,null,null,null,null,null,null,null,null,null,null,null,null,null,null,null,null,0]
[null,null,null,null,null,null,null,null,null,null,null,null,null,null,null,null,null,null,null,null,null,null,null,null,null,null,null,null,null,null,null,null,null,null,null,null,null,null,null,null,null,0]
[null,null,null,null,null,null,null,null,null,null,null,null,null,null,null,null,null,null,null,null,null,null,null,null,null,null,null,null,null,null,null,null,null,null,null,null,null,null,null,null,null,0]
[null,null,null,null,null,null,null,null,null,null,null,null,null,null,null,null,null,null,null,null,null,null,null,null,null,null,null,null,null,null,null,null,null,null,null,null,null,null,null,null,null,0]
[null,null,null,null,null,null,null,null,null,null,null,null,null,null,null,null,null,null,null,null,null,null,null,null,null,null,null,null,null,null,null,null,null,null,null,null,null,null,null,null,null,0]
[null,null,null,null,null,null,null,null,null,null,null,null,null,null,null,null,null,null,null,null,null,null,null,null,null,null,null,null,null,null,null,null,null,null,null,null,null,null,null,null,null,0]
[null,null,null,null,null,null,null,null,null,null,null,null,null,null,null,null,null,null,null,null,null,null,null,null,null,null,null,null,null,null,null,null,null,null,null,null,null,null,null,null,null,0]
[null,null,null,null,null,null,null,null,null,null,null,null,null,null,null,null,null,null,null,null,null,null,null,null,null,null,null,null,null,null,null,null,null,null,null,null,null,null,null,null,null,0]
[null,null,null,null,null,null,null,null,null,null,null,null,null,null,null,null,null,null,null,null,null,null,null,null,null,null,null,null,null,null,null,null,null,null,null,null,null,null,null,null,null,0]
[null,null,null,null,null,null,null,null,null,null,null,null,null,null,null,null,null,null,null,null,null,null,null,null,null,null,null,null,null,null,null,null,null,null,null,null,null,null,null,null,null,0]
[null,null,null,null,null,null,null,null,null,null,null,null,null,null,null,null,null,null,null,null,null,null,null,null,null,null,null,null,null,null,null,null,null,null,null,null,null,null,null,null,null,0]
[null,null,null,null,null,null,null,null,null,null,null,null,null,null,null,null,null,null,null,null,null,null,null,null,null,null,null,null,null,null,null,null,null,null,null,null,null,null,null,null,null,0]
[null,null,null,null,null,null,null,null,null,null,null,null,null,null,null,null,null,null,null,null,null,null,null,null,null,null,null,null,null,null,null,null,null,null,null,null,null,null,null,null,null,0]
[null,null,null,null,null,null,null,null,null,null,null,null,null,null,null,null,null,null,null,null,null,null,null,null,null,null,null,null,null,null,null,null,null,null,null,null,null,null,null,null,null,0]
[null,null,null,null,null,null,null,null,null,null,null,null,null,null,null,null,null,null,null,null,null,null,null,null,null,null,null,null,null,null,null,null,null,null,null,null,null,null,null,null,null,0]
[null,null,null,null,null,null,null,null,null,null,null,null,null,null,null,null,null,null,null,null,null,null,null,null,null,null,null,null,null,null,null,null,null,null,null,null,null,null,null,null,null,0]
[null,null,null,null,null,null,null,null,null,null,null,null,null,null,null,null,null,null,null,null,null,null,null,null,null,null,null,null,null,null,null,null,null,null,null,null,null,null,null,null,null,0]
[null,null,null,null,null,null,null,null,null,null,null,null,null,null,null,null,null,null,null,null,null,null,null,null,null,null,null,null,null,null,null,null,null,null,null,null,null,null,null,null,null,0]
[null,null,null,null,null,null,null,null,null,null,null,null,null,null,null,null,null,null,null,null,null,null,null,null,null,null,null,null,null,null,null,null,null,null,null,null,null,null,null,null,null,0]
[null,null,null,null,null,null,null,null,null,null,null,null,null,null,null,null,null,null,null,null,null,null,null,null,null,null,null,null,null,null,null,null,null,null,null,null,null,null,null,null,null,0]
[null,null,null,null,null,null,null,null,null,null,null,null,null,null,null,null,null,null,null,null,null,null,null,null,null,null,null,null,null,null,null,null,null,null,null,null,null,null,null,null,null,0]
[null,null,null,null,null,null,null,null,null,null,null,null,null,null,null,null,null,null,null,null,null,null,null,null,null,null,null,null,null,null,null,null,null,null,null,null,null,null,null,null,null,0]
[null,null,null,null,null,null,null,null,null,null,null,null,null,null,null,null,null,null,null,null,null,null,null,null,null,null,null,null,null,null,null,null,null,null,null,null,null,null,null,null,null,0]
[null,null,null,null,null,null,null,null,null,null,null,null,null,null,null,null,null,null,null,null,null,null,null,null,null,null,null,null,null,null,null,null,null,null,null,null,null,null,null,null,null,0]
[null,null,null,null,null,null,null,null,null,null,null,null,null,null,null,null,null,null,null,null,null,null,null,null,null,null,null,null,null,null,null,null,null,null,null,null,null,null,null,null,null,0]
[null,null,null,null,null,null,null,null,null,null,null,null,null,null,null,null,null,null,null,null,null,null,null,null,null,null,null,null,null,null,null,null,null,null,null,null,null,null,null,null,null,0]
[null,null,null,null,null,null,null,null,null,null,null,null,null,null,null,null,null,null,null,null,null,null,null,null,null,null,null,null,null,null,null,null,null,null,null,null,null,null,null,null,null,0]
[null,null,null,null,null,null,null,null,null,null,null,null,null,null,null,null,null,null,null,null,null,null,null,null,null,null,null,null,null,null,null,null,null,null,null,null,null,null,null,null,null,0]
[null,null,null,null,null,null,null,null,null,null,null,null,null,null,null,null,null,null,null,null,null,null,null,null,null,null,null,null,null,null,null,null,null,null,null,null,null,null,null,null,null,0]
[null,null,null,null,null,null,null,null,null,null,null,null,null,null,null,null,null,null,null,null,null,null,null,null,null,null,null,null,null,null,null,null,null,null,null,null,null,null,null,null,null,0]
[null,null,null,null,null,null,null,null,null,null,null,null,null,null,null,null,null,null,null,null,null,null,null,null,null,null,null,null,null,null,null,null,null,null,null,null,null,null,null,null,null,0]
[null,null,null,null,null,null,null,null,null,null,null,null,null,null,null,null,null,null,null,null,null,null,null,null,null,null,null,null,null,null,null,null,null,null,null,null,null,null,null,null,null,0]
[null,null,null,null,null,null,null,null,null,null,null,null,null,null,null,null,null,null,null,null,null,null,null,null,null,null,null,null,null,null,null,null,null,null,null,null,null,null,null,null,null,0]
[null,null,null,null,null,null,null,null,null,null,null,null,null,null,null,null,null,null,null,null,null,null,null,null,null,null,null,null,null,null,null,null,null,null,null,null,null,null,null,null,null,0]
[null,null,null,null,null,null,null,null,null,null,null,null,null,null,null,null,null,null,null,null,null,null,null,null,null,null,null,null,null,null,null,null,null,null,null,null,null,null,null,null,null,0]
[null,null,null,null,null,null,null,null,null,null,null,null,null,null,null,null,null,null,null,null,null,null,null,null,null,null,null,null,null,null,null,null,null,null,null,null,null,null,null,null,null,0]
[null,null,null,null,null,null,null,null,null,null,null,null,null,null,null,null,null,null,null,null,null,null,null,null,null,null,null,null,null,null,null,null,null,null,null,null,null,null,null,null,null,0]
[null,null,null,null,null,null,null,null,null,null,null,null,null,null,null,null,null,null,null,null,null,null,null,null,null,null,null,null,null,null,null,null,null,null,null,null,null,null,null,null,null,0]
[null,null,null,null,null,null,null,null,null,null,null,null,null,null,null,null,null,null,null,null,null,null,null,null,null,null,null,null,null,null,null,null,null,null,null,null,null,null,null,null,null,0]
[null,null,null,null,null,null,null,null,null,null,null,null,null,null,null,null,null,null,null,null,null,null,null,null,null,null,null,null,null,null,null,null,null,null,null,null,null,null,null,null,null,0]
[null,null,null,null,null,null,null,null,null,null,null,null,null,null,null,null,null,null,null,null,null,null,null,null,null,null,null,null,null,null,null,null,null,null,null,null,null,null,null,null,null,0]
[null,null,null,null,null,null,null,null,null,null,null,null,null,null,null,null,null,null,null,null,null,null,null,null,null,null,null,null,null,null,null,null,null,null,null,null,null,null,null,null,null,0]
[null,null,null,null,null,null,null,null,null,null,null,null,null,null,null,null,null,null,null,null,null,null,null,null,null,null,null,null,null,null,null,null,null,null,null,null,null,null,null,null,null,0]
[null,null,null,null,null,null,null,null,null,null,null,null,null,null,null,null,null,null,null,null,null,null,null,null,null,null,null,null,null,null,null,null,null,null,null,null,null,null,null,null,null,0]
[null,null,null,null,null,null,null,null,null,null,null,null,null,null,null,null,null,null,null,null,null,null,null,null,null,null,null,null,null,null,null,null,null,null,null,null,null,null,null,null,null,0]
[null,null,null,null,null,null,null,null,null,null,null,null,null,null,null,null,null,null,null,null,null,null,null,null,null,null,null,null,null,null,null,null,null,null,null,null,null,null,null,null,null,0]
[null,null,null,null,null,null,null,null,null,null,null,null,null,null,null,null,null,null,null,null,null,null,null,null,null,null,null,null,null,null,null,null,null,null,null,null,null,null,null,null,null,0]
[null,null,null,null,null,null,null,null,null,null,null,null,null,null,null,null,null,null,null,null,null,null,null,null,null,null,null,null,null,null,null,null,null,null,null,null,null,null,null,null,null,0]
[null,null,null,null,null,null,null,null,null,null,null,null,null,null,null,null,null,null,null,null,null,null,null,null,null,null,null,null,null,null,null,null,null,null,null,null,null,null,null,null,null,0]
[null,null,null,null,null,null,null,null,null,null,null,null,null,null,null,null,null,null,null,null,null,null,null,null,null,null,null,null,null,null,null,null,null,null,null,null,null,null,null,null,null,0]
[null,null,null,null,null,null,null,null,null,null,null,null,null,null,null,null,null,null,null,null,null,null,null,null,null,null,null,null,null,null,null,null,null,null,null,null,null,null,null,null,null,0]
[null,null,null,null,null,null,null,null,null,null,null,null,null,null,null,null,null,null,null,null,null,null,null,null,null,null,null,null,null,null,null,null,null,null,null,null,null,null,null,null,null,0]
[null,null,null,null,null,null,null,null,null,null,null,null,null,null,null,null,null,null,null,null,null,null,null,null,null,null,null,null,null,null,null,null,null,null,null,null,null,null,null,null,null,0]
[null,null,null,null,null,null,null,null,null,null,null,null,null,null,null,null,null,null,null,null,null,null,null,null,null,null,null,null,null,null,null,null,null,null,null,null,null,null,null,null,null,0]
[null,null,null,null,null,null,null,null,null,null,null,null,null,null,null,null,null,null,null,null,null,null,null,null,null,null,null,null,null,null,null,null,null,null,null,null,null,null,null,null,null,0]
[null,null,null,null,null,null,null,null,null,null,null,null,null,null,null,null,null,null,null,null,null,null,null,null,null,null,null,null,null,null,null,null,null,null,null,null,null,null,null,null,null,0]
[null,null,null,null,null,null,null,null,null,null,null,null,null,null,null,null,null,null,null,null,null,null,null,null,null,null,null,null,null,null,null,null,null,null,null,null,null,null,null,null,null,0]
[null,null,null,null,null,null,null,null,null,null,null,null,null,null,null,null,null,null,null,null,null,null,null,null,null,null,null,null,null,null,null,null,null,null,null,null,null,null,null,null,null,0]
[null,null,null,null,null,null,null,null,null,null,null,null,null,null,null,null,null,null,null,null,null,null,null,null,null,null,null,null,null,null,null,null,null,null,null,null,null,null,null,null,null,0]
[null,null,null,null,null,null,null,null,null,null,null,null,null,null,null,null,null,null,null,null,null,null,null,null,null,null,null,null,null,null,null,null,null,null,null,null,null,null,null,null,null,0]
[null,null,null,null,null,null,null,null,null,null,null,null,null,null,null,null,null,null,null,null,null,null,null,null,null,null,null,null,null,null,null,null,null,null,null,null,null,null,null,null,null,0]
[null,null,null,null,null,null,null,null,null,null,null,null,null,null,null,null,null,null,null,null,null,null,null,null,null,null,null,null,null,null,null,null,null,null,null,null,null,null,null,null,null,0]
[null,null,null,null,null,null,null,null,null,null,null,null,null,null,null,null,null,null,null,null,null,null,null,null,null,null,null,null,null,null,null,null,null,null,null,null,null,null,null,null,null,0]
[null,null,null,null,null,null,null,null,null,null,null,null,null,null,null,null,null,null,null,null,null,null,null,null,null,null,null,null,null,null,null,null,null,null,null,null,null,null,null,null,null,0]
[null,null,null,null,null,null,null,null,null,null,null,null,null,null,null,null,null,null,null,null,null,null,null,null,null,null,null,null,null,null,null,null,null,null,null,null,null,null,null,null,null,0]
[null,null,null,null,null,null,null,null,null,null,null,null,null,null,null,null,null,null,null,null,null,null,null,null,null,null,null,null,null,null,null,null,null,null,null,null,null,null,null,null,null,0]
[null,null,null,null,null,null,null,null,null,null,null,null,null,null,null,null,null,null,null,null,null,null,null,null,null,null,null,null,null,null,null,null,null,null,null,null,null,null,null,null,null,0]
[null,null,null,null,null,null,null,null,null,null,null,null,null,null,null,null,null,null,null,null,null,null,null,null,null,null,null,null,null,null,null,null,null,null,null,null,null,null,null,null,null,0]
[null,null,null,null,null,null,null,null,null,null,null,null,null,null,null,null,null,null,null,null,null,null,null,null,null,null,null,null,null,null,null,null,null,null,null,null,null,null,null,null,null,0]
[null,null,null,null,null,null,null,null,null,null,null,null,null,null,null,null,null,null,null,null,null,null,null,null,null,null,null,null,null,null,null,null,null,null,null,null,null,null,null,null,null,0]
[null,null,null,null,null,null,null,null,null,null,null,null,null,null,null,null,null,null,null,null,null,null,null,null,null,null,null,null,null,null,null,null,null,null,null,null,null,null,null,null,null,0]
[null,null,null,null,null,null,null,null,null,null,null,null,null,null,null,null,null,null,null,null,null,null,null,null,null,null,null,null,null,null,null,null,null,null,null,null,null,null,null,null,null,0]
[null,null,null,null,null,null,null,null,null,null,null,null,null,null,null,null,null,null,null,null,null,null,null,null,null,null,null,null,null,null,null,null,null,null,null,null,null,null,null,null,null,0]
[null,null,null,null,null,null,null,null,null,null,null,null,null,null,null,null,null,null,null,null,null,null,null,null,null,null,null,null,null,null,null,null,null,null,null,null,null,null,null,null,null,0]
[null,null,null,null,null,null,null,null,null,null,null,null,null,null,null,null,null,null,null,null,null,null,null,null,null,null,null,null,null,null,null,null,null,null,null,null,null,null,null,null,null,0]
[null,null,null,null,null,null,null,null,null,null,null,null,null,null,null,null,null,null,null,null,null,null,null,null,null,null,null,null,null,null,null,null,null,null,null,null,null,null,null,null,null,0]
[null,null,null,null,null,null,null,null,null,null,null,null,null,null,null,null,null,null,null,null,null,null,null,null,null,null,null,null,null,null,null,null,null,null,null,null,null,null,null,null,null,0]
[null,null,null,null,null,null,null,null,null,null,null,null,null,null,null,null,null,null,null,null,null,null,null,null,null,null,null,null,null,null,null,null,null,null,null,null,null,null,null,null,null,0]
[null,null,null,null,null,null,null,null,null,null,null,null,null,null,null,null,null,null,null,null,null,null,null,null,null,null,null,null,null,null,null,null,null,null,null,null,null,null,null,null,null,0]
[null,null,null,null,null,null,null,null,null,null,null,null,null,null,null,null,null,null,null,null,null,null,null,null,null,null,null,null,null,null,null,null,null,null,null,null,null,null,null,null,null,0]
[null,null,null,null,null,null,null,null,null,null,null,null,null,null,null,null,null,null,null,null,null,null,null,null,null,null,null,null,null,null,null,null,null,null,null,null,null,null,null,null,null,0]
[null,null,null,null,null,null,null,null,null,null,null,null,null,null,null,null,null,null,null,null,null,null,null,null,null,null,null,null,null,null,null,null,null,null,null,null,null,null,null,null,null,0]
[null,null,null,null,null,null,null,null,null,null,null,null,null,null,null,null,null,null,null,null,null,null,null,null,null,null,null,null,null,null,null,null,null,null,null,null,null,null,null,null,null,0]
[null,null,null,null,null,null,null,null,null,null,null,null,null,null,null,null,null,null,null,null,null,null,null,null,null,null,null,null,null,null,null,null,null,null,null,null,null,null,null,null,null,0]
[null,null,null,null,null,null,null,null,null,null,null,null,null,null,null,null,null,null,null,null,null,null,null,null,null,null,null,null,null,null,null,null,null,null,null,null,null,null,null,null,null,0]
[null,null,null,null,null,null,null,null,null,null,null,null,null,null,null,null,null,null,null,null,null,null,null,null,null,null,null,null,null,null,null,null,null,null,null,null,null,null,null,null,null,0]
[null,null,null,null,null,null,null,null,null,null,null,null,null,null,null,null,null,null,null,null,null,null,null,null,null,null,null,null,null,null,null,null,null,null,null,null,null,null,null,null,null,0]
[null,null,null,null,null,null,null,null,null,null,null,null,null,null,null,null,null,null,null,null,null,null,null,null,null,null,null,null,null,null,null,null,null,null,null,null,null,null,null,null,null,0]
[null,null,null,null,null,null,null,null,null,null,null,null,null,null,null,null,null,null,null,null,null,null,null,null,null,null,null,null,null,null,null,null,null,null,null,null,null,null,null,null,null,0]
[null,null,null,null,null,null,null,null,null,null,null,null,null,null,null,null,null,null,null,null,null,null,null,null,null,null,null,null,null,null,null,null,null,null,null,null,null,null,null,null,null,0]
[null,null,null,null,null,null,null,null,null,null,null,null,null,null,null,null,null,null,null,null,null,null,null,null,null,null,null,null,null,null,null,null,null,null,null,null,null,null,null,null,null,0]
[null,null,null,null,null,null,null,null,null,null,null,null,null,null,null,null,null,null,null,null,null,null,null,null,null,null,null,null,null,null,null,null,null,null,null,null,null,null,null,null,null,0]
[null,null,null,null,null,null,null,null,null,null,null,null,null,null,null,null,null,null,null,null,null,null,null,null,null,null,null,null,null,null,null,null,null,null,null,null,null,null,null,null,null,0]
[null,null,null,null,null,null,null,null,null,null,null,null,null,null,null,null,null,null,null,null,null,null,null,null,null,null,null,null,null,null,null,null,null,null,null,null,null,null,null,null,null,0]
[null,null,null,null,null,null,null,null,null,null,null,null,null,null,null,null,null,null,null,null,null,null,null,null,null,null,null,null,null,null,null,null,null,null,null,null,null,null,null,null,null,0]
[null,null,null,null,null,null,null,null,null,null,null,null,null,null,null,null,null,null,null,null,null,null,null,null,null,null,null,null,null,null,null,null,null,null,null,null,null,null,null,null,null,0]
[null,null,null,null,null,null,null,null,null,null,null,null,null,null,null,null,null,null,null,null,null,null,null,null,null,null,null,null,null,null,null,null,null,null,null,null,null,null,null,null,null,0]
[null,null,null,null,null,null,null,null,null,null,null,null,null,null,null,null,null,null,null,null,null,null,null,null,null,null,null,null,null,null,null,null,null,null,null,null,null,null,null,null,null,0]
[null,null,null,null,null,null,null,null,null,null,null,null,null,null,null,null,null,null,null,null,null,null,null,null,null,null,null,null,null,null,null,null,null,null,null,null,null,null,null,null,null,0]
[null,null,null,null,null,null,null,null,null,null,null,null,null,null,null,null,null,null,null,null,null,null,null,null,null,null,null,null,null,null,null,null,null,null,null,null,null,null,null,null,null,0]
[null,null,null,null,null,null,null,null,null,null,null,null,null,null,null,null,null,null,null,null,null,null,null,null,null,null,null,null,null,null,null,null,null,null,null,null,null,null,null,null,null,0]
[null,null,null,null,null,null,null,null,null,null,null,null,null,null,null,null,null,null,null,null,null,null,null,null,null,null,null,null,null,null,null,null,null,null,null,null,null,null,null,null,null,0]
[null,null,null,null,null,null,null,null,null,null,null,null,null,null,null,null,null,null,null,null,null,null,null,null,null,null,null,null,null,null,null,null,null,null,null,null,null,null,null,null,null,0]
[null,null,null,null,null,null,null,null,null,null,null,null,null,null,null,null,null,null,null,null,null,null,null,null,null,null,null,null,null,null,null,null,null,null,null,null,null,null,null,null,null,0]
[null,null,null,null,null,null,null,null,null,null,null,null,null,null,null,null,null,null,null,null,null,null,null,null,null,null,null,null,null,null,null,null,null,null,null,null,null,null,null,null,null,0]
[null,null,null,null,null,null,null,null,null,null,null,null,null,null,null,null,null,null,null,null,null,null,null,null,null,null,null,null,null,null,null,null,null,null,null,null,null,null,null,null,null,0]
[null,null,null,null,null,null,null,null,null,null,null,null,null,null,null,null,null,null,null,null,null,null,null,null,null,null,null,null,null,null,null,null,null,null,null,null,null,null,null,null,null,0]
[null,null,null,null,null,null,null,null,null,null,null,null,null,null,null,null,null,null,null,null,null,null,null,null,null,null,null,null,null,null,null,null,null,null,null,null,null,null,null,null,null,0]
[null,null,null,null,null,null,null,null,null,null,null,null,null,null,null,null,null,null,null,null,null,null,null,null,null,null,null,null,null,null,null,null,null,null,null,null,null,null,null,null,null,0]
[null,null,null,null,null,null,null,null,null,null,null,null,null,null,null,null,null,null,null,null,null,null,null,null,null,null,null,null,null,null,null,null,null,null,null,null,null,null,null,null,null,0]
[null,null,null,null,null,null,null,null,null,null,null,null,null,null,null,null,null,null,null,null,null,null,null,null,null,null,null,null,null,null,null,null,null,null,null,null,null,null,null,null,null,0]
[null,null,null,null,null,null,null,null,null,null,null,null,null,null,null,null,null,null,null,null,null,null,null,null,null,null,null,null,null,null,null,null,null,null,null,null,null,null,null,null,null,0]
[null,null,null,null,null,null,null,null,null,null,null,null,null,null,null,null,null,null,null,null,null,null,null,null,null,null,null,null,null,null,null,null,null,null,null,null,null,null,null,null,null,0]
[null,null,null,null,null,null,null,null,null,null,null,null,null,null,null,null,null,null,null,null,null,null,null,null,null,null,null,null,null,null,null,null,null,null,null,null,null,null,null,null,null,0]
[null,null,null,null,null,null,null,null,null,null,null,null,null,null,null,null,null,null,null,null,null,null,null,null,null,null,null,null,null,null,null,null,null,null,null,null,null,null,null,null,null,0]
[null,null,null,null,null,null,null,null,null,null,null,null,null,null,null,null,null,null,null,null,null,null,null,null,null,null,null,null,null,null,null,null,null,null,null,null,null,null,null,null,null,0]
[null,null,null,null,null,null,null,null,null,null,null,null,null,null,null,null,null,null,null,null,null,null,null,null,null,null,null,null,null,null,null,null,null,null,null,null,null,null,null,null,null,0]
[null,null,null,null,null,null,null,null,null,null,null,null,null,null,null,null,null,null,null,null,null,null,null,null,null,null,null,null,null,null,null,null,null,null,null,null,null,null,null,null,null,0]
[null,null,null,null,null,null,null,null,null,null,null,null,null,null,null,null,null,null,null,null,null,null,null,null,null,null,null,null,null,null,null,null,null,null,null,null,null,null,null,null,null,0]
[null,null,null,null,null,null,null,null,null,null,null,null,null,null,null,null,null,null,null,null,null,null,null,null,null,null,null,null,null,null,null,null,null,null,null,null,null,null,null,null,null,0]
[null,null,null,null,null,null,null,null,null,null,null,null,null,null,null,null,null,null,null,null,null,null,null,null,null,null,null,null,null,null,null,null,null,null,null,null,null,null,null,null,null,0]
[null,null,null,null,null,null,null,null,null,null,null,null,null,null,null,null,null,null,null,null,null,null,null,null,null,null,null,null,null,null,null,null,null,null,null,null,null,null,null,null,null,0]
[null,null,null,null,null,null,null,null,null,null,null,null,null,null,null,null,null,null,null,null,null,null,null,null,null,null,null,null,null,null,null,null,null,null,null,null,null,null,null,null,null,0]
[null,null,null,null,null,null,null,null,null,null,null,null,null,null,null,null,null,null,null,null,null,null,null,null,null,null,null,null,null,null,null,null,null,null,null,null,null,null,null,null,null,0]
[null,null,null,null,null,null,null,null,null,null,null,null,null,null,null,null,null,null,null,null,null,null,null,null,null,null,null,null,null,null,null,null,null,null,null,null,null,null,null,null,null,0]
[null,null,null,null,null,null,null,null,null,null,null,null,null,null,null,null,null,null,null,null,null,null,null,null,null,null,null,null,null,null,null,null,null,null,null,null,null,null,null,null,null,0]
[null,null,null,null,null,null,null,null,null,null,null,null,null,null,null,null,null,null,null,null,null,null,null,null,null,null,null,null,null,null,null,null,null,null,null,null,null,null,null,null,null,0]
[null,null,null,null,null,null,null,null,null,null,null,null,null,null,null,null,null,null,null,null,null,null,null,null,null,null,null,null,null,null,null,null,null,null,null,null,null,null,null,null,null,0]
[null,null,null,null,null,null,null,null,null,null,null,null,null,null,null,null,null,null,null,null,null,null,null,null,null,null,null,null,null,null,null,null,null,null,null,null,null,null,null,null,null,0]
[null,null,null,null,null,null,null,null,null,null,null,null,null,null,null,null,null,null,null,null,null,null,null,null,null,null,null,null,null,null,null,null,null,null,null,null,null,null,null,null,null,0]
[null,null,null,null,null,null,null,null,null,null,null,null,null,null,null,null,null,null,null,null,null,null,null,null,null,null,null,null,null,null,null,null,null,null,null,null,null,null,null,null,null,0]
[null,null,null,null,null,null,null,null,null,null,null,null,null,null,null,null,null,null,null,null,null,null,null,null,null,null,null,null,null,null,null,null,null,null,null,null,null,null,null,null,null,0]
[null,null,null,null,null,null,null,null,null,null,null,null,null,null,null,null,null,null,null,null,null,null,null,null,null,null,null,null,null,null,null,null,null,null,null,null,null,null,null,null,null,0]
[null,null,null,null,null,null,null,null,null,null,null,null,null,null,null,null,null,null,null,null,null,null,null,null,null,null,null,null,null,null,null,null,null,null,null,null,null,null,null,null,null,0]
[null,null,null,null,null,null,null,null,null,null,null,null,null,null,null,null,null,null,null,null,null,null,null,null,null,null,null,null,null,null,null,null,null,null,null,null,null,null,null,null,null,0]
[null,null,null,null,null,null,null,null,null,null,null,null,null,null,null,null,null,null,null,null,null,null,null,null,null,null,null,null,null,null,null,null,null,null,null,null,null,null,null,null,null,0]
[null,null,null,null,null,null,null,null,null,null,null,null,null,null,null,null,null,null,null,null,null,null,null,null,null,null,null,null,null,null,null,null,null,null,null,null,null,null,null,null,null,0]
[null,null,null,null,null,null,null,null,null,null,null,null,null,null,null,null,null,null,null,null,null,null,null,null,null,null,null,null,null,null,null,null,null,null,null,null,null,null,null,null,null,0]
[null,null,null,null,null,null,null,null,null,null,null,null,null,null,null,null,null,null,null,null,null,null,null,null,null,null,null,null,null,null,null,null,null,null,null,null,null,null,null,null,null,0]
[null,null,null,null,null,null,null,null,null,null,null,null,null,null,null,null,null,null,null,null,null,null,null,null,null,null,null,null,null,null,null,null,null,null,null,null,null,null,null,null,null,0]
[null,null,null,null,null,null,null,null,null,null,null,null,null,null,null,null,null,null,null,null,null,null,null,null,null,null,null,null,null,null,null,null,null,null,null,null,null,null,null,null,null,0]
[null,null,null,null,null,null,null,null,null,null,null,null,null,null,null,null,null,null,null,null,null,null,null,null,null,null,null,null,null,null,null,null,null,null,null,null,null,null,null,null,null,0]
[null,null,null,null,null,null,null,null,null,null,null,null,null,null,null,null,null,null,null,null,null,null,null,null,null,null,null,null,null,null,null,null,null,null,null,null,null,null,null,null,null,0]
[null,null,null,null,null,null,null,null,null,null,null,null,null,null,null,null,null,null,null,null,null,null,null,null,null,null,null,null,null,null,null,null,null,null,null,null,null,null,null,null,null,0]
[null,null,null,null,null,null,null,null,null,null,null,null,null,null,null,null,null,null,null,null,null,null,null,null,null,null,null,null,null,null,null,null,null,null,null,null,null,null,null,null,null,0]
[null,null,null,null,null,null,null,null,null,null,null,null,null,null,null,null,null,null,null,null,null,null,null,null,null,null,null,null,null,null,null,null,null,null,null,null,null,null,null,null,null,0]
[null,null,null,null,null,null,null,null,null,null,null,null,null,null,null,null,null,null,null,null,null,null,null,null,null,null,null,null,null,null,null,null,null,null,null,null,null,null,null,null,null,0]
[null,null,null,null,null,null,null,null,null,null,null,null,null,null,null,null,null,null,null,null,null,null,null,null,null,null,null,null,null,null,null,null,null,null,null,null,null,null,null,null,null,0]
[null,null,null,null,null,null,null,null,null,null,null,null,null,null,null,null,null,null,null,null,null,null,null,null,null,null,null,null,null,null,null,null,null,null,null,null,null,null,null,null,null,0]
[null,null,null,null,null,null,null,null,null,null,null,null,null,null,null,null,null,null,null,null,null,null,null,null,null,null,null,null,null,null,null,null,null,null,null,null,null,null,null,null,null,0]
[null,null,null,null,null,null,null,null,null,null,null,null,null,null,null,null,null,null,null,null,null,null,null,null,null,null,null,null,null,null,null,null,null,null,null,null,null,null,null,null,null,0]
[null,null,null,null,null,null,null,null,null,null,null,null,null,null,null,null,null,null,null,null,null,null,null,null,null,null,null,null,null,null,null,null,null,null,null,null,null,null,null,null,null,0]
[null,null,null,null,null,null,null,null,null,null,null,null,null,null,null,null,null,null,null,null,null,null,null,null,null,null,null,null,null,null,null,null,null,null,null,null,null,null,null,null,null,0]
[null,null,null,null,null,null,null,null,null,null,null,null,null,null,null,null,null,null,null,null,null,null,null,null,null,null,null,null,null,null,null,null,null,null,null,null,null,null,null,null,null,0]
[null,null,null,null,null,null,null,null,null,null,null,null,null,null,null,null,null,null,null,null,null,null,null,null,null,null,null,null,null,null,null,null,null,null,null,null,null,null,null,null,null,0]
[null,null,null,null,null,null,null,null,null,null,null,null,null,null,null,null,null,null,null,null,null,null,null,null,null,null,null,null,null,null,null,null,null,null,null,null,null,null,null,null,null,0]
[null,null,null,null,null,null,null,null,null,null,null,null,null,null,null,null,null,null,null,null,null,null,null,null,null,null,null,null,null,null,null,null,null,null,null,null,null,null,null,null,null,0]
[null,null,null,null,null,null,null,null,null,null,null,null,null,null,null,null,null,null,null,null,null,null,null,null,null,null,null,null,null,null,null,null,null,null,null,null,null,null,null,null,null,0]
[null,null,null,null,null,null,null,null,null,null,null,null,null,null,null,null,null,null,null,null,null,null,null,null,null,null,null,null,null,null,null,null,null,null,null,null,null,null,null,null,null,0]
[null,null,null,null,null,null,null,null,null,null,null,null,null,null,null,null,null,null,null,null,null,null,null,null,null,null,null,null,null,null,null,null,null,null,null,null,null,null,null,null,null,0]
[null,null,null,null,null,null,null,null,null,null,null,null,null,null,null,null,null,null,null,null,null,null,null,null,null,null,null,null,null,null,null,null,null,null,null,null,null,null,null,null,null,0]
[null,null,null,null,null,null,null,null,null,null,null,null,null,null,null,null,null,null,null,null,null,null,null,null,null,null,null,null,null,null,null,null,null,null,null,null,null,null,null,null,null,0]
[null,null,null,null,null,null,null,null,null,null,null,null,null,null,null,null,null,null,null,null,null,null,null,null,null,null,null,null,null,null,null,null,null,null,null,null,null,null,null,null,null,0]
[null,null,null,null,null,null,null,null,null,null,null,null,null,null,null,null,null,null,null,null,null,null,null,null,null,null,null,null,null,null,null,null,null,null,null,null,null,null,null,null,null,0]
[null,null,null,null,null,null,null,null,null,null,null,null,null,null,null,null,null,null,null,null,null,null,null,null,null,null,null,null,null,null,null,null,null,null,null,null,null,null,null,null,null,0]
[null,null,null,null,null,null,null,null,null,null,null,null,null,null,null,null,null,null,null,null,null,null,null,null,null,null,null,null,null,null,null,null,null,null,null,null,null,null,null,null,null,0]
[null,null,null,null,null,null,null,null,null,null,null,null,null,null,null,null,null,null,null,null,null,null,null,null,null,null,null,null,null,null,null,null,null,null,null,null,null,null,null,null,null,0]
[null,null,null,null,null,null,null,null,null,null,null,null,null,null,null,null,null,null,null,null,null,null,null,null,null,null,null,null,null,null,null,null,null,null,null,null,null,null,null,null,null,0]
[null,null,null,null,null,null,null,null,null,null,null,null,null,null,null,null,null,null,null,null,null,null,null,null,null,null,null,null,null,null,null,null,null,null,null,null,null,null,null,null,null,0]
[null,null,null,null,null,null,null,null,null,null,null,null,null,null,null,null,null,null,null,null,null,null,null,null,null,null,null,null,null,null,null,null,null,null,null,null,null,null,null,null,null,0]

{"sheet":"Error Messages","index":4,"n_rows":109,"n_cols":23,"rows_kept":109,"cut":false,"hidden":false,"merged":[[12,0,12,5],[8,9,8,11],[0,0,0,12],[3,9,3,11],[108,0,108,13],[16,1,16,11],[3,4,3,6],[4,9,4,11],[4,4,4,6],[5,9,5,11],[5,4,5,6],[6,9,6,11],[6,4,6,6],[7,9,7,11],[7,4,7,6],[8,4,8,6],[9,4,9,6],[10,4,10,6],[15,1,15,11],[35,1,35,11],[17,1,17,11],[18,1,18,11],[19,1,19,11],[20,1,20,11],[21,1,21,11],[22,1,22,11],[30,1,30,11],[31,1,31,11],[32,1,32,11],[33,1,33,11],[34,1,34,11],[47,1,47,11],[36,1,36,11],[37,1,37,11],[38,1,38,11],[39,1,39,11],[40,1,40,11],[41,1,41,11],[42,1,42,11],[43,1,43,11],[44,1,44,11],[45,1,45,11],[46,1,46,11],[80,1,80,11],[59,1,59,11],[48,1,48,11],[49,1,49,11],[50,1,50,11],[51,1,51,11],[52,1,52,11],[53,1,53,11],[54,1,54,11],[55,1,55,11],[56,1,56,11],[57,1,57,11],[58,1,58,11],[89,1,89,11],[83,1,83,11],[81,1,81,11],[82,1,82,11],[71,1,71,11],[60,1,60,11],[61,1,61,11],[62,1,62,11],[63,1,63,11],[64,1,64,11],[65,1,65,11],[66,1,66,11],[67,1,67,11],[68,1,68,11],[69,1,69,11],[70,1,70,11],[72,1,72,11],[73,1,73,11],[74,1,74,11],[75,1,75,11],[76,1,76,11],[77,1,77,11],[78,1,78,11],[79,1,79,11],[13,0,13,2],[2,9,2,12],[2,4,2,7],[92,1,92,11],[0,13,104,13],[102,1,102,11],[103,1,103,11],[104,1,104,11],[96,1,96,11],[97,1,97,11],[98,1,98,11],[99,1,99,11],[100,1,100,11],[101,1,101,11],[95,1,95,11],[84,1,84,11],[93,1,93,11],[94,1,94,11],[85,1,85,11],[86,1,86,11],[87,1,87,11],[90,1,90,11],[91,1,91,11],[88,1,88,11]]}
[{"$f":"\"IDEA LEA Exiting Data for School Year \"&'Exiting (LEA FS009)'!E12&\" - \"&'Select LEA'!F6","v":"IDEA LEA Exiting Data for School Year  - "},null,null,null,null,null,null,null,null,null,null,null,null,"End of worksheet"]
[]
[null,null,null,null,"Triggered edit checks",null,null,null,null,"Triggered edit checks"]
[null,null,null,null,"Subtotals",null,null,"Count",null,"Category set",null,null,"Count",null,null,null,"Only use these on the edit checks",null,null,null,null,{"$f":"IFERROR(INDEX(#REF!, SMALL(IF($C$2=#REF!, ROW(#REF!)-MIN(ROW(#REF!))+1, \"\"), ROW(A1))),\"\")","v":""}]
[null,null,null,null,"1 - Basis of exit",null,null,{"$f":"IF(Subtotals!R15=0,\"\",Subtotals!R15)","v":""},null,"A - Basis of exit, disability category, and age",null,null,{"$f":"IF(SUM('Category Sets A-D'!M14:M32)=0,\"\",SUM('Category Sets A-D'!M14:M32))","v":""},null,null,null,"Have a 1-line note if there are any errors on the raw data page."]
[null,null,null,null,"2 - Age ",null,null,{"$f":"IF(Subtotals!R16=0,\"\",Subtotals!R16)","v":""},null,"B - Basis of exit and racial ethnic",null,null,{"$f":"IF(SUM('Category Sets A-D'!M39:M58)=0,\"\",SUM('Category Sets A-D'!M39:M58))","v":""}]
[null,null,null,null,"3 - Racial ethnic",null,null,{"$f":"IF(Subtotals!R17=0,\"\",Subtotals!R17)","v":""},null,"C - Basis of exit and sex",null,null,{"$f":"IF(SUM('Category Sets A-D'!M64:M77)=0,\"\",SUM('Category Sets A-D'!M64:M77))","v":""}]
[null,null,null,null,"4 - Sex",null,null,{"$f":"IF(Subtotals!R18=0,\"\",Subtotals!R18)","v":""},null,"D - Basis of exit and English learner (LEP) status",null,null,{"$f":"IF(SUM('Category Sets A-D'!M89:M102)=0,\"\",SUM('Category Sets A-D'!M89:M102))","v":""}]
[null,null,null,null,"5 - English learner (LEP) status ",null,null,{"$f":"IF(Subtotals!R19=0,\"\",Subtotals!R19)","v":""},null,"Total",null,null,{"$f":"SUM(M5:M8)","v":0}]
[null,null,null,null,"6 - Disability category (IDEA) exiting",null,null,{"$f":"IF(Subtotals!R20=0,\"\",Subtotals!R20)","v":""}]
[null,null,null,null,"Total",null,null,{"$f":"SUM(H5:H10)","v":0}]
[]
[{"$f":"\"           LEA name:  \"&'Select LEA'!$F$6","v":"           LEA name:  "}]
[{"$f":"\"     LEA identifier:  \"&'Select LEA'!$F$7","v":"     LEA identifier:  "},null,null,null,null,null,null,null,null,null,null,null,null,null,null,null,null,null,null,null,1]
[null,null,null,null,null,null,null,null,null,null,null,null,null,null,null,null,null,null,{"$f":"IFERROR(INDEX(Subtotals!$Q$15:$Q$20, SMALL(IF($U$14=Subtotals!$R$15:$R$20, ROW(Subtotals!$R$15:$R$20)-MIN(ROW(Subtotals!$R$15:$R$20))+1, \"\"), ROW(A1))),\"\")","v":""},{"$f":"IFERROR(INDEX(Subtotals!$U$15:$U$20, SMALL(IF($U$14=Subtotals!$R$15:$R$20, ROW(Subtotals!$R$15:$R$20)-MIN(ROW(Subtotals!$R$15:$R$20))+1, \"\"), ROW(A1))),\"\")","v":""},{"$f":"IFERROR(INDEX(Subtotals!$S$15:$S$20, SMALL(IF($U$14=Subtotals!$R$15:$R$20, ROW(Subtotals!$R$15:$R$20)-MIN(ROW(Subtotals!$R$15:$R$20))+1, \"\"), ROW(A1))),\"\")","v":""},{"$f":"IFERROR(INDEX(Subtotals!$T$15:$T$20, SMALL(IF($U$14=Subtotals!$R$15:$R$20, ROW(Subtotals!$R$15:$R$20)-MIN(ROW(Subtotals!$R$15:$R$20))+1, \"\"), ROW(A1))),\"\")","v":""}]
["Subtotals","Triggered edit checks",null,null,null,null,null,null,null,null,null,null,"Student\ncount",null,null,null,null,null,{"$f":"IFERROR(INDEX(Subtotals!$Q$15:$Q$20, SMALL(IF($U$14=Subtotals!$R$15:$R$20, ROW(Subtotals!$R$15:$R$20)-MIN(ROW(Subtotals!$R$15:$R$20))+1, \"\"), ROW(A2))),\"\")","v":""},{"$f":"IFERROR(INDEX(Subtotals!$U$15:$U$20, SMALL(IF($U$14=Subtotals!$R$15:$R$20, ROW(Subtotals!$R$15:$R$20)-MIN(ROW(Subtotals!$R$15:$R$20))+1, \"\"), ROW(A2))),\"\")","v":""},{"$f":"IFERROR(INDEX(Subtotals!$S$15:$S$20, SMALL(IF($U$14=Subtotals!$R$15:$R$20, ROW(Subtotals!$R$15:$R$20)-MIN(ROW(Subtotals!$R$15:$R$20))+1, \"\"), ROW(A2))),\"\")","v":""},{"$f":"IFERROR(INDEX(Subtotals!$T$15:$T$20, SMALL(IF($U$14=Subtotals!$R$15:$R$20, ROW(Subtotals!$R$15:$R$20)-MIN(ROW(Subtotals!$R$15:$R$20))+1, \"\"), ROW(A2))),\"\")","v":""}]
[{"$f":"V15","v":""},{"$f":"T15","v":""},null,null,null,null,null,null,null,null,null,null,{"$f":"IF(S15=\"\",\"\",HYPERLINK(CONCATENATE(\"#\",\"'Subtotals'!\",S15),U15))","v":""},null,null,null,null,null,{"$f":"IFERROR(INDEX(Subtotals!$Q$15:$Q$20, SMALL(IF($U$14=Subtotals!$R$15:$R$20, ROW(Subtotals!$R$15:$R$20)-MIN(ROW(Subtotals!$R$15:$R$20))+1, \"\"), ROW(A3))),\"\")","v":""},{"$f":"IFERROR(INDEX(Subtotals!$U$15:$U$20, SMALL(IF($U$14=Subtotals!$R$15:$R$20, ROW(Subtotals!$R$15:$R$20)-MIN(ROW(Subtotals!$R$15:$R$20))+1, \"\"), ROW(A3))),\"\")","v":""},{"$f":"IFERROR(INDEX(Subtotals!$S$15:$S$20, SMALL(IF($U$14=Subtotals!$R$15:$R$20, ROW(Subtotals!$R$15:$R$20)-MIN(ROW(Subtotals!$R$15:$R$20))+1, \"\"), ROW(A3))),\"\")","v":""},{"$f":"IFERROR(INDEX(Subtotals!$T$15:$T$20, SMALL(IF($U$14=Subtotals!$R$15:$R$20, ROW(Subtotals!$R$15:$R$20)-MIN(ROW(Subtotals!$R$15:$R$20))+1, \"\"), ROW(A3))),\"\")","v":""}]
[{"$f":"V16","v":""},"",null,null,null,null,null,null,null,null,null,null,{"$f":"IF(S16=\"\",\"\",HYPERLINK(CONCATENATE(\"#\",\"'Subtotals'!\",S16),U16))","v":""},null,null,null,null,null,{"$f":"IFERROR(INDEX(Subtotals!$Q$15:$Q$20, SMALL(IF($U$14=Subtotals!$R$15:$R$20, ROW(Subtotals!$R$15:$R$20)-MIN(ROW(Subtotals!$R$15:$R$20))+1, \"\"), ROW(A4))),\"\")","v":""},{"$f":"IFERROR(INDEX(Subtotals!$U$15:$U$20, SMALL(IF($U$14=Subtotals!$R$15:$R$20, ROW(Subtotals!$R$15:$R$20)-MIN(ROW(Subtotals!$R$15:$R$20))+1, \"\"), ROW(A4))),\"\")","v":""},{"$f":"IFERROR(INDEX(Subtotals!$S$15:$S$20, SMALL(IF($U$14=Subtotals!$R$15:$R$20, ROW(Subtotals!$R$15:$R$20)-MIN(ROW(Subtotals!$R$15:$R$20))+1, \"\"), ROW(A4))),\"\")","v":""},{"$f":"IFERROR(INDEX(Subtotals!$T$15:$T$20, SMALL(IF($U$14=Subtotals!$R$15:$R$20, ROW(Subtotals!$R$15:$R$20)-MIN(ROW(Subtotals!$R$15:$R$20))+1, \"\"), ROW(A4))),\"\")","v":""}]
[{"$f":"V17","v":""},"",null,null,null,null,null,null,null,null,null,null,"",null,null,null,null,null,{"$f":"IFERROR(INDEX(Subtotals!$Q$15:$Q$20, SMALL(IF($U$14=Subtotals!$R$15:$R$20, ROW(Subtotals!$R$15:$R$20)-MIN(ROW(Subtotals!$R$15:$R$20))+1, \"\"), ROW(A5))),\"\")","v":""},{"$f":"IFERROR(INDEX(Subtotals!$U$15:$U$20, SMALL(IF($U$14=Subtotals!$R$15:$R$20, ROW(Subtotals!$R$15:$R$20)-MIN(ROW(Subtotals!$R$15:$R$20))+1, \"\"), ROW(A5))),\"\")","v":""},{"$f":"IFERROR(INDEX(Subtotals!$S$15:$S$20, SMALL(IF($U$14=Subtotals!$R$15:$R$20, ROW(Subtotals!$R$15:$R$20)-MIN(ROW(Subtotals!$R$15:$R$20))+1, \"\"), ROW(A5))),\"\")","v":""},{"$f":"IFERROR(INDEX(Subtotals!$T$15:$T$20, SMALL(IF($U$14=Subtotals!$R$15:$R$20, ROW(Subtotals!$R$15:$R$20)-MIN(ROW(Subtotals!$R$15:$R$20))+1, \"\"), ROW(A5))),\"\")","v":""}]
["","",null,null,null,null,null,null,null,null,null,null,"",null,null,null,null,null,{"$f":"IFERROR(INDEX(Subtotals!$Q$15:$Q$20, SMALL(IF($U$14=Subtotals!$R$15:$R$20, ROW(Subtotals!$R$15:$R$20)-MIN(ROW(Subtotals!$R$15:$R$20))+1, \"\"), ROW(A6))),\"\")","v":""},{"$f":"IFERROR(INDEX(Subtotals!$U$15:$U$20, SMALL(IF($U$14=Subtotals!$R$15:$R$20, ROW(Subtotals!$R$15:$R$20)-MIN(ROW(Subtotals!$R$15:$R$20))+1, \"\"), ROW(A6))),\"\")","v":""},{"$f":"IFERROR(INDEX(Subtotals!$S$15:$S$20, SMALL(IF($U$14=Subtotals!$R$15:$R$20, ROW(Subtotals!$R$15:$R$20)-MIN(ROW(Subtotals!$R$15:$R$20))+1, \"\"), ROW(A6))),\"\")","v":""},{"$f":"IFERROR(INDEX(Subtotals!$T$15:$T$20, SMALL(IF($U$14=Subtotals!$R$15:$R$20, ROW(Subtotals!$R$15:$R$20)-MIN(ROW(Subtotals!$R$15:$R$20))+1, \"\"), ROW(A6))),\"\")","v":""}]
["","",null,null,null,null,null,null,null,null,null,null,"",null,null,null,null,null,null,"","",""]
["","",null,null,null,null,null,null,null,null,null,null,"",null,null,null,null,null,null,"","",""]
["","",null,null,null,null,null,null,null,null,null,null,""]
["",null,null,null,null,null,null,null,null,null,null,null,""]
[null,null,null,null,null,null,null,null,null,null,null,null,""]
[null,null,null,null,null,null,null,null,null,null,null,null,""]
[null,null,null,null,null,null,null,null,null,null,null,null,""]
[null,null,null,null,null,null,null,null,null,null,null,null,""]
[null,null,null,null,null,null,null,null,null,null,null,null,""]
[]
["Category sets","Triggered edit checks",null,null,null,null,null,null,null,null,null,null,"Student\ncount"]
[{"$f":"V32","v":""},{"$f":"IF(W32=1,\"No Data\",T32)","v":""},null,null,null,null,null,null,null,null,null,null,{"$f":"IF(S32=\"\",\"\",HYPERLINK(CONCATENATE(\"#\",\"'Category Sets A-D'!\",S32),U32))","v":""},null,null,null,null,null,{"$f":"IFERROR(INDEX('Category Sets A-D'!$L$14:$L$102, SMALL(IF($U$14='Category Sets A-D'!$M$14:$M$102, ROW('Category Sets A-D'!$M$14:$M$102)-MIN(ROW('Category Sets A-D'!$M$14:$M$102))+1, \"\"), ROW(A1))),\"\")","v":""},{"$f":"IFERROR(INDEX('Category Sets A-D'!$P$14:$P$102, SMALL(IF($U$14='Category Sets A-D'!$M$14:$M$102, ROW('Category Sets A-D'!$M$14:$M$102)-MIN(ROW('Category Sets A-D'!$M$14:$M$102))+1, \"\"), ROW(A1))),\"\")","v":""},{"$f":"IFERROR(INDEX('Category Sets A-D'!$N$14:$N$102, SMALL(IF($U$14='Category Sets A-D'!$M$14:$M$102, ROW('Category Sets A-D'!$M$14:$M$102)-MIN(ROW('Category Sets A-D'!$M$14:$M$102))+1, \"\"), ROW(A1))),\"\")","v":""},{"$f":"IFERROR(INDEX('Category Sets A-D'!$O$14:$O$102, SMALL(IF($U$14='Category Sets A-D'!$M$14:$M$102, ROW('Category Sets A-D'!$M$14:$M$102)-MIN(ROW('Category Sets A-D'!$M$14:$M$102))+1, \"\"), ROW(A1))),\"\")","v":""},{"$f":"IF(U32=\"No Data\",1,0)","v":0}]
[{"$f":"V33","v":""},{"$f":"IF(W33=1,\"No Data\",T33)","v":""},null,null,null,null,null,null,null,null,null,null,"",null,null,null,null,null,{"$f":"IFERROR(INDEX('Category Sets A-D'!$L$14:$L$102, SMALL(IF($U$14='Category Sets A-D'!$M$14:$M$102, ROW('Category Sets A-D'!$M$14:$M$102)-MIN(ROW('Category Sets A-D'!$M$14:$M$102))+1, \"\"), ROW(A2))),\"\")","v":""},{"$f":"IFERROR(INDEX('Category Sets A-D'!$P$14:$P$102, SMALL(IF($U$14='Category Sets A-D'!$M$14:$M$102, ROW('Category Sets A-D'!$M$14:$M$102)-MIN(ROW('Category Sets A-D'!$M$14:$M$102))+1, \"\"), ROW(A2))),\"\")","v":""},{"$f":"IFERROR(INDEX('Category Sets A-D'!$N$14:$N$102, SMALL(IF($U$14='Category Sets A-D'!$M$14:$M$102, ROW('Category Sets A-D'!$M$14:$M$102)-MIN(ROW('Category Sets A-D'!$M$14:$M$102))+1, \"\"), ROW(A2))),\"\")","v":""},{"$f":"IFERROR(INDEX('Category Sets A-D'!$O$14:$O$102, SMALL(IF($U$14='Category Sets A-D'!$M$14:$M$102, ROW('Category Sets A-D'!$M$14:$M$102)-MIN(ROW('Category Sets A-D'!$M$14:$M$102))+1, \"\"), ROW(A2))),\"\")","v":""},{"$f":"IF(U33=\"No Data\",1,0)","v":0}]
["","",null,null,null,null,null,null,null,null,null,null,"",null,null,null,null,null,{"$f":"IFERROR(INDEX('Category Sets A-D'!$L$14:$L$102, SMALL(IF($U$14='Category Sets A-D'!$M$14:$M$102, ROW('Category Sets A-D'!$M$14:$M$102)-MIN(ROW('Category Sets A-D'!$M$14:$M$102))+1, \"\"), ROW(A3))),\"\")","v":""},{"$f":"IFERROR(INDEX('Category Sets A-D'!$P$14:$P$102, SMALL(IF($U$14='Category Sets A-D'!$M$14:$M$102, ROW('Category Sets A-D'!$M$14:$M$102)-MIN(ROW('Category Sets A-D'!$M$14:$M$102))+1, \"\"), ROW(A3))),\"\")","v":""},{"$f":"IFERROR(INDEX('Category Sets A-D'!$N$14:$N$102, SMALL(IF($U$14='Category Sets A-D'!$M$14:$M$102, ROW('Category Sets A-D'!$M$14:$M$102)-MIN(ROW('Category Sets A-D'!$M$14:$M$102))+1, \"\"), ROW(A3))),\"\")","v":""},{"$f":"IFERROR(INDEX('Category Sets A-D'!$O$14:$O$102, SMALL(IF($U$14='Category Sets A-D'!$M$14:$M$102, ROW('Category Sets A-D'!$M$14:$M$102)-MIN(ROW('Category Sets A-D'!$M$14:$M$102))+1, \"\"), ROW(A3))),\"\")","v":""},0]
["","",null,null,null,null,null,null,null,null,null,null,"",null,null,null,null,null,{"$f":"IFERROR(INDEX('Category Sets A-D'!$L$14:$L$102, SMALL(IF($U$14='Category Sets A-D'!$M$14:$M$102, ROW('Category Sets A-D'!$M$14:$M$102)-MIN(ROW('Category Sets A-D'!$M$14:$M$102))+1, \"\"), ROW(A4))),\"\")","v":""},{"$f":"IFERROR(INDEX('Category Sets A-D'!$P$14:$P$102, SMALL(IF($U$14='Category Sets A-D'!$M$14:$M$102, ROW('Category Sets A-D'!$M$14:$M$102)-MIN(ROW('Category Sets A-D'!$M$14:$M$102))+1, \"\"), ROW(A4))),\"\")","v":""},{"$f":"IFERROR(INDEX('Category Sets A-D'!$N$14:$N$102, SMALL(IF($U$14='Category Sets A-D'!$M$14:$M$102, ROW('Category Sets A-D'!$M$14:$M$102)-MIN(ROW('Category Sets A-D'!$M$14:$M$102))+1, \"\"), ROW(A4))),\"\")","v":""},{"$f":"IFERROR(INDEX('Category Sets A-D'!$O$14:$O$102, SMALL(IF($U$14='Category Sets A-D'!$M$14:$M$102, ROW('Category Sets A-D'!$M$14:$M$102)-MIN(ROW('Category Sets A-D'!$M$14:$M$102))+1, \"\"), ROW(A4))),\"\")","v":""},0]
["","",null,null,null,null,null,null,null,null,null,null,"",null,null,null,null,null,{"$f":"IFERROR(INDEX('Category Sets A-D'!$L$14:$L$102, SMALL(IF($U$14='Category Sets A-D'!$M$14:$M$102, ROW('Category Sets A-D'!$M$14:$M$102)-MIN(ROW('Category Sets A-D'!$M$14:$M$102))+1, \"\"), ROW(A5))),\"\")","v":""},{"$f":"IFERROR(INDEX('Category Sets A-D'!$P$14:$P$102, SMALL(IF($U$14='Category Sets A-D'!$M$14:$M$102, ROW('Category Sets A-D'!$M$14:$M$102)-MIN(ROW('Category Sets A-D'!$M$14:$M$102))+1, \"\"), ROW(A5))),\"\")","v":""},{"$f":"IFERROR(INDEX('Category Sets A-D'!$N$14:$N$102, SMALL(IF($U$14='Category Sets A-D'!$M$14:$M$102, ROW('Category Sets A-D'!$M$14:$M$102)-MIN(ROW('Category Sets A-D'!$M$14:$M$102))+1, \"\"), ROW(A5))),\"\")","v":""},{"$f":"IFERROR(INDEX('Category Sets A-D'!$O$14:$O$102, SMALL(IF($U$14='Category Sets A-D'!$M$14:$M$102, ROW('Category Sets A-D'!$M$14:$M$102)-MIN(ROW('Category Sets A-D'!$M$14:$M$102))+1, \"\"), ROW(A5))),\"\")","v":""},0]
["","",null,null,null,null,null,null,null,null,null,null,"",null,null,null,null,null,{"$f":"IFERROR(INDEX('Category Sets A-D'!$L$14:$L$102, SMALL(IF($U$14='Category Sets A-D'!$M$14:$M$102, ROW('Category Sets A-D'!$M$14:$M$102)-MIN(ROW('Category Sets A-D'!$M$14:$M$102))+1, \"\"), ROW(A6))),\"\")","v":""},{"$f":"IFERROR(INDEX('Category Sets A-D'!$P$14:$P$102, SMALL(IF($U$14='Category Sets A-D'!$M$14:$M$102, ROW('Category Sets A-D'!$M$14:$M$102)-MIN(ROW('Category Sets A-D'!$M$14:$M$102))+1, \"\"), ROW(A6))),\"\")","v":""},{"$f":"IFERROR(INDEX('Category Sets A-D'!$N$14:$N$102, SMALL(IF($U$14='Category Sets A-D'!$M$14:$M$102, ROW('Category Sets A-D'!$M$14:$M$102)-MIN(ROW('Category Sets A-D'!$M$14:$M$102))+1, \"\"), ROW(A6))),\"\")","v":""},{"$f":"IFERROR(INDEX('Category Sets A-D'!$O$14:$O$102, SMALL(IF($U$14='Category Sets A-D'!$M$14:$M$102, ROW('Category Sets A-D'!$M$14:$M$102)-MIN(ROW('Category Sets A-D'!$M$14:$M$102))+1, \"\"), ROW(A6))),\"\")","v":""},0]
["","",null,null,null,null,null,null,null,null,null,null,"",null,null,null,null,null,{"$f":"IFERROR(INDEX('Category Sets A-D'!$L$14:$L$102, SMALL(IF($U$14='Category Sets A-D'!$M$14:$M$102, ROW('Category Sets A-D'!$M$14:$M$102)-MIN(ROW('Category Sets A-D'!$M$14:$M$102))+1, \"\"), ROW(A7))),\"\")","v":""},{"$f":"IFERROR(INDEX('Category Sets A-D'!$P$14:$P$102, SMALL(IF($U$14='Category Sets A-D'!$M$14:$M$102, ROW('Category Sets A-D'!$M$14:$M$102)-MIN(ROW('Category Sets A-D'!$M$14:$M$102))+1, \"\"), ROW(A7))),\"\")","v":""},{"$f":"IFERROR(INDEX('Category Sets A-D'!$N$14:$N$102, SMALL(IF($U$14='Category Sets A-D'!$M$14:$M$102, ROW('Category Sets A-D'!$M$14:$M$102)-MIN(ROW('Category Sets A-D'!$M$14:$M$102))+1, \"\"), ROW(A7))),\"\")","v":""},{"$f":"IFERROR(INDEX('Category Sets A-D'!$O$14:$O$102, SMALL(IF($U$14='Category Sets A-D'!$M$14:$M$102, ROW('Category Sets A-D'!$M$14:$M$102)-MIN(ROW('Category Sets A-D'!$M$14:$M$102))+1, \"\"), ROW(A7))),\"\")","v":""},0]
["","",null,null,null,null,null,null,null,null,null,null,"",null,null,null,null,null,{"$f":"IFERROR(INDEX('Category Sets A-D'!$L$14:$L$102, SMALL(IF($U$14='Category Sets A-D'!$M$14:$M$102, ROW('Category Sets A-D'!$M$14:$M$102)-MIN(ROW('Category Sets A-D'!$M$14:$M$102))+1, \"\"), ROW(A8))),\"\")","v":""},{"$f":"IFERROR(INDEX('Category Sets A-D'!$P$14:$P$102, SMALL(IF($U$14='Category Sets A-D'!$M$14:$M$102, ROW('Category Sets A-D'!$M$14:$M$102)-MIN(ROW('Category Sets A-D'!$M$14:$M$102))+1, \"\"), ROW(A8))),\"\")","v":""},{"$f":"IFERROR(INDEX('Category Sets A-D'!$N$14:$N$102, SMALL(IF($U$14='Category Sets A-D'!$M$14:$M$102, ROW('Category Sets A-D'!$M$14:$M$102)-MIN(ROW('Category Sets A-D'!$M$14:$M$102))+1, \"\"), ROW(A8))),\"\")","v":""},{"$f":"IFERROR(INDEX('Category Sets A-D'!$O$14:$O$102, SMALL(IF($U$14='Category Sets A-D'!$M$14:$M$102, ROW('Category Sets A-D'!$M$14:$M$102)-MIN(ROW('Category Sets A-D'!$M$14:$M$102))+1, \"\"), ROW(A8))),\"\")","v":""},0]
["","",null,null,null,null,null,null,null,null,null,null,"",null,null,null,null,null,{"$f":"IFERROR(INDEX('Category Sets A-D'!$L$14:$L$102, SMALL(IF($U$14='Category Sets A-D'!$M$14:$M$102, ROW('Category Sets A-D'!$M$14:$M$102)-MIN(ROW('Category Sets A-D'!$M$14:$M$102))+1, \"\"), ROW(A9))),\"\")","v":""},{"$f":"IFERROR(INDEX('Category Sets A-D'!$P$14:$P$102, SMALL(IF($U$14='Category Sets A-D'!$M$14:$M$102, ROW('Category Sets A-D'!$M$14:$M$102)-MIN(ROW('Category Sets A-D'!$M$14:$M$102))+1, \"\"), ROW(A9))),\"\")","v":""},{"$f":"IFERROR(INDEX('Category Sets A-D'!$N$14:$N$102, SMALL(IF($U$14='Category Sets A-D'!$M$14:$M$102, ROW('Category Sets A-D'!$M$14:$M$102)-MIN(ROW('Category Sets A-D'!$M$14:$M$102))+1, \"\"), ROW(A9))),\"\")","v":""},{"$f":"IFERROR(INDEX('Category Sets A-D'!$O$14:$O$102, SMALL(IF($U$14='Category Sets A-D'!$M$14:$M$102, ROW('Category Sets A-D'!$M$14:$M$102)-MIN(ROW('Category Sets A-D'!$M$14:$M$102))+1, \"\"), ROW(A9))),\"\")","v":""},0]
["","",null,null,null,null,null,null,null,null,null,null,"",null,null,null,null,null,{"$f":"IFERROR(INDEX('Category Sets A-D'!$L$14:$L$102, SMALL(IF($U$14='Category Sets A-D'!$M$14:$M$102, ROW('Category Sets A-D'!$M$14:$M$102)-MIN(ROW('Category Sets A-D'!$M$14:$M$102))+1, \"\"), ROW(A10))),\"\")","v":""},{"$f":"IFERROR(INDEX('Category Sets A-D'!$P$14:$P$102, SMALL(IF($U$14='Category Sets A-D'!$M$14:$M$102, ROW('Category Sets A-D'!$M$14:$M$102)-MIN(ROW('Category Sets A-D'!$M$14:$M$102))+1, \"\"), ROW(A10))),\"\")","v":""},{"$f":"IFERROR(INDEX('Category Sets A-D'!$N$14:$N$102, SMALL(IF($U$14='Category Sets A-D'!$M$14:$M$102, ROW('Category Sets A-D'!$M$14:$M$102)-MIN(ROW('Category Sets A-D'!$M$14:$M$102))+1, \"\"), ROW(A10))),\"\")","v":""},{"$f":"IFERROR(INDEX('Category Sets A-D'!$O$14:$O$102, SMALL(IF($U$14='Category Sets A-D'!$M$14:$M$102, ROW('Category Sets A-D'!$M$14:$M$102)-MIN(ROW('Category Sets A-D'!$M$14:$M$102))+1, \"\"), ROW(A10))),\"\")","v":""},0]
["","",null,null,null,null,null,null,null,null,null,null,"",null,null,null,null,null,{"$f":"IFERROR(INDEX('Category Sets A-D'!$L$14:$L$102, SMALL(IF($U$14='Category Sets A-D'!$M$14:$M$102, ROW('Category Sets A-D'!$M$14:$M$102)-MIN(ROW('Category Sets A-D'!$M$14:$M$102))+1, \"\"), ROW(A11))),\"\")","v":""},{"$f":"IFERROR(INDEX('Category Sets A-D'!$P$14:$P$102, SMALL(IF($U$14='Category Sets A-D'!$M$14:$M$102, ROW('Category Sets A-D'!$M$14:$M$102)-MIN(ROW('Category Sets A-D'!$M$14:$M$102))+1, \"\"), ROW(A11))),\"\")","v":""},{"$f":"IFERROR(INDEX('Category Sets A-D'!$N$14:$N$102, SMALL(IF($U$14='Category Sets A-D'!$M$14:$M$102, ROW('Category Sets A-D'!$M$14:$M$102)-MIN(ROW('Category Sets A-D'!$M$14:$M$102))+1, \"\"), ROW(A11))),\"\")","v":""},{"$f":"IFERROR(INDEX('Category Sets A-D'!$O$14:$O$102, SMALL(IF($U$14='Category Sets A-D'!$M$14:$M$102, ROW('Category Sets A-D'!$M$14:$M$102)-MIN(ROW('Category Sets A-D'!$M$14:$M$102))+1, \"\"), ROW(A11))),\"\")","v":""},0]
["","",null,null,null,null,null,null,null,null,null,null,"",null,null,null,null,null,{"$f":"IFERROR(INDEX('Category Sets A-D'!$L$14:$L$102, SMALL(IF($U$14='Category Sets A-D'!$M$14:$M$102, ROW('Category Sets A-D'!$M$14:$M$102)-MIN(ROW('Category Sets A-D'!$M$14:$M$102))+1, \"\"), ROW(A12))),\"\")","v":""},{"$f":"IFERROR(INDEX('Category Sets A-D'!$P$14:$P$102, SMALL(IF($U$14='Category Sets A-D'!$M$14:$M$102, ROW('Category Sets A-D'!$M$14:$M$102)-MIN(ROW('Category Sets A-D'!$M$14:$M$102))+1, \"\"), ROW(A12))),\"\")","v":""},{"$f":"IFERROR(INDEX('Category Sets A-D'!$N$14:$N$102, SMALL(IF($U$14='Category Sets A-D'!$M$14:$M$102, ROW('Category Sets A-D'!$M$14:$M$102)-MIN(ROW('Category Sets A-D'!$M$14:$M$102))+1, \"\"), ROW(A12))),\"\")","v":""},{"$f":"IFERROR(INDEX('Category Sets A-D'!$O$14:$O$102, SMALL(IF($U$14='Category Sets A-D'!$M$14:$M$102, ROW('Category Sets A-D'!$M$14:$M$102)-MIN(ROW('Category Sets A-D'!$M$14:$M$102))+1, \"\"), ROW(A12))),\"\")","v":""},0]
["",{"$f":"IF(W44=1,\"No Data\",T44)","v":""},null,null,null,null,null,null,null,null,null,null,"",null,null,null,null,null,{"$f":"IFERROR(INDEX('Category Sets A-D'!$L$14:$L$102, SMALL(IF($U$14='Category Sets A-D'!$M$14:$M$102, ROW('Category Sets A-D'!$M$14:$M$102)-MIN(ROW('Category Sets A-D'!$M$14:$M$102))+1, \"\"), ROW(#REF!))),\"\")","v":""},{"$f":"IFERROR(INDEX('Category Sets A-D'!$P$14:$P$102, SMALL(IF($U$14='Category Sets A-D'!$M$14:$M$102, ROW('Category Sets A-D'!$M$14:$M$102)-MIN(ROW('Category Sets A-D'!$M$14:$M$102))+1, \"\"), ROW(#REF!))),\"\")","v":""},{"$f":"IFERROR(INDEX('Category Sets A-D'!$N$14:$N$102, SMALL(IF($U$14='Category Sets A-D'!$M$14:$M$102, ROW('Category Sets A-D'!$M$14:$M$102)-MIN(ROW('Category Sets A-D'!$M$14:$M$102))+1, \"\"), ROW(#REF!))),\"\")","v":""},{"$f":"IFERROR(INDEX('Category Sets A-D'!$O$14:$O$102, SMALL(IF($U$14='Category Sets A-D'!$M$14:$M$102, ROW('Category Sets A-D'!$M$14:$M$102)-MIN(ROW('Category Sets A-D'!$M$14:$M$102))+1, \"\"), ROW(#REF!))),\"\")","v":""},0]
["","",null,null,null,null,null,null,null,null,null,null,"",null,null,null,null,null,{"$f":"IFERROR(INDEX('Category Sets A-D'!$L$14:$L$102, SMALL(IF($U$14='Category Sets A-D'!$M$14:$M$102, ROW('Category Sets A-D'!$M$14:$M$102)-MIN(ROW('Category Sets A-D'!$M$14:$M$102))+1, \"\"), ROW(#REF!))),\"\")","v":""},{"$f":"IFERROR(INDEX('Category Sets A-D'!$P$14:$P$102, SMALL(IF($U$14='Category Sets A-D'!$M$14:$M$102, ROW('Category Sets A-D'!$M$14:$M$102)-MIN(ROW('Category Sets A-D'!$M$14:$M$102))+1, \"\"), ROW(#REF!))),\"\")","v":""},{"$f":"IFERROR(INDEX('Category Sets A-D'!$N$14:$N$102, SMALL(IF($U$14='Category Sets A-D'!$M$14:$M$102, ROW('Category Sets A-D'!$M$14:$M$102)-MIN(ROW('Category Sets A-D'!$M$14:$M$102))+1, \"\"), ROW(#REF!))),\"\")","v":""},{"$f":"IFERROR(INDEX('Category Sets A-D'!$O$14:$O$102, SMALL(IF($U$14='Category Sets A-D'!$M$14:$M$102, ROW('Category Sets A-D'!$M$14:$M$102)-MIN(ROW('Category Sets A-D'!$M$14:$M$102))+1, \"\"), ROW(#REF!))),\"\")","v":""},0]
["","",null,null,null,null,null,null,null,null,null,null,"",null,null,null,null,null,{"$f":"IFERROR(INDEX('Category Sets A-D'!$L$14:$L$102, SMALL(IF($U$14='Category Sets A-D'!$M$14:$M$102, ROW('Category Sets A-D'!$M$14:$M$102)-MIN(ROW('Category Sets A-D'!$M$14:$M$102))+1, \"\"), ROW(A14))),\"\")","v":""},{"$f":"IFERROR(INDEX('Category Sets A-D'!$P$14:$P$102, SMALL(IF($U$14='Category Sets A-D'!$M$14:$M$102, ROW('Category Sets A-D'!$M$14:$M$102)-MIN(ROW('Category Sets A-D'!$M$14:$M$102))+1, \"\"), ROW(A14))),\"\")","v":""},{"$f":"IFERROR(INDEX('Category Sets A-D'!$N$14:$N$102, SMALL(IF($U$14='Category Sets A-D'!$M$14:$M$102, ROW('Category Sets A-D'!$M$14:$M$102)-MIN(ROW('Category Sets A-D'!$M$14:$M$102))+1, \"\"), ROW(A14))),\"\")","v":""},{"$f":"IFERROR(INDEX('Category Sets A-D'!$O$14:$O$102, SMALL(IF($U$14='Category Sets A-D'!$M$14:$M$102, ROW('Category Sets A-D'!$M$14:$M$102)-MIN(ROW('Category Sets A-D'!$M$14:$M$102))+1, \"\"), ROW(A14))),\"\")","v":""},0]
["","",null,null,null,null,null,null,null,null,null,null,"",null,null,null,null,null,{"$f":"IFERROR(INDEX('Category Sets A-D'!$L$14:$L$102, SMALL(IF($U$14='Category Sets A-D'!$M$14:$M$102, ROW('Category Sets A-D'!$M$14:$M$102)-MIN(ROW('Category Sets A-D'!$M$14:$M$102))+1, \"\"), ROW(A16))),\"\")","v":""},{"$f":"IFERROR(INDEX('Category Sets A-D'!$P$14:$P$102, SMALL(IF($U$14='Category Sets A-D'!$M$14:$M$102, ROW('Category Sets A-D'!$M$14:$M$102)-MIN(ROW('Category Sets A-D'!$M$14:$M$102))+1, \"\"), ROW(A16))),\"\")","v":""},{"$f":"IFERROR(INDEX('Category Sets A-D'!$N$14:$N$102, SMALL(IF($U$14='Category Sets A-D'!$M$14:$M$102, ROW('Category Sets A-D'!$M$14:$M$102)-MIN(ROW('Category Sets A-D'!$M$14:$M$102))+1, \"\"), ROW(A16))),\"\")","v":""},{"$f":"IFERROR(INDEX('Category Sets A-D'!$O$14:$O$102, SMALL(IF($U$14='Category Sets A-D'!$M$14:$M$102, ROW('Category Sets A-D'!$M$14:$M$102)-MIN(ROW('Category Sets A-D'!$M$14:$M$102))+1, \"\"), ROW(A16))),\"\")","v":""},0]
["","",null,null,null,null,null,null,null,null,null,null,"",null,null,null,null,null,{"$f":"IFERROR(INDEX('Category Sets A-D'!$L$14:$L$102, SMALL(IF($U$14='Category Sets A-D'!$M$14:$M$102, ROW('Category Sets A-D'!$M$14:$M$102)-MIN(ROW('Category Sets A-D'!$M$14:$M$102))+1, \"\"), ROW(A17))),\"\")","v":""},{"$f":"IFERROR(INDEX('Category Sets A-D'!$P$14:$P$102, SMALL(IF($U$14='Category Sets A-D'!$M$14:$M$102, ROW('Category Sets A-D'!$M$14:$M$102)-MIN(ROW('Category Sets A-D'!$M$14:$M$102))+1, \"\"), ROW(A17))),\"\")","v":""},{"$f":"IFERROR(INDEX('Category Sets A-D'!$N$14:$N$102, SMALL(IF($U$14='Category Sets A-D'!$M$14:$M$102, ROW('Category Sets A-D'!$M$14:$M$102)-MIN(ROW('Category Sets A-D'!$M$14:$M$102))+1, \"\"), ROW(A17))),\"\")","v":""},{"$f":"IFERROR(INDEX('Category Sets A-D'!$O$14:$O$102, SMALL(IF($U$14='Category Sets A-D'!$M$14:$M$102, ROW('Category Sets A-D'!$M$14:$M$102)-MIN(ROW('Category Sets A-D'!$M$14:$M$102))+1, \"\"), ROW(A17))),\"\")","v":""},0]
["","",null,null,null,null,null,null,null,null,null,null,"",null,null,null,null,null,{"$f":"IFERROR(INDEX('Category Sets A-D'!$L$14:$L$102, SMALL(IF($U$14='Category Sets A-D'!$M$14:$M$102, ROW('Category Sets A-D'!$M$14:$M$102)-MIN(ROW('Category Sets A-D'!$M$14:$M$102))+1, \"\"), ROW(A18))),\"\")","v":""},{"$f":"IFERROR(INDEX('Category Sets A-D'!$P$14:$P$102, SMALL(IF($U$14='Category Sets A-D'!$M$14:$M$102, ROW('Category Sets A-D'!$M$14:$M$102)-MIN(ROW('Category Sets A-D'!$M$14:$M$102))+1, \"\"), ROW(A18))),\"\")","v":""},{"$f":"IFERROR(INDEX('Category Sets A-D'!$N$14:$N$102, SMALL(IF($U$14='Category Sets A-D'!$M$14:$M$102, ROW('Category Sets A-D'!$M$14:$M$102)-MIN(ROW('Category Sets A-D'!$M$14:$M$102))+1, \"\"), ROW(A18))),\"\")","v":""},{"$f":"IFERROR(INDEX('Category Sets A-D'!$O$14:$O$102, SMALL(IF($U$14='Category Sets A-D'!$M$14:$M$102, ROW('Category Sets A-D'!$M$14:$M$102)-MIN(ROW('Category Sets A-D'!$M$14:$M$102))+1, \"\"), ROW(A18))),\"\")","v":""},0]
["","",null,null,null,null,null,null,null,null,null,null,"",null,null,null,null,null,{"$f":"IFERROR(INDEX('Category Sets A-D'!$L$14:$L$102, SMALL(IF($U$14='Category Sets A-D'!$M$14:$M$102, ROW('Category Sets A-D'!$M$14:$M$102)-MIN(ROW('Category Sets A-D'!$M$14:$M$102))+1, \"\"), ROW(A19))),\"\")","v":""},{"$f":"IFERROR(INDEX('Category Sets A-D'!$P$14:$P$102, SMALL(IF($U$14='Category Sets A-D'!$M$14:$M$102, ROW('Category Sets A-D'!$M$14:$M$102)-MIN(ROW('Category Sets A-D'!$M$14:$M$102))+1, \"\"), ROW(A19))),\"\")","v":""},{"$f":"IFERROR(INDEX('Category Sets A-D'!$N$14:$N$102, SMALL(IF($U$14='Category Sets A-D'!$M$14:$M$102, ROW('Category Sets A-D'!$M$14:$M$102)-MIN(ROW('Category Sets A-D'!$M$14:$M$102))+1, \"\"), ROW(A19))),\"\")","v":""},{"$f":"IFERROR(INDEX('Category Sets A-D'!$O$14:$O$102, SMALL(IF($U$14='Category Sets A-D'!$M$14:$M$102, ROW('Category Sets A-D'!$M$14:$M$102)-MIN(ROW('Category Sets A-D'!$M$14:$M$102))+1, \"\"), ROW(A19))),\"\")","v":""},0]
["",{"$f":"IF(W51=1,\"No Data\",T51)","v":""},null,null,null,null,null,null,null,null,null,null,"",null,null,null,null,null,{"$f":"IFERROR(INDEX('Category Sets A-D'!$L$14:$L$102, SMALL(IF($U$14='Category Sets A-D'!$M$14:$M$102, ROW('Category Sets A-D'!$M$14:$M$102)-MIN(ROW('Category Sets A-D'!$M$14:$M$102))+1, \"\"), ROW(A20))),\"\")","v":""},{"$f":"IFERROR(INDEX('Category Sets A-D'!$P$14:$P$102, SMALL(IF($U$14='Category Sets A-D'!$M$14:$M$102, ROW('Category Sets A-D'!$M$14:$M$102)-MIN(ROW('Category Sets A-D'!$M$14:$M$102))+1, \"\"), ROW(A20))),\"\")","v":""},{"$f":"IFERROR(INDEX('Category Sets A-D'!$N$14:$N$102, SMALL(IF($U$14='Category Sets A-D'!$M$14:$M$102, ROW('Category Sets A-D'!$M$14:$M$102)-MIN(ROW('Category Sets A-D'!$M$14:$M$102))+1, \"\"), ROW(A20))),\"\")","v":""},{"$f":"IFERROR(INDEX('Category Sets A-D'!$O$14:$O$102, SMALL(IF($U$14='Category Sets A-D'!$M$14:$M$102, ROW('Category Sets A-D'!$M$14:$M$102)-MIN(ROW('Category Sets A-D'!$M$14:$M$102))+1, \"\"), ROW(A20))),\"\")","v":""},0]
["","",null,null,null,null,null,null,null,null,null,null,"",null,null,null,null,null,{"$f":"IFERROR(INDEX('Category Sets A-D'!$L$14:$L$102, SMALL(IF($U$14='Category Sets A-D'!$M$14:$M$102, ROW('Category Sets A-D'!$M$14:$M$102)-MIN(ROW('Category Sets A-D'!$M$14:$M$102))+1, \"\"), ROW(A21))),\"\")","v":""},{"$f":"IFERROR(INDEX('Category Sets A-D'!$P$14:$P$102, SMALL(IF($U$14='Category Sets A-D'!$M$14:$M$102, ROW('Category Sets A-D'!$M$14:$M$102)-MIN(ROW('Category Sets A-D'!$M$14:$M$102))+1, \"\"), ROW(A21))),\"\")","v":""},{"$f":"IFERROR(INDEX('Category Sets A-D'!$N$14:$N$102, SMALL(IF($U$14='Category Sets A-D'!$M$14:$M$102, ROW('Category Sets A-D'!$M$14:$M$102)-MIN(ROW('Category Sets A-D'!$M$14:$M$102))+1, \"\"), ROW(A21))),\"\")","v":""},{"$f":"IFERROR(INDEX('Category Sets A-D'!$O$14:$O$102, SMALL(IF($U$14='Category Sets A-D'!$M$14:$M$102, ROW('Category Sets A-D'!$M$14:$M$102)-MIN(ROW('Category Sets A-D'!$M$14:$M$102))+1, \"\"), ROW(A21))),\"\")","v":""},0]
["","",null,null,null,null,null,null,null,null,null,null,"",null,null,null,null,null,{"$f":"IFERROR(INDEX('Category Sets A-D'!$L$14:$L$102, SMALL(IF($U$14='Category Sets A-D'!$M$14:$M$102, ROW('Category Sets A-D'!$M$14:$M$102)-MIN(ROW('Category Sets A-D'!$M$14:$M$102))+1, \"\"), ROW(A22))),\"\")","v":""},{"$f":"IFERROR(INDEX('Category Sets A-D'!$P$14:$P$102, SMALL(IF($U$14='Category Sets A-D'!$M$14:$M$102, ROW('Category Sets A-D'!$M$14:$M$102)-MIN(ROW('Category Sets A-D'!$M$14:$M$102))+1, \"\"), ROW(A22))),\"\")","v":""},{"$f":"IFERROR(INDEX('Category Sets A-D'!$N$14:$N$102, SMALL(IF($U$14='Category Sets A-D'!$M$14:$M$102, ROW('Category Sets A-D'!$M$14:$M$102)-MIN(ROW('Category Sets A-D'!$M$14:$M$102))+1, \"\"), ROW(A22))),\"\")","v":""},{"$f":"IFERROR(INDEX('Category Sets A-D'!$O$14:$O$102, SMALL(IF($U$14='Category Sets A-D'!$M$14:$M$102, ROW('Category Sets A-D'!$M$14:$M$102)-MIN(ROW('Category Sets A-D'!$M$14:$M$102))+1, \"\"), ROW(A22))),\"\")","v":""},0]
["",{"$f":"IF(W54=1,\"No Data\",T54)","v":""},null,null,null,null,null,null,null,null,null,null,"",null,null,null,null,null,{"$f":"IFERROR(INDEX('Category Sets A-D'!$L$14:$L$102, SMALL(IF($U$14='Category Sets A-D'!$M$14:$M$102, ROW('Category Sets A-D'!$M$14:$M$102)-MIN(ROW('Category Sets A-D'!$M$14:$M$102))+1, \"\"), ROW(A23))),\"\")","v":""},{"$f":"IFERROR(INDEX('Category Sets A-D'!$P$14:$P$102, SMALL(IF($U$14='Category Sets A-D'!$M$14:$M$102, ROW('Category Sets A-D'!$M$14:$M$102)-MIN(ROW('Category Sets A-D'!$M$14:$M$102))+1, \"\"), ROW(A23))),\"\")","v":""},{"$f":"IFERROR(INDEX('Category Sets A-D'!$N$14:$N$102, SMALL(IF($U$14='Category Sets A-D'!$M$14:$M$102, ROW('Category Sets A-D'!$M$14:$M$102)-MIN(ROW('Category Sets A-D'!$M$14:$M$102))+1, \"\"), ROW(A23))),\"\")","v":""},{"$f":"IFERROR(INDEX('Category Sets A-D'!$O$14:$O$102, SMALL(IF($U$14='Category Sets A-D'!$M$14:$M$102, ROW('Category Sets A-D'!$M$14:$M$102)-MIN(ROW('Category Sets A-D'!$M$14:$M$102))+1, \"\"), ROW(A23))),\"\")","v":""},0]
["","",null,null,null,null,null,null,null,null,null,null,"",null,null,null,null,null,{"$f":"IFERROR(INDEX('Category Sets A-D'!$L$14:$L$102, SMALL(IF($U$14='Category Sets A-D'!$M$14:$M$102, ROW('Category Sets A-D'!$M$14:$M$102)-MIN(ROW('Category Sets A-D'!$M$14:$M$102))+1, \"\"), ROW(A24))),\"\")","v":""},{"$f":"IFERROR(INDEX('Category Sets A-D'!$P$14:$P$102, SMALL(IF($U$14='Category Sets A-D'!$M$14:$M$102, ROW('Category Sets A-D'!$M$14:$M$102)-MIN(ROW('Category Sets A-D'!$M$14:$M$102))+1, \"\"), ROW(A24))),\"\")","v":""},{"$f":"IFERROR(INDEX('Category Sets A-D'!$N$14:$N$102, SMALL(IF($U$14='Category Sets A-D'!$M$14:$M$102, ROW('Category Sets A-D'!$M$14:$M$102)-MIN(ROW('Category Sets A-D'!$M$14:$M$102))+1, \"\"), ROW(A24))),\"\")","v":""},{"$f":"IFERROR(INDEX('Category Sets A-D'!$O$14:$O$102, SMALL(IF($U$14='Category Sets A-D'!$M$14:$M$102, ROW('Category Sets A-D'!$M$14:$M$102)-MIN(ROW('Category Sets A-D'!$M$14:$M$102))+1, \"\"), ROW(A24))),\"\")","v":""},0]
["","",null,null,null,null,null,null,null,null,null,null,"",null,null,null,null,null,{"$f":"IFERROR(INDEX('Category Sets A-D'!$L$14:$L$102, SMALL(IF($U$14='Category Sets A-D'!$M$14:$M$102, ROW('Category Sets A-D'!$M$14:$M$102)-MIN(ROW('Category Sets A-D'!$M$14:$M$102))+1, \"\"), ROW(A25))),\"\")","v":""},{"$f":"IFERROR(INDEX('Category Sets A-D'!$P$14:$P$102, SMALL(IF($U$14='Category Sets A-D'!$M$14:$M$102, ROW('Category Sets A-D'!$M$14:$M$102)-MIN(ROW('Category Sets A-D'!$M$14:$M$102))+1, \"\"), ROW(A25))),\"\")","v":""},{"$f":"IFERROR(INDEX('Category Sets A-D'!$N$14:$N$102, SMALL(IF($U$14='Category Sets A-D'!$M$14:$M$102, ROW('Category Sets A-D'!$M$14:$M$102)-MIN(ROW('Category Sets A-D'!$M$14:$M$102))+1, \"\"), ROW(A25))),\"\")","v":""},{"$f":"IFERROR(INDEX('Category Sets A-D'!$O$14:$O$102, SMALL(IF($U$14='Category Sets A-D'!$M$14:$M$102, ROW('Category Sets A-D'!$M$14:$M$102)-MIN(ROW('Category Sets A-D'!$M$14:$M$102))+1, \"\"), ROW(A25))),\"\")","v":""},0]
["","",null,null,null,null,null,null,null,null,null,null,"",null,null,null,null,null,{"$f":"IFERROR(INDEX('Category Sets A-D'!$L$14:$L$102, SMALL(IF($U$14='Category Sets A-D'!$M$14:$M$102, ROW('Category Sets A-D'!$M$14:$M$102)-MIN(ROW('Category Sets A-D'!$M$14:$M$102))+1, \"\"), ROW(A26))),\"\")","v":""},{"$f":"IFERROR(INDEX('Category Sets A-D'!$P$14:$P$102, SMALL(IF($U$14='Category Sets A-D'!$M$14:$M$102, ROW('Category Sets A-D'!$M$14:$M$102)-MIN(ROW('Category Sets A-D'!$M$14:$M$102))+1, \"\"), ROW(A26))),\"\")","v":""},{"$f":"IFERROR(INDEX('Category Sets A-D'!$N$14:$N$102, SMALL(IF($U$14='Category Sets A-D'!$M$14:$M$102, ROW('Category Sets A-D'!$M$14:$M$102)-MIN(ROW('Category Sets A-D'!$M$14:$M$102))+1, \"\"), ROW(A26))),\"\")","v":""},{"$f":"IFERROR(INDEX('Category Sets A-D'!$O$14:$O$102, SMALL(IF($U$14='Category Sets A-D'!$M$14:$M$102, ROW('Category Sets A-D'!$M$14:$M$102)-MIN(ROW('Category Sets A-D'!$M$14:$M$102))+1, \"\"), ROW(A26))),\"\")","v":""},0]
["","",null,null,null,null,null,null,null,null,null,null,"",null,null,null,null,null,{"$f":"IFERROR(INDEX('Category Sets A-D'!$L$14:$L$102, SMALL(IF($U$14='Category Sets A-D'!$M$14:$M$102, ROW('Category Sets A-D'!$M$14:$M$102)-MIN(ROW('Category Sets A-D'!$M$14:$M$102))+1, \"\"), ROW(A27))),\"\")","v":""},{"$f":"IFERROR(INDEX('Category Sets A-D'!$P$14:$P$102, SMALL(IF($U$14='Category Sets A-D'!$M$14:$M$102, ROW('Category Sets A-D'!$M$14:$M$102)-MIN(ROW('Category Sets A-D'!$M$14:$M$102))+1, \"\"), ROW(A27))),\"\")","v":""},{"$f":"IFERROR(INDEX('Category Sets A-D'!$N$14:$N$102, SMALL(IF($U$14='Category Sets A-D'!$M$14:$M$102, ROW('Category Sets A-D'!$M$14:$M$102)-MIN(ROW('Category Sets A-D'!$M$14:$M$102))+1, \"\"), ROW(A27))),\"\")","v":""},{"$f":"IFERROR(INDEX('Category Sets A-D'!$O$14:$O$102, SMALL(IF($U$14='Category Sets A-D'!$M$14:$M$102, ROW('Category Sets A-D'!$M$14:$M$102)-MIN(ROW('Category Sets A-D'!$M$14:$M$102))+1, \"\"), ROW(A27))),\"\")","v":""},0]
["","",null,null,null,null,null,null,null,null,null,null,"",null,null,null,null,null,{"$f":"IFERROR(INDEX('Category Sets A-D'!$L$14:$L$102, SMALL(IF($U$14='Category Sets A-D'!$M$14:$M$102, ROW('Category Sets A-D'!$M$14:$M$102)-MIN(ROW('Category Sets A-D'!$M$14:$M$102))+1, \"\"), ROW(A28))),\"\")","v":""},{"$f":"IFERROR(INDEX('Category Sets A-D'!$P$14:$P$102, SMALL(IF($U$14='Category Sets A-D'!$M$14:$M$102, ROW('Category Sets A-D'!$M$14:$M$102)-MIN(ROW('Category Sets A-D'!$M$14:$M$102))+1, \"\"), ROW(A28))),\"\")","v":""},{"$f":"IFERROR(INDEX('Category Sets A-D'!$N$14:$N$102, SMALL(IF($U$14='Category Sets A-D'!$M$14:$M$102, ROW('Category Sets A-D'!$M$14:$M$102)-MIN(ROW('Category Sets A-D'!$M$14:$M$102))+1, \"\"), ROW(A28))),\"\")","v":""},{"$f":"IFERROR(INDEX('Category Sets A-D'!$O$14:$O$102, SMALL(IF($U$14='Category Sets A-D'!$M$14:$M$102, ROW('Category Sets A-D'!$M$14:$M$102)-MIN(ROW('Category Sets A-D'!$M$14:$M$102))+1, \"\"), ROW(A28))),\"\")","v":""},0]
["","",null,null,null,null,null,null,null,null,null,null,"",null,null,null,null,null,{"$f":"IFERROR(INDEX('Category Sets A-D'!$L$14:$L$102, SMALL(IF($U$14='Category Sets A-D'!$M$14:$M$102, ROW('Category Sets A-D'!$M$14:$M$102)-MIN(ROW('Category Sets A-D'!$M$14:$M$102))+1, \"\"), ROW(A29))),\"\")","v":""},{"$f":"IFERROR(INDEX('Category Sets A-D'!$P$14:$P$102, SMALL(IF($U$14='Category Sets A-D'!$M$14:$M$102, ROW('Category Sets A-D'!$M$14:$M$102)-MIN(ROW('Category Sets A-D'!$M$14:$M$102))+1, \"\"), ROW(A29))),\"\")","v":""},{"$f":"IFERROR(INDEX('Category Sets A-D'!$N$14:$N$102, SMALL(IF($U$14='Category Sets A-D'!$M$14:$M$102, ROW('Category Sets A-D'!$M$14:$M$102)-MIN(ROW('Category Sets A-D'!$M$14:$M$102))+1, \"\"), ROW(A29))),\"\")","v":""},{"$f":"IFERROR(INDEX('Category Sets A-D'!$O$14:$O$102, SMALL(IF($U$14='Category Sets A-D'!$M$14:$M$102, ROW('Category Sets A-D'!$M$14:$M$102)-MIN(ROW('Category Sets A-D'!$M$14:$M$102))+1, \"\"), ROW(A29))),\"\")","v":""},0]
["","",null,null,null,null,null,null,null,null,null,null,"",null,null,null,null,null,{"$f":"IFERROR(INDEX('Category Sets A-D'!$L$14:$L$102, SMALL(IF($U$14='Category Sets A-D'!$M$14:$M$102, ROW('Category Sets A-D'!$M$14:$M$102)-MIN(ROW('Category Sets A-D'!$M$14:$M$102))+1, \"\"), ROW(A30))),\"\")","v":""},{"$f":"IFERROR(INDEX('Category Sets A-D'!$P$14:$P$102, SMALL(IF($U$14='Category Sets A-D'!$M$14:$M$102, ROW('Category Sets A-D'!$M$14:$M$102)-MIN(ROW('Category Sets A-D'!$M$14:$M$102))+1, \"\"), ROW(A30))),\"\")","v":""},{"$f":"IFERROR(INDEX('Category Sets A-D'!$N$14:$N$102, SMALL(IF($U$14='Category Sets A-D'!$M$14:$M$102, ROW('Category Sets A-D'!$M$14:$M$102)-MIN(ROW('Category Sets A-D'!$M$14:$M$102))+1, \"\"), ROW(A30))),\"\")","v":""},{"$f":"IFERROR(INDEX('Category Sets A-D'!$O$14:$O$102, SMALL(IF($U$14='Category Sets A-D'!$M$14:$M$102, ROW('Category Sets A-D'!$M$14:$M$102)-MIN(ROW('Category Sets A-D'!$M$14:$M$102))+1, \"\"), ROW(A30))),\"\")","v":""},0]
["","",null,null,null,null,null,null,null,null,null,null,"",null,null,null,null,null,{"$f":"IFERROR(INDEX('Category Sets A-D'!$L$14:$L$102, SMALL(IF($U$14='Category Sets A-D'!$M$14:$M$102, ROW('Category Sets A-D'!$M$14:$M$102)-MIN(ROW('Category Sets A-D'!$M$14:$M$102))+1, \"\"), ROW(A31))),\"\")","v":""},{"$f":"IFERROR(INDEX('Category Sets A-D'!$P$14:$P$102, SMALL(IF($U$14='Category Sets A-D'!$M$14:$M$102, ROW('Category Sets A-D'!$M$14:$M$102)-MIN(ROW('Category Sets A-D'!$M$14:$M$102))+1, \"\"), ROW(A31))),\"\")","v":""},{"$f":"IFERROR(INDEX('Category Sets A-D'!$N$14:$N$102, SMALL(IF($U$14='Category Sets A-D'!$M$14:$M$102, ROW('Category Sets A-D'!$M$14:$M$102)-MIN(ROW('Category Sets A-D'!$M$14:$M$102))+1, \"\"), ROW(A31))),\"\")","v":""},{"$f":"IFERROR(INDEX('Category Sets A-D'!$O$14:$O$102, SMALL(IF($U$14='Category Sets A-D'!$M$14:$M$102, ROW('Category Sets A-D'!$M$14:$M$102)-MIN(ROW('Category Sets A-D'!$M$14:$M$102))+1, \"\"), ROW(A31))),\"\")","v":""},0]
["","",null,null,null,null,null,null,null,null,null,null,"",null,null,null,null,null,{"$f":"IFERROR(INDEX('Category Sets A-D'!$L$14:$L$102, SMALL(IF($U$14='Category Sets A-D'!$M$14:$M$102, ROW('Category Sets A-D'!$M$14:$M$102)-MIN(ROW('Category Sets A-D'!$M$14:$M$102))+1, \"\"), ROW(A32))),\"\")","v":""},{"$f":"IFERROR(INDEX('Category Sets A-D'!$P$14:$P$102, SMALL(IF($U$14='Category Sets A-D'!$M$14:$M$102, ROW('Category Sets A-D'!$M$14:$M$102)-MIN(ROW('Category Sets A-D'!$M$14:$M$102))+1, \"\"), ROW(A32))),\"\")","v":""},{"$f":"IFERROR(INDEX('Category Sets A-D'!$N$14:$N$102, SMALL(IF($U$14='Category Sets A-D'!$M$14:$M$102, ROW('Category Sets A-D'!$M$14:$M$102)-MIN(ROW('Category Sets A-D'!$M$14:$M$102))+1, \"\"), ROW(A32))),\"\")","v":""},{"$f":"IFERROR(INDEX('Category Sets A-D'!$O$14:$O$102, SMALL(IF($U$14='Category Sets A-D'!$M$14:$M$102, ROW('Category Sets A-D'!$M$14:$M$102)-MIN(ROW('Category Sets A-D'!$M$14:$M$102))+1, \"\"), ROW(A32))),\"\")","v":""},0]
["","",null,null,null,null,null,null,null,null,null,null,{"$f":"IF(S64=\"\",\"\",HYPERLINK(CONCATENATE(\"#\",\"'Category Sets A-D'!\",S64),U64))","v":""},null,null,null,null,null,{"$f":"IFERROR(INDEX('Category Sets A-D'!$L$14:$L$102, SMALL(IF($U$14='Category Sets A-D'!$M$14:$M$102, ROW('Category Sets A-D'!$M$14:$M$102)-MIN(ROW('Category Sets A-D'!$M$14:$M$102))+1, \"\"), ROW(A33))),\"\")","v":""},{"$f":"IFERROR(INDEX('Category Sets A-D'!$P$14:$P$102, SMALL(IF($U$14='Category Sets A-D'!$M$14:$M$102, ROW('Category Sets A-D'!$M$14:$M$102)-MIN(ROW('Category Sets A-D'!$M$14:$M$102))+1, \"\"), ROW(A33))),\"\")","v":""},{"$f":"IFERROR(INDEX('Category Sets A-D'!$N$14:$N$102, SMALL(IF($U$14='Category Sets A-D'!$M$14:$M$102, ROW('Category Sets A-D'!$M$14:$M$102)-MIN(ROW('Category Sets A-D'!$M$14:$M$102))+1, \"\"), ROW(A33))),\"\")","v":""},{"$f":"IFERROR(INDEX('Category Sets A-D'!$O$14:$O$102, SMALL(IF($U$14='Category Sets A-D'!$M$14:$M$102, ROW('Category Sets A-D'!$M$14:$M$102)-MIN(ROW('Category Sets A-D'!$M$14:$M$102))+1, \"\"), ROW(A33))),\"\")","v":""},0]
["","",null,null,null,null,null,null,null,null,null,null,"",null,null,null,null,null,{"$f":"IFERROR(INDEX('Category Sets A-D'!$L$14:$L$102, SMALL(IF($U$14='Category Sets A-D'!$M$14:$M$102, ROW('Category Sets A-D'!$M$14:$M$102)-MIN(ROW('Category Sets A-D'!$M$14:$M$102))+1, \"\"), ROW(A34))),\"\")","v":""},{"$f":"IFERROR(INDEX('Category Sets A-D'!$P$14:$P$102, SMALL(IF($U$14='Category Sets A-D'!$M$14:$M$102, ROW('Category Sets A-D'!$M$14:$M$102)-MIN(ROW('Category Sets A-D'!$M$14:$M$102))+1, \"\"), ROW(A34))),\"\")","v":""},{"$f":"IFERROR(INDEX('Category Sets A-D'!$N$14:$N$102, SMALL(IF($U$14='Category Sets A-D'!$M$14:$M$102, ROW('Category Sets A-D'!$M$14:$M$102)-MIN(ROW('Category Sets A-D'!$M$14:$M$102))+1, \"\"), ROW(A34))),\"\")","v":""},{"$f":"IFERROR(INDEX('Category Sets A-D'!$O$14:$O$102, SMALL(IF($U$14='Category Sets A-D'!$M$14:$M$102, ROW('Category Sets A-D'!$M$14:$M$102)-MIN(ROW('Category Sets A-D'!$M$14:$M$102))+1, \"\"), ROW(A34))),\"\")","v":""},0]
["","",null,null,null,null,null,null,null,null,null,null,"",null,null,null,null,null,{"$f":"IFERROR(INDEX('Category Sets A-D'!$L$14:$L$102, SMALL(IF($U$14='Category Sets A-D'!$M$14:$M$102, ROW('Category Sets A-D'!$M$14:$M$102)-MIN(ROW('Category Sets A-D'!$M$14:$M$102))+1, \"\"), ROW(A35))),\"\")","v":""},{"$f":"IFERROR(INDEX('Category Sets A-D'!$P$14:$P$102, SMALL(IF($U$14='Category Sets A-D'!$M$14:$M$102, ROW('Category Sets A-D'!$M$14:$M$102)-MIN(ROW('Category Sets A-D'!$M$14:$M$102))+1, \"\"), ROW(A35))),\"\")","v":""},{"$f":"IFERROR(INDEX('Category Sets A-D'!$N$14:$N$102, SMALL(IF($U$14='Category Sets A-D'!$M$14:$M$102, ROW('Category Sets A-D'!$M$14:$M$102)-MIN(ROW('Category Sets A-D'!$M$14:$M$102))+1, \"\"), ROW(A35))),\"\")","v":""},{"$f":"IFERROR(INDEX('Category Sets A-D'!$O$14:$O$102, SMALL(IF($U$14='Category Sets A-D'!$M$14:$M$102, ROW('Category Sets A-D'!$M$14:$M$102)-MIN(ROW('Category Sets A-D'!$M$14:$M$102))+1, \"\"), ROW(A35))),\"\")","v":""},0]
["","",null,null,null,null,null,null,null,null,null,null,"",null,null,null,null,null,{"$f":"IFERROR(INDEX('Category Sets A-D'!$L$14:$L$102, SMALL(IF($U$14='Category Sets A-D'!$M$14:$M$102, ROW('Category Sets A-D'!$M$14:$M$102)-MIN(ROW('Category Sets A-D'!$M$14:$M$102))+1, \"\"), ROW(A36))),\"\")","v":""},{"$f":"IFERROR(INDEX('Category Sets A-D'!$P$14:$P$102, SMALL(IF($U$14='Category Sets A-D'!$M$14:$M$102, ROW('Category Sets A-D'!$M$14:$M$102)-MIN(ROW('Category Sets A-D'!$M$14:$M$102))+1, \"\"), ROW(A36))),\"\")","v":""},{"$f":"IFERROR(INDEX('Category Sets A-D'!$N$14:$N$102, SMALL(IF($U$14='Category Sets A-D'!$M$14:$M$102, ROW('Category Sets A-D'!$M$14:$M$102)-MIN(ROW('Category Sets A-D'!$M$14:$M$102))+1, \"\"), ROW(A36))),\"\")","v":""},{"$f":"IFERROR(INDEX('Category Sets A-D'!$O$14:$O$102, SMALL(IF($U$14='Category Sets A-D'!$M$14:$M$102, ROW('Category Sets A-D'!$M$14:$M$102)-MIN(ROW('Category Sets A-D'!$M$14:$M$102))+1, \"\"), ROW(A36))),\"\")","v":""},0]
["","",null,null,null,null,null,null,null,null,null,null,"",null,null,null,null,null,{"$f":"IFERROR(INDEX('Category Sets A-D'!$L$14:$L$102, SMALL(IF($U$14='Category Sets A-D'!$M$14:$M$102, ROW('Category Sets A-D'!$M$14:$M$102)-MIN(ROW('Category Sets A-D'!$M$14:$M$102))+1, \"\"), ROW(A37))),\"\")","v":""},{"$f":"IFERROR(INDEX('Category Sets A-D'!$P$14:$P$102, SMALL(IF($U$14='Category Sets A-D'!$M$14:$M$102, ROW('Category Sets A-D'!$M$14:$M$102)-MIN(ROW('Category Sets A-D'!$M$14:$M$102))+1, \"\"), ROW(A37))),\"\")","v":""},{"$f":"IFERROR(INDEX('Category Sets A-D'!$N$14:$N$102, SMALL(IF($U$14='Category Sets A-D'!$M$14:$M$102, ROW('Category Sets A-D'!$M$14:$M$102)-MIN(ROW('Category Sets A-D'!$M$14:$M$102))+1, \"\"), ROW(A37))),\"\")","v":""},{"$f":"IFERROR(INDEX('Category Sets A-D'!$O$14:$O$102, SMALL(IF($U$14='Category Sets A-D'!$M$14:$M$102, ROW('Category Sets A-D'!$M$14:$M$102)-MIN(ROW('Category Sets A-D'!$M$14:$M$102))+1, \"\"), ROW(A37))),\"\")","v":""},0]
["","",null,null,null,null,null,null,null,null,null,null,"",null,null,null,null,null,{"$f":"IFERROR(INDEX('Category Sets A-D'!$L$14:$L$102, SMALL(IF($U$14='Category Sets A-D'!$M$14:$M$102, ROW('Category Sets A-D'!$M$14:$M$102)-MIN(ROW('Category Sets A-D'!$M$14:$M$102))+1, \"\"), ROW(A38))),\"\")","v":""},{"$f":"IFERROR(INDEX('Category Sets A-D'!$P$14:$P$102, SMALL(IF($U$14='Category Sets A-D'!$M$14:$M$102, ROW('Category Sets A-D'!$M$14:$M$102)-MIN(ROW('Category Sets A-D'!$M$14:$M$102))+1, \"\"), ROW(A38))),\"\")","v":""},{"$f":"IFERROR(INDEX('Category Sets A-D'!$N$14:$N$102, SMALL(IF($U$14='Category Sets A-D'!$M$14:$M$102, ROW('Category Sets A-D'!$M$14:$M$102)-MIN(ROW('Category Sets A-D'!$M$14:$M$102))+1, \"\"), ROW(A38))),\"\")","v":""},{"$f":"IFERROR(INDEX('Category Sets A-D'!$O$14:$O$102, SMALL(IF($U$14='Category Sets A-D'!$M$14:$M$102, ROW('Category Sets A-D'!$M$14:$M$102)-MIN(ROW('Category Sets A-D'!$M$14:$M$102))+1, \"\"), ROW(A38))),\"\")","v":""},0]
["","",null,null,null,null,null,null,null,null,null,null,"",null,null,null,null,null,{"$f":"IFERROR(INDEX('Category Sets A-D'!$L$14:$L$102, SMALL(IF($U$14='Category Sets A-D'!$M$14:$M$102, ROW('Category Sets A-D'!$M$14:$M$102)-MIN(ROW('Category Sets A-D'!$M$14:$M$102))+1, \"\"), ROW(A39))),\"\")","v":""},{"$f":"IFERROR(INDEX('Category Sets A-D'!$P$14:$P$102, SMALL(IF($U$14='Category Sets A-D'!$M$14:$M$102, ROW('Category Sets A-D'!$M$14:$M$102)-MIN(ROW('Category Sets A-D'!$M$14:$M$102))+1, \"\"), ROW(A39))),\"\")","v":""},{"$f":"IFERROR(INDEX('Category Sets A-D'!$N$14:$N$102, SMALL(IF($U$14='Category Sets A-D'!$M$14:$M$102, ROW('Category Sets A-D'!$M$14:$M$102)-MIN(ROW('Category Sets A-D'!$M$14:$M$102))+1, \"\"), ROW(A39))),\"\")","v":""},{"$f":"IFERROR(INDEX('Category Sets A-D'!$O$14:$O$102, SMALL(IF($U$14='Category Sets A-D'!$M$14:$M$102, ROW('Category Sets A-D'!$M$14:$M$102)-MIN(ROW('Category Sets A-D'!$M$14:$M$102))+1, \"\"), ROW(A39))),\"\")","v":""},0]
["","",null,null,null,null,null,null,null,null,null,null,"",null,null,null,null,null,{"$f":"IFERROR(INDEX('Category Sets A-D'!$L$14:$L$102, SMALL(IF($U$14='Category Sets A-D'!$M$14:$M$102, ROW('Category Sets A-D'!$M$14:$M$102)-MIN(ROW('Category Sets A-D'!$M$14:$M$102))+1, \"\"), ROW(A40))),\"\")","v":""},{"$f":"IFERROR(INDEX('Category Sets A-D'!$P$14:$P$102, SMALL(IF($U$14='Category Sets A-D'!$M$14:$M$102, ROW('Category Sets A-D'!$M$14:$M$102)-MIN(ROW('Category Sets A-D'!$M$14:$M$102))+1, \"\"), ROW(A40))),\"\")","v":""},{"$f":"IFERROR(INDEX('Category Sets A-D'!$N$14:$N$102, SMALL(IF($U$14='Category Sets A-D'!$M$14:$M$102, ROW('Category Sets A-D'!$M$14:$M$102)-MIN(ROW('Category Sets A-D'!$M$14:$M$102))+1, \"\"), ROW(A40))),\"\")","v":""},{"$f":"IFERROR(INDEX('Category Sets A-D'!$O$14:$O$102, SMALL(IF($U$14='Category Sets A-D'!$M$14:$M$102, ROW('Category Sets A-D'!$M$14:$M$102)-MIN(ROW('Category Sets A-D'!$M$14:$M$102))+1, \"\"), ROW(A40))),\"\")","v":""},0]
["","",null,null,null,null,null,null,null,null,null,null,"",null,null,null,null,null,{"$f":"IFERROR(INDEX('Category Sets A-D'!$L$14:$L$102, SMALL(IF($U$14='Category Sets A-D'!$M$14:$M$102, ROW('Category Sets A-D'!$M$14:$M$102)-MIN(ROW('Category Sets A-D'!$M$14:$M$102))+1, \"\"), ROW(A41))),\"\")","v":""},{"$f":"IFERROR(INDEX('Category Sets A-D'!$P$14:$P$102, SMALL(IF($U$14='Category Sets A-D'!$M$14:$M$102, ROW('Category Sets A-D'!$M$14:$M$102)-MIN(ROW('Category Sets A-D'!$M$14:$M$102))+1, \"\"), ROW(A41))),\"\")","v":""},{"$f":"IFERROR(INDEX('Category Sets A-D'!$N$14:$N$102, SMALL(IF($U$14='Category Sets A-D'!$M$14:$M$102, ROW('Category Sets A-D'!$M$14:$M$102)-MIN(ROW('Category Sets A-D'!$M$14:$M$102))+1, \"\"), ROW(A41))),\"\")","v":""},{"$f":"IFERROR(INDEX('Category Sets A-D'!$O$14:$O$102, SMALL(IF($U$14='Category Sets A-D'!$M$14:$M$102, ROW('Category Sets A-D'!$M$14:$M$102)-MIN(ROW('Category Sets A-D'!$M$14:$M$102))+1, \"\"), ROW(A41))),\"\")","v":""},0]
["","",null,null,null,null,null,null,null,null,null,null,"",null,null,null,null,null,{"$f":"IFERROR(INDEX('Category Sets A-D'!$L$14:$L$102, SMALL(IF($U$14='Category Sets A-D'!$M$14:$M$102, ROW('Category Sets A-D'!$M$14:$M$102)-MIN(ROW('Category Sets A-D'!$M$14:$M$102))+1, \"\"), ROW(A42))),\"\")","v":""},{"$f":"IFERROR(INDEX('Category Sets A-D'!$P$14:$P$102, SMALL(IF($U$14='Category Sets A-D'!$M$14:$M$102, ROW('Category Sets A-D'!$M$14:$M$102)-MIN(ROW('Category Sets A-D'!$M$14:$M$102))+1, \"\"), ROW(A42))),\"\")","v":""},{"$f":"IFERROR(INDEX('Category Sets A-D'!$N$14:$N$102, SMALL(IF($U$14='Category Sets A-D'!$M$14:$M$102, ROW('Category Sets A-D'!$M$14:$M$102)-MIN(ROW('Category Sets A-D'!$M$14:$M$102))+1, \"\"), ROW(A42))),\"\")","v":""},{"$f":"IFERROR(INDEX('Category Sets A-D'!$O$14:$O$102, SMALL(IF($U$14='Category Sets A-D'!$M$14:$M$102, ROW('Category Sets A-D'!$M$14:$M$102)-MIN(ROW('Category Sets A-D'!$M$14:$M$102))+1, \"\"), ROW(A42))),\"\")","v":""},0]
["","",null,null,null,null,null,null,null,null,null,null,"",null,null,null,null,null,{"$f":"IFERROR(INDEX('Category Sets A-D'!$L$14:$L$102, SMALL(IF($U$14='Category Sets A-D'!$M$14:$M$102, ROW('Category Sets A-D'!$M$14:$M$102)-MIN(ROW('Category Sets A-D'!$M$14:$M$102))+1, \"\"), ROW(A43))),\"\")","v":""},{"$f":"IFERROR(INDEX('Category Sets A-D'!$P$14:$P$102, SMALL(IF($U$14='Category Sets A-D'!$M$14:$M$102, ROW('Category Sets A-D'!$M$14:$M$102)-MIN(ROW('Category Sets A-D'!$M$14:$M$102))+1, \"\"), ROW(A43))),\"\")","v":""},{"$f":"IFERROR(INDEX('Category Sets A-D'!$N$14:$N$102, SMALL(IF($U$14='Category Sets A-D'!$M$14:$M$102, ROW('Category Sets A-D'!$M$14:$M$102)-MIN(ROW('Category Sets A-D'!$M$14:$M$102))+1, \"\"), ROW(A43))),\"\")","v":""},{"$f":"IFERROR(INDEX('Category Sets A-D'!$O$14:$O$102, SMALL(IF($U$14='Category Sets A-D'!$M$14:$M$102, ROW('Category Sets A-D'!$M$14:$M$102)-MIN(ROW('Category Sets A-D'!$M$14:$M$102))+1, \"\"), ROW(A43))),\"\")","v":""},0]
["","",null,null,null,null,null,null,null,null,null,null,"",null,null,null,null,null,{"$f":"IFERROR(INDEX('Category Sets A-D'!$L$14:$L$102, SMALL(IF($U$14='Category Sets A-D'!$M$14:$M$102, ROW('Category Sets A-D'!$M$14:$M$102)-MIN(ROW('Category Sets A-D'!$M$14:$M$102))+1, \"\"), ROW(A44))),\"\")","v":""},{"$f":"IFERROR(INDEX('Category Sets A-D'!$P$14:$P$102, SMALL(IF($U$14='Category Sets A-D'!$M$14:$M$102, ROW('Category Sets A-D'!$M$14:$M$102)-MIN(ROW('Category Sets A-D'!$M$14:$M$102))+1, \"\"), ROW(A44))),\"\")","v":""},{"$f":"IFERROR(INDEX('Category Sets A-D'!$N$14:$N$102, SMALL(IF($U$14='Category Sets A-D'!$M$14:$M$102, ROW('Category Sets A-D'!$M$14:$M$102)-MIN(ROW('Category Sets A-D'!$M$14:$M$102))+1, \"\"), ROW(A44))),\"\")","v":""},{"$f":"IFERROR(INDEX('Category Sets A-D'!$O$14:$O$102, SMALL(IF($U$14='Category Sets A-D'!$M$14:$M$102, ROW('Category Sets A-D'!$M$14:$M$102)-MIN(ROW('Category Sets A-D'!$M$14:$M$102))+1, \"\"), ROW(A44))),\"\")","v":""},0]
["","",null,null,null,null,null,null,null,null,null,null,"",null,null,null,null,null,{"$f":"IFERROR(INDEX('Category Sets A-D'!$L$14:$L$102, SMALL(IF($U$14='Category Sets A-D'!$M$14:$M$102, ROW('Category Sets A-D'!$M$14:$M$102)-MIN(ROW('Category Sets A-D'!$M$14:$M$102))+1, \"\"), ROW(A45))),\"\")","v":""},{"$f":"IFERROR(INDEX('Category Sets A-D'!$P$14:$P$102, SMALL(IF($U$14='Category Sets A-D'!$M$14:$M$102, ROW('Category Sets A-D'!$M$14:$M$102)-MIN(ROW('Category Sets A-D'!$M$14:$M$102))+1, \"\"), ROW(A45))),\"\")","v":""},{"$f":"IFERROR(INDEX('Category Sets A-D'!$N$14:$N$102, SMALL(IF($U$14='Category Sets A-D'!$M$14:$M$102, ROW('Category Sets A-D'!$M$14:$M$102)-MIN(ROW('Category Sets A-D'!$M$14:$M$102))+1, \"\"), ROW(A45))),\"\")","v":""},{"$f":"IFERROR(INDEX('Category Sets A-D'!$O$14:$O$102, SMALL(IF($U$14='Category Sets A-D'!$M$14:$M$102, ROW('Category Sets A-D'!$M$14:$M$102)-MIN(ROW('Category Sets A-D'!$M$14:$M$102))+1, \"\"), ROW(A45))),\"\")","v":""},0]
["","",null,null,null,null,null,null,null,null,null,null,"",null,null,null,null,null,{"$f":"IFERROR(INDEX('Category Sets A-D'!$L$14:$L$102, SMALL(IF($U$14='Category Sets A-D'!$M$14:$M$102, ROW('Category Sets A-D'!$M$14:$M$102)-MIN(ROW('Category Sets A-D'!$M$14:$M$102))+1, \"\"), ROW(A46))),\"\")","v":""},{"$f":"IFERROR(INDEX('Category Sets A-D'!$P$14:$P$102, SMALL(IF($U$14='Category Sets A-D'!$M$14:$M$102, ROW('Category Sets A-D'!$M$14:$M$102)-MIN(ROW('Category Sets A-D'!$M$14:$M$102))+1, \"\"), ROW(A46))),\"\")","v":""},{"$f":"IFERROR(INDEX('Category Sets A-D'!$N$14:$N$102, SMALL(IF($U$14='Category Sets A-D'!$M$14:$M$102, ROW('Category Sets A-D'!$M$14:$M$102)-MIN(ROW('Category Sets A-D'!$M$14:$M$102))+1, \"\"), ROW(A46))),\"\")","v":""},{"$f":"IFERROR(INDEX('Category Sets A-D'!$O$14:$O$102, SMALL(IF($U$14='Category Sets A-D'!$M$14:$M$102, ROW('Category Sets A-D'!$M$14:$M$102)-MIN(ROW('Category Sets A-D'!$M$14:$M$102))+1, \"\"), ROW(A46))),\"\")","v":""},0]
["","",null,null,null,null,null,null,null,null,null,null,"",null,null,null,null,null,{"$f":"IFERROR(INDEX('Category Sets A-D'!$L$14:$L$102, SMALL(IF($U$14='Category Sets A-D'!$M$14:$M$102, ROW('Category Sets A-D'!$M$14:$M$102)-MIN(ROW('Category Sets A-D'!$M$14:$M$102))+1, \"\"), ROW(A47))),\"\")","v":""},{"$f":"IFERROR(INDEX('Category Sets A-D'!$P$14:$P$102, SMALL(IF($U$14='Category Sets A-D'!$M$14:$M$102, ROW('Category Sets A-D'!$M$14:$M$102)-MIN(ROW('Category Sets A-D'!$M$14:$M$102))+1, \"\"), ROW(A47))),\"\")","v":""},{"$f":"IFERROR(INDEX('Category Sets A-D'!$N$14:$N$102, SMALL(IF($U$14='Category Sets A-D'!$M$14:$M$102, ROW('Category Sets A-D'!$M$14:$M$102)-MIN(ROW('Category Sets A-D'!$M$14:$M$102))+1, \"\"), ROW(A47))),\"\")","v":""},{"$f":"IFERROR(INDEX('Category Sets A-D'!$O$14:$O$102, SMALL(IF($U$14='Category Sets A-D'!$M$14:$M$102, ROW('Category Sets A-D'!$M$14:$M$102)-MIN(ROW('Category Sets A-D'!$M$14:$M$102))+1, \"\"), ROW(A47))),\"\")","v":""},0]
["","",null,null,null,null,null,null,null,null,null,null,"",null,null,null,null,null,{"$f":"IFERROR(INDEX('Category Sets A-D'!$L$14:$L$102, SMALL(IF($U$14='Category Sets A-D'!$M$14:$M$102, ROW('Category Sets A-D'!$M$14:$M$102)-MIN(ROW('Category Sets A-D'!$M$14:$M$102))+1, \"\"), ROW(A48))),\"\")","v":""},{"$f":"IFERROR(INDEX('Category Sets A-D'!$P$14:$P$102, SMALL(IF($U$14='Category Sets A-D'!$M$14:$M$102, ROW('Category Sets A-D'!$M$14:$M$102)-MIN(ROW('Category Sets A-D'!$M$14:$M$102))+1, \"\"), ROW(A48))),\"\")","v":""},{"$f":"IFERROR(INDEX('Category Sets A-D'!$N$14:$N$102, SMALL(IF($U$14='Category Sets A-D'!$M$14:$M$102, ROW('Category Sets A-D'!$M$14:$M$102)-MIN(ROW('Category Sets A-D'!$M$14:$M$102))+1, \"\"), ROW(A48))),\"\")","v":""},{"$f":"IFERROR(INDEX('Category Sets A-D'!$O$14:$O$102, SMALL(IF($U$14='Category Sets A-D'!$M$14:$M$102, ROW('Category Sets A-D'!$M$14:$M$102)-MIN(ROW('Category Sets A-D'!$M$14:$M$102))+1, \"\"), ROW(A48))),\"\")","v":""},0]
["","",null,null,null,null,null,null,null,null,null,null,"",null,null,null,null,null,{"$f":"IFERROR(INDEX('Category Sets A-D'!$L$14:$L$102, SMALL(IF($U$14='Category Sets A-D'!$M$14:$M$102, ROW('Category Sets A-D'!$M$14:$M$102)-MIN(ROW('Category Sets A-D'!$M$14:$M$102))+1, \"\"), ROW(A49))),\"\")","v":""},{"$f":"IFERROR(INDEX('Category Sets A-D'!$P$14:$P$102, SMALL(IF($U$14='Category Sets A-D'!$M$14:$M$102, ROW('Category Sets A-D'!$M$14:$M$102)-MIN(ROW('Category Sets A-D'!$M$14:$M$102))+1, \"\"), ROW(A49))),\"\")","v":""},{"$f":"IFERROR(INDEX('Category Sets A-D'!$N$14:$N$102, SMALL(IF($U$14='Category Sets A-D'!$M$14:$M$102, ROW('Category Sets A-D'!$M$14:$M$102)-MIN(ROW('Category Sets A-D'!$M$14:$M$102))+1, \"\"), ROW(A49))),\"\")","v":""},{"$f":"IFERROR(INDEX('Category Sets A-D'!$O$14:$O$102, SMALL(IF($U$14='Category Sets A-D'!$M$14:$M$102, ROW('Category Sets A-D'!$M$14:$M$102)-MIN(ROW('Category Sets A-D'!$M$14:$M$102))+1, \"\"), ROW(A49))),\"\")","v":""},0]
["","",null,null,null,null,null,null,null,null,null,null,"",null,null,null,null,null,{"$f":"IFERROR(INDEX('Category Sets A-D'!$L$14:$L$102, SMALL(IF($U$14='Category Sets A-D'!$M$14:$M$102, ROW('Category Sets A-D'!$M$14:$M$102)-MIN(ROW('Category Sets A-D'!$M$14:$M$102))+1, \"\"), ROW(A50))),\"\")","v":""},{"$f":"IFERROR(INDEX('Category Sets A-D'!$P$14:$P$102, SMALL(IF($U$14='Category Sets A-D'!$M$14:$M$102, ROW('Category Sets A-D'!$M$14:$M$102)-MIN(ROW('Category Sets A-D'!$M$14:$M$102))+1, \"\"), ROW(A50))),\"\")","v":""},{"$f":"IFERROR(INDEX('Category Sets A-D'!$N$14:$N$102, SMALL(IF($U$14='Category Sets A-D'!$M$14:$M$102, ROW('Category Sets A-D'!$M$14:$M$102)-MIN(ROW('Category Sets A-D'!$M$14:$M$102))+1, \"\"), ROW(A50))),\"\")","v":""},{"$f":"IFERROR(INDEX('Category Sets A-D'!$O$14:$O$102, SMALL(IF($U$14='Category Sets A-D'!$M$14:$M$102, ROW('Category Sets A-D'!$M$14:$M$102)-MIN(ROW('Category Sets A-D'!$M$14:$M$102))+1, \"\"), ROW(A50))),\"\")","v":""},0]
["","",null,null,null,null,null,null,null,null,null,null,"",null,null,null,null,null,{"$f":"IFERROR(INDEX('Category Sets A-D'!$L$14:$L$102, SMALL(IF($U$14='Category Sets A-D'!$M$14:$M$102, ROW('Category Sets A-D'!$M$14:$M$102)-MIN(ROW('Category Sets A-D'!$M$14:$M$102))+1, \"\"), ROW(A51))),\"\")","v":""},{"$f":"IFERROR(INDEX('Category Sets A-D'!$P$14:$P$102, SMALL(IF($U$14='Category Sets A-D'!$M$14:$M$102, ROW('Category Sets A-D'!$M$14:$M$102)-MIN(ROW('Category Sets A-D'!$M$14:$M$102))+1, \"\"), ROW(A51))),\"\")","v":""},{"$f":"IFERROR(INDEX('Category Sets A-D'!$N$14:$N$102, SMALL(IF($U$14='Category Sets A-D'!$M$14:$M$102, ROW('Category Sets A-D'!$M$14:$M$102)-MIN(ROW('Category Sets A-D'!$M$14:$M$102))+1, \"\"), ROW(A51))),\"\")","v":""},{"$f":"IFERROR(INDEX('Category Sets A-D'!$O$14:$O$102, SMALL(IF($U$14='Category Sets A-D'!$M$14:$M$102, ROW('Category Sets A-D'!$M$14:$M$102)-MIN(ROW('Category Sets A-D'!$M$14:$M$102))+1, \"\"), ROW(A51))),\"\")","v":""},0]
["","",null,null,null,null,null,null,null,null,null,null,"",null,null,null,null,null,{"$f":"IFERROR(INDEX('Category Sets A-D'!$L$14:$L$102, SMALL(IF($U$14='Category Sets A-D'!$M$14:$M$102, ROW('Category Sets A-D'!$M$14:$M$102)-MIN(ROW('Category Sets A-D'!$M$14:$M$102))+1, \"\"), ROW(A52))),\"\")","v":""},{"$f":"IFERROR(INDEX('Category Sets A-D'!$P$14:$P$102, SMALL(IF($U$14='Category Sets A-D'!$M$14:$M$102, ROW('Category Sets A-D'!$M$14:$M$102)-MIN(ROW('Category Sets A-D'!$M$14:$M$102))+1, \"\"), ROW(A52))),\"\")","v":""},{"$f":"IFERROR(INDEX('Category Sets A-D'!$N$14:$N$102, SMALL(IF($U$14='Category Sets A-D'!$M$14:$M$102, ROW('Category Sets A-D'!$M$14:$M$102)-MIN(ROW('Category Sets A-D'!$M$14:$M$102))+1, \"\"), ROW(A52))),\"\")","v":""},{"$f":"IFERROR(INDEX('Category Sets A-D'!$O$14:$O$102, SMALL(IF($U$14='Category Sets A-D'!$M$14:$M$102, ROW('Category Sets A-D'!$M$14:$M$102)-MIN(ROW('Category Sets A-D'!$M$14:$M$102))+1, \"\"), ROW(A52))),\"\")","v":""},0]
["","",null,null,null,null,null,null,null,null,null,null,"",null,null,null,null,null,{"$f":"IFERROR(INDEX('Category Sets A-D'!$L$14:$L$102, SMALL(IF($U$14='Category Sets A-D'!$M$14:$M$102, ROW('Category Sets A-D'!$M$14:$M$102)-MIN(ROW('Category Sets A-D'!$M$14:$M$102))+1, \"\"), ROW(A53))),\"\")","v":""},{"$f":"IFERROR(INDEX('Category Sets A-D'!$P$14:$P$102, SMALL(IF($U$14='Category Sets A-D'!$M$14:$M$102, ROW('Category Sets A-D'!$M$14:$M$102)-MIN(ROW('Category Sets A-D'!$M$14:$M$102))+1, \"\"), ROW(A53))),\"\")","v":""},{"$f":"IFERROR(INDEX('Category Sets A-D'!$N$14:$N$102, SMALL(IF($U$14='Category Sets A-D'!$M$14:$M$102, ROW('Category Sets A-D'!$M$14:$M$102)-MIN(ROW('Category Sets A-D'!$M$14:$M$102))+1, \"\"), ROW(A53))),\"\")","v":""},{"$f":"IFERROR(INDEX('Category Sets A-D'!$O$14:$O$102, SMALL(IF($U$14='Category Sets A-D'!$M$14:$M$102, ROW('Category Sets A-D'!$M$14:$M$102)-MIN(ROW('Category Sets A-D'!$M$14:$M$102))+1, \"\"), ROW(A53))),\"\")","v":""},0]
["","",null,null,null,null,null,null,null,null,null,null,"",null,null,null,null,null,{"$f":"IFERROR(INDEX('Category Sets A-D'!$L$14:$L$102, SMALL(IF($U$14='Category Sets A-D'!$M$14:$M$102, ROW('Category Sets A-D'!$M$14:$M$102)-MIN(ROW('Category Sets A-D'!$M$14:$M$102))+1, \"\"), ROW(A54))),\"\")","v":""},{"$f":"IFERROR(INDEX('Category Sets A-D'!$P$14:$P$102, SMALL(IF($U$14='Category Sets A-D'!$M$14:$M$102, ROW('Category Sets A-D'!$M$14:$M$102)-MIN(ROW('Category Sets A-D'!$M$14:$M$102))+1, \"\"), ROW(A54))),\"\")","v":""},{"$f":"IFERROR(INDEX('Category Sets A-D'!$N$14:$N$102, SMALL(IF($U$14='Category Sets A-D'!$M$14:$M$102, ROW('Category Sets A-D'!$M$14:$M$102)-MIN(ROW('Category Sets A-D'!$M$14:$M$102))+1, \"\"), ROW(A54))),\"\")","v":""},{"$f":"IFERROR(INDEX('Category Sets A-D'!$O$14:$O$102, SMALL(IF($U$14='Category Sets A-D'!$M$14:$M$102, ROW('Category Sets A-D'!$M$14:$M$102)-MIN(ROW('Category Sets A-D'!$M$14:$M$102))+1, \"\"), ROW(A54))),\"\")","v":""},0]
["","",null,null,null,null,null,null,null,null,null,null,"",null,null,null,null,null,{"$f":"IFERROR(INDEX('Category Sets A-D'!$L$14:$L$102, SMALL(IF($U$14='Category Sets A-D'!$M$14:$M$102, ROW('Category Sets A-D'!$M$14:$M$102)-MIN(ROW('Category Sets A-D'!$M$14:$M$102))+1, \"\"), ROW(A55))),\"\")","v":""},{"$f":"IFERROR(INDEX('Category Sets A-D'!$P$14:$P$102, SMALL(IF($U$14='Category Sets A-D'!$M$14:$M$102, ROW('Category Sets A-D'!$M$14:$M$102)-MIN(ROW('Category Sets A-D'!$M$14:$M$102))+1, \"\"), ROW(A55))),\"\")","v":""},{"$f":"IFERROR(INDEX('Category Sets A-D'!$N$14:$N$102, SMALL(IF($U$14='Category Sets A-D'!$M$14:$M$102, ROW('Category Sets A-D'!$M$14:$M$102)-MIN(ROW('Category Sets A-D'!$M$14:$M$102))+1, \"\"), ROW(A55))),\"\")","v":""},{"$f":"IFERROR(INDEX('Category Sets A-D'!$O$14:$O$102, SMALL(IF($U$14='Category Sets A-D'!$M$14:$M$102, ROW('Category Sets A-D'!$M$14:$M$102)-MIN(ROW('Category Sets A-D'!$M$14:$M$102))+1, \"\"), ROW(A55))),\"\")","v":""},0]
["","",null,null,null,null,null,null,null,null,null,null,"",null,null,null,null,null,{"$f":"IFERROR(INDEX('Category Sets A-D'!$L$14:$L$102, SMALL(IF($U$14='Category Sets A-D'!$M$14:$M$102, ROW('Category Sets A-D'!$M$14:$M$102)-MIN(ROW('Category Sets A-D'!$M$14:$M$102))+1, \"\"), ROW(A56))),\"\")","v":""},{"$f":"IFERROR(INDEX('Category Sets A-D'!$P$14:$P$102, SMALL(IF($U$14='Category Sets A-D'!$M$14:$M$102, ROW('Category Sets A-D'!$M$14:$M$102)-MIN(ROW('Category Sets A-D'!$M$14:$M$102))+1, \"\"), ROW(A56))),\"\")","v":""},{"$f":"IFERROR(INDEX('Category Sets A-D'!$N$14:$N$102, SMALL(IF($U$14='Category Sets A-D'!$M$14:$M$102, ROW('Category Sets A-D'!$M$14:$M$102)-MIN(ROW('Category Sets A-D'!$M$14:$M$102))+1, \"\"), ROW(A56))),\"\")","v":""},{"$f":"IFERROR(INDEX('Category Sets A-D'!$O$14:$O$102, SMALL(IF($U$14='Category Sets A-D'!$M$14:$M$102, ROW('Category Sets A-D'!$M$14:$M$102)-MIN(ROW('Category Sets A-D'!$M$14:$M$102))+1, \"\"), ROW(A56))),\"\")","v":""},0]
["","",null,null,null,null,null,null,null,null,null,null,"",null,null,null,null,null,{"$f":"IFERROR(INDEX('Category Sets A-D'!$L$14:$L$102, SMALL(IF($U$14='Category Sets A-D'!$M$14:$M$102, ROW('Category Sets A-D'!$M$14:$M$102)-MIN(ROW('Category Sets A-D'!$M$14:$M$102))+1, \"\"), ROW(A57))),\"\")","v":""},{"$f":"IFERROR(INDEX('Category Sets A-D'!$P$14:$P$102, SMALL(IF($U$14='Category Sets A-D'!$M$14:$M$102, ROW('Category Sets A-D'!$M$14:$M$102)-MIN(ROW('Category Sets A-D'!$M$14:$M$102))+1, \"\"), ROW(A57))),\"\")","v":""},{"$f":"IFERROR(INDEX('Category Sets A-D'!$N$14:$N$102, SMALL(IF($U$14='Category Sets A-D'!$M$14:$M$102, ROW('Category Sets A-D'!$M$14:$M$102)-MIN(ROW('Category Sets A-D'!$M$14:$M$102))+1, \"\"), ROW(A57))),\"\")","v":""},{"$f":"IFERROR(INDEX('Category Sets A-D'!$O$14:$O$102, SMALL(IF($U$14='Category Sets A-D'!$M$14:$M$102, ROW('Category Sets A-D'!$M$14:$M$102)-MIN(ROW('Category Sets A-D'!$M$14:$M$102))+1, \"\"), ROW(A57))),\"\")","v":""},0]
["","",null,null,null,null,null,null,null,null,null,null,"",null,null,null,null,null,{"$f":"IFERROR(INDEX('Category Sets A-D'!$L$14:$L$102, SMALL(IF($U$14='Category Sets A-D'!$M$14:$M$102, ROW('Category Sets A-D'!$M$14:$M$102)-MIN(ROW('Category Sets A-D'!$M$14:$M$102))+1, \"\"), ROW(A58))),\"\")","v":""},{"$f":"IFERROR(INDEX('Category Sets A-D'!$P$14:$P$102, SMALL(IF($U$14='Category Sets A-D'!$M$14:$M$102, ROW('Category Sets A-D'!$M$14:$M$102)-MIN(ROW('Category Sets A-D'!$M$14:$M$102))+1, \"\"), ROW(A58))),\"\")","v":""},{"$f":"IFERROR(INDEX('Category Sets A-D'!$N$14:$N$102, SMALL(IF($U$14='Category Sets A-D'!$M$14:$M$102, ROW('Category Sets A-D'!$M$14:$M$102)-MIN(ROW('Category Sets A-D'!$M$14:$M$102))+1, \"\"), ROW(A58))),\"\")","v":""},{"$f":"IFERROR(INDEX('Category Sets A-D'!$O$14:$O$102, SMALL(IF($U$14='Category Sets A-D'!$M$14:$M$102, ROW('Category Sets A-D'!$M$14:$M$102)-MIN(ROW('Category Sets A-D'!$M$14:$M$102))+1, \"\"), ROW(A58))),\"\")","v":""},0]
["","",null,null,null,null,null,null,null,null,null,null,"",null,null,null,null,null,{"$f":"IFERROR(INDEX('Category Sets A-D'!$L$14:$L$102, SMALL(IF($U$14='Category Sets A-D'!$M$14:$M$102, ROW('Category Sets A-D'!$M$14:$M$102)-MIN(ROW('Category Sets A-D'!$M$14:$M$102))+1, \"\"), ROW(A59))),\"\")","v":""},{"$f":"IFERROR(INDEX('Category Sets A-D'!$P$14:$P$102, SMALL(IF($U$14='Category Sets A-D'!$M$14:$M$102, ROW('Category Sets A-D'!$M$14:$M$102)-MIN(ROW('Category Sets A-D'!$M$14:$M$102))+1, \"\"), ROW(A59))),\"\")","v":""},{"$f":"IFERROR(INDEX('Category Sets A-D'!$N$14:$N$102, SMALL(IF($U$14='Category Sets A-D'!$M$14:$M$102, ROW('Category Sets A-D'!$M$14:$M$102)-MIN(ROW('Category Sets A-D'!$M$14:$M$102))+1, \"\"), ROW(A59))),\"\")","v":""},{"$f":"IFERROR(INDEX('Category Sets A-D'!$O$14:$O$102, SMALL(IF($U$14='Category Sets A-D'!$M$14:$M$102, ROW('Category Sets A-D'!$M$14:$M$102)-MIN(ROW('Category Sets A-D'!$M$14:$M$102))+1, \"\"), ROW(A59))),\"\")","v":""},0]
["","",null,null,null,null,null,null,null,null,null,null,"",null,null,null,null,null,{"$f":"IFERROR(INDEX('Category Sets A-D'!$L$14:$L$102, SMALL(IF($U$14='Category Sets A-D'!$M$14:$M$102, ROW('Category Sets A-D'!$M$14:$M$102)-MIN(ROW('Category Sets A-D'!$M$14:$M$102))+1, \"\"), ROW(A60))),\"\")","v":""},{"$f":"IFERROR(INDEX('Category Sets A-D'!$P$14:$P$102, SMALL(IF($U$14='Category Sets A-D'!$M$14:$M$102, ROW('Category Sets A-D'!$M$14:$M$102)-MIN(ROW('Category Sets A-D'!$M$14:$M$102))+1, \"\"), ROW(A60))),\"\")","v":""},{"$f":"IFERROR(INDEX('Category Sets A-D'!$N$14:$N$102, SMALL(IF($U$14='Category Sets A-D'!$M$14:$M$102, ROW('Category Sets A-D'!$M$14:$M$102)-MIN(ROW('Category Sets A-D'!$M$14:$M$102))+1, \"\"), ROW(A60))),\"\")","v":""},{"$f":"IFERROR(INDEX('Category Sets A-D'!$O$14:$O$102, SMALL(IF($U$14='Category Sets A-D'!$M$14:$M$102, ROW('Category Sets A-D'!$M$14:$M$102)-MIN(ROW('Category Sets A-D'!$M$14:$M$102))+1, \"\"), ROW(A60))),\"\")","v":""},0]
["","",null,null,null,null,null,null,null,null,null,null,"",null,null,null,null,null,{"$f":"IFERROR(INDEX('Category Sets A-D'!$L$14:$L$102, SMALL(IF($U$14='Category Sets A-D'!$M$14:$M$102, ROW('Category Sets A-D'!$M$14:$M$102)-MIN(ROW('Category Sets A-D'!$M$14:$M$102))+1, \"\"), ROW(A61))),\"\")","v":""},{"$f":"IFERROR(INDEX('Category Sets A-D'!$P$14:$P$102, SMALL(IF($U$14='Category Sets A-D'!$M$14:$M$102, ROW('Category Sets A-D'!$M$14:$M$102)-MIN(ROW('Category Sets A-D'!$M$14:$M$102))+1, \"\"), ROW(A61))),\"\")","v":""},{"$f":"IFERROR(INDEX('Category Sets A-D'!$N$14:$N$102, SMALL(IF($U$14='Category Sets A-D'!$M$14:$M$102, ROW('Category Sets A-D'!$M$14:$M$102)-MIN(ROW('Category Sets A-D'!$M$14:$M$102))+1, \"\"), ROW(A61))),\"\")","v":""},{"$f":"IFERROR(INDEX('Category Sets A-D'!$O$14:$O$102, SMALL(IF($U$14='Category Sets A-D'!$M$14:$M$102, ROW('Category Sets A-D'!$M$14:$M$102)-MIN(ROW('Category Sets A-D'!$M$14:$M$102))+1, \"\"), ROW(A61))),\"\")","v":""},0]
["","",null,null,null,null,null,null,null,null,null,null,"",null,null,null,null,null,{"$f":"IFERROR(INDEX('Category Sets A-D'!$L$14:$L$102, SMALL(IF($U$14='Category Sets A-D'!$M$14:$M$102, ROW('Category Sets A-D'!$M$14:$M$102)-MIN(ROW('Category Sets A-D'!$M$14:$M$102))+1, \"\"), ROW(A62))),\"\")","v":""},{"$f":"IFERROR(INDEX('Category Sets A-D'!$P$14:$P$102, SMALL(IF($U$14='Category Sets A-D'!$M$14:$M$102, ROW('Category Sets A-D'!$M$14:$M$102)-MIN(ROW('Category Sets A-D'!$M$14:$M$102))+1, \"\"), ROW(A62))),\"\")","v":""},{"$f":"IFERROR(INDEX('Category Sets A-D'!$N$14:$N$102, SMALL(IF($U$14='Category Sets A-D'!$M$14:$M$102, ROW('Category Sets A-D'!$M$14:$M$102)-MIN(ROW('Category Sets A-D'!$M$14:$M$102))+1, \"\"), ROW(A62))),\"\")","v":""},{"$f":"IFERROR(INDEX('Category Sets A-D'!$O$14:$O$102, SMALL(IF($U$14='Category Sets A-D'!$M$14:$M$102, ROW('Category Sets A-D'!$M$14:$M$102)-MIN(ROW('Category Sets A-D'!$M$14:$M$102))+1, \"\"), ROW(A62))),\"\")","v":""},0]
["","",null,null,null,null,null,null,null,null,null,null,"",null,null,null,null,null,{"$f":"IFERROR(INDEX('Category Sets A-D'!$L$14:$L$102, SMALL(IF($U$14='Category Sets A-D'!$M$14:$M$102, ROW('Category Sets A-D'!$M$14:$M$102)-MIN(ROW('Category Sets A-D'!$M$14:$M$102))+1, \"\"), ROW(A63))),\"\")","v":""},{"$f":"IFERROR(INDEX('Category Sets A-D'!$P$14:$P$102, SMALL(IF($U$14='Category Sets A-D'!$M$14:$M$102, ROW('Category Sets A-D'!$M$14:$M$102)-MIN(ROW('Category Sets A-D'!$M$14:$M$102))+1, \"\"), ROW(A63))),\"\")","v":""},{"$f":"IFERROR(INDEX('Category Sets A-D'!$N$14:$N$102, SMALL(IF($U$14='Category Sets A-D'!$M$14:$M$102, ROW('Category Sets A-D'!$M$14:$M$102)-MIN(ROW('Category Sets A-D'!$M$14:$M$102))+1, \"\"), ROW(A63))),\"\")","v":""},{"$f":"IFERROR(INDEX('Category Sets A-D'!$O$14:$O$102, SMALL(IF($U$14='Category Sets A-D'!$M$14:$M$102, ROW('Category Sets A-D'!$M$14:$M$102)-MIN(ROW('Category Sets A-D'!$M$14:$M$102))+1, \"\"), ROW(A63))),\"\")","v":""},0]
["","",null,null,null,null,null,null,null,null,null,null,"",null,null,null,null,null,{"$f":"IFERROR(INDEX('Category Sets A-D'!$L$14:$L$102, SMALL(IF($U$14='Category Sets A-D'!$M$14:$M$102, ROW('Category Sets A-D'!$M$14:$M$102)-MIN(ROW('Category Sets A-D'!$M$14:$M$102))+1, \"\"), ROW(A64))),\"\")","v":""},{"$f":"IFERROR(INDEX('Category Sets A-D'!$P$14:$P$102, SMALL(IF($U$14='Category Sets A-D'!$M$14:$M$102, ROW('Category Sets A-D'!$M$14:$M$102)-MIN(ROW('Category Sets A-D'!$M$14:$M$102))+1, \"\"), ROW(A64))),\"\")","v":""},{"$f":"IFERROR(INDEX('Category Sets A-D'!$N$14:$N$102, SMALL(IF($U$14='Category Sets A-D'!$M$14:$M$102, ROW('Category Sets A-D'!$M$14:$M$102)-MIN(ROW('Category Sets A-D'!$M$14:$M$102))+1, \"\"), ROW(A64))),\"\")","v":""},{"$f":"IFERROR(INDEX('Category Sets A-D'!$O$14:$O$102, SMALL(IF($U$14='Category Sets A-D'!$M$14:$M$102, ROW('Category Sets A-D'!$M$14:$M$102)-MIN(ROW('Category Sets A-D'!$M$14:$M$102))+1, \"\"), ROW(A64))),\"\")","v":""},0]
["","",null,null,null,null,null,null,null,null,null,null,{"$f":"IF(S96=\"\",\"\",HYPERLINK(CONCATENATE(\"#\",\"'Category Sets A-D'!\",S96),U96))","v":""},null,null,null,null,null,{"$f":"IFERROR(INDEX('Category Sets A-D'!$L$14:$L$102, SMALL(IF($U$14='Category Sets A-D'!$M$14:$M$102, ROW('Category Sets A-D'!$M$14:$M$102)-MIN(ROW('Category Sets A-D'!$M$14:$M$102))+1, \"\"), ROW(A65))),\"\")","v":""},{"$f":"IFERROR(INDEX('Category Sets A-D'!$P$14:$P$102, SMALL(IF($U$14='Category Sets A-D'!$M$14:$M$102, ROW('Category Sets A-D'!$M$14:$M$102)-MIN(ROW('Category Sets A-D'!$M$14:$M$102))+1, \"\"), ROW(A65))),\"\")","v":""},{"$f":"IFERROR(INDEX('Category Sets A-D'!$N$14:$N$102, SMALL(IF($U$14='Category Sets A-D'!$M$14:$M$102, ROW('Category Sets A-D'!$M$14:$M$102)-MIN(ROW('Category Sets A-D'!$M$14:$M$102))+1, \"\"), ROW(A65))),\"\")","v":""},{"$f":"IFERROR(INDEX('Category Sets A-D'!$O$14:$O$102, SMALL(IF($U$14='Category Sets A-D'!$M$14:$M$102, ROW('Category Sets A-D'!$M$14:$M$102)-MIN(ROW('Category Sets A-D'!$M$14:$M$102))+1, \"\"), ROW(A65))),\"\")","v":""},0]
[{"$f":"V97","v":""},{"$f":"IF(W97=1,\"No Data\",T97)","v":""},null,null,null,null,null,null,null,null,null,null,"",null,null,null,null,null,{"$f":"IFERROR(INDEX('Category Sets A-D'!$L$14:$L$102, SMALL(IF($U$14='Category Sets A-D'!$M$14:$M$102, ROW('Category Sets A-D'!$M$14:$M$102)-MIN(ROW('Category Sets A-D'!$M$14:$M$102))+1, \"\"), ROW(A66))),\"\")","v":""},{"$f":"IFERROR(INDEX('Category Sets A-D'!$P$14:$P$102, SMALL(IF($U$14='Category Sets A-D'!$M$14:$M$102, ROW('Category Sets A-D'!$M$14:$M$102)-MIN(ROW('Category Sets A-D'!$M$14:$M$102))+1, \"\"), ROW(A66))),\"\")","v":""},{"$f":"IFERROR(INDEX('Category Sets A-D'!$N$14:$N$102, SMALL(IF($U$14='Category Sets A-D'!$M$14:$M$102, ROW('Category Sets A-D'!$M$14:$M$102)-MIN(ROW('Category Sets A-D'!$M$14:$M$102))+1, \"\"), ROW(A66))),\"\")","v":""},{"$f":"IFERROR(INDEX('Category Sets A-D'!$O$14:$O$102, SMALL(IF($U$14='Category Sets A-D'!$M$14:$M$102, ROW('Category Sets A-D'!$M$14:$M$102)-MIN(ROW('Category Sets A-D'!$M$14:$M$102))+1, \"\"), ROW(A66))),\"\")","v":""},{"$f":"IF(U97=\"No Data\",1,0)","v":0}]
["","",null,null,null,null,null,null,null,null,null,null,"",null,null,null,null,null,{"$f":"IFERROR(INDEX('Category Sets A-D'!$L$14:$L$102, SMALL(IF($U$14='Category Sets A-D'!$M$14:$M$102, ROW('Category Sets A-D'!$M$14:$M$102)-MIN(ROW('Category Sets A-D'!$M$14:$M$102))+1, \"\"), ROW(A67))),\"\")","v":""},{"$f":"IFERROR(INDEX('Category Sets A-D'!$P$14:$P$102, SMALL(IF($U$14='Category Sets A-D'!$M$14:$M$102, ROW('Category Sets A-D'!$M$14:$M$102)-MIN(ROW('Category Sets A-D'!$M$14:$M$102))+1, \"\"), ROW(A67))),\"\")","v":""},{"$f":"IFERROR(INDEX('Category Sets A-D'!$N$14:$N$102, SMALL(IF($U$14='Category Sets A-D'!$M$14:$M$102, ROW('Category Sets A-D'!$M$14:$M$102)-MIN(ROW('Category Sets A-D'!$M$14:$M$102))+1, \"\"), ROW(A67))),\"\")","v":""},{"$f":"IFERROR(INDEX('Category Sets A-D'!$O$14:$O$102, SMALL(IF($U$14='Category Sets A-D'!$M$14:$M$102, ROW('Category Sets A-D'!$M$14:$M$102)-MIN(ROW('Category Sets A-D'!$M$14:$M$102))+1, \"\"), ROW(A67))),\"\")","v":""},0]
["","",null,null,null,null,null,null,null,null,null,null,"",null,null,null,null,null,{"$f":"IFERROR(INDEX('Category Sets A-D'!$L$14:$L$102, SMALL(IF($U$14='Category Sets A-D'!$M$14:$M$102, ROW('Category Sets A-D'!$M$14:$M$102)-MIN(ROW('Category Sets A-D'!$M$14:$M$102))+1, \"\"), ROW(A68))),\"\")","v":""},{"$f":"IFERROR(INDEX('Category Sets A-D'!$P$14:$P$102, SMALL(IF($U$14='Category Sets A-D'!$M$14:$M$102, ROW('Category Sets A-D'!$M$14:$M$102)-MIN(ROW('Category Sets A-D'!$M$14:$M$102))+1, \"\"), ROW(A68))),\"\")","v":""},{"$f":"IFERROR(INDEX('Category Sets A-D'!$N$14:$N$102, SMALL(IF($U$14='Category Sets A-D'!$M$14:$M$102, ROW('Category Sets A-D'!$M$14:$M$102)-MIN(ROW('Category Sets A-D'!$M$14:$M$102))+1, \"\"), ROW(A68))),\"\")","v":""},{"$f":"IFERROR(INDEX('Category Sets A-D'!$O$14:$O$102, SMALL(IF($U$14='Category Sets A-D'!$M$14:$M$102, ROW('Category Sets A-D'!$M$14:$M$102)-MIN(ROW('Category Sets A-D'!$M$14:$M$102))+1, \"\"), ROW(A68))),\"\")","v":""},0]
["","",null,null,null,null,null,null,null,null,null,null,"",null,null,null,null,null,{"$f":"IFERROR(INDEX('Category Sets A-D'!$L$14:$L$102, SMALL(IF($U$14='Category Sets A-D'!$M$14:$M$102, ROW('Category Sets A-D'!$M$14:$M$102)-MIN(ROW('Category Sets A-D'!$M$14:$M$102))+1, \"\"), ROW(A69))),\"\")","v":""},{"$f":"IFERROR(INDEX('Category Sets A-D'!$P$14:$P$102, SMALL(IF($U$14='Category Sets A-D'!$M$14:$M$102, ROW('Category Sets A-D'!$M$14:$M$102)-MIN(ROW('Category Sets A-D'!$M$14:$M$102))+1, \"\"), ROW(A69))),\"\")","v":""},{"$f":"IFERROR(INDEX('Category Sets A-D'!$N$14:$N$102, SMALL(IF($U$14='Category Sets A-D'!$M$14:$M$102, ROW('Category Sets A-D'!$M$14:$M$102)-MIN(ROW('Category Sets A-D'!$M$14:$M$102))+1, \"\"), ROW(A69))),\"\")","v":""},{"$f":"IFERROR(INDEX('Category Sets A-D'!$O$14:$O$102, SMALL(IF($U$14='Category Sets A-D'!$M$14:$M$102, ROW('Category Sets A-D'!$M$14:$M$102)-MIN(ROW('Category Sets A-D'!$M$14:$M$102))+1, \"\"), ROW(A69))),\"\")","v":""},0]
["","",null,null,null,null,null,null,null,null,null,null,"",null,null,null,null,null,{"$f":"IFERROR(INDEX('Category Sets A-D'!$L$14:$L$102, SMALL(IF($U$14='Category Sets A-D'!$M$14:$M$102, ROW('Category Sets A-D'!$M$14:$M$102)-MIN(ROW('Category Sets A-D'!$M$14:$M$102))+1, \"\"), ROW(A70))),\"\")","v":""},{"$f":"IFERROR(INDEX('Category Sets A-D'!$P$14:$P$102, SMALL(IF($U$14='Category Sets A-D'!$M$14:$M$102, ROW('Category Sets A-D'!$M$14:$M$102)-MIN(ROW('Category Sets A-D'!$M$14:$M$102))+1, \"\"), ROW(A70))),\"\")","v":""},{"$f":"IFERROR(INDEX('Category Sets A-D'!$N$14:$N$102, SMALL(IF($U$14='Category Sets A-D'!$M$14:$M$102, ROW('Category Sets A-D'!$M$14:$M$102)-MIN(ROW('Category Sets A-D'!$M$14:$M$102))+1, \"\"), ROW(A70))),\"\")","v":""},{"$f":"IFERROR(INDEX('Category Sets A-D'!$O$14:$O$102, SMALL(IF($U$14='Category Sets A-D'!$M$14:$M$102, ROW('Category Sets A-D'!$M$14:$M$102)-MIN(ROW('Category Sets A-D'!$M$14:$M$102))+1, \"\"), ROW(A70))),\"\")","v":""},0]
["","",null,null,null,null,null,null,null,null,null,null,"",null,null,null,null,null,{"$f":"IFERROR(INDEX('Category Sets A-D'!$L$14:$L$102, SMALL(IF($U$14='Category Sets A-D'!$M$14:$M$102, ROW('Category Sets A-D'!$M$14:$M$102)-MIN(ROW('Category Sets A-D'!$M$14:$M$102))+1, \"\"), ROW(A71))),\"\")","v":""},{"$f":"IFERROR(INDEX('Category Sets A-D'!$P$14:$P$102, SMALL(IF($U$14='Category Sets A-D'!$M$14:$M$102, ROW('Category Sets A-D'!$M$14:$M$102)-MIN(ROW('Category Sets A-D'!$M$14:$M$102))+1, \"\"), ROW(A71))),\"\")","v":""},{"$f":"IFERROR(INDEX('Category Sets A-D'!$N$14:$N$102, SMALL(IF($U$14='Category Sets A-D'!$M$14:$M$102, ROW('Category Sets A-D'!$M$14:$M$102)-MIN(ROW('Category Sets A-D'!$M$14:$M$102))+1, \"\"), ROW(A71))),\"\")","v":""},{"$f":"IFERROR(INDEX('Category Sets A-D'!$O$14:$O$102, SMALL(IF($U$14='Category Sets A-D'!$M$14:$M$102, ROW('Category Sets A-D'!$M$14:$M$102)-MIN(ROW('Category Sets A-D'!$M$14:$M$102))+1, \"\"), ROW(A71))),\"\")","v":""},0]
["","",null,null,null,null,null,null,null,null,null,null,"",null,null,null,null,null,{"$f":"IFERROR(INDEX('Category Sets A-D'!$L$14:$L$102, SMALL(IF($U$14='Category Sets A-D'!$M$14:$M$102, ROW('Category Sets A-D'!$M$14:$M$102)-MIN(ROW('Category Sets A-D'!$M$14:$M$102))+1, \"\"), ROW(A72))),\"\")","v":""},{"$f":"IFERROR(INDEX('Category Sets A-D'!$P$14:$P$102, SMALL(IF($U$14='Category Sets A-D'!$M$14:$M$102, ROW('Category Sets A-D'!$M$14:$M$102)-MIN(ROW('Category Sets A-D'!$M$14:$M$102))+1, \"\"), ROW(A72))),\"\")","v":""},{"$f":"IFERROR(INDEX('Category Sets A-D'!$N$14:$N$102, SMALL(IF($U$14='Category Sets A-D'!$M$14:$M$102, ROW('Category Sets A-D'!$M$14:$M$102)-MIN(ROW('Category Sets A-D'!$M$14:$M$102))+1, \"\"), ROW(A72))),\"\")","v":""},{"$f":"IFERROR(INDEX('Category Sets A-D'!$O$14:$O$102, SMALL(IF($U$14='Category Sets A-D'!$M$14:$M$102, ROW('Category Sets A-D'!$M$14:$M$102)-MIN(ROW('Category Sets A-D'!$M$14:$M$102))+1, \"\"), ROW(A72))),\"\")","v":""},0]
["","",null,null,null,null,null,null,null,null,null,null,"",null,null,null,null,null,{"$f":"IFERROR(INDEX('Category Sets A-D'!$L$14:$L$102, SMALL(IF($U$14='Category Sets A-D'!$M$14:$M$102, ROW('Category Sets A-D'!$M$14:$M$102)-MIN(ROW('Category Sets A-D'!$M$14:$M$102))+1, \"\"), ROW(A73))),\"\")","v":""},{"$f":"IFERROR(INDEX('Category Sets A-D'!$P$14:$P$102, SMALL(IF($U$14='Category Sets A-D'!$M$14:$M$102, ROW('Category Sets A-D'!$M$14:$M$102)-MIN(ROW('Category Sets A-D'!$M$14:$M$102))+1, \"\"), ROW(A73))),\"\")","v":""},{"$f":"IFERROR(INDEX('Category Sets A-D'!$N$14:$N$102, SMALL(IF($U$14='Category Sets A-D'!$M$14:$M$102, ROW('Category Sets A-D'!$M$14:$M$102)-MIN(ROW('Category Sets A-D'!$M$14:$M$102))+1, \"\"), ROW(A73))),\"\")","v":""},{"$f":"IFERROR(INDEX('Category Sets A-D'!$O$14:$O$102, SMALL(IF($U$14='Category Sets A-D'!$M$14:$M$102, ROW('Category Sets A-D'!$M$14:$M$102)-MIN(ROW('Category Sets A-D'!$M$14:$M$102))+1, \"\"), ROW(A73))),\"\")","v":""},0]
["","",null,null,null,null,null,null,null,null,null,null,"",null,null,null,null,null,{"$f":"IFERROR(INDEX('Category Sets A-D'!$L$14:$L$102, SMALL(IF($U$14='Category Sets A-D'!$M$14:$M$102, ROW('Category Sets A-D'!$M$14:$M$102)-MIN(ROW('Category Sets A-D'!$M$14:$M$102))+1, \"\"), ROW(A74))),\"\")","v":""},{"$f":"IFERROR(INDEX('Category Sets A-D'!$P$14:$P$102, SMALL(IF($U$14='Category Sets A-D'!$M$14:$M$102, ROW('Category Sets A-D'!$M$14:$M$102)-MIN(ROW('Category Sets A-D'!$M$14:$M$102))+1, \"\"), ROW(A74))),\"\")","v":""},{"$f":"IFERROR(INDEX('Category Sets A-D'!$N$14:$N$102, SMALL(IF($U$14='Category Sets A-D'!$M$14:$M$102, ROW('Category Sets A-D'!$M$14:$M$102)-MIN(ROW('Category Sets A-D'!$M$14:$M$102))+1, \"\"), ROW(A74))),\"\")","v":""},{"$f":"IFERROR(INDEX('Category Sets A-D'!$O$14:$O$102, SMALL(IF($U$14='Category Sets A-D'!$M$14:$M$102, ROW('Category Sets A-D'!$M$14:$M$102)-MIN(ROW('Category Sets A-D'!$M$14:$M$102))+1, \"\"), ROW(A74))),\"\")","v":""},0]
[null,null,null,null,null,null,null,null,null,null,null,null,"",null,null,null,null,null,{"$f":"IFERROR(INDEX('Category Sets A-D'!$L$14:$L$102, SMALL(IF($U$14='Category Sets A-D'!$M$14:$M$102, ROW('Category Sets A-D'!$M$14:$M$102)-MIN(ROW('Category Sets A-D'!$M$14:$M$102))+1, \"\"), ROW(A75))),\"\")","v":""},{"$f":"IFERROR(INDEX('Category Sets A-D'!$P$14:$P$102, SMALL(IF($U$14='Category Sets A-D'!$M$14:$M$102, ROW('Category Sets A-D'!$M$14:$M$102)-MIN(ROW('Category Sets A-D'!$M$14:$M$102))+1, \"\"), ROW(A75))),\"\")","v":""},{"$f":"IFERROR(INDEX('Category Sets A-D'!$N$14:$N$102, SMALL(IF($U$14='Category Sets A-D'!$M$14:$M$102, ROW('Category Sets A-D'!$M$14:$M$102)-MIN(ROW('Category Sets A-D'!$M$14:$M$102))+1, \"\"), ROW(A75))),\"\")","v":""},{"$f":"IFERROR(INDEX('Category Sets A-D'!$O$14:$O$102, SMALL(IF($U$14='Category Sets A-D'!$M$14:$M$102, ROW('Category Sets A-D'!$M$14:$M$102)-MIN(ROW('Category Sets A-D'!$M$14:$M$102))+1, \"\"), ROW(A75))),\"\")","v":""},0]
[null,null,null,null,null,null,null,null,null,null,null,null,null,null,null,null,null,null,{"$f":"IFERROR(INDEX('Category Sets A-D'!$L$14:$L$102, SMALL(IF($U$14='Category Sets A-D'!$M$14:$M$102, ROW('Category Sets A-D'!$M$14:$M$102)-MIN(ROW('Category Sets A-D'!$M$14:$M$102))+1, \"\"), ROW(A76))),\"\")","v":""},{"$f":"IFERROR(INDEX('Category Sets A-D'!$P$14:$P$102, SMALL(IF($U$14='Category Sets A-D'!$M$14:$M$102, ROW('Category Sets A-D'!$M$14:$M$102)-MIN(ROW('Category Sets A-D'!$M$14:$M$102))+1, \"\"), ROW(A76))),\"\")","v":""},{"$f":"IFERROR(INDEX('Category Sets A-D'!$N$14:$N$102, SMALL(IF($U$14='Category Sets A-D'!$M$14:$M$102, ROW('Category Sets A-D'!$M$14:$M$102)-MIN(ROW('Category Sets A-D'!$M$14:$M$102))+1, \"\"), ROW(A76))),\"\")","v":""},{"$f":"IFERROR(INDEX('Category Sets A-D'!$O$14:$O$102, SMALL(IF($U$14='Category Sets A-D'!$M$14:$M$102, ROW('Category Sets A-D'!$M$14:$M$102)-MIN(ROW('Category Sets A-D'!$M$14:$M$102))+1, \"\"), ROW(A76))),\"\")","v":""},{"$f":"IF(U107=\"No Data\",1,0)","v":0}]
[]
["End of worksheet"]

{"sheet":"Subtotals","index":5,"n_rows":50,"n_cols":44,"rows_kept":50,"cut":false,"hidden":false,"merged":[[6,0,7,8],[46,0,46,4],[2,10,2,13],[8,10,8,12],[7,10,7,12],[3,10,3,12],[6,10,6,12],[10,10,10,12],[4,10,4,12],[42,0,42,4],[43,0,43,4],[44,0,44,4],[43,8,43,11],[16,8,16,11],[28,0,28,6],[15,8,15,11],[14,8,14,11],[14,0,14,4],[13,0,13,4],[28,8,28,13],[40,8,40,13],[37,0,37,4],[16,0,16,4],[36,0,36,4],[17,8,17,11],[19,20,19,27],[18,20,18,27],[17,20,17,27],[16,20,16,27],[15,20,15,27],[14,20,14,27],[13,20,13,27],[5,10,5,12],[31,0,31,4],[30,0,30,4],[12,0,12,6],[22,0,22,4],[21,0,21,4],[20,0,20,4],[19,0,19,4],[18,0,18,4],[17,0,17,4],[15,0,15,4],[12,8,12,13],[21,8,21,11],[20,8,20,11],[19,8,19,11],[18,8,18,11],[34,0,34,4],[33,0,33,4],[32,0,32,4],[13,8,13,11],[44,8,44,11],[25,8,25,11],[24,8,24,11],[23,8,23,11],[22,8,22,11],[26,8,26,11],[29,0,29,4],[40,0,40,6],[41,0,41,4],[35,0,35,4],[17,37,17,40],[12,29,12,35],[12,37,12,42],[13,29,13,33],[13,37,13,40],[14,29,14,33],[14,37,14,40],[22,29,22,33],[21,37,21,40],[15,29,15,33],[19,29,19,33],[15,37,15,40],[17,29,17,33],[16,37,16,40],[18,29,18,33],[16,29,16,33],[22,37,22,40],[18,37,18,40],[20,29,20,33],[19,37,19,40],[21,29,21,33],[20,37,20,40],[31,29,31,33],[30,37,30,40],[32,29,32,33],[31,37,31,40],[26,37,26,40],[25,37,25,40],[24,37,24,40],[23,37,23,40],[32,37,32,40],[29,29,29,35],[28,37,28,42],[30,29,30,33],[29,37,29,40],[42,37,42,40],[37,29,37,33],[36,37,36,40],[38,29,38,33],[37,37,37,40],[38,37,38,40],[34,29,34,33],[33,37,33,40],[35,29,35,33],[34,37,34,40],[36,29,36,33],[35,37,35,40],[0,0,0,13],[0,14,49,14],[44,29,44,33],[43,37,43,40],[45,29,45,33],[44,37,44,40],[29,8,29,11],[30,8,30,11],[31,8,31,11],[32,8,32,11],[33,8,33,11],[34,8,34,11],[35,8,35,11],[36,8,36,11],[37,8,37,11],[38,8,38,11],[41,8,41,11],[42,8,42,11],[41,29,41,35],[40,37,40,42],[42,29,42,33],[41,37,41,40],[43,29,43,33],[33,29,33,33]]}
[{"$f":"\"IDEA LEA Exiting Data for School Year \"&'Exiting (LEA FS009)'!E12&\" - \"&'Select LEA'!F6","v":"IDEA LEA Exiting Data for School Year  - "},null,null,null,null,null,null,null,null,null,null,null,null,null,"End of worksheet",null,{"$f":"IFERROR(IF(INDEX(StudCntC009,MATCH(R1,CurrentListing,0))=\"\",\"No Data\",INDEX(StudCntC009,MATCH(R1,CurrentListing,0))),\"\")","v":""},"Y"]
[]
[null,null,null,null,null,null,null,null,null,null,"Calculated subtotals"]
[null,null,null,null,null,null,null,null,null,null,"1 - Basis of exit",null,null,{"$f":"F23","v":0}]
[null,null,null,null,null,null,null,null,null,null,"2 - Age ",null,null,{"$f":"M39","v":0}]
[null,null,null,null,null,null,null,null,null,null,"3 - Racial ethnic",null,null,{"$f":"F38","v":0}]
[{"$f":"\"           LEA name:  \"&'Select LEA'!$F$6","v":"           LEA name:  "},null,null,null,null,null,null,null,null,null,"4 - Sex",null,null,{"$f":"F45","v":0}]
[null,null,null,null,null,null,null,null,null,null,"5 - English learner (LEP) status",null,null,{"$f":"M45","v":0}]
[{"$f":"\"     LEA identifier:  \"&'Select LEA'!$F$7","v":"     LEA identifier:  "},null,null,null,null,null,null,null,null,null,"6 - Disability category (IDEA) exiting",null,null,{"$f":"M27","v":0}]
[]
[null,null,null,null,null,null,null,null,null,null,"Total of the education unit",null,null,{"$f":"IFERROR(HYPERLINK(\"#'Select LEA'!\"&ADDRESS(ROW(INDEX(CurrentListing,MATCH(R1,CurrentListing,0),1)),25),Q1),HYPERLINK(\"#'Select LEA'!\"&\"$S11\",Q1))","v":""}]
[]
["Children with disabilities (IDEA) exiting special education for all disabilities, by basis of exit",null,null,null,null,null,null,null,"Children with disabilities (IDEA) exiting special education, by disability category (IDEA)",null,null,null,null,null,null,null,null,null,{"$f":"IF(OR(F23<>M27,F23<>F38,F23<>M39,F23<>F45,F23<>M45),1,0)","v":0},null,null,null,null,null,null,null,null,null,null,"Student counts for Children with Disabilities (IDEA) exiting special education for all disabilities, by basis of exit",null,null,null,null,null,null,null,"Student counts for Children with Disabilities (IDEA) exiting special education for all disabilities, by disability category"]
["Basis of exit",null,null,null,null,"Student\ncount","Percentage",null,"Disability category (IDEA) ",null,null,null,"Student\ncount","Percentage",null,null,"Link","Triggered?","Count","Category","Error Messages",null,null,null,null,null,null,null,null,"Basis of exit",null,null,null,null,"Student\ncount","Percentage",null,"Disability",null,null,null,"Student\ncount","Percentage"]
["Transferred to regular education",null,null,null,null,{"$f":"IFERROR(HYPERLINK(\"#'Select LEA'!\"&ADDRESS(ROW(INDEX(CurrentListing,MATCH(AK15,CurrentListing,0),1)),25),AI15),HYPERLINK(\"#'Select LEA'!\"&\"$AA11\",AI15))","v":""},{"$f":"IFERROR(IF($F$23<>0,F15/$F$23,0),\"\")","v":0},null,"Intellectual disability",null,null,null,{"$f":"IFERROR(HYPERLINK(\"#'Select LEA'!\"&ADDRESS(ROW(INDEX(CurrentListing,MATCH(AR15,CurrentListing,0),1)),25),AP15),HYPERLINK(\"#'Select LEA'!\"&\"$AA$11\",AP15))","v":""},{"$f":"IFERROR(IF($M$27<>0,M15/$M$27,0),\"\")","v":0},null,null,"F23",{"$f":"IF($F$23=0,\"\",IF(F23<>$Q$1,1,0))","v":""},{"$f":"F23","v":0},"Basis of exit",{"$f":"IF($F$23=\"\",\"\",IF(F23<>$Q$1,\"Calculated total of Basis of exit (F15:F22) ≠ Total of the education units from FS009 (N11)\",\"\"))","v":"Calculated total of Basis of exit (F15:F22) ≠ Total of the education units from FS009 (N11)"},null,null,null,null,null,null,null,null,"Transferred to regular education",null,null,null,null,{"$f":"IFERROR(IF(INDEX(StudCntC009,MATCH(AK15,CurrentListing,0))=\"\",\"No Data\",INDEX(StudCntC009,MATCH(AK15,CurrentListing,0))),\"\")","v":""},{"$f":"IFERROR(IF($AI$23<>0,AI15/$AI$23,0),\"NA\")","v":"NA"},"TRANY","Intellectual disability",null,null,null,{"$f":"IFERROR(IF(INDEX(StudCntC009,MATCH(AR15,CurrentListing,0))=\"\",\"No Data\",INDEX(StudCntC009,MATCH(AR15,CurrentListing,0))),\"\")","v":""},{"$f":"IFERROR(IF($AP$27<>0,AP15/$AP$27,0),\"NA\")","v":"NA"},"IDY"]
["Graduated with regular high school diploma ",null,null,null,null,{"$f":"IFERROR(HYPERLINK(\"#'Select LEA'!\"&ADDRESS(ROW(INDEX(CurrentListing,MATCH(AK16,CurrentListing,0),1)),25),AI16),HYPERLINK(\"#'Select LEA'!\"&\"$AA11\",AI16))","v":""},0,null,"Hearing impairment",null,null,null,{"$f":"IFERROR(HYPERLINK(\"#'Select LEA'!\"&ADDRESS(ROW(INDEX(CurrentListing,MATCH(AR16,CurrentListing,0),1)),25),AP16),HYPERLINK(\"#'Select LEA'!\"&\"$AA$11\",AP16))","v":""},0,null,null,"M39",{"$f":"IF(M39=0,\"\",IF(M39<>$Q$1,1,0))","v":""},{"$f":"M39","v":0},"Age",{"$f":"IF($M$39=\"\",\"\",IF(M39<>$Q$1,\"Calculated total of Age (M31:M38) ≠ Total of the education units from FS009 (N11)\",\"\"))","v":"Calculated total of Age (M31:M38) ≠ Total of the education units from FS009 (N11)"},null,null,null,null,null,null,null,null,"Graduated with regular high school diploma ",null,null,null,null,{"$f":"IFERROR(IF(INDEX(StudCntC009,MATCH(AK16,CurrentListing,0))=\"\",\"No Data\",INDEX(StudCntC009,MATCH(AK16,CurrentListing,0))),\"\")","v":""},{"$f":"IFERROR(IF($AI$23<>0,AI16/$AI$23,0),\"NA\")","v":"NA"},"GHSY","Hearing impairment",null,null,null,{"$f":"IFERROR(IF(INDEX(StudCntC009,MATCH(AR16,CurrentListing,0))=\"\",\"No Data\",INDEX(StudCntC009,MATCH(AR16,CurrentListing,0))),\"\")","v":""},"NA","HIY"]
["Graduated with an alternate diploma",null,null,null,null,{"$f":"IFERROR(HYPERLINK(\"#'Select LEA'!\"&ADDRESS(ROW(INDEX(CurrentListing,MATCH(AK17,CurrentListing,0),1)),25),AI17),HYPERLINK(\"#'Select LEA'!\"&\"$AA11\",AI17))","v":""},0,null,"Speech or language impairment",null,null,null,{"$f":"IFERROR(HYPERLINK(\"#'Select LEA'!\"&ADDRESS(ROW(INDEX(CurrentListing,MATCH(AR17,CurrentListing,0),1)),25),AP17),HYPERLINK(\"#'Select LEA'!\"&\"$AA$11\",AP17))","v":""},0,null,null,"F38",{"$f":"IF(F38=0,\"\",IF(F38<>$Q$1,1,0))","v":""},{"$f":"F38","v":0},"Racial ethnic",{"$f":"IF($F$38=\"\",\"\",IF(F38<>$Q$1,\"Calculated total of Racial ethnic (F31:F37) ≠ Total of the education units from FS009 (N11)\",\"\"))","v":"Calculated total of Racial ethnic (F31:F37) ≠ Total of the education units from FS009 (N11)"},null,null,null,null,null,null,null,null,"Graduated with an alternate diploma",null,null,null,null,{"$f":"IFERROR(IF(INDEX(StudCntC009,MATCH(AK17,CurrentListing,0))=\"\",\"No Data\",INDEX(StudCntC009,MATCH(AK17,CurrentListing,0))),\"\")","v":""},"NA","GRADALTDPLY","Speech or language impairment",null,null,null,{"$f":"IFERROR(IF(INDEX(StudCntC009,MATCH(AR17,CurrentListing,0))=\"\",\"No Data\",INDEX(StudCntC009,MATCH(AR17,CurrentListing,0))),\"\")","v":""},"NA","SLIY"]
["Received a certificate",null,null,null,null,{"$f":"IFERROR(HYPERLINK(\"#'Select LEA'!\"&ADDRESS(ROW(INDEX(CurrentListing,MATCH(AK18,CurrentListing,0),1)),25),AI18),HYPERLINK(\"#'Select LEA'!\"&\"$AA11\",AI18))","v":""},0,null,"Visual impairment",null,null,null,{"$f":"IFERROR(HYPERLINK(\"#'Select LEA'!\"&ADDRESS(ROW(INDEX(CurrentListing,MATCH(AR18,CurrentListing,0),1)),25),AP18),HYPERLINK(\"#'Select LEA'!\"&\"$AA$11\",AP18))","v":""},0,null,null,"F45",{"$f":"IF(F45=0,\"\",IF(F45<>$Q$1,1,0))","v":""},{"$f":"F45","v":0},"Sex",{"$f":"IF($F$45=\"\",\"\",IF(F45<>$Q$1,\"Calculated total of Sex (F43:F44) ≠ Total of the education units from FS009 (N11)\",\"\"))","v":"Calculated total of Sex (F43:F44) ≠ Total of the education units from FS009 (N11)"},null,null,null,null,null,null,null,null,"Received a certificate",null,null,null,null,{"$f":"IFERROR(IF(INDEX(StudCntC009,MATCH(AK18,CurrentListing,0))=\"\",\"No Data\",INDEX(StudCntC009,MATCH(AK18,CurrentListing,0))),\"\")","v":""},"NA","RCY","Visual impairment",null,null,null,{"$f":"IFERROR(IF(INDEX(StudCntC009,MATCH(AR18,CurrentListing,0))=\"\",\"No Data\",INDEX(StudCntC009,MATCH(AR18,CurrentListing,0))),\"\")","v":""},"NA","VIY"]
["Reached maximum age",null,null,null,null,{"$f":"IFERROR(HYPERLINK(\"#'Select LEA'!\"&ADDRESS(ROW(INDEX(CurrentListing,MATCH(AK19,CurrentListing,0),1)),25),AI19),HYPERLINK(\"#'Select LEA'!\"&\"$AA11\",AI19))","v":""},0,null,"Emotional disturbance",null,null,null,{"$f":"IFERROR(HYPERLINK(\"#'Select LEA'!\"&ADDRESS(ROW(INDEX(CurrentListing,MATCH(AR19,CurrentListing,0),1)),25),AP19),HYPERLINK(\"#'Select LEA'!\"&\"$AA$11\",AP19))","v":""},0,null,null,"M45",{"$f":"IF(M45=0,\"\",IF(M45<>$Q$1,1,0))","v":""},{"$f":"M45","v":0},"English learner (LEP) status",{"$f":"IF($M$45=\"\",\"\",IF(M45<>$Q$1,\"Calculated total of LEP status (M43:M44) ≠ Total of the education units from FS009 (N11)\",\"\"))","v":"Calculated total of LEP status (M43:M44) ≠ Total of the education units from FS009 (N11)"},null,null,null,null,null,null,null,null,"Reached maximum age",null,null,null,null,{"$f":"IFERROR(IF(INDEX(StudCntC009,MATCH(AK19,CurrentListing,0))=\"\",\"No Data\",INDEX(StudCntC009,MATCH(AK19,CurrentListing,0))),\"\")","v":""},"NA","RMAY","Emotional disturbance",null,null,null,{"$f":"IFERROR(IF(INDEX(StudCntC009,MATCH(AR19,CurrentListing,0))=\"\",\"No Data\",INDEX(StudCntC009,MATCH(AR19,CurrentListing,0))),\"\")","v":""},"NA","EMNY"]
["Died",null,null,null,null,{"$f":"IFERROR(HYPERLINK(\"#'Select LEA'!\"&ADDRESS(ROW(INDEX(CurrentListing,MATCH(AK20,CurrentListing,0),1)),25),AI20),HYPERLINK(\"#'Select LEA'!\"&\"$AA11\",AI20))","v":""},0,null,"Orthopedic impairment",null,null,null,{"$f":"IFERROR(HYPERLINK(\"#'Select LEA'!\"&ADDRESS(ROW(INDEX(CurrentListing,MATCH(AR20,CurrentListing,0),1)),25),AP20),HYPERLINK(\"#'Select LEA'!\"&\"$AA$11\",AP20))","v":""},0,null,null,"M27",{"$f":"IF(M27=0,\"\",IF(M27<>$Q$1,1,0))","v":""},{"$f":"M27","v":0},"Disability",{"$f":"IF($M$27=\"\",\"\",IF(M27<>$Q$1,\"Calculated total of Disabilities (M15:M26) ≠ Total of the education units from FS009 (N11)\",\"\"))","v":"Calculated total of Disabilities (M15:M26) ≠ Total of the education units from FS009 (N11)"},null,null,null,null,null,null,null,null,"Died",null,null,null,null,{"$f":"IFERROR(IF(INDEX(StudCntC009,MATCH(AK20,CurrentListing,0))=\"\",\"No Data\",INDEX(StudCntC009,MATCH(AK20,CurrentListing,0))),\"\")","v":""},"NA","DY","Orthopedic impairment",null,null,null,{"$f":"IFERROR(IF(INDEX(StudCntC009,MATCH(AR20,CurrentListing,0))=\"\",\"No Data\",INDEX(StudCntC009,MATCH(AR20,CurrentListing,0))),\"\")","v":""},"NA","OIY"]
["Moved, known to be continuing",null,null,null,null,{"$f":"IFERROR(HYPERLINK(\"#'Select LEA'!\"&ADDRESS(ROW(INDEX(CurrentListing,MATCH(AK21,CurrentListing,0),1)),25),AI21),HYPERLINK(\"#'Select LEA'!\"&\"$AA11\",AI21))","v":""},0,null,"Other health impairment ",null,null,null,{"$f":"IFERROR(HYPERLINK(\"#'Select LEA'!\"&ADDRESS(ROW(INDEX(CurrentListing,MATCH(AR21,CurrentListing,0),1)),25),AP21),HYPERLINK(\"#'Select LEA'!\"&\"$AA$11\",AP21))","v":""},0,null,null,null,null,null,null,null,null,null,null,null,null,null,null,null,"Moved, known to be continuing",null,null,null,null,{"$f":"IFERROR(IF(INDEX(StudCntC009,MATCH(AK21,CurrentListing,0))=\"\",\"No Data\",INDEX(StudCntC009,MATCH(AK21,CurrentListing,0))),\"\")","v":""},"NA","MKCY","Other health impairment ",null,null,null,{"$f":"IFERROR(IF(INDEX(StudCntC009,MATCH(AR21,CurrentListing,0))=\"\",\"No Data\",INDEX(StudCntC009,MATCH(AR21,CurrentListing,0))),\"\")","v":""},"NA","OHIY"]
["Dropped out",null,null,null,null,{"$f":"IFERROR(HYPERLINK(\"#'Select LEA'!\"&ADDRESS(ROW(INDEX(CurrentListing,MATCH(AK22,CurrentListing,0),1)),25),AI22),HYPERLINK(\"#'Select LEA'!\"&\"$AA11\",AI22))","v":""},0,null,"Specific learning disability",null,null,null,{"$f":"IFERROR(HYPERLINK(\"#'Select LEA'!\"&ADDRESS(ROW(INDEX(CurrentListing,MATCH(AR22,CurrentListing,0),1)),25),AP22),HYPERLINK(\"#'Select LEA'!\"&\"$AA$11\",AP22))","v":""},0,null,null,null,null,null,null,null,null,null,null,null,null,null,null,null,"Dropped out",null,null,null,null,{"$f":"IFERROR(IF(INDEX(StudCntC009,MATCH(AK22,CurrentListing,0))=\"\",\"No Data\",INDEX(StudCntC009,MATCH(AK22,CurrentListing,0))),\"\")","v":""},"NA","DROPOUTY","Specific learning disability",null,null,null,{"$f":"IFERROR(IF(INDEX(StudCntC009,MATCH(AR22,CurrentListing,0))=\"\",\"No Data\",INDEX(StudCntC009,MATCH(AR22,CurrentListing,0))),\"\")","v":""},"NA","SLDY"]
["Calculated subtotal",null,null,null,null,{"$f":"IF(AND(F15=\"MC\",F16=\"MC\",F18=\"MC\",F19=\"MC\",F20=\"MC\",F21=\"MC\",F22=\"MC\"),\"\",SUM(F15:F22))","v":0},0,null,"Deaf-blindness",null,null,null,{"$f":"IFERROR(HYPERLINK(\"#'Select LEA'!\"&ADDRESS(ROW(INDEX(CurrentListing,MATCH(AR23,CurrentListing,0),1)),25),AP23),HYPERLINK(\"#'Select LEA'!\"&\"$AA$11\",AP23))","v":""},0,null,null,null,null,null,null,null,null,null,null,null,null,null,null,null,"Calculated Subtotal",null,null,null,null,{"$f":"IFERROR(IF(INDEX(StudCntC009,MATCH(AK23,CurrentListing,0))=\"\",\"No Data\",INDEX(StudCntC009,MATCH(AK23,CurrentListing,0))),\"\")","v":""},"NA","Y","Deaf–blindness",null,null,null,{"$f":"IFERROR(IF(INDEX(StudCntC009,MATCH(AR23,CurrentListing,0))=\"\",\"No Data\",INDEX(StudCntC009,MATCH(AR23,CurrentListing,0))),\"\")","v":""},"NA","DBY"]
[null,null,null,null,null,null,null,null,"Multiple disabilities",null,null,null,{"$f":"IFERROR(HYPERLINK(\"#'Select LEA'!\"&ADDRESS(ROW(INDEX(CurrentListing,MATCH(AR24,CurrentListing,0),1)),25),AP24),HYPERLINK(\"#'Select LEA'!\"&\"$AA$11\",AP24))","v":""},0,null,null,null,null,null,null,null,null,"=IFERROR(IF(INDEX(FTE_C070,MATCH(F15,CurrentListing,0))=\"\",\"No Data\",INDEX(FTE_C070,MATCH(F15,CurrentListing,0))),\"MC\")",null,null,null,null,null,null,null,null,null,null,null,null,null,null,"Multiple disabilities",null,null,null,{"$f":"IFERROR(IF(INDEX(StudCntC009,MATCH(AR24,CurrentListing,0))=\"\",\"No Data\",INDEX(StudCntC009,MATCH(AR24,CurrentListing,0))),\"\")","v":""},{"$f":"IFERROR(IF($AP$27<>0,AP24/$AP$27,0),\"NA\")","v":"NA"},"MDY"]
[null,null,null,null,null,null,null,null,"Autism",null,null,null,{"$f":"IFERROR(HYPERLINK(\"#'Select LEA'!\"&ADDRESS(ROW(INDEX(CurrentListing,MATCH(AR25,CurrentListing,0),1)),25),AP25),HYPERLINK(\"#'Select LEA'!\"&\"$AA$11\",AP25))","v":""},0,null,null,null,null,null,null,null,null,null,null,null,null,null,null,null,null,null,null,null,null,null,null,null,"Autism",null,null,null,{"$f":"IFERROR(IF(INDEX(StudCntC009,MATCH(AR25,CurrentListing,0))=\"\",\"No Data\",INDEX(StudCntC009,MATCH(AR25,CurrentListing,0))),\"\")","v":""},{"$f":"IFERROR(IF($AP$27<>0,AP25/$AP$27,0),\"NA\")","v":"NA"},"AUTY"]
[null,null,null,null,null,null,null,null,"Traumatic brain injury",null,null,null,{"$f":"IFERROR(HYPERLINK(\"#'Select LEA'!\"&ADDRESS(ROW(INDEX(CurrentListing,MATCH(AR26,CurrentListing,0),1)),25),AP26),HYPERLINK(\"#'Select LEA'!\"&\"$AA$11\",AP26))","v":""},0,null,null,null,null,null,null,null,null,"=IFERROR(VLOOKUP(AK15,CHOOSE({1,2},RaceEthnicity&Gender&Disability&Age&LEPStatus&ExitReason&Total,StCount),2,0), \"No Data\")",null,null,null,null,null,null,null,null,null,null,null,null,null,null,"Traumatic brain injury",null,null,null,{"$f":"IFERROR(IF(INDEX(StudCntC009,MATCH(AR26,CurrentListing,0))=\"\",\"No Data\",INDEX(StudCntC009,MATCH(AR26,CurrentListing,0))),\"\")","v":""},{"$f":"IFERROR(IF($AP$27<>0,AP26/$AP$27,0),\"NA\")","v":"NA"},"TBIY"]
[null,null,null,null,null,null,null,null,"Calculated subtotal",null,null,null,{"$f":"IF(AND(M15=\"MC\",M16=\"MC\",M17=\"MC\",M18=\"MC\",M19=\"MC\",M20=\"MC\",M21=\"MC\",M22=\"MC\",M23=\"MC\",M24=\"MC\",M25=\"MC\",M26=\"MC\"),\"\",SUM(M15:M26))","v":0},0,null,null,null,null,null,null,null,null,null,null,null,null,null,null,null,null,null,null,null,null,null,null,null,"Calculated Subtotal",null,null,null,{"$f":"IFERROR(IF(INDEX(StudCntC009,MATCH(AR27,CurrentListing,0))=\"\",\"No Data\",INDEX(StudCntC009,MATCH(AR27,CurrentListing,0))),\"\")","v":""},{"$f":"IFERROR(IF($AP$27<>0,AP27/$AP$27,0),\"NA\")","v":"NA"},"Y"]
[]
["Children with disabilities (IDEA) exiting special education for all disabilities, by racial ethnic",null,null,null,null,null,null,null,"Children with disabilities (IDEA) exiting special education for all disabilities, by age",null,null,null,null,null,null,null,null,null,null,null,null,null,null,null,null,null,null,null,null,null,null,null,null,null,null,null,null,"Student counts for Children with Disabilities (IDEA) exiting special education for all disabilities, by disability category"]
["Racial ethnic",null,null,null,null,"Student\ncount","Percentage",null,"Age",null,null,null,"Student\ncount","Percentage",null,null,null,null,null,null,null,null,null,null,null,null,null,null,null,"Student counts for Children with Disabilities (IDEA) exiting special education for all disabilities, by disability category",null,null,null,null,null,null,null,"Age",null,null,null,"Student\ncount","Percentage"]
["Hispanic/Latino ",null,null,null,null,{"$f":"IFERROR(HYPERLINK(\"#'Select LEA'!\"&ADDRESS(ROW(INDEX(CurrentListing,MATCH(AK32,CurrentListing,0),1)),25),AI32),HYPERLINK(\"#'Select LEA'!\"&\"$AA$11\",AI32))","v":""},{"$f":"IFERROR(IF($F$38<>0,F31/$F$38,0),\"\")","v":0},null,"14 years old",null,null,null,{"$f":"IFERROR(HYPERLINK(\"#'Select LEA'!\"&ADDRESS(ROW(INDEX(CurrentListing,MATCH(AR31,CurrentListing,0),1)),25),AP31),HYPERLINK(\"#'Select LEA'!\"&\"$AA$11\",AP31))","v":""},{"$f":"IFERROR(IF($M$39<>0,M31/$M$39,0),\"\")","v":0},null,null,null,null,null,null,null,null,null,null,null,null,null,null,null,"Race/Ethnicity",null,null,null,null,"Student\ncount","Percentage",null,"14 years old",null,null,null,{"$f":"IFERROR(IF(INDEX(StudCntC009,MATCH(AR31,CurrentListing,0))=\"\",\"No Data\",INDEX(StudCntC009,MATCH(AR31,CurrentListing,0))),\"\")","v":""},{"$f":"IFERROR(IF($AP$39<>0,AP31/$AP$39,0),\"NA\")","v":"NA"},"14Y"]
["American Indian or Alaska Native ",null,null,null,null,{"$f":"IFERROR(HYPERLINK(\"#'Select LEA'!\"&ADDRESS(ROW(INDEX(CurrentListing,MATCH(AK33,CurrentListing,0),1)),25),AI33),HYPERLINK(\"#'Select LEA'!\"&\"$AA$11\",AI33))","v":""},0,null,"15 years old",null,null,null,{"$f":"IFERROR(HYPERLINK(\"#'Select LEA'!\"&ADDRESS(ROW(INDEX(CurrentListing,MATCH(AR32,CurrentListing,0),1)),25),AP32),HYPERLINK(\"#'Select LEA'!\"&\"$AA$11\",AP32))","v":""},0,null,null,null,null,null,null,null,null,null,null,null,null,null,null,null,"Hispanic/Latino ",null,null,null,null,{"$f":"IFERROR(IF(INDEX(StudCntC009,MATCH(AK32,CurrentListing,0))=\"\",\"No Data\",INDEX(StudCntC009,MATCH(AK32,CurrentListing,0))),\"\")","v":""},{"$f":"IFERROR(IF($AI$39<>0,AI32/$AI$39,0),\"NA\")","v":"NA"},"HI7Y","15 years old",null,null,null,{"$f":"IFERROR(IF(INDEX(StudCntC009,MATCH(AR32,CurrentListing,0))=\"\",\"No Data\",INDEX(StudCntC009,MATCH(AR32,CurrentListing,0))),\"\")","v":""},{"$f":"IFERROR(IF($AP$39<>0,AP32/$AP$39,0),\"NA\")","v":"NA"},"15Y"]
["Asian ",null,null,null,null,{"$f":"IFERROR(HYPERLINK(\"#'Select LEA'!\"&ADDRESS(ROW(INDEX(CurrentListing,MATCH(AK34,CurrentListing,0),1)),25),AI34),HYPERLINK(\"#'Select LEA'!\"&\"$AA$11\",AI34))","v":""},0,null,"16 years old",null,null,null,{"$f":"IFERROR(HYPERLINK(\"#'Select LEA'!\"&ADDRESS(ROW(INDEX(CurrentListing,MATCH(AR33,CurrentListing,0),1)),25),AP33),HYPERLINK(\"#'Select LEA'!\"&\"$AA$11\",AP33))","v":""},0,null,null,null,null,null,null,null,null,null,null,null,null,null,null,null,"American Indian or Alaska Native ",null,null,null,null,{"$f":"IFERROR(IF(INDEX(StudCntC009,MATCH(AK33,CurrentListing,0))=\"\",\"No Data\",INDEX(StudCntC009,MATCH(AK33,CurrentListing,0))),\"\")","v":""},"NA","AM7Y","16 years old",null,null,null,{"$f":"IFERROR(IF(INDEX(StudCntC009,MATCH(AR33,CurrentListing,0))=\"\",\"No Data\",INDEX(StudCntC009,MATCH(AR33,CurrentListing,0))),\"\")","v":""},"NA","16Y"]
["Black or African American ",null,null,null,null,{"$f":"IFERROR(HYPERLINK(\"#'Select LEA'!\"&ADDRESS(ROW(INDEX(CurrentListing,MATCH(AK35,CurrentListing,0),1)),25),AI35),HYPERLINK(\"#'Select LEA'!\"&\"$AA$11\",AI35))","v":""},0,null,"17 years old",null,null,null,{"$f":"IFERROR(HYPERLINK(\"#'Select LEA'!\"&ADDRESS(ROW(INDEX(CurrentListing,MATCH(AR34,CurrentListing,0),1)),25),AP34),HYPERLINK(\"#'Select LEA'!\"&\"$AA$11\",AP34))","v":""},0,null,null,null,null,null,null,null,null,null,null,null,null,null,null,null,"Asian ",null,null,null,null,{"$f":"IFERROR(IF(INDEX(StudCntC009,MATCH(AK34,CurrentListing,0))=\"\",\"No Data\",INDEX(StudCntC009,MATCH(AK34,CurrentListing,0))),\"\")","v":""},"NA","AS7Y","17 years old",null,null,null,{"$f":"IFERROR(IF(INDEX(StudCntC009,MATCH(AR34,CurrentListing,0))=\"\",\"No Data\",INDEX(StudCntC009,MATCH(AR34,CurrentListing,0))),\"\")","v":""},"NA","17Y"]
["Native Hawaiian or Other Pacific Islander ",null,null,null,null,{"$f":"IFERROR(HYPERLINK(\"#'Select LEA'!\"&ADDRESS(ROW(INDEX(CurrentListing,MATCH(AK36,CurrentListing,0),1)),25),AI36),HYPERLINK(\"#'Select LEA'!\"&\"$AA$11\",AI36))","v":""},0,null,"18 years old",null,null,null,{"$f":"IFERROR(HYPERLINK(\"#'Select LEA'!\"&ADDRESS(ROW(INDEX(CurrentListing,MATCH(AR35,CurrentListing,0),1)),25),AP35),HYPERLINK(\"#'Select LEA'!\"&\"$AA$11\",AP35))","v":""},0,null,null,null,null,null,null,null,null,null,null,null,null,null,null,null,"Black or African American ",null,null,null,null,{"$f":"IFERROR(IF(INDEX(StudCntC009,MATCH(AK35,CurrentListing,0))=\"\",\"No Data\",INDEX(StudCntC009,MATCH(AK35,CurrentListing,0))),\"\")","v":""},"NA","BL7Y","18 years old",null,null,null,{"$f":"IFERROR(IF(INDEX(StudCntC009,MATCH(AR35,CurrentListing,0))=\"\",\"No Data\",INDEX(StudCntC009,MATCH(AR35,CurrentListing,0))),\"\")","v":""},"NA","18Y"]
["White ",null,null,null,null,{"$f":"IFERROR(HYPERLINK(\"#'Select LEA'!\"&ADDRESS(ROW(INDEX(CurrentListing,MATCH(AK37,CurrentListing,0),1)),25),AI37),HYPERLINK(\"#'Select LEA'!\"&\"$AA$11\",AI37))","v":""},0,null,"19 years old",null,null,null,{"$f":"IFERROR(HYPERLINK(\"#'Select LEA'!\"&ADDRESS(ROW(INDEX(CurrentListing,MATCH(AR36,CurrentListing,0),1)),25),AP36),HYPERLINK(\"#'Select LEA'!\"&\"$AA$11\",AP36))","v":""},0,null,null,null,null,null,null,null,null,null,null,null,null,null,null,null,"Native Hawaiian or Other Pacific Islander ",null,null,null,null,{"$f":"IFERROR(IF(INDEX(StudCntC009,MATCH(AK36,CurrentListing,0))=\"\",\"No Data\",INDEX(StudCntC009,MATCH(AK36,CurrentListing,0))),\"\")","v":""},"NA","PI7Y","19 years old",null,null,null,{"$f":"IFERROR(IF(INDEX(StudCntC009,MATCH(AR36,CurrentListing,0))=\"\",\"No Data\",INDEX(StudCntC009,MATCH(AR36,CurrentListing,0))),\"\")","v":""},"NA","19Y"]
["Two or more races",null,null,null,null,{"$f":"IFERROR(HYPERLINK(\"#'Select LEA'!\"&ADDRESS(ROW(INDEX(CurrentListing,MATCH(AK38,CurrentListing,0),1)),25),AI38),HYPERLINK(\"#'Select LEA'!\"&\"$AA$11\",AI38))","v":""},0,null,"20 years old",null,null,null,{"$f":"IFERROR(HYPERLINK(\"#'Select LEA'!\"&ADDRESS(ROW(INDEX(CurrentListing,MATCH(AR37,CurrentListing,0),1)),25),AP37),HYPERLINK(\"#'Select LEA'!\"&\"$AA$11\",AP37))","v":""},0,null,null,null,null,null,null,null,null,null,null,null,null,null,null,null,"White ",null,null,null,null,{"$f":"IFERROR(IF(INDEX(StudCntC009,MATCH(AK37,CurrentListing,0))=\"\",\"No Data\",INDEX(StudCntC009,MATCH(AK37,CurrentListing,0))),\"\")","v":""},"NA","WH7Y","20 years old",null,null,null,{"$f":"IFERROR(IF(INDEX(StudCntC009,MATCH(AR37,CurrentListing,0))=\"\",\"No Data\",INDEX(StudCntC009,MATCH(AR37,CurrentListing,0))),\"\")","v":""},"NA","20Y"]
["Calculated subtotal",null,null,null,null,{"$f":"IF(AND(F31=\"MC\",F32=\"MC\",F33=\"MC\",F34=\"MC\",F35=\"MC\",F36=\"MC\",F37=\"MC\"),\"\",SUM(F31:F37))","v":0},0,null,"21 years old",null,null,null,{"$f":"IFERROR(HYPERLINK(\"#'Select LEA'!\"&ADDRESS(ROW(INDEX(CurrentListing,MATCH(AR38,CurrentListing,0),1)),25),AP38),HYPERLINK(\"#'Select LEA'!\"&\"$AA$11\",AP38))","v":""},0,null,null,null,null,null,null,null,null,null,null,null,null,null,null,null,"Two or more races",null,null,null,null,{"$f":"IFERROR(IF(INDEX(StudCntC009,MATCH(AK38,CurrentListing,0))=\"\",\"No Data\",INDEX(StudCntC009,MATCH(AK38,CurrentListing,0))),\"\")","v":""},"NA","MU7Y","21 years old",null,null,null,{"$f":"IFERROR(IF(INDEX(StudCntC009,MATCH(AR38,CurrentListing,0))=\"\",\"No Data\",INDEX(StudCntC009,MATCH(AR38,CurrentListing,0))),\"\")","v":""},"NA","21Y"]
[null,null,null,null,null,null,null,null,"Calculated subtotal",null,null,null,{"$f":"IF(AND(F31=\"MC\",F32=\"MC\",F33=\"MC\",F34=\"MC\",F35=\"MC\",F36=\"MC\",F37=\"MC\"),\"\",SUM(M31:M38))","v":0},0,null,null,null,null,null,null,null,null,null,null,null,null,null,null,null,"Calculated Subtotal",null,null,null,null,{"$f":"IFERROR(IF(INDEX(StudCntC009,MATCH(AK39,CurrentListing,0))=\"\",\"No Data\",INDEX(StudCntC009,MATCH(AK39,CurrentListing,0))),\"\")","v":""},"NA","Y","Calculated Subtotal",null,null,null,{"$f":"IFERROR(IF(INDEX(StudCntC009,MATCH(AR39,CurrentListing,0))=\"\",\"No Data\",INDEX(StudCntC009,MATCH(AR39,CurrentListing,0))),\"\")","v":""},"NA","Y"]
[]
["Children with disabilities (IDEA) exiting special education for all disabilities, by sex",null,null,null,null,null,null,null,"Children with disabilities (IDEA) exiting special education for all disabilities, by English learner (LEP) status",null,null,null,null,null,null,null,null,null,null,null,null,null,null,null,null,null,null,null,null,null,null,null,null,null,null,null,null,"Student counts for Children with Disabilities (IDEA) exiting special education for all disabilities, by disability category"]
["Sex",null,null,null,null,"Student\ncount","Percentage",null,"LEP status",null,null,null,"Student\ncount","Percentage",null,null,null,null,null,null,null,null,null,null,null,null,null,null,null,"Student counts for Children with Disabilities (IDEA) exiting special education for all disabilities, by disability category",null,null,null,null,null,null,null,"LEP Status",null,null,null,"Student\ncount","Percentage"]
["Male",null,null,null,null,{"$f":"IFERROR(HYPERLINK(\"#'Select LEA'!\"&ADDRESS(ROW(INDEX(CurrentListing,MATCH(AK44,CurrentListing,0),1)),25),AI44),HYPERLINK(\"#'Select LEA'!\"&\"$AA$11\",AI44))","v":""},{"$f":"IFERROR(IF($F$45<>0,F43/$F$45,0),\"\")","v":0},null,"English learner (LEP) ",null,null,null,{"$f":"IFERROR(HYPERLINK(\"#'Select LEA'!\"&ADDRESS(ROW(INDEX(CurrentListing,MATCH(AR43,CurrentListing,0),1)),25),AP43),HYPERLINK(\"#'Select LEA'!\"&\"$AA$11\",AP43))","v":""},{"$f":"IFERROR(IF($M$45<>0,M43/$M$45,0),\"\")","v":0},null,null,null,null,null,null,null,null,null,null,null,null,null,null,null,"Gender",null,null,null,null,"Student\ncount","Percentage",null,"LEP – Limited English proficient (LEP) Student",null,null,null,{"$f":"IFERROR(IF(INDEX(StudCntC009,MATCH(AR43,CurrentListing,0))=\"\",\"No Data\",INDEX(StudCntC009,MATCH(AR43,CurrentListing,0))),\"\")","v":""},{"$f":"IFERROR(IF($AP$45<>0,AP43/$AP$45,0),\"NA\")","v":"NA"},"LEPY"]
["Female",null,null,null,null,{"$f":"IFERROR(HYPERLINK(\"#'Select LEA'!\"&ADDRESS(ROW(INDEX(CurrentListing,MATCH(AK45,CurrentListing,0),1)),25),AI45),HYPERLINK(\"#'Select LEA'!\"&\"$AA$11\",AI45))","v":""},{"$f":"IFERROR(IF($F$45<>0,F44/$F$45,0),\"\")","v":0},null,"Non-English learner (NLEP) ",null,null,null,{"$f":"IFERROR(HYPERLINK(\"#'Select LEA'!\"&ADDRESS(ROW(INDEX(CurrentListing,MATCH(AR44,CurrentListing,0),1)),25),AP44),HYPERLINK(\"#'Select LEA'!\"&\"$AA$11\",AP44))","v":""},{"$f":"IFERROR(IF($M$45<>0,M44/$M$45,0),\"\")","v":0},null,null,null,null,null,null,null,null,null,null,null,null,null,null,null,"Male",null,null,null,null,{"$f":"IFERROR(IF(INDEX(StudCntC009,MATCH(AK44,CurrentListing,0))=\"\",\"No Data\",INDEX(StudCntC009,MATCH(AK44,CurrentListing,0))),\"\")","v":""},{"$f":"IFERROR(IF($AI$46<>0,AI44/$AI$46,0),\"NA\")","v":"NA"},"MY","NLEP – Non–Limited English proficient (Non–LEP) Student ",null,null,null,{"$f":"IFERROR(IF(INDEX(StudCntC009,MATCH(AR44,CurrentListing,0))=\"\",\"No Data\",INDEX(StudCntC009,MATCH(AR44,CurrentListing,0))),\"\")","v":""},{"$f":"IFERROR(IF($AP$45<>0,AP44/$AP$45,0),\"NA\")","v":"NA"},"NLEPY"]
["Calculated subtotal",null,null,null,null,{"$f":"IF(AND(F43=\"MC\",F44=\"MC\"),\"\",SUM(F43:F44))","v":0},{"$f":"IFERROR(IF($F$45<>0,F45/$F$45,0),\"\")","v":0},null,"Calculated subtotal",null,null,null,{"$f":"IF(AND(F43=\"MC\",F44=\"MC\"),\"\",SUM(M43:M44))","v":0},{"$f":"IFERROR(IF($M$45<>0,M45/$M$45,0),\"\")","v":0},null,null,null,null,null,null,null,null,null,null,null,null,null,null,null,"Female",null,null,null,null,{"$f":"IFERROR(IF(INDEX(StudCntC009,MATCH(AK45,CurrentListing,0))=\"\",\"No Data\",INDEX(StudCntC009,MATCH(AK45,CurrentListing,0))),\"\")","v":""},{"$f":"IFERROR(IF($AI$46<>0,AI45/$AI$46,0),\"NA\")","v":"NA"},"FY","Calculated Subtotal",null,null,null,{"$f":"IFERROR(IF(INDEX(StudCntC009,MATCH(AR45,CurrentListing,0))=\"\",\"No Data\",INDEX(StudCntC009,MATCH(AR45,CurrentListing,0))),\"\")","v":""},{"$f":"IFERROR(IF($AP$45<>0,AP45/$AP$45,0),\"NA\")","v":"NA"},"Y"]
[null,null,null,null,null,null,null,null,null,null,null,null,null,null,null,null,null,null,null,null,null,null,null,null,null,null,null,null,null,"Calculated Subtotal",null,null,null,null,{"$f":"IFERROR(IF(INDEX(StudCntC009,MATCH(AK46,CurrentListing,0))=\"\",\"No Data\",INDEX(StudCntC009,MATCH(AK46,CurrentListing,0))),\"\")","v":""},{"$f":"IFERROR(IF($AI$46<>0,AI46/$AI$46,0),\"NA\")","v":"NA"},"Y"]
[]
[]
[]
["End of worksheet"]

{"sheet":"Category Sets A-D","index":6,"n_rows":113,"n_cols":46,"rows_kept":113,"cut":false,"hidden":false,"merged":[[90,15,90,24],[47,0,47,8],[11,0,12,0],[11,1,11,9],[36,1,36,8],[36,0,37,0],[15,15,15,24],[51,15,51,24],[53,15,53,24],[54,15,54,24],[55,15,55,24],[52,15,52,24],[50,15,50,24],[12,15,12,24],[13,15,13,24],[14,15,14,24],[10,0,10,9],[23,0,24,0],[23,1,23,9],[22,0,22,9],[35,0,35,8],[35,27,35,35],[20,15,20,24],[21,15,21,24],[18,15,18,24],[19,15,19,24],[27,15,27,24],[29,15,29,24],[30,15,30,24],[25,15,25,24],[26,15,26,24],[28,15,28,24],[16,15,16,24],[17,15,17,24],[23,15,23,24],[24,15,24,24],[68,15,68,24],[38,15,38,24],[39,15,39,24],[41,15,41,24],[42,15,42,24],[43,15,43,24],[40,15,40,24],[56,15,56,24],[57,15,57,24],[62,15,62,24],[45,15,45,24],[46,15,46,24],[44,15,44,24],[65,15,65,24],[75,15,75,24],[112,0,112,10],[0,10,108,10],[0,0,0,9],[98,1,98,3],[98,0,99,0],[73,1,73,3],[101,15,101,24],[95,15,95,24],[96,15,96,24],[100,15,100,24],[99,15,99,24],[37,15,37,24],[31,15,31,24],[66,15,66,24],[67,15,67,24],[60,27,60,30],[85,27,85,30],[94,15,94,24],[91,15,91,24],[92,15,92,24],[93,15,93,24],[76,15,76,24],[88,15,88,24],[89,15,89,24],[69,15,69,24],[87,15,87,24],[63,15,63,24],[64,15,64,24],[70,15,70,24],[71,15,71,24],[74,15,74,24],[73,0,74,0],[86,1,86,3],[86,0,87,0],[85,0,85,3],[48,1,48,8],[48,0,49,0],[61,1,61,3],[61,0,62,0],[60,0,60,3],[8,5,8,8],[6,0,6,2],[2,5,2,8],[3,5,3,8],[4,5,4,8],[5,5,5,8],[6,5,6,8],[4,0,5,3]]}
[{"$f":"\"IDEA LEA Exiting Data for School Year \"&'Exiting (LEA FS009)'!E12&\" - \"&'Select LEA'!F6","v":"IDEA LEA Exiting Data for School Year  - "},null,null,null,null,null,null,null,null,null,"End of worsheet",null,null,null,null,null,{"$f":"Subtotals!Q1","v":""},{"$f":"Subtotals!R1","v":"Y"},null,null,null,null,null,null,null,null,null,"=IFERROR(VLOOKUP(AA14,CHOOSE({1,2},RaceEthnicity&Gender&Disability&Age&LEPStatus&ExitReason&Total,StCount),2,0), \"No Data\")"]
[]
[null,null,null,null,null,"Category set",null,null,null,"Calculated category set \ntotal",null,null,null,null,null,null,null,null,null,null,null,null,null,null,null,null,null,"=IFERROR(IF(INDEX(StudCntC009,MATCH(AC21,CurrentListing,0))=\"\",\"No Data\",INDEX(StudCntC009,MATCH(AC21,CurrentListing,0))),\"MC\")"]
[null,null,null,null,null,"A - Basis of exit, disability category, and age",null,null,null,{"$f":"IF(AND($B$22=\"MC\",$C$22=\"MC\",$D$22=\"MC\",$E$22=\"MC\",$F$22=\"MC\",$G$22=\"MC\",$H$22=\"MC\",$I$22=\"MC\"),\"\",J22)","v":""}]
[{"$f":"\"           LEA name:  \"&'Select LEA'!$F$6","v":"           LEA name:  "},null,null,null,null,"B - Basis of exit and racial ethnic",null,null,null,{"$f":"IF(AND($B$47=\"MC\",$C$47=\"MC\",$D$47=\"MC\",$E$47=\"MC\",$F$47=\"MC\",$G$47=\"MC\",$H$47=\"MC\"),\"\",I47)","v":""}]
[null,null,null,null,null,"C - Basis of exit and sex",null,null,null,{"$f":"IF(AND($B$72=\"MC\",$C$72=\"MC\"),\"\",D72)","v":""}]
[{"$f":"\"     LEA identifier:  \"&'Select LEA'!$F$7","v":"     LEA identifier:  "},null,null,null,null,"D - Basis of exit and English learner (LEP) status ",null,null,null,{"$f":"IF(AND($B$97=\"MC\",$C$97=\"MC\"),\"\",D97)","v":""}]
[]
[null,null,null,null,null,"Total of the education unit",null,null,null,{"$f":"IFERROR(HYPERLINK(\"#'Select LEA'!\"&ADDRESS(ROW(INDEX(CurrentListing,MATCH(R1,CurrentListing,0),1)),25),Q1),HYPERLINK(\"#'Select LEA'!\"&\"$AA$10\",Q1))","v":""}]
[]
["Category set A – Children with disabilities (IDEA) exiting special education, by age and basis of exit",null,null,null,null,null,null,null,null,null,null,"Note: In September 2018, formulas and cell references below were adjusted to include the new basis of exit permitted value \"Graduated with an alternate diploma\" for school year 2017-2018 IDEA exit data.",null,null,null,null,null,null,null,null,null,null,null,null,null,null,null,"Category Set A - Student counts for Children with Disabilities (IDEA) exiting special education for all disabilities, by basis of exit and age"]
["Student count by basis of exit","Age",null,null,null,null,null,null,null,null,null,null,null,null,null,null,null,null,null,null,null,null,null,null,null,null,null,"Student counts by basis of exit","All Disabilities"]
[null,14,15,16,17,18,19,20,21,"Total",null,"Link","Triggered?","Count","Category","Error Messages",null,null,null,null,null,null,null,null,null,null,null,null,14,15,16,17,18,19,20,21,"Total"]
["Transferred to regular education",{"$f":"IF(AND($B$22=\"\",$C$22=\"\",$D$22=\"\",$E$22=\"\",$F$22=\"\",$G$22=\"\",$H$22=\"\",$I$22=\"\"),\"\",HYPERLINK(\"#'Category Set A By Age'!\"&CELL(\"Address\",N19),'Category Set A by Age'!N19))","v":""},{"$f":"IF(AND($B$22=\"\",$C$22=\"\",$D$22=\"\",$E$22=\"\",$F$22=\"\",$G$22=\"\",$H$22=\"\",$I$22=\"\"),\"\",HYPERLINK(\"#'Category Set A By Age'!\"&CELL(\"Address\",N44),'Category Set A by Age'!N44))","v":""},{"$f":"IF(AND($B$22=\"\",$C$22=\"\",$D$22=\"\",$E$22=\"\",$F$22=\"\",$G$22=\"\",$H$22=\"\",$I$22=\"\"),\"\",HYPERLINK(\"#'Category Set A By Age'!\"&CELL(\"Address\",N69),'Category Set A by Age'!N69))","v":""},{"$f":"IF(AND($B$22=\"\",$C$22=\"\",$D$22=\"\",$E$22=\"\",$F$22=\"\",$G$22=\"\",$H$22=\"\",$I$22=\"\"),\"\",HYPERLINK(\"#'Category Set A By Age'!\"&CELL(\"Address\",N94),'Category Set A by Age'!N94))","v":""},{"$f":"IF(AND($B$22=\"\",$C$22=\"\",$D$22=\"\",$E$22=\"\",$F$22=\"\",$G$22=\"\",$H$22=\"\",$I$22=\"\"),\"\",HYPERLINK(\"#'Category Set A By Age'!\"&CELL(\"Address\",N119),'Category Set A by Age'!N119))","v":""},{"$f":"IF(AND($B$22=\"\",$C$22=\"\",$D$22=\"\",$E$22=\"\",$F$22=\"\",$G$22=\"\",$H$22=\"\",$I$22=\"\"),\"\",HYPERLINK(\"#'Category Set A By Age'!\"&CELL(\"Address\",N144),'Category Set A by Age'!N144))","v":""},{"$f":"IF(AND($B$22=\"\",$C$22=\"\",$D$22=\"\",$E$22=\"\",$F$22=\"\",$G$22=\"\",$H$22=\"\",$I$22=\"\"),\"\",HYPERLINK(\"#'Category Set A By Age'!\"&CELL(\"Address\",N169),'Category Set A by Age'!N169))","v":""},{"$f":"IF(AND($B$22=\"\",$C$22=\"\",$D$22=\"\",$E$22=\"\",$F$22=\"\",$G$22=\"\",$H$22=\"\",$I$22=\"\"),\"\",HYPERLINK(\"#'Category Set A By Age'!\"&CELL(\"Address\",N194),'Category Set A by Age'!N194))","v":""},{"$f":"IFERROR(HYPERLINK(\"#'Select LEA'!\"&ADDRESS(ROW(INDEX(CurrentListing,MATCH(AA14,CurrentListing,0),1)),25),AK14),HYPERLINK(\"#'Select LEA'!\"&\"$AA$10\",AK14))","v":""},null,"J14",{"$f":"IF(OR($J$14=\"\",$J$14=\"-9\"),0,IF(SUM(B14:I14)<>$J$14,1,0))","v":0},{"$f":"J14","v":""},"A",{"$f":"IF(OR($J$14=\"\",$J$14=\"No Data\"),\"\",IF(SUM(B14:I14)<>$J$14,\"Sum of transferred to regular education for ages 14 through 21 (B14:I14) ≠ Subtotal (J14)\",\"\"))","v":""},null,null,null,null,null,null,null,null,null,null,"TRANY","Transferred to regular education",null,null,null,null,null,null,null,null,{"$f":"IFERROR(IF(INDEX(StudCntC009,MATCH(AA14,CurrentListing,0))=\"\",\"No Data\",INDEX(StudCntC009,MATCH(AA14,CurrentListing,0))),\"\")","v":""}]
["Graduated with regular high school diploma",{"$f":"IF(AND($B$22=\"\",$C$22=\"\",$D$22=\"\",$E$22=\"\",$F$22=\"\",$G$22=\"\",$H$22=\"\",$I$22=\"\"),\"\",HYPERLINK(\"#'Category Set A By Age'!\"&CELL(\"Address\",N20),'Category Set A by Age'!N20))","v":""},{"$f":"IF(AND($B$22=\"\",$C$22=\"\",$D$22=\"\",$E$22=\"\",$F$22=\"\",$G$22=\"\",$H$22=\"\",$I$22=\"\"),\"\",HYPERLINK(\"#'Category Set A By Age'!\"&CELL(\"Address\",N45),'Category Set A by Age'!N45))","v":""},{"$f":"IF(AND($B$22=\"\",$C$22=\"\",$D$22=\"\",$E$22=\"\",$F$22=\"\",$G$22=\"\",$H$22=\"\",$I$22=\"\"),\"\",HYPERLINK(\"#'Category Set A By Age'!\"&CELL(\"Address\",N70),'Category Set A by Age'!N70))","v":""},{"$f":"IF(AND($B$22=\"\",$C$22=\"\",$D$22=\"\",$E$22=\"\",$F$22=\"\",$G$22=\"\",$H$22=\"\",$I$22=\"\"),\"\",HYPERLINK(\"#'Category Set A By Age'!\"&CELL(\"Address\",N95),'Category Set A by Age'!N95))","v":""},{"$f":"IF(AND($B$22=\"\",$C$22=\"\",$D$22=\"\",$E$22=\"\",$F$22=\"\",$G$22=\"\",$H$22=\"\",$I$22=\"\"),\"\",HYPERLINK(\"#'Category Set A By Age'!\"&CELL(\"Address\",N120),'Category Set A by Age'!N120))","v":""},{"$f":"IF(AND($B$22=\"\",$C$22=\"\",$D$22=\"\",$E$22=\"\",$F$22=\"\",$G$22=\"\",$H$22=\"\",$I$22=\"\"),\"\",HYPERLINK(\"#'Category Set A By Age'!\"&CELL(\"Address\",N145),'Category Set A by Age'!N145))","v":""},{"$f":"IF(AND($B$22=\"\",$C$22=\"\",$D$22=\"\",$E$22=\"\",$F$22=\"\",$G$22=\"\",$H$22=\"\",$I$22=\"\"),\"\",HYPERLINK(\"#'Category Set A By Age'!\"&CELL(\"Address\",N170),'Category Set A by Age'!N170))","v":""},{"$f":"IF(AND($B$22=\"\",$C$22=\"\",$D$22=\"\",$E$22=\"\",$F$22=\"\",$G$22=\"\",$H$22=\"\",$I$22=\"\"),\"\",HYPERLINK(\"#'Category Set A By Age'!\"&CELL(\"Address\",N195),'Category Set A by Age'!N195))","v":""},{"$f":"IFERROR(HYPERLINK(\"#'Select LEA'!\"&ADDRESS(ROW(INDEX(CurrentListing,MATCH(AA15,CurrentListing,0),1)),25),AK15),HYPERLINK(\"#'Select LEA'!\"&\"$AA$10\",AK15))","v":""},null,"J15",{"$f":"IF(OR($J$15=\"\",$J$15=\"-9\"),0,IF(SUM(B15:I15)<>$J$15,1,0))","v":0},{"$f":"J15","v":""},"A",{"$f":"IF(OR($J$15=\"\",$J$15=\"No Data\"),\"\",IF(SUM(B15:I15)<>$J$15,\"Sum of graduated with high school diploma for ages 14 through 21 (B15:I15) ≠ Subtotal (J15)\",\"\"))","v":""},null,null,null,null,null,null,null,null,null,null,"GHSY","Graduated with regular high school diploma",null,null,null,null,null,null,null,null,""]
["Graduated with an alternate diploma",{"$f":"IF(AND($B$22=\"\",$C$22=\"\",$D$22=\"\",$E$22=\"\",$F$22=\"\",$G$22=\"\",$H$22=\"\",$I$22=\"\"),\"\",HYPERLINK(\"#'Category Set A By Age'!\"&CELL(\"Address\",N21),'Category Set A by Age'!N21))","v":""},{"$f":"IF(AND($B$22=\"\",$C$22=\"\",$D$22=\"\",$E$22=\"\",$F$22=\"\",$G$22=\"\",$H$22=\"\",$I$22=\"\"),\"\",HYPERLINK(\"#'Category Set A By Age'!\"&CELL(\"Address\",N46),'Category Set A by Age'!N46))","v":""},{"$f":"IF(AND($B$22=\"\",$C$22=\"\",$D$22=\"\",$E$22=\"\",$F$22=\"\",$G$22=\"\",$H$22=\"\",$I$22=\"\"),\"\",HYPERLINK(\"#'Category Set A By Age'!\"&CELL(\"Address\",N71),'Category Set A by Age'!N71))","v":""},{"$f":"IF(AND($B$22=\"\",$C$22=\"\",$D$22=\"\",$E$22=\"\",$F$22=\"\",$G$22=\"\",$H$22=\"\",$I$22=\"\"),\"\",HYPERLINK(\"#'Category Set A By Age'!\"&CELL(\"Address\",N96),'Category Set A by Age'!N96))","v":""},{"$f":"IF(AND($B$22=\"\",$C$22=\"\",$D$22=\"\",$E$22=\"\",$F$22=\"\",$G$22=\"\",$H$22=\"\",$I$22=\"\"),\"\",HYPERLINK(\"#'Category Set A By Age'!\"&CELL(\"Address\",N121),'Category Set A by Age'!N121))","v":""},{"$f":"IF(AND($B$22=\"\",$C$22=\"\",$D$22=\"\",$E$22=\"\",$F$22=\"\",$G$22=\"\",$H$22=\"\",$I$22=\"\"),\"\",HYPERLINK(\"#'Category Set A By Age'!\"&CELL(\"Address\",N146),'Category Set A by Age'!N146))","v":""},{"$f":"IF(AND($B$22=\"\",$C$22=\"\",$D$22=\"\",$E$22=\"\",$F$22=\"\",$G$22=\"\",$H$22=\"\",$I$22=\"\"),\"\",HYPERLINK(\"#'Category Set A By Age'!\"&CELL(\"Address\",N171),'Category Set A by Age'!N171))","v":""},{"$f":"IF(AND($B$22=\"\",$C$22=\"\",$D$22=\"\",$E$22=\"\",$F$22=\"\",$G$22=\"\",$H$22=\"\",$I$22=\"\"),\"\",HYPERLINK(\"#'Category Set A By Age'!\"&CELL(\"Address\",N196),'Category Set A by Age'!N196))","v":""},{"$f":"IFERROR(HYPERLINK(\"#'Select LEA'!\"&ADDRESS(ROW(INDEX(CurrentListing,MATCH(AA16,CurrentListing,0),1)),25),AK16),HYPERLINK(\"#'Select LEA'!\"&\"$AA$10\",AK16))","v":""},null,"J16",{"$f":"IF(OR($J$16=\"\",$J$16=\"-9\"),0,IF(SUM(B16:I16)<>$J$16,1,0))","v":0},{"$f":"J16","v":""},"A",{"$f":"IF(OR($J$16=\"\",$J$16=\"No Data\"),\"\",IF(SUM(B16:I16)<>$J$16,\"Sum of graduated with an alternate diploma for ages 14 through 21 (B16:I16 ) ≠ Subtotal (J16)\",\"\"))","v":""},null,null,null,null,null,null,null,null,null,null,"GRADALTDPLY","Graduated with an alternate diploma",null,null,null,null,null,null,null,null,""]
["Received a certificate",{"$f":"IF(AND($B$22=\"\",$C$22=\"\",$D$22=\"\",$E$22=\"\",$F$22=\"\",$G$22=\"\",$H$22=\"\",$I$22=\"\"),\"\",HYPERLINK(\"#'Category Set A By Age'!\"&CELL(\"Address\",N22),'Category Set A by Age'!N22))","v":""},{"$f":"IF(AND($B$22=\"\",$C$22=\"\",$D$22=\"\",$E$22=\"\",$F$22=\"\",$G$22=\"\",$H$22=\"\",$I$22=\"\"),\"\",HYPERLINK(\"#'Category Set A By Age'!\"&CELL(\"Address\",N47),'Category Set A by Age'!N47))","v":""},{"$f":"IF(AND($B$22=\"\",$C$22=\"\",$D$22=\"\",$E$22=\"\",$F$22=\"\",$G$22=\"\",$H$22=\"\",$I$22=\"\"),\"\",HYPERLINK(\"#'Category Set A By Age'!\"&CELL(\"Address\",N72),'Category Set A by Age'!N72))","v":""},{"$f":"IF(AND($B$22=\"\",$C$22=\"\",$D$22=\"\",$E$22=\"\",$F$22=\"\",$G$22=\"\",$H$22=\"\",$I$22=\"\"),\"\",HYPERLINK(\"#'Category Set A By Age'!\"&CELL(\"Address\",N97),'Category Set A by Age'!N97))","v":""},{"$f":"IF(AND($B$22=\"\",$C$22=\"\",$D$22=\"\",$E$22=\"\",$F$22=\"\",$G$22=\"\",$H$22=\"\",$I$22=\"\"),\"\",HYPERLINK(\"#'Category Set A By Age'!\"&CELL(\"Address\",N122),'Category Set A by Age'!N122))","v":""},{"$f":"IF(AND($B$22=\"\",$C$22=\"\",$D$22=\"\",$E$22=\"\",$F$22=\"\",$G$22=\"\",$H$22=\"\",$I$22=\"\"),\"\",HYPERLINK(\"#'Category Set A By Age'!\"&CELL(\"Address\",N147),'Category Set A by Age'!N147))","v":""},{"$f":"IF(AND($B$22=\"\",$C$22=\"\",$D$22=\"\",$E$22=\"\",$F$22=\"\",$G$22=\"\",$H$22=\"\",$I$22=\"\"),\"\",HYPERLINK(\"#'Category Set A By Age'!\"&CELL(\"Address\",N172),'Category Set A by Age'!N172))","v":""},{"$f":"IF(AND($B$22=\"\",$C$22=\"\",$D$22=\"\",$E$22=\"\",$F$22=\"\",$G$22=\"\",$H$22=\"\",$I$22=\"\"),\"\",HYPERLINK(\"#'Category Set A By Age'!\"&CELL(\"Address\",N197),'Category Set A by Age'!N197))","v":""},{"$f":"IFERROR(HYPERLINK(\"#'Select LEA'!\"&ADDRESS(ROW(INDEX(CurrentListing,MATCH(AA17,CurrentListing,0),1)),25),AK17),HYPERLINK(\"#'Select LEA'!\"&\"$AA$10\",AK17))","v":""},null,"J17",{"$f":"IF(OR($J$17=\"\",$J$17=\"-9\"),0,IF(SUM(B17:I17)<>$J$17,1,0))","v":0},"","A",{"$f":"IF(OR($J$17=\"\",$J$17=\"No Data\"),\"\",IF(SUM(B17:I17)<>$J$17,\"Sum of received a certificate for ages 14 through 21 (B17:I17) ≠ Subtotal (J17)\",\"\"))","v":""},null,null,null,null,null,null,null,null,null,null,"RCY","Received a certificate",null,null,null,null,null,null,null,null,""]
["Reached maximum age",null,null,null,null,{"$f":"IF(AND($B$22=\"\",$C$22=\"\",$D$22=\"\",$E$22=\"\",$F$22=\"\",$G$22=\"\",$H$22=\"\",$I$22=\"\"),\"\",HYPERLINK(\"#'Category Set A By Age'!\"&CELL(\"Address\",N123),'Category Set A by Age'!N123))","v":""},{"$f":"IF(AND($B$22=\"\",$C$22=\"\",$D$22=\"\",$E$22=\"\",$F$22=\"\",$G$22=\"\",$H$22=\"\",$I$22=\"\"),\"\",HYPERLINK(\"#'Category Set A By Age'!\"&CELL(\"Address\",N148),'Category Set A by Age'!N148))","v":""},{"$f":"IF(AND($B$22=\"\",$C$22=\"\",$D$22=\"\",$E$22=\"\",$F$22=\"\",$G$22=\"\",$H$22=\"\",$I$22=\"\"),\"\",HYPERLINK(\"#'Category Set A By Age'!\"&CELL(\"Address\",N173),'Category Set A by Age'!N173))","v":""},{"$f":"IF(AND($B$22=\"\",$C$22=\"\",$D$22=\"\",$E$22=\"\",$F$22=\"\",$G$22=\"\",$H$22=\"\",$I$22=\"\"),\"\",HYPERLINK(\"#'Category Set A By Age'!\"&CELL(\"Address\",N198),'Category Set A by Age'!N198))","v":""},{"$f":"IFERROR(HYPERLINK(\"#'Select LEA'!\"&ADDRESS(ROW(INDEX(CurrentListing,MATCH(AA18,CurrentListing,0),1)),25),AK18),HYPERLINK(\"#'Select LEA'!\"&\"$AA$10\",AK18))","v":""},null,"J18",{"$f":"IF(OR($J$18=\"\",$J$18=\"-9\"),0,IF(SUM(B18:I18)<>$J$18,1,0))","v":0},"","A",{"$f":"IF(OR($J$18=\"\",$J$18=\"No Data\"),\"\",IF(SUM(B18:I18)<>$J$18,\"Sum of reached maximum age for ages 18 through 21 (B18:I18) ≠ Subtotal (J18)\",\"\"))","v":""},null,null,null,null,null,null,null,null,null,null,"RMAY","Reached maximum age",null,null,null,null,null,null,null,null,""]
["Died",{"$f":"IF(AND($B$22=\"\",$C$22=\"\",$D$22=\"\",$E$22=\"\",$F$22=\"\",$G$22=\"\",$H$22=\"\",$I$22=\"\"),\"\",HYPERLINK(\"#'Category Set A By Age'!\"&CELL(\"Address\",N24),'Category Set A by Age'!N24))","v":""},{"$f":"IF(AND($B$22=\"\",$C$22=\"\",$D$22=\"\",$E$22=\"\",$F$22=\"\",$G$22=\"\",$H$22=\"\",$I$22=\"\"),\"\",HYPERLINK(\"#'Category Set A By Age'!\"&CELL(\"Address\",N49),'Category Set A by Age'!N49))","v":""},{"$f":"IF(AND($B$22=\"\",$C$22=\"\",$D$22=\"\",$E$22=\"\",$F$22=\"\",$G$22=\"\",$H$22=\"\",$I$22=\"\"),\"\",HYPERLINK(\"#'Category Set A By Age'!\"&CELL(\"Address\",N74),'Category Set A by Age'!N74))","v":""},{"$f":"IF(AND($B$22=\"\",$C$22=\"\",$D$22=\"\",$E$22=\"\",$F$22=\"\",$G$22=\"\",$H$22=\"\",$I$22=\"\"),\"\",HYPERLINK(\"#'Category Set A By Age'!\"&CELL(\"Address\",N99),'Category Set A by Age'!N99))","v":""},{"$f":"IF(AND($B$22=\"\",$C$22=\"\",$D$22=\"\",$E$22=\"\",$F$22=\"\",$G$22=\"\",$H$22=\"\",$I$22=\"\"),\"\",HYPERLINK(\"#'Category Set A By Age'!\"&CELL(\"Address\",N124),'Category Set A by Age'!N124))","v":""},{"$f":"IF(AND($B$22=\"\",$C$22=\"\",$D$22=\"\",$E$22=\"\",$F$22=\"\",$G$22=\"\",$H$22=\"\",$I$22=\"\"),\"\",HYPERLINK(\"#'Category Set A By Age'!\"&CELL(\"Address\",N149),'Category Set A by Age'!N149))","v":""},{"$f":"IF(AND($B$22=\"\",$C$22=\"\",$D$22=\"\",$E$22=\"\",$F$22=\"\",$G$22=\"\",$H$22=\"\",$I$22=\"\"),\"\",HYPERLINK(\"#'Category Set A By Age'!\"&CELL(\"Address\",N174),'Category Set A by Age'!N174))","v":""},{"$f":"IF(AND($B$22=\"\",$C$22=\"\",$D$22=\"\",$E$22=\"\",$F$22=\"\",$G$22=\"\",$H$22=\"\",$I$22=\"\"),\"\",HYPERLINK(\"#'Category Set A By Age'!\"&CELL(\"Address\",N199),'Category Set A by Age'!N199))","v":""},{"$f":"IFERROR(HYPERLINK(\"#'Select LEA'!\"&ADDRESS(ROW(INDEX(CurrentListing,MATCH(AA19,CurrentListing,0),1)),25),AK19),HYPERLINK(\"#'Select LEA'!\"&\"$AA$10\",AK19))","v":""},null,"J19",{"$f":"IF(OR($J$19=\"\",$J$19=\"-9\"),0,IF(SUM(B19:I19)<>$J$19,1,0))","v":0},"","A",{"$f":"IF(OR($J$19=\"\",$J$19=\"No Data\"),\"\",IF(SUM(B19:I19)<>$J$19,\"Sum of died for ages 14 through 21 (B19:I19) ≠ Subtotal (J19)\",\"\"))","v":""},null,null,null,null,null,null,null,null,null,null,"DY","Died",null,null,null,null,null,null,null,null,""]
["Moved, known to be continuing",{"$f":"IF(AND($B$22=\"\",$C$22=\"\",$D$22=\"\",$E$22=\"\",$F$22=\"\",$G$22=\"\",$H$22=\"\",$I$22=\"\"),\"\",HYPERLINK(\"#'Category Set A By Age'!\"&CELL(\"Address\",N25),'Category Set A by Age'!N25))","v":""},{"$f":"IF(AND($B$22=\"\",$C$22=\"\",$D$22=\"\",$E$22=\"\",$F$22=\"\",$G$22=\"\",$H$22=\"\",$I$22=\"\"),\"\",HYPERLINK(\"#'Category Set A By Age'!\"&CELL(\"Address\",N51),'Category Set A by Age'!N50))","v":""},{"$f":"IF(AND($B$22=\"\",$C$22=\"\",$D$22=\"\",$E$22=\"\",$F$22=\"\",$G$22=\"\",$H$22=\"\",$I$22=\"\"),\"\",HYPERLINK(\"#'Category Set A By Age'!\"&CELL(\"Address\",N75),'Category Set A by Age'!N75))","v":""},{"$f":"IF(AND($B$22=\"\",$C$22=\"\",$D$22=\"\",$E$22=\"\",$F$22=\"\",$G$22=\"\",$H$22=\"\",$I$22=\"\"),\"\",HYPERLINK(\"#'Category Set A By Age'!\"&CELL(\"Address\",N100),'Category Set A by Age'!N100))","v":""},{"$f":"IF(AND($B$22=\"\",$C$22=\"\",$D$22=\"\",$E$22=\"\",$F$22=\"\",$G$22=\"\",$H$22=\"\",$I$22=\"\"),\"\",HYPERLINK(\"#'Category Set A By Age'!\"&CELL(\"Address\",N125),'Category Set A by Age'!N125))","v":""},{"$f":"IF(AND($B$22=\"\",$C$22=\"\",$D$22=\"\",$E$22=\"\",$F$22=\"\",$G$22=\"\",$H$22=\"\",$I$22=\"\"),\"\",HYPERLINK(\"#'Category Set A By Age'!\"&CELL(\"Address\",N150),'Category Set A by Age'!N150))","v":""},{"$f":"IF(AND($B$22=\"\",$C$22=\"\",$D$22=\"\",$E$22=\"\",$F$22=\"\",$G$22=\"\",$H$22=\"\",$I$22=\"\"),\"\",HYPERLINK(\"#'Category Set A By Age'!\"&CELL(\"Address\",N175),'Category Set A by Age'!N175))","v":""},{"$f":"IF(AND($B$22=\"\",$C$22=\"\",$D$22=\"\",$E$22=\"\",$F$22=\"\",$G$22=\"\",$H$22=\"\",$I$22=\"\"),\"\",HYPERLINK(\"#'Category Set A By Age'!\"&CELL(\"Address\",N200),'Category Set A by Age'!N200))","v":""},{"$f":"IFERROR(HYPERLINK(\"#'Select LEA'!\"&ADDRESS(ROW(INDEX(CurrentListing,MATCH(AA20,CurrentListing,0),1)),25),AK20),HYPERLINK(\"#'Select LEA'!\"&\"$AA$10\",AK20))","v":""},null,"J20",{"$f":"IF(OR($J$20=\"\",$J$20=\"-9\"),0,IF(SUM(B20:I20)<>$J$20,1,0))","v":0},"","A",{"$f":"IF(OR($J$20=\"\",$J$20=\"No Data\"),\"\",IF(SUM(B20:I20)<>$J$20,\"Sum of moved known to be continuing, for ages 14 through 21 (B20:I20) ≠ Subtotal (J20)\",\"\"))","v":""},null,null,null,null,null,null,null,null,null,null,"MKCY","Moved, known to be continuing",null,null,null,null,null,null,null,null,""]
["Dropped out",{"$f":"IF(AND($B$22=\"\",$C$22=\"\",$D$22=\"\",$E$22=\"\",$F$22=\"\",$G$22=\"\",$H$22=\"\",$I$22=\"\"),\"\",HYPERLINK(\"#'Category Set A By Age'!\"&CELL(\"Address\",N26),'Category Set A by Age'!N26))","v":""},{"$f":"IF(AND($B$22=\"\",$C$22=\"\",$D$22=\"\",$E$22=\"\",$F$22=\"\",$G$22=\"\",$H$22=\"\",$I$22=\"\"),\"\",HYPERLINK(\"#'Category Set A By Age'!\"&CELL(\"Address\",N52),'Category Set A by Age'!N51))","v":""},{"$f":"IF(AND($B$22=\"\",$C$22=\"\",$D$22=\"\",$E$22=\"\",$F$22=\"\",$G$22=\"\",$H$22=\"\",$I$22=\"\"),\"\",HYPERLINK(\"#'Category Set A By Age'!\"&CELL(\"Address\",N76),'Category Set A by Age'!N76))","v":""},{"$f":"IF(AND($B$22=\"\",$C$22=\"\",$D$22=\"\",$E$22=\"\",$F$22=\"\",$G$22=\"\",$H$22=\"\",$I$22=\"\"),\"\",HYPERLINK(\"#'Category Set A By Age'!\"&CELL(\"Address\",N101),'Category Set A by Age'!N101))","v":""},{"$f":"IF(AND($B$22=\"\",$C$22=\"\",$D$22=\"\",$E$22=\"\",$F$22=\"\",$G$22=\"\",$H$22=\"\",$I$22=\"\"),\"\",HYPERLINK(\"#'Category Set A By Age'!\"&CELL(\"Address\",N126),'Category Set A by Age'!N126))","v":""},{"$f":"IF(AND($B$22=\"\",$C$22=\"\",$D$22=\"\",$E$22=\"\",$F$22=\"\",$G$22=\"\",$H$22=\"\",$I$22=\"\"),\"\",HYPERLINK(\"#'Category Set A By Age'!\"&CELL(\"Address\",N151),'Category Set A by Age'!N151))","v":""},{"$f":"IF(AND($B$22=\"\",$C$22=\"\",$D$22=\"\",$E$22=\"\",$F$22=\"\",$G$22=\"\",$H$22=\"\",$I$22=\"\"),\"\",HYPERLINK(\"#'Category Set A By Age'!\"&CELL(\"Address\",N176),'Category Set A by Age'!N176))","v":""},{"$f":"IF(AND($B$22=\"\",$C$22=\"\",$D$22=\"\",$E$22=\"\",$F$22=\"\",$G$22=\"\",$H$22=\"\",$I$22=\"\"),\"\",HYPERLINK(\"#'Category Set A By Age'!\"&CELL(\"Address\",N201),'Category Set A by Age'!N201))","v":""},{"$f":"IFERROR(HYPERLINK(\"#'Select LEA'!\"&ADDRESS(ROW(INDEX(CurrentListing,MATCH(AA21,CurrentListing,0),1)),25),AK21),HYPERLINK(\"#'Select LEA'!\"&\"$AA$10\",AK21))","v":""},null,"J21",{"$f":"IF(OR($J$21=\"\",$J$21=\"-9\"),0,IF(SUM(B21:I21)<>$J$21,1,0))","v":0},"","A",{"$f":"IF(OR($J$21=\"\",$J$21=\"No Data\"),\"\",IF(SUM(B21:I21)<>$J$21,\"Sum of dropped out for ages 14 through 21 (B21:I21) ≠ Subtotal (J21)\",\"\"))","v":""},null,null,null,null,null,null,null,null,null,null,"DROPOUTY","Dropped out",null,null,null,null,null,null,null,null,""]
["Total",{"$f":"IFERROR(HYPERLINK(\"#'Select LEA'!\"&ADDRESS(ROW(INDEX(CurrentListing,MATCH(AC23,CurrentListing,0),1)),25),AC22),HYPERLINK(\"#'Select LEA'!\"&\"$AA$10\",AC22))","v":""},"","","","","","","",{"$f":"IF(AND($B$22=\"\",$C$22=\"\",$D$22=\"\",$E$22=\"\",$F$22=\"\",$G$22=\"\",$H$22=\"\",$I$22=\"\"),\"\",SUM(B14:I21))","v":""},null,"J22",{"$f":"IF(OR($J$22=\"\",$J$22=\"-9\"),0,IF(OR(SUM(J14:J21)<>$J$22,SUM(B22:I22)<>$J$22),1,0))","v":0},"","A",{"$f":"IF(OR($J$22=\"\",$J$22=\"No Data\"),\"\",IF(AND(SUM(J14:J21)<>$J$22,SUM(B22:I22)<>$J$22), \"Sum of subtotals for exit categories (J14:J21) or ages 14 through 21 (B22:I22) ≠ Calculated total (J22)\", IF(OR($J$22=\"\",$J$22=\"No Data\"),\"\",IF(SUM(J14:J21)<>$J$22, \"Sum of subtotals for exit categories (J14:J21) ≠ Calculated total (J22)\", IF(OR($J$22=\"\",$J$22=\"No Data\"),\"\",IF(SUM(B22:I22)<>$J$22, \"Sum of subtotals for ages 14 through 21 (B22:I22) ≠ Calculated total (J22)\", \"\"))))))","v":""},null,null,null,null,null,null,null,null,null,null,"Y","Total",{"$f":"IFERROR(IF(INDEX(StudCntC009,MATCH(AC23,CurrentListing,0))=\"\",\"No Data\",INDEX(StudCntC009,MATCH(AC23,CurrentListing,0))),\"\")","v":""},"","","","","","","",""]
[null,null,null,null,null,null,null,null,null,null,null," ",null,null,null,null,null,null,null,null,null,null,null,null,null,null,null,null,"14Y","15Y","16Y","17Y","18Y","19Y","20Y","21Y","Y"]
["Percent by basis of exit","Age",null,null,null,null,null,null,null,null,null,"B22",{"$f":"IF(OR($B$22=\"\",$B$22=\"-9\"),0,IF(SUM($B$14:$B$21)<>$B$22,1,0))","v":0},{"$f":"B$22","v":""},"A",{"$f":"IF(OR($B$22=\"\",$B$22=\"No Data\"),\"\",IF(SUM($B$14:$B$21)<>$B$22,\"Sum of exit categories for age 14 (B14:B21) ≠ Subtotal (B22)\",\"\"))","v":""}]
[null,"14\n(percent)","15\n(percent)","16\n(percent)","17\n(percent)","18\n(percent)","19\n(percent)","20\n(percent)","21\n(percent)","Total\n(percent)",null,"C22",{"$f":"IF(OR($C$22=\"\",$C$22=\"-9\"),0,IF(SUM($C$14:$C$21)<>$C$22,1,0))","v":0},{"$f":"C$22","v":""},"A",{"$f":"IF(OR($C$22=\"\",$C$22=\"No Data\"),\"\",IF(SUM($C$14:$C$21)<>$C$22,\"Sum of exit categories for age 15 (C14:C21) ≠ Subtotal (C22)\",\"\"))","v":""}]
["Transferred to regular education",{"$f":"IFERROR(IF($J14<>0,B14/$J14,0),\"\")","v":""},"","","","","","","",{"$f":"IF(SUM(B26,C26,D26,E26,F26,G26,H26,I26),SUM(B26,C26,D26,E26,F26,G26,H26,I26),\"\")","v":""},null,"D22",{"$f":"IF(OR($D$22=\"\",$D$22=\"-9\"),0,IF(SUM($D$14:$D$21)<>$D$22,1,0))","v":0},{"$f":"D$22","v":""},"A",{"$f":"IF(OR($D$22=\"\",$D$22=\"No Data\"),\"\",IF(SUM($D$14:$D$21)<>$D$22,\"Sum of exit categories for age 16 (D14:D21) ≠ Subtotal (D22)\",\"\"))","v":""}]
["Graduated with regular high school diploma","","","","","","","","",{"$f":"IF(SUM(B27,C27,D27,E27,F27,G27,H27,I27), SUM(B27,C27,D27,E27,F27,G27,H27,I27), \"\")","v":""},null,"E22",{"$f":"IF(OR($E$22=\"\",$E$22=\"-9\"),0,IF(SUM($E$14:$E$21)<>$E$22,1,0))","v":0},{"$f":"E$22","v":""},"A",{"$f":"IF(OR($E$22=\"\",$E$22=\"No Data\"),\"\",IF(SUM($E$14:$E$21)<>$E$22,\"Sum of exit categories for age 17 (E14:E21) ≠ Subtotal (E22)\",\"\"))","v":""}]
["Graduated with an alternate diploma","","","","","","","","",{"$f":"IF(SUM(B28,C28,D28,E28,F28,G28,H28,I28), SUM(B28,C28,D28,E28,F28,G28,H28,I28), \"\")","v":""},null,"F22",{"$f":"IF(OR($F$22=\"\",$F$22=\"-9\"),0,IF(SUM($F$14:$F$21)<>$F$22,1,0))","v":0},{"$f":"F$22","v":""},"A",{"$f":"IF(OR($F$22=\"\",$F$22=\"No Data\"),\"\",IF(SUM($F$14:$F$21)<>$F$22,\"Sum of exit categories for age 18 (F14:F21) ≠ Subtotal (F22)\",\"\"))","v":""}]
["Received a certificate",{"$f":"IFERROR(IF($J17<>0,B17/$J17,0),\"\")","v":""},"","","","","","","","",null,"G22",{"$f":"IF(OR($G$22=\"\",$G$22=\"-9\"),0,IF(SUM($G$14:$G$21)<>$G$22,1,0))","v":0},{"$f":"G$22","v":""},"A",{"$f":"IF(OR($G$22=\"\",$G$22=\"No Data\"),\"\",IF(SUM($G$14:$G$21)<>$G$22,\"Sum of exit categories for age 19 (G14:G21) ≠ Subtotal (G22)\",\"\"))","v":""}]
["Reached maximum age",null,null,null,null,{"$f":"IFERROR(IF($J18<>0,F18/$J18,0),\"\")","v":""},"","","","",null,"H22",{"$f":"IF(OR($H$22=\"\",$H$22=\"-9\"),0,IF(SUM($H$14:$H$21)<>$H$22,1,0))","v":0},{"$f":"H$22","v":""},"A",{"$f":"IF(OR($H$22=\"\",$H$22=\"No Data\"),\"\",IF(SUM($H$14:$H$21)<>$H$22,\"Sum of exit categories for age 20 (H14:H21) ≠ Subtotal (H22)\",\"\"))","v":""}]
["Died",{"$f":"IFERROR(IF($J19<>0,B19/$J19,0),\"\")","v":""},"","","","","","","","",null,"I22",{"$f":"IF(OR($I$22=\"\",$I$22=\"-9\"),0,IF(SUM($I$14:$I$21)<>$I$22,1,0))","v":0},{"$f":"I$22","v":""},"A",{"$f":"IF(OR($I$22=\"\",$I$22=\"No Data\"),\"\",IF(SUM($I$14:$I$21)<>$I$22,\"Sum of exit categories for age 21 (I14:I21) ≠ Subtotal (I22)\",\"\"))","v":""}]
["Moved, known to be continuing","","","","","","","","","",null,"J22",{"$f":"IF(OR($J$22=\"\",$J$22=\"No Data\"),0,IF(OR($I$47<>$J$22,$D$72<>$J$22,$D$97<>$J$22),1,0))","v":0},{"$f":"J22","v":""},"A",{"$f":"IF(OR($J$22=\"\",$J$22=\"No Data\"),\"\",IF(OR($I$47<>$J$22,$D$72<>$J$22,$D$97<>$J$22),\"Calculated total for category Set A (J22) ≠ Calculated totals for category Set B (I47), Set C (D72), or Set D (D97)\",\"\"))","v":""}]
["Dropped out","","","","","","","","","",null,null,null,null,null,null,null,null,null,null,null,null,null,null,null,null,"=IFERROR(IF(INDEX(StudCntC009,MATCH(AC21,CurrentListing,0))=\"\",\"No Data\",INDEX(StudCntC009,MATCH(AC21,CurrentListing,0))),\"MC\")"]
["Total",{"$f":"IFERROR(IF($J22<>0,B22/$J22,0),\"\")","v":""},"","","","","","","",""]
[]
["Category set B – Children with disabilities (IDEA) exiting special education, by racial ethnic and basis of exit",null,null,null,null,null,null,null,null,null,null,null,null,null,null,null,null,null,null,null,null,null,null,null,null,null,null,"Category Set B - Student counts for Children with Disabilities (IDEA) exiting special education by basis of exit and Racial Ethnic category"]
["Student count by basis of exit","Racial ethnic"]
[null,"Hispanic/\nLatino","American Indian \nor Alaska Native","Asian","Black or\nAfrican American","Native Hawaiian \nor Other \nPacific Islander","White","Two or\nmore races","Total",null,null,null,null,null,null,"Error Messages",null,null,null,null,null,null,null,null,null,null,null,"Student counts by basis of exit","Hispanic/\nLatino","American Indian \nor Alaska Native","Asian","Black or\nAfrican American","Native Hawaiian \nor Other \nPacific Islander","White","Two or\nMore Races","Total"]
["Transferred to regular education",{"$f":"IFERROR(HYPERLINK(\"#'Select LEA'!\"&ADDRESS(ROW(INDEX(CurrentListing,MATCH(AM39,CurrentListing,0),1)),25),AC39),HYPERLINK(\"#'Select LEA'!\"&\"$AA$10\",AC39))","v":""},{"$f":"IFERROR(HYPERLINK(\"#'Select LEA'!\"&ADDRESS(ROW(INDEX(CurrentListing,MATCH(AN39,CurrentListing,0),1)),25),AD39),HYPERLINK(\"#'Select LEA'!\"&\"$AA$10\",AD39))","v":""},{"$f":"IFERROR(HYPERLINK(\"#'Select LEA'!\"&ADDRESS(ROW(INDEX(CurrentListing,MATCH(AO39,CurrentListing,0),1)),25),AE39),HYPERLINK(\"#'Select LEA'!\"&\"$AA$10\",AE39))","v":""},{"$f":"IFERROR(HYPERLINK(\"#'Select LEA'!\"&ADDRESS(ROW(INDEX(CurrentListing,MATCH(AP39,CurrentListing,0),1)),25),AF39),HYPERLINK(\"#'Select LEA'!\"&\"$AA$10\",AF39))","v":""},{"$f":"IFERROR(HYPERLINK(\"#'Select LEA'!\"&ADDRESS(ROW(INDEX(CurrentListing,MATCH(AQ39,CurrentListing,0),1)),25),AG39),HYPERLINK(\"#'Select LEA'!\"&\"$AA$10\",AG39))","v":""},{"$f":"IFERROR(HYPERLINK(\"#'Select LEA'!\"&ADDRESS(ROW(INDEX(CurrentListing,MATCH(AR39,CurrentListing,0),1)),25),AH39),HYPERLINK(\"#'Select LEA'!\"&\"$AA$10\",AH39))","v":""},{"$f":"IFERROR(HYPERLINK(\"#'Select LEA'!\"&ADDRESS(ROW(INDEX(CurrentListing,MATCH(AS39,CurrentListing,0),1)),25),AI39),HYPERLINK(\"#'Select LEA'!\"&\"$AA$10\",AI39))","v":""},{"$f":"IFERROR(HYPERLINK(\"#'Select LEA'!\"&ADDRESS(ROW(INDEX(CurrentListing,MATCH(AT39,CurrentListing,0),1)),25),AJ39),HYPERLINK(\"#'Select LEA'!\"&\"$AA$10\",AJ39))","v":""},null,null,"I39",{"$f":"IF(OR($I$39=\"\",$I$39=\"-9\"),0,IF(SUM(B39:H39)<>$I$39,1,0))","v":0},{"$f":"I39","v":""},"B",{"$f":"IF(OR($I$39=\"\",$I$39=\"No Data\"),\"\",IF(SUM(B39:H39)<>$I$39,\"Sum of transferred to regular education for all racial ethnic categories (B39:H39) ≠ Subtotal (I39)\",\"\"))","v":""},null,null,null,null,null,null,null,null,null,null,null,"Transferred to regular education",{"$f":"IFERROR(IF(INDEX(StudCntC009,MATCH(AM39,CurrentListing,0))=\"\",\"No Data\",INDEX(StudCntC009,MATCH(AM39,CurrentListing,0))),\"\")","v":""},{"$f":"IFERROR(IF(INDEX(StudCntC009,MATCH(AN39,CurrentListing,0))=\"\",\"No Data\",INDEX(StudCntC009,MATCH(AN39,CurrentListing,0))),\"\")","v":""},{"$f":"IFERROR(IF(INDEX(StudCntC009,MATCH(AO39,CurrentListing,0))=\"\",\"No Data\",INDEX(StudCntC009,MATCH(AO39,CurrentListing,0))),\"\")","v":""},{"$f":"IFERROR(IF(INDEX(StudCntC009,MATCH(AP39,CurrentListing,0))=\"\",\"No Data\",INDEX(StudCntC009,MATCH(AP39,CurrentListing,0))),\"\")","v":""},{"$f":"IFERROR(IF(INDEX(StudCntC009,MATCH(AQ39,CurrentListing,0))=\"\",\"No Data\",INDEX(StudCntC009,MATCH(AQ39,CurrentListing,0))),\"\")","v":""},{"$f":"IFERROR(IF(INDEX(StudCntC009,MATCH(AR39,CurrentListing,0))=\"\",\"No Data\",INDEX(StudCntC009,MATCH(AR39,CurrentListing,0))),\"\")","v":""},{"$f":"IFERROR(IF(INDEX(StudCntC009,MATCH(AS39,CurrentListing,0))=\"\",\"No Data\",INDEX(StudCntC009,MATCH(AS39,CurrentListing,0))),\"\")","v":""},{"$f":"IFERROR(IF(INDEX(StudCntC009,MATCH(AT39,CurrentListing,0))=\"\",\"No Data\",INDEX(StudCntC009,MATCH(AT39,CurrentListing,0))),\"\")","v":""},null,null,"HI7TRANN","AM7TRANN","AS7TRANN","BL7TRANN","PI7TRANN","WH7TRANN","MU7TRANN","TRANY"]
["Graduated with regular high school diploma",{"$f":"IFERROR(HYPERLINK(\"#'Select LEA'!\"&ADDRESS(ROW(INDEX(CurrentListing,MATCH(AM40,CurrentListing,0),1)),25),AC40),HYPERLINK(\"#'Select LEA'!\"&\"$AA$10\",AC40))","v":""},{"$f":"IFERROR(HYPERLINK(\"#'Select LEA'!\"&ADDRESS(ROW(INDEX(CurrentListing,MATCH(AN40,CurrentListing,0),1)),25),AD40),HYPERLINK(\"#'Select LEA'!\"&\"$AA$10\",AD40))","v":""},{"$f":"IFERROR(HYPERLINK(\"#'Select LEA'!\"&ADDRESS(ROW(INDEX(CurrentListing,MATCH(AO40,CurrentListing,0),1)),25),AE40),HYPERLINK(\"#'Select LEA'!\"&\"$AA$10\",AE40))","v":""},{"$f":"IFERROR(HYPERLINK(\"#'Select LEA'!\"&ADDRESS(ROW(INDEX(CurrentListing,MATCH(AP40,CurrentListing,0),1)),25),AF40),HYPERLINK(\"#'Select LEA'!\"&\"$AA$10\",AF40))","v":""},{"$f":"IFERROR(HYPERLINK(\"#'Select LEA'!\"&ADDRESS(ROW(INDEX(CurrentListing,MATCH(AQ40,CurrentListing,0),1)),25),AG40),HYPERLINK(\"#'Select LEA'!\"&\"$AA$10\",AG40))","v":""},{"$f":"IFERROR(HYPERLINK(\"#'Select LEA'!\"&ADDRESS(ROW(INDEX(CurrentListing,MATCH(AR40,CurrentListing,0),1)),25),AH40),HYPERLINK(\"#'Select LEA'!\"&\"$AA$10\",AH40))","v":""},{"$f":"IFERROR(HYPERLINK(\"#'Select LEA'!\"&ADDRESS(ROW(INDEX(CurrentListing,MATCH(AS40,CurrentListing,0),1)),25),AI40),HYPERLINK(\"#'Select LEA'!\"&\"$AA$10\",AI40))","v":""},{"$f":"IFERROR(HYPERLINK(\"#'Select LEA'!\"&ADDRESS(ROW(INDEX(CurrentListing,MATCH(AT40,CurrentListing,0),1)),25),AJ40),HYPERLINK(\"#'Select LEA'!\"&\"$AA$10\",AJ40))","v":""},null,null,"I40",{"$f":"IF(OR($I$40=\"\",$I$40=\"-9\"),0,IF(SUM(B40:H40)<>$I$40,1,0))","v":0},{"$f":"I40","v":""},"B",{"$f":"IF(OR($I$40=\"\",$I$40=\"No Data\"),\"\",IF(SUM(B40:H40)<>$I$40,\"Sum of graduated with high school diploma for all racial ethnic categories (B40:H40) ≠ Subtotal (I40)\",\"\"))","v":""},null,null,null,null,null,null,null,null,null,null,null,"Graduated with regular high school diploma","","","","","","","","",null,null,"HI7GHSN","AM7GHSN","AS7GHSN","BL7GHSN","PI7GHSN","WH7GHSN","MU7GHSN","GHSY"]
["Graduated with an alternate diploma",{"$f":"IFERROR(HYPERLINK(\"#'Select LEA'!\"&ADDRESS(ROW(INDEX(CurrentListing,MATCH(AM41,CurrentListing,0),1)),25),AC41),HYPERLINK(\"#'Select LEA'!\"&\"$AA$10\",AC41))","v":""},{"$f":"IFERROR(HYPERLINK(\"#'Select LEA'!\"&ADDRESS(ROW(INDEX(CurrentListing,MATCH(AN41,CurrentListing,0),1)),25),AD41),HYPERLINK(\"#'Select LEA'!\"&\"$AA$10\",AD41))","v":""},{"$f":"IFERROR(HYPERLINK(\"#'Select LEA'!\"&ADDRESS(ROW(INDEX(CurrentListing,MATCH(AO41,CurrentListing,0),1)),25),AE41),HYPERLINK(\"#'Select LEA'!\"&\"$AA$10\",AE41))","v":""},{"$f":"IFERROR(HYPERLINK(\"#'Select LEA'!\"&ADDRESS(ROW(INDEX(CurrentListing,MATCH(AP41,CurrentListing,0),1)),25),AF41),HYPERLINK(\"#'Select LEA'!\"&\"$AA$10\",AF41))","v":""},{"$f":"IFERROR(HYPERLINK(\"#'Select LEA'!\"&ADDRESS(ROW(INDEX(CurrentListing,MATCH(AQ41,CurrentListing,0),1)),25),AG41),HYPERLINK(\"#'Select LEA'!\"&\"$AA$10\",AG41))","v":""},{"$f":"IFERROR(HYPERLINK(\"#'Select LEA'!\"&ADDRESS(ROW(INDEX(CurrentListing,MATCH(AR41,CurrentListing,0),1)),25),AH41),HYPERLINK(\"#'Select LEA'!\"&\"$AA$10\",AH41))","v":""},{"$f":"IFERROR(HYPERLINK(\"#'Select LEA'!\"&ADDRESS(ROW(INDEX(CurrentListing,MATCH(AS41,CurrentListing,0),1)),25),AI41),HYPERLINK(\"#'Select LEA'!\"&\"$AA$10\",AI41))","v":""},{"$f":"IFERROR(HYPERLINK(\"#'Select LEA'!\"&ADDRESS(ROW(INDEX(CurrentListing,MATCH(AT41,CurrentListing,0),1)),25),AJ41),HYPERLINK(\"#'Select LEA'!\"&\"$AA$10\",AJ41))","v":""},null,null,"I41",{"$f":"IF(OR($I$41=\"\",$I$41=\"-9\"),0,IF(SUM(B41:H41)<>$I$41,1,0))","v":0},{"$f":"I41","v":""},"B",{"$f":"IF(OR($I$41=\"\",$I$41=\"No Data\"),\"\",IF(SUM(B41:H41)<>$I$41,\"Sum of graduated with an alternate diploma for all racial ethnic categories (B41:H41) ≠ Subtotal (I41)\",\"\"))","v":""},null,null,null,null,null,null,null,null,null,null,null,"Graduated with an alternate diploma","","","","","","","","",null,null,"HI7GRADALTDPLN","AM7GRADALTDPLN","AS7GRADALTDPLN","BL7GRADALTDPLN","PI7GRADALTDPLN","WH7GRADALTDPLN","MU7GRADALTDPLN","GRADALTDPLY"]
["Received a certificate",{"$f":"IFERROR(HYPERLINK(\"#'Select LEA'!\"&ADDRESS(ROW(INDEX(CurrentListing,MATCH(AM42,CurrentListing,0),1)),25),AC42),HYPERLINK(\"#'Select LEA'!\"&\"$AA$10\",AC42))","v":""},{"$f":"IFERROR(HYPERLINK(\"#'Select LEA'!\"&ADDRESS(ROW(INDEX(CurrentListing,MATCH(AN42,CurrentListing,0),1)),25),AD42),HYPERLINK(\"#'Select LEA'!\"&\"$AA$10\",AD42))","v":""},{"$f":"IFERROR(HYPERLINK(\"#'Select LEA'!\"&ADDRESS(ROW(INDEX(CurrentListing,MATCH(AO42,CurrentListing,0),1)),25),AE42),HYPERLINK(\"#'Select LEA'!\"&\"$AA$10\",AE42))","v":""},{"$f":"IFERROR(HYPERLINK(\"#'Select LEA'!\"&ADDRESS(ROW(INDEX(CurrentListing,MATCH(AP42,CurrentListing,0),1)),25),AF42),HYPERLINK(\"#'Select LEA'!\"&\"$AA$10\",AF42))","v":""},{"$f":"IFERROR(HYPERLINK(\"#'Select LEA'!\"&ADDRESS(ROW(INDEX(CurrentListing,MATCH(AQ42,CurrentListing,0),1)),25),AG42),HYPERLINK(\"#'Select LEA'!\"&\"$AA$10\",AG42))","v":""},{"$f":"IFERROR(HYPERLINK(\"#'Select LEA'!\"&ADDRESS(ROW(INDEX(CurrentListing,MATCH(AR42,CurrentListing,0),1)),25),AH42),HYPERLINK(\"#'Select LEA'!\"&\"$AA$10\",AH42))","v":""},{"$f":"IFERROR(HYPERLINK(\"#'Select LEA'!\"&ADDRESS(ROW(INDEX(CurrentListing,MATCH(AS42,CurrentListing,0),1)),25),AI42),HYPERLINK(\"#'Select LEA'!\"&\"$AA$10\",AI42))","v":""},{"$f":"IFERROR(HYPERLINK(\"#'Select LEA'!\"&ADDRESS(ROW(INDEX(CurrentListing,MATCH(AT42,CurrentListing,0),1)),25),AJ42),HYPERLINK(\"#'Select LEA'!\"&\"$AA$10\",AJ42))","v":""},null,null,"I42",{"$f":"IF(OR($I$42=\"\",$I$42=\"-9\"),0,IF(SUM(B42:H42)<>$I$42,1,0))","v":0},"","B",{"$f":"IF(OR($I$42=\"\",$I$42=\"No Data\"),\"\",IF(SUM(B42:H42)<>$I$42,\"Sum of received a certificate for all racial ethnic categories (B42:H42) ≠ Subtotal (I42)\",\"\"))","v":""},null,null,null,null,null,null,null,null,null,null,null,"Received a certificate","","","","","","","","",null,null,"HI7RCN","AM7RCN","AS7RCN","BL7RCN","PI7RCN","WH7RCN","MU7RCN","RCY"]
["Reached maximum age",{"$f":"IFERROR(HYPERLINK(\"#'Select LEA'!\"&ADDRESS(ROW(INDEX(CurrentListing,MATCH(AM43,CurrentListing,0),1)),25),AC43),HYPERLINK(\"#'Select LEA'!\"&\"$AA$10\",AC43))","v":""},{"$f":"IFERROR(HYPERLINK(\"#'Select LEA'!\"&ADDRESS(ROW(INDEX(CurrentListing,MATCH(AN43,CurrentListing,0),1)),25),AD43),HYPERLINK(\"#'Select LEA'!\"&\"$AA$10\",AD43))","v":""},{"$f":"IFERROR(HYPERLINK(\"#'Select LEA'!\"&ADDRESS(ROW(INDEX(CurrentListing,MATCH(AO43,CurrentListing,0),1)),25),AE43),HYPERLINK(\"#'Select LEA'!\"&\"$AA$10\",AE43))","v":""},{"$f":"IFERROR(HYPERLINK(\"#'Select LEA'!\"&ADDRESS(ROW(INDEX(CurrentListing,MATCH(AP43,CurrentListing,0),1)),25),AF43),HYPERLINK(\"#'Select LEA'!\"&\"$AA$10\",AF43))","v":""},{"$f":"IFERROR(HYPERLINK(\"#'Select LEA'!\"&ADDRESS(ROW(INDEX(CurrentListing,MATCH(AQ43,CurrentListing,0),1)),25),AG43),HYPERLINK(\"#'Select LEA'!\"&\"$AA$10\",AG43))","v":""},{"$f":"IFERROR(HYPERLINK(\"#'Select LEA'!\"&ADDRESS(ROW(INDEX(CurrentListing,MATCH(AR43,CurrentListing,0),1)),25),AH43),HYPERLINK(\"#'Select LEA'!\"&\"$AA$10\",AH43))","v":""},{"$f":"IFERROR(HYPERLINK(\"#'Select LEA'!\"&ADDRESS(ROW(INDEX(CurrentListing,MATCH(AS43,CurrentListing,0),1)),25),AI43),HYPERLINK(\"#'Select LEA'!\"&\"$AA$10\",AI43))","v":""},{"$f":"IFERROR(HYPERLINK(\"#'Select LEA'!\"&ADDRESS(ROW(INDEX(CurrentListing,MATCH(AT43,CurrentListing,0),1)),25),AJ43),HYPERLINK(\"#'Select LEA'!\"&\"$AA$10\",AJ43))","v":""},null,null,"I43",{"$f":"IF(OR($I$43=\"\",$I$43=\"-9\"),0,IF(SUM(B43:H43)<>$I$43,1,0))","v":0},"","B",{"$f":"IF(OR($I$43=\"\",$I$43=\"No Data\"),\"\",IF(SUM(B43:H43)<>$I$43,\"Sum of reached maximum age for all racial ethnic categories (B43:H43) ≠ Subtotal (I43)\",\"\"))","v":""},null,null,null,null,null,null,null,null,null,null,null,"Reached maximum age","","","","","","","","",null,null,"HI7RMAN","AM7RMAN","AS7RMAN","BL7RMAN","PI7RMAN","WH7RMAN","MU7RMAN","RMAY"]
["Died",{"$f":"IFERROR(HYPERLINK(\"#'Select LEA'!\"&ADDRESS(ROW(INDEX(CurrentListing,MATCH(AM44,CurrentListing,0),1)),25),AC44),HYPERLINK(\"#'Select LEA'!\"&\"$AA$10\",AC44))","v":""},{"$f":"IFERROR(HYPERLINK(\"#'Select LEA'!\"&ADDRESS(ROW(INDEX(CurrentListing,MATCH(AN44,CurrentListing,0),1)),25),AD44),HYPERLINK(\"#'Select LEA'!\"&\"$AA$10\",AD44))","v":""},{"$f":"IFERROR(HYPERLINK(\"#'Select LEA'!\"&ADDRESS(ROW(INDEX(CurrentListing,MATCH(AO44,CurrentListing,0),1)),25),AE44),HYPERLINK(\"#'Select LEA'!\"&\"$AA$10\",AE44))","v":""},{"$f":"IFERROR(HYPERLINK(\"#'Select LEA'!\"&ADDRESS(ROW(INDEX(CurrentListing,MATCH(AP44,CurrentListing,0),1)),25),AF44),HYPERLINK(\"#'Select LEA'!\"&\"$AA$10\",AF44))","v":""},{"$f":"IFERROR(HYPERLINK(\"#'Select LEA'!\"&ADDRESS(ROW(INDEX(CurrentListing,MATCH(AQ44,CurrentListing,0),1)),25),AG44),HYPERLINK(\"#'Select LEA'!\"&\"$AA$10\",AG44))","v":""},{"$f":"IFERROR(HYPERLINK(\"#'Select LEA'!\"&ADDRESS(ROW(INDEX(CurrentListing,MATCH(AR44,CurrentListing,0),1)),25),AH44),HYPERLINK(\"#'Select LEA'!\"&\"$AA$10\",AH44))","v":""},{"$f":"IFERROR(HYPERLINK(\"#'Select LEA'!\"&ADDRESS(ROW(INDEX(CurrentListing,MATCH(AS44,CurrentListing,0),1)),25),AI44),HYPERLINK(\"#'Select LEA'!\"&\"$AA$10\",AI44))","v":""},{"$f":"IFERROR(HYPERLINK(\"#'Select LEA'!\"&ADDRESS(ROW(INDEX(CurrentListing,MATCH(AT44,CurrentListing,0),1)),25),AJ44),HYPERLINK(\"#'Select LEA'!\"&\"$AA$10\",AJ44))","v":""},null,null,"I44",{"$f":"IF(OR($I$44=\"\",$I$44=\"-9\"),0,IF(SUM(B44:H44)<>$I$44,1,0))","v":0},"","B",{"$f":"IF(OR($I$44=\"\",$I$44=\"No Data\"),\"\",IF(SUM(B44:H44)<>$I$44,\"Sum of died for all racial ethnic categories (B44:H44) ≠ Subtotal (I44)\",\"\"))","v":""},null,null,null,null,null,null,null,null,null,null,null,"Died","","","","","","","","",null,null,"HI7DN","AM7DN","AS7DN","BL7DN","PI7DN","WH7DN","MU7DN","DY"]
["Moved, known to be continuing",{"$f":"IFERROR(HYPERLINK(\"#'Select LEA'!\"&ADDRESS(ROW(INDEX(CurrentListing,MATCH(AM45,CurrentListing,0),1)),25),AC45),HYPERLINK(\"#'Select LEA'!\"&\"$AA$10\",AC45))","v":""},{"$f":"IFERROR(HYPERLINK(\"#'Select LEA'!\"&ADDRESS(ROW(INDEX(CurrentListing,MATCH(AN45,CurrentListing,0),1)),25),AD45),HYPERLINK(\"#'Select LEA'!\"&\"$AA$10\",AD45))","v":""},{"$f":"IFERROR(HYPERLINK(\"#'Select LEA'!\"&ADDRESS(ROW(INDEX(CurrentListing,MATCH(AO45,CurrentListing,0),1)),25),AE45),HYPERLINK(\"#'Select LEA'!\"&\"$AA$10\",AE45))","v":""},{"$f":"IFERROR(HYPERLINK(\"#'Select LEA'!\"&ADDRESS(ROW(INDEX(CurrentListing,MATCH(AP45,CurrentListing,0),1)),25),AF45),HYPERLINK(\"#'Select LEA'!\"&\"$AA$10\",AF45))","v":""},{"$f":"IFERROR(HYPERLINK(\"#'Select LEA'!\"&ADDRESS(ROW(INDEX(CurrentListing,MATCH(AQ45,CurrentListing,0),1)),25),AG45),HYPERLINK(\"#'Select LEA'!\"&\"$AA$10\",AG45))","v":""},{"$f":"IFERROR(HYPERLINK(\"#'Select LEA'!\"&ADDRESS(ROW(INDEX(CurrentListing,MATCH(AR45,CurrentListing,0),1)),25),AH45),HYPERLINK(\"#'Select LEA'!\"&\"$AA$10\",AH45))","v":""},{"$f":"IFERROR(HYPERLINK(\"#'Select LEA'!\"&ADDRESS(ROW(INDEX(CurrentListing,MATCH(AS45,CurrentListing,0),1)),25),AI45),HYPERLINK(\"#'Select LEA'!\"&\"$AA$10\",AI45))","v":""},{"$f":"IFERROR(HYPERLINK(\"#'Select LEA'!\"&ADDRESS(ROW(INDEX(CurrentListing,MATCH(AT45,CurrentListing,0),1)),25),AJ45),HYPERLINK(\"#'Select LEA'!\"&\"$AA$10\",AJ45))","v":""},null,null,"I45",{"$f":"IF(OR($I$45=\"\",$I$45=\"-9\"),0,IF(SUM(B45:H45)<>$I$45,1,0))","v":0},"","B",{"$f":"IF(OR($I$45=\"\",$I$45=\"No Data\"),\"\",IF(SUM(B45:H45)<>$I$45,\"Sum of moved, known to be continuing for all racial ethnic categories (B45:H45) ≠ Subtotal (I45)\",\"\"))","v":""},null,null,null,null,null,null,null,null,null,null,null,"Moved, known to be continuing","","","","","","","","",null,null,"HI7MKCN","AM7MKCN","AS7MKCN","BL7MKCN","PI7MKCN","WH7MKCN","MU7MKCN","MKCY"]
["Dropped out",{"$f":"IFERROR(HYPERLINK(\"#'Select LEA'!\"&ADDRESS(ROW(INDEX(CurrentListing,MATCH(AM46,CurrentListing,0),1)),25),AC46),HYPERLINK(\"#'Select LEA'!\"&\"$AA$10\",AC46))","v":""},{"$f":"IFERROR(HYPERLINK(\"#'Select LEA'!\"&ADDRESS(ROW(INDEX(CurrentListing,MATCH(AN46,CurrentListing,0),1)),25),AD46),HYPERLINK(\"#'Select LEA'!\"&\"$AA$10\",AD46))","v":""},{"$f":"IFERROR(HYPERLINK(\"#'Select LEA'!\"&ADDRESS(ROW(INDEX(CurrentListing,MATCH(AO46,CurrentListing,0),1)),25),AE46),HYPERLINK(\"#'Select LEA'!\"&\"$AA$10\",AE46))","v":""},{"$f":"IFERROR(HYPERLINK(\"#'Select LEA'!\"&ADDRESS(ROW(INDEX(CurrentListing,MATCH(AP46,CurrentListing,0),1)),25),AF46),HYPERLINK(\"#'Select LEA'!\"&\"$AA$10\",AF46))","v":""},{"$f":"IFERROR(HYPERLINK(\"#'Select LEA'!\"&ADDRESS(ROW(INDEX(CurrentListing,MATCH(AQ46,CurrentListing,0),1)),25),AG46),HYPERLINK(\"#'Select LEA'!\"&\"$AA$10\",AG46))","v":""},{"$f":"IFERROR(HYPERLINK(\"#'Select LEA'!\"&ADDRESS(ROW(INDEX(CurrentListing,MATCH(AR46,CurrentListing,0),1)),25),AH46),HYPERLINK(\"#'Select LEA'!\"&\"$AA$10\",AH46))","v":""},{"$f":"IFERROR(HYPERLINK(\"#'Select LEA'!\"&ADDRESS(ROW(INDEX(CurrentListing,MATCH(AS46,CurrentListing,0),1)),25),AI46),HYPERLINK(\"#'Select LEA'!\"&\"$AA$10\",AI46))","v":""},{"$f":"IFERROR(HYPERLINK(\"#'Select LEA'!\"&ADDRESS(ROW(INDEX(CurrentListing,MATCH(AT46,CurrentListing,0),1)),25),AJ46),HYPERLINK(\"#'Select LEA'!\"&\"$AA$10\",AJ46))","v":""},null,null,"I46",{"$f":"IF(OR($I$46=\"\",$I$46=\"-9\"),0,IF(SUM(B46:H46)<>$I$46,1,0))","v":0},"","B",{"$f":"IF(OR($I$46=\"\",$I$46=\"No Data\"),\"\",IF(SUM(B46:H46)<>$I$46,\"Sum of dropped out for all racial ethnic categories (B46:H46) ≠ Subtotal (I46)\",\"\"))","v":""},null,null,null,null,null,null,null,null,null,null,null,"Dropped out","","","","","","","","",null,null,"HI7DROPOUTN","AM7DROPOUTN","AS7DROPOUTN","BL7DROPOUTN","PI7DROPOUTN","WH7DROPOUTN","MU7DROPOUTN","DROPOUTY"]
["Total",{"$f":"IFERROR(HYPERLINK(\"#'Select LEA'!\"&ADDRESS(ROW(INDEX(CurrentListing,MATCH(AM47,CurrentListing,0),1)),25),AC47),HYPERLINK(\"#'Select LEA'!\"&\"$AA$10\",AC47))","v":""},{"$f":"IFERROR(HYPERLINK(\"#'Select LEA'!\"&ADDRESS(ROW(INDEX(CurrentListing,MATCH(AN47,CurrentListing,0),1)),25),AD47),HYPERLINK(\"#'Select LEA'!\"&\"$AA$10\",AD47))","v":""},{"$f":"IFERROR(HYPERLINK(\"#'Select LEA'!\"&ADDRESS(ROW(INDEX(CurrentListing,MATCH(AO47,CurrentListing,0),1)),25),AE47),HYPERLINK(\"#'Select LEA'!\"&\"$AA$10\",AE47))","v":""},{"$f":"IFERROR(HYPERLINK(\"#'Select LEA'!\"&ADDRESS(ROW(INDEX(CurrentListing,MATCH(AP47,CurrentListing,0),1)),25),AF47),HYPERLINK(\"#'Select LEA'!\"&\"$AA$10\",AF47))","v":""},{"$f":"IFERROR(HYPERLINK(\"#'Select LEA'!\"&ADDRESS(ROW(INDEX(CurrentListing,MATCH(AQ47,CurrentListing,0),1)),25),AG47),HYPERLINK(\"#'Select LEA'!\"&\"$AA$10\",AG47))","v":""},{"$f":"IFERROR(HYPERLINK(\"#'Select LEA'!\"&ADDRESS(ROW(INDEX(CurrentListing,MATCH(AR47,CurrentListing,0),1)),25),AH47),HYPERLINK(\"#'Select LEA'!\"&\"$AA$10\",AH47))","v":""},{"$f":"IFERROR(HYPERLINK(\"#'Select LEA'!\"&ADDRESS(ROW(INDEX(CurrentListing,MATCH(AS47,CurrentListing,0),1)),25),AI47),HYPERLINK(\"#'Select LEA'!\"&\"$AA$10\",AI47))","v":""},{"$f":"IF(AND($B$47=\"\",$C$47=\"\",$D$47=\"\",$E$47=\"\",$F$47=\"\",$G$47=\"\",$H$47=\"\"),\"\",SUM(B39:H46))","v":""},null,null,"I47",{"$f":"IF(OR($I$47=\"\",$I$47=\"-9\"),0,IF(OR(SUM(I39:I46)<>$I$47,SUM(B47:H47)<>$I$47),1,0))","v":0},"","B",{"$f":"IF(OR($I$47=\"\",$I$47=\"No Data\"),\"\",IF(AND(SUM(I39:I46)<>$I$47,SUM(B47:H47)<>$I$47), \"Sum of exit categories for all Racial Ethnic categories (B47:H47) and subtotals for exit categories (I39:I46) ≠ Calculated total (I47)\", IF(OR($I$47=\"\",$I$47=\"No Data\"),\"\",IF(SUM(I39:I46)<>$I$47, \"Sum of subtotals for exit categories (I39:I46) ≠ Calculated total (I47)\", IF(OR($I$47=\"\",$I$47=\"No Data\"),\"\",IF(SUM(B47:H47)<>$I$47, \"Sum of exit categories for all Racial Ethnic categories (B47:H47) ≠ Subtotal (I47)\", \"\"))))))","v":""},null,null,null,null,null,null,null,null,null,null,null,"Total","","","","","","","","",null,null,"HI7Y","AM7Y","AS7Y","BL7Y","PI7Y","WH7Y","MU7Y","Y"]
[null,null,null,null,null,null,null,null,null,null,null,null,null,null,null,null,null,null,null,null,null,null,null,null,null,null,null,null,null,null,{"$f":"IFERROR(IF(INDEX(StudCntC009,MATCH(AO48,CurrentListing,0))=\"\",\"No Data\",INDEX(StudCntC009,MATCH(AO48,CurrentListing,0))),\"\")","v":""}]
["Percent by basis of exit","Racial ethnic"]
[null,"Hispanic/\nLatino\n(percent)","American Indian \nor Alaska Native\n(percent)","Asian\n(percent)","Black or\nAfrican American\n(percent)","Native Hawaiian \nor Other \nPacific Islander\n(percent)","White\n(percent)","Two or\nmore races\n(percent)","Total\n(percent)"]
["Transferred to regular education",{"$f":"IFERROR(IF($I39<>0,B39/$I39,0),\"\")","v":""},"","","","","","",{"$f":"IF(SUM(B51:H51), SUM(B51:H51), \"\")","v":""},null,null,"B47",{"$f":"IF(OR($B$47=\"\",$B$47=\"-9\"),0,IF(SUM($B$39:$B$46)<>$B$47,1,0))","v":0},{"$f":"B$47","v":""},"B",{"$f":"IF(OR($B$47=\"\",$B$47=\"No Data\"),\"\",IF(SUM($B$39:$B$46)<>$B$47,\"Sum of exit categories for Hispanic/Latino (B39:B46) ≠ Subtotal (B47)\",\"\"))","v":""}]
["Graduated with regular high school diploma","","","","","","","",{"$f":"IF(SUM(B52:H52), SUM(B52:H52), \"\")","v":""},null,null,"C47",{"$f":"IF(OR($C$47=\"\",$C$47=\"-9\"),0,IF(SUM($C$39:$C$46)<>$C$47,1,0))","v":0},{"$f":"C$47","v":""},"B",{"$f":"IF(OR($C$47=\"\",$C$47=\"No Data\"),\"\",IF(SUM($C$39:$C$46)<>$C$47,\"Sum of exit categories for American Indian or Alaska Native (C39:C46) ≠ Subtotal (C47)\",\"\"))","v":""}]
["Graduated with an alternate diploma","","","","","","","","",null,null,"D47",{"$f":"IF(OR($D$47=\"\",$D$47=\"-9\"),0,IF(SUM($D$39:$D$46)<>$D$47,1,0))","v":0},{"$f":"D$47","v":""},"B",{"$f":"IF(OR($D$47=\"\",$D$47=\"No Data\"),\"\",IF(SUM($D$39:$D$46)<>$D$47,\"Sum of exit categories for Asian (D39:D46) ≠ Subtotal (D47)\",\"\"))","v":""}]
["Received a certificate","","","","","","","","",null,null,"E47",{"$f":"IF(OR($E$47=\"\",$E$47=\"-9\"),0,IF(SUM($E$39:$E$46)<>$E$47,1,0))","v":0},{"$f":"E$47","v":""},"B",{"$f":"IF(OR($E$47=\"\",$E$47=\"No Data\"),\"\",IF(SUM($E$39:$E$46)<>$E$47,\"Sum of exit categories for Black or African American (E39:E46) ≠ Subtotal (E47)\",\"\"))","v":""}]
["Reached maximum age","","","","","","","","",null,null,"F47",{"$f":"IF(OR($F$47=\"\",$F$47=\"-9\"),0,IF(SUM($F$39:$F$46)<>$F$47,1,0))","v":0},{"$f":"F$47","v":""},"B",{"$f":"IF(OR($F$47=\"\",$F$47=\"No Data\"),\"\",IF(SUM($F$39:$F$46)<>$F$47,\"Sum of exit categories for Native Hawaiian or Other Pacific Islander (F39:F46) ≠ Subtotal (F47)\",\"\"))","v":""}]
["Died","","","","","","","","",null,null,"G47",{"$f":"IF(OR($G$47=\"\",$G$47=\"-9\"),0,IF(SUM($G$39:$G$46)<>$G$47,1,0))","v":0},{"$f":"G$47","v":""},"B",{"$f":"IF(OR($G$47=\"\",$G$47=\"No Data\"),\"\",IF(SUM($G$39:$G$46)<>$G$47,\"Sum of exit categories for White (G39:G46) ≠ Subtotal (G47)\",\"\"))","v":""}]
["Moved, known to be continuing","","","","","","","","",null,null,"H47",{"$f":"IF(OR($H$47=\"\",$H$47=\"-9\"),0,IF(SUM($H$39:$H$46)<>$H$47,1,0))","v":0},{"$f":"H$47","v":""},"B",{"$f":"IF(OR($H$47=\"\",$H$47=\"No Data\"),\"\",IF(SUM($H$39:$H$46)<>$H$47,\"Sum of exit categories for Two or More Races (H39:H46) ≠ Subtotal (H47)\",\"\"))","v":""}]
["Dropped out","","","","","","","","",null,null,"I47",{"$f":"IF(OR($I$47=\"\",$I$47=\"No Data\"),\"\",IF(OR($J$22<>$I$47,$D$72<>$I$47,$D$97<>$I$47),1,0))","v":""},{"$f":"I47","v":""},"B",{"$f":"IF(OR($I$47=\"\",$I$47=\"No Data\"),\"\",IF(OR($J$22<>$I$47,$D$72<>$I$47,$D$97<>$I$47),\"Calculated total for category Set B (I47) ≠ Calculated totals for category Set A (J22), Set C (D72), or Set D (D97)\",\"\"))","v":""}]
["Total","","","","","","","",""]
[]
["Category set C – Children with disabilities exiting special education for all disabilities, by sex and basis of exit",null,null,null,null,null,null,null,null,null,null,null,null,null,null,null,null,null,null,null,null,null,null,null,null,null,null,"Category Set C - Student counts for Children with Disabilities (IDEA) exiting special education by basis of exit and gender"]
["Student count by basis of exit","Sex"]
[null,"Male","Female","Total",null,null,null,null,null,null,null,null,null,null,null,"Error Messages",null,null,null,null,null,null,null,null,null,null,null,"Student counts by basis of exit","Male","Female","Total"]
["Transferred to regular education",{"$f":"IFERROR(HYPERLINK(\"#'Select LEA'!\"&ADDRESS(ROW(INDEX(CurrentListing,MATCH(AH64,CurrentListing,0),1)),25),AC64),HYPERLINK(\"#'Select LEA'!\"&\"$AA$10\",AC64))","v":""},{"$f":"IFERROR(HYPERLINK(\"#'Select LEA'!\"&ADDRESS(ROW(INDEX(CurrentListing,MATCH(AI64,CurrentListing,0),1)),25),AD64),HYPERLINK(\"#'Select LEA'!\"&\"$AA$10\",AD64))","v":""},{"$f":"IFERROR(HYPERLINK(\"#'Select LEA'!\"&ADDRESS(ROW(INDEX(CurrentListing,MATCH(AJ64,CurrentListing,0),1)),25),AE64),HYPERLINK(\"#'Select LEA'!\"&\"$AA$10\",AE64))","v":""},null,null,null,null,null,null,null,"D64",{"$f":"IF(OR($D$64=\"\",$D$64=\"-9\"),0,IF(SUM(B64:C64)<>$D$64,1,0))","v":0},{"$f":"D64","v":""},"C",{"$f":"IF(OR($D$64=\"\",$D$64=\"No Data\"),\"\",IF(SUM(B64:C64)<>$D$64,\"Sum of transferred to regular education for all gender categories (B64:C64) ≠ Subtotal (D64)\",\"\"))","v":""},null,null,null,null,null,null,null,null,null,null,null,"Transferred to regular education",{"$f":"IFERROR(IF(INDEX(StudCntC009,MATCH(AH64,CurrentListing,0))=\"\",\"No Data\",INDEX(StudCntC009,MATCH(AH64,CurrentListing,0))),\"\")","v":""},{"$f":"IFERROR(IF(INDEX(StudCntC009,MATCH(AI64,CurrentListing,0))=\"\",\"No Data\",INDEX(StudCntC009,MATCH(AI64,CurrentListing,0))),\"\")","v":""},{"$f":"IFERROR(IF(INDEX(StudCntC009,MATCH(AJ64,CurrentListing,0))=\"\",\"No Data\",INDEX(StudCntC009,MATCH(AJ64,CurrentListing,0))),\"\")","v":""},null,null,"MTRANN","FTRANN","TRANY"]
["Graduated with regular high school diploma",{"$f":"IFERROR(HYPERLINK(\"#'Select LEA'!\"&ADDRESS(ROW(INDEX(CurrentListing,MATCH(AH65,CurrentListing,0),1)),25),AC65),HYPERLINK(\"#'Select LEA'!\"&\"$AA$10\",AC65))","v":""},{"$f":"IFERROR(HYPERLINK(\"#'Select LEA'!\"&ADDRESS(ROW(INDEX(CurrentListing,MATCH(AI65,CurrentListing,0),1)),25),AD65),HYPERLINK(\"#'Select LEA'!\"&\"$AA$10\",AD65))","v":""},{"$f":"IFERROR(HYPERLINK(\"#'Select LEA'!\"&ADDRESS(ROW(INDEX(CurrentListing,MATCH(AJ65,CurrentListing,0),1)),25),AE65),HYPERLINK(\"#'Select LEA'!\"&\"$AA$10\",AE65))","v":""},null,null,null,null,null,null,null,"D65",{"$f":"IF(OR($D$65=\"\",$D$65=\"-9\"),0,IF(SUM(B65:C65)<>$D$65,1,0))","v":0},{"$f":"D65","v":""},"C",{"$f":"IF(OR($D$65=\"\",$D$65=\"No Data\"),\"\",IF(SUM(B65:C65)<>$D$65,\"Sum of graduated with high school diploma for all gender categories (B65:C65) ≠ Subtotal (D65)\",\"\"))","v":""},null,null,null,null,null,null,null,null,null,null,null,"Graduated with regular high school diploma","","","",null,null,"MGHSN","FGHSN","GHSY"]
["Graduated with an alternate diploma",{"$f":"IFERROR(HYPERLINK(\"#'Select LEA'!\"&ADDRESS(ROW(INDEX(CurrentListing,MATCH(AH66,CurrentListing,0),1)),25),AC66),HYPERLINK(\"#'Select LEA'!\"&\"$AA$10\",AC66))","v":""},{"$f":"IFERROR(HYPERLINK(\"#'Select LEA'!\"&ADDRESS(ROW(INDEX(CurrentListing,MATCH(AI66,CurrentListing,0),1)),25),AD66),HYPERLINK(\"#'Select LEA'!\"&\"$AA$10\",AD66))","v":""},{"$f":"IFERROR(HYPERLINK(\"#'Select LEA'!\"&ADDRESS(ROW(INDEX(CurrentListing,MATCH(AJ66,CurrentListing,0),1)),25),AE66),HYPERLINK(\"#'Select LEA'!\"&\"$AA$10\",AE66))","v":""},null,null,null,null,null,null,null,"D66",{"$f":"IF(OR($D$66=\"\",$D$66=\"-9\"),0,IF(SUM(B66:C66)<>$D$66,1,0))","v":0},{"$f":"D66","v":""},"C",{"$f":"IF(OR($D$66=\"\",$D$66=\"No Data\"),\"\",IF(SUM(B66:C66)<>$D$66,\"Sum of graduated with an alternate diploma for all gender categories (B66:C66) ≠ Subtotal (D66)\",\"\"))","v":""},null,null,null,null,null,null,null,null,null,null,null,"Graduated with an alternate diploma","","","",null,null,"MGRADALTDPLN","FGRADALTDPLN","GRADALTDPLY"]
["Received a certificate",{"$f":"IFERROR(HYPERLINK(\"#'Select LEA'!\"&ADDRESS(ROW(INDEX(CurrentListing,MATCH(AH67,CurrentListing,0),1)),25),AC67),HYPERLINK(\"#'Select LEA'!\"&\"$AA$10\",AC67))","v":""},{"$f":"IFERROR(HYPERLINK(\"#'Select LEA'!\"&ADDRESS(ROW(INDEX(CurrentListing,MATCH(AI67,CurrentListing,0),1)),25),AD67),HYPERLINK(\"#'Select LEA'!\"&\"$AA$10\",AD67))","v":""},{"$f":"IFERROR(HYPERLINK(\"#'Select LEA'!\"&ADDRESS(ROW(INDEX(CurrentListing,MATCH(AJ67,CurrentListing,0),1)),25),AE67),HYPERLINK(\"#'Select LEA'!\"&\"$AA$10\",AE67))","v":""},null,null,null,null,null,null,null,"D67",{"$f":"IF(OR($D$67=\"\",$D$67=\"-9\"),0,IF(SUM(B67:C67)<>$D$67,1,0))","v":0},"","C",{"$f":"IF(OR($D$67=\"\",$D$67=\"No Data\"),\"\",IF(SUM(B67:C67)<>$D$67,\"Sum of received a certificate for all gender categories (B67:C67) ≠ Subtotal (D67)\",\"\"))","v":""},null,null,null,null,null,null,null,null,null,null,null,"Received a certificate","","","",null,null,"MRCN","FRCN","RCY"]
["Reached maximum age",{"$f":"IFERROR(HYPERLINK(\"#'Select LEA'!\"&ADDRESS(ROW(INDEX(CurrentListing,MATCH(AH68,CurrentListing,0),1)),25),AC68),HYPERLINK(\"#'Select LEA'!\"&\"$AA$10\",AC68))","v":""},{"$f":"IFERROR(HYPERLINK(\"#'Select LEA'!\"&ADDRESS(ROW(INDEX(CurrentListing,MATCH(AI68,CurrentListing,0),1)),25),AD68),HYPERLINK(\"#'Select LEA'!\"&\"$AA$10\",AD68))","v":""},{"$f":"IFERROR(HYPERLINK(\"#'Select LEA'!\"&ADDRESS(ROW(INDEX(CurrentListing,MATCH(AJ68,CurrentListing,0),1)),25),AE68),HYPERLINK(\"#'Select LEA'!\"&\"$AA$10\",AE68))","v":""},null,null,null,null,null,null,null,"D68",{"$f":"IF(OR($D$68=\"\",$D$68=\"-9\"),0,IF(SUM(B68:C68)<>$D$68,1,0))","v":0},"","C",{"$f":"IF(OR($D$68=\"\",$D$68=\"No Data\"),\"\",IF(SUM(B68:C68)<>$D$68,\"Sum of reached maximum age for all gender categories (B68:C68) ≠ Subtotal (D68)\",\"\"))","v":""},null,null,null,null,null,null,null,null,null,null,null,"Reached maximum age","","","",null,null,"MRMAN","FRMAN","RMAY"]
["Died",{"$f":"IFERROR(HYPERLINK(\"#'Select LEA'!\"&ADDRESS(ROW(INDEX(CurrentListing,MATCH(AH69,CurrentListing,0),1)),25),AC69),HYPERLINK(\"#'Select LEA'!\"&\"$AA$10\",AC69))","v":""},{"$f":"IFERROR(HYPERLINK(\"#'Select LEA'!\"&ADDRESS(ROW(INDEX(CurrentListing,MATCH(AI69,CurrentListing,0),1)),25),AD69),HYPERLINK(\"#'Select LEA'!\"&\"$AA$10\",AD69))","v":""},{"$f":"IFERROR(HYPERLINK(\"#'Select LEA'!\"&ADDRESS(ROW(INDEX(CurrentListing,MATCH(AJ69,CurrentListing,0),1)),25),AE69),HYPERLINK(\"#'Select LEA'!\"&\"$AA$10\",AE69))","v":""},null,null,null,null,null,null,null,"D69",{"$f":"IF(OR($D$69=\"\",$D$69=\"-9\"),0,IF(SUM(B69:C69)<>$D$69,1,0))","v":0},"","C",{"$f":"IF(OR($D$69=\"\",$D$69=\"No Data\"),\"\",IF(SUM(B69:C69)<>$D$69,\"Sum of died for all gender categories (B69:C69) ≠ Subtotal (D69)\",\"\"))","v":""},null,null,null,null,null,null,null,null,null,null,null,"Died","","","",null,null,"MDN","FDN","DY"]
["Moved, known to be continuing",{"$f":"IFERROR(HYPERLINK(\"#'Select LEA'!\"&ADDRESS(ROW(INDEX(CurrentListing,MATCH(AH70,CurrentListing,0),1)),25),AC70),HYPERLINK(\"#'Select LEA'!\"&\"$AA$10\",AC70))","v":""},{"$f":"IFERROR(HYPERLINK(\"#'Select LEA'!\"&ADDRESS(ROW(INDEX(CurrentListing,MATCH(AI70,CurrentListing,0),1)),25),AD70),HYPERLINK(\"#'Select LEA'!\"&\"$AA$10\",AD70))","v":""},{"$f":"IFERROR(HYPERLINK(\"#'Select LEA'!\"&ADDRESS(ROW(INDEX(CurrentListing,MATCH(AJ70,CurrentListing,0),1)),25),AE70),HYPERLINK(\"#'Select LEA'!\"&\"$AA$10\",AE70))","v":""},null,null,null,null,null,null,null,"D70",{"$f":"IF(OR($D$70=\"\",$D$70=\"-9\"),0,IF(SUM(B70:C70)<>$D$70,1,0))","v":0},"","C",{"$f":"IF(OR($D$70=\"\",$D$70=\"No Data\"),\"\",IF(SUM(B70:C70)<>$D$70,\"Sum of moved, known to be continuing for all gender categories (B70:C70) ≠ Subtotal (D70)\",\"\"))","v":""},null,null,null,null,null,null,null,null,null,null,null,"Moved, known to be continuing","","","",null,null,"MMKCN","FMKCN","MKCY"]
["Dropped out",{"$f":"IFERROR(HYPERLINK(\"#'Select LEA'!\"&ADDRESS(ROW(INDEX(CurrentListing,MATCH(AH71,CurrentListing,0),1)),25),AC71),HYPERLINK(\"#'Select LEA'!\"&\"$AA$10\",AC71))","v":""},{"$f":"IFERROR(HYPERLINK(\"#'Select LEA'!\"&ADDRESS(ROW(INDEX(CurrentListing,MATCH(AI71,CurrentListing,0),1)),25),AD71),HYPERLINK(\"#'Select LEA'!\"&\"$AA$10\",AD71))","v":""},{"$f":"IFERROR(HYPERLINK(\"#'Select LEA'!\"&ADDRESS(ROW(INDEX(CurrentListing,MATCH(AJ71,CurrentListing,0),1)),25),AE71),HYPERLINK(\"#'Select LEA'!\"&\"$AA$10\",AE71))","v":""},null,null,null,null,null,null,null,"D71",{"$f":"IF(OR($D$71=\"\",$D$71=\"-9\"),0,IF(SUM(B71:C71)<>$D$71,1,0))","v":0},"","C",{"$f":"IF(OR($D$71=\"\",$D$71=\"-9\"),\"\",IF(SUM(B71:C71)<>$D$71,\"Sum of dropped out for all gender categories (B71:C71) ≠ Subtotal (D71)\",\"\"))","v":""},null,null,null,null,null,null,null,null,null,null,null,"Dropped out","","","",null,null,"MDROPOUTN","FDROPOUTN","DROPOUTY"]
["Total",{"$f":"IFERROR(HYPERLINK(\"#'Select LEA'!\"&ADDRESS(ROW(INDEX(CurrentListing,MATCH(AH72,CurrentListing,0),1)),25),AC72),HYPERLINK(\"#'Select LEA'!\"&\"$AA$10\",AC72))","v":""},{"$f":"IFERROR(HYPERLINK(\"#'Select LEA'!\"&ADDRESS(ROW(INDEX(CurrentListing,MATCH(AI72,CurrentListing,0),1)),25),AD72),HYPERLINK(\"#'Select LEA'!\"&\"$AA$10\",AD72))","v":""},{"$f":"IF(AND($B$72=\"\",$C$72=\"\"),\"\",SUM(B64:C71))","v":""},null,null,null,null,null,null,null,"D72",{"$f":"IF(OR($D$72=\"\",$D$72=\"-9\"),0,IF(OR(SUM(D64:D71)<>$D$72,SUM(B72:C72)<>$D$72),1,0))","v":0},"","C",{"$f":"IF(OR($D$72=\"\",$D$72=\"No Data\"),\"\",IF(AND(SUM(D64:D71)<>$D$72,SUM(B72:C72)<>$D$72), \"Sum of subtotals for exit categories (D64:D71) and gender categories (B72:C72) ≠ Calculated total (D72)\", IF(OR($D$72=\"\",$D$72=\"No Data\"),\"\",IF(SUM(D64:D71)<>$D$72, \"Sum of subtotals for exit categories (D64:D71) ≠ Calculated total (D72)\", IF(OR($D$72=\"\",$D$72=\"No Data\"),\"\",IF(SUM(B72:C72)<>$D$72, \"Sum of subtotals for gender categories (B72:C72) ≠ Calculated total (D72)\", \"\"))))))","v":""},null,null,null,null,null,null,null,null,null,null,null,"Total","","","",null,null,"MY","FY","Y"]
[]
["Percent by basis of exit","Sex"]
[null,"Male\n(percent)","Female\n(percent)","Total\n(percent)",null,null,null,null,null,null,null,"B72",{"$f":"IF(OR($B$72=\"\",$B$72=\"-9\"),0,IF(SUM($B$64:$B$71)<>$B$72,1,0))","v":0},{"$f":"B72","v":""},"C",{"$f":"IF(OR($B$72=\"\",$B$72=\"-9\"),\"\",IF(SUM($B$64:$B$71)<>$B$72,\"Sum of exit categories for males (B64:B71) ≠ Subtotal (B72)\",\"\"))","v":""}]
["Transferred to regular education",{"$f":"IFERROR(IF($D64<>0,B64/$D64,0),\"\")","v":""},"",{"$f":"IF(SUM(B76,C76), SUM(B76,C76), \"\")","v":""},null,null,null,null,null,null,null,"C72",{"$f":"IF(OR($C$72=\"\",$C$72=\"-9\"),0,IF(SUM($C$64:$C$71)<>$C$72,1,0))","v":0},{"$f":"C72","v":""},"C",{"$f":"IF(OR($C$72=\"\",$C$72=\"No data\"),\"\",IF(SUM($C$64:$C$71)<>$C$72,\"Sum of exit categories for females (C64:C71) ≠ Subtotal (C72)\",\"\"))","v":""}]
["Graduated with regular high school diploma","","",{"$f":"IF(SUM(B77,C77), SUM(B77,C77), \"\")","v":""},null,null,null,null,null,null,null,"D72",{"$f":"IF(OR($D$72=\"\",$D$72=\"-9\"),0,IF(OR($J$22<>$D$72,$I$47<>$D$72,$D$97<>$D$72),1,0))","v":0},{"$f":"D72","v":""},"C",{"$f":"IF(OR($D$72=\"\",$D$72=\"No Data\"),\"\",IF(OR($J$22<>$D$72,$I$47<>$D$72,$D$97<>$D$72),\"Calculated total for category Set C (D72) ≠ Calculated total for category Set A (J22), Set B (I47), or Set D (D97)\",\"\"))","v":""}]
["Graduated with an alternate diploma","","",{"$f":"IF(SUM(B78,C78), SUM(B78,C78), \"\")","v":""}]
["Received a certificate","","",""]
["Reached maximum age","","",""]
["Died","","",""]
["Moved, known to be continuing","","",""]
["Dropped out","","",""]
["Total","","",""]
[]
["Category set D – Children with disabilities (IDEA) exiting special education for all disabilities, by English learner (LEP) status and basis of exit",null,null,null,null,null,null,null,null,null,null,null,null,null,null,null,null,null,null,null,null,null,null,null,null,null,null,"Category Set D - Student counts for Children with Disabilities (IDEA) exiting special education by basis of exit and LEP Status"]
["Student count by basis of exit","LEP status"]
[null,"English learner","\nNon-English learner ","Total",null,null,null,null,null,null,null,null,null,null,null,"Error Messages",null,null,null,null,null,null,null,null,null,null,null,"Student counts by basis of exit","Limited English proficient (LEP) Student","Non-limited English proficient (non-LEP) Student","Total"]
["Transferred to regular education",{"$f":"IFERROR(HYPERLINK(\"#'Select LEA'!\"&ADDRESS(ROW(INDEX(CurrentListing,MATCH(AH89,CurrentListing,0),1)),25),AC89),HYPERLINK(\"#'Select LEA'!\"&\"$AA$10\",AC89))","v":""},{"$f":"IFERROR(HYPERLINK(\"#'Select LEA'!\"&ADDRESS(ROW(INDEX(CurrentListing,MATCH(AI89,CurrentListing,0),1)),25),AD89),HYPERLINK(\"#'Select LEA'!\"&\"$AA$10\",AD89))","v":""},{"$f":"IFERROR(HYPERLINK(\"#'Select LEA'!\"&ADDRESS(ROW(INDEX(CurrentListing,MATCH(AJ89,CurrentListing,0),1)),25),AE89),HYPERLINK(\"#'Select LEA'!\"&\"$AA$10\",AE89))","v":""},null,null,null,null,null,null,null,"D89",{"$f":"IF(OR($D$89=\"\",$D$89=\"-9\"),0,IF(SUM(B89:C89)<>$D$89,1,0))","v":0},{"$f":"D89","v":""},"D",{"$f":"IF(OR($D$89=\"\",$D$89=\"No Data\"),\"\",IF(SUM(B89:C89)<>$D$89,\"Sum of transferred to regular education for all LEP categories (B89:C89) ≠ Subtotal (D89)\",\"\"))","v":""},null,null,null,null,null,null,null,null,null,null,null,"Transferred to regular education",{"$f":"IFERROR(IF(INDEX(StudCntC009,MATCH(AH89,CurrentListing,0))=\"\",\"No Data\",INDEX(StudCntC009,MATCH(AH89,CurrentListing,0))),\"\")","v":""},{"$f":"IFERROR(IF(INDEX(StudCntC009,MATCH(AI89,CurrentListing,0))=\"\",\"No Data\",INDEX(StudCntC009,MATCH(AI89,CurrentListing,0))),\"\")","v":""},{"$f":"IFERROR(IF(INDEX(StudCntC009,MATCH(AJ89,CurrentListing,0))=\"\",\"No Data\",INDEX(StudCntC009,MATCH(AJ89,CurrentListing,0))),\"\")","v":""},null,null,"LEPTRANN","NLEPTRANN","TRANY"]
["Graduated with regular high school diploma",{"$f":"IFERROR(HYPERLINK(\"#'Select LEA'!\"&ADDRESS(ROW(INDEX(CurrentListing,MATCH(AH90,CurrentListing,0),1)),25),AC90),HYPERLINK(\"#'Select LEA'!\"&\"$AA$10\",AC90))","v":""},{"$f":"IFERROR(HYPERLINK(\"#'Select LEA'!\"&ADDRESS(ROW(INDEX(CurrentListing,MATCH(AI90,CurrentListing,0),1)),25),AD90),HYPERLINK(\"#'Select LEA'!\"&\"$AA$10\",AD90))","v":""},{"$f":"IFERROR(HYPERLINK(\"#'Select LEA'!\"&ADDRESS(ROW(INDEX(CurrentListing,MATCH(AJ90,CurrentListing,0),1)),25),AE90),HYPERLINK(\"#'Select LEA'!\"&\"$AA$10\",AE90))","v":""},null,null,null,null,null,null,null,"D90",{"$f":"IF(OR($D$90=\"\",$D$90=\"-9\"),0,IF(SUM(B90:C90)<>$D$90,1,0))","v":0},{"$f":"D90","v":""},"D",{"$f":"IF(OR($D$90=\"\",$D$90=\"No Data\"),\"\",IF(SUM(B90:C90)<>$D$90,\"Sum of graduated with high school diploma for all LEP categories (B90:C90) ≠ Subtotal (D90)\",\"\"))","v":""},null,null,null,null,null,null,null,null,null,null,null,"Graduated with regular high school diploma","","","",null,null,"LEPGHSN","NLEPGHSN","GHSY"]
["Graduated with an alternate diploma",{"$f":"IFERROR(HYPERLINK(\"#'Select LEA'!\"&ADDRESS(ROW(INDEX(CurrentListing,MATCH(AH91,CurrentListing,0),1)),25),AC91),HYPERLINK(\"#'Select LEA'!\"&\"$AA$10\",AC91))","v":""},{"$f":"IFERROR(HYPERLINK(\"#'Select LEA'!\"&ADDRESS(ROW(INDEX(CurrentListing,MATCH(AI91,CurrentListing,0),1)),25),AD91),HYPERLINK(\"#'Select LEA'!\"&\"$AA$10\",AD91))","v":""},{"$f":"IFERROR(HYPERLINK(\"#'Select LEA'!\"&ADDRESS(ROW(INDEX(CurrentListing,MATCH(AJ91,CurrentListing,0),1)),25),AE91),HYPERLINK(\"#'Select LEA'!\"&\"$AA$10\",AE91))","v":""},null,null,null,null,null,null,null,"D91",{"$f":"IF(OR($D$91=\"\",$D$91=\"-9\"),0,IF(SUM(B91:C91)<>$D$91,1,0))","v":0},"","D",{"$f":"IF(OR($D$91=\"\",$D$91=\"No Data\"),\"\",IF(SUM(B91:C91)<>$D$91,\"Sum of graduated with an alternate diploma for all LEP categories (B91:C91) ≠ Subtotal (D91)\",\"\"))","v":""},null,null,null,null,null,null,null,null,null,null,null,"Graduated with an alternate diploma","","","",null,null,"LEPGRADALTDPLN","NLEPGRADALTDPLN","GRADALTDPLY"]
["Received a certificate",{"$f":"IFERROR(HYPERLINK(\"#'Select LEA'!\"&ADDRESS(ROW(INDEX(CurrentListing,MATCH(AH92,CurrentListing,0),1)),25),AC92),HYPERLINK(\"#'Select LEA'!\"&\"$AA$10\",AC92))","v":""},{"$f":"IFERROR(HYPERLINK(\"#'Select LEA'!\"&ADDRESS(ROW(INDEX(CurrentListing,MATCH(AI92,CurrentListing,0),1)),25),AD92),HYPERLINK(\"#'Select LEA'!\"&\"$AA$10\",AD92))","v":""},{"$f":"IFERROR(HYPERLINK(\"#'Select LEA'!\"&ADDRESS(ROW(INDEX(CurrentListing,MATCH(AJ92,CurrentListing,0),1)),25),AE92),HYPERLINK(\"#'Select LEA'!\"&\"$AA$10\",AE92))","v":""},null,null,null,null,null,null,null,"D92",{"$f":"IF(OR($D$92=\"\",$D$92=\"-9\"),0,IF(SUM(B92:C92)<>$D$92,1,0))","v":0},"","D",{"$f":"IF(OR($D$92=\"\",$D$92=\"No Data\"),\"\",IF(SUM(B92:C92)<>$D$92,\"Sum of received a certificate for all LEP categories (B92:C92) ≠ Subtotal (D92)\",\"\"))","v":""},null,null,null,null,null,null,null,null,null,null,null,"Received a certificate","","","",null,null,"LEPRCN","NLEPRCN","RCY"]
["Reached maximum age",{"$f":"IFERROR(HYPERLINK(\"#'Select LEA'!\"&ADDRESS(ROW(INDEX(CurrentListing,MATCH(AH93,CurrentListing,0),1)),25),AC93),HYPERLINK(\"#'Select LEA'!\"&\"$AA$10\",AC93))","v":""},{"$f":"IFERROR(HYPERLINK(\"#'Select LEA'!\"&ADDRESS(ROW(INDEX(CurrentListing,MATCH(AI93,CurrentListing,0),1)),25),AD93),HYPERLINK(\"#'Select LEA'!\"&\"$AA$10\",AD93))","v":""},{"$f":"IFERROR(HYPERLINK(\"#'Select LEA'!\"&ADDRESS(ROW(INDEX(CurrentListing,MATCH(AJ93,CurrentListing,0),1)),25),AE93),HYPERLINK(\"#'Select LEA'!\"&\"$AA$10\",AE93))","v":""},null,null,null,null,null,null,null,"D93",{"$f":"IF(OR($D$93=\"\",$D$93=\"-9\"),0,IF(SUM(B93:C93)<>$D$93,1,0))","v":0},"","D",{"$f":"IF(OR($D$93=\"\",$D$93=\"No Data\"),\"\",IF(SUM(B93:C93)<>$D$93,\"Sum of reached maximum age for all LEP categories (B93:C93) ≠ Subtotal (D93)\",\"\"))","v":""},null,null,null,null,null,null,null,null,null,null,null,"Reached maximum age","","","",null,null,"LEPRMAN","NLEPRMAN","RMAY"]
["Died",{"$f":"IFERROR(HYPERLINK(\"#'Select LEA'!\"&ADDRESS(ROW(INDEX(CurrentListing,MATCH(AH94,CurrentListing,0),1)),25),AC94),HYPERLINK(\"#'Select LEA'!\"&\"$AA$10\",AC94))","v":""},{"$f":"IFERROR(HYPERLINK(\"#'Select LEA'!\"&ADDRESS(ROW(INDEX(CurrentListing,MATCH(AI94,CurrentListing,0),1)),25),AD94),HYPERLINK(\"#'Select LEA'!\"&\"$AA$10\",AD94))","v":""},{"$f":"IFERROR(HYPERLINK(\"#'Select LEA'!\"&ADDRESS(ROW(INDEX(CurrentListing,MATCH(AJ94,CurrentListing,0),1)),25),AE94),HYPERLINK(\"#'Select LEA'!\"&\"$AA$10\",AE94))","v":""},null,null,null,null,null,null,null,"D94",{"$f":"IF(OR($D$94=\"\",$D$94=\"-9\"),0,IF(SUM(B94:C94)<>$D$94,1,0))","v":0},"","D",{"$f":"IF(OR($D$94=\"\",$D$94=\"No Data\"),\"\",IF(SUM(B94:C94)<>$D$94,\"Sum of died for all LEP categories (B94:C94) ≠ Subtotal (D94)\",\"\"))","v":""},null,null,null,null,null,null,null,null,null,null,null,"Died","","","",null,null,"LEPDN","NLEPDN","DY"]
["Moved, known to be continuing",{"$f":"IFERROR(HYPERLINK(\"#'Select LEA'!\"&ADDRESS(ROW(INDEX(CurrentListing,MATCH(AH95,CurrentListing,0),1)),25),AC95),HYPERLINK(\"#'Select LEA'!\"&\"$AA$10\",AC95))","v":""},{"$f":"IFERROR(HYPERLINK(\"#'Select LEA'!\"&ADDRESS(ROW(INDEX(CurrentListing,MATCH(AI95,CurrentListing,0),1)),25),AD95),HYPERLINK(\"#'Select LEA'!\"&\"$AA$10\",AD95))","v":""},{"$f":"IFERROR(HYPERLINK(\"#'Select LEA'!\"&ADDRESS(ROW(INDEX(CurrentListing,MATCH(AJ95,CurrentListing,0),1)),25),AE95),HYPERLINK(\"#'Select LEA'!\"&\"$AA$10\",AE95))","v":""},null,null,null,null,null,null,null,"D95",{"$f":"IF(OR($D$95=\"\",$D$95=\"-9\"),0,IF(SUM(B95:C95)<>$D$95,1,0))","v":0},"","D",{"$f":"IF(OR($D$95=\"\",$D$95=\"No Data\"),\"\",IF(SUM(B95:C95)<>$D$95,\"Sum of moved, known to be continuing for all LEP categories (B95:C95) ≠ Subtotal (D95)\",\"\"))","v":""},null,null,null,null,null,null,null,null,null,null,null,"Moved, known to be continuing","","","",null,null,"LEPMKCN","NLEPMKCN","MKCY"]
["Dropped out",{"$f":"IFERROR(HYPERLINK(\"#'Select LEA'!\"&ADDRESS(ROW(INDEX(CurrentListing,MATCH(AH96,CurrentListing,0),1)),25),AC96),HYPERLINK(\"#'Select LEA'!\"&\"$AA$10\",AC96))","v":""},{"$f":"IFERROR(HYPERLINK(\"#'Select LEA'!\"&ADDRESS(ROW(INDEX(CurrentListing,MATCH(AI96,CurrentListing,0),1)),25),AD96),HYPERLINK(\"#'Select LEA'!\"&\"$AA$10\",AD96))","v":""},{"$f":"IFERROR(HYPERLINK(\"#'Select LEA'!\"&ADDRESS(ROW(INDEX(CurrentListing,MATCH(AJ96,CurrentListing,0),1)),25),AE96),HYPERLINK(\"#'Select LEA'!\"&\"$AA$10\",AE96))","v":""},null,null,null,null,null,null,null,"D96",{"$f":"IF(OR($D$96=\"\",$D$96=\"-9\"),0,IF(SUM(B96:C96)<>$D$96,1,0))","v":0},"","D",{"$f":"IF(OR($D$96=\"\",$D$96=\"No Data\"),\"\",IF(SUM(B96:C96)<>$D$96,\"Sum of dropped out for all LEP categories (B96:C96) ≠ Subtotal (D96)\",\"\"))","v":""},null,null,null,null,null,null,null,null,null,null,null,"Dropped out","","","",null,null,"LEPDROPOUTN","NLEPDROPOUTN","DROPOUTY"]
["Total",{"$f":"IFERROR(HYPERLINK(\"#'Select LEA'!\"&ADDRESS(ROW(INDEX(CurrentListing,MATCH(AH97,CurrentListing,0),1)),25),AC97),HYPERLINK(\"#'Select LEA'!\"&\"$AA$10\",AC97))","v":""},{"$f":"IFERROR(HYPERLINK(\"#'Select LEA'!\"&ADDRESS(ROW(INDEX(CurrentListing,MATCH(AI97,CurrentListing,0),1)),25),AD97),HYPERLINK(\"#'Select LEA'!\"&\"$AA$10\",AD97))","v":""},{"$f":"IF(AND($B$97=\"\",$C$97=\"\"),\"\",SUM(B89:C96))","v":""},null,null,null,null,null,null,null,"D97",{"$f":"IF(OR($D$97=\"\",$D$97=\"-9\"),0,IF(OR(SUM(D89:D96)<>$D$97,SUM(B97:C97)<>$D$97),1,0))","v":0},"","D",{"$f":"IF(OR($D$97=\"\",$D$97=\"No Data\"),\"\",IF(AND(SUM(D89:D96)<>$D$97,SUM(B97:C97)<>$D$97), \"Sum of calculated subtotals for exit categories (D89:D96) and LEP categories (B97:C97) ≠ Calculated total (D97)\", IF(OR($D$97=\"\",$D$97=\"No Data\"),\"\",IF(SUM(D89:D96)<>$D$97, \"Sum of calculated subtotals for exit categories (D83:D89) ≠ Calculated total (D90)\", IF(OR($D$97=\"\",$D$97=\"No Data\"),\"\",IF(SUM(B97:C97)<>$D$97, \"Sum of calculated subtotals for LEP categories (B97:C97) ≠ Calculated total (D97)\", \"\"))))))","v":""},null,null,null,null,null,null,null,null,null,null,null,"Total","","","",{"$f":"SUM(AC89:AD96)","v":0},null,"LEPY","NLEPY","Y"]
[]
["Percent by basis of exit","LEP Status"]
[null,"English learner\n(percent)","Non-English learner \n(percent)","Total\n(percent)",null,null,null,null,null,null,null,"B97",{"$f":"IF(OR($B$97=\"\",$B$97=\"-9\"),0,IF(SUM($B$89:$B$96)<>$B$97,1,0))","v":0},{"$f":"B97","v":""},"D",{"$f":"IF(OR($B$97=\"\",$B$97=\"No Data\"),\"\",IF(SUM($B$89:$B$96)<>$B$97,\"Sum of exit categories for LEP (B89:B96) ≠ Subtotal (B97)\",\"\"))","v":""}]
["Transferred to regular education",{"$f":"IFERROR(IF($D89<>0,B89/$D89,0),\"\")","v":""},null,null,null,null,null,null,null,null,null,"C97",{"$f":"IF(OR($C$97=\"\",$C$97=\"-9\"),0,IF(SUM($C$89:$C$96)<>$C$97,1,0))","v":0},{"$f":"C97","v":""},"D",{"$f":"IF(OR($C$97=\"\",$C$97=\"No Data\"),\"\",IF(SUM($C$89:$C$96)<>$C$97,\"Sum of exit categories for Non-LEP (C89:C96) ≠ Subtotal (C97)\",\"\"))","v":""}]
["Graduated with regular high school diploma","","",{"$f":"IF(SUM(B102,C102), SUM(B102,C102), \"\")","v":""},null,null,null,null,null,null,null,"D97",{"$f":"IF(OR($D$97=\"\",$D$97=\"-9\"),0,IF(OR($J$22<>$D$97,$I$47<>$D$97,$D$72<>$D$97),1,0))","v":0},{"$f":"D97","v":""},"D",{"$f":"IF(OR($D$97=\"\",$D$97=\"No Data\"),\"\",IF(OR($J$22<>$D$97,$I$47<>$D$97,$D$72<>$D$97),\"Calculated total for Category Set D (D97) ≠ Calculated totals for category Set A (J22), Set B (I47), or Set C (D72)\",\"\"))","v":""}]
["Graduated with an alternate diploma","","",{"$f":"IF(SUM(B103,C103), SUM(B103,C103), \"\")","v":""}]
["Received a certificate","","",""]
["Reached maximum age","","",""]
["Died","","",""]
["Moved, known to be continuing","","",""]
["Dropped out","","",""]
["Total","","",""]
[]
[]
[]
["End of worksheet"]

{"sheet":"Category Set A by Age","index":7,"n_rows":218,"n_cols":43,"rows_kept":218,"cut":false,"hidden":false,"merged":[[191,29,192,29],[191,30,191,42],[116,29,117,29],[116,30,116,42],[141,29,142,29],[141,30,141,42],[166,29,167,29],[166,30,166,42],[41,29,42,29],[41,30,41,42],[66,29,67,29],[66,30,66,42],[91,29,92,29],[91,30,91,42],[64,0,64,13],[41,0,42,0],[41,1,41,13],[53,0,54,0],[53,1,53,13],[16,1,16,13],[41,16,41,18],[40,0,40,13],[39,0,39,13],[28,0,29,0],[28,1,28,13],[177,0,177,13],[140,0,140,13],[66,16,66,18],[77,0,77,13],[78,1,78,13],[89,0,89,13],[90,0,90,13],[91,0,92,0],[91,1,91,13],[91,16,91,18],[116,0,117,0],[116,1,116,13],[116,16,116,18],[127,0,127,13],[128,0,129,0],[128,1,128,13],[166,16,166,18],[16,30,16,42],[16,16,16,18],[15,0,15,13],[0,14,217,14],[217,0,217,13],[191,16,191,18],[202,0,202,13],[203,0,204,0],[203,1,203,13],[178,0,179,0],[178,1,178,13],[189,0,189,13],[190,0,190,13],[191,0,192,0],[191,1,191,13],[153,0,154,0],[153,1,153,13],[164,0,164,13],[165,0,165,13],[166,0,167,0],[166,1,166,13],[16,29,17,29],[141,0,142,0],[141,1,141,13],[141,16,141,18],[152,0,152,13],[139,0,139,13],[66,0,67,0],[66,1,66,13],[102,0,102,13],[114,0,114,13],[115,0,115,13],[78,0,79,0],[103,0,104,0],[103,1,103,13],[65,0,65,13],[16,0,17,0],[11,9,11,11],[0,0,0,13],[4,9,4,11],[3,9,3,11],[2,9,2,11],[9,9,9,11],[8,9,8,11],[7,9,7,11],[6,9,6,11],[5,9,5,11],[10,9,10,11],[10,0,10,2],[8,0,9,4]]}
[{"$f":"\"IDEA LEA Exiting Data for School Year \"&'Exiting (LEA FS009)'!E12&\" - \"&'Select LEA'!F6","v":"IDEA LEA Exiting Data for School Year  - "},null,null,null,null,null,null,null,null,null,null,null,null,null,"End of worksheet",null,{"$f":"Subtotals!Q1","v":""},{"$f":"Subtotals!R1","v":"Y"},null,null,null,null,null,11698]
[]
[null,null,null,null,null,null,null,null,null,"Student counts by age",null,null,"Calculated total for category \nset A","Subtotals by age from FS009",null,null,null,null,null,null,null,null,null,null,0]
[null,null,null,null,null,null,null,null,null,"Age 14",null,null,{"$f":"IF(N27=0,\"\",N27)","v":""},{"$f":"IFERROR(HYPERLINK(\"#'Select LEA'!\"&ADDRESS(ROW(INDEX(CurrentListing,MATCH('Category Set A by Age'!AC27,CurrentListing,0),1)),25),AQ27),HYPERLINK(\"#'Select LEA'!\"&\"$AA$8\",AQ27))","v":""},null,null,null,null,"Total of the Education Units",null,null,null,null,null,0]
[null,null,null,null,null,null,null,null,null,"Age 15",null,null,{"$f":"IF(N52=0,\"\",N52)","v":""},{"$f":"IFERROR(HYPERLINK(\"#'Select LEA'!\"&ADDRESS(ROW(INDEX(CurrentListing,MATCH('Category Set A by Age'!AC52,CurrentListing,0),1)),25),AQ52),HYPERLINK(\"#'Select LEA'!\"&\"$AA$8\",AQ52))","v":""}]
[null,null,null,null,null,null,null,null,null,"Age 16",null,null,{"$f":"IF(N77=0,\"\",N77)","v":""},{"$f":"IFERROR(HYPERLINK(\"#'Select LEA'!\"&ADDRESS(ROW(INDEX(CurrentListing,MATCH('Category Set A by Age'!AC77,CurrentListing,0),1)),25),AQ77),HYPERLINK(\"#'Select LEA'!\"&\"$AA$8\",AQ77))","v":""}]
[null,null,null,null,null,null,null,null,null,"Age 17",null,null,{"$f":"IF(N102=0,\"\",N102)","v":""},{"$f":"IFERROR(HYPERLINK(\"#'Select LEA'!\"&ADDRESS(ROW(INDEX(CurrentListing,MATCH('Category Set A by Age'!AC102,CurrentListing,0),1)),25),AQ102),HYPERLINK(\"#'Select LEA'!\"&\"$AA$8\",AQ102))","v":""}]
[null,null,null,null,null,null,null,null,null,"Age 18",null,null,{"$f":"IF(N127=0,\"\",N127)","v":""},{"$f":"IFERROR(HYPERLINK(\"#'Select LEA'!\"&ADDRESS(ROW(INDEX(CurrentListing,MATCH('Category Set A by Age'!AC127,CurrentListing,0),1)),25),AQ127),HYPERLINK(\"#'Select LEA'!\"&\"$AA$8\",AQ127))","v":""}]
[{"$f":"\"           LEA name:  \"&'Select LEA'!$F$6","v":"           LEA name:  "},null,null,null,null,null,null,null,null,"Age 19",null,null,{"$f":"IF(N152=0,\"\",N152)","v":""},{"$f":"IFERROR(HYPERLINK(\"#'Select LEA'!\"&ADDRESS(ROW(INDEX(CurrentListing,MATCH('Category Set A by Age'!AC152,CurrentListing,0),1)),25),AQ152),HYPERLINK(\"#'Select LEA'!\"&\"$AA$8\",AQ152))","v":""}]
[null,null,null,null,null,null,null,null,null,"Age 20",null,null,{"$f":"IF(N177=0,\"\",N177)","v":""},{"$f":"IFERROR(HYPERLINK(\"#'Select LEA'!\"&ADDRESS(ROW(INDEX(CurrentListing,MATCH('Category Set A by Age'!AC177,CurrentListing,0),1)),25),AQ177),HYPERLINK(\"#'Select LEA'!\"&\"$AA$8\",AQ177))","v":""}]
[{"$f":"\"     LEA identifier:  \"&'Select LEA'!$F$7","v":"     LEA identifier:  "},null,null,null,null,null,null,null,null,"Age 21",null,null,{"$f":"IF(N202=0,\"\",N202)","v":""},{"$f":"IFERROR(HYPERLINK(\"#'Select LEA'!\"&ADDRESS(ROW(INDEX(CurrentListing,MATCH('Category Set A by Age'!AC202,CurrentListing,0),1)),25),AQ202),HYPERLINK(\"#'Select LEA'!\"&\"$AA$8\",AQ202))","v":""}]
[null,null,null,null,null,null,null,null,null,"Calculated total by age",null,null,{"$f":"IF(SUM(M4:M11), SUM(M4:M11), \"\")","v":""}]
[]
[null,null,null,null,null,null,null,null,null,"Total of the education unit",null,null,null,{"$f":"IFERROR(HYPERLINK(\"#'Select LEA'!\"&ADDRESS(ROW(INDEX(CurrentListing,MATCH(R1,CurrentListing,0),1)),25),Q1),HYPERLINK(\"#'Select LEA'!\"&\"$AA$10\",Q1))","v":""}]
[]
["Category set A – Children with disabilities (IDEA) exiting special education, by age, disability category, and basis of exit"]
["Student count by basis of exit ","Age 14",null,null,null,null,null,null,null,null,null,null,null,null,null,null,"Age 14 Lookup",null,null,null,null,null,null,null,null,null,null,null,null,"Student counts by basis of exit","Age 14"]
[null,"Intellectual\ndisability","Hearing\nimpairment","Speech or\nlanguage\nimpairment","Visual\nimpairment","Emotional\ndisturbance","Orthopedic\nimpairment","Other\nhealth\nimpairment","Specific\nlearning\ndisability","Deaf-\nblindness","Multiple\ndisabilities","Autism","Traumatic\nbrain\ninjury","Total",null,null,null,null,null,null,null,null,null,null,null,null,null,null,null,null,"Intellectual\nDisability","Hearing\nImpairments","Speech or\nLanguage\nImpairments","Visual\nImpairments","Emotional\nDisturbance","Orthopedic\nImpairments","Other\nHealth\nImpairments","Specific\nLearning\nDisabilities","Deaf-\nBlindness","Multiple\nDisabilities","Autism","Traumatic\nBrain\nInjury","Total"]
["Transferred to regular education",{"$f":"IFERROR(HYPERLINK(\"#'Select LEA'!\"&ADDRESS(ROW(INDEX(CurrentListing,MATCH('Category Set A by Age'!Q19,CurrentListing,0),1)),25),AE19),HYPERLINK(\"#'Select LEA'!\"&\"$AA$10\",AE19))","v":""},{"$f":"IFERROR(HYPERLINK(\"#'Select LEA'!\"&ADDRESS(ROW(INDEX(CurrentListing,MATCH('Category Set A by Age'!R19,CurrentListing,0),1)),25),AF19),HYPERLINK(\"#'Select LEA'!\"&\"$AA$10\",AF19))","v":""},{"$f":"IFERROR(HYPERLINK(\"#'Select LEA'!\"&ADDRESS(ROW(INDEX(CurrentListing,MATCH('Category Set A by Age'!S19,CurrentListing,0),1)),25),AG19),HYPERLINK(\"#'Select LEA'!\"&\"$AA$10\",AG19))","v":""},{"$f":"IFERROR(HYPERLINK(\"#'Select LEA'!\"&ADDRESS(ROW(INDEX(CurrentListing,MATCH('Category Set A by Age'!T19,CurrentListing,0),1)),25),AH19),HYPERLINK(\"#'Select LEA'!\"&\"$AA$10\",AH19))","v":""},{"$f":"IFERROR(HYPERLINK(\"#'Select LEA'!\"&ADDRESS(ROW(INDEX(CurrentListing,MATCH('Category Set A by Age'!U19,CurrentListing,0),1)),25),AI19),HYPERLINK(\"#'Select LEA'!\"&\"$AA$10\",AI19))","v":""},{"$f":"IFERROR(HYPERLINK(\"#'Select LEA'!\"&ADDRESS(ROW(INDEX(CurrentListing,MATCH('Category Set A by Age'!V19,CurrentListing,0),1)),25),AJ19),HYPERLINK(\"#'Select LEA'!\"&\"$AA$10\",AJ19))","v":""},{"$f":"IFERROR(HYPERLINK(\"#'Select LEA'!\"&ADDRESS(ROW(INDEX(CurrentListing,MATCH('Category Set A by Age'!W19,CurrentListing,0),1)),25),AK19),HYPERLINK(\"#'Select LEA'!\"&\"$AA$10\",AK19))","v":""},{"$f":"IFERROR(HYPERLINK(\"#'Select LEA'!\"&ADDRESS(ROW(INDEX(CurrentListing,MATCH('Category Set A by Age'!X19,CurrentListing,0),1)),25),AL19),HYPERLINK(\"#'Select LEA'!\"&\"$AA$10\",AL19))","v":""},{"$f":"IFERROR(HYPERLINK(\"#'Select LEA'!\"&ADDRESS(ROW(INDEX(CurrentListing,MATCH('Category Set A by Age'!Y19,CurrentListing,0),1)),25),AM19),HYPERLINK(\"#'Select LEA'!\"&\"$AA$10\",AM19))","v":""},{"$f":"IFERROR(HYPERLINK(\"#'Select LEA'!\"&ADDRESS(ROW(INDEX(CurrentListing,MATCH('Category Set A by Age'!Z19,CurrentListing,0),1)),25),AN19),HYPERLINK(\"#'Select LEA'!\"&\"$AA$10\",AN19))","v":""},{"$f":"IFERROR(HYPERLINK(\"#'Select LEA'!\"&ADDRESS(ROW(INDEX(CurrentListing,MATCH('Category Set A by Age'!AA19,CurrentListing,0),1)),25),AO19),HYPERLINK(\"#'Select LEA'!\"&\"$AA$10\",AO19))","v":""},{"$f":"IFERROR(HYPERLINK(\"#'Select LEA'!\"&ADDRESS(ROW(INDEX(CurrentListing,MATCH('Category Set A by Age'!AB19,CurrentListing,0),1)),25),AP19),HYPERLINK(\"#'Select LEA'!\"&\"$AA$10\",AP19))","v":""},{"$f":"IF(SUM(B19:M19)=0,\"\",SUM(B19:M19))","v":""},null,null,"ID14TRANN","HI14TRANN","SLI14TRANN","VI14TRANN","EMN14TRANN","OI14TRANN","OHI14TRANN","SLD14TRANN","DB14TRANN","MD14TRANN","AUT14TRANN","TBI14TRANN",null,"Transferred to regular education",{"$f":"IFERROR(IF(INDEX(StudCntC009,MATCH(Q19,CurrentListing,0))=\"\",\"No Data\",INDEX(StudCntC009,MATCH(Q19,CurrentListing,0))),\"\")","v":""},"","","","","","","","","","","",{"$f":"SUM(AE19:AP19)","v":0}]
["Graduated with regular high school diploma",{"$f":"IFERROR(HYPERLINK(\"#'Select LEA'!\"&ADDRESS(ROW(INDEX(CurrentListing,MATCH('Category Set A by Age'!Q20,CurrentListing,0),1)),25),AE20),HYPERLINK(\"#'Select LEA'!\"&\"$AA$10\",AE20))","v":""},{"$f":"IFERROR(HYPERLINK(\"#'Select LEA'!\"&ADDRESS(ROW(INDEX(CurrentListing,MATCH('Category Set A by Age'!R20,CurrentListing,0),1)),25),AF20),HYPERLINK(\"#'Select LEA'!\"&\"$AA$10\",AF20))","v":""},{"$f":"IFERROR(HYPERLINK(\"#'Select LEA'!\"&ADDRESS(ROW(INDEX(CurrentListing,MATCH('Category Set A by Age'!S20,CurrentListing,0),1)),25),AG20),HYPERLINK(\"#'Select LEA'!\"&\"$AA$10\",AG20))","v":""},{"$f":"IFERROR(HYPERLINK(\"#'Select LEA'!\"&ADDRESS(ROW(INDEX(CurrentListing,MATCH('Category Set A by Age'!T20,CurrentListing,0),1)),25),AH20),HYPERLINK(\"#'Select LEA'!\"&\"$AA$10\",AH20))","v":""},{"$f":"IFERROR(HYPERLINK(\"#'Select LEA'!\"&ADDRESS(ROW(INDEX(CurrentListing,MATCH('Category Set A by Age'!U20,CurrentListing,0),1)),25),AI20),HYPERLINK(\"#'Select LEA'!\"&\"$AA$10\",AI20))","v":""},{"$f":"IFERROR(HYPERLINK(\"#'Select LEA'!\"&ADDRESS(ROW(INDEX(CurrentListing,MATCH('Category Set A by Age'!V20,CurrentListing,0),1)),25),AJ20),HYPERLINK(\"#'Select LEA'!\"&\"$AA$10\",AJ20))","v":""},{"$f":"IFERROR(HYPERLINK(\"#'Select LEA'!\"&ADDRESS(ROW(INDEX(CurrentListing,MATCH('Category Set A by Age'!W20,CurrentListing,0),1)),25),AK20),HYPERLINK(\"#'Select LEA'!\"&\"$AA$10\",AK20))","v":""},{"$f":"IFERROR(HYPERLINK(\"#'Select LEA'!\"&ADDRESS(ROW(INDEX(CurrentListing,MATCH('Category Set A by Age'!X20,CurrentListing,0),1)),25),AL20),HYPERLINK(\"#'Select LEA'!\"&\"$AA$10\",AL20))","v":""},{"$f":"IFERROR(HYPERLINK(\"#'Select LEA'!\"&ADDRESS(ROW(INDEX(CurrentListing,MATCH('Category Set A by Age'!Y20,CurrentListing,0),1)),25),AM20),HYPERLINK(\"#'Select LEA'!\"&\"$AA$10\",AM20))","v":""},{"$f":"IFERROR(HYPERLINK(\"#'Select LEA'!\"&ADDRESS(ROW(INDEX(CurrentListing,MATCH('Category Set A by Age'!Z20,CurrentListing,0),1)),25),AN20),HYPERLINK(\"#'Select LEA'!\"&\"$AA$10\",AN20))","v":""},{"$f":"IFERROR(HYPERLINK(\"#'Select LEA'!\"&ADDRESS(ROW(INDEX(CurrentListing,MATCH('Category Set A by Age'!AA20,CurrentListing,0),1)),25),AO20),HYPERLINK(\"#'Select LEA'!\"&\"$AA$10\",AO20))","v":""},{"$f":"IFERROR(HYPERLINK(\"#'Select LEA'!\"&ADDRESS(ROW(INDEX(CurrentListing,MATCH('Category Set A by Age'!AB20,CurrentListing,0),1)),25),AP20),HYPERLINK(\"#'Select LEA'!\"&\"$AA$10\",AP20))","v":""},"",null,null,"ID14GHSN","HI14GHSN","SLI14GHSN","VI14GHSN","EMN14GHSN","OI14GHSN","OHI14GHSN","SLD14GHSN","DB14GHSN","MD14GHSN","AUT14GHSN","TBI14GHSN",null,"Graduated with regular high school diploma","","","","","","","","","","","","",{"$f":"SUM(AE20:AP20)","v":0}]
["Graduated with an alternate diploma",{"$f":"IFERROR(HYPERLINK(\"#'Select LEA'!\"&ADDRESS(ROW(INDEX(CurrentListing,MATCH('Category Set A by Age'!Q21,CurrentListing,0),1)),25),AE21),HYPERLINK(\"#'Select LEA'!\"&\"$AA$10\",AE21))","v":""},{"$f":"IFERROR(HYPERLINK(\"#'Select LEA'!\"&ADDRESS(ROW(INDEX(CurrentListing,MATCH('Category Set A by Age'!R21,CurrentListing,0),1)),25),AF21),HYPERLINK(\"#'Select LEA'!\"&\"$AA$10\",AF21))","v":""},{"$f":"IFERROR(HYPERLINK(\"#'Select LEA'!\"&ADDRESS(ROW(INDEX(CurrentListing,MATCH('Category Set A by Age'!S21,CurrentListing,0),1)),25),AG21),HYPERLINK(\"#'Select LEA'!\"&\"$AA$10\",AG21))","v":""},{"$f":"IFERROR(HYPERLINK(\"#'Select LEA'!\"&ADDRESS(ROW(INDEX(CurrentListing,MATCH('Category Set A by Age'!T21,CurrentListing,0),1)),25),AH21),HYPERLINK(\"#'Select LEA'!\"&\"$AA$10\",AH21))","v":""},{"$f":"IFERROR(HYPERLINK(\"#'Select LEA'!\"&ADDRESS(ROW(INDEX(CurrentListing,MATCH('Category Set A by Age'!U21,CurrentListing,0),1)),25),AI21),HYPERLINK(\"#'Select LEA'!\"&\"$AA$10\",AI21))","v":""},{"$f":"IFERROR(HYPERLINK(\"#'Select LEA'!\"&ADDRESS(ROW(INDEX(CurrentListing,MATCH('Category Set A by Age'!V21,CurrentListing,0),1)),25),AJ21),HYPERLINK(\"#'Select LEA'!\"&\"$AA$10\",AJ21))","v":""},{"$f":"IFERROR(HYPERLINK(\"#'Select LEA'!\"&ADDRESS(ROW(INDEX(CurrentListing,MATCH('Category Set A by Age'!W21,CurrentListing,0),1)),25),AK21),HYPERLINK(\"#'Select LEA'!\"&\"$AA$10\",AK21))","v":""},{"$f":"IFERROR(HYPERLINK(\"#'Select LEA'!\"&ADDRESS(ROW(INDEX(CurrentListing,MATCH('Category Set A by Age'!X21,CurrentListing,0),1)),25),AL21),HYPERLINK(\"#'Select LEA'!\"&\"$AA$10\",AL21))","v":""},{"$f":"IFERROR(HYPERLINK(\"#'Select LEA'!\"&ADDRESS(ROW(INDEX(CurrentListing,MATCH('Category Set A by Age'!Y21,CurrentListing,0),1)),25),AM21),HYPERLINK(\"#'Select LEA'!\"&\"$AA$10\",AM21))","v":""},{"$f":"IFERROR(HYPERLINK(\"#'Select LEA'!\"&ADDRESS(ROW(INDEX(CurrentListing,MATCH('Category Set A by Age'!Z21,CurrentListing,0),1)),25),AN21),HYPERLINK(\"#'Select LEA'!\"&\"$AA$10\",AN21))","v":""},{"$f":"IFERROR(HYPERLINK(\"#'Select LEA'!\"&ADDRESS(ROW(INDEX(CurrentListing,MATCH('Category Set A by Age'!AA21,CurrentListing,0),1)),25),AO21),HYPERLINK(\"#'Select LEA'!\"&\"$AA$10\",AO21))","v":""},{"$f":"IFERROR(HYPERLINK(\"#'Select LEA'!\"&ADDRESS(ROW(INDEX(CurrentListing,MATCH('Category Set A by Age'!AB21,CurrentListing,0),1)),25),AP21),HYPERLINK(\"#'Select LEA'!\"&\"$AA$10\",AP21))","v":""},"",null,null,"ID14GRADALTDPLN","HI14GRADALTDPLN","SLI14GRADALTDPLN","VI14GRADALTDPLN","EMN14GRADALTDPLN","OI14GRADALTDPLN","OHI14GRADALTDPLN","SLD14GRADALTDPLN","DB14GRADALTDPLN","MD14GRADALTDPLN","AUT14GRADALTDPLN","TBI14GRADALTDPLN",null,"Graduated with an alternate diploma","","","","","","","","","","","","",{"$f":"SUM(AE21:AP21)","v":0}]
["Received a certificate",{"$f":"IFERROR(HYPERLINK(\"#'Select LEA'!\"&ADDRESS(ROW(INDEX(CurrentListing,MATCH('Category Set A by Age'!Q22,CurrentListing,0),1)),25),AE22),HYPERLINK(\"#'Select LEA'!\"&\"$AA$10\",AE22))","v":""},{"$f":"IFERROR(HYPERLINK(\"#'Select LEA'!\"&ADDRESS(ROW(INDEX(CurrentListing,MATCH('Category Set A by Age'!R22,CurrentListing,0),1)),25),AF22),HYPERLINK(\"#'Select LEA'!\"&\"$AA$10\",AF22))","v":""},{"$f":"IFERROR(HYPERLINK(\"#'Select LEA'!\"&ADDRESS(ROW(INDEX(CurrentListing,MATCH('Category Set A by Age'!S22,CurrentListing,0),1)),25),AG22),HYPERLINK(\"#'Select LEA'!\"&\"$AA$10\",AG22))","v":""},{"$f":"IFERROR(HYPERLINK(\"#'Select LEA'!\"&ADDRESS(ROW(INDEX(CurrentListing,MATCH('Category Set A by Age'!T22,CurrentListing,0),1)),25),AH22),HYPERLINK(\"#'Select LEA'!\"&\"$AA$10\",AH22))","v":""},{"$f":"IFERROR(HYPERLINK(\"#'Select LEA'!\"&ADDRESS(ROW(INDEX(CurrentListing,MATCH('Category Set A by Age'!U22,CurrentListing,0),1)),25),AI22),HYPERLINK(\"#'Select LEA'!\"&\"$AA$10\",AI22))","v":""},{"$f":"IFERROR(HYPERLINK(\"#'Select LEA'!\"&ADDRESS(ROW(INDEX(CurrentListing,MATCH('Category Set A by Age'!V22,CurrentListing,0),1)),25),AJ22),HYPERLINK(\"#'Select LEA'!\"&\"$AA$10\",AJ22))","v":""},{"$f":"IFERROR(HYPERLINK(\"#'Select LEA'!\"&ADDRESS(ROW(INDEX(CurrentListing,MATCH('Category Set A by Age'!W22,CurrentListing,0),1)),25),AK22),HYPERLINK(\"#'Select LEA'!\"&\"$AA$10\",AK22))","v":""},{"$f":"IFERROR(HYPERLINK(\"#'Select LEA'!\"&ADDRESS(ROW(INDEX(CurrentListing,MATCH('Category Set A by Age'!X22,CurrentListing,0),1)),25),AL22),HYPERLINK(\"#'Select LEA'!\"&\"$AA$10\",AL22))","v":""},{"$f":"IFERROR(HYPERLINK(\"#'Select LEA'!\"&ADDRESS(ROW(INDEX(CurrentListing,MATCH('Category Set A by Age'!Y22,CurrentListing,0),1)),25),AM22),HYPERLINK(\"#'Select LEA'!\"&\"$AA$10\",AM22))","v":""},{"$f":"IFERROR(HYPERLINK(\"#'Select LEA'!\"&ADDRESS(ROW(INDEX(CurrentListing,MATCH('Category Set A by Age'!Z22,CurrentListing,0),1)),25),AN22),HYPERLINK(\"#'Select LEA'!\"&\"$AA$10\",AN22))","v":""},{"$f":"IFERROR(HYPERLINK(\"#'Select LEA'!\"&ADDRESS(ROW(INDEX(CurrentListing,MATCH('Category Set A by Age'!AA22,CurrentListing,0),1)),25),AO22),HYPERLINK(\"#'Select LEA'!\"&\"$AA$10\",AO22))","v":""},{"$f":"IFERROR(HYPERLINK(\"#'Select LEA'!\"&ADDRESS(ROW(INDEX(CurrentListing,MATCH('Category Set A by Age'!AB22,CurrentListing,0),1)),25),AP22),HYPERLINK(\"#'Select LEA'!\"&\"$AA$10\",AP22))","v":""},"",null,null,"ID14RCN","HI14RCN","SLI14RCN","VI14RCN","EMN14RCN","OI14RCN","OHI14RCN","SLD14RCN","DB14RCN","MD14RCN","AUT14RCN","TBI14RCN",null,"Received a certificate","","","","","","","","","","","","",{"$f":"SUM(AE22:AP22)","v":0}]
["Reached maximum age",null,null,null,null,null,null,null,null,null,null,null,null,"",null,null,null,null,null,null,null,null,null,null,null,null,null,null,null,"Reached maximum age"]
["Died",{"$f":"IFERROR(HYPERLINK(\"#'Select LEA'!\"&ADDRESS(ROW(INDEX(CurrentListing,MATCH('Category Set A by Age'!Q24,CurrentListing,0),1)),25),AE24),HYPERLINK(\"#'Select LEA'!\"&\"$AA$10\",AE24))","v":""},{"$f":"IFERROR(HYPERLINK(\"#'Select LEA'!\"&ADDRESS(ROW(INDEX(CurrentListing,MATCH('Category Set A by Age'!R24,CurrentListing,0),1)),25),AF24),HYPERLINK(\"#'Select LEA'!\"&\"$AA$10\",AF24))","v":""},{"$f":"IFERROR(HYPERLINK(\"#'Select LEA'!\"&ADDRESS(ROW(INDEX(CurrentListing,MATCH('Category Set A by Age'!S24,CurrentListing,0),1)),25),AG24),HYPERLINK(\"#'Select LEA'!\"&\"$AA$10\",AG24))","v":""},{"$f":"IFERROR(HYPERLINK(\"#'Select LEA'!\"&ADDRESS(ROW(INDEX(CurrentListing,MATCH('Category Set A by Age'!T24,CurrentListing,0),1)),25),AH24),HYPERLINK(\"#'Select LEA'!\"&\"$AA$10\",AH24))","v":""},{"$f":"IFERROR(HYPERLINK(\"#'Select LEA'!\"&ADDRESS(ROW(INDEX(CurrentListing,MATCH('Category Set A by Age'!U24,CurrentListing,0),1)),25),AI24),HYPERLINK(\"#'Select LEA'!\"&\"$AA$10\",AI24))","v":""},{"$f":"IFERROR(HYPERLINK(\"#'Select LEA'!\"&ADDRESS(ROW(INDEX(CurrentListing,MATCH('Category Set A by Age'!V24,CurrentListing,0),1)),25),AJ24),HYPERLINK(\"#'Select LEA'!\"&\"$AA$10\",AJ24))","v":""},{"$f":"IFERROR(HYPERLINK(\"#'Select LEA'!\"&ADDRESS(ROW(INDEX(CurrentListing,MATCH('Category Set A by Age'!W24,CurrentListing,0),1)),25),AK24),HYPERLINK(\"#'Select LEA'!\"&\"$AA$10\",AK24))","v":""},{"$f":"IFERROR(HYPERLINK(\"#'Select LEA'!\"&ADDRESS(ROW(INDEX(CurrentListing,MATCH('Category Set A by Age'!X24,CurrentListing,0),1)),25),AL24),HYPERLINK(\"#'Select LEA'!\"&\"$AA$10\",AL24))","v":""},{"$f":"IFERROR(HYPERLINK(\"#'Select LEA'!\"&ADDRESS(ROW(INDEX(CurrentListing,MATCH('Category Set A by Age'!Y24,CurrentListing,0),1)),25),AM24),HYPERLINK(\"#'Select LEA'!\"&\"$AA$10\",AM24))","v":""},{"$f":"IFERROR(HYPERLINK(\"#'Select LEA'!\"&ADDRESS(ROW(INDEX(CurrentListing,MATCH('Category Set A by Age'!Z24,CurrentListing,0),1)),25),AN24),HYPERLINK(\"#'Select LEA'!\"&\"$AA$10\",AN24))","v":""},{"$f":"IFERROR(HYPERLINK(\"#'Select LEA'!\"&ADDRESS(ROW(INDEX(CurrentListing,MATCH('Category Set A by Age'!AA24,CurrentListing,0),1)),25),AO24),HYPERLINK(\"#'Select LEA'!\"&\"$AA$10\",AO24))","v":""},{"$f":"IFERROR(HYPERLINK(\"#'Select LEA'!\"&ADDRESS(ROW(INDEX(CurrentListing,MATCH('Category Set A by Age'!AB24,CurrentListing,0),1)),25),AP24),HYPERLINK(\"#'Select LEA'!\"&\"$AA$10\",AP24))","v":""},"",null,null,"ID14DN","HI14DN","SLI14DN","VI14DN","EMN14DN","OI14DN","OHI14DN","SLD14DN","DB14DN","MD14DN","AUT14DN","TBI14DN",null,"Died",{"$f":"IFERROR(IF(INDEX(StudCntC009,MATCH(Q24,CurrentListing,0))=\"\",\"No Data\",INDEX(StudCntC009,MATCH(Q24,CurrentListing,0))),\"\")","v":""},"","","","","","","","","","","",{"$f":"SUM(AE24:AP24)","v":0}]
["Moved, known to be continuing",{"$f":"IFERROR(HYPERLINK(\"#'Select LEA'!\"&ADDRESS(ROW(INDEX(CurrentListing,MATCH('Category Set A by Age'!Q25,CurrentListing,0),1)),25),AE25),HYPERLINK(\"#'Select LEA'!\"&\"$AA$10\",AE25))","v":""},{"$f":"IFERROR(HYPERLINK(\"#'Select LEA'!\"&ADDRESS(ROW(INDEX(CurrentListing,MATCH('Category Set A by Age'!R25,CurrentListing,0),1)),25),AF25),HYPERLINK(\"#'Select LEA'!\"&\"$AA$10\",AF25))","v":""},{"$f":"IFERROR(HYPERLINK(\"#'Select LEA'!\"&ADDRESS(ROW(INDEX(CurrentListing,MATCH('Category Set A by Age'!S25,CurrentListing,0),1)),25),AG25),HYPERLINK(\"#'Select LEA'!\"&\"$AA$10\",AG25))","v":""},{"$f":"IFERROR(HYPERLINK(\"#'Select LEA'!\"&ADDRESS(ROW(INDEX(CurrentListing,MATCH('Category Set A by Age'!T25,CurrentListing,0),1)),25),AH25),HYPERLINK(\"#'Select LEA'!\"&\"$AA$10\",AH25))","v":""},{"$f":"IFERROR(HYPERLINK(\"#'Select LEA'!\"&ADDRESS(ROW(INDEX(CurrentListing,MATCH('Category Set A by Age'!U25,CurrentListing,0),1)),25),AI25),HYPERLINK(\"#'Select LEA'!\"&\"$AA$10\",AI25))","v":""},{"$f":"IFERROR(HYPERLINK(\"#'Select LEA'!\"&ADDRESS(ROW(INDEX(CurrentListing,MATCH('Category Set A by Age'!V25,CurrentListing,0),1)),25),AJ25),HYPERLINK(\"#'Select LEA'!\"&\"$AA$10\",AJ25))","v":""},{"$f":"IFERROR(HYPERLINK(\"#'Select LEA'!\"&ADDRESS(ROW(INDEX(CurrentListing,MATCH('Category Set A by Age'!W25,CurrentListing,0),1)),25),AK25),HYPERLINK(\"#'Select LEA'!\"&\"$AA$10\",AK25))","v":""},{"$f":"IFERROR(HYPERLINK(\"#'Select LEA'!\"&ADDRESS(ROW(INDEX(CurrentListing,MATCH('Category Set A by Age'!X25,CurrentListing,0),1)),25),AL25),HYPERLINK(\"#'Select LEA'!\"&\"$AA$10\",AL25))","v":""},{"$f":"IFERROR(HYPERLINK(\"#'Select LEA'!\"&ADDRESS(ROW(INDEX(CurrentListing,MATCH('Category Set A by Age'!Y25,CurrentListing,0),1)),25),AM25),HYPERLINK(\"#'Select LEA'!\"&\"$AA$10\",AM25))","v":""},{"$f":"IFERROR(HYPERLINK(\"#'Select LEA'!\"&ADDRESS(ROW(INDEX(CurrentListing,MATCH('Category Set A by Age'!Z25,CurrentListing,0),1)),25),AN25),HYPERLINK(\"#'Select LEA'!\"&\"$AA$10\",AN25))","v":""},{"$f":"IFERROR(HYPERLINK(\"#'Select LEA'!\"&ADDRESS(ROW(INDEX(CurrentListing,MATCH('Category Set A by Age'!AA25,CurrentListing,0),1)),25),AO25),HYPERLINK(\"#'Select LEA'!\"&\"$AA$10\",AO25))","v":""},{"$f":"IFERROR(HYPERLINK(\"#'Select LEA'!\"&ADDRESS(ROW(INDEX(CurrentListing,MATCH('Category Set A by Age'!AB25,CurrentListing,0),1)),25),AP25),HYPERLINK(\"#'Select LEA'!\"&\"$AA$10\",AP25))","v":""},"",null,null,"ID14MKCN","HI14MKCN","SLI14MKCN","VI14MKCN","EMN14MKCN","OI14MKCN","OHI14MKCN","SLD14MKCN","DB14MKCN","MD14MKCN","AUT14MKCN","TBI14MKCN",null,"Moved, known to be continuing","","","","","","","","","","","","",{"$f":"SUM(AE25:AP25)","v":0}]
["Dropped out",{"$f":"IFERROR(HYPERLINK(\"#'Select LEA'!\"&ADDRESS(ROW(INDEX(CurrentListing,MATCH('Category Set A by Age'!Q26,CurrentListing,0),1)),25),AE26),HYPERLINK(\"#'Select LEA'!\"&\"$AA$10\",AE26))","v":""},{"$f":"IFERROR(HYPERLINK(\"#'Select LEA'!\"&ADDRESS(ROW(INDEX(CurrentListing,MATCH('Category Set A by Age'!R26,CurrentListing,0),1)),25),AF26),HYPERLINK(\"#'Select LEA'!\"&\"$AA$10\",AF26))","v":""},{"$f":"IFERROR(HYPERLINK(\"#'Select LEA'!\"&ADDRESS(ROW(INDEX(CurrentListing,MATCH('Category Set A by Age'!S26,CurrentListing,0),1)),25),AG26),HYPERLINK(\"#'Select LEA'!\"&\"$AA$10\",AG26))","v":""},{"$f":"IFERROR(HYPERLINK(\"#'Select LEA'!\"&ADDRESS(ROW(INDEX(CurrentListing,MATCH('Category Set A by Age'!T26,CurrentListing,0),1)),25),AH26),HYPERLINK(\"#'Select LEA'!\"&\"$AA$10\",AH26))","v":""},{"$f":"IFERROR(HYPERLINK(\"#'Select LEA'!\"&ADDRESS(ROW(INDEX(CurrentListing,MATCH('Category Set A by Age'!U26,CurrentListing,0),1)),25),AI26),HYPERLINK(\"#'Select LEA'!\"&\"$AA$10\",AI26))","v":""},{"$f":"IFERROR(HYPERLINK(\"#'Select LEA'!\"&ADDRESS(ROW(INDEX(CurrentListing,MATCH('Category Set A by Age'!V26,CurrentListing,0),1)),25),AJ26),HYPERLINK(\"#'Select LEA'!\"&\"$AA$10\",AJ26))","v":""},{"$f":"IFERROR(HYPERLINK(\"#'Select LEA'!\"&ADDRESS(ROW(INDEX(CurrentListing,MATCH('Category Set A by Age'!W26,CurrentListing,0),1)),25),AK26),HYPERLINK(\"#'Select LEA'!\"&\"$AA$10\",AK26))","v":""},{"$f":"IFERROR(HYPERLINK(\"#'Select LEA'!\"&ADDRESS(ROW(INDEX(CurrentListing,MATCH('Category Set A by Age'!X26,CurrentListing,0),1)),25),AL26),HYPERLINK(\"#'Select LEA'!\"&\"$AA$10\",AL26))","v":""},{"$f":"IFERROR(HYPERLINK(\"#'Select LEA'!\"&ADDRESS(ROW(INDEX(CurrentListing,MATCH('Category Set A by Age'!Y26,CurrentListing,0),1)),25),AM26),HYPERLINK(\"#'Select LEA'!\"&\"$AA$10\",AM26))","v":""},{"$f":"IFERROR(HYPERLINK(\"#'Select LEA'!\"&ADDRESS(ROW(INDEX(CurrentListing,MATCH('Category Set A by Age'!Z26,CurrentListing,0),1)),25),AN26),HYPERLINK(\"#'Select LEA'!\"&\"$AA$10\",AN26))","v":""},{"$f":"IFERROR(HYPERLINK(\"#'Select LEA'!\"&ADDRESS(ROW(INDEX(CurrentListing,MATCH('Category Set A by Age'!AA26,CurrentListing,0),1)),25),AO26),HYPERLINK(\"#'Select LEA'!\"&\"$AA$10\",AO26))","v":""},{"$f":"IFERROR(HYPERLINK(\"#'Select LEA'!\"&ADDRESS(ROW(INDEX(CurrentListing,MATCH('Category Set A by Age'!AB26,CurrentListing,0),1)),25),AP26),HYPERLINK(\"#'Select LEA'!\"&\"$AA$10\",AP26))","v":""},"",null,null,"ID14DROPOUTN","HI14DROPOUTN","SLI14DROPOUTN","VI14DROPOUTN","EMN14DROPOUTN","OI14DROPOUTN","OHI14DROPOUTN","SLD14DROPOUTN","DB14DROPOUTN","MD14DROPOUTN","AUT14DROPOUTN","TBI14DROPOUTN",null,"Dropped out","","","","","","","","","","","","",{"$f":"SUM(AE26:AP26)","v":0}]
["Total",{"$f":"IF(SUM(B19:B26)=0,\"\",SUM(B19:B26))","v":""},{"$f":"IF(SUM(C19:C26)=0,\"\",SUM(C19:C26))","v":""},"","","","","","","","","","",{"$f":"IF(AND(N4=\"\",N5=\"\",N6=\"\",N7=\"\",N8=\"\",N9=\"\",N10=\"\",N11=\"\"),\"\",SUM(B19:M26))","v":""},null,null,null,null,null,null,null,null,null,null,null,null,null,null,"14Y","Total",{"$f":"SUM(AE19:AE26)","v":0},{"$f":"SUM(AF19:AF26)","v":0},0,0,0,0,0,0,0,0,0,0,{"$f":"IFERROR(IF(INDEX(StudCntC009,MATCH(AC27,CurrentListing,0))=\"\",\"No Data\",INDEX(StudCntC009,MATCH(AC27,CurrentListing,0))),\"\")","v":""}]
[]
["Percent by basis of exit","Age 14"]
[null,"Intellectual\ndisability\n(percent)","Hearing\nimpairment\n(percent)","Speech or\nlanguage\nimpairment\n(percent)","Visual\nimpairment\n(percent)","Emotional\ndisturbance\n(percent)","Orthopedic\nimpairment\n(percent)","Other\nhealth\nimpairment\n(percent)","Specific\nlearning\ndisability\n(percent)","Deaf-\nblindness\n(percent)","Multiple\ndisabilities\n(percent)","Autism\n(Percent)","Traumatic\nbrain\ninjury\n(percent)","Total\n(percent)"]
["Transferred to regular education",{"$f":"IF(ISERROR(B19/$N19),IF(B19=\"\", \"\",0), B19/$N19)","v":""},"","","","","","","","","","",""]
["Graduated with regular high school diploma",{"$f":"IF(ISERROR(B20/$N20),IF(B20=\"\", \"\",0), B20/$N20)","v":""},"","","","","","","","","","","",{"$f":"IF(SUM(B32:M32)=0,\"\",SUM(B32:M32))","v":""}]
["Graduated with an alternate diploma",{"$f":"IF(ISERROR(B21/$N21),IF(B21=\"\", \"\",0), B21/$N21)","v":""},"","","","","","","","","","","",{"$f":"IF(SUM(B33:M33)=0,\"\",SUM(B33:M33))","v":""}]
["Received a certificate",{"$f":"IF(ISERROR(B22/$N22),IF(B22=\"\", \"\",0), B22/$N22)","v":""},"","","","","","","","","","","",{"$f":"IF(SUM(B34:M34)=0,\"\",SUM(B34:M34))","v":""}]
["Reached maximum age"]
["Died",{"$f":"IF(ISERROR(B24/$N24),IF(B24=\"\", \"\",0), B24/$N24)","v":""},"","","","","","","","","","","",{"$f":"IF(SUM(B36:M36)=0,\"\",SUM(B36:M36))","v":""}]
["Moved, known to be continuing",{"$f":"IF(ISERROR(B25/$N25),IF(B25=\"\", \"\",0), B25/$N25)","v":""},"","","","","","","","","","","",{"$f":"IF(SUM(B37:M37)=0,\"\",SUM(B37:M37))","v":""}]
["Dropped out",{"$f":"IF(ISERROR(B26/$N26),IF(B26=\"\", \"\",0), B26/$N26)","v":""},"","","","","","","","","","","",{"$f":"IF(SUM(B38:M38)=0,\"\",SUM(B38:M38))","v":""}]
["Total",{"$f":"IFERROR(IF($N27<>0,B27/$N27,0),\"\")","v":""},{"$f":"IFERROR(IF($N27<>0,C27/$N27,0),\"\")","v":""},"","","","","","","","","","",{"$f":"SUM(B39:M39)","v":0}]
[]
["Category set A – Children with disabilities (IDEA) exiting special education, by age, disability category, and basis of exit"]
["Student count by basis of exit ","Age 15",null,null,null,null,null,null,null,null,null,null,null,null,null,null,"Age 15 Lookup",null,null,null,null,null,null,null,null,null,null,null,null,"Student counts by basis of exit","Age 15"]
[null,"Intellectual\ndisability","Hearing\nimpairment","Speech or\nlanguage\nimpairment","Visual\nimpairment","Emotional\ndisturbance","Orthopedic\nimpairment","Other\nhealth\nimpairment","Specific\nlearning\ndisability","Deaf-\nblindness","Multiple\ndisabilities","Autism","Traumatic\nbrain\ninjury","Total",null,null,null,null,null,null,null,null,null,null,null,null,null,null,null,null,"Intellectual\nDisability","Hearing\nImpairments","Speech or\nLanguage\nImpairments","Visual\nImpairments","Emotional\nDisturbance","Orthopedic\nImpairments","Other\nHealth\nImpairments","Specific\nLearning\nDisabilities","Deaf-\nBlindness","Multiple\nDisabilities","Autism","Traumatic\nBrain\nInjury","Total"]
["Transferred to regular education",{"$f":"IFERROR(HYPERLINK(\"#'Select LEA'!\"&ADDRESS(ROW(INDEX(CurrentListing,MATCH('Category Set A by Age'!Q44,CurrentListing,0),1)),25),AE44),HYPERLINK(\"#'Select LEA'!\"&\"$AA$10\",AE44))","v":""},{"$f":"IFERROR(HYPERLINK(\"#'Select LEA'!\"&ADDRESS(ROW(INDEX(CurrentListing,MATCH('Category Set A by Age'!R44,CurrentListing,0),1)),25),AF44),HYPERLINK(\"#'Select LEA'!\"&\"$AA$10\",AF44))","v":""},{"$f":"IFERROR(HYPERLINK(\"#'Select LEA'!\"&ADDRESS(ROW(INDEX(CurrentListing,MATCH('Category Set A by Age'!S44,CurrentListing,0),1)),25),AG44),HYPERLINK(\"#'Select LEA'!\"&\"$AA$10\",AG44))","v":""},{"$f":"IFERROR(HYPERLINK(\"#'Select LEA'!\"&ADDRESS(ROW(INDEX(CurrentListing,MATCH('Category Set A by Age'!T44,CurrentListing,0),1)),25),AH44),HYPERLINK(\"#'Select LEA'!\"&\"$AA$10\",AH44))","v":""},{"$f":"IFERROR(HYPERLINK(\"#'Select LEA'!\"&ADDRESS(ROW(INDEX(CurrentListing,MATCH('Category Set A by Age'!U44,CurrentListing,0),1)),25),AI44),HYPERLINK(\"#'Select LEA'!\"&\"$AA$10\",AI44))","v":""},{"$f":"IFERROR(HYPERLINK(\"#'Select LEA'!\"&ADDRESS(ROW(INDEX(CurrentListing,MATCH('Category Set A by Age'!V44,CurrentListing,0),1)),25),AJ44),HYPERLINK(\"#'Select LEA'!\"&\"$AA$10\",AJ44))","v":""},{"$f":"IFERROR(HYPERLINK(\"#'Select LEA'!\"&ADDRESS(ROW(INDEX(CurrentListing,MATCH('Category Set A by Age'!W44,CurrentListing,0),1)),25),AK44),HYPERLINK(\"#'Select LEA'!\"&\"$AA$10\",AK44))","v":""},{"$f":"IFERROR(HYPERLINK(\"#'Select LEA'!\"&ADDRESS(ROW(INDEX(CurrentListing,MATCH('Category Set A by Age'!X44,CurrentListing,0),1)),25),AL44),HYPERLINK(\"#'Select LEA'!\"&\"$AA$10\",AL44))","v":""},{"$f":"IFERROR(HYPERLINK(\"#'Select LEA'!\"&ADDRESS(ROW(INDEX(CurrentListing,MATCH('Category Set A by Age'!Y44,CurrentListing,0),1)),25),AM44),HYPERLINK(\"#'Select LEA'!\"&\"$AA$10\",AM44))","v":""},{"$f":"IFERROR(HYPERLINK(\"#'Select LEA'!\"&ADDRESS(ROW(INDEX(CurrentListing,MATCH('Category Set A by Age'!Z44,CurrentListing,0),1)),25),AN44),HYPERLINK(\"#'Select LEA'!\"&\"$AA$10\",AN44))","v":""},{"$f":"IFERROR(HYPERLINK(\"#'Select LEA'!\"&ADDRESS(ROW(INDEX(CurrentListing,MATCH('Category Set A by Age'!AA44,CurrentListing,0),1)),25),AO44),HYPERLINK(\"#'Select LEA'!\"&\"$AA$10\",AO44))","v":""},{"$f":"IFERROR(HYPERLINK(\"#'Select LEA'!\"&ADDRESS(ROW(INDEX(CurrentListing,MATCH('Category Set A by Age'!AB44,CurrentListing,0),1)),25),AP44),HYPERLINK(\"#'Select LEA'!\"&\"$AA$10\",AP44))","v":""},{"$f":"IF(SUM(B44:M44)=0,\"\",SUM(B44:M44))","v":""},null,null,"ID15TRANN","HI15TRANN","SLI15TRANN","VI15TRANN","EMN15TRANN","OI15TRANN","OHI15TRANN","SLD15TRANN","DB15TRANN","MD15TRANN","AUT15TRANN","TBI15TRANN",null,"Transferred to regular education",{"$f":"IFERROR(IF(INDEX(StudCntC009,MATCH(Q44,CurrentListing,0))=\"\",\"No Data\",INDEX(StudCntC009,MATCH(Q44,CurrentListing,0))),\"\")","v":""},"","","","","","","","","","","",{"$f":"SUM(AE44:AP44)","v":0}]
["Graduated with regular high school diploma",{"$f":"IFERROR(HYPERLINK(\"#'Select LEA'!\"&ADDRESS(ROW(INDEX(CurrentListing,MATCH('Category Set A by Age'!Q45,CurrentListing,0),1)),25),AE45),HYPERLINK(\"#'Select LEA'!\"&\"$AA$10\",AE45))","v":""},{"$f":"IFERROR(HYPERLINK(\"#'Select LEA'!\"&ADDRESS(ROW(INDEX(CurrentListing,MATCH('Category Set A by Age'!R45,CurrentListing,0),1)),25),AF45),HYPERLINK(\"#'Select LEA'!\"&\"$AA$10\",AF45))","v":""},{"$f":"IFERROR(HYPERLINK(\"#'Select LEA'!\"&ADDRESS(ROW(INDEX(CurrentListing,MATCH('Category Set A by Age'!S45,CurrentListing,0),1)),25),AG45),HYPERLINK(\"#'Select LEA'!\"&\"$AA$10\",AG45))","v":""},{"$f":"IFERROR(HYPERLINK(\"#'Select LEA'!\"&ADDRESS(ROW(INDEX(CurrentListing,MATCH('Category Set A by Age'!T45,CurrentListing,0),1)),25),AH45),HYPERLINK(\"#'Select LEA'!\"&\"$AA$10\",AH45))","v":""},{"$f":"IFERROR(HYPERLINK(\"#'Select LEA'!\"&ADDRESS(ROW(INDEX(CurrentListing,MATCH('Category Set A by Age'!U45,CurrentListing,0),1)),25),AI45),HYPERLINK(\"#'Select LEA'!\"&\"$AA$10\",AI45))","v":""},{"$f":"IFERROR(HYPERLINK(\"#'Select LEA'!\"&ADDRESS(ROW(INDEX(CurrentListing,MATCH('Category Set A by Age'!V45,CurrentListing,0),1)),25),AJ45),HYPERLINK(\"#'Select LEA'!\"&\"$AA$10\",AJ45))","v":""},{"$f":"IFERROR(HYPERLINK(\"#'Select LEA'!\"&ADDRESS(ROW(INDEX(CurrentListing,MATCH('Category Set A by Age'!W45,CurrentListing,0),1)),25),AK45),HYPERLINK(\"#'Select LEA'!\"&\"$AA$10\",AK45))","v":""},{"$f":"IFERROR(HYPERLINK(\"#'Select LEA'!\"&ADDRESS(ROW(INDEX(CurrentListing,MATCH('Category Set A by Age'!X45,CurrentListing,0),1)),25),AL45),HYPERLINK(\"#'Select LEA'!\"&\"$AA$10\",AL45))","v":""},{"$f":"IFERROR(HYPERLINK(\"#'Select LEA'!\"&ADDRESS(ROW(INDEX(CurrentListing,MATCH('Category Set A by Age'!Y45,CurrentListing,0),1)),25),AM45),HYPERLINK(\"#'Select LEA'!\"&\"$AA$10\",AM45))","v":""},{"$f":"IFERROR(HYPERLINK(\"#'Select LEA'!\"&ADDRESS(ROW(INDEX(CurrentListing,MATCH('Category Set A by Age'!Z45,CurrentListing,0),1)),25),AN45),HYPERLINK(\"#'Select LEA'!\"&\"$AA$10\",AN45))","v":""},{"$f":"IFERROR(HYPERLINK(\"#'Select LEA'!\"&ADDRESS(ROW(INDEX(CurrentListing,MATCH('Category Set A by Age'!AA45,CurrentListing,0),1)),25),AO45),HYPERLINK(\"#'Select LEA'!\"&\"$AA$10\",AO45))","v":""},{"$f":"IFERROR(HYPERLINK(\"#'Select LEA'!\"&ADDRESS(ROW(INDEX(CurrentListing,MATCH('Category Set A by Age'!AB45,CurrentListing,0),1)),25),AP45),HYPERLINK(\"#'Select LEA'!\"&\"$AA$10\",AP45))","v":""},{"$f":"IF(SUM(B45:M45)=0,\"\",SUM(B45:M45))","v":""},null,null,"ID15GHSN","HI15GHSN","SLI15GHSN","VI15GHSN","EMN15GHSN","OI15GHSN","OHI15GHSN","SLD15GHSN","DB15GHSN","MD15GHSN","AUT15GHSN","TBI15GHSN",null,"Graduated with regular high school diploma","","","","","","","","","","","","",{"$f":"SUM(AE45:AP45)","v":0}]
["Graduated with an alternate diploma",{"$f":"IFERROR(HYPERLINK(\"#'Select LEA'!\"&ADDRESS(ROW(INDEX(CurrentListing,MATCH('Category Set A by Age'!Q46,CurrentListing,0),1)),25),AE46),HYPERLINK(\"#'Select LEA'!\"&\"$AA$10\",AE46))","v":""},{"$f":"IFERROR(HYPERLINK(\"#'Select LEA'!\"&ADDRESS(ROW(INDEX(CurrentListing,MATCH('Category Set A by Age'!R46,CurrentListing,0),1)),25),AF46),HYPERLINK(\"#'Select LEA'!\"&\"$AA$10\",AF46))","v":""},{"$f":"IFERROR(HYPERLINK(\"#'Select LEA'!\"&ADDRESS(ROW(INDEX(CurrentListing,MATCH('Category Set A by Age'!S46,CurrentListing,0),1)),25),AG46),HYPERLINK(\"#'Select LEA'!\"&\"$AA$10\",AG46))","v":""},{"$f":"IFERROR(HYPERLINK(\"#'Select LEA'!\"&ADDRESS(ROW(INDEX(CurrentListing,MATCH('Category Set A by Age'!T46,CurrentListing,0),1)),25),AH46),HYPERLINK(\"#'Select LEA'!\"&\"$AA$10\",AH46))","v":""},{"$f":"IFERROR(HYPERLINK(\"#'Select LEA'!\"&ADDRESS(ROW(INDEX(CurrentListing,MATCH('Category Set A by Age'!U46,CurrentListing,0),1)),25),AI46),HYPERLINK(\"#'Select LEA'!\"&\"$AA$10\",AI46))","v":""},{"$f":"IFERROR(HYPERLINK(\"#'Select LEA'!\"&ADDRESS(ROW(INDEX(CurrentListing,MATCH('Category Set A by Age'!V46,CurrentListing,0),1)),25),AJ46),HYPERLINK(\"#'Select LEA'!\"&\"$AA$10\",AJ46))","v":""},{"$f":"IFERROR(HYPERLINK(\"#'Select LEA'!\"&ADDRESS(ROW(INDEX(CurrentListing,MATCH('Category Set A by Age'!W46,CurrentListing,0),1)),25),AK46),HYPERLINK(\"#'Select LEA'!\"&\"$AA$10\",AK46))","v":""},{"$f":"IFERROR(HYPERLINK(\"#'Select LEA'!\"&ADDRESS(ROW(INDEX(CurrentListing,MATCH('Category Set A by Age'!X46,CurrentListing,0),1)),25),AL46),HYPERLINK(\"#'Select LEA'!\"&\"$AA$10\",AL46))","v":""},{"$f":"IFERROR(HYPERLINK(\"#'Select LEA'!\"&ADDRESS(ROW(INDEX(CurrentListing,MATCH('Category Set A by Age'!Y46,CurrentListing,0),1)),25),AM46),HYPERLINK(\"#'Select LEA'!\"&\"$AA$10\",AM46))","v":""},{"$f":"IFERROR(HYPERLINK(\"#'Select LEA'!\"&ADDRESS(ROW(INDEX(CurrentListing,MATCH('Category Set A by Age'!Z46,CurrentListing,0),1)),25),AN46),HYPERLINK(\"#'Select LEA'!\"&\"$AA$10\",AN46))","v":""},{"$f":"IFERROR(HYPERLINK(\"#'Select LEA'!\"&ADDRESS(ROW(INDEX(CurrentListing,MATCH('Category Set A by Age'!AA46,CurrentListing,0),1)),25),AO46),HYPERLINK(\"#'Select LEA'!\"&\"$AA$10\",AO46))","v":""},{"$f":"IFERROR(HYPERLINK(\"#'Select LEA'!\"&ADDRESS(ROW(INDEX(CurrentListing,MATCH('Category Set A by Age'!AB46,CurrentListing,0),1)),25),AP46),HYPERLINK(\"#'Select LEA'!\"&\"$AA$10\",AP46))","v":""},"",null,null,"ID15GRADALTDPLN","HI15GRADALTDPLN","SLI15GRADALTDPLN","VI15GRADALTDPLN","EMN15GRADALTDPLN","OI15GRADALTDPLN","OHI15GRADALTDPLN","SLD15GRADALTDPLN","DB15GRADALTDPLN","MD15GRADALTDPLN","AUT15GRADALTDPLN","TBI15GRADALTDPLN",null,"Graduated with an alternate diploma","","","","","","","","","","","","",{"$f":"SUM(AE46:AP46)","v":0}]
["Received a certificate",{"$f":"IFERROR(HYPERLINK(\"#'Select LEA'!\"&ADDRESS(ROW(INDEX(CurrentListing,MATCH('Category Set A by Age'!Q47,CurrentListing,0),1)),25),AE47),HYPERLINK(\"#'Select LEA'!\"&\"$AA$10\",AE47))","v":""},{"$f":"IFERROR(HYPERLINK(\"#'Select LEA'!\"&ADDRESS(ROW(INDEX(CurrentListing,MATCH('Category Set A by Age'!R47,CurrentListing,0),1)),25),AF47),HYPERLINK(\"#'Select LEA'!\"&\"$AA$10\",AF47))","v":""},{"$f":"IFERROR(HYPERLINK(\"#'Select LEA'!\"&ADDRESS(ROW(INDEX(CurrentListing,MATCH('Category Set A by Age'!S47,CurrentListing,0),1)),25),AG47),HYPERLINK(\"#'Select LEA'!\"&\"$AA$10\",AG47))","v":""},{"$f":"IFERROR(HYPERLINK(\"#'Select LEA'!\"&ADDRESS(ROW(INDEX(CurrentListing,MATCH('Category Set A by Age'!T47,CurrentListing,0),1)),25),AH47),HYPERLINK(\"#'Select LEA'!\"&\"$AA$10\",AH47))","v":""},{"$f":"IFERROR(HYPERLINK(\"#'Select LEA'!\"&ADDRESS(ROW(INDEX(CurrentListing,MATCH('Category Set A by Age'!U47,CurrentListing,0),1)),25),AI47),HYPERLINK(\"#'Select LEA'!\"&\"$AA$10\",AI47))","v":""},{"$f":"IFERROR(HYPERLINK(\"#'Select LEA'!\"&ADDRESS(ROW(INDEX(CurrentListing,MATCH('Category Set A by Age'!V47,CurrentListing,0),1)),25),AJ47),HYPERLINK(\"#'Select LEA'!\"&\"$AA$10\",AJ47))","v":""},{"$f":"IFERROR(HYPERLINK(\"#'Select LEA'!\"&ADDRESS(ROW(INDEX(CurrentListing,MATCH('Category Set A by Age'!W47,CurrentListing,0),1)),25),AK47),HYPERLINK(\"#'Select LEA'!\"&\"$AA$10\",AK47))","v":""},{"$f":"IFERROR(HYPERLINK(\"#'Select LEA'!\"&ADDRESS(ROW(INDEX(CurrentListing,MATCH('Category Set A by Age'!X47,CurrentListing,0),1)),25),AL47),HYPERLINK(\"#'Select LEA'!\"&\"$AA$10\",AL47))","v":""},{"$f":"IFERROR(HYPERLINK(\"#'Select LEA'!\"&ADDRESS(ROW(INDEX(CurrentListing,MATCH('Category Set A by Age'!Y47,CurrentListing,0),1)),25),AM47),HYPERLINK(\"#'Select LEA'!\"&\"$AA$10\",AM47))","v":""},{"$f":"IFERROR(HYPERLINK(\"#'Select LEA'!\"&ADDRESS(ROW(INDEX(CurrentListing,MATCH('Category Set A by Age'!Z47,CurrentListing,0),1)),25),AN47),HYPERLINK(\"#'Select LEA'!\"&\"$AA$10\",AN47))","v":""},{"$f":"IFERROR(HYPERLINK(\"#'Select LEA'!\"&ADDRESS(ROW(INDEX(CurrentListing,MATCH('Category Set A by Age'!AA47,CurrentListing,0),1)),25),AO47),HYPERLINK(\"#'Select LEA'!\"&\"$AA$10\",AO47))","v":""},{"$f":"IFERROR(HYPERLINK(\"#'Select LEA'!\"&ADDRESS(ROW(INDEX(CurrentListing,MATCH('Category Set A by Age'!AB47,CurrentListing,0),1)),25),AP47),HYPERLINK(\"#'Select LEA'!\"&\"$AA$10\",AP47))","v":""},"",null,null,"ID15RCN","HI15RCN","SLI15RCN","VI15RCN","EMN15RCN","OI15RCN","OHI15RCN","SLD15RCN","DB15RCN","MD15RCN","AUT15RCN","TBI15RCN",null,"Received a certificate","","","","","","","","","","","","",{"$f":"SUM(AE47:AP47)","v":0}]
["Reached maximum age",null,null,null,null,null,null,null,null,null,null,null,null,"",null,null,null,null,null,null,null,null,null,null,null,null,null,null,null,"Reached maximum age"]
["Died",{"$f":"IFERROR(HYPERLINK(\"#'Select LEA'!\"&ADDRESS(ROW(INDEX(CurrentListing,MATCH('Category Set A by Age'!Q49,CurrentListing,0),1)),25),AE49),HYPERLINK(\"#'Select LEA'!\"&\"$AA$10\",AE49))","v":""},{"$f":"IFERROR(HYPERLINK(\"#'Select LEA'!\"&ADDRESS(ROW(INDEX(CurrentListing,MATCH('Category Set A by Age'!R49,CurrentListing,0),1)),25),AF49),HYPERLINK(\"#'Select LEA'!\"&\"$AA$10\",AF49))","v":""},{"$f":"IFERROR(HYPERLINK(\"#'Select LEA'!\"&ADDRESS(ROW(INDEX(CurrentListing,MATCH('Category Set A by Age'!S49,CurrentListing,0),1)),25),AG49),HYPERLINK(\"#'Select LEA'!\"&\"$AA$10\",AG49))","v":""},{"$f":"IFERROR(HYPERLINK(\"#'Select LEA'!\"&ADDRESS(ROW(INDEX(CurrentListing,MATCH('Category Set A by Age'!T49,CurrentListing,0),1)),25),AH49),HYPERLINK(\"#'Select LEA'!\"&\"$AA$10\",AH49))","v":""},{"$f":"IFERROR(HYPERLINK(\"#'Select LEA'!\"&ADDRESS(ROW(INDEX(CurrentListing,MATCH('Category Set A by Age'!U49,CurrentListing,0),1)),25),AI49),HYPERLINK(\"#'Select LEA'!\"&\"$AA$10\",AI49))","v":""},{"$f":"IFERROR(HYPERLINK(\"#'Select LEA'!\"&ADDRESS(ROW(INDEX(CurrentListing,MATCH('Category Set A by Age'!V49,CurrentListing,0),1)),25),AJ49),HYPERLINK(\"#'Select LEA'!\"&\"$AA$10\",AJ49))","v":""},{"$f":"IFERROR(HYPERLINK(\"#'Select LEA'!\"&ADDRESS(ROW(INDEX(CurrentListing,MATCH('Category Set A by Age'!W49,CurrentListing,0),1)),25),AK49),HYPERLINK(\"#'Select LEA'!\"&\"$AA$10\",AK49))","v":""},{"$f":"IFERROR(HYPERLINK(\"#'Select LEA'!\"&ADDRESS(ROW(INDEX(CurrentListing,MATCH('Category Set A by Age'!X49,CurrentListing,0),1)),25),AL49),HYPERLINK(\"#'Select LEA'!\"&\"$AA$10\",AL49))","v":""},{"$f":"IFERROR(HYPERLINK(\"#'Select LEA'!\"&ADDRESS(ROW(INDEX(CurrentListing,MATCH('Category Set A by Age'!Y49,CurrentListing,0),1)),25),AM49),HYPERLINK(\"#'Select LEA'!\"&\"$AA$10\",AM49))","v":""},{"$f":"IFERROR(HYPERLINK(\"#'Select LEA'!\"&ADDRESS(ROW(INDEX(CurrentListing,MATCH('Category Set A by Age'!Z49,CurrentListing,0),1)),25),AN49),HYPERLINK(\"#'Select LEA'!\"&\"$AA$10\",AN49))","v":""},{"$f":"IFERROR(HYPERLINK(\"#'Select LEA'!\"&ADDRESS(ROW(INDEX(CurrentListing,MATCH('Category Set A by Age'!AA49,CurrentListing,0),1)),25),AO49),HYPERLINK(\"#'Select LEA'!\"&\"$AA$10\",AO49))","v":""},{"$f":"IFERROR(HYPERLINK(\"#'Select LEA'!\"&ADDRESS(ROW(INDEX(CurrentListing,MATCH('Category Set A by Age'!AB49,CurrentListing,0),1)),25),AP49),HYPERLINK(\"#'Select LEA'!\"&\"$AA$10\",AP49))","v":""},"",null,null,"ID15DN","HI15DN","SLI15DN","VI15DN","EMN15DN","OI15DN","OHI15DN","SLD15DN","DB15DN","MD15DN","AUT15DN","TBI15DN",null,"Died",{"$f":"IFERROR(IF(INDEX(StudCntC009,MATCH(Q49,CurrentListing,0))=\"\",\"No Data\",INDEX(StudCntC009,MATCH(Q49,CurrentListing,0))),\"\")","v":""},"","","","","","","","","","","",{"$f":"SUM(AE49:AP49)","v":0}]
["Moved, known to be continuing",{"$f":"IFERROR(HYPERLINK(\"#'Select LEA'!\"&ADDRESS(ROW(INDEX(CurrentListing,MATCH('Category Set A by Age'!Q50,CurrentListing,0),1)),25),AE50),HYPERLINK(\"#'Select LEA'!\"&\"$AA$10\",AE50))","v":""},{"$f":"IFERROR(HYPERLINK(\"#'Select LEA'!\"&ADDRESS(ROW(INDEX(CurrentListing,MATCH('Category Set A by Age'!R50,CurrentListing,0),1)),25),AF50),HYPERLINK(\"#'Select LEA'!\"&\"$AA$10\",AF50))","v":""},{"$f":"IFERROR(HYPERLINK(\"#'Select LEA'!\"&ADDRESS(ROW(INDEX(CurrentListing,MATCH('Category Set A by Age'!S50,CurrentListing,0),1)),25),AG50),HYPERLINK(\"#'Select LEA'!\"&\"$AA$10\",AG50))","v":""},{"$f":"IFERROR(HYPERLINK(\"#'Select LEA'!\"&ADDRESS(ROW(INDEX(CurrentListing,MATCH('Category Set A by Age'!T50,CurrentListing,0),1)),25),AH50),HYPERLINK(\"#'Select LEA'!\"&\"$AA$10\",AH50))","v":""},{"$f":"IFERROR(HYPERLINK(\"#'Select LEA'!\"&ADDRESS(ROW(INDEX(CurrentListing,MATCH('Category Set A by Age'!U50,CurrentListing,0),1)),25),AI50),HYPERLINK(\"#'Select LEA'!\"&\"$AA$10\",AI50))","v":""},{"$f":"IFERROR(HYPERLINK(\"#'Select LEA'!\"&ADDRESS(ROW(INDEX(CurrentListing,MATCH('Category Set A by Age'!V50,CurrentListing,0),1)),25),AJ50),HYPERLINK(\"#'Select LEA'!\"&\"$AA$10\",AJ50))","v":""},{"$f":"IFERROR(HYPERLINK(\"#'Select LEA'!\"&ADDRESS(ROW(INDEX(CurrentListing,MATCH('Category Set A by Age'!W50,CurrentListing,0),1)),25),AK50),HYPERLINK(\"#'Select LEA'!\"&\"$AA$10\",AK50))","v":""},{"$f":"IFERROR(HYPERLINK(\"#'Select LEA'!\"&ADDRESS(ROW(INDEX(CurrentListing,MATCH('Category Set A by Age'!X50,CurrentListing,0),1)),25),AL50),HYPERLINK(\"#'Select LEA'!\"&\"$AA$10\",AL50))","v":""},{"$f":"IFERROR(HYPERLINK(\"#'Select LEA'!\"&ADDRESS(ROW(INDEX(CurrentListing,MATCH('Category Set A by Age'!Y50,CurrentListing,0),1)),25),AM50),HYPERLINK(\"#'Select LEA'!\"&\"$AA$10\",AM50))","v":""},{"$f":"IFERROR(HYPERLINK(\"#'Select LEA'!\"&ADDRESS(ROW(INDEX(CurrentListing,MATCH('Category Set A by Age'!Z50,CurrentListing,0),1)),25),AN50),HYPERLINK(\"#'Select LEA'!\"&\"$AA$10\",AN50))","v":""},{"$f":"IFERROR(HYPERLINK(\"#'Select LEA'!\"&ADDRESS(ROW(INDEX(CurrentListing,MATCH('Category Set A by Age'!AA50,CurrentListing,0),1)),25),AO50),HYPERLINK(\"#'Select LEA'!\"&\"$AA$10\",AO50))","v":""},{"$f":"IFERROR(HYPERLINK(\"#'Select LEA'!\"&ADDRESS(ROW(INDEX(CurrentListing,MATCH('Category Set A by Age'!AB50,CurrentListing,0),1)),25),AP50),HYPERLINK(\"#'Select LEA'!\"&\"$AA$10\",AP50))","v":""},"",null,null,"ID15MKCN","HI15MKCN","SLI15MKCN","VI15MKCN","EMN15MKCN","OI15MKCN","OHI15MKCN","SLD15MKCN","DB15MKCN","MD15MKCN","AUT15MKCN","TBI15MKCN",null,"Moved, known to be continuing","","","","","","","","","","","","",{"$f":"SUM(AE50:AP50)","v":0}]
["Dropped out",{"$f":"IFERROR(HYPERLINK(\"#'Select LEA'!\"&ADDRESS(ROW(INDEX(CurrentListing,MATCH('Category Set A by Age'!Q51,CurrentListing,0),1)),25),AE51),HYPERLINK(\"#'Select LEA'!\"&\"$AA$10\",AE51))","v":""},{"$f":"IFERROR(HYPERLINK(\"#'Select LEA'!\"&ADDRESS(ROW(INDEX(CurrentListing,MATCH('Category Set A by Age'!R51,CurrentListing,0),1)),25),AF51),HYPERLINK(\"#'Select LEA'!\"&\"$AA$10\",AF51))","v":""},{"$f":"IFERROR(HYPERLINK(\"#'Select LEA'!\"&ADDRESS(ROW(INDEX(CurrentListing,MATCH('Category Set A by Age'!S51,CurrentListing,0),1)),25),AG51),HYPERLINK(\"#'Select LEA'!\"&\"$AA$10\",AG51))","v":""},{"$f":"IFERROR(HYPERLINK(\"#'Select LEA'!\"&ADDRESS(ROW(INDEX(CurrentListing,MATCH('Category Set A by Age'!T51,CurrentListing,0),1)),25),AH51),HYPERLINK(\"#'Select LEA'!\"&\"$AA$10\",AH51))","v":""},{"$f":"IFERROR(HYPERLINK(\"#'Select LEA'!\"&ADDRESS(ROW(INDEX(CurrentListing,MATCH('Category Set A by Age'!U51,CurrentListing,0),1)),25),AI51),HYPERLINK(\"#'Select LEA'!\"&\"$AA$10\",AI51))","v":""},{"$f":"IFERROR(HYPERLINK(\"#'Select LEA'!\"&ADDRESS(ROW(INDEX(CurrentListing,MATCH('Category Set A by Age'!V51,CurrentListing,0),1)),25),AJ51),HYPERLINK(\"#'Select LEA'!\"&\"$AA$10\",AJ51))","v":""},{"$f":"IFERROR(HYPERLINK(\"#'Select LEA'!\"&ADDRESS(ROW(INDEX(CurrentListing,MATCH('Category Set A by Age'!W51,CurrentListing,0),1)),25),AK51),HYPERLINK(\"#'Select LEA'!\"&\"$AA$10\",AK51))","v":""},{"$f":"IFERROR(HYPERLINK(\"#'Select LEA'!\"&ADDRESS(ROW(INDEX(CurrentListing,MATCH('Category Set A by Age'!X51,CurrentListing,0),1)),25),AL51),HYPERLINK(\"#'Select LEA'!\"&\"$AA$10\",AL51))","v":""},{"$f":"IFERROR(HYPERLINK(\"#'Select LEA'!\"&ADDRESS(ROW(INDEX(CurrentListing,MATCH('Category Set A by Age'!Y51,CurrentListing,0),1)),25),AM51),HYPERLINK(\"#'Select LEA'!\"&\"$AA$10\",AM51))","v":""},{"$f":"IFERROR(HYPERLINK(\"#'Select LEA'!\"&ADDRESS(ROW(INDEX(CurrentListing,MATCH('Category Set A by Age'!Z51,CurrentListing,0),1)),25),AN51),HYPERLINK(\"#'Select LEA'!\"&\"$AA$10\",AN51))","v":""},{"$f":"IFERROR(HYPERLINK(\"#'Select LEA'!\"&ADDRESS(ROW(INDEX(CurrentListing,MATCH('Category Set A by Age'!AA51,CurrentListing,0),1)),25),AO51),HYPERLINK(\"#'Select LEA'!\"&\"$AA$10\",AO51))","v":""},{"$f":"IFERROR(HYPERLINK(\"#'Select LEA'!\"&ADDRESS(ROW(INDEX(CurrentListing,MATCH('Category Set A by Age'!AB51,CurrentListing,0),1)),25),AP51),HYPERLINK(\"#'Select LEA'!\"&\"$AA$10\",AP51))","v":""},"",null,null,"ID15DROPOUTN","HI15DROPOUTN","SLI15DROPOUTN","VI15DROPOUTN","EMN15DROPOUTN","OI15DROPOUTN","OHI15DROPOUTN","SLD15DROPOUTN","DB15DROPOUTN","MD15DROPOUTN","AUT15DROPOUTN","TBI15DROPOUTN",null,"Dropped out","","","","","","","","","","","","",{"$f":"SUM(AE51:AP51)","v":0}]
["Total",{"$f":"IF(SUM(B44:B51)=0,\"\",SUM(B44:B51))","v":""},{"$f":"IF(SUM(C44:C51)=0,\"\",SUM(C44:C51))","v":""},"","","","","","","","","","",{"$f":"IF(AND(N4=\"\",N5=\"\",N6=\"\",N7=\"\",N8=\"\",N9=\"\",N10=\"\",N11=\"\"),\"\",SUM(B44:M51))","v":""},null,null,null,null,null,null,null,null,null,null,null,null,null,null,"15Y","Total",{"$f":"SUM(AE44:AE51)","v":0},{"$f":"SUM(AF44:AF51)","v":0},0,0,0,0,0,0,0,0,0,0,{"$f":"IFERROR(IF(INDEX(StudCntC009,MATCH(AC52,CurrentListing,0))=\"\",\"No Data\",INDEX(StudCntC009,MATCH(AC52,CurrentListing,0))),\"\")","v":""}]
[]
["Percent by basis of exit","Age 15"]
[null,"Intellectual\ndisability\n(percent)","Hearing\nimpairment\n(percent)","Speech or\nlanguage\nimpairment\n(percent)","Visual\nimpairment\n(percent)","Emotional\ndisturbance\n(percent)","Orthopedic\nimpairment\n(percent)","Other\nhealth\nimpairment\n(percent)","Specific\nlearning\ndisability\n(percent)","Deaf-\nblindness\n(percent)","Multiple\ndisabilities\n(percent)","Autism\n(Percent)","Traumatic\nbrain\ninjury\n(percent)","Total\n(percent)"]
["Transferred to regular education",{"$f":"IF(ISERROR(B44/$N44),IF(B44=\"\", \"\",0), B44/$N44)","v":""},{"$f":"IF(ISERROR(C44/$N44),IF(C44=\"\", \"\",0), C44/$N44)","v":""},"","","","","","","","","","",{"$f":"IF(SUM(B56:M56)=0,\"\",SUM(B56:M56))","v":""}]
["Graduated with regular high school diploma",{"$f":"IF(ISERROR(B45/$N45),IF(B45=\"\", \"\",0), B45/$N45)","v":""},"","","","","","","","","","","",{"$f":"IF(SUM(B57:M57)=0,\"\",SUM(B57:M57))","v":""}]
["Graduated with an alternate diploma",{"$f":"IF(ISERROR(B46/$N46),IF(B46=\"\", \"\",0), B46/$N46)","v":""},"","","","","","","","","","","",""]
["Received a certificate",{"$f":"IF(ISERROR(B47/$N47),IF(B47=\"\", \"\",0), B47/$N47)","v":""},"","","","","","","","","","","",""]
["Reached maximum age",null,null,null,null,null,null,null,null,null,null,null,null,""]
["Died",{"$f":"IF(ISERROR(B49/$N49),IF(B49=\"\", \"\",0), B49/$N49)","v":""},"","","","","","","","","","","",""]
["Moved, known to be continuing",{"$f":"IF(ISERROR(B50/$N50),IF(B50=\"\", \"\",0), B50/$N50)","v":""},"","","","","","","","","","","",""]
["Dropped out",{"$f":"IF(ISERROR(B51/$N51),IF(B51=\"\", \"\",0), B51/$N51)","v":""},"","","","","","","","","","","",""]
["Total",{"$f":"IFERROR(IF($N52<>0,B52/$N52,0),\"\")","v":""},{"$f":"IFERROR(IF($N52<>0,C52/$N52,0),\"\")","v":""},"","","","","","","",{"$f":"IFERROR(IF($N52<>0,K52/$N52,0),\"\")","v":""},"","",{"$f":"SUM(B64:M64)","v":0}]
[]
["Category set A – Children with disabilities (IDEA) exiting special education, by age, disability category, and basis of exit"]
["Student count by basis of exit ","Age 16",null,null,null,null,null,null,null,null,null,null,null,null,null,null,"Age 16 Lookup",null,null,null,null,null,null,null,null,null,null,null,null,"Student counts by basis of exit","Age 16"]
[null,"Intellectual\ndisability","Hearing\nimpairment","Speech or\nlanguage\nimpairment","Visual\nimpairment","Emotional\ndisturbance","Orthopedic\nimpairment","Other\nhealth\nimpairment","Specific\nlearning\ndisability","Deaf-\nblindness","Multiple\ndisabilities","Autism","Traumatic\nbrain\ninjury","Total",null,null,null,null,null,null,null,null,null,null,null,null,null,null,null,null,"Intellectual\nDisability","Hearing\nImpairments","Speech or\nLanguage\nImpairments","Visual\nImpairments","Emotional\nDisturbance","Orthopedic\nImpairments","Other\nHealth\nImpairments","Specific\nLearning\nDisabilities","Deaf-\nBlindness","Multiple\nDisabilities","Autism","Traumatic\nBrain\nInjury","Total"]
["Transferred to regular education",{"$f":"IFERROR(HYPERLINK(\"#'Select LEA'!\"&ADDRESS(ROW(INDEX(CurrentListing,MATCH('Category Set A by Age'!Q69,CurrentListing,0),1)),25),AE69),HYPERLINK(\"#'Select LEA'!\"&\"$AA$10\",AE69))","v":""},{"$f":"IFERROR(HYPERLINK(\"#'Select LEA'!\"&ADDRESS(ROW(INDEX(CurrentListing,MATCH('Category Set A by Age'!R69,CurrentListing,0),1)),25),AF69),HYPERLINK(\"#'Select LEA'!\"&\"$AA$10\",AF69))","v":""},{"$f":"IFERROR(HYPERLINK(\"#'Select LEA'!\"&ADDRESS(ROW(INDEX(CurrentListing,MATCH('Category Set A by Age'!S69,CurrentListing,0),1)),25),AG69),HYPERLINK(\"#'Select LEA'!\"&\"$AA$10\",AG69))","v":""},{"$f":"IFERROR(HYPERLINK(\"#'Select LEA'!\"&ADDRESS(ROW(INDEX(CurrentListing,MATCH('Category Set A by Age'!T69,CurrentListing,0),1)),25),AH69),HYPERLINK(\"#'Select LEA'!\"&\"$AA$10\",AH69))","v":""},{"$f":"IFERROR(HYPERLINK(\"#'Select LEA'!\"&ADDRESS(ROW(INDEX(CurrentListing,MATCH('Category Set A by Age'!U69,CurrentListing,0),1)),25),AI69),HYPERLINK(\"#'Select LEA'!\"&\"$AA$10\",AI69))","v":""},{"$f":"IFERROR(HYPERLINK(\"#'Select LEA'!\"&ADDRESS(ROW(INDEX(CurrentListing,MATCH('Category Set A by Age'!V69,CurrentListing,0),1)),25),AJ69),HYPERLINK(\"#'Select LEA'!\"&\"$AA$10\",AJ69))","v":""},{"$f":"IFERROR(HYPERLINK(\"#'Select LEA'!\"&ADDRESS(ROW(INDEX(CurrentListing,MATCH('Category Set A by Age'!W69,CurrentListing,0),1)),25),AK69),HYPERLINK(\"#'Select LEA'!\"&\"$AA$10\",AK69))","v":""},{"$f":"IFERROR(HYPERLINK(\"#'Select LEA'!\"&ADDRESS(ROW(INDEX(CurrentListing,MATCH('Category Set A by Age'!X69,CurrentListing,0),1)),25),AL69),HYPERLINK(\"#'Select LEA'!\"&\"$AA$10\",AL69))","v":""},{"$f":"IFERROR(HYPERLINK(\"#'Select LEA'!\"&ADDRESS(ROW(INDEX(CurrentListing,MATCH('Category Set A by Age'!Y69,CurrentListing,0),1)),25),AM69),HYPERLINK(\"#'Select LEA'!\"&\"$AA$10\",AM69))","v":""},{"$f":"IFERROR(HYPERLINK(\"#'Select LEA'!\"&ADDRESS(ROW(INDEX(CurrentListing,MATCH('Category Set A by Age'!Z69,CurrentListing,0),1)),25),AN69),HYPERLINK(\"#'Select LEA'!\"&\"$AA$10\",AN69))","v":""},{"$f":"IFERROR(HYPERLINK(\"#'Select LEA'!\"&ADDRESS(ROW(INDEX(CurrentListing,MATCH('Category Set A by Age'!AA69,CurrentListing,0),1)),25),AO69),HYPERLINK(\"#'Select LEA'!\"&\"$AA$10\",AO69))","v":""},{"$f":"IFERROR(HYPERLINK(\"#'Select LEA'!\"&ADDRESS(ROW(INDEX(CurrentListing,MATCH('Category Set A by Age'!AB69,CurrentListing,0),1)),25),AP69),HYPERLINK(\"#'Select LEA'!\"&\"$AA$10\",AP69))","v":""},{"$f":"IF(SUM(B69:M69)=0,\"\",SUM(B69:M69))","v":""},null,null,"ID16TRANN","HI16TRANN","SLI16TRANN","VI16TRANN","EMN16TRANN","OI16TRANN","OHI16TRANN","SLD16TRANN","DB16TRANN","MD16TRANN","AUT16TRANN","TBI16TRANN",null,"Transferred to regular education",{"$f":"IFERROR(IF(INDEX(StudCntC009,MATCH(Q69,CurrentListing,0))=\"\",\"No Data\",INDEX(StudCntC009,MATCH(Q69,CurrentListing,0))),\"\")","v":""},"","","","","","","","","","","",{"$f":"SUM(AE69:AP69)","v":0}]
["Graduated with regular high school diploma",{"$f":"IFERROR(HYPERLINK(\"#'Select LEA'!\"&ADDRESS(ROW(INDEX(CurrentListing,MATCH('Category Set A by Age'!Q70,CurrentListing,0),1)),25),AE70),HYPERLINK(\"#'Select LEA'!\"&\"$AA$10\",AE70))","v":""},{"$f":"IFERROR(HYPERLINK(\"#'Select LEA'!\"&ADDRESS(ROW(INDEX(CurrentListing,MATCH('Category Set A by Age'!R70,CurrentListing,0),1)),25),AF70),HYPERLINK(\"#'Select LEA'!\"&\"$AA$10\",AF70))","v":""},{"$f":"IFERROR(HYPERLINK(\"#'Select LEA'!\"&ADDRESS(ROW(INDEX(CurrentListing,MATCH('Category Set A by Age'!S70,CurrentListing,0),1)),25),AG70),HYPERLINK(\"#'Select LEA'!\"&\"$AA$10\",AG70))","v":""},{"$f":"IFERROR(HYPERLINK(\"#'Select LEA'!\"&ADDRESS(ROW(INDEX(CurrentListing,MATCH('Category Set A by Age'!T70,CurrentListing,0),1)),25),AH70),HYPERLINK(\"#'Select LEA'!\"&\"$AA$10\",AH70))","v":""},{"$f":"IFERROR(HYPERLINK(\"#'Select LEA'!\"&ADDRESS(ROW(INDEX(CurrentListing,MATCH('Category Set A by Age'!U70,CurrentListing,0),1)),25),AI70),HYPERLINK(\"#'Select LEA'!\"&\"$AA$10\",AI70))","v":""},{"$f":"IFERROR(HYPERLINK(\"#'Select LEA'!\"&ADDRESS(ROW(INDEX(CurrentListing,MATCH('Category Set A by Age'!V70,CurrentListing,0),1)),25),AJ70),HYPERLINK(\"#'Select LEA'!\"&\"$AA$10\",AJ70))","v":""},{"$f":"IFERROR(HYPERLINK(\"#'Select LEA'!\"&ADDRESS(ROW(INDEX(CurrentListing,MATCH('Category Set A by Age'!W70,CurrentListing,0),1)),25),AK70),HYPERLINK(\"#'Select LEA'!\"&\"$AA$10\",AK70))","v":""},{"$f":"IFERROR(HYPERLINK(\"#'Select LEA'!\"&ADDRESS(ROW(INDEX(CurrentListing,MATCH('Category Set A by Age'!X70,CurrentListing,0),1)),25),AL70),HYPERLINK(\"#'Select LEA'!\"&\"$AA$10\",AL70))","v":""},{"$f":"IFERROR(HYPERLINK(\"#'Select LEA'!\"&ADDRESS(ROW(INDEX(CurrentListing,MATCH('Category Set A by Age'!Y70,CurrentListing,0),1)),25),AM70),HYPERLINK(\"#'Select LEA'!\"&\"$AA$10\",AM70))","v":""},{"$f":"IFERROR(HYPERLINK(\"#'Select LEA'!\"&ADDRESS(ROW(INDEX(CurrentListing,MATCH('Category Set A by Age'!Z70,CurrentListing,0),1)),25),AN70),HYPERLINK(\"#'Select LEA'!\"&\"$AA$10\",AN70))","v":""},{"$f":"IFERROR(HYPERLINK(\"#'Select LEA'!\"&ADDRESS(ROW(INDEX(CurrentListing,MATCH('Category Set A by Age'!AA70,CurrentListing,0),1)),25),AO70),HYPERLINK(\"#'Select LEA'!\"&\"$AA$10\",AO70))","v":""},{"$f":"IFERROR(HYPERLINK(\"#'Select LEA'!\"&ADDRESS(ROW(INDEX(CurrentListing,MATCH('Category Set A by Age'!AB70,CurrentListing,0),1)),25),AP70),HYPERLINK(\"#'Select LEA'!\"&\"$AA$10\",AP70))","v":""},{"$f":"IF(SUM(B70:M70)=0,\"\",SUM(B70:M70))","v":""},null,null,"ID16GHSN","HI16GHSN","SLI16GHSN","VI16GHSN","EMN16GHSN","OI16GHSN","OHI16GHSN","SLD16GHSN","DB16GHSN","MD16GHSN","AUT16GHSN","TBI16GHSN",null,"Graduated with regular high school diploma","","","","","","","","","","","","",{"$f":"SUM(AE70:AP70)","v":0}]
["Graduated with an alternate diploma",{"$f":"IFERROR(HYPERLINK(\"#'Select LEA'!\"&ADDRESS(ROW(INDEX(CurrentListing,MATCH('Category Set A by Age'!Q71,CurrentListing,0),1)),25),AE71),HYPERLINK(\"#'Select LEA'!\"&\"$AA$10\",AE71))","v":""},{"$f":"IFERROR(HYPERLINK(\"#'Select LEA'!\"&ADDRESS(ROW(INDEX(CurrentListing,MATCH('Category Set A by Age'!R71,CurrentListing,0),1)),25),AF71),HYPERLINK(\"#'Select LEA'!\"&\"$AA$10\",AF71))","v":""},{"$f":"IFERROR(HYPERLINK(\"#'Select LEA'!\"&ADDRESS(ROW(INDEX(CurrentListing,MATCH('Category Set A by Age'!S71,CurrentListing,0),1)),25),AG71),HYPERLINK(\"#'Select LEA'!\"&\"$AA$10\",AG71))","v":""},{"$f":"IFERROR(HYPERLINK(\"#'Select LEA'!\"&ADDRESS(ROW(INDEX(CurrentListing,MATCH('Category Set A by Age'!T71,CurrentListing,0),1)),25),AH71),HYPERLINK(\"#'Select LEA'!\"&\"$AA$10\",AH71))","v":""},{"$f":"IFERROR(HYPERLINK(\"#'Select LEA'!\"&ADDRESS(ROW(INDEX(CurrentListing,MATCH('Category Set A by Age'!U71,CurrentListing,0),1)),25),AI71),HYPERLINK(\"#'Select LEA'!\"&\"$AA$10\",AI71))","v":""},{"$f":"IFERROR(HYPERLINK(\"#'Select LEA'!\"&ADDRESS(ROW(INDEX(CurrentListing,MATCH('Category Set A by Age'!V71,CurrentListing,0),1)),25),AJ71),HYPERLINK(\"#'Select LEA'!\"&\"$AA$10\",AJ71))","v":""},{"$f":"IFERROR(HYPERLINK(\"#'Select LEA'!\"&ADDRESS(ROW(INDEX(CurrentListing,MATCH('Category Set A by Age'!W71,CurrentListing,0),1)),25),AK71),HYPERLINK(\"#'Select LEA'!\"&\"$AA$10\",AK71))","v":""},{"$f":"IFERROR(HYPERLINK(\"#'Select LEA'!\"&ADDRESS(ROW(INDEX(CurrentListing,MATCH('Category Set A by Age'!X71,CurrentListing,0),1)),25),AL71),HYPERLINK(\"#'Select LEA'!\"&\"$AA$10\",AL71))","v":""},{"$f":"IFERROR(HYPERLINK(\"#'Select LEA'!\"&ADDRESS(ROW(INDEX(CurrentListing,MATCH('Category Set A by Age'!Y71,CurrentListing,0),1)),25),AM71),HYPERLINK(\"#'Select LEA'!\"&\"$AA$10\",AM71))","v":""},{"$f":"IFERROR(HYPERLINK(\"#'Select LEA'!\"&ADDRESS(ROW(INDEX(CurrentListing,MATCH('Category Set A by Age'!Z71,CurrentListing,0),1)),25),AN71),HYPERLINK(\"#'Select LEA'!\"&\"$AA$10\",AN71))","v":""},{"$f":"IFERROR(HYPERLINK(\"#'Select LEA'!\"&ADDRESS(ROW(INDEX(CurrentListing,MATCH('Category Set A by Age'!AA71,CurrentListing,0),1)),25),AO71),HYPERLINK(\"#'Select LEA'!\"&\"$AA$10\",AO71))","v":""},{"$f":"IFERROR(HYPERLINK(\"#'Select LEA'!\"&ADDRESS(ROW(INDEX(CurrentListing,MATCH('Category Set A by Age'!AB71,CurrentListing,0),1)),25),AP71),HYPERLINK(\"#'Select LEA'!\"&\"$AA$10\",AP71))","v":""},"",null,null,"ID16GRADALTDPLN","HI16GRADALTDPLN","SLI16GRADALTDPLN","VI16GRADALTDPLN","EMN16GRADALTDPLN","OI16GRADALTDPLN","OHI16GRADALTDPLN","SLD16GRADALTDPLN","DB16GRADALTDPLN","MD16GRADALTDPLN","AUT16GRADALTDPLN","TBI16GRADALTDPLN",null,"Graduated with an alternate diploma","","","","","","","","","","","","",{"$f":"SUM(AE71:AP71)","v":0}]
["Received a certificate",{"$f":"IFERROR(HYPERLINK(\"#'Select LEA'!\"&ADDRESS(ROW(INDEX(CurrentListing,MATCH('Category Set A by Age'!Q72,CurrentListing,0),1)),25),AE72),HYPERLINK(\"#'Select LEA'!\"&\"$AA$10\",AE72))","v":""},{"$f":"IFERROR(HYPERLINK(\"#'Select LEA'!\"&ADDRESS(ROW(INDEX(CurrentListing,MATCH('Category Set A by Age'!R72,CurrentListing,0),1)),25),AF72),HYPERLINK(\"#'Select LEA'!\"&\"$AA$10\",AF72))","v":""},{"$f":"IFERROR(HYPERLINK(\"#'Select LEA'!\"&ADDRESS(ROW(INDEX(CurrentListing,MATCH('Category Set A by Age'!S72,CurrentListing,0),1)),25),AG72),HYPERLINK(\"#'Select LEA'!\"&\"$AA$10\",AG72))","v":""},{"$f":"IFERROR(HYPERLINK(\"#'Select LEA'!\"&ADDRESS(ROW(INDEX(CurrentListing,MATCH('Category Set A by Age'!T72,CurrentListing,0),1)),25),AH72),HYPERLINK(\"#'Select LEA'!\"&\"$AA$10\",AH72))","v":""},{"$f":"IFERROR(HYPERLINK(\"#'Select LEA'!\"&ADDRESS(ROW(INDEX(CurrentListing,MATCH('Category Set A by Age'!U72,CurrentListing,0),1)),25),AI72),HYPERLINK(\"#'Select LEA'!\"&\"$AA$10\",AI72))","v":""},{"$f":"IFERROR(HYPERLINK(\"#'Select LEA'!\"&ADDRESS(ROW(INDEX(CurrentListing,MATCH('Category Set A by Age'!V72,CurrentListing,0),1)),25),AJ72),HYPERLINK(\"#'Select LEA'!\"&\"$AA$10\",AJ72))","v":""},{"$f":"IFERROR(HYPERLINK(\"#'Select LEA'!\"&ADDRESS(ROW(INDEX(CurrentListing,MATCH('Category Set A by Age'!W72,CurrentListing,0),1)),25),AK72),HYPERLINK(\"#'Select LEA'!\"&\"$AA$10\",AK72))","v":""},{"$f":"IFERROR(HYPERLINK(\"#'Select LEA'!\"&ADDRESS(ROW(INDEX(CurrentListing,MATCH('Category Set A by Age'!X72,CurrentListing,0),1)),25),AL72),HYPERLINK(\"#'Select LEA'!\"&\"$AA$10\",AL72))","v":""},{"$f":"IFERROR(HYPERLINK(\"#'Select LEA'!\"&ADDRESS(ROW(INDEX(CurrentListing,MATCH('Category Set A by Age'!Y72,CurrentListing,0),1)),25),AM72),HYPERLINK(\"#'Select LEA'!\"&\"$AA$10\",AM72))","v":""},{"$f":"IFERROR(HYPERLINK(\"#'Select LEA'!\"&ADDRESS(ROW(INDEX(CurrentListing,MATCH('Category Set A by Age'!Z72,CurrentListing,0),1)),25),AN72),HYPERLINK(\"#'Select LEA'!\"&\"$AA$10\",AN72))","v":""},{"$f":"IFERROR(HYPERLINK(\"#'Select LEA'!\"&ADDRESS(ROW(INDEX(CurrentListing,MATCH('Category Set A by Age'!AA72,CurrentListing,0),1)),25),AO72),HYPERLINK(\"#'Select LEA'!\"&\"$AA$10\",AO72))","v":""},{"$f":"IFERROR(HYPERLINK(\"#'Select LEA'!\"&ADDRESS(ROW(INDEX(CurrentListing,MATCH('Category Set A by Age'!AB72,CurrentListing,0),1)),25),AP72),HYPERLINK(\"#'Select LEA'!\"&\"$AA$10\",AP72))","v":""},"",null,null,"ID16RCN","HI16RCN","SLI16RCN","VI16RCN","EMN16RCN","OI16RCN","OHI16RCN","SLD16RCN","DB16RCN","MD16RCN","AUT16RCN","TBI16RCN",null,"Received a certificate","","","","","","","","","","","","",{"$f":"SUM(AE72:AP72)","v":0}]
["Reached maximum age",null,null,null,null,null,null,null,null,null,null,null,null,"",null,null,null,null,null,null,null,null,null,null,null,null,null,null,null,"Reached maximum age"]
["Died",{"$f":"IFERROR(HYPERLINK(\"#'Select LEA'!\"&ADDRESS(ROW(INDEX(CurrentListing,MATCH('Category Set A by Age'!Q74,CurrentListing,0),1)),25),AE74),HYPERLINK(\"#'Select LEA'!\"&\"$AA$10\",AE74))","v":""},{"$f":"IFERROR(HYPERLINK(\"#'Select LEA'!\"&ADDRESS(ROW(INDEX(CurrentListing,MATCH('Category Set A by Age'!R74,CurrentListing,0),1)),25),AF74),HYPERLINK(\"#'Select LEA'!\"&\"$AA$10\",AF74))","v":""},{"$f":"IFERROR(HYPERLINK(\"#'Select LEA'!\"&ADDRESS(ROW(INDEX(CurrentListing,MATCH('Category Set A by Age'!S74,CurrentListing,0),1)),25),AG74),HYPERLINK(\"#'Select LEA'!\"&\"$AA$10\",AG74))","v":""},{"$f":"IFERROR(HYPERLINK(\"#'Select LEA'!\"&ADDRESS(ROW(INDEX(CurrentListing,MATCH('Category Set A by Age'!T74,CurrentListing,0),1)),25),AH74),HYPERLINK(\"#'Select LEA'!\"&\"$AA$10\",AH74))","v":""},{"$f":"IFERROR(HYPERLINK(\"#'Select LEA'!\"&ADDRESS(ROW(INDEX(CurrentListing,MATCH('Category Set A by Age'!U74,CurrentListing,0),1)),25),AI74),HYPERLINK(\"#'Select LEA'!\"&\"$AA$10\",AI74))","v":""},{"$f":"IFERROR(HYPERLINK(\"#'Select LEA'!\"&ADDRESS(ROW(INDEX(CurrentListing,MATCH('Category Set A by Age'!V74,CurrentListing,0),1)),25),AJ74),HYPERLINK(\"#'Select LEA'!\"&\"$AA$10\",AJ74))","v":""},{"$f":"IFERROR(HYPERLINK(\"#'Select LEA'!\"&ADDRESS(ROW(INDEX(CurrentListing,MATCH('Category Set A by Age'!W74,CurrentListing,0),1)),25),AK74),HYPERLINK(\"#'Select LEA'!\"&\"$AA$10\",AK74))","v":""},{"$f":"IFERROR(HYPERLINK(\"#'Select LEA'!\"&ADDRESS(ROW(INDEX(CurrentListing,MATCH('Category Set A by Age'!X74,CurrentListing,0),1)),25),AL74),HYPERLINK(\"#'Select LEA'!\"&\"$AA$10\",AL74))","v":""},{"$f":"IFERROR(HYPERLINK(\"#'Select LEA'!\"&ADDRESS(ROW(INDEX(CurrentListing,MATCH('Category Set A by Age'!Y74,CurrentListing,0),1)),25),AM74),HYPERLINK(\"#'Select LEA'!\"&\"$AA$10\",AM74))","v":""},{"$f":"IFERROR(HYPERLINK(\"#'Select LEA'!\"&ADDRESS(ROW(INDEX(CurrentListing,MATCH('Category Set A by Age'!Z74,CurrentListing,0),1)),25),AN74),HYPERLINK(\"#'Select LEA'!\"&\"$AA$10\",AN74))","v":""},{"$f":"IFERROR(HYPERLINK(\"#'Select LEA'!\"&ADDRESS(ROW(INDEX(CurrentListing,MATCH('Category Set A by Age'!AA74,CurrentListing,0),1)),25),AO74),HYPERLINK(\"#'Select LEA'!\"&\"$AA$10\",AO74))","v":""},{"$f":"IFERROR(HYPERLINK(\"#'Select LEA'!\"&ADDRESS(ROW(INDEX(CurrentListing,MATCH('Category Set A by Age'!AB74,CurrentListing,0),1)),25),AP74),HYPERLINK(\"#'Select LEA'!\"&\"$AA$10\",AP74))","v":""},"",null,null,"ID16DN","HI16DN","SLI16DN","VI16DN","EMN16DN","OI16DN","OHI16DN","SLD16DN","DB16DN","MD16DN","AUT16DN","TBI16DN",null,"Died",{"$f":"IFERROR(IF(INDEX(StudCntC009,MATCH(Q74,CurrentListing,0))=\"\",\"No Data\",INDEX(StudCntC009,MATCH(Q74,CurrentListing,0))),\"\")","v":""},"","","","","","","","","","","",{"$f":"SUM(AE74:AP74)","v":0}]
["Moved, known to be continuing",{"$f":"IFERROR(HYPERLINK(\"#'Select LEA'!\"&ADDRESS(ROW(INDEX(CurrentListing,MATCH('Category Set A by Age'!Q75,CurrentListing,0),1)),25),AE75),HYPERLINK(\"#'Select LEA'!\"&\"$AA$10\",AE75))","v":""},{"$f":"IFERROR(HYPERLINK(\"#'Select LEA'!\"&ADDRESS(ROW(INDEX(CurrentListing,MATCH('Category Set A by Age'!R75,CurrentListing,0),1)),25),AF75),HYPERLINK(\"#'Select LEA'!\"&\"$AA$10\",AF75))","v":""},{"$f":"IFERROR(HYPERLINK(\"#'Select LEA'!\"&ADDRESS(ROW(INDEX(CurrentListing,MATCH('Category Set A by Age'!S75,CurrentListing,0),1)),25),AG75),HYPERLINK(\"#'Select LEA'!\"&\"$AA$10\",AG75))","v":""},{"$f":"IFERROR(HYPERLINK(\"#'Select LEA'!\"&ADDRESS(ROW(INDEX(CurrentListing,MATCH('Category Set A by Age'!T75,CurrentListing,0),1)),25),AH75),HYPERLINK(\"#'Select LEA'!\"&\"$AA$10\",AH75))","v":""},{"$f":"IFERROR(HYPERLINK(\"#'Select LEA'!\"&ADDRESS(ROW(INDEX(CurrentListing,MATCH('Category Set A by Age'!U75,CurrentListing,0),1)),25),AI75),HYPERLINK(\"#'Select LEA'!\"&\"$AA$10\",AI75))","v":""},{"$f":"IFERROR(HYPERLINK(\"#'Select LEA'!\"&ADDRESS(ROW(INDEX(CurrentListing,MATCH('Category Set A by Age'!V75,CurrentListing,0),1)),25),AJ75),HYPERLINK(\"#'Select LEA'!\"&\"$AA$10\",AJ75))","v":""},{"$f":"IFERROR(HYPERLINK(\"#'Select LEA'!\"&ADDRESS(ROW(INDEX(CurrentListing,MATCH('Category Set A by Age'!W75,CurrentListing,0),1)),25),AK75),HYPERLINK(\"#'Select LEA'!\"&\"$AA$10\",AK75))","v":""},{"$f":"IFERROR(HYPERLINK(\"#'Select LEA'!\"&ADDRESS(ROW(INDEX(CurrentListing,MATCH('Category Set A by Age'!X75,CurrentListing,0),1)),25),AL75),HYPERLINK(\"#'Select LEA'!\"&\"$AA$10\",AL75))","v":""},{"$f":"IFERROR(HYPERLINK(\"#'Select LEA'!\"&ADDRESS(ROW(INDEX(CurrentListing,MATCH('Category Set A by Age'!Y75,CurrentListing,0),1)),25),AM75),HYPERLINK(\"#'Select LEA'!\"&\"$AA$10\",AM75))","v":""},{"$f":"IFERROR(HYPERLINK(\"#'Select LEA'!\"&ADDRESS(ROW(INDEX(CurrentListing,MATCH('Category Set A by Age'!Z75,CurrentListing,0),1)),25),AN75),HYPERLINK(\"#'Select LEA'!\"&\"$AA$10\",AN75))","v":""},{"$f":"IFERROR(HYPERLINK(\"#'Select LEA'!\"&ADDRESS(ROW(INDEX(CurrentListing,MATCH('Category Set A by Age'!AA75,CurrentListing,0),1)),25),AO75),HYPERLINK(\"#'Select LEA'!\"&\"$AA$10\",AO75))","v":""},{"$f":"IFERROR(HYPERLINK(\"#'Select LEA'!\"&ADDRESS(ROW(INDEX(CurrentListing,MATCH('Category Set A by Age'!AB75,CurrentListing,0),1)),25),AP75),HYPERLINK(\"#'Select LEA'!\"&\"$AA$10\",AP75))","v":""},"",null,null,"ID16MKCN","HI16MKCN","SLI16MKCN","VI16MKCN","EMN16MKCN","OI16MKCN","OHI16MKCN","SLD16MKCN","DB16MKCN","MD16MKCN","AUT16MKCN","TBI16MKCN",null,"Moved, known to be continuing","","","","","","","","","","","","",{"$f":"SUM(AE75:AP75)","v":0}]
["Dropped out",{"$f":"IFERROR(HYPERLINK(\"#'Select LEA'!\"&ADDRESS(ROW(INDEX(CurrentListing,MATCH('Category Set A by Age'!Q76,CurrentListing,0),1)),25),AE76),HYPERLINK(\"#'Select LEA'!\"&\"$AA$10\",AE76))","v":""},{"$f":"IFERROR(HYPERLINK(\"#'Select LEA'!\"&ADDRESS(ROW(INDEX(CurrentListing,MATCH('Category Set A by Age'!R76,CurrentListing,0),1)),25),AF76),HYPERLINK(\"#'Select LEA'!\"&\"$AA$10\",AF76))","v":""},{"$f":"IFERROR(HYPERLINK(\"#'Select LEA'!\"&ADDRESS(ROW(INDEX(CurrentListing,MATCH('Category Set A by Age'!S76,CurrentListing,0),1)),25),AG76),HYPERLINK(\"#'Select LEA'!\"&\"$AA$10\",AG76))","v":""},{"$f":"IFERROR(HYPERLINK(\"#'Select LEA'!\"&ADDRESS(ROW(INDEX(CurrentListing,MATCH('Category Set A by Age'!T76,CurrentListing,0),1)),25),AH76),HYPERLINK(\"#'Select LEA'!\"&\"$AA$10\",AH76))","v":""},{"$f":"IFERROR(HYPERLINK(\"#'Select LEA'!\"&ADDRESS(ROW(INDEX(CurrentListing,MATCH('Category Set A by Age'!U76,CurrentListing,0),1)),25),AI76),HYPERLINK(\"#'Select LEA'!\"&\"$AA$10\",AI76))","v":""},{"$f":"IFERROR(HYPERLINK(\"#'Select LEA'!\"&ADDRESS(ROW(INDEX(CurrentListing,MATCH('Category Set A by Age'!V76,CurrentListing,0),1)),25),AJ76),HYPERLINK(\"#'Select LEA'!\"&\"$AA$10\",AJ76))","v":""},{"$f":"IFERROR(HYPERLINK(\"#'Select LEA'!\"&ADDRESS(ROW(INDEX(CurrentListing,MATCH('Category Set A by Age'!W76,CurrentListing,0),1)),25),AK76),HYPERLINK(\"#'Select LEA'!\"&\"$AA$10\",AK76))","v":""},{"$f":"IFERROR(HYPERLINK(\"#'Select LEA'!\"&ADDRESS(ROW(INDEX(CurrentListing,MATCH('Category Set A by Age'!X76,CurrentListing,0),1)),25),AL76),HYPERLINK(\"#'Select LEA'!\"&\"$AA$10\",AL76))","v":""},{"$f":"IFERROR(HYPERLINK(\"#'Select LEA'!\"&ADDRESS(ROW(INDEX(CurrentListing,MATCH('Category Set A by Age'!Y76,CurrentListing,0),1)),25),AM76),HYPERLINK(\"#'Select LEA'!\"&\"$AA$10\",AM76))","v":""},{"$f":"IFERROR(HYPERLINK(\"#'Select LEA'!\"&ADDRESS(ROW(INDEX(CurrentListing,MATCH('Category Set A by Age'!Z76,CurrentListing,0),1)),25),AN76),HYPERLINK(\"#'Select LEA'!\"&\"$AA$10\",AN76))","v":""},{"$f":"IFERROR(HYPERLINK(\"#'Select LEA'!\"&ADDRESS(ROW(INDEX(CurrentListing,MATCH('Category Set A by Age'!AA76,CurrentListing,0),1)),25),AO76),HYPERLINK(\"#'Select LEA'!\"&\"$AA$10\",AO76))","v":""},{"$f":"IFERROR(HYPERLINK(\"#'Select LEA'!\"&ADDRESS(ROW(INDEX(CurrentListing,MATCH('Category Set A by Age'!AB76,CurrentListing,0),1)),25),AP76),HYPERLINK(\"#'Select LEA'!\"&\"$AA$10\",AP76))","v":""},"",null,null,"ID16DROPOUTN","HI16DROPOUTN","SLI16DROPOUTN","VI16DROPOUTN","EMN16DROPOUTN","OI16DROPOUTN","OHI16DROPOUTN","SLD16DROPOUTN","DB16DROPOUTN","MD16DROPOUTN","AUT16DROPOUTN","TBI16DROPOUTN",null,"Dropped out","","","","","","","","","","","","",{"$f":"SUM(AE76:AP76)","v":0}]
["Total",{"$f":"IF(SUM(B69:B76)=0,\"\",SUM(B69:B76))","v":""},{"$f":"IF(SUM(C69:C76)=0,\"\",SUM(C69:C76))","v":""},"","","","","","","","","","",{"$f":"IF(AND(N4=\"\",N5=\"\",N6=\"\",N7=\"\",N8=\"\",N9=\"\",N10=\"\",N11=\"\"),\"\",SUM(B69:M76))","v":""},null,null,null,null,null,null,null,null,null,null,null,null,null,null,"16Y","Total",{"$f":"SUM(AE69:AE76)","v":0},{"$f":"SUM(AF69:AF76)","v":0},0,0,0,0,0,0,0,0,0,0,{"$f":"IFERROR(IF(INDEX(StudCntC009,MATCH(AC77,CurrentListing,0))=\"\",\"No Data\",INDEX(StudCntC009,MATCH(AC77,CurrentListing,0))),\"\")","v":""}]
[]
["Percent by basis of exit","Age 16"]
[null,"Intellectual\ndisability\n(percent)","Hearing\nimpairment\n(percent)","Speech or\nlanguage\nimpairment\n(percent)","Visual\nimpairment\n(percent)","Emotional\ndisturbance\n(percent)","Orthopedic\nimpairment\n(percent)","Other\nhealth\nimpairment\n(percent)","Specific\nlearning\ndisability\n(percent)","Deaf-\nblindness\n(percent)","Multiple\ndisabilities\n(percent)","Autism\n(Percent)","Traumatic\nbrain\ninjury\n(percent)","Total\n(percent)"]
["Transferred to regular education",{"$f":"IF(ISERROR(B69/$N69),IF(B69=\"\", \"\",0), B69/$N69)","v":""},"","","","","","","","","","","",{"$f":"IF(SUM(B81:M81)=0,\"\",SUM(B81:M81))","v":""}]
["Graduated with regular high school diploma",{"$f":"IF(ISERROR(B70/$N70),IF(B70=\"\", \"\",0), B70/$N70)","v":""},"","","","","","","","","","","",{"$f":"IF(SUM(B82:M82)=0,\"\",SUM(B82:M82))","v":""}]
["Graduated with an alternate diploma",{"$f":"IF(ISERROR(B71/$N71),IF(B71=\"\", \"\",0), B71/$N71)","v":""},"","","","","","","","","","","",""]
["Received a certificate",{"$f":"IF(ISERROR(B72/$N72),IF(B72=\"\", \"\",0), B72/$N72)","v":""},"","","","","","","","","","","",""]
["Reached maximum age",null,null,null,null,null,null,null,null,null,null,null,null,""]
["Died",{"$f":"IF(ISERROR(B74/$N74),IF(B74=\"\", \"\",0), B74/$N74)","v":""},"","","","","","","","","","","",""]
["Moved, known to be continuing",{"$f":"IF(ISERROR(B75/$N75),IF(B75=\"\", \"\",0), B75/$N75)","v":""},"","","","","","","","","","","",""]
["Dropped out",{"$f":"IF(ISERROR(B76/$N76),IF(B76=\"\", \"\",0), B76/$N76)","v":""},"","","","","","","","","","","",""]
["Total",{"$f":"IFERROR(IF($N77<>0,B77/$N77,0),\"\")","v":""},{"$f":"IFERROR(IF($N77<>0,C77/$N77,0),\"\")","v":""},"","","","","","","","","","",{"$f":"SUM(B89:M89)","v":0}]
[]
["Category set A – Children with disabilities (IDEA) exiting special education, by age, disability category, and basis of exit"]
["Student count by basis of exit ","Age 17",null,null,null,null,null,null,null,null,null,null,null,null,null,null,"Age 17 Lookup",null,null,null,null,null,null,null,null,null,null,null,null,"Student counts by basis of exit","Age 17"]
[null,"Intellectual\ndisability","Hearing\nimpairment","Speech or\nlanguage\nimpairment","Visual\nimpairment","Emotional\ndisturbance","Orthopedic\nimpairment","Other\nhealth\nimpairment","Specific\nlearning\ndisability","Deaf-\nblindness","Multiple\ndisabilities","Autism","Traumatic\nbrain\ninjury","Total",null,null,null,null,null,null,null,null,null,null,null,null,null,null,null,null,"Intellectual\nDisability","Hearing\nImpairments","Speech or\nLanguage\nImpairments","Visual\nImpairments","Emotional\nDisturbance","Orthopedic\nImpairments","Other\nHealth\nImpairments","Specific\nLearning\nDisabilities","Deaf-\nBlindness","Multiple\nDisabilities","Autism","Traumatic\nBrain\nInjury","Total"]
["Transferred to regular education",{"$f":"IFERROR(HYPERLINK(\"#'Select LEA'!\"&ADDRESS(ROW(INDEX(CurrentListing,MATCH('Category Set A by Age'!Q94,CurrentListing,0),1)),25),AE94),HYPERLINK(\"#'Select LEA'!\"&\"$AA$10\",AE94))","v":""},{"$f":"IFERROR(HYPERLINK(\"#'Select LEA'!\"&ADDRESS(ROW(INDEX(CurrentListing,MATCH('Category Set A by Age'!R94,CurrentListing,0),1)),25),AF94),HYPERLINK(\"#'Select LEA'!\"&\"$AA$10\",AF94))","v":""},{"$f":"IFERROR(HYPERLINK(\"#'Select LEA'!\"&ADDRESS(ROW(INDEX(CurrentListing,MATCH('Category Set A by Age'!S94,CurrentListing,0),1)),25),AG94),HYPERLINK(\"#'Select LEA'!\"&\"$AA$10\",AG94))","v":""},{"$f":"IFERROR(HYPERLINK(\"#'Select LEA'!\"&ADDRESS(ROW(INDEX(CurrentListing,MATCH('Category Set A by Age'!T94,CurrentListing,0),1)),25),AH94),HYPERLINK(\"#'Select LEA'!\"&\"$AA$10\",AH94))","v":""},{"$f":"IFERROR(HYPERLINK(\"#'Select LEA'!\"&ADDRESS(ROW(INDEX(CurrentListing,MATCH('Category Set A by Age'!U94,CurrentListing,0),1)),25),AI94),HYPERLINK(\"#'Select LEA'!\"&\"$AA$10\",AI94))","v":""},{"$f":"IFERROR(HYPERLINK(\"#'Select LEA'!\"&ADDRESS(ROW(INDEX(CurrentListing,MATCH('Category Set A by Age'!V94,CurrentListing,0),1)),25),AJ94),HYPERLINK(\"#'Select LEA'!\"&\"$AA$10\",AJ94))","v":""},{"$f":"IFERROR(HYPERLINK(\"#'Select LEA'!\"&ADDRESS(ROW(INDEX(CurrentListing,MATCH('Category Set A by Age'!W94,CurrentListing,0),1)),25),AK94),HYPERLINK(\"#'Select LEA'!\"&\"$AA$10\",AK94))","v":""},{"$f":"IFERROR(HYPERLINK(\"#'Select LEA'!\"&ADDRESS(ROW(INDEX(CurrentListing,MATCH('Category Set A by Age'!X94,CurrentListing,0),1)),25),AL94),HYPERLINK(\"#'Select LEA'!\"&\"$AA$10\",AL94))","v":""},{"$f":"IFERROR(HYPERLINK(\"#'Select LEA'!\"&ADDRESS(ROW(INDEX(CurrentListing,MATCH('Category Set A by Age'!Y94,CurrentListing,0),1)),25),AM94),HYPERLINK(\"#'Select LEA'!\"&\"$AA$10\",AM94))","v":""},{"$f":"IFERROR(HYPERLINK(\"#'Select LEA'!\"&ADDRESS(ROW(INDEX(CurrentListing,MATCH('Category Set A by Age'!Z94,CurrentListing,0),1)),25),AN94),HYPERLINK(\"#'Select LEA'!\"&\"$AA$10\",AN94))","v":""},{"$f":"IFERROR(HYPERLINK(\"#'Select LEA'!\"&ADDRESS(ROW(INDEX(CurrentListing,MATCH('Category Set A by Age'!AA94,CurrentListing,0),1)),25),AO94),HYPERLINK(\"#'Select LEA'!\"&\"$AA$10\",AO94))","v":""},{"$f":"IFERROR(HYPERLINK(\"#'Select LEA'!\"&ADDRESS(ROW(INDEX(CurrentListing,MATCH('Category Set A by Age'!AB94,CurrentListing,0),1)),25),AP94),HYPERLINK(\"#'Select LEA'!\"&\"$AA$10\",AP94))","v":""},{"$f":"IF(SUM(B94:M94)=0,\"\",SUM(B94:M94))","v":""},null,null,"ID17TRANN","HI17TRANN","SLI17TRANN","VI17TRANN","EMN17TRANN","OI17TRANN","OHI17TRANN","SLD17TRANN","DB17TRANN","MD17TRANN","AUT17TRANN","TBI17TRANN",null,"Transferred to regular education",{"$f":"IFERROR(IF(INDEX(StudCntC009,MATCH(Q94,CurrentListing,0))=\"\",\"No Data\",INDEX(StudCntC009,MATCH(Q94,CurrentListing,0))),\"\")","v":""},"","","","","","","","","","","",{"$f":"SUM(AE94:AP94)","v":0}]
["Graduated with regular high school diploma",{"$f":"IFERROR(HYPERLINK(\"#'Select LEA'!\"&ADDRESS(ROW(INDEX(CurrentListing,MATCH('Category Set A by Age'!Q95,CurrentListing,0),1)),25),AE95),HYPERLINK(\"#'Select LEA'!\"&\"$AA$10\",AE95))","v":""},{"$f":"IFERROR(HYPERLINK(\"#'Select LEA'!\"&ADDRESS(ROW(INDEX(CurrentListing,MATCH('Category Set A by Age'!R95,CurrentListing,0),1)),25),AF95),HYPERLINK(\"#'Select LEA'!\"&\"$AA$10\",AF95))","v":""},{"$f":"IFERROR(HYPERLINK(\"#'Select LEA'!\"&ADDRESS(ROW(INDEX(CurrentListing,MATCH('Category Set A by Age'!S95,CurrentListing,0),1)),25),AG95),HYPERLINK(\"#'Select LEA'!\"&\"$AA$10\",AG95))","v":""},{"$f":"IFERROR(HYPERLINK(\"#'Select LEA'!\"&ADDRESS(ROW(INDEX(CurrentListing,MATCH('Category Set A by Age'!T95,CurrentListing,0),1)),25),AH95),HYPERLINK(\"#'Select LEA'!\"&\"$AA$10\",AH95))","v":""},{"$f":"IFERROR(HYPERLINK(\"#'Select LEA'!\"&ADDRESS(ROW(INDEX(CurrentListing,MATCH('Category Set A by Age'!U95,CurrentListing,0),1)),25),AI95),HYPERLINK(\"#'Select LEA'!\"&\"$AA$10\",AI95))","v":""},{"$f":"IFERROR(HYPERLINK(\"#'Select LEA'!\"&ADDRESS(ROW(INDEX(CurrentListing,MATCH('Category Set A by Age'!V95,CurrentListing,0),1)),25),AJ95),HYPERLINK(\"#'Select LEA'!\"&\"$AA$10\",AJ95))","v":""},{"$f":"IFERROR(HYPERLINK(\"#'Select LEA'!\"&ADDRESS(ROW(INDEX(CurrentListing,MATCH('Category Set A by Age'!W95,CurrentListing,0),1)),25),AK95),HYPERLINK(\"#'Select LEA'!\"&\"$AA$10\",AK95))","v":""},{"$f":"IFERROR(HYPERLINK(\"#'Select LEA'!\"&ADDRESS(ROW(INDEX(CurrentListing,MATCH('Category Set A by Age'!X95,CurrentListing,0),1)),25),AL95),HYPERLINK(\"#'Select LEA'!\"&\"$AA$10\",AL95))","v":""},{"$f":"IFERROR(HYPERLINK(\"#'Select LEA'!\"&ADDRESS(ROW(INDEX(CurrentListing,MATCH('Category Set A by Age'!Y95,CurrentListing,0),1)),25),AM95),HYPERLINK(\"#'Select LEA'!\"&\"$AA$10\",AM95))","v":""},{"$f":"IFERROR(HYPERLINK(\"#'Select LEA'!\"&ADDRESS(ROW(INDEX(CurrentListing,MATCH('Category Set A by Age'!Z95,CurrentListing,0),1)),25),AN95),HYPERLINK(\"#'Select LEA'!\"&\"$AA$10\",AN95))","v":""},{"$f":"IFERROR(HYPERLINK(\"#'Select LEA'!\"&ADDRESS(ROW(INDEX(CurrentListing,MATCH('Category Set A by Age'!AA95,CurrentListing,0),1)),25),AO95),HYPERLINK(\"#'Select LEA'!\"&\"$AA$10\",AO95))","v":""},{"$f":"IFERROR(HYPERLINK(\"#'Select LEA'!\"&ADDRESS(ROW(INDEX(CurrentListing,MATCH('Category Set A by Age'!AB95,CurrentListing,0),1)),25),AP95),HYPERLINK(\"#'Select LEA'!\"&\"$AA$10\",AP95))","v":""},{"$f":"IF(SUM(B95:M95)=0,\"\",SUM(B95:M95))","v":""},null,null,"ID17GHSN","HI17GHSN","SLI17GHSN","VI17GHSN","EMN17GHSN","OI17GHSN","OHI17GHSN","SLD17GHSN","DB17GHSN","MD17GHSN","AUT17GHSN","TBI17GHSN",null,"Graduated with regular high school diploma","","","","","","","","","","","","",{"$f":"SUM(AE95:AP95)","v":0}]
["Graduated with an alternate diploma",{"$f":"IFERROR(HYPERLINK(\"#'Select LEA'!\"&ADDRESS(ROW(INDEX(CurrentListing,MATCH('Category Set A by Age'!Q96,CurrentListing,0),1)),25),AE96),HYPERLINK(\"#'Select LEA'!\"&\"$AA$10\",AE96))","v":""},{"$f":"IFERROR(HYPERLINK(\"#'Select LEA'!\"&ADDRESS(ROW(INDEX(CurrentListing,MATCH('Category Set A by Age'!R96,CurrentListing,0),1)),25),AF96),HYPERLINK(\"#'Select LEA'!\"&\"$AA$10\",AF96))","v":""},{"$f":"IFERROR(HYPERLINK(\"#'Select LEA'!\"&ADDRESS(ROW(INDEX(CurrentListing,MATCH('Category Set A by Age'!S96,CurrentListing,0),1)),25),AG96),HYPERLINK(\"#'Select LEA'!\"&\"$AA$10\",AG96))","v":""},{"$f":"IFERROR(HYPERLINK(\"#'Select LEA'!\"&ADDRESS(ROW(INDEX(CurrentListing,MATCH('Category Set A by Age'!T96,CurrentListing,0),1)),25),AH96),HYPERLINK(\"#'Select LEA'!\"&\"$AA$10\",AH96))","v":""},{"$f":"IFERROR(HYPERLINK(\"#'Select LEA'!\"&ADDRESS(ROW(INDEX(CurrentListing,MATCH('Category Set A by Age'!U96,CurrentListing,0),1)),25),AI96),HYPERLINK(\"#'Select LEA'!\"&\"$AA$10\",AI96))","v":""},{"$f":"IFERROR(HYPERLINK(\"#'Select LEA'!\"&ADDRESS(ROW(INDEX(CurrentListing,MATCH('Category Set A by Age'!V96,CurrentListing,0),1)),25),AJ96),HYPERLINK(\"#'Select LEA'!\"&\"$AA$10\",AJ96))","v":""},{"$f":"IFERROR(HYPERLINK(\"#'Select LEA'!\"&ADDRESS(ROW(INDEX(CurrentListing,MATCH('Category Set A by Age'!W96,CurrentListing,0),1)),25),AK96),HYPERLINK(\"#'Select LEA'!\"&\"$AA$10\",AK96))","v":""},{"$f":"IFERROR(HYPERLINK(\"#'Select LEA'!\"&ADDRESS(ROW(INDEX(CurrentListing,MATCH('Category Set A by Age'!X96,CurrentListing,0),1)),25),AL96),HYPERLINK(\"#'Select LEA'!\"&\"$AA$10\",AL96))","v":""},{"$f":"IFERROR(HYPERLINK(\"#'Select LEA'!\"&ADDRESS(ROW(INDEX(CurrentListing,MATCH('Category Set A by Age'!Y96,CurrentListing,0),1)),25),AM96),HYPERLINK(\"#'Select LEA'!\"&\"$AA$10\",AM96))","v":""},{"$f":"IFERROR(HYPERLINK(\"#'Select LEA'!\"&ADDRESS(ROW(INDEX(CurrentListing,MATCH('Category Set A by Age'!Z96,CurrentListing,0),1)),25),AN96),HYPERLINK(\"#'Select LEA'!\"&\"$AA$10\",AN96))","v":""},{"$f":"IFERROR(HYPERLINK(\"#'Select LEA'!\"&ADDRESS(ROW(INDEX(CurrentListing,MATCH('Category Set A by Age'!AA96,CurrentListing,0),1)),25),AO96),HYPERLINK(\"#'Select LEA'!\"&\"$AA$10\",AO96))","v":""},{"$f":"IFERROR(HYPERLINK(\"#'Select LEA'!\"&ADDRESS(ROW(INDEX(CurrentListing,MATCH('Category Set A by Age'!AB96,CurrentListing,0),1)),25),AP96),HYPERLINK(\"#'Select LEA'!\"&\"$AA$10\",AP96))","v":""},"",null,null,"ID17GRADALTDPLN","HI17GRADALTDPLN","SLI17GRADALTDPLN","VI17GRADALTDPLN","EMN17GRADALTDPLN","OI17GRADALTDPLN","OHI17GRADALTDPLN","SLD17GRADALTDPLN","DB17GRADALTDPLN","MD17GRADALTDPLN","AUT17GRADALTDPLN","TBI17GRADALTDPLN",null,"Graduated with an alternate diploma","","","","","","","","","","","","",{"$f":"SUM(AE96:AP96)","v":0}]
["Received a certificate",{"$f":"IFERROR(HYPERLINK(\"#'Select LEA'!\"&ADDRESS(ROW(INDEX(CurrentListing,MATCH('Category Set A by Age'!Q97,CurrentListing,0),1)),25),AE97),HYPERLINK(\"#'Select LEA'!\"&\"$AA$10\",AE97))","v":""},{"$f":"IFERROR(HYPERLINK(\"#'Select LEA'!\"&ADDRESS(ROW(INDEX(CurrentListing,MATCH('Category Set A by Age'!R97,CurrentListing,0),1)),25),AF97),HYPERLINK(\"#'Select LEA'!\"&\"$AA$10\",AF97))","v":""},{"$f":"IFERROR(HYPERLINK(\"#'Select LEA'!\"&ADDRESS(ROW(INDEX(CurrentListing,MATCH('Category Set A by Age'!S97,CurrentListing,0),1)),25),AG97),HYPERLINK(\"#'Select LEA'!\"&\"$AA$10\",AG97))","v":""},{"$f":"IFERROR(HYPERLINK(\"#'Select LEA'!\"&ADDRESS(ROW(INDEX(CurrentListing,MATCH('Category Set A by Age'!T97,CurrentListing,0),1)),25),AH97),HYPERLINK(\"#'Select LEA'!\"&\"$AA$10\",AH97))","v":""},{"$f":"IFERROR(HYPERLINK(\"#'Select LEA'!\"&ADDRESS(ROW(INDEX(CurrentListing,MATCH('Category Set A by Age'!U97,CurrentListing,0),1)),25),AI97),HYPERLINK(\"#'Select LEA'!\"&\"$AA$10\",AI97))","v":""},{"$f":"IFERROR(HYPERLINK(\"#'Select LEA'!\"&ADDRESS(ROW(INDEX(CurrentListing,MATCH('Category Set A by Age'!V97,CurrentListing,0),1)),25),AJ97),HYPERLINK(\"#'Select LEA'!\"&\"$AA$10\",AJ97))","v":""},{"$f":"IFERROR(HYPERLINK(\"#'Select LEA'!\"&ADDRESS(ROW(INDEX(CurrentListing,MATCH('Category Set A by Age'!W97,CurrentListing,0),1)),25),AK97),HYPERLINK(\"#'Select LEA'!\"&\"$AA$10\",AK97))","v":""},{"$f":"IFERROR(HYPERLINK(\"#'Select LEA'!\"&ADDRESS(ROW(INDEX(CurrentListing,MATCH('Category Set A by Age'!X97,CurrentListing,0),1)),25),AL97),HYPERLINK(\"#'Select LEA'!\"&\"$AA$10\",AL97))","v":""},{"$f":"IFERROR(HYPERLINK(\"#'Select LEA'!\"&ADDRESS(ROW(INDEX(CurrentListing,MATCH('Category Set A by Age'!Y97,CurrentListing,0),1)),25),AM97),HYPERLINK(\"#'Select LEA'!\"&\"$AA$10\",AM97))","v":""},{"$f":"IFERROR(HYPERLINK(\"#'Select LEA'!\"&ADDRESS(ROW(INDEX(CurrentListing,MATCH('Category Set A by Age'!Z97,CurrentListing,0),1)),25),AN97),HYPERLINK(\"#'Select LEA'!\"&\"$AA$10\",AN97))","v":""},{"$f":"IFERROR(HYPERLINK(\"#'Select LEA'!\"&ADDRESS(ROW(INDEX(CurrentListing,MATCH('Category Set A by Age'!AA97,CurrentListing,0),1)),25),AO97),HYPERLINK(\"#'Select LEA'!\"&\"$AA$10\",AO97))","v":""},{"$f":"IFERROR(HYPERLINK(\"#'Select LEA'!\"&ADDRESS(ROW(INDEX(CurrentListing,MATCH('Category Set A by Age'!AB97,CurrentListing,0),1)),25),AP97),HYPERLINK(\"#'Select LEA'!\"&\"$AA$10\",AP97))","v":""},"",null,null,"ID17RCN","HI17RCN","SLI17RCN","VI17RCN","EMN17RCN","OI17RCN","OHI17RCN","SLD17RCN","DB17RCN","MD17RCN","AUT17RCN","TBI17RCN",null,"Received a certificate","","","","","","","","","","","","",{"$f":"SUM(AE97:AP97)","v":0}]
["Reached maximum age",null,null,null,null,null,null,null,null,null,null,null,null,"",null,null,null,null,null,null,null,null,null,null,null,null,null,null,null,"Reached maximum age"]
["Died",{"$f":"IFERROR(HYPERLINK(\"#'Select LEA'!\"&ADDRESS(ROW(INDEX(CurrentListing,MATCH('Category Set A by Age'!Q99,CurrentListing,0),1)),25),AE99),HYPERLINK(\"#'Select LEA'!\"&\"$AA$10\",AE99))","v":""},{"$f":"IFERROR(HYPERLINK(\"#'Select LEA'!\"&ADDRESS(ROW(INDEX(CurrentListing,MATCH('Category Set A by Age'!R99,CurrentListing,0),1)),25),AF99),HYPERLINK(\"#'Select LEA'!\"&\"$AA$10\",AF99))","v":""},{"$f":"IFERROR(HYPERLINK(\"#'Select LEA'!\"&ADDRESS(ROW(INDEX(CurrentListing,MATCH('Category Set A by Age'!S99,CurrentListing,0),1)),25),AG99),HYPERLINK(\"#'Select LEA'!\"&\"$AA$10\",AG99))","v":""},{"$f":"IFERROR(HYPERLINK(\"#'Select LEA'!\"&ADDRESS(ROW(INDEX(CurrentListing,MATCH('Category Set A by Age'!T99,CurrentListing,0),1)),25),AH99),HYPERLINK(\"#'Select LEA'!\"&\"$AA$10\",AH99))","v":""},{"$f":"IFERROR(HYPERLINK(\"#'Select LEA'!\"&ADDRESS(ROW(INDEX(CurrentListing,MATCH('Category Set A by Age'!U99,CurrentListing,0),1)),25),AI99),HYPERLINK(\"#'Select LEA'!\"&\"$AA$10\",AI99))","v":""},{"$f":"IFERROR(HYPERLINK(\"#'Select LEA'!\"&ADDRESS(ROW(INDEX(CurrentListing,MATCH('Category Set A by Age'!V99,CurrentListing,0),1)),25),AJ99),HYPERLINK(\"#'Select LEA'!\"&\"$AA$10\",AJ99))","v":""},{"$f":"IFERROR(HYPERLINK(\"#'Select LEA'!\"&ADDRESS(ROW(INDEX(CurrentListing,MATCH('Category Set A by Age'!W99,CurrentListing,0),1)),25),AK99),HYPERLINK(\"#'Select LEA'!\"&\"$AA$10\",AK99))","v":""},{"$f":"IFERROR(HYPERLINK(\"#'Select LEA'!\"&ADDRESS(ROW(INDEX(CurrentListing,MATCH('Category Set A by Age'!X99,CurrentListing,0),1)),25),AL99),HYPERLINK(\"#'Select LEA'!\"&\"$AA$10\",AL99))","v":""},{"$f":"IFERROR(HYPERLINK(\"#'Select LEA'!\"&ADDRESS(ROW(INDEX(CurrentListing,MATCH('Category Set A by Age'!Y99,CurrentListing,0),1)),25),AM99),HYPERLINK(\"#'Select LEA'!\"&\"$AA$10\",AM99))","v":""},{"$f":"IFERROR(HYPERLINK(\"#'Select LEA'!\"&ADDRESS(ROW(INDEX(CurrentListing,MATCH('Category Set A by Age'!Z99,CurrentListing,0),1)),25),AN99),HYPERLINK(\"#'Select LEA'!\"&\"$AA$10\",AN99))","v":""},{"$f":"IFERROR(HYPERLINK(\"#'Select LEA'!\"&ADDRESS(ROW(INDEX(CurrentListing,MATCH('Category Set A by Age'!AA99,CurrentListing,0),1)),25),AO99),HYPERLINK(\"#'Select LEA'!\"&\"$AA$10\",AO99))","v":""},{"$f":"IFERROR(HYPERLINK(\"#'Select LEA'!\"&ADDRESS(ROW(INDEX(CurrentListing,MATCH('Category Set A by Age'!AB99,CurrentListing,0),1)),25),AP99),HYPERLINK(\"#'Select LEA'!\"&\"$AA$10\",AP99))","v":""},"",null,null,"ID17DN","HI17DN","SLI17DN","VI17DN","EMN17DN","OI17DN","OHI17DN","SLD17DN","DB17DN","MD17DN","AUT17DN","TBI17DN",null,"Died",{"$f":"IFERROR(IF(INDEX(StudCntC009,MATCH(Q99,CurrentListing,0))=\"\",\"No Data\",INDEX(StudCntC009,MATCH(Q99,CurrentListing,0))),\"\")","v":""},"","","","","","","","","","","",{"$f":"SUM(AE99:AP99)","v":0}]
["Moved, known to be continuing",{"$f":"IFERROR(HYPERLINK(\"#'Select LEA'!\"&ADDRESS(ROW(INDEX(CurrentListing,MATCH('Category Set A by Age'!Q100,CurrentListing,0),1)),25),AE100),HYPERLINK(\"#'Select LEA'!\"&\"$AA$10\",AE100))","v":""},{"$f":"IFERROR(HYPERLINK(\"#'Select LEA'!\"&ADDRESS(ROW(INDEX(CurrentListing,MATCH('Category Set A by Age'!R100,CurrentListing,0),1)),25),AF100),HYPERLINK(\"#'Select LEA'!\"&\"$AA$10\",AF100))","v":""},{"$f":"IFERROR(HYPERLINK(\"#'Select LEA'!\"&ADDRESS(ROW(INDEX(CurrentListing,MATCH('Category Set A by Age'!S100,CurrentListing,0),1)),25),AG100),HYPERLINK(\"#'Select LEA'!\"&\"$AA$10\",AG100))","v":""},{"$f":"IFERROR(HYPERLINK(\"#'Select LEA'!\"&ADDRESS(ROW(INDEX(CurrentListing,MATCH('Category Set A by Age'!T100,CurrentListing,0),1)),25),AH100),HYPERLINK(\"#'Select LEA'!\"&\"$AA$10\",AH100))","v":""},{"$f":"IFERROR(HYPERLINK(\"#'Select LEA'!\"&ADDRESS(ROW(INDEX(CurrentListing,MATCH('Category Set A by Age'!U100,CurrentListing,0),1)),25),AI100),HYPERLINK(\"#'Select LEA'!\"&\"$AA$10\",AI100))","v":""},{"$f":"IFERROR(HYPERLINK(\"#'Select LEA'!\"&ADDRESS(ROW(INDEX(CurrentListing,MATCH('Category Set A by Age'!V100,CurrentListing,0),1)),25),AJ100),HYPERLINK(\"#'Select LEA'!\"&\"$AA$10\",AJ100))","v":""},{"$f":"IFERROR(HYPERLINK(\"#'Select LEA'!\"&ADDRESS(ROW(INDEX(CurrentListing,MATCH('Category Set A by Age'!W100,CurrentListing,0),1)),25),AK100),HYPERLINK(\"#'Select LEA'!\"&\"$AA$10\",AK100))","v":""},{"$f":"IFERROR(HYPERLINK(\"#'Select LEA'!\"&ADDRESS(ROW(INDEX(CurrentListing,MATCH('Category Set A by Age'!X100,CurrentListing,0),1)),25),AL100),HYPERLINK(\"#'Select LEA'!\"&\"$AA$10\",AL100))","v":""},{"$f":"IFERROR(HYPERLINK(\"#'Select LEA'!\"&ADDRESS(ROW(INDEX(CurrentListing,MATCH('Category Set A by Age'!Y100,CurrentListing,0),1)),25),AM100),HYPERLINK(\"#'Select LEA'!\"&\"$AA$10\",AM100))","v":""},{"$f":"IFERROR(HYPERLINK(\"#'Select LEA'!\"&ADDRESS(ROW(INDEX(CurrentListing,MATCH('Category Set A by Age'!Z100,CurrentListing,0),1)),25),AN100),HYPERLINK(\"#'Select LEA'!\"&\"$AA$10\",AN100))","v":""},{"$f":"IFERROR(HYPERLINK(\"#'Select LEA'!\"&ADDRESS(ROW(INDEX(CurrentListing,MATCH('Category Set A by Age'!AA100,CurrentListing,0),1)),25),AO100),HYPERLINK(\"#'Select LEA'!\"&\"$AA$10\",AO100))","v":""},{"$f":"IFERROR(HYPERLINK(\"#'Select LEA'!\"&ADDRESS(ROW(INDEX(CurrentListing,MATCH('Category Set A by Age'!AB100,CurrentListing,0),1)),25),AP100),HYPERLINK(\"#'Select LEA'!\"&\"$AA$10\",AP100))","v":""},"",null,null,"ID17MKCN","HI17MKCN","SLI17MKCN","VI17MKCN","EMN17MKCN","OI17MKCN","OHI17MKCN","SLD17MKCN","DB17MKCN","MD17MKCN","AUT17MKCN","TBI17MKCN",null,"Moved, known to be continuing","","","","","","","","","","","","",{"$f":"SUM(AE100:AP100)","v":0}]
["Dropped out",{"$f":"IFERROR(HYPERLINK(\"#'Select LEA'!\"&ADDRESS(ROW(INDEX(CurrentListing,MATCH('Category Set A by Age'!Q101,CurrentListing,0),1)),25),AE101),HYPERLINK(\"#'Select LEA'!\"&\"$AA$10\",AE101))","v":""},{"$f":"IFERROR(HYPERLINK(\"#'Select LEA'!\"&ADDRESS(ROW(INDEX(CurrentListing,MATCH('Category Set A by Age'!R101,CurrentListing,0),1)),25),AF101),HYPERLINK(\"#'Select LEA'!\"&\"$AA$10\",AF101))","v":""},{"$f":"IFERROR(HYPERLINK(\"#'Select LEA'!\"&ADDRESS(ROW(INDEX(CurrentListing,MATCH('Category Set A by Age'!S101,CurrentListing,0),1)),25),AG101),HYPERLINK(\"#'Select LEA'!\"&\"$AA$10\",AG101))","v":""},{"$f":"IFERROR(HYPERLINK(\"#'Select LEA'!\"&ADDRESS(ROW(INDEX(CurrentListing,MATCH('Category Set A by Age'!T101,CurrentListing,0),1)),25),AH101),HYPERLINK(\"#'Select LEA'!\"&\"$AA$10\",AH101))","v":""},{"$f":"IFERROR(HYPERLINK(\"#'Select LEA'!\"&ADDRESS(ROW(INDEX(CurrentListing,MATCH('Category Set A by Age'!U101,CurrentListing,0),1)),25),AI101),HYPERLINK(\"#'Select LEA'!\"&\"$AA$10\",AI101))","v":""},{"$f":"IFERROR(HYPERLINK(\"#'Select LEA'!\"&ADDRESS(ROW(INDEX(CurrentListing,MATCH('Category Set A by Age'!V101,CurrentListing,0),1)),25),AJ101),HYPERLINK(\"#'Select LEA'!\"&\"$AA$10\",AJ101))","v":""},{"$f":"IFERROR(HYPERLINK(\"#'Select LEA'!\"&ADDRESS(ROW(INDEX(CurrentListing,MATCH('Category Set A by Age'!W101,CurrentListing,0),1)),25),AK101),HYPERLINK(\"#'Select LEA'!\"&\"$AA$10\",AK101))","v":""},{"$f":"IFERROR(HYPERLINK(\"#'Select LEA'!\"&ADDRESS(ROW(INDEX(CurrentListing,MATCH('Category Set A by Age'!X101,CurrentListing,0),1)),25),AL101),HYPERLINK(\"#'Select LEA'!\"&\"$AA$10\",AL101))","v":""},{"$f":"IFERROR(HYPERLINK(\"#'Select LEA'!\"&ADDRESS(ROW(INDEX(CurrentListing,MATCH('Category Set A by Age'!Y101,CurrentListing,0),1)),25),AM101),HYPERLINK(\"#'Select LEA'!\"&\"$AA$10\",AM101))","v":""},{"$f":"IFERROR(HYPERLINK(\"#'Select LEA'!\"&ADDRESS(ROW(INDEX(CurrentListing,MATCH('Category Set A by Age'!Z101,CurrentListing,0),1)),25),AN101),HYPERLINK(\"#'Select LEA'!\"&\"$AA$10\",AN101))","v":""},{"$f":"IFERROR(HYPERLINK(\"#'Select LEA'!\"&ADDRESS(ROW(INDEX(CurrentListing,MATCH('Category Set A by Age'!AA101,CurrentListing,0),1)),25),AO101),HYPERLINK(\"#'Select LEA'!\"&\"$AA$10\",AO101))","v":""},{"$f":"IFERROR(HYPERLINK(\"#'Select LEA'!\"&ADDRESS(ROW(INDEX(CurrentListing,MATCH('Category Set A by Age'!AB101,CurrentListing,0),1)),25),AP101),HYPERLINK(\"#'Select LEA'!\"&\"$AA$10\",AP101))","v":""},"",null,null,"ID17DROPOUTN","HI17DROPOUTN","SLI17DROPOUTN","VI17DROPOUTN","EMN17DROPOUTN","OI17DROPOUTN","OHI17DROPOUTN","SLD17DROPOUTN","DB17DROPOUTN","MD17DROPOUTN","AUT17DROPOUTN","TBI17DROPOUTN",null,"Dropped out","","","","","","","","","","","","",{"$f":"SUM(AE101:AP101)","v":0}]
["Total",{"$f":"IF(SUM(B94:B101)=0,\"\",SUM(B94:B101))","v":""},{"$f":"IF(SUM(C94:C101)=0,\"\",SUM(C94:C101))","v":""},"","","","","","","","","","",{"$f":"IF(AND(N4=\"\",N5=\"\",N6=\"\",N7=\"\",N8=\"\",N9=\"\",N10=\"\",N11=\"\"),\"\",SUM(B94:M101))","v":""},null,null,null,null,null,null,null,null,null,null,null,null,null,null,"17Y","Total",{"$f":"SUM(AE94:AE101)","v":0},{"$f":"SUM(AF94:AF101)","v":0},0,0,0,0,0,0,0,0,0,0,{"$f":"IFERROR(IF(INDEX(StudCntC009,MATCH(AC102,CurrentListing,0))=\"\",\"No Data\",INDEX(StudCntC009,MATCH(AC102,CurrentListing,0))),\"\")","v":""}]
[]
["Percent by basis of exit","Age 17"]
[null,"Intellectual\ndisability\n(percent)","Hearing\nimpairment\n(percent)","Speech or\nlanguage\nimpairment\n(percent)","Visual\nimpairment\n(percent)","Emotional\ndisturbance\n(percent)","Orthopedic\nimpairment\n(percent)","Other\nhealth\nimpairment\n(percent)","Specific\nlearning\ndisability\n(percent)","Deaf-\nblindness\n(percent)","Multiple\ndisabilities\n(percent)","Autism\n(Percent)","Traumatic\nbrain\ninjury\n(percent)","Total\n(percent)"]
["Transferred to regular education",{"$f":"IF(ISERROR(B94/$N94),IF(B94=\"\", \"\",0), B94/$N94)","v":""},"","","","","","","","","","","",{"$f":"IF(SUM(B106:M106)=0,\"\",SUM(B106:M106))","v":""}]
["Graduated with regular high school diploma",{"$f":"IF(ISERROR(B95/$N95),IF(B95=\"\", \"\",0), B95/$N95)","v":""},"","","","","","","","","","","",{"$f":"IF(SUM(B107:M107)=0,\"\",SUM(B107:M107))","v":""}]
["Graduated with an alternate diploma",{"$f":"IF(ISERROR(B96/$N96),IF(B96=\"\", \"\",0), B96/$N96)","v":""},"","","","","","","","","","","",""]
["Received a certificate",{"$f":"IF(ISERROR(B97/$N97),IF(B97=\"\", \"\",0), B97/$N97)","v":""},"","","","","","","","","","","",""]
["Reached maximum age",null,null,null,null,null,null,null,null,null,null,null,null,""]
["Died",{"$f":"IF(ISERROR(B99/$N99),IF(B99=\"\", \"\",0), B99/$N99)","v":""},"","","","","","","","","","","",""]
["Moved, known to be continuing",{"$f":"IF(ISERROR(B100/$N100),IF(B100=\"\", \"\",0), B100/$N100)","v":""},"","","","","","","","","","","",""]
["Dropped out",{"$f":"IF(ISERROR(B101/$N101),IF(B101=\"\", \"\",0), B101/$N101)","v":""},"","","","","","","","","","","",""]
["Total",{"$f":"IFERROR(IF($N102<>0,B102/$N102,0),\"\")","v":""},{"$f":"IFERROR(IF($N102<>0,C102/$N102,0),\"\")","v":""},"","","","","","","","","","",{"$f":"SUM(B114:M114)","v":0}]
[]
["Category set A – Children with disabilities (IDEA) exiting special education, by age, disability category, and basis of exit"]
["Student count by basis of exit ","Age 18",null,null,null,null,null,null,null,null,null,null,null,null,null,null,"Age 18 Lookup",null,null,null,null,null,null,null,null,null,null,null,null,"Student counts by basis of exit","Age 18"]
[null,"Intellectual\ndisability","Hearing\nimpairment","Speech or\nlanguage\nimpairment","Visual\nimpairment","Emotional\ndisturbance","Orthopedic\nimpairment","Other\nhealth\nimpairment","Specific\nlearning\ndisability","Deaf-\nblindness","Multiple\ndisabilities","Autism","Traumatic\nbrain\ninjury","Total",null,null,null,null,null,null,null,null,null,null,null,null,null,null,null,null,"Intellectual\nDisability","Hearing\nImpairments","Speech or\nLanguage\nImpairments","Visual\nImpairments","Emotional\nDisturbance","Orthopedic\nImpairments","Other\nHealth\nImpairments","Specific\nLearning\nDisabilities","Deaf-\nBlindness","Multiple\nDisabilities","Autism","Traumatic\nBrain\nInjury","Total"]
["Transferred to regular education",{"$f":"IFERROR(HYPERLINK(\"#'Select LEA'!\"&ADDRESS(ROW(INDEX(CurrentListing,MATCH('Category Set A by Age'!Q119,CurrentListing,0),1)),25),AE119),HYPERLINK(\"#'Select LEA'!\"&\"$AA$10\",AE119))","v":""},{"$f":"IFERROR(HYPERLINK(\"#'Select LEA'!\"&ADDRESS(ROW(INDEX(CurrentListing,MATCH('Category Set A by Age'!R119,CurrentListing,0),1)),25),AF119),HYPERLINK(\"#'Select LEA'!\"&\"$AA$10\",AF119))","v":""},{"$f":"IFERROR(HYPERLINK(\"#'Select LEA'!\"&ADDRESS(ROW(INDEX(CurrentListing,MATCH('Category Set A by Age'!S119,CurrentListing,0),1)),25),AG119),HYPERLINK(\"#'Select LEA'!\"&\"$AA$10\",AG119))","v":""},{"$f":"IFERROR(HYPERLINK(\"#'Select LEA'!\"&ADDRESS(ROW(INDEX(CurrentListing,MATCH('Category Set A by Age'!T119,CurrentListing,0),1)),25),AH119),HYPERLINK(\"#'Select LEA'!\"&\"$AA$10\",AH119))","v":""},{"$f":"IFERROR(HYPERLINK(\"#'Select LEA'!\"&ADDRESS(ROW(INDEX(CurrentListing,MATCH('Category Set A by Age'!U119,CurrentListing,0),1)),25),AI119),HYPERLINK(\"#'Select LEA'!\"&\"$AA$10\",AI119))","v":""},{"$f":"IFERROR(HYPERLINK(\"#'Select LEA'!\"&ADDRESS(ROW(INDEX(CurrentListing,MATCH('Category Set A by Age'!V119,CurrentListing,0),1)),25),AJ119),HYPERLINK(\"#'Select LEA'!\"&\"$AA$10\",AJ119))","v":""},{"$f":"IFERROR(HYPERLINK(\"#'Select LEA'!\"&ADDRESS(ROW(INDEX(CurrentListing,MATCH('Category Set A by Age'!W119,CurrentListing,0),1)),25),AK119),HYPERLINK(\"#'Select LEA'!\"&\"$AA$10\",AK119))","v":""},{"$f":"IFERROR(HYPERLINK(\"#'Select LEA'!\"&ADDRESS(ROW(INDEX(CurrentListing,MATCH('Category Set A by Age'!X119,CurrentListing,0),1)),25),AL119),HYPERLINK(\"#'Select LEA'!\"&\"$AA$10\",AL119))","v":""},{"$f":"IFERROR(HYPERLINK(\"#'Select LEA'!\"&ADDRESS(ROW(INDEX(CurrentListing,MATCH('Category Set A by Age'!Y119,CurrentListing,0),1)),25),AM119),HYPERLINK(\"#'Select LEA'!\"&\"$AA$10\",AM119))","v":""},{"$f":"IFERROR(HYPERLINK(\"#'Select LEA'!\"&ADDRESS(ROW(INDEX(CurrentListing,MATCH('Category Set A by Age'!Z119,CurrentListing,0),1)),25),AN119),HYPERLINK(\"#'Select LEA'!\"&\"$AA$10\",AN119))","v":""},{"$f":"IFERROR(HYPERLINK(\"#'Select LEA'!\"&ADDRESS(ROW(INDEX(CurrentListing,MATCH('Category Set A by Age'!AA119,CurrentListing,0),1)),25),AO119),HYPERLINK(\"#'Select LEA'!\"&\"$AA$10\",AO119))","v":""},{"$f":"IFERROR(HYPERLINK(\"#'Select LEA'!\"&ADDRESS(ROW(INDEX(CurrentListing,MATCH('Category Set A by Age'!AB119,CurrentListing,0),1)),25),AP119),HYPERLINK(\"#'Select LEA'!\"&\"$AA$10\",AP119))","v":""},{"$f":"IF(SUM(B119:M119)=0,\"\",(SUM(B119:M119)))","v":""},null,null,"ID18TRANN","HI18TRANN","SLI18TRANN","VI18TRANN","EMN18TRANN","OI18TRANN","OHI18TRANN","SLD18TRANN","DB18TRANN","MD18TRANN","AUT18TRANN","TBI18TRANN",null,"Transferred to regular education",{"$f":"IFERROR(IF(INDEX(StudCntC009,MATCH(Q119,CurrentListing,0))=\"\",\"No Data\",INDEX(StudCntC009,MATCH(Q119,CurrentListing,0))),\"\")","v":""},"","","","","","","","","","","",{"$f":"SUM(AE119:AP119)","v":0}]
["Graduated with regular high school diploma",{"$f":"IFERROR(HYPERLINK(\"#'Select LEA'!\"&ADDRESS(ROW(INDEX(CurrentListing,MATCH('Category Set A by Age'!Q120,CurrentListing,0),1)),25),AE120),HYPERLINK(\"#'Select LEA'!\"&\"$AA$10\",AE120))","v":""},{"$f":"IFERROR(HYPERLINK(\"#'Select LEA'!\"&ADDRESS(ROW(INDEX(CurrentListing,MATCH('Category Set A by Age'!R120,CurrentListing,0),1)),25),AF120),HYPERLINK(\"#'Select LEA'!\"&\"$AA$10\",AF120))","v":""},{"$f":"IFERROR(HYPERLINK(\"#'Select LEA'!\"&ADDRESS(ROW(INDEX(CurrentListing,MATCH('Category Set A by Age'!S120,CurrentListing,0),1)),25),AG120),HYPERLINK(\"#'Select LEA'!\"&\"$AA$10\",AG120))","v":""},{"$f":"IFERROR(HYPERLINK(\"#'Select LEA'!\"&ADDRESS(ROW(INDEX(CurrentListing,MATCH('Category Set A by Age'!T120,CurrentListing,0),1)),25),AH120),HYPERLINK(\"#'Select LEA'!\"&\"$AA$10\",AH120))","v":""},{"$f":"IFERROR(HYPERLINK(\"#'Select LEA'!\"&ADDRESS(ROW(INDEX(CurrentListing,MATCH('Category Set A by Age'!U120,CurrentListing,0),1)),25),AI120),HYPERLINK(\"#'Select LEA'!\"&\"$AA$10\",AI120))","v":""},{"$f":"IFERROR(HYPERLINK(\"#'Select LEA'!\"&ADDRESS(ROW(INDEX(CurrentListing,MATCH('Category Set A by Age'!V120,CurrentListing,0),1)),25),AJ120),HYPERLINK(\"#'Select LEA'!\"&\"$AA$10\",AJ120))","v":""},{"$f":"IFERROR(HYPERLINK(\"#'Select LEA'!\"&ADDRESS(ROW(INDEX(CurrentListing,MATCH('Category Set A by Age'!W120,CurrentListing,0),1)),25),AK120),HYPERLINK(\"#'Select LEA'!\"&\"$AA$10\",AK120))","v":""},{"$f":"IFERROR(HYPERLINK(\"#'Select LEA'!\"&ADDRESS(ROW(INDEX(CurrentListing,MATCH('Category Set A by Age'!X120,CurrentListing,0),1)),25),AL120),HYPERLINK(\"#'Select LEA'!\"&\"$AA$10\",AL120))","v":""},{"$f":"IFERROR(HYPERLINK(\"#'Select LEA'!\"&ADDRESS(ROW(INDEX(CurrentListing,MATCH('Category Set A by Age'!Y120,CurrentListing,0),1)),25),AM120),HYPERLINK(\"#'Select LEA'!\"&\"$AA$10\",AM120))","v":""},{"$f":"IFERROR(HYPERLINK(\"#'Select LEA'!\"&ADDRESS(ROW(INDEX(CurrentListing,MATCH('Category Set A by Age'!Z120,CurrentListing,0),1)),25),AN120),HYPERLINK(\"#'Select LEA'!\"&\"$AA$10\",AN120))","v":""},{"$f":"IFERROR(HYPERLINK(\"#'Select LEA'!\"&ADDRESS(ROW(INDEX(CurrentListing,MATCH('Category Set A by Age'!AA120,CurrentListing,0),1)),25),AO120),HYPERLINK(\"#'Select LEA'!\"&\"$AA$10\",AO120))","v":""},{"$f":"IFERROR(HYPERLINK(\"#'Select LEA'!\"&ADDRESS(ROW(INDEX(CurrentListing,MATCH('Category Set A by Age'!AB120,CurrentListing,0),1)),25),AP120),HYPERLINK(\"#'Select LEA'!\"&\"$AA$10\",AP120))","v":""},{"$f":"IF(SUM(B120:M120)=0,\"\",(SUM(B120:M120)))","v":""},null,null,"ID18GHSN","HI18GHSN","SLI18GHSN","VI18GHSN","EMN18GHSN","OI18GHSN","OHI18GHSN","SLD18GHSN","DB18GHSN","MD18GHSN","AUT18GHSN","TBI18GHSN",null,"Graduated with regular high school diploma","","","","","","","","","","","","",0]
["Graduated with an alternate diploma",{"$f":"IFERROR(HYPERLINK(\"#'Select LEA'!\"&ADDRESS(ROW(INDEX(CurrentListing,MATCH('Category Set A by Age'!Q121,CurrentListing,0),1)),25),AE121),HYPERLINK(\"#'Select LEA'!\"&\"$AA$10\",AE121))","v":""},{"$f":"IFERROR(HYPERLINK(\"#'Select LEA'!\"&ADDRESS(ROW(INDEX(CurrentListing,MATCH('Category Set A by Age'!R121,CurrentListing,0),1)),25),AF121),HYPERLINK(\"#'Select LEA'!\"&\"$AA$10\",AF121))","v":""},{"$f":"IFERROR(HYPERLINK(\"#'Select LEA'!\"&ADDRESS(ROW(INDEX(CurrentListing,MATCH('Category Set A by Age'!S121,CurrentListing,0),1)),25),AG121),HYPERLINK(\"#'Select LEA'!\"&\"$AA$10\",AG121))","v":""},{"$f":"IFERROR(HYPERLINK(\"#'Select LEA'!\"&ADDRESS(ROW(INDEX(CurrentListing,MATCH('Category Set A by Age'!T121,CurrentListing,0),1)),25),AH121),HYPERLINK(\"#'Select LEA'!\"&\"$AA$10\",AH121))","v":""},{"$f":"IFERROR(HYPERLINK(\"#'Select LEA'!\"&ADDRESS(ROW(INDEX(CurrentListing,MATCH('Category Set A by Age'!U121,CurrentListing,0),1)),25),AI121),HYPERLINK(\"#'Select LEA'!\"&\"$AA$10\",AI121))","v":""},{"$f":"IFERROR(HYPERLINK(\"#'Select LEA'!\"&ADDRESS(ROW(INDEX(CurrentListing,MATCH('Category Set A by Age'!V121,CurrentListing,0),1)),25),AJ121),HYPERLINK(\"#'Select LEA'!\"&\"$AA$10\",AJ121))","v":""},{"$f":"IFERROR(HYPERLINK(\"#'Select LEA'!\"&ADDRESS(ROW(INDEX(CurrentListing,MATCH('Category Set A by Age'!W121,CurrentListing,0),1)),25),AK121),HYPERLINK(\"#'Select LEA'!\"&\"$AA$10\",AK121))","v":""},{"$f":"IFERROR(HYPERLINK(\"#'Select LEA'!\"&ADDRESS(ROW(INDEX(CurrentListing,MATCH('Category Set A by Age'!X121,CurrentListing,0),1)),25),AL121),HYPERLINK(\"#'Select LEA'!\"&\"$AA$10\",AL121))","v":""},{"$f":"IFERROR(HYPERLINK(\"#'Select LEA'!\"&ADDRESS(ROW(INDEX(CurrentListing,MATCH('Category Set A by Age'!Y121,CurrentListing,0),1)),25),AM121),HYPERLINK(\"#'Select LEA'!\"&\"$AA$10\",AM121))","v":""},{"$f":"IFERROR(HYPERLINK(\"#'Select LEA'!\"&ADDRESS(ROW(INDEX(CurrentListing,MATCH('Category Set A by Age'!Z121,CurrentListing,0),1)),25),AN121),HYPERLINK(\"#'Select LEA'!\"&\"$AA$10\",AN121))","v":""},{"$f":"IFERROR(HYPERLINK(\"#'Select LEA'!\"&ADDRESS(ROW(INDEX(CurrentListing,MATCH('Category Set A by Age'!AA121,CurrentListing,0),1)),25),AO121),HYPERLINK(\"#'Select LEA'!\"&\"$AA$10\",AO121))","v":""},{"$f":"IFERROR(HYPERLINK(\"#'Select LEA'!\"&ADDRESS(ROW(INDEX(CurrentListing,MATCH('Category Set A by Age'!AB121,CurrentListing,0),1)),25),AP121),HYPERLINK(\"#'Select LEA'!\"&\"$AA$10\",AP121))","v":""},"",null,null,"ID18GRADALTDPLN","HI18GRADALTDPLN","SLI18GRADALTDPLN","VI18GRADALTDPLN","EMN18GRADALTDPLN","OI18GRADALTDPLN","OHI18GRADALTDPLN","SLD18GRADALTDPLN","DB18GRADALTDPLN","MD18GRADALTDPLN","AUT18GRADALTDPLN","TBI18GRADALTDPLN",null,"Graduated with an alternate diploma","","","","","","","","","","","","",0]
["Received a certificate",{"$f":"IFERROR(HYPERLINK(\"#'Select LEA'!\"&ADDRESS(ROW(INDEX(CurrentListing,MATCH('Category Set A by Age'!Q122,CurrentListing,0),1)),25),AE122),HYPERLINK(\"#'Select LEA'!\"&\"$AA$10\",AE122))","v":""},{"$f":"IFERROR(HYPERLINK(\"#'Select LEA'!\"&ADDRESS(ROW(INDEX(CurrentListing,MATCH('Category Set A by Age'!R122,CurrentListing,0),1)),25),AF122),HYPERLINK(\"#'Select LEA'!\"&\"$AA$10\",AF122))","v":""},{"$f":"IFERROR(HYPERLINK(\"#'Select LEA'!\"&ADDRESS(ROW(INDEX(CurrentListing,MATCH('Category Set A by Age'!S122,CurrentListing,0),1)),25),AG122),HYPERLINK(\"#'Select LEA'!\"&\"$AA$10\",AG122))","v":""},{"$f":"IFERROR(HYPERLINK(\"#'Select LEA'!\"&ADDRESS(ROW(INDEX(CurrentListing,MATCH('Category Set A by Age'!T122,CurrentListing,0),1)),25),AH122),HYPERLINK(\"#'Select LEA'!\"&\"$AA$10\",AH122))","v":""},{"$f":"IFERROR(HYPERLINK(\"#'Select LEA'!\"&ADDRESS(ROW(INDEX(CurrentListing,MATCH('Category Set A by Age'!U122,CurrentListing,0),1)),25),AI122),HYPERLINK(\"#'Select LEA'!\"&\"$AA$10\",AI122))","v":""},{"$f":"IFERROR(HYPERLINK(\"#'Select LEA'!\"&ADDRESS(ROW(INDEX(CurrentListing,MATCH('Category Set A by Age'!V122,CurrentListing,0),1)),25),AJ122),HYPERLINK(\"#'Select LEA'!\"&\"$AA$10\",AJ122))","v":""},{"$f":"IFERROR(HYPERLINK(\"#'Select LEA'!\"&ADDRESS(ROW(INDEX(CurrentListing,MATCH('Category Set A by Age'!W122,CurrentListing,0),1)),25),AK122),HYPERLINK(\"#'Select LEA'!\"&\"$AA$10\",AK122))","v":""},{"$f":"IFERROR(HYPERLINK(\"#'Select LEA'!\"&ADDRESS(ROW(INDEX(CurrentListing,MATCH('Category Set A by Age'!X122,CurrentListing,0),1)),25),AL122),HYPERLINK(\"#'Select LEA'!\"&\"$AA$10\",AL122))","v":""},{"$f":"IFERROR(HYPERLINK(\"#'Select LEA'!\"&ADDRESS(ROW(INDEX(CurrentListing,MATCH('Category Set A by Age'!Y122,CurrentListing,0),1)),25),AM122),HYPERLINK(\"#'Select LEA'!\"&\"$AA$10\",AM122))","v":""},{"$f":"IFERROR(HYPERLINK(\"#'Select LEA'!\"&ADDRESS(ROW(INDEX(CurrentListing,MATCH('Category Set A by Age'!Z122,CurrentListing,0),1)),25),AN122),HYPERLINK(\"#'Select LEA'!\"&\"$AA$10\",AN122))","v":""},{"$f":"IFERROR(HYPERLINK(\"#'Select LEA'!\"&ADDRESS(ROW(INDEX(CurrentListing,MATCH('Category Set A by Age'!AA122,CurrentListing,0),1)),25),AO122),HYPERLINK(\"#'Select LEA'!\"&\"$AA$10\",AO122))","v":""},{"$f":"IFERROR(HYPERLINK(\"#'Select LEA'!\"&ADDRESS(ROW(INDEX(CurrentListing,MATCH('Category Set A by Age'!AB122,CurrentListing,0),1)),25),AP122),HYPERLINK(\"#'Select LEA'!\"&\"$AA$10\",AP122))","v":""},"",null,null,"ID18RCN","HI18RCN","SLI18RCN","VI18RCN","EMN18RCN","OI18RCN","OHI18RCN","SLD18RCN","DB18RCN","MD18RCN","AUT18RCN","TBI18RCN",null,"Received a certificate","","","","","","","","","","","","",0]
["Reached maximum age",{"$f":"IFERROR(HYPERLINK(\"#'Select LEA'!\"&ADDRESS(ROW(INDEX(CurrentListing,MATCH('Category Set A by Age'!Q123,CurrentListing,0),1)),25),AE123),HYPERLINK(\"#'Select LEA'!\"&\"$AA$10\",AE123))","v":""},{"$f":"IFERROR(HYPERLINK(\"#'Select LEA'!\"&ADDRESS(ROW(INDEX(CurrentListing,MATCH('Category Set A by Age'!R123,CurrentListing,0),1)),25),AF123),HYPERLINK(\"#'Select LEA'!\"&\"$AA$10\",AF123))","v":""},{"$f":"IFERROR(HYPERLINK(\"#'Select LEA'!\"&ADDRESS(ROW(INDEX(CurrentListing,MATCH('Category Set A by Age'!S123,CurrentListing,0),1)),25),AG123),HYPERLINK(\"#'Select LEA'!\"&\"$AA$10\",AG123))","v":""},{"$f":"IFERROR(HYPERLINK(\"#'Select LEA'!\"&ADDRESS(ROW(INDEX(CurrentListing,MATCH('Category Set A by Age'!T123,CurrentListing,0),1)),25),AH123),HYPERLINK(\"#'Select LEA'!\"&\"$AA$10\",AH123))","v":""},{"$f":"IFERROR(HYPERLINK(\"#'Select LEA'!\"&ADDRESS(ROW(INDEX(CurrentListing,MATCH('Category Set A by Age'!U123,CurrentListing,0),1)),25),AI123),HYPERLINK(\"#'Select LEA'!\"&\"$AA$10\",AI123))","v":""},{"$f":"IFERROR(HYPERLINK(\"#'Select LEA'!\"&ADDRESS(ROW(INDEX(CurrentListing,MATCH('Category Set A by Age'!V123,CurrentListing,0),1)),25),AJ123),HYPERLINK(\"#'Select LEA'!\"&\"$AA$10\",AJ123))","v":""},{"$f":"IFERROR(HYPERLINK(\"#'Select LEA'!\"&ADDRESS(ROW(INDEX(CurrentListing,MATCH('Category Set A by Age'!W123,CurrentListing,0),1)),25),AK123),HYPERLINK(\"#'Select LEA'!\"&\"$AA$10\",AK123))","v":""},{"$f":"IFERROR(HYPERLINK(\"#'Select LEA'!\"&ADDRESS(ROW(INDEX(CurrentListing,MATCH('Category Set A by Age'!X123,CurrentListing,0),1)),25),AL123),HYPERLINK(\"#'Select LEA'!\"&\"$AA$10\",AL123))","v":""},{"$f":"IFERROR(HYPERLINK(\"#'Select LEA'!\"&ADDRESS(ROW(INDEX(CurrentListing,MATCH('Category Set A by Age'!Y123,CurrentListing,0),1)),25),AM123),HYPERLINK(\"#'Select LEA'!\"&\"$AA$10\",AM123))","v":""},{"$f":"IFERROR(HYPERLINK(\"#'Select LEA'!\"&ADDRESS(ROW(INDEX(CurrentListing,MATCH('Category Set A by Age'!Z123,CurrentListing,0),1)),25),AN123),HYPERLINK(\"#'Select LEA'!\"&\"$AA$10\",AN123))","v":""},{"$f":"IFERROR(HYPERLINK(\"#'Select LEA'!\"&ADDRESS(ROW(INDEX(CurrentListing,MATCH('Category Set A by Age'!AA123,CurrentListing,0),1)),25),AO123),HYPERLINK(\"#'Select LEA'!\"&\"$AA$10\",AO123))","v":""},{"$f":"IFERROR(HYPERLINK(\"#'Select LEA'!\"&ADDRESS(ROW(INDEX(CurrentListing,MATCH('Category Set A by Age'!AB123,CurrentListing,0),1)),25),AP123),HYPERLINK(\"#'Select LEA'!\"&\"$AA$10\",AP123))","v":""},"",null,null,"ID18RMAN","HI18RMAN","SLI18RMAN","VI18RMAN","EMN18RMAN","OI18RMAN","OHI18RMAN","SLD18RMAN","DB18RMAN","MD18RMAN","AUT18RMAN","TBI18RMAN",null,"Reached maximum age","","","","","","","","","","","","",0]
["Died",{"$f":"IFERROR(HYPERLINK(\"#'Select LEA'!\"&ADDRESS(ROW(INDEX(CurrentListing,MATCH('Category Set A by Age'!Q124,CurrentListing,0),1)),25),AE124),HYPERLINK(\"#'Select LEA'!\"&\"$AA$10\",AE124))","v":""},{"$f":"IFERROR(HYPERLINK(\"#'Select LEA'!\"&ADDRESS(ROW(INDEX(CurrentListing,MATCH('Category Set A by Age'!R124,CurrentListing,0),1)),25),AF124),HYPERLINK(\"#'Select LEA'!\"&\"$AA$10\",AF124))","v":""},{"$f":"IFERROR(HYPERLINK(\"#'Select LEA'!\"&ADDRESS(ROW(INDEX(CurrentListing,MATCH('Category Set A by Age'!S124,CurrentListing,0),1)),25),AG124),HYPERLINK(\"#'Select LEA'!\"&\"$AA$10\",AG124))","v":""},{"$f":"IFERROR(HYPERLINK(\"#'Select LEA'!\"&ADDRESS(ROW(INDEX(CurrentListing,MATCH('Category Set A by Age'!T124,CurrentListing,0),1)),25),AH124),HYPERLINK(\"#'Select LEA'!\"&\"$AA$10\",AH124))","v":""},{"$f":"IFERROR(HYPERLINK(\"#'Select LEA'!\"&ADDRESS(ROW(INDEX(CurrentListing,MATCH('Category Set A by Age'!U124,CurrentListing,0),1)),25),AI124),HYPERLINK(\"#'Select LEA'!\"&\"$AA$10\",AI124))","v":""},{"$f":"IFERROR(HYPERLINK(\"#'Select LEA'!\"&ADDRESS(ROW(INDEX(CurrentListing,MATCH('Category Set A by Age'!V124,CurrentListing,0),1)),25),AJ124),HYPERLINK(\"#'Select LEA'!\"&\"$AA$10\",AJ124))","v":""},{"$f":"IFERROR(HYPERLINK(\"#'Select LEA'!\"&ADDRESS(ROW(INDEX(CurrentListing,MATCH('Category Set A by Age'!W124,CurrentListing,0),1)),25),AK124),HYPERLINK(\"#'Select LEA'!\"&\"$AA$10\",AK124))","v":""},{"$f":"IFERROR(HYPERLINK(\"#'Select LEA'!\"&ADDRESS(ROW(INDEX(CurrentListing,MATCH('Category Set A by Age'!X124,CurrentListing,0),1)),25),AL124),HYPERLINK(\"#'Select LEA'!\"&\"$AA$10\",AL124))","v":""},{"$f":"IFERROR(HYPERLINK(\"#'Select LEA'!\"&ADDRESS(ROW(INDEX(CurrentListing,MATCH('Category Set A by Age'!Y124,CurrentListing,0),1)),25),AM124),HYPERLINK(\"#'Select LEA'!\"&\"$AA$10\",AM124))","v":""},{"$f":"IFERROR(HYPERLINK(\"#'Select LEA'!\"&ADDRESS(ROW(INDEX(CurrentListing,MATCH('Category Set A by Age'!Z124,CurrentListing,0),1)),25),AN124),HYPERLINK(\"#'Select LEA'!\"&\"$AA$10\",AN124))","v":""},{"$f":"IFERROR(HYPERLINK(\"#'Select LEA'!\"&ADDRESS(ROW(INDEX(CurrentListing,MATCH('Category Set A by Age'!AA124,CurrentListing,0),1)),25),AO124),HYPERLINK(\"#'Select LEA'!\"&\"$AA$10\",AO124))","v":""},{"$f":"IFERROR(HYPERLINK(\"#'Select LEA'!\"&ADDRESS(ROW(INDEX(CurrentListing,MATCH('Category Set A by Age'!AB124,CurrentListing,0),1)),25),AP124),HYPERLINK(\"#'Select LEA'!\"&\"$AA$10\",AP124))","v":""},"",null,null,"ID18DN","HI18DN","SLI18DN","VI18DN","EMN18DN","OI18DN","OHI18DN","SLD18DN","DB18DN","MD18DN","AUT18DN","TBI18DN",null,"Died","","","","","","","","","","","","",0]
["Moved, known to be continuing",{"$f":"IFERROR(HYPERLINK(\"#'Select LEA'!\"&ADDRESS(ROW(INDEX(CurrentListing,MATCH('Category Set A by Age'!Q125,CurrentListing,0),1)),25),AE125),HYPERLINK(\"#'Select LEA'!\"&\"$AA$10\",AE125))","v":""},{"$f":"IFERROR(HYPERLINK(\"#'Select LEA'!\"&ADDRESS(ROW(INDEX(CurrentListing,MATCH('Category Set A by Age'!R125,CurrentListing,0),1)),25),AF125),HYPERLINK(\"#'Select LEA'!\"&\"$AA$10\",AF125))","v":""},{"$f":"IFERROR(HYPERLINK(\"#'Select LEA'!\"&ADDRESS(ROW(INDEX(CurrentListing,MATCH('Category Set A by Age'!S125,CurrentListing,0),1)),25),AG125),HYPERLINK(\"#'Select LEA'!\"&\"$AA$10\",AG125))","v":""},{"$f":"IFERROR(HYPERLINK(\"#'Select LEA'!\"&ADDRESS(ROW(INDEX(CurrentListing,MATCH('Category Set A by Age'!T125,CurrentListing,0),1)),25),AH125),HYPERLINK(\"#'Select LEA'!\"&\"$AA$10\",AH125))","v":""},{"$f":"IFERROR(HYPERLINK(\"#'Select LEA'!\"&ADDRESS(ROW(INDEX(CurrentListing,MATCH('Category Set A by Age'!U125,CurrentListing,0),1)),25),AI125),HYPERLINK(\"#'Select LEA'!\"&\"$AA$10\",AI125))","v":""},{"$f":"IFERROR(HYPERLINK(\"#'Select LEA'!\"&ADDRESS(ROW(INDEX(CurrentListing,MATCH('Category Set A by Age'!V125,CurrentListing,0),1)),25),AJ125),HYPERLINK(\"#'Select LEA'!\"&\"$AA$10\",AJ125))","v":""},{"$f":"IFERROR(HYPERLINK(\"#'Select LEA'!\"&ADDRESS(ROW(INDEX(CurrentListing,MATCH('Category Set A by Age'!W125,CurrentListing,0),1)),25),AK125),HYPERLINK(\"#'Select LEA'!\"&\"$AA$10\",AK125))","v":""},{"$f":"IFERROR(HYPERLINK(\"#'Select LEA'!\"&ADDRESS(ROW(INDEX(CurrentListing,MATCH('Category Set A by Age'!X125,CurrentListing,0),1)),25),AL125),HYPERLINK(\"#'Select LEA'!\"&\"$AA$10\",AL125))","v":""},{"$f":"IFERROR(HYPERLINK(\"#'Select LEA'!\"&ADDRESS(ROW(INDEX(CurrentListing,MATCH('Category Set A by Age'!Y125,CurrentListing,0),1)),25),AM125),HYPERLINK(\"#'Select LEA'!\"&\"$AA$10\",AM125))","v":""},{"$f":"IFERROR(HYPERLINK(\"#'Select LEA'!\"&ADDRESS(ROW(INDEX(CurrentListing,MATCH('Category Set A by Age'!Z125,CurrentListing,0),1)),25),AN125),HYPERLINK(\"#'Select LEA'!\"&\"$AA$10\",AN125))","v":""},{"$f":"IFERROR(HYPERLINK(\"#'Select LEA'!\"&ADDRESS(ROW(INDEX(CurrentListing,MATCH('Category Set A by Age'!AA125,CurrentListing,0),1)),25),AO125),HYPERLINK(\"#'Select LEA'!\"&\"$AA$10\",AO125))","v":""},{"$f":"IFERROR(HYPERLINK(\"#'Select LEA'!\"&ADDRESS(ROW(INDEX(CurrentListing,MATCH('Category Set A by Age'!AB125,CurrentListing,0),1)),25),AP125),HYPERLINK(\"#'Select LEA'!\"&\"$AA$10\",AP125))","v":""},"",null,null,"ID18MKCN","HI18MKCN","SLI18MKCN","VI18MKCN","EMN18MKCN","OI18MKCN","OHI18MKCN","SLD18MKCN","DB18MKCN","MD18MKCN","AUT18MKCN","TBI18MKCN",null,"Moved, known to be continuing","","","","","","","","","","","","",0]
["Dropped out",{"$f":"IFERROR(HYPERLINK(\"#'Select LEA'!\"&ADDRESS(ROW(INDEX(CurrentListing,MATCH('Category Set A by Age'!Q126,CurrentListing,0),1)),25),AE126),HYPERLINK(\"#'Select LEA'!\"&\"$AA$10\",AE126))","v":""},{"$f":"IFERROR(HYPERLINK(\"#'Select LEA'!\"&ADDRESS(ROW(INDEX(CurrentListing,MATCH('Category Set A by Age'!R126,CurrentListing,0),1)),25),AF126),HYPERLINK(\"#'Select LEA'!\"&\"$AA$10\",AF126))","v":""},{"$f":"IFERROR(HYPERLINK(\"#'Select LEA'!\"&ADDRESS(ROW(INDEX(CurrentListing,MATCH('Category Set A by Age'!S126,CurrentListing,0),1)),25),AG126),HYPERLINK(\"#'Select LEA'!\"&\"$AA$10\",AG126))","v":""},{"$f":"IFERROR(HYPERLINK(\"#'Select LEA'!\"&ADDRESS(ROW(INDEX(CurrentListing,MATCH('Category Set A by Age'!T126,CurrentListing,0),1)),25),AH126),HYPERLINK(\"#'Select LEA'!\"&\"$AA$10\",AH126))","v":""},{"$f":"IFERROR(HYPERLINK(\"#'Select LEA'!\"&ADDRESS(ROW(INDEX(CurrentListing,MATCH('Category Set A by Age'!U126,CurrentListing,0),1)),25),AI126),HYPERLINK(\"#'Select LEA'!\"&\"$AA$10\",AI126))","v":""},{"$f":"IFERROR(HYPERLINK(\"#'Select LEA'!\"&ADDRESS(ROW(INDEX(CurrentListing,MATCH('Category Set A by Age'!V126,CurrentListing,0),1)),25),AJ126),HYPERLINK(\"#'Select LEA'!\"&\"$AA$10\",AJ126))","v":""},{"$f":"IFERROR(HYPERLINK(\"#'Select LEA'!\"&ADDRESS(ROW(INDEX(CurrentListing,MATCH('Category Set A by Age'!W126,CurrentListing,0),1)),25),AK126),HYPERLINK(\"#'Select LEA'!\"&\"$AA$10\",AK126))","v":""},{"$f":"IFERROR(HYPERLINK(\"#'Select LEA'!\"&ADDRESS(ROW(INDEX(CurrentListing,MATCH('Category Set A by Age'!X126,CurrentListing,0),1)),25),AL126),HYPERLINK(\"#'Select LEA'!\"&\"$AA$10\",AL126))","v":""},{"$f":"IFERROR(HYPERLINK(\"#'Select LEA'!\"&ADDRESS(ROW(INDEX(CurrentListing,MATCH('Category Set A by Age'!Y126,CurrentListing,0),1)),25),AM126),HYPERLINK(\"#'Select LEA'!\"&\"$AA$10\",AM126))","v":""},{"$f":"IFERROR(HYPERLINK(\"#'Select LEA'!\"&ADDRESS(ROW(INDEX(CurrentListing,MATCH('Category Set A by Age'!Z126,CurrentListing,0),1)),25),AN126),HYPERLINK(\"#'Select LEA'!\"&\"$AA$10\",AN126))","v":""},{"$f":"IFERROR(HYPERLINK(\"#'Select LEA'!\"&ADDRESS(ROW(INDEX(CurrentListing,MATCH('Category Set A by Age'!AA126,CurrentListing,0),1)),25),AO126),HYPERLINK(\"#'Select LEA'!\"&\"$AA$10\",AO126))","v":""},{"$f":"IFERROR(HYPERLINK(\"#'Select LEA'!\"&ADDRESS(ROW(INDEX(CurrentListing,MATCH('Category Set A by Age'!AB126,CurrentListing,0),1)),25),AP126),HYPERLINK(\"#'Select LEA'!\"&\"$AA$10\",AP126))","v":""},"",null,null,"ID18DROPOUTN","HI18DROPOUTN","SLI18DROPOUTN","VI18DROPOUTN","EMN18DROPOUTN","OI18DROPOUTN","OHI18DROPOUTN","SLD18DROPOUTN","DB18DROPOUTN","MD18DROPOUTN","AUT18DROPOUTN","TBI18DROPOUTN",null,"Dropped out","","","","","","","","","","","","",0]
["Total",{"$f":"IF(SUM(B119:B126)=0,\"\",SUM(B119:B126))","v":""},{"$f":"IF(SUM(C119:C126)=0,\"\",SUM(C119:C126))","v":""},"","","","","","","","","","",{"$f":"IF(AND(N4=\"\",N5=\"\",N6=\"\",N7=\"\",N8=\"\",N9=\"\",N10=\"\",N11=\"\"),\"\",SUM(B119:M126))","v":""},null,null,null,null,null,null,null,null,null,null,null,null,null,null,"18Y","Total",{"$f":"SUM(AE119:AE126)","v":0},{"$f":"SUM(AF119:AF126)","v":0},0,0,0,0,0,0,0,0,0,0,{"$f":"IFERROR(IF(INDEX(StudCntC009,MATCH(AC127,CurrentListing,0))=\"\",\"No Data\",INDEX(StudCntC009,MATCH(AC127,CurrentListing,0))),\"\")","v":""}]
[]
["Percent by basis of exit","Age 18"]
[null,"Intellectual\ndisability\n(percent)","Hearing\nimpairment\n(percent)","Speech or\nlanguage\nimpairment\n(percent)","Visual\nimpairment\n(percent)","Emotional\ndisturbance\n(percent)","Orthopedic\nimpairment\n(percent)","Other\nhealth\nimpairment\n(percent)","Specific\nlearning\ndisability\n(percent)","Deaf-\nblindness\n(percent)","Multiple\ndisabilities\n(percent)","Autism\n(Percent)","Traumatic\nbrain\ninjury\n(percent)","Total\n(percent)"]
["Transferred to regular education",{"$f":"IF(ISERROR(B119/$N119),IF(B119=\"\", \"\",0), B119/$N119)","v":""},"","","","","","","","","","","",{"$f":"IF(SUM(B131:M131)=0,\"\",SUM(B131:M131))","v":""}]
["Graduated with regular high school diploma",{"$f":"IF(ISERROR(B120/$N120),IF(B120=\"\", \"\",0), B120/$N120)","v":""},"","","","","","","","","","","",{"$f":"IF(SUM(B132:M132)=0,\"\",SUM(B132:M132))","v":""}]
["Graduated with an alternate diploma",{"$f":"IF(ISERROR(B121/$N121),IF(B121=\"\", \"\",0), B121/$N121)","v":""},"","","","","","","","","","","",""]
["Received a certificate",{"$f":"IF(ISERROR(B122/$N122),IF(B122=\"\", \"\",0), B122/$N122)","v":""},"","","","","","","","","","","",""]
["Reached maximum age",{"$f":"IF(ISERROR(B123/$N123),IF(B123=\"\", \"\",0), B123/$N123)","v":""},"","","","","","","","","","","",""]
["Died",{"$f":"IF(ISERROR(B124/$N124),IF(B124=\"\", \"\",0), B124/$N124)","v":""},"","","","","","","","","","","",""]
["Moved, known to be continuing",{"$f":"IF(ISERROR(B125/$N125),IF(B125=\"\", \"\",0), B125/$N125)","v":""},"","","","","","","","","","","",""]
["Dropped out",{"$f":"IF(ISERROR(B126/$N126),IF(B126=\"\", \"\",0), B126/$N126)","v":""},"","","","","","","","","","","",""]
["Total",{"$f":"IFERROR(IF($N127<>0,B127/$N127,0),\"\")","v":""},{"$f":"IFERROR(IF($N127<>0,C127/$N127,0),\"\")","v":""},"","","","","","","","","","",{"$f":"SUM(B139:M139)","v":0}]
[]
["Category set A – Children with disabilities (IDEA) exiting special education, by age, disability category, and basis of exit"]
["Student count by basis of exit ","Age 19",null,null,null,null,null,null,null,null,null,null,null,null,null,null,"Age 19 Lookup",null,null,null,null,null,null,null,null,null,null,null,null,"Student counts by basis of exit","Age 19"]
[null,"Intellectual\ndisability","Hearing\nimpairment","Speech or\nlanguage\nimpairment","Visual\nimpairment","Emotional\ndisturbance","Orthopedic\nimpairment","Other\nhealth\nimpairment","Specific\nlearning\ndisability","Deaf-\nblindness","Multiple\ndisabilities","Autism","Traumatic\nbrain\ninjury","Total",null,null,null,null,null,null,null,null,null,null,null,null,null,null,null,null,"Intellectual\nDisability","Hearing\nImpairments","Speech or\nLanguage\nImpairments","Visual\nImpairments","Emotional\nDisturbance","Orthopedic\nImpairments","Other\nHealth\nImpairments","Specific\nLearning\nDisabilities","Deaf-\nBlindness","Multiple\nDisabilities","Autism","Traumatic\nBrain\nInjury","Total"]
["Transferred to regular education",{"$f":"IFERROR(HYPERLINK(\"#'Select LEA'!\"&ADDRESS(ROW(INDEX(CurrentListing,MATCH('Category Set A by Age'!Q144,CurrentListing,0),1)),25),AE144),HYPERLINK(\"#'Select LEA'!\"&\"$AA$10\",AE144))","v":""},{"$f":"IFERROR(HYPERLINK(\"#'Select LEA'!\"&ADDRESS(ROW(INDEX(CurrentListing,MATCH('Category Set A by Age'!R144,CurrentListing,0),1)),25),AF144),HYPERLINK(\"#'Select LEA'!\"&\"$AA$10\",AF144))","v":""},{"$f":"IFERROR(HYPERLINK(\"#'Select LEA'!\"&ADDRESS(ROW(INDEX(CurrentListing,MATCH('Category Set A by Age'!S144,CurrentListing,0),1)),25),AG144),HYPERLINK(\"#'Select LEA'!\"&\"$AA$10\",AG144))","v":""},{"$f":"IFERROR(HYPERLINK(\"#'Select LEA'!\"&ADDRESS(ROW(INDEX(CurrentListing,MATCH('Category Set A by Age'!T144,CurrentListing,0),1)),25),AH144),HYPERLINK(\"#'Select LEA'!\"&\"$AA$10\",AH144))","v":""},{"$f":"IFERROR(HYPERLINK(\"#'Select LEA'!\"&ADDRESS(ROW(INDEX(CurrentListing,MATCH('Category Set A by Age'!U144,CurrentListing,0),1)),25),AI144),HYPERLINK(\"#'Select LEA'!\"&\"$AA$10\",AI144))","v":""},{"$f":"IFERROR(HYPERLINK(\"#'Select LEA'!\"&ADDRESS(ROW(INDEX(CurrentListing,MATCH('Category Set A by Age'!V144,CurrentListing,0),1)),25),AJ144),HYPERLINK(\"#'Select LEA'!\"&\"$AA$10\",AJ144))","v":""},{"$f":"IFERROR(HYPERLINK(\"#'Select LEA'!\"&ADDRESS(ROW(INDEX(CurrentListing,MATCH('Category Set A by Age'!W144,CurrentListing,0),1)),25),AK144),HYPERLINK(\"#'Select LEA'!\"&\"$AA$10\",AK144))","v":""},{"$f":"IFERROR(HYPERLINK(\"#'Select LEA'!\"&ADDRESS(ROW(INDEX(CurrentListing,MATCH('Category Set A by Age'!X144,CurrentListing,0),1)),25),AL144),HYPERLINK(\"#'Select LEA'!\"&\"$AA$10\",AL144))","v":""},{"$f":"IFERROR(HYPERLINK(\"#'Select LEA'!\"&ADDRESS(ROW(INDEX(CurrentListing,MATCH('Category Set A by Age'!Y144,CurrentListing,0),1)),25),AM144),HYPERLINK(\"#'Select LEA'!\"&\"$AA$10\",AM144))","v":""},{"$f":"IFERROR(HYPERLINK(\"#'Select LEA'!\"&ADDRESS(ROW(INDEX(CurrentListing,MATCH('Category Set A by Age'!Z144,CurrentListing,0),1)),25),AN144),HYPERLINK(\"#'Select LEA'!\"&\"$AA$10\",AN144))","v":""},{"$f":"IFERROR(HYPERLINK(\"#'Select LEA'!\"&ADDRESS(ROW(INDEX(CurrentListing,MATCH('Category Set A by Age'!AA144,CurrentListing,0),1)),25),AO144),HYPERLINK(\"#'Select LEA'!\"&\"$AA$10\",AO144))","v":""},{"$f":"IFERROR(HYPERLINK(\"#'Select LEA'!\"&ADDRESS(ROW(INDEX(CurrentListing,MATCH('Category Set A by Age'!AB144,CurrentListing,0),1)),25),AP144),HYPERLINK(\"#'Select LEA'!\"&\"$AA$10\",AP144))","v":""},{"$f":"IF(SUM(B144:M144)=0,\"\",SUM(B144:M144))","v":""},null,null,"ID19TRANN","HI19TRANN","SLI19TRANN","VI19TRANN","EMN19TRANN","OI19TRANN","OHI19TRANN","SLD19TRANN","DB19TRANN","MD19TRANN","AUT19TRANN","TBI19TRANN",null,"Transferred to regular education",{"$f":"IFERROR(IF(INDEX(StudCntC009,MATCH(Q144,CurrentListing,0))=\"\",\"No Data\",INDEX(StudCntC009,MATCH(Q144,CurrentListing,0))),\"\")","v":""},"","","",{"$f":"IFERROR(IF(INDEX(StudCntC009,MATCH(U144,CurrentListing,0))=\"\",\"No Data\",INDEX(StudCntC009,MATCH(U144,CurrentListing,0))),\"\")","v":""},"","","","","","","",{"$f":"SUM(AE144:AP144)","v":0}]
["Graduated with regular high school diploma",{"$f":"IFERROR(HYPERLINK(\"#'Select LEA'!\"&ADDRESS(ROW(INDEX(CurrentListing,MATCH('Category Set A by Age'!Q145,CurrentListing,0),1)),25),AE145),HYPERLINK(\"#'Select LEA'!\"&\"$AA$10\",AE145))","v":""},{"$f":"IFERROR(HYPERLINK(\"#'Select LEA'!\"&ADDRESS(ROW(INDEX(CurrentListing,MATCH('Category Set A by Age'!R145,CurrentListing,0),1)),25),AF145),HYPERLINK(\"#'Select LEA'!\"&\"$AA$10\",AF145))","v":""},{"$f":"IFERROR(HYPERLINK(\"#'Select LEA'!\"&ADDRESS(ROW(INDEX(CurrentListing,MATCH('Category Set A by Age'!S145,CurrentListing,0),1)),25),AG145),HYPERLINK(\"#'Select LEA'!\"&\"$AA$10\",AG145))","v":""},{"$f":"IFERROR(HYPERLINK(\"#'Select LEA'!\"&ADDRESS(ROW(INDEX(CurrentListing,MATCH('Category Set A by Age'!T145,CurrentListing,0),1)),25),AH145),HYPERLINK(\"#'Select LEA'!\"&\"$AA$10\",AH145))","v":""},{"$f":"IFERROR(HYPERLINK(\"#'Select LEA'!\"&ADDRESS(ROW(INDEX(CurrentListing,MATCH('Category Set A by Age'!U145,CurrentListing,0),1)),25),AI145),HYPERLINK(\"#'Select LEA'!\"&\"$AA$10\",AI145))","v":""},{"$f":"IFERROR(HYPERLINK(\"#'Select LEA'!\"&ADDRESS(ROW(INDEX(CurrentListing,MATCH('Category Set A by Age'!V145,CurrentListing,0),1)),25),AJ145),HYPERLINK(\"#'Select LEA'!\"&\"$AA$10\",AJ145))","v":""},{"$f":"IFERROR(HYPERLINK(\"#'Select LEA'!\"&ADDRESS(ROW(INDEX(CurrentListing,MATCH('Category Set A by Age'!W145,CurrentListing,0),1)),25),AK145),HYPERLINK(\"#'Select LEA'!\"&\"$AA$10\",AK145))","v":""},{"$f":"IFERROR(HYPERLINK(\"#'Select LEA'!\"&ADDRESS(ROW(INDEX(CurrentListing,MATCH('Category Set A by Age'!X145,CurrentListing,0),1)),25),AL145),HYPERLINK(\"#'Select LEA'!\"&\"$AA$10\",AL145))","v":""},{"$f":"IFERROR(HYPERLINK(\"#'Select LEA'!\"&ADDRESS(ROW(INDEX(CurrentListing,MATCH('Category Set A by Age'!Y145,CurrentListing,0),1)),25),AM145),HYPERLINK(\"#'Select LEA'!\"&\"$AA$10\",AM145))","v":""},{"$f":"IFERROR(HYPERLINK(\"#'Select LEA'!\"&ADDRESS(ROW(INDEX(CurrentListing,MATCH('Category Set A by Age'!Z145,CurrentListing,0),1)),25),AN145),HYPERLINK(\"#'Select LEA'!\"&\"$AA$10\",AN145))","v":""},{"$f":"IFERROR(HYPERLINK(\"#'Select LEA'!\"&ADDRESS(ROW(INDEX(CurrentListing,MATCH('Category Set A by Age'!AA145,CurrentListing,0),1)),25),AO145),HYPERLINK(\"#'Select LEA'!\"&\"$AA$10\",AO145))","v":""},{"$f":"IFERROR(HYPERLINK(\"#'Select LEA'!\"&ADDRESS(ROW(INDEX(CurrentListing,MATCH('Category Set A by Age'!AB145,CurrentListing,0),1)),25),AP145),HYPERLINK(\"#'Select LEA'!\"&\"$AA$10\",AP145))","v":""},{"$f":"IF(SUM(B145:M145)=0,\"\",SUM(B145:M145))","v":""},null,null,"ID19GHSN","HI19GHSN","SLI19GHSN","VI19GHSN","EMN19GHSN","OI19GHSN","OHI19GHSN","SLD19GHSN","DB19GHSN","MD19GHSN","AUT19GHSN","TBI19GHSN",null,"Graduated with regular high school diploma","","","","","","","","","","","","",0]
["Graduated with an alternate diploma",{"$f":"IFERROR(HYPERLINK(\"#'Select LEA'!\"&ADDRESS(ROW(INDEX(CurrentListing,MATCH('Category Set A by Age'!Q146,CurrentListing,0),1)),25),AE146),HYPERLINK(\"#'Select LEA'!\"&\"$AA$10\",AE146))","v":""},{"$f":"IFERROR(HYPERLINK(\"#'Select LEA'!\"&ADDRESS(ROW(INDEX(CurrentListing,MATCH('Category Set A by Age'!R146,CurrentListing,0),1)),25),AF146),HYPERLINK(\"#'Select LEA'!\"&\"$AA$10\",AF146))","v":""},{"$f":"IFERROR(HYPERLINK(\"#'Select LEA'!\"&ADDRESS(ROW(INDEX(CurrentListing,MATCH('Category Set A by Age'!S146,CurrentListing,0),1)),25),AG146),HYPERLINK(\"#'Select LEA'!\"&\"$AA$10\",AG146))","v":""},{"$f":"IFERROR(HYPERLINK(\"#'Select LEA'!\"&ADDRESS(ROW(INDEX(CurrentListing,MATCH('Category Set A by Age'!T146,CurrentListing,0),1)),25),AH146),HYPERLINK(\"#'Select LEA'!\"&\"$AA$10\",AH146))","v":""},{"$f":"IFERROR(HYPERLINK(\"#'Select LEA'!\"&ADDRESS(ROW(INDEX(CurrentListing,MATCH('Category Set A by Age'!U146,CurrentListing,0),1)),25),AI146),HYPERLINK(\"#'Select LEA'!\"&\"$AA$10\",AI146))","v":""},{"$f":"IFERROR(HYPERLINK(\"#'Select LEA'!\"&ADDRESS(ROW(INDEX(CurrentListing,MATCH('Category Set A by Age'!V146,CurrentListing,0),1)),25),AJ146),HYPERLINK(\"#'Select LEA'!\"&\"$AA$10\",AJ146))","v":""},{"$f":"IFERROR(HYPERLINK(\"#'Select LEA'!\"&ADDRESS(ROW(INDEX(CurrentListing,MATCH('Category Set A by Age'!W146,CurrentListing,0),1)),25),AK146),HYPERLINK(\"#'Select LEA'!\"&\"$AA$10\",AK146))","v":""},{"$f":"IFERROR(HYPERLINK(\"#'Select LEA'!\"&ADDRESS(ROW(INDEX(CurrentListing,MATCH('Category Set A by Age'!X146,CurrentListing,0),1)),25),AL146),HYPERLINK(\"#'Select LEA'!\"&\"$AA$10\",AL146))","v":""},{"$f":"IFERROR(HYPERLINK(\"#'Select LEA'!\"&ADDRESS(ROW(INDEX(CurrentListing,MATCH('Category Set A by Age'!Y146,CurrentListing,0),1)),25),AM146),HYPERLINK(\"#'Select LEA'!\"&\"$AA$10\",AM146))","v":""},{"$f":"IFERROR(HYPERLINK(\"#'Select LEA'!\"&ADDRESS(ROW(INDEX(CurrentListing,MATCH('Category Set A by Age'!Z146,CurrentListing,0),1)),25),AN146),HYPERLINK(\"#'Select LEA'!\"&\"$AA$10\",AN146))","v":""},{"$f":"IFERROR(HYPERLINK(\"#'Select LEA'!\"&ADDRESS(ROW(INDEX(CurrentListing,MATCH('Category Set A by Age'!AA146,CurrentListing,0),1)),25),AO146),HYPERLINK(\"#'Select LEA'!\"&\"$AA$10\",AO146))","v":""},{"$f":"IFERROR(HYPERLINK(\"#'Select LEA'!\"&ADDRESS(ROW(INDEX(CurrentListing,MATCH('Category Set A by Age'!AB146,CurrentListing,0),1)),25),AP146),HYPERLINK(\"#'Select LEA'!\"&\"$AA$10\",AP146))","v":""},"",null,null,"ID19GRADALTDPLN","HI19GRADALTDPLN","SLI19GRADALTDPLN","VI19GRADALTDPLN","EMN19GRADALTDPLN","OI19GRADALTDPLN","OHI19GRADALTDPLN","SLD19GRADALTDPLN","DB19GRADALTDPLN","MD19GRADALTDPLN","AUT19GRADALTDPLN","TBI19GRADALTDPLN",null,"Graduated with an alternate diploma","","","","","","","","","","","","",0]
["Received a certificate",{"$f":"IFERROR(HYPERLINK(\"#'Select LEA'!\"&ADDRESS(ROW(INDEX(CurrentListing,MATCH('Category Set A by Age'!Q147,CurrentListing,0),1)),25),AE147),HYPERLINK(\"#'Select LEA'!\"&\"$AA$10\",AE147))","v":""},{"$f":"IFERROR(HYPERLINK(\"#'Select LEA'!\"&ADDRESS(ROW(INDEX(CurrentListing,MATCH('Category Set A by Age'!R147,CurrentListing,0),1)),25),AF147),HYPERLINK(\"#'Select LEA'!\"&\"$AA$10\",AF147))","v":""},{"$f":"IFERROR(HYPERLINK(\"#'Select LEA'!\"&ADDRESS(ROW(INDEX(CurrentListing,MATCH('Category Set A by Age'!S147,CurrentListing,0),1)),25),AG147),HYPERLINK(\"#'Select LEA'!\"&\"$AA$10\",AG147))","v":""},{"$f":"IFERROR(HYPERLINK(\"#'Select LEA'!\"&ADDRESS(ROW(INDEX(CurrentListing,MATCH('Category Set A by Age'!T147,CurrentListing,0),1)),25),AH147),HYPERLINK(\"#'Select LEA'!\"&\"$AA$10\",AH147))","v":""},{"$f":"IFERROR(HYPERLINK(\"#'Select LEA'!\"&ADDRESS(ROW(INDEX(CurrentListing,MATCH('Category Set A by Age'!U147,CurrentListing,0),1)),25),AI147),HYPERLINK(\"#'Select LEA'!\"&\"$AA$10\",AI147))","v":""},{"$f":"IFERROR(HYPERLINK(\"#'Select LEA'!\"&ADDRESS(ROW(INDEX(CurrentListing,MATCH('Category Set A by Age'!V147,CurrentListing,0),1)),25),AJ147),HYPERLINK(\"#'Select LEA'!\"&\"$AA$10\",AJ147))","v":""},{"$f":"IFERROR(HYPERLINK(\"#'Select LEA'!\"&ADDRESS(ROW(INDEX(CurrentListing,MATCH('Category Set A by Age'!W147,CurrentListing,0),1)),25),AK147),HYPERLINK(\"#'Select LEA'!\"&\"$AA$10\",AK147))","v":""},{"$f":"IFERROR(HYPERLINK(\"#'Select LEA'!\"&ADDRESS(ROW(INDEX(CurrentListing,MATCH('Category Set A by Age'!X147,CurrentListing,0),1)),25),AL147),HYPERLINK(\"#'Select LEA'!\"&\"$AA$10\",AL147))","v":""},{"$f":"IFERROR(HYPERLINK(\"#'Select LEA'!\"&ADDRESS(ROW(INDEX(CurrentListing,MATCH('Category Set A by Age'!Y147,CurrentListing,0),1)),25),AM147),HYPERLINK(\"#'Select LEA'!\"&\"$AA$10\",AM147))","v":""},{"$f":"IFERROR(HYPERLINK(\"#'Select LEA'!\"&ADDRESS(ROW(INDEX(CurrentListing,MATCH('Category Set A by Age'!Z147,CurrentListing,0),1)),25),AN147),HYPERLINK(\"#'Select LEA'!\"&\"$AA$10\",AN147))","v":""},{"$f":"IFERROR(HYPERLINK(\"#'Select LEA'!\"&ADDRESS(ROW(INDEX(CurrentListing,MATCH('Category Set A by Age'!AA147,CurrentListing,0),1)),25),AO147),HYPERLINK(\"#'Select LEA'!\"&\"$AA$10\",AO147))","v":""},{"$f":"IFERROR(HYPERLINK(\"#'Select LEA'!\"&ADDRESS(ROW(INDEX(CurrentListing,MATCH('Category Set A by Age'!AB147,CurrentListing,0),1)),25),AP147),HYPERLINK(\"#'Select LEA'!\"&\"$AA$10\",AP147))","v":""},"",null,null,"ID19RCN","HI19RCN","SLI19RCN","VI19RCN","EMN19RCN","OI19RCN","OHI19RCN","SLD19RCN","DB19RCN","MD19RCN","AUT19RCN","TBI19RCN",null,"Received a certificate","","","","","","","","","","","","",0]
["Reached maximum age",{"$f":"IFERROR(HYPERLINK(\"#'Select LEA'!\"&ADDRESS(ROW(INDEX(CurrentListing,MATCH('Category Set A by Age'!Q148,CurrentListing,0),1)),25),AE148),HYPERLINK(\"#'Select LEA'!\"&\"$AA$10\",AE148))","v":""},{"$f":"IFERROR(HYPERLINK(\"#'Select LEA'!\"&ADDRESS(ROW(INDEX(CurrentListing,MATCH('Category Set A by Age'!R148,CurrentListing,0),1)),25),AF148),HYPERLINK(\"#'Select LEA'!\"&\"$AA$10\",AF148))","v":""},{"$f":"IFERROR(HYPERLINK(\"#'Select LEA'!\"&ADDRESS(ROW(INDEX(CurrentListing,MATCH('Category Set A by Age'!S148,CurrentListing,0),1)),25),AG148),HYPERLINK(\"#'Select LEA'!\"&\"$AA$10\",AG148))","v":""},{"$f":"IFERROR(HYPERLINK(\"#'Select LEA'!\"&ADDRESS(ROW(INDEX(CurrentListing,MATCH('Category Set A by Age'!T148,CurrentListing,0),1)),25),AH148),HYPERLINK(\"#'Select LEA'!\"&\"$AA$10\",AH148))","v":""},{"$f":"IFERROR(HYPERLINK(\"#'Select LEA'!\"&ADDRESS(ROW(INDEX(CurrentListing,MATCH('Category Set A by Age'!U148,CurrentListing,0),1)),25),AI148),HYPERLINK(\"#'Select LEA'!\"&\"$AA$10\",AI148))","v":""},{"$f":"IFERROR(HYPERLINK(\"#'Select LEA'!\"&ADDRESS(ROW(INDEX(CurrentListing,MATCH('Category Set A by Age'!V148,CurrentListing,0),1)),25),AJ148),HYPERLINK(\"#'Select LEA'!\"&\"$AA$10\",AJ148))","v":""},{"$f":"IFERROR(HYPERLINK(\"#'Select LEA'!\"&ADDRESS(ROW(INDEX(CurrentListing,MATCH('Category Set A by Age'!W148,CurrentListing,0),1)),25),AK148),HYPERLINK(\"#'Select LEA'!\"&\"$AA$10\",AK148))","v":""},{"$f":"IFERROR(HYPERLINK(\"#'Select LEA'!\"&ADDRESS(ROW(INDEX(CurrentListing,MATCH('Category Set A by Age'!X148,CurrentListing,0),1)),25),AL148),HYPERLINK(\"#'Select LEA'!\"&\"$AA$10\",AL148))","v":""},{"$f":"IFERROR(HYPERLINK(\"#'Select LEA'!\"&ADDRESS(ROW(INDEX(CurrentListing,MATCH('Category Set A by Age'!Y148,CurrentListing,0),1)),25),AM148),HYPERLINK(\"#'Select LEA'!\"&\"$AA$10\",AM148))","v":""},{"$f":"IFERROR(HYPERLINK(\"#'Select LEA'!\"&ADDRESS(ROW(INDEX(CurrentListing,MATCH('Category Set A by Age'!Z148,CurrentListing,0),1)),25),AN148),HYPERLINK(\"#'Select LEA'!\"&\"$AA$10\",AN148))","v":""},{"$f":"IFERROR(HYPERLINK(\"#'Select LEA'!\"&ADDRESS(ROW(INDEX(CurrentListing,MATCH('Category Set A by Age'!AA148,CurrentListing,0),1)),25),AO148),HYPERLINK(\"#'Select LEA'!\"&\"$AA$10\",AO148))","v":""},{"$f":"IFERROR(HYPERLINK(\"#'Select LEA'!\"&ADDRESS(ROW(INDEX(CurrentListing,MATCH('Category Set A by Age'!AB148,CurrentListing,0),1)),25),AP148),HYPERLINK(\"#'Select LEA'!\"&\"$AA$10\",AP148))","v":""},"",null,null,"ID19RMAN","HI19RMAN","SLI19RMAN","VI19RMAN","EMN19RMAN","OI19RMAN","OHI19RMAN","SLD19RMAN","DB19RMAN","MD19RMAN","AUT19RMAN","TBI19RMAN",null,"Reached maximum age","","","","","","","","","","","","",0]
["Died",{"$f":"IFERROR(HYPERLINK(\"#'Select LEA'!\"&ADDRESS(ROW(INDEX(CurrentListing,MATCH('Category Set A by Age'!Q149,CurrentListing,0),1)),25),AE149),HYPERLINK(\"#'Select LEA'!\"&\"$AA$10\",AE149))","v":""},{"$f":"IFERROR(HYPERLINK(\"#'Select LEA'!\"&ADDRESS(ROW(INDEX(CurrentListing,MATCH('Category Set A by Age'!R149,CurrentListing,0),1)),25),AF149),HYPERLINK(\"#'Select LEA'!\"&\"$AA$10\",AF149))","v":""},{"$f":"IFERROR(HYPERLINK(\"#'Select LEA'!\"&ADDRESS(ROW(INDEX(CurrentListing,MATCH('Category Set A by Age'!S149,CurrentListing,0),1)),25),AG149),HYPERLINK(\"#'Select LEA'!\"&\"$AA$10\",AG149))","v":""},{"$f":"IFERROR(HYPERLINK(\"#'Select LEA'!\"&ADDRESS(ROW(INDEX(CurrentListing,MATCH('Category Set A by Age'!T149,CurrentListing,0),1)),25),AH149),HYPERLINK(\"#'Select LEA'!\"&\"$AA$10\",AH149))","v":""},{"$f":"IFERROR(HYPERLINK(\"#'Select LEA'!\"&ADDRESS(ROW(INDEX(CurrentListing,MATCH('Category Set A by Age'!U149,CurrentListing,0),1)),25),AI149),HYPERLINK(\"#'Select LEA'!\"&\"$AA$10\",AI149))","v":""},{"$f":"IFERROR(HYPERLINK(\"#'Select LEA'!\"&ADDRESS(ROW(INDEX(CurrentListing,MATCH('Category Set A by Age'!V149,CurrentListing,0),1)),25),AJ149),HYPERLINK(\"#'Select LEA'!\"&\"$AA$10\",AJ149))","v":""},{"$f":"IFERROR(HYPERLINK(\"#'Select LEA'!\"&ADDRESS(ROW(INDEX(CurrentListing,MATCH('Category Set A by Age'!W149,CurrentListing,0),1)),25),AK149),HYPERLINK(\"#'Select LEA'!\"&\"$AA$10\",AK149))","v":""},{"$f":"IFERROR(HYPERLINK(\"#'Select LEA'!\"&ADDRESS(ROW(INDEX(CurrentListing,MATCH('Category Set A by Age'!X149,CurrentListing,0),1)),25),AL149),HYPERLINK(\"#'Select LEA'!\"&\"$AA$10\",AL149))","v":""},{"$f":"IFERROR(HYPERLINK(\"#'Select LEA'!\"&ADDRESS(ROW(INDEX(CurrentListing,MATCH('Category Set A by Age'!Y149,CurrentListing,0),1)),25),AM149),HYPERLINK(\"#'Select LEA'!\"&\"$AA$10\",AM149))","v":""},{"$f":"IFERROR(HYPERLINK(\"#'Select LEA'!\"&ADDRESS(ROW(INDEX(CurrentListing,MATCH('Category Set A by Age'!Z149,CurrentListing,0),1)),25),AN149),HYPERLINK(\"#'Select LEA'!\"&\"$AA$10\",AN149))","v":""},{"$f":"IFERROR(HYPERLINK(\"#'Select LEA'!\"&ADDRESS(ROW(INDEX(CurrentListing,MATCH('Category Set A by Age'!AA149,CurrentListing,0),1)),25),AO149),HYPERLINK(\"#'Select LEA'!\"&\"$AA$10\",AO149))","v":""},{"$f":"IFERROR(HYPERLINK(\"#'Select LEA'!\"&ADDRESS(ROW(INDEX(CurrentListing,MATCH('Category Set A by Age'!AB149,CurrentListing,0),1)),25),AP149),HYPERLINK(\"#'Select LEA'!\"&\"$AA$10\",AP149))","v":""},"",null,null,"ID19DN","HI19DN","SLI19DN","VI19DN","EMN19DN","OI19DN","OHI19DN","SLD19DN","DB19DN","MD19DN","AUT19DN","TBI19DN",null,"Died","","","","","","","","","","","","",0]
["Moved, known to be continuing",{"$f":"IFERROR(HYPERLINK(\"#'Select LEA'!\"&ADDRESS(ROW(INDEX(CurrentListing,MATCH('Category Set A by Age'!Q150,CurrentListing,0),1)),25),AE150),HYPERLINK(\"#'Select LEA'!\"&\"$AA$10\",AE150))","v":""},{"$f":"IFERROR(HYPERLINK(\"#'Select LEA'!\"&ADDRESS(ROW(INDEX(CurrentListing,MATCH('Category Set A by Age'!R150,CurrentListing,0),1)),25),AF150),HYPERLINK(\"#'Select LEA'!\"&\"$AA$10\",AF150))","v":""},{"$f":"IFERROR(HYPERLINK(\"#'Select LEA'!\"&ADDRESS(ROW(INDEX(CurrentListing,MATCH('Category Set A by Age'!S150,CurrentListing,0),1)),25),AG150),HYPERLINK(\"#'Select LEA'!\"&\"$AA$10\",AG150))","v":""},{"$f":"IFERROR(HYPERLINK(\"#'Select LEA'!\"&ADDRESS(ROW(INDEX(CurrentListing,MATCH('Category Set A by Age'!T150,CurrentListing,0),1)),25),AH150),HYPERLINK(\"#'Select LEA'!\"&\"$AA$10\",AH150))","v":""},{"$f":"IFERROR(HYPERLINK(\"#'Select LEA'!\"&ADDRESS(ROW(INDEX(CurrentListing,MATCH('Category Set A by Age'!U150,CurrentListing,0),1)),25),AI150),HYPERLINK(\"#'Select LEA'!\"&\"$AA$10\",AI150))","v":""},{"$f":"IFERROR(HYPERLINK(\"#'Select LEA'!\"&ADDRESS(ROW(INDEX(CurrentListing,MATCH('Category Set A by Age'!V150,CurrentListing,0),1)),25),AJ150),HYPERLINK(\"#'Select LEA'!\"&\"$AA$10\",AJ150))","v":""},{"$f":"IFERROR(HYPERLINK(\"#'Select LEA'!\"&ADDRESS(ROW(INDEX(CurrentListing,MATCH('Category Set A by Age'!W150,CurrentListing,0),1)),25),AK150),HYPERLINK(\"#'Select LEA'!\"&\"$AA$10\",AK150))","v":""},{"$f":"IFERROR(HYPERLINK(\"#'Select LEA'!\"&ADDRESS(ROW(INDEX(CurrentListing,MATCH('Category Set A by Age'!X150,CurrentListing,0),1)),25),AL150),HYPERLINK(\"#'Select LEA'!\"&\"$AA$10\",AL150))","v":""},{"$f":"IFERROR(HYPERLINK(\"#'Select LEA'!\"&ADDRESS(ROW(INDEX(CurrentListing,MATCH('Category Set A by Age'!Y150,CurrentListing,0),1)),25),AM150),HYPERLINK(\"#'Select LEA'!\"&\"$AA$10\",AM150))","v":""},{"$f":"IFERROR(HYPERLINK(\"#'Select LEA'!\"&ADDRESS(ROW(INDEX(CurrentListing,MATCH('Category Set A by Age'!Z150,CurrentListing,0),1)),25),AN150),HYPERLINK(\"#'Select LEA'!\"&\"$AA$10\",AN150))","v":""},{"$f":"IFERROR(HYPERLINK(\"#'Select LEA'!\"&ADDRESS(ROW(INDEX(CurrentListing,MATCH('Category Set A by Age'!AA150,CurrentListing,0),1)),25),AO150),HYPERLINK(\"#'Select LEA'!\"&\"$AA$10\",AO150))","v":""},{"$f":"IFERROR(HYPERLINK(\"#'Select LEA'!\"&ADDRESS(ROW(INDEX(CurrentListing,MATCH('Category Set A by Age'!AB150,CurrentListing,0),1)),25),AP150),HYPERLINK(\"#'Select LEA'!\"&\"$AA$10\",AP150))","v":""},"",null,null,"ID19MKCN","HI19MKCN","SLI19MKCN","VI19MKCN","EMN19MKCN","OI19MKCN","OHI19MKCN","SLD19MKCN","DB19MKCN","MD19MKCN","AUT19MKCN","TBI19MKCN",null,"Moved, known to be continuing","","","","","","","","","","","","",0]
["Dropped out",{"$f":"IFERROR(HYPERLINK(\"#'Select LEA'!\"&ADDRESS(ROW(INDEX(CurrentListing,MATCH('Category Set A by Age'!Q151,CurrentListing,0),1)),25),AE151),HYPERLINK(\"#'Select LEA'!\"&\"$AA$10\",AE151))","v":""},{"$f":"IFERROR(HYPERLINK(\"#'Select LEA'!\"&ADDRESS(ROW(INDEX(CurrentListing,MATCH('Category Set A by Age'!R151,CurrentListing,0),1)),25),AF151),HYPERLINK(\"#'Select LEA'!\"&\"$AA$10\",AF151))","v":""},{"$f":"IFERROR(HYPERLINK(\"#'Select LEA'!\"&ADDRESS(ROW(INDEX(CurrentListing,MATCH('Category Set A by Age'!S151,CurrentListing,0),1)),25),AG151),HYPERLINK(\"#'Select LEA'!\"&\"$AA$10\",AG151))","v":""},{"$f":"IFERROR(HYPERLINK(\"#'Select LEA'!\"&ADDRESS(ROW(INDEX(CurrentListing,MATCH('Category Set A by Age'!T151,CurrentListing,0),1)),25),AH151),HYPERLINK(\"#'Select LEA'!\"&\"$AA$10\",AH151))","v":""},{"$f":"IFERROR(HYPERLINK(\"#'Select LEA'!\"&ADDRESS(ROW(INDEX(CurrentListing,MATCH('Category Set A by Age'!U151,CurrentListing,0),1)),25),AI151),HYPERLINK(\"#'Select LEA'!\"&\"$AA$10\",AI151))","v":""},{"$f":"IFERROR(HYPERLINK(\"#'Select LEA'!\"&ADDRESS(ROW(INDEX(CurrentListing,MATCH('Category Set A by Age'!V151,CurrentListing,0),1)),25),AJ151),HYPERLINK(\"#'Select LEA'!\"&\"$AA$10\",AJ151))","v":""},{"$f":"IFERROR(HYPERLINK(\"#'Select LEA'!\"&ADDRESS(ROW(INDEX(CurrentListing,MATCH('Category Set A by Age'!W151,CurrentListing,0),1)),25),AK151),HYPERLINK(\"#'Select LEA'!\"&\"$AA$10\",AK151))","v":""},{"$f":"IFERROR(HYPERLINK(\"#'Select LEA'!\"&ADDRESS(ROW(INDEX(CurrentListing,MATCH('Category Set A by Age'!X151,CurrentListing,0),1)),25),AL151),HYPERLINK(\"#'Select LEA'!\"&\"$AA$10\",AL151))","v":""},{"$f":"IFERROR(HYPERLINK(\"#'Select LEA'!\"&ADDRESS(ROW(INDEX(CurrentListing,MATCH('Category Set A by Age'!Y151,CurrentListing,0),1)),25),AM151),HYPERLINK(\"#'Select LEA'!\"&\"$AA$10\",AM151))","v":""},{"$f":"IFERROR(HYPERLINK(\"#'Select LEA'!\"&ADDRESS(ROW(INDEX(CurrentListing,MATCH('Category Set A by Age'!Z151,CurrentListing,0),1)),25),AN151),HYPERLINK(\"#'Select LEA'!\"&\"$AA$10\",AN151))","v":""},{"$f":"IFERROR(HYPERLINK(\"#'Select LEA'!\"&ADDRESS(ROW(INDEX(CurrentListing,MATCH('Category Set A by Age'!AA151,CurrentListing,0),1)),25),AO151),HYPERLINK(\"#'Select LEA'!\"&\"$AA$10\",AO151))","v":""},{"$f":"IFERROR(HYPERLINK(\"#'Select LEA'!\"&ADDRESS(ROW(INDEX(CurrentListing,MATCH('Category Set A by Age'!AB151,CurrentListing,0),1)),25),AP151),HYPERLINK(\"#'Select LEA'!\"&\"$AA$10\",AP151))","v":""},"",null,null,"ID19DROPOUTN","HI19DROPOUTN","SLI19DROPOUTN","VI19DROPOUTN","EMN19DROPOUTN","OI19DROPOUTN","OHI19DROPOUTN","SLD19DROPOUTN","DB19DROPOUTN","MD19DROPOUTN","AUT19DROPOUTN","TBI19DROPOUTN",null,"Dropped out","","","","","","","","","","","","",0]
["Total",{"$f":"IF(SUM(B144:B151)=0,\"\",SUM(B144:B151))","v":""},{"$f":"IF(SUM(C144:C151)=0,\"\",SUM(C144:C151))","v":""},"","","","","","","","","","",{"$f":"IF(AND(N4=\"\",N5=\"\",N6=\"\",N7=\"\",N8=\"\",N9=\"\",N10=\"\",N11=\"\"),\"\",SUM(B144:M151))","v":""},null,null,null,null,null,null,null,null,null,null,null,null,null,null,"19Y","Total",{"$f":"SUM(AE144:AE151)","v":0},{"$f":"SUM(AF144:AF151)","v":0},0,0,0,0,0,0,0,0,0,0,{"$f":"IFERROR(IF(INDEX(StudCntC009,MATCH(AC152,CurrentListing,0))=\"\",\"No Data\",INDEX(StudCntC009,MATCH(AC152,CurrentListing,0))),\"\")","v":""}]
[]
["Percent by basis of exit","Age 19"]
[null,"Intellectual\ndisability\n(percent)","Hearing\nimpairment\n(percent)","Speech or\nlanguage\nimpairment\n(percent)","Visual\nimpairment\n(percent)","Emotional\ndisturbance\n(percent)","Orthopedic\nimpairment\n(percent)","Other\nhealth\nimpairment\n(percent)","Specific\nlearning\ndisability\n(percent)","Deaf-\nblindness\n(percent)","Multiple\ndisabilities\n(percent)","Autism\n(Percent)","Traumatic\nbrain\ninjury\n(percent)","Total\n(percent)"]
["Transferred to regular education",{"$f":"IF(ISERROR(B144/$N144),IF(B144=\"\", \"\",0), B144/$N144)","v":""},"","","","","","","","","","","",{"$f":"IF(SUM(B156:M156)=0,\"\",SUM(B156:M156))","v":""}]
["Graduated with regular high school diploma",{"$f":"IF(ISERROR(B145/$N145),IF(B145=\"\", \"\",0), B145/$N145)","v":""},"","","","","","","","","","","",{"$f":"IF(SUM(B157:M157)=0,\"\",SUM(B157:M157))","v":""}]
["Graduated with an alternate diploma",{"$f":"IF(ISERROR(B146/$N146),IF(B146=\"\", \"\",0), B146/$N146)","v":""},"","","","","","","","","","","",""]
["Received a certificate",{"$f":"IF(ISERROR(B147/$N147),IF(B147=\"\", \"\",0), B147/$N147)","v":""},"","","","","","","","","","","",""]
["Reached maximum age",{"$f":"IF(ISERROR(B148/$N148),IF(B148=\"\", \"\",0), B148/$N148)","v":""},"","","","","","","","","","","",""]
["Died",{"$f":"IF(ISERROR(B149/$N149),IF(B149=\"\", \"\",0), B149/$N149)","v":""},"","","","","","","","","","","",""]
["Moved, known to be continuing",{"$f":"IF(ISERROR(B150/$N150),IF(B150=\"\", \"\",0), B150/$N150)","v":""},"","","","","","","","","","","",""]
["Dropped out",{"$f":"IF(ISERROR(B151/$N151),IF(B151=\"\", \"\",0), B151/$N151)","v":""},"","","","","","","","","","","",""]
["Total",{"$f":"IFERROR(IF($N152<>0,B152/$N152,0),\"\")","v":""},"","","","","","","","","","","",{"$f":"SUM(B164:M164)","v":0}]
[]
["Category set A – Children with disabilities (IDEA) exiting special education, by age, disability category, and basis of exit"]
["Student count by basis of exit ","Age 20",null,null,null,null,null,null,null,null,null,null,null,null,null,null,"Age 20 Lookup",null,null,null,null,null,null,null,null,null,null,null,null,"Student counts by basis of exit","Age 20"]
[null,"Intellectual\ndisability","Hearing\nimpairment","Speech or\nlanguage\nimpairment","Visual\nimpairment","Emotional\ndisturbance","Orthopedic\nimpairment","Other\nhealth\nimpairment","Specific\nlearning\ndisability","Deaf-\nblindness","Multiple\ndisabilities","Autism","Traumatic\nbrain\ninjury","Total",null,null,null,null,null,null,null,null,null,null,null,null,null,null,null,null,"Intellectual\nDisability","Hearing\nImpairments","Speech or\nLanguage\nImpairments","Visual\nImpairments","Emotional\nDisturbance","Orthopedic\nImpairments","Other\nHealth\nImpairments","Specific\nLearning\nDisabilities","Deaf-\nBlindness","Multiple\nDisabilities","Autism","Traumatic\nBrain\nInjury","Total"]
["Transferred to regular education",{"$f":"IFERROR(HYPERLINK(\"#'Select LEA'!\"&ADDRESS(ROW(INDEX(CurrentListing,MATCH('Category Set A by Age'!Q169,CurrentListing,0),1)),25),AE169),HYPERLINK(\"#'Select LEA'!\"&\"$AA$10\",AE169))","v":""},{"$f":"IFERROR(HYPERLINK(\"#'Select LEA'!\"&ADDRESS(ROW(INDEX(CurrentListing,MATCH('Category Set A by Age'!R169,CurrentListing,0),1)),25),AF169),HYPERLINK(\"#'Select LEA'!\"&\"$AA$10\",AF169))","v":""},{"$f":"IFERROR(HYPERLINK(\"#'Select LEA'!\"&ADDRESS(ROW(INDEX(CurrentListing,MATCH('Category Set A by Age'!S169,CurrentListing,0),1)),25),AG169),HYPERLINK(\"#'Select LEA'!\"&\"$AA$10\",AG169))","v":""},{"$f":"IFERROR(HYPERLINK(\"#'Select LEA'!\"&ADDRESS(ROW(INDEX(CurrentListing,MATCH('Category Set A by Age'!T169,CurrentListing,0),1)),25),AH169),HYPERLINK(\"#'Select LEA'!\"&\"$AA$10\",AH169))","v":""},{"$f":"IFERROR(HYPERLINK(\"#'Select LEA'!\"&ADDRESS(ROW(INDEX(CurrentListing,MATCH('Category Set A by Age'!U169,CurrentListing,0),1)),25),AI169),HYPERLINK(\"#'Select LEA'!\"&\"$AA$10\",AI169))","v":""},{"$f":"IFERROR(HYPERLINK(\"#'Select LEA'!\"&ADDRESS(ROW(INDEX(CurrentListing,MATCH('Category Set A by Age'!V169,CurrentListing,0),1)),25),AJ169),HYPERLINK(\"#'Select LEA'!\"&\"$AA$10\",AJ169))","v":""},{"$f":"IFERROR(HYPERLINK(\"#'Select LEA'!\"&ADDRESS(ROW(INDEX(CurrentListing,MATCH('Category Set A by Age'!W169,CurrentListing,0),1)),25),AK169),HYPERLINK(\"#'Select LEA'!\"&\"$AA$10\",AK169))","v":""},{"$f":"IFERROR(HYPERLINK(\"#'Select LEA'!\"&ADDRESS(ROW(INDEX(CurrentListing,MATCH('Category Set A by Age'!X169,CurrentListing,0),1)),25),AL169),HYPERLINK(\"#'Select LEA'!\"&\"$AA$10\",AL169))","v":""},{"$f":"IFERROR(HYPERLINK(\"#'Select LEA'!\"&ADDRESS(ROW(INDEX(CurrentListing,MATCH('Category Set A by Age'!Y169,CurrentListing,0),1)),25),AM169),HYPERLINK(\"#'Select LEA'!\"&\"$AA$10\",AM169))","v":""},{"$f":"IFERROR(HYPERLINK(\"#'Select LEA'!\"&ADDRESS(ROW(INDEX(CurrentListing,MATCH('Category Set A by Age'!Z169,CurrentListing,0),1)),25),AN169),HYPERLINK(\"#'Select LEA'!\"&\"$AA$10\",AN169))","v":""},{"$f":"IFERROR(HYPERLINK(\"#'Select LEA'!\"&ADDRESS(ROW(INDEX(CurrentListing,MATCH('Category Set A by Age'!AA169,CurrentListing,0),1)),25),AO169),HYPERLINK(\"#'Select LEA'!\"&\"$AA$10\",AO169))","v":""},{"$f":"IFERROR(HYPERLINK(\"#'Select LEA'!\"&ADDRESS(ROW(INDEX(CurrentListing,MATCH('Category Set A by Age'!AB169,CurrentListing,0),1)),25),AP169),HYPERLINK(\"#'Select LEA'!\"&\"$AA$10\",AP169))","v":""},{"$f":"IF(SUM(B169:M169)=0,\"\",SUM(B169:M169))","v":""},null,null,"ID20TRANN","HI20TRANN","SLI20TRANN","VI20TRANN","EMN20TRANN","OI20TRANN","OHI20TRANN","SLD20TRANN","DB20TRANN","MD20TRANN","AUT20TRANN","TBI20TRANN",null,"Transferred to regular education",{"$f":"IFERROR(IF(INDEX(StudCntC009,MATCH(Q169,CurrentListing,0))=\"\",\"No Data\",INDEX(StudCntC009,MATCH(Q169,CurrentListing,0))),\"\")","v":""},"","","","","","","","","","","",{"$f":"SUM(AE169:AP169)","v":0}]
["Graduated with regular high school diploma",{"$f":"IFERROR(HYPERLINK(\"#'Select LEA'!\"&ADDRESS(ROW(INDEX(CurrentListing,MATCH('Category Set A by Age'!Q170,CurrentListing,0),1)),25),AE170),HYPERLINK(\"#'Select LEA'!\"&\"$AA$10\",AE170))","v":""},{"$f":"IFERROR(HYPERLINK(\"#'Select LEA'!\"&ADDRESS(ROW(INDEX(CurrentListing,MATCH('Category Set A by Age'!R170,CurrentListing,0),1)),25),AF170),HYPERLINK(\"#'Select LEA'!\"&\"$AA$10\",AF170))","v":""},{"$f":"IFERROR(HYPERLINK(\"#'Select LEA'!\"&ADDRESS(ROW(INDEX(CurrentListing,MATCH('Category Set A by Age'!S170,CurrentListing,0),1)),25),AG170),HYPERLINK(\"#'Select LEA'!\"&\"$AA$10\",AG170))","v":""},{"$f":"IFERROR(HYPERLINK(\"#'Select LEA'!\"&ADDRESS(ROW(INDEX(CurrentListing,MATCH('Category Set A by Age'!T170,CurrentListing,0),1)),25),AH170),HYPERLINK(\"#'Select LEA'!\"&\"$AA$10\",AH170))","v":""},{"$f":"IFERROR(HYPERLINK(\"#'Select LEA'!\"&ADDRESS(ROW(INDEX(CurrentListing,MATCH('Category Set A by Age'!U170,CurrentListing,0),1)),25),AI170),HYPERLINK(\"#'Select LEA'!\"&\"$AA$10\",AI170))","v":""},{"$f":"IFERROR(HYPERLINK(\"#'Select LEA'!\"&ADDRESS(ROW(INDEX(CurrentListing,MATCH('Category Set A by Age'!V170,CurrentListing,0),1)),25),AJ170),HYPERLINK(\"#'Select LEA'!\"&\"$AA$10\",AJ170))","v":""},{"$f":"IFERROR(HYPERLINK(\"#'Select LEA'!\"&ADDRESS(ROW(INDEX(CurrentListing,MATCH('Category Set A by Age'!W170,CurrentListing,0),1)),25),AK170),HYPERLINK(\"#'Select LEA'!\"&\"$AA$10\",AK170))","v":""},{"$f":"IFERROR(HYPERLINK(\"#'Select LEA'!\"&ADDRESS(ROW(INDEX(CurrentListing,MATCH('Category Set A by Age'!X170,CurrentListing,0),1)),25),AL170),HYPERLINK(\"#'Select LEA'!\"&\"$AA$10\",AL170))","v":""},{"$f":"IFERROR(HYPERLINK(\"#'Select LEA'!\"&ADDRESS(ROW(INDEX(CurrentListing,MATCH('Category Set A by Age'!Y170,CurrentListing,0),1)),25),AM170),HYPERLINK(\"#'Select LEA'!\"&\"$AA$10\",AM170))","v":""},{"$f":"IFERROR(HYPERLINK(\"#'Select LEA'!\"&ADDRESS(ROW(INDEX(CurrentListing,MATCH('Category Set A by Age'!Z170,CurrentListing,0),1)),25),AN170),HYPERLINK(\"#'Select LEA'!\"&\"$AA$10\",AN170))","v":""},{"$f":"IFERROR(HYPERLINK(\"#'Select LEA'!\"&ADDRESS(ROW(INDEX(CurrentListing,MATCH('Category Set A by Age'!AA170,CurrentListing,0),1)),25),AO170),HYPERLINK(\"#'Select LEA'!\"&\"$AA$10\",AO170))","v":""},{"$f":"IFERROR(HYPERLINK(\"#'Select LEA'!\"&ADDRESS(ROW(INDEX(CurrentListing,MATCH('Category Set A by Age'!AB170,CurrentListing,0),1)),25),AP170),HYPERLINK(\"#'Select LEA'!\"&\"$AA$10\",AP170))","v":""},{"$f":"IF(SUM(B170:M170)=0,\"\",SUM(B170:M170))","v":""},null,null,"ID20GHSN","HI20GHSN","SLI20GHSN","VI20GHSN","EMN20GHSN","OI20GHSN","OHI20GHSN","SLD20GHSN","DB20GHSN","MD20GHSN","AUT20GHSN","TBI20GHSN",null,"Graduated with regular high school diploma","","","","","","","","","","","","",0]
["Graduated with an alternate diploma",{"$f":"IFERROR(HYPERLINK(\"#'Select LEA'!\"&ADDRESS(ROW(INDEX(CurrentListing,MATCH('Category Set A by Age'!Q171,CurrentListing,0),1)),25),AE171),HYPERLINK(\"#'Select LEA'!\"&\"$AA$10\",AE171))","v":""},{"$f":"IFERROR(HYPERLINK(\"#'Select LEA'!\"&ADDRESS(ROW(INDEX(CurrentListing,MATCH('Category Set A by Age'!R171,CurrentListing,0),1)),25),AF171),HYPERLINK(\"#'Select LEA'!\"&\"$AA$10\",AF171))","v":""},{"$f":"IFERROR(HYPERLINK(\"#'Select LEA'!\"&ADDRESS(ROW(INDEX(CurrentListing,MATCH('Category Set A by Age'!S171,CurrentListing,0),1)),25),AG171),HYPERLINK(\"#'Select LEA'!\"&\"$AA$10\",AG171))","v":""},{"$f":"IFERROR(HYPERLINK(\"#'Select LEA'!\"&ADDRESS(ROW(INDEX(CurrentListing,MATCH('Category Set A by Age'!T171,CurrentListing,0),1)),25),AH171),HYPERLINK(\"#'Select LEA'!\"&\"$AA$10\",AH171))","v":""},{"$f":"IFERROR(HYPERLINK(\"#'Select LEA'!\"&ADDRESS(ROW(INDEX(CurrentListing,MATCH('Category Set A by Age'!U171,CurrentListing,0),1)),25),AI171),HYPERLINK(\"#'Select LEA'!\"&\"$AA$10\",AI171))","v":""},{"$f":"IFERROR(HYPERLINK(\"#'Select LEA'!\"&ADDRESS(ROW(INDEX(CurrentListing,MATCH('Category Set A by Age'!V171,CurrentListing,0),1)),25),AJ171),HYPERLINK(\"#'Select LEA'!\"&\"$AA$10\",AJ171))","v":""},{"$f":"IFERROR(HYPERLINK(\"#'Select LEA'!\"&ADDRESS(ROW(INDEX(CurrentListing,MATCH('Category Set A by Age'!W171,CurrentListing,0),1)),25),AK171),HYPERLINK(\"#'Select LEA'!\"&\"$AA$10\",AK171))","v":""},{"$f":"IFERROR(HYPERLINK(\"#'Select LEA'!\"&ADDRESS(ROW(INDEX(CurrentListing,MATCH('Category Set A by Age'!X171,CurrentListing,0),1)),25),AL171),HYPERLINK(\"#'Select LEA'!\"&\"$AA$10\",AL171))","v":""},{"$f":"IFERROR(HYPERLINK(\"#'Select LEA'!\"&ADDRESS(ROW(INDEX(CurrentListing,MATCH('Category Set A by Age'!Y171,CurrentListing,0),1)),25),AM171),HYPERLINK(\"#'Select LEA'!\"&\"$AA$10\",AM171))","v":""},{"$f":"IFERROR(HYPERLINK(\"#'Select LEA'!\"&ADDRESS(ROW(INDEX(CurrentListing,MATCH('Category Set A by Age'!Z171,CurrentListing,0),1)),25),AN171),HYPERLINK(\"#'Select LEA'!\"&\"$AA$10\",AN171))","v":""},{"$f":"IFERROR(HYPERLINK(\"#'Select LEA'!\"&ADDRESS(ROW(INDEX(CurrentListing,MATCH('Category Set A by Age'!AA171,CurrentListing,0),1)),25),AO171),HYPERLINK(\"#'Select LEA'!\"&\"$AA$10\",AO171))","v":""},{"$f":"IFERROR(HYPERLINK(\"#'Select LEA'!\"&ADDRESS(ROW(INDEX(CurrentListing,MATCH('Category Set A by Age'!AB171,CurrentListing,0),1)),25),AP171),HYPERLINK(\"#'Select LEA'!\"&\"$AA$10\",AP171))","v":""},"",null,null,"ID20GRADALTDPLN","HI20GRADALTDPLN","SLI20GRADALTDPLN","VI20GRADALTDPLN","EMN20GRADALTDPLN","OI20GRADALTDPLN","OHI20GRADALTDPLN","SLD20GRADALTDPLN","DB20GRADALTDPLN","MD20GRADALTDPLN","AUT20GRADALTDPLN","TBI20GRADALTDPLN",null,"Graduated with an alternate diploma","","","","","","","","","","","","",0]
["Received a certificate",{"$f":"IFERROR(HYPERLINK(\"#'Select LEA'!\"&ADDRESS(ROW(INDEX(CurrentListing,MATCH('Category Set A by Age'!Q172,CurrentListing,0),1)),25),AE172),HYPERLINK(\"#'Select LEA'!\"&\"$AA$10\",AE172))","v":""},{"$f":"IFERROR(HYPERLINK(\"#'Select LEA'!\"&ADDRESS(ROW(INDEX(CurrentListing,MATCH('Category Set A by Age'!R172,CurrentListing,0),1)),25),AF172),HYPERLINK(\"#'Select LEA'!\"&\"$AA$10\",AF172))","v":""},{"$f":"IFERROR(HYPERLINK(\"#'Select LEA'!\"&ADDRESS(ROW(INDEX(CurrentListing,MATCH('Category Set A by Age'!S172,CurrentListing,0),1)),25),AG172),HYPERLINK(\"#'Select LEA'!\"&\"$AA$10\",AG172))","v":""},{"$f":"IFERROR(HYPERLINK(\"#'Select LEA'!\"&ADDRESS(ROW(INDEX(CurrentListing,MATCH('Category Set A by Age'!T172,CurrentListing,0),1)),25),AH172),HYPERLINK(\"#'Select LEA'!\"&\"$AA$10\",AH172))","v":""},{"$f":"IFERROR(HYPERLINK(\"#'Select LEA'!\"&ADDRESS(ROW(INDEX(CurrentListing,MATCH('Category Set A by Age'!U172,CurrentListing,0),1)),25),AI172),HYPERLINK(\"#'Select LEA'!\"&\"$AA$10\",AI172))","v":""},{"$f":"IFERROR(HYPERLINK(\"#'Select LEA'!\"&ADDRESS(ROW(INDEX(CurrentListing,MATCH('Category Set A by Age'!V172,CurrentListing,0),1)),25),AJ172),HYPERLINK(\"#'Select LEA'!\"&\"$AA$10\",AJ172))","v":""},{"$f":"IFERROR(HYPERLINK(\"#'Select LEA'!\"&ADDRESS(ROW(INDEX(CurrentListing,MATCH('Category Set A by Age'!W172,CurrentListing,0),1)),25),AK172),HYPERLINK(\"#'Select LEA'!\"&\"$AA$10\",AK172))","v":""},{"$f":"IFERROR(HYPERLINK(\"#'Select LEA'!\"&ADDRESS(ROW(INDEX(CurrentListing,MATCH('Category Set A by Age'!X172,CurrentListing,0),1)),25),AL172),HYPERLINK(\"#'Select LEA'!\"&\"$AA$10\",AL172))","v":""},{"$f":"IFERROR(HYPERLINK(\"#'Select LEA'!\"&ADDRESS(ROW(INDEX(CurrentListing,MATCH('Category Set A by Age'!Y172,CurrentListing,0),1)),25),AM172),HYPERLINK(\"#'Select LEA'!\"&\"$AA$10\",AM172))","v":""},{"$f":"IFERROR(HYPERLINK(\"#'Select LEA'!\"&ADDRESS(ROW(INDEX(CurrentListing,MATCH('Category Set A by Age'!Z172,CurrentListing,0),1)),25),AN172),HYPERLINK(\"#'Select LEA'!\"&\"$AA$10\",AN172))","v":""},{"$f":"IFERROR(HYPERLINK(\"#'Select LEA'!\"&ADDRESS(ROW(INDEX(CurrentListing,MATCH('Category Set A by Age'!AA172,CurrentListing,0),1)),25),AO172),HYPERLINK(\"#'Select LEA'!\"&\"$AA$10\",AO172))","v":""},{"$f":"IFERROR(HYPERLINK(\"#'Select LEA'!\"&ADDRESS(ROW(INDEX(CurrentListing,MATCH('Category Set A by Age'!AB172,CurrentListing,0),1)),25),AP172),HYPERLINK(\"#'Select LEA'!\"&\"$AA$10\",AP172))","v":""},"",null,null,"ID20RCN","HI20RCN","SLI20RCN","VI20RCN","EMN20RCN","OI20RCN","OHI20RCN","SLD20RCN","DB20RCN","MD20RCN","AUT20RCN","TBI20RCN",null,"Received a certificate","","","","","","","","","","","","",0]
["Reached maximum age",{"$f":"IFERROR(HYPERLINK(\"#'Select LEA'!\"&ADDRESS(ROW(INDEX(CurrentListing,MATCH('Category Set A by Age'!Q173,CurrentListing,0),1)),25),AE173),HYPERLINK(\"#'Select LEA'!\"&\"$AA$10\",AE173))","v":""},{"$f":"IFERROR(HYPERLINK(\"#'Select LEA'!\"&ADDRESS(ROW(INDEX(CurrentListing,MATCH('Category Set A by Age'!R173,CurrentListing,0),1)),25),AF173),HYPERLINK(\"#'Select LEA'!\"&\"$AA$10\",AF173))","v":""},{"$f":"IFERROR(HYPERLINK(\"#'Select LEA'!\"&ADDRESS(ROW(INDEX(CurrentListing,MATCH('Category Set A by Age'!S173,CurrentListing,0),1)),25),AG173),HYPERLINK(\"#'Select LEA'!\"&\"$AA$10\",AG173))","v":""},{"$f":"IFERROR(HYPERLINK(\"#'Select LEA'!\"&ADDRESS(ROW(INDEX(CurrentListing,MATCH('Category Set A by Age'!T173,CurrentListing,0),1)),25),AH173),HYPERLINK(\"#'Select LEA'!\"&\"$AA$10\",AH173))","v":""},{"$f":"IFERROR(HYPERLINK(\"#'Select LEA'!\"&ADDRESS(ROW(INDEX(CurrentListing,MATCH('Category Set A by Age'!U173,CurrentListing,0),1)),25),AI173),HYPERLINK(\"#'Select LEA'!\"&\"$AA$10\",AI173))","v":""},{"$f":"IFERROR(HYPERLINK(\"#'Select LEA'!\"&ADDRESS(ROW(INDEX(CurrentListing,MATCH('Category Set A by Age'!V173,CurrentListing,0),1)),25),AJ173),HYPERLINK(\"#'Select LEA'!\"&\"$AA$10\",AJ173))","v":""},{"$f":"IFERROR(HYPERLINK(\"#'Select LEA'!\"&ADDRESS(ROW(INDEX(CurrentListing,MATCH('Category Set A by Age'!W173,CurrentListing,0),1)),25),AK173),HYPERLINK(\"#'Select LEA'!\"&\"$AA$10\",AK173))","v":""},{"$f":"IFERROR(HYPERLINK(\"#'Select LEA'!\"&ADDRESS(ROW(INDEX(CurrentListing,MATCH('Category Set A by Age'!X173,CurrentListing,0),1)),25),AL173),HYPERLINK(\"#'Select LEA'!\"&\"$AA$10\",AL173))","v":""},{"$f":"IFERROR(HYPERLINK(\"#'Select LEA'!\"&ADDRESS(ROW(INDEX(CurrentListing,MATCH('Category Set A by Age'!Y173,CurrentListing,0),1)),25),AM173),HYPERLINK(\"#'Select LEA'!\"&\"$AA$10\",AM173))","v":""},{"$f":"IFERROR(HYPERLINK(\"#'Select LEA'!\"&ADDRESS(ROW(INDEX(CurrentListing,MATCH('Category Set A by Age'!Z173,CurrentListing,0),1)),25),AN173),HYPERLINK(\"#'Select LEA'!\"&\"$AA$10\",AN173))","v":""},{"$f":"IFERROR(HYPERLINK(\"#'Select LEA'!\"&ADDRESS(ROW(INDEX(CurrentListing,MATCH('Category Set A by Age'!AA173,CurrentListing,0),1)),25),AO173),HYPERLINK(\"#'Select LEA'!\"&\"$AA$10\",AO173))","v":""},{"$f":"IFERROR(HYPERLINK(\"#'Select LEA'!\"&ADDRESS(ROW(INDEX(CurrentListing,MATCH('Category Set A by Age'!AB173,CurrentListing,0),1)),25),AP173),HYPERLINK(\"#'Select LEA'!\"&\"$AA$10\",AP173))","v":""},"",null,null,"ID20RMAN","HI20RMAN","SLI20RMAN","VI20RMAN","EMN20RMAN","OI20RMAN","OHI20RMAN","SLD20RMAN","DB20RMAN","MD20RMAN","AUT20RMAN","TBI20RMAN",null,"Reached maximum age","","","","","","","","","","","","",0]
["Died",{"$f":"IFERROR(HYPERLINK(\"#'Select LEA'!\"&ADDRESS(ROW(INDEX(CurrentListing,MATCH('Category Set A by Age'!Q174,CurrentListing,0),1)),25),AE174),HYPERLINK(\"#'Select LEA'!\"&\"$AA$10\",AE174))","v":""},{"$f":"IFERROR(HYPERLINK(\"#'Select LEA'!\"&ADDRESS(ROW(INDEX(CurrentListing,MATCH('Category Set A by Age'!R174,CurrentListing,0),1)),25),AF174),HYPERLINK(\"#'Select LEA'!\"&\"$AA$10\",AF174))","v":""},{"$f":"IFERROR(HYPERLINK(\"#'Select LEA'!\"&ADDRESS(ROW(INDEX(CurrentListing,MATCH('Category Set A by Age'!S174,CurrentListing,0),1)),25),AG174),HYPERLINK(\"#'Select LEA'!\"&\"$AA$10\",AG174))","v":""},{"$f":"IFERROR(HYPERLINK(\"#'Select LEA'!\"&ADDRESS(ROW(INDEX(CurrentListing,MATCH('Category Set A by Age'!T174,CurrentListing,0),1)),25),AH174),HYPERLINK(\"#'Select LEA'!\"&\"$AA$10\",AH174))","v":""},{"$f":"IFERROR(HYPERLINK(\"#'Select LEA'!\"&ADDRESS(ROW(INDEX(CurrentListing,MATCH('Category Set A by Age'!U174,CurrentListing,0),1)),25),AI174),HYPERLINK(\"#'Select LEA'!\"&\"$AA$10\",AI174))","v":""},{"$f":"IFERROR(HYPERLINK(\"#'Select LEA'!\"&ADDRESS(ROW(INDEX(CurrentListing,MATCH('Category Set A by Age'!V174,CurrentListing,0),1)),25),AJ174),HYPERLINK(\"#'Select LEA'!\"&\"$AA$10\",AJ174))","v":""},{"$f":"IFERROR(HYPERLINK(\"#'Select LEA'!\"&ADDRESS(ROW(INDEX(CurrentListing,MATCH('Category Set A by Age'!W174,CurrentListing,0),1)),25),AK174),HYPERLINK(\"#'Select LEA'!\"&\"$AA$10\",AK174))","v":""},{"$f":"IFERROR(HYPERLINK(\"#'Select LEA'!\"&ADDRESS(ROW(INDEX(CurrentListing,MATCH('Category Set A by Age'!X174,CurrentListing,0),1)),25),AL174),HYPERLINK(\"#'Select LEA'!\"&\"$AA$10\",AL174))","v":""},{"$f":"IFERROR(HYPERLINK(\"#'Select LEA'!\"&ADDRESS(ROW(INDEX(CurrentListing,MATCH('Category Set A by Age'!Y174,CurrentListing,0),1)),25),AM174),HYPERLINK(\"#'Select LEA'!\"&\"$AA$10\",AM174))","v":""},{"$f":"IFERROR(HYPERLINK(\"#'Select LEA'!\"&ADDRESS(ROW(INDEX(CurrentListing,MATCH('Category Set A by Age'!Z174,CurrentListing,0),1)),25),AN174),HYPERLINK(\"#'Select LEA'!\"&\"$AA$10\",AN174))","v":""},{"$f":"IFERROR(HYPERLINK(\"#'Select LEA'!\"&ADDRESS(ROW(INDEX(CurrentListing,MATCH('Category Set A by Age'!AA174,CurrentListing,0),1)),25),AO174),HYPERLINK(\"#'Select LEA'!\"&\"$AA$10\",AO174))","v":""},{"$f":"IFERROR(HYPERLINK(\"#'Select LEA'!\"&ADDRESS(ROW(INDEX(CurrentListing,MATCH('Category Set A by Age'!AB174,CurrentListing,0),1)),25),AP174),HYPERLINK(\"#'Select LEA'!\"&\"$AA$10\",AP174))","v":""},"",null,null,"ID20DN","HI20DN","SLI20DN","VI20DN","EMN20DN","OI20DN","OHI20DN","SLD20DN","DB20DN","MD20DN","AUT20DN","TBI20DN",null,"Died","","","","","","","","","","","","",0]
["Moved, known to be continuing",{"$f":"IFERROR(HYPERLINK(\"#'Select LEA'!\"&ADDRESS(ROW(INDEX(CurrentListing,MATCH('Category Set A by Age'!Q175,CurrentListing,0),1)),25),AE175),HYPERLINK(\"#'Select LEA'!\"&\"$AA$10\",AE175))","v":""},{"$f":"IFERROR(HYPERLINK(\"#'Select LEA'!\"&ADDRESS(ROW(INDEX(CurrentListing,MATCH('Category Set A by Age'!R175,CurrentListing,0),1)),25),AF175),HYPERLINK(\"#'Select LEA'!\"&\"$AA$10\",AF175))","v":""},{"$f":"IFERROR(HYPERLINK(\"#'Select LEA'!\"&ADDRESS(ROW(INDEX(CurrentListing,MATCH('Category Set A by Age'!S175,CurrentListing,0),1)),25),AG175),HYPERLINK(\"#'Select LEA'!\"&\"$AA$10\",AG175))","v":""},{"$f":"IFERROR(HYPERLINK(\"#'Select LEA'!\"&ADDRESS(ROW(INDEX(CurrentListing,MATCH('Category Set A by Age'!T175,CurrentListing,0),1)),25),AH175),HYPERLINK(\"#'Select LEA'!\"&\"$AA$10\",AH175))","v":""},{"$f":"IFERROR(HYPERLINK(\"#'Select LEA'!\"&ADDRESS(ROW(INDEX(CurrentListing,MATCH('Category Set A by Age'!U175,CurrentListing,0),1)),25),AI175),HYPERLINK(\"#'Select LEA'!\"&\"$AA$10\",AI175))","v":""},{"$f":"IFERROR(HYPERLINK(\"#'Select LEA'!\"&ADDRESS(ROW(INDEX(CurrentListing,MATCH('Category Set A by Age'!V175,CurrentListing,0),1)),25),AJ175),HYPERLINK(\"#'Select LEA'!\"&\"$AA$10\",AJ175))","v":""},{"$f":"IFERROR(HYPERLINK(\"#'Select LEA'!\"&ADDRESS(ROW(INDEX(CurrentListing,MATCH('Category Set A by Age'!W175,CurrentListing,0),1)),25),AK175),HYPERLINK(\"#'Select LEA'!\"&\"$AA$10\",AK175))","v":""},{"$f":"IFERROR(HYPERLINK(\"#'Select LEA'!\"&ADDRESS(ROW(INDEX(CurrentListing,MATCH('Category Set A by Age'!X175,CurrentListing,0),1)),25),AL175),HYPERLINK(\"#'Select LEA'!\"&\"$AA$10\",AL175))","v":""},{"$f":"IFERROR(HYPERLINK(\"#'Select LEA'!\"&ADDRESS(ROW(INDEX(CurrentListing,MATCH('Category Set A by Age'!Y175,CurrentListing,0),1)),25),AM175),HYPERLINK(\"#'Select LEA'!\"&\"$AA$10\",AM175))","v":""},{"$f":"IFERROR(HYPERLINK(\"#'Select LEA'!\"&ADDRESS(ROW(INDEX(CurrentListing,MATCH('Category Set A by Age'!Z175,CurrentListing,0),1)),25),AN175),HYPERLINK(\"#'Select LEA'!\"&\"$AA$10\",AN175))","v":""},{"$f":"IFERROR(HYPERLINK(\"#'Select LEA'!\"&ADDRESS(ROW(INDEX(CurrentListing,MATCH('Category Set A by Age'!AA175,CurrentListing,0),1)),25),AO175),HYPERLINK(\"#'Select LEA'!\"&\"$AA$10\",AO175))","v":""},{"$f":"IFERROR(HYPERLINK(\"#'Select LEA'!\"&ADDRESS(ROW(INDEX(CurrentListing,MATCH('Category Set A by Age'!AB175,CurrentListing,0),1)),25),AP175),HYPERLINK(\"#'Select LEA'!\"&\"$AA$10\",AP175))","v":""},"",null,null,"ID20MKCN","HI20MKCN","SLI20MKCN","VI20MKCN","EMN20MKCN","OI20MKCN","OHI20MKCN","SLD20MKCN","DB20MKCN","MD20MKCN","AUT20MKCN","TBI20MKCN",null,"Moved, known to be continuing","","","","","","","","","","","","",0]
["Dropped out",{"$f":"IFERROR(HYPERLINK(\"#'Select LEA'!\"&ADDRESS(ROW(INDEX(CurrentListing,MATCH('Category Set A by Age'!Q176,CurrentListing,0),1)),25),AE176),HYPERLINK(\"#'Select LEA'!\"&\"$AA$10\",AE176))","v":""},{"$f":"IFERROR(HYPERLINK(\"#'Select LEA'!\"&ADDRESS(ROW(INDEX(CurrentListing,MATCH('Category Set A by Age'!R176,CurrentListing,0),1)),25),AF176),HYPERLINK(\"#'Select LEA'!\"&\"$AA$10\",AF176))","v":""},{"$f":"IFERROR(HYPERLINK(\"#'Select LEA'!\"&ADDRESS(ROW(INDEX(CurrentListing,MATCH('Category Set A by Age'!S176,CurrentListing,0),1)),25),AG176),HYPERLINK(\"#'Select LEA'!\"&\"$AA$10\",AG176))","v":""},{"$f":"IFERROR(HYPERLINK(\"#'Select LEA'!\"&ADDRESS(ROW(INDEX(CurrentListing,MATCH('Category Set A by Age'!T176,CurrentListing,0),1)),25),AH176),HYPERLINK(\"#'Select LEA'!\"&\"$AA$10\",AH176))","v":""},{"$f":"IFERROR(HYPERLINK(\"#'Select LEA'!\"&ADDRESS(ROW(INDEX(CurrentListing,MATCH('Category Set A by Age'!U176,CurrentListing,0),1)),25),AI176),HYPERLINK(\"#'Select LEA'!\"&\"$AA$10\",AI176))","v":""},{"$f":"IFERROR(HYPERLINK(\"#'Select LEA'!\"&ADDRESS(ROW(INDEX(CurrentListing,MATCH('Category Set A by Age'!V176,CurrentListing,0),1)),25),AJ176),HYPERLINK(\"#'Select LEA'!\"&\"$AA$10\",AJ176))","v":""},{"$f":"IFERROR(HYPERLINK(\"#'Select LEA'!\"&ADDRESS(ROW(INDEX(CurrentListing,MATCH('Category Set A by Age'!W176,CurrentListing,0),1)),25),AK176),HYPERLINK(\"#'Select LEA'!\"&\"$AA$10\",AK176))","v":""},{"$f":"IFERROR(HYPERLINK(\"#'Select LEA'!\"&ADDRESS(ROW(INDEX(CurrentListing,MATCH('Category Set A by Age'!X176,CurrentListing,0),1)),25),AL176),HYPERLINK(\"#'Select LEA'!\"&\"$AA$10\",AL176))","v":""},{"$f":"IFERROR(HYPERLINK(\"#'Select LEA'!\"&ADDRESS(ROW(INDEX(CurrentListing,MATCH('Category Set A by Age'!Y176,CurrentListing,0),1)),25),AM176),HYPERLINK(\"#'Select LEA'!\"&\"$AA$10\",AM176))","v":""},{"$f":"IFERROR(HYPERLINK(\"#'Select LEA'!\"&ADDRESS(ROW(INDEX(CurrentListing,MATCH('Category Set A by Age'!Z176,CurrentListing,0),1)),25),AN176),HYPERLINK(\"#'Select LEA'!\"&\"$AA$10\",AN176))","v":""},{"$f":"IFERROR(HYPERLINK(\"#'Select LEA'!\"&ADDRESS(ROW(INDEX(CurrentListing,MATCH('Category Set A by Age'!AA176,CurrentListing,0),1)),25),AO176),HYPERLINK(\"#'Select LEA'!\"&\"$AA$10\",AO176))","v":""},{"$f":"IFERROR(HYPERLINK(\"#'Select LEA'!\"&ADDRESS(ROW(INDEX(CurrentListing,MATCH('Category Set A by Age'!AB176,CurrentListing,0),1)),25),AP176),HYPERLINK(\"#'Select LEA'!\"&\"$AA$10\",AP176))","v":""},"",null,null,"ID20DROPOUTN","HI20DROPOUTN","SLI20DROPOUTN","VI20DROPOUTN","EMN20DROPOUTN","OI20DROPOUTN","OHI20DROPOUTN","SLD20DROPOUTN","DB20DROPOUTN","MD20DROPOUTN","AUT20DROPOUTN","TBI20DROPOUTN",null,"Dropped out","","","","","","","","","","","","",0]
["Total",{"$f":"IF(SUM(B169:B176)=0,\"\",SUM(B169:B176))","v":""},{"$f":"IF(SUM(C169:C176)=0,\"\",SUM(C169:C176))","v":""},"","","","","","","","","","",{"$f":"IF(AND(N4=\"\",N5=\"\",N6=\"\",N7=\"\",N8=\"\",N9=\"\",N10=\"\",N11=\"\"),\"\",SUM(B169:M176))","v":""},null,null,null,null,null,null,null,null,null,null,null,null,null,null,"20Y","Total",{"$f":"SUM(AE169:AE176)","v":0},{"$f":"SUM(AF169:AF176)","v":0},0,0,0,0,0,0,0,0,0,0,{"$f":"IFERROR(IF(INDEX(StudCntC009,MATCH(AC177,CurrentListing,0))=\"\",\"No Data\",INDEX(StudCntC009,MATCH(AC177,CurrentListing,0))),\"\")","v":""}]
[]
["Percent by basis of exit","Age 20"]
[null,"Intellectual\ndisability\n(percent)","Hearing\nimpairment\n(percent)","Speech or\nlanguage\nimpairment\n(percent)","Visual\nimpairment\n(percent)","Emotional\ndisturbance\n(percent)","Orthopedic\nimpairment\n(percent)","Other\nhealth\nimpairment\n(percent)","Specific\nlearning\ndisability\n(percent)","Deaf-\nblindness\n(percent)","Multiple\ndisabilities\n(percent)","Autism\n(Percent)","Traumatic\nbrain\ninjury\n(percent)","Total\n(percent)"]
["Transferred to regular education",{"$f":"IF(ISERROR(B169/$N169),IF(B169=\"\", \"\",0), B169/$N169)","v":""},"","","","","","","","","","","",{"$f":"IF(SUM(B181:M181)=0,\"\",SUM(B181:M181))","v":""}]
["Graduated with regular high school diploma",{"$f":"IF(ISERROR(B170/$N170),IF(B170=\"\", \"\",0), B170/$N170)","v":""},"","","","","","","","","","","",{"$f":"IF(SUM(B182:M182)=0,\"\",SUM(B182:M182))","v":""}]
["Graduated with an alternate diploma",{"$f":"IF(ISERROR(B171/$N171),IF(B171=\"\", \"\",0), B171/$N171)","v":""},"","","","","","","","","","","",""]
["Received a certificate",{"$f":"IF(ISERROR(B172/$N172),IF(B172=\"\", \"\",0), B172/$N172)","v":""},"","","","","","","","","","","",""]
["Reached maximum age",{"$f":"IF(ISERROR(B173/$N173),IF(B173=\"\", \"\",0), B173/$N173)","v":""},"","","","","","","","","","","",""]
["Died",{"$f":"IF(ISERROR(B174/$N174),IF(B174=\"\", \"\",0), B174/$N174)","v":""},"","","","","","","","","","","",""]
["Moved, known to be continuing",{"$f":"IF(ISERROR(B175/$N175),IF(B175=\"\", \"\",0), B175/$N175)","v":""},"","","","","","","","","","","",""]
["Dropped out",{"$f":"IF(ISERROR(B176/$N176),IF(B176=\"\", \"\",0), B176/$N176)","v":""},"","","","","","","","","","","",""]
["Total",{"$f":"IFERROR(IF($N177<>0,B177/$N177,0),\"\")","v":""},"","","","","","","","","","","",{"$f":"SUM(B189:M189)","v":0}]
[]
["Category set A – Children with disabilities (IDEA) exiting special education, by age, disability category, and basis of exit"]
["Student count by basis of exit ","Age 21",null,null,null,null,null,null,null,null,null,null,null,null,null,null,"Age 21 Lookup",null,null,null,null,null,null,null,null,null,null,null,null,"Student counts by basis of exit","Age 21"]
[null,"Intellectual\ndisability","Hearing\nimpairment","Speech or\nlanguage\nimpairment","Visual\nimpairment","Emotional\ndisturbance","Orthopedic\nimpairment","Other\nhealth\nimpairment","Specific\nlearning\ndisability","Deaf-\nblindness","Multiple\ndisabilities","Autism","Traumatic\nbrain\ninjury","Total",null,null,null,null,null,null,null,null,null,null,null,null,null,null,null,null,"Intellectual\nDisability","Hearing\nImpairments","Speech or\nLanguage\nImpairments","Visual\nImpairments","Emotional\nDisturbance","Orthopedic\nImpairments","Other\nHealth\nImpairments","Specific\nLearning\nDisabilities","Deaf-\nBlindness","Multiple\nDisabilities","Autism","Traumatic\nBrain\nInjury","Total"]
["Transferred to regular education",{"$f":"IFERROR(HYPERLINK(\"#'Select LEA'!\"&ADDRESS(ROW(INDEX(CurrentListing,MATCH('Category Set A by Age'!Q194,CurrentListing,0),1)),25),AE194),HYPERLINK(\"#'Select LEA'!\"&\"$AA$10\",AE194))","v":""},{"$f":"IFERROR(HYPERLINK(\"#'Select LEA'!\"&ADDRESS(ROW(INDEX(CurrentListing,MATCH('Category Set A by Age'!R194,CurrentListing,0),1)),25),AF194),HYPERLINK(\"#'Select LEA'!\"&\"$AA$10\",AF194))","v":""},{"$f":"IFERROR(HYPERLINK(\"#'Select LEA'!\"&ADDRESS(ROW(INDEX(CurrentListing,MATCH('Category Set A by Age'!S194,CurrentListing,0),1)),25),AG194),HYPERLINK(\"#'Select LEA'!\"&\"$AA$10\",AG194))","v":""},{"$f":"IFERROR(HYPERLINK(\"#'Select LEA'!\"&ADDRESS(ROW(INDEX(CurrentListing,MATCH('Category Set A by Age'!T194,CurrentListing,0),1)),25),AH194),HYPERLINK(\"#'Select LEA'!\"&\"$AA$10\",AH194))","v":""},{"$f":"IFERROR(HYPERLINK(\"#'Select LEA'!\"&ADDRESS(ROW(INDEX(CurrentListing,MATCH('Category Set A by Age'!U194,CurrentListing,0),1)),25),AI194),HYPERLINK(\"#'Select LEA'!\"&\"$AA$10\",AI194))","v":""},{"$f":"IFERROR(HYPERLINK(\"#'Select LEA'!\"&ADDRESS(ROW(INDEX(CurrentListing,MATCH('Category Set A by Age'!V194,CurrentListing,0),1)),25),AJ194),HYPERLINK(\"#'Select LEA'!\"&\"$AA$10\",AJ194))","v":""},{"$f":"IFERROR(HYPERLINK(\"#'Select LEA'!\"&ADDRESS(ROW(INDEX(CurrentListing,MATCH('Category Set A by Age'!W194,CurrentListing,0),1)),25),AK194),HYPERLINK(\"#'Select LEA'!\"&\"$AA$10\",AK194))","v":""},{"$f":"IFERROR(HYPERLINK(\"#'Select LEA'!\"&ADDRESS(ROW(INDEX(CurrentListing,MATCH('Category Set A by Age'!X194,CurrentListing,0),1)),25),AL194),HYPERLINK(\"#'Select LEA'!\"&\"$AA$10\",AL194))","v":""},{"$f":"IFERROR(HYPERLINK(\"#'Select LEA'!\"&ADDRESS(ROW(INDEX(CurrentListing,MATCH('Category Set A by Age'!Y194,CurrentListing,0),1)),25),AM194),HYPERLINK(\"#'Select LEA'!\"&\"$AA$10\",AM194))","v":""},{"$f":"IFERROR(HYPERLINK(\"#'Select LEA'!\"&ADDRESS(ROW(INDEX(CurrentListing,MATCH('Category Set A by Age'!Z194,CurrentListing,0),1)),25),AN194),HYPERLINK(\"#'Select LEA'!\"&\"$AA$10\",AN194))","v":""},{"$f":"IFERROR(HYPERLINK(\"#'Select LEA'!\"&ADDRESS(ROW(INDEX(CurrentListing,MATCH('Category Set A by Age'!AA194,CurrentListing,0),1)),25),AO194),HYPERLINK(\"#'Select LEA'!\"&\"$AA$10\",AO194))","v":""},{"$f":"IFERROR(HYPERLINK(\"#'Select LEA'!\"&ADDRESS(ROW(INDEX(CurrentListing,MATCH('Category Set A by Age'!AB194,CurrentListing,0),1)),25),AP194),HYPERLINK(\"#'Select LEA'!\"&\"$AA$10\",AP194))","v":""},{"$f":"IF(SUM(B194:M194)=0,\"\",SUM(B194:M194))","v":""},null,null,"ID21TRANN","HI21TRANN","SLI21TRANN","VI21TRANN","EMN21TRANN","OI21TRANN","OHI21TRANN","SLD21TRANN","DB21TRANN","MD21TRANN","AUT21TRANN","TBI21TRANN",null,"Transferred to regular education",{"$f":"IFERROR(IF(INDEX(StudCntC009,MATCH(Q194,CurrentListing,0))=\"\",\"No Data\",INDEX(StudCntC009,MATCH(Q194,CurrentListing,0))),\"\")","v":""},"","","","","","","","","","","",{"$f":"SUM(AE194:AP194)","v":0}]
["Graduated with regular high school diploma",{"$f":"IFERROR(HYPERLINK(\"#'Select LEA'!\"&ADDRESS(ROW(INDEX(CurrentListing,MATCH('Category Set A by Age'!Q195,CurrentListing,0),1)),25),AE195),HYPERLINK(\"#'Select LEA'!\"&\"$AA$10\",AE195))","v":""},{"$f":"IFERROR(HYPERLINK(\"#'Select LEA'!\"&ADDRESS(ROW(INDEX(CurrentListing,MATCH('Category Set A by Age'!R195,CurrentListing,0),1)),25),AF195),HYPERLINK(\"#'Select LEA'!\"&\"$AA$10\",AF195))","v":""},{"$f":"IFERROR(HYPERLINK(\"#'Select LEA'!\"&ADDRESS(ROW(INDEX(CurrentListing,MATCH('Category Set A by Age'!S195,CurrentListing,0),1)),25),AG195),HYPERLINK(\"#'Select LEA'!\"&\"$AA$10\",AG195))","v":""},{"$f":"IFERROR(HYPERLINK(\"#'Select LEA'!\"&ADDRESS(ROW(INDEX(CurrentListing,MATCH('Category Set A by Age'!T195,CurrentListing,0),1)),25),AH195),HYPERLINK(\"#'Select LEA'!\"&\"$AA$10\",AH195))","v":""},{"$f":"IFERROR(HYPERLINK(\"#'Select LEA'!\"&ADDRESS(ROW(INDEX(CurrentListing,MATCH('Category Set A by Age'!U195,CurrentListing,0),1)),25),AI195),HYPERLINK(\"#'Select LEA'!\"&\"$AA$10\",AI195))","v":""},{"$f":"IFERROR(HYPERLINK(\"#'Select LEA'!\"&ADDRESS(ROW(INDEX(CurrentListing,MATCH('Category Set A by Age'!V195,CurrentListing,0),1)),25),AJ195),HYPERLINK(\"#'Select LEA'!\"&\"$AA$10\",AJ195))","v":""},{"$f":"IFERROR(HYPERLINK(\"#'Select LEA'!\"&ADDRESS(ROW(INDEX(CurrentListing,MATCH('Category Set A by Age'!W195,CurrentListing,0),1)),25),AK195),HYPERLINK(\"#'Select LEA'!\"&\"$AA$10\",AK195))","v":""},{"$f":"IFERROR(HYPERLINK(\"#'Select LEA'!\"&ADDRESS(ROW(INDEX(CurrentListing,MATCH('Category Set A by Age'!X195,CurrentListing,0),1)),25),AL195),HYPERLINK(\"#'Select LEA'!\"&\"$AA$10\",AL195))","v":""},{"$f":"IFERROR(HYPERLINK(\"#'Select LEA'!\"&ADDRESS(ROW(INDEX(CurrentListing,MATCH('Category Set A by Age'!Y195,CurrentListing,0),1)),25),AM195),HYPERLINK(\"#'Select LEA'!\"&\"$AA$10\",AM195))","v":""},{"$f":"IFERROR(HYPERLINK(\"#'Select LEA'!\"&ADDRESS(ROW(INDEX(CurrentListing,MATCH('Category Set A by Age'!Z195,CurrentListing,0),1)),25),AN195),HYPERLINK(\"#'Select LEA'!\"&\"$AA$10\",AN195))","v":""},{"$f":"IFERROR(HYPERLINK(\"#'Select LEA'!\"&ADDRESS(ROW(INDEX(CurrentListing,MATCH('Category Set A by Age'!AA195,CurrentListing,0),1)),25),AO195),HYPERLINK(\"#'Select LEA'!\"&\"$AA$10\",AO195))","v":""},{"$f":"IFERROR(HYPERLINK(\"#'Select LEA'!\"&ADDRESS(ROW(INDEX(CurrentListing,MATCH('Category Set A by Age'!AB195,CurrentListing,0),1)),25),AP195),HYPERLINK(\"#'Select LEA'!\"&\"$AA$10\",AP195))","v":""},{"$f":"IF(SUM(B195:M195)=0,\"\",SUM(B195:M195))","v":""},null,null,"ID21GHSN","HI21GHSN","SLI21GHSN","VI21GHSN","EMN21GHSN","OI21GHSN","OHI21GHSN","SLD21GHSN","DB21GHSN","MD21GHSN","AUT21GHSN","TBI21GHSN",null,"Graduated with regular high school diploma","","","","","","","","","","","","",0]
["Graduated with an alternate diploma",{"$f":"IFERROR(HYPERLINK(\"#'Select LEA'!\"&ADDRESS(ROW(INDEX(CurrentListing,MATCH('Category Set A by Age'!Q196,CurrentListing,0),1)),25),AE196),HYPERLINK(\"#'Select LEA'!\"&\"$AA$10\",AE196))","v":""},{"$f":"IFERROR(HYPERLINK(\"#'Select LEA'!\"&ADDRESS(ROW(INDEX(CurrentListing,MATCH('Category Set A by Age'!R196,CurrentListing,0),1)),25),AF196),HYPERLINK(\"#'Select LEA'!\"&\"$AA$10\",AF196))","v":""},{"$f":"IFERROR(HYPERLINK(\"#'Select LEA'!\"&ADDRESS(ROW(INDEX(CurrentListing,MATCH('Category Set A by Age'!S196,CurrentListing,0),1)),25),AG196),HYPERLINK(\"#'Select LEA'!\"&\"$AA$10\",AG196))","v":""},{"$f":"IFERROR(HYPERLINK(\"#'Select LEA'!\"&ADDRESS(ROW(INDEX(CurrentListing,MATCH('Category Set A by Age'!T196,CurrentListing,0),1)),25),AH196),HYPERLINK(\"#'Select LEA'!\"&\"$AA$10\",AH196))","v":""},{"$f":"IFERROR(HYPERLINK(\"#'Select LEA'!\"&ADDRESS(ROW(INDEX(CurrentListing,MATCH('Category Set A by Age'!U196,CurrentListing,0),1)),25),AI196),HYPERLINK(\"#'Select LEA'!\"&\"$AA$10\",AI196))","v":""},{"$f":"IFERROR(HYPERLINK(\"#'Select LEA'!\"&ADDRESS(ROW(INDEX(CurrentListing,MATCH('Category Set A by Age'!V196,CurrentListing,0),1)),25),AJ196),HYPERLINK(\"#'Select LEA'!\"&\"$AA$10\",AJ196))","v":""},{"$f":"IFERROR(HYPERLINK(\"#'Select LEA'!\"&ADDRESS(ROW(INDEX(CurrentListing,MATCH('Category Set A by Age'!W196,CurrentListing,0),1)),25),AK196),HYPERLINK(\"#'Select LEA'!\"&\"$AA$10\",AK196))","v":""},{"$f":"IFERROR(HYPERLINK(\"#'Select LEA'!\"&ADDRESS(ROW(INDEX(CurrentListing,MATCH('Category Set A by Age'!X196,CurrentListing,0),1)),25),AL196),HYPERLINK(\"#'Select LEA'!\"&\"$AA$10\",AL196))","v":""},{"$f":"IFERROR(HYPERLINK(\"#'Select LEA'!\"&ADDRESS(ROW(INDEX(CurrentListing,MATCH('Category Set A by Age'!Y196,CurrentListing,0),1)),25),AM196),HYPERLINK(\"#'Select LEA'!\"&\"$AA$10\",AM196))","v":""},{"$f":"IFERROR(HYPERLINK(\"#'Select LEA'!\"&ADDRESS(ROW(INDEX(CurrentListing,MATCH('Category Set A by Age'!Z196,CurrentListing,0),1)),25),AN196),HYPERLINK(\"#'Select LEA'!\"&\"$AA$10\",AN196))","v":""},{"$f":"IFERROR(HYPERLINK(\"#'Select LEA'!\"&ADDRESS(ROW(INDEX(CurrentListing,MATCH('Category Set A by Age'!AA196,CurrentListing,0),1)),25),AO196),HYPERLINK(\"#'Select LEA'!\"&\"$AA$10\",AO196))","v":""},{"$f":"IFERROR(HYPERLINK(\"#'Select LEA'!\"&ADDRESS(ROW(INDEX(CurrentListing,MATCH('Category Set A by Age'!AB196,CurrentListing,0),1)),25),AP196),HYPERLINK(\"#'Select LEA'!\"&\"$AA$10\",AP196))","v":""},"",null,null,"ID21GRADALTDPLN","HI21GRADALTDPLN","SLI21GRADALTDPLN","VI21GRADALTDPLN","EMN21GRADALTDPLN","OI21GRADALTDPLN","OHI21GRADALTDPLN","SLD21GRADALTDPLN","DB21GRADALTDPLN","MD21GRADALTDPLN","AUT21GRADALTDPLN","TBI21GRADALTDPLN",null,"Graduated with an alternate diploma","","","","","","","","","","","","",0]
["Received a certificate",{"$f":"IFERROR(HYPERLINK(\"#'Select LEA'!\"&ADDRESS(ROW(INDEX(CurrentListing,MATCH('Category Set A by Age'!Q197,CurrentListing,0),1)),25),AE197),HYPERLINK(\"#'Select LEA'!\"&\"$AA$10\",AE197))","v":""},{"$f":"IFERROR(HYPERLINK(\"#'Select LEA'!\"&ADDRESS(ROW(INDEX(CurrentListing,MATCH('Category Set A by Age'!R197,CurrentListing,0),1)),25),AF197),HYPERLINK(\"#'Select LEA'!\"&\"$AA$10\",AF197))","v":""},{"$f":"IFERROR(HYPERLINK(\"#'Select LEA'!\"&ADDRESS(ROW(INDEX(CurrentListing,MATCH('Category Set A by Age'!S197,CurrentListing,0),1)),25),AG197),HYPERLINK(\"#'Select LEA'!\"&\"$AA$10\",AG197))","v":""},{"$f":"IFERROR(HYPERLINK(\"#'Select LEA'!\"&ADDRESS(ROW(INDEX(CurrentListing,MATCH('Category Set A by Age'!T197,CurrentListing,0),1)),25),AH197),HYPERLINK(\"#'Select LEA'!\"&\"$AA$10\",AH197))","v":""},{"$f":"IFERROR(HYPERLINK(\"#'Select LEA'!\"&ADDRESS(ROW(INDEX(CurrentListing,MATCH('Category Set A by Age'!U197,CurrentListing,0),1)),25),AI197),HYPERLINK(\"#'Select LEA'!\"&\"$AA$10\",AI197))","v":""},{"$f":"IFERROR(HYPERLINK(\"#'Select LEA'!\"&ADDRESS(ROW(INDEX(CurrentListing,MATCH('Category Set A by Age'!V197,CurrentListing,0),1)),25),AJ197),HYPERLINK(\"#'Select LEA'!\"&\"$AA$10\",AJ197))","v":""},{"$f":"IFERROR(HYPERLINK(\"#'Select LEA'!\"&ADDRESS(ROW(INDEX(CurrentListing,MATCH('Category Set A by Age'!W197,CurrentListing,0),1)),25),AK197),HYPERLINK(\"#'Select LEA'!\"&\"$AA$10\",AK197))","v":""},{"$f":"IFERROR(HYPERLINK(\"#'Select LEA'!\"&ADDRESS(ROW(INDEX(CurrentListing,MATCH('Category Set A by Age'!X197,CurrentListing,0),1)),25),AL197),HYPERLINK(\"#'Select LEA'!\"&\"$AA$10\",AL197))","v":""},{"$f":"IFERROR(HYPERLINK(\"#'Select LEA'!\"&ADDRESS(ROW(INDEX(CurrentListing,MATCH('Category Set A by Age'!Y197,CurrentListing,0),1)),25),AM197),HYPERLINK(\"#'Select LEA'!\"&\"$AA$10\",AM197))","v":""},{"$f":"IFERROR(HYPERLINK(\"#'Select LEA'!\"&ADDRESS(ROW(INDEX(CurrentListing,MATCH('Category Set A by Age'!Z197,CurrentListing,0),1)),25),AN197),HYPERLINK(\"#'Select LEA'!\"&\"$AA$10\",AN197))","v":""},{"$f":"IFERROR(HYPERLINK(\"#'Select LEA'!\"&ADDRESS(ROW(INDEX(CurrentListing,MATCH('Category Set A by Age'!AA197,CurrentListing,0),1)),25),AO197),HYPERLINK(\"#'Select LEA'!\"&\"$AA$10\",AO197))","v":""},{"$f":"IFERROR(HYPERLINK(\"#'Select LEA'!\"&ADDRESS(ROW(INDEX(CurrentListing,MATCH('Category Set A by Age'!AB197,CurrentListing,0),1)),25),AP197),HYPERLINK(\"#'Select LEA'!\"&\"$AA$10\",AP197))","v":""},"",null,null,"ID21RCN","HI21RCN","SLI21RCN","VI21RCN","EMN21RCN","OI21RCN","OHI21RCN","SLD21RCN","DB21RCN","MD21RCN","AUT21RCN","TBI21RCN",null,"Received a certificate","","","","","","","","","","","","",0]
["Reached maximum age",{"$f":"IFERROR(HYPERLINK(\"#'Select LEA'!\"&ADDRESS(ROW(INDEX(CurrentListing,MATCH('Category Set A by Age'!Q198,CurrentListing,0),1)),25),AE198),HYPERLINK(\"#'Select LEA'!\"&\"$AA$10\",AE198))","v":""},{"$f":"IFERROR(HYPERLINK(\"#'Select LEA'!\"&ADDRESS(ROW(INDEX(CurrentListing,MATCH('Category Set A by Age'!R198,CurrentListing,0),1)),25),AF198),HYPERLINK(\"#'Select LEA'!\"&\"$AA$10\",AF198))","v":""},{"$f":"IFERROR(HYPERLINK(\"#'Select LEA'!\"&ADDRESS(ROW(INDEX(CurrentListing,MATCH('Category Set A by Age'!S198,CurrentListing,0),1)),25),AG198),HYPERLINK(\"#'Select LEA'!\"&\"$AA$10\",AG198))","v":""},{"$f":"IFERROR(HYPERLINK(\"#'Select LEA'!\"&ADDRESS(ROW(INDEX(CurrentListing,MATCH('Category Set A by Age'!T198,CurrentListing,0),1)),25),AH198),HYPERLINK(\"#'Select LEA'!\"&\"$AA$10\",AH198))","v":""},{"$f":"IFERROR(HYPERLINK(\"#'Select LEA'!\"&ADDRESS(ROW(INDEX(CurrentListing,MATCH('Category Set A by Age'!U198,CurrentListing,0),1)),25),AI198),HYPERLINK(\"#'Select LEA'!\"&\"$AA$10\",AI198))","v":""},{"$f":"IFERROR(HYPERLINK(\"#'Select LEA'!\"&ADDRESS(ROW(INDEX(CurrentListing,MATCH('Category Set A by Age'!V198,CurrentListing,0),1)),25),AJ198),HYPERLINK(\"#'Select LEA'!\"&\"$AA$10\",AJ198))","v":""},{"$f":"IFERROR(HYPERLINK(\"#'Select LEA'!\"&ADDRESS(ROW(INDEX(CurrentListing,MATCH('Category Set A by Age'!W198,CurrentListing,0),1)),25),AK198),HYPERLINK(\"#'Select LEA'!\"&\"$AA$10\",AK198))","v":""},{"$f":"IFERROR(HYPERLINK(\"#'Select LEA'!\"&ADDRESS(ROW(INDEX(CurrentListing,MATCH('Category Set A by Age'!X198,CurrentListing,0),1)),25),AL198),HYPERLINK(\"#'Select LEA'!\"&\"$AA$10\",AL198))","v":""},{"$f":"IFERROR(HYPERLINK(\"#'Select LEA'!\"&ADDRESS(ROW(INDEX(CurrentListing,MATCH('Category Set A by Age'!Y198,CurrentListing,0),1)),25),AM198),HYPERLINK(\"#'Select LEA'!\"&\"$AA$10\",AM198))","v":""},{"$f":"IFERROR(HYPERLINK(\"#'Select LEA'!\"&ADDRESS(ROW(INDEX(CurrentListing,MATCH('Category Set A by Age'!Z198,CurrentListing,0),1)),25),AN198),HYPERLINK(\"#'Select LEA'!\"&\"$AA$10\",AN198))","v":""},{"$f":"IFERROR(HYPERLINK(\"#'Select LEA'!\"&ADDRESS(ROW(INDEX(CurrentListing,MATCH('Category Set A by Age'!AA198,CurrentListing,0),1)),25),AO198),HYPERLINK(\"#'Select LEA'!\"&\"$AA$10\",AO198))","v":""},{"$f":"IFERROR(HYPERLINK(\"#'Select LEA'!\"&ADDRESS(ROW(INDEX(CurrentListing,MATCH('Category Set A by Age'!AB198,CurrentListing,0),1)),25),AP198),HYPERLINK(\"#'Select LEA'!\"&\"$AA$10\",AP198))","v":""},"",null,null,"ID21RMAN","HI21RMAN","SLI21RMAN","VI21RMAN","EMN21RMAN","OI21RMAN","OHI21RMAN","SLD21RMAN","DB21RMAN","MD21RMAN","AUT21RMAN","TBI21RMAN",null,"Reached maximum age","","","","","","","","","","","","",0]
["Died",{"$f":"IFERROR(HYPERLINK(\"#'Select LEA'!\"&ADDRESS(ROW(INDEX(CurrentListing,MATCH('Category Set A by Age'!Q199,CurrentListing,0),1)),25),AE199),HYPERLINK(\"#'Select LEA'!\"&\"$AA$10\",AE199))","v":""},{"$f":"IFERROR(HYPERLINK(\"#'Select LEA'!\"&ADDRESS(ROW(INDEX(CurrentListing,MATCH('Category Set A by Age'!R199,CurrentListing,0),1)),25),AF199),HYPERLINK(\"#'Select LEA'!\"&\"$AA$10\",AF199))","v":""},{"$f":"IFERROR(HYPERLINK(\"#'Select LEA'!\"&ADDRESS(ROW(INDEX(CurrentListing,MATCH('Category Set A by Age'!S199,CurrentListing,0),1)),25),AG199),HYPERLINK(\"#'Select LEA'!\"&\"$AA$10\",AG199))","v":""},{"$f":"IFERROR(HYPERLINK(\"#'Select LEA'!\"&ADDRESS(ROW(INDEX(CurrentListing,MATCH('Category Set A by Age'!T199,CurrentListing,0),1)),25),AH199),HYPERLINK(\"#'Select LEA'!\"&\"$AA$10\",AH199))","v":""},{"$f":"IFERROR(HYPERLINK(\"#'Select LEA'!\"&ADDRESS(ROW(INDEX(CurrentListing,MATCH('Category Set A by Age'!U199,CurrentListing,0),1)),25),AI199),HYPERLINK(\"#'Select LEA'!\"&\"$AA$10\",AI199))","v":""},{"$f":"IFERROR(HYPERLINK(\"#'Select LEA'!\"&ADDRESS(ROW(INDEX(CurrentListing,MATCH('Category Set A by Age'!V199,CurrentListing,0),1)),25),AJ199),HYPERLINK(\"#'Select LEA'!\"&\"$AA$10\",AJ199))","v":""},{"$f":"IFERROR(HYPERLINK(\"#'Select LEA'!\"&ADDRESS(ROW(INDEX(CurrentListing,MATCH('Category Set A by Age'!W199,CurrentListing,0),1)),25),AK199),HYPERLINK(\"#'Select LEA'!\"&\"$AA$10\",AK199))","v":""},{"$f":"IFERROR(HYPERLINK(\"#'Select LEA'!\"&ADDRESS(ROW(INDEX(CurrentListing,MATCH('Category Set A by Age'!X199,CurrentListing,0),1)),25),AL199),HYPERLINK(\"#'Select LEA'!\"&\"$AA$10\",AL199))","v":""},{"$f":"IFERROR(HYPERLINK(\"#'Select LEA'!\"&ADDRESS(ROW(INDEX(CurrentListing,MATCH('Category Set A by Age'!Y199,CurrentListing,0),1)),25),AM199),HYPERLINK(\"#'Select LEA'!\"&\"$AA$10\",AM199))","v":""},{"$f":"IFERROR(HYPERLINK(\"#'Select LEA'!\"&ADDRESS(ROW(INDEX(CurrentListing,MATCH('Category Set A by Age'!Z199,CurrentListing,0),1)),25),AN199),HYPERLINK(\"#'Select LEA'!\"&\"$AA$10\",AN199))","v":""},{"$f":"IFERROR(HYPERLINK(\"#'Select LEA'!\"&ADDRESS(ROW(INDEX(CurrentListing,MATCH('Category Set A by Age'!AA199,CurrentListing,0),1)),25),AO199),HYPERLINK(\"#'Select LEA'!\"&\"$AA$10\",AO199))","v":""},{"$f":"IFERROR(HYPERLINK(\"#'Select LEA'!\"&ADDRESS(ROW(INDEX(CurrentListing,MATCH('Category Set A by Age'!AB199,CurrentListing,0),1)),25),AP199),HYPERLINK(\"#'Select LEA'!\"&\"$AA$10\",AP199))","v":""},"",null,null,"ID21DN","HI21DN","SLI21DN","VI21DN","EMN21DN","OI21DN","OHI21DN","SLD21DN","DB21DN","MD21DN","AUT21DN","TBI21DN",null,"Died","","","","","","","","","","","","",0]
["Moved, known to be continuing",{"$f":"IFERROR(HYPERLINK(\"#'Select LEA'!\"&ADDRESS(ROW(INDEX(CurrentListing,MATCH('Category Set A by Age'!Q200,CurrentListing,0),1)),25),AE200),HYPERLINK(\"#'Select LEA'!\"&\"$AA$10\",AE200))","v":""},{"$f":"IFERROR(HYPERLINK(\"#'Select LEA'!\"&ADDRESS(ROW(INDEX(CurrentListing,MATCH('Category Set A by Age'!R200,CurrentListing,0),1)),25),AF200),HYPERLINK(\"#'Select LEA'!\"&\"$AA$10\",AF200))","v":""},{"$f":"IFERROR(HYPERLINK(\"#'Select LEA'!\"&ADDRESS(ROW(INDEX(CurrentListing,MATCH('Category Set A by Age'!S200,CurrentListing,0),1)),25),AG200),HYPERLINK(\"#'Select LEA'!\"&\"$AA$10\",AG200))","v":""},{"$f":"IFERROR(HYPERLINK(\"#'Select LEA'!\"&ADDRESS(ROW(INDEX(CurrentListing,MATCH('Category Set A by Age'!T200,CurrentListing,0),1)),25),AH200),HYPERLINK(\"#'Select LEA'!\"&\"$AA$10\",AH200))","v":""},{"$f":"IFERROR(HYPERLINK(\"#'Select LEA'!\"&ADDRESS(ROW(INDEX(CurrentListing,MATCH('Category Set A by Age'!U200,CurrentListing,0),1)),25),AI200),HYPERLINK(\"#'Select LEA'!\"&\"$AA$10\",AI200))","v":""},{"$f":"IFERROR(HYPERLINK(\"#'Select LEA'!\"&ADDRESS(ROW(INDEX(CurrentListing,MATCH('Category Set A by Age'!V200,CurrentListing,0),1)),25),AJ200),HYPERLINK(\"#'Select LEA'!\"&\"$AA$10\",AJ200))","v":""},{"$f":"IFERROR(HYPERLINK(\"#'Select LEA'!\"&ADDRESS(ROW(INDEX(CurrentListing,MATCH('Category Set A by Age'!W200,CurrentListing,0),1)),25),AK200),HYPERLINK(\"#'Select LEA'!\"&\"$AA$10\",AK200))","v":""},{"$f":"IFERROR(HYPERLINK(\"#'Select LEA'!\"&ADDRESS(ROW(INDEX(CurrentListing,MATCH('Category Set A by Age'!X200,CurrentListing,0),1)),25),AL200),HYPERLINK(\"#'Select LEA'!\"&\"$AA$10\",AL200))","v":""},{"$f":"IFERROR(HYPERLINK(\"#'Select LEA'!\"&ADDRESS(ROW(INDEX(CurrentListing,MATCH('Category Set A by Age'!Y200,CurrentListing,0),1)),25),AM200),HYPERLINK(\"#'Select LEA'!\"&\"$AA$10\",AM200))","v":""},{"$f":"IFERROR(HYPERLINK(\"#'Select LEA'!\"&ADDRESS(ROW(INDEX(CurrentListing,MATCH('Category Set A by Age'!Z200,CurrentListing,0),1)),25),AN200),HYPERLINK(\"#'Select LEA'!\"&\"$AA$10\",AN200))","v":""},{"$f":"IFERROR(HYPERLINK(\"#'Select LEA'!\"&ADDRESS(ROW(INDEX(CurrentListing,MATCH('Category Set A by Age'!AA200,CurrentListing,0),1)),25),AO200),HYPERLINK(\"#'Select LEA'!\"&\"$AA$10\",AO200))","v":""},{"$f":"IFERROR(HYPERLINK(\"#'Select LEA'!\"&ADDRESS(ROW(INDEX(CurrentListing,MATCH('Category Set A by Age'!AB200,CurrentListing,0),1)),25),AP200),HYPERLINK(\"#'Select LEA'!\"&\"$AA$10\",AP200))","v":""},"",null,null,"ID21MKCN","HI21MKCN","SLI21MKCN","VI21MKCN","EMN21MKCN","OI21MKCN","OHI21MKCN","SLD21MKCN","DB21MKCN","MD21MKCN","AUT21MKCN","TBI21MKCN",null,"Moved, known to be continuing","","","","","","","","","","","","",0]
["Dropped out",{"$f":"IFERROR(HYPERLINK(\"#'Select LEA'!\"&ADDRESS(ROW(INDEX(CurrentListing,MATCH('Category Set A by Age'!Q201,CurrentListing,0),1)),25),AE201),HYPERLINK(\"#'Select LEA'!\"&\"$AA$10\",AE201))","v":""},{"$f":"IFERROR(HYPERLINK(\"#'Select LEA'!\"&ADDRESS(ROW(INDEX(CurrentListing,MATCH('Category Set A by Age'!R201,CurrentListing,0),1)),25),AF201),HYPERLINK(\"#'Select LEA'!\"&\"$AA$10\",AF201))","v":""},{"$f":"IFERROR(HYPERLINK(\"#'Select LEA'!\"&ADDRESS(ROW(INDEX(CurrentListing,MATCH('Category Set A by Age'!S201,CurrentListing,0),1)),25),AG201),HYPERLINK(\"#'Select LEA'!\"&\"$AA$10\",AG201))","v":""},{"$f":"IFERROR(HYPERLINK(\"#'Select LEA'!\"&ADDRESS(ROW(INDEX(CurrentListing,MATCH('Category Set A by Age'!T201,CurrentListing,0),1)),25),AH201),HYPERLINK(\"#'Select LEA'!\"&\"$AA$10\",AH201))","v":""},{"$f":"IFERROR(HYPERLINK(\"#'Select LEA'!\"&ADDRESS(ROW(INDEX(CurrentListing,MATCH('Category Set A by Age'!U201,CurrentListing,0),1)),25),AI201),HYPERLINK(\"#'Select LEA'!\"&\"$AA$10\",AI201))","v":""},{"$f":"IFERROR(HYPERLINK(\"#'Select LEA'!\"&ADDRESS(ROW(INDEX(CurrentListing,MATCH('Category Set A by Age'!V201,CurrentListing,0),1)),25),AJ201),HYPERLINK(\"#'Select LEA'!\"&\"$AA$10\",AJ201))","v":""},{"$f":"IFERROR(HYPERLINK(\"#'Select LEA'!\"&ADDRESS(ROW(INDEX(CurrentListing,MATCH('Category Set A by Age'!W201,CurrentListing,0),1)),25),AK201),HYPERLINK(\"#'Select LEA'!\"&\"$AA$10\",AK201))","v":""},{"$f":"IFERROR(HYPERLINK(\"#'Select LEA'!\"&ADDRESS(ROW(INDEX(CurrentListing,MATCH('Category Set A by Age'!X201,CurrentListing,0),1)),25),AL201),HYPERLINK(\"#'Select LEA'!\"&\"$AA$10\",AL201))","v":""},{"$f":"IFERROR(HYPERLINK(\"#'Select LEA'!\"&ADDRESS(ROW(INDEX(CurrentListing,MATCH('Category Set A by Age'!Y201,CurrentListing,0),1)),25),AM201),HYPERLINK(\"#'Select LEA'!\"&\"$AA$10\",AM201))","v":""},{"$f":"IFERROR(HYPERLINK(\"#'Select LEA'!\"&ADDRESS(ROW(INDEX(CurrentListing,MATCH('Category Set A by Age'!Z201,CurrentListing,0),1)),25),AN201),HYPERLINK(\"#'Select LEA'!\"&\"$AA$10\",AN201))","v":""},{"$f":"IFERROR(HYPERLINK(\"#'Select LEA'!\"&ADDRESS(ROW(INDEX(CurrentListing,MATCH('Category Set A by Age'!AA201,CurrentListing,0),1)),25),AO201),HYPERLINK(\"#'Select LEA'!\"&\"$AA$10\",AO201))","v":""},{"$f":"IFERROR(HYPERLINK(\"#'Select LEA'!\"&ADDRESS(ROW(INDEX(CurrentListing,MATCH('Category Set A by Age'!AB201,CurrentListing,0),1)),25),AP201),HYPERLINK(\"#'Select LEA'!\"&\"$AA$10\",AP201))","v":""},"",null,null,"ID21DROPOUTN","HI21DROPOUTN","SLI21DROPOUTN","VI21DROPOUTN","EMN21DROPOUTN","OI21DROPOUTN","OHI21DROPOUTN","SLD21DROPOUTN","DB21DROPOUTN","MD21DROPOUTN","AUT21DROPOUTN","TBI21DROPOUTN",null,"Dropped out","","","","","","","","","","","","",0]
["Total",{"$f":"IF(SUM(B194:B201)=0,\"\",SUM(B194:B201))","v":""},{"$f":"IF(SUM(C194:C201)=0,\"\",SUM(C194:C201))","v":""},"","","","","","","","","","",{"$f":"IF(AND(N4=\"\",N5=\"\",N6=\"\",N7=\"\",N8=\"\",N9=\"\",N10=\"\",N11=\"\"),\"\",SUM(B194:M201))","v":""},null,null,null,null,null,null,null,null,null,null,null,null,null,null,"21Y","Total",{"$f":"SUM(AE194:AE201)","v":0},{"$f":"SUM(AF194:AF201)","v":0},0,0,0,0,0,0,0,0,0,0,{"$f":"IFERROR(IF(INDEX(StudCntC009,MATCH(AC202,CurrentListing,0))=\"\",\"No Data\",INDEX(StudCntC009,MATCH(AC202,CurrentListing,0))),\"\")","v":""}]
[]
["Percent by basis of exit","Age 21"]
[null,"Intellectual\ndisability\n(percent)","Hearing\nimpairment\n(percent)","Speech or\nlanguage\nimpairment\n(percent)","Visual\nimpairment\n(percent)","Emotional\ndisturbance\n(percent)","Orthopedic\nimpairment\n(percent)","Other\nhealth\nimpairment\n(percent)","Specific\nlearning\ndisability\n(percent)","Deaf-\nblindness\n(percent)","Multiple\ndisabilities\n(percent)","Autism\n(Percent)","Traumatic\nbrain\ninjury\n(percent)","Total\n(percent)"]
["Transferred to regular education",{"$f":"IF(ISERROR(B194/$N194),IF(B194=\"\", \"\",0), B194/$N194)","v":""},"","","","","","","","","","","",{"$f":"IF(SUM(B206:M206)=0,\"\",SUM(B206:M206))","v":""}]
["Graduated with regular high school diploma",{"$f":"IF(ISERROR(B195/$N195),IF(B195=\"\", \"\",0), B195/$N195)","v":""},"","","","","","","","","","","",{"$f":"IF(SUM(B207:M207)=0,\"\",SUM(B207:M207))","v":""}]
["Graduated with an alternate diploma",{"$f":"IF(ISERROR(B196/$N196),IF(B196=\"\", \"\",0), B196/$N196)","v":""},"","","","","","","","","","","",""]
["Received a certificate",{"$f":"IF(ISERROR(B197/$N197),IF(B197=\"\", \"\",0), B197/$N197)","v":""},"","","","","","","","","","","",""]
["Reached maximum age",{"$f":"IF(ISERROR(B198/$N198),IF(B198=\"\", \"\",0), B198/$N198)","v":""},"","","","","","","","","","","",""]
["Died",{"$f":"IF(ISERROR(B199/$N199),IF(B199=\"\", \"\",0), B199/$N199)","v":""},"","","","","","","","","","","",""]
["Moved, known to be continuing",{"$f":"IF(ISERROR(B200/$N200),IF(B200=\"\", \"\",0), B200/$N200)","v":""},"","","","","","","","","","","",""]
["Dropped out",{"$f":"IF(ISERROR(B201/$N201),IF(B201=\"\", \"\",0), B201/$N201)","v":""},"","","","","","","","","","","",""]
["Total",{"$f":"IFERROR(IF($N202<>0,B202/$N202,0),\"\")","v":""},"","","","","","","","","","","",{"$f":"SUM(B214:M214)","v":0}]
[]
[]
[]
["End of worksheet"]

{"sheet":"Category Set A by Basis of Exit","index":8,"n_rows":218,"n_cols":43,"rows_kept":218,"cut":false,"hidden":false,"merged":[[9,0,10,5],[66,29,67,29],[66,30,66,42],[5,7,5,11],[53,1,53,13],[53,0,54,0],[66,0,67,0],[66,1,66,13],[28,1,28,13],[16,29,17,29],[16,30,16,42],[41,29,42,29],[41,30,41,42],[41,1,41,13],[65,0,65,13],[0,14,213,14],[2,7,2,11],[190,0,190,13],[191,0,192,0],[91,0,92,0],[91,1,91,13],[8,7,8,11],[9,7,9,11],[10,7,10,11],[39,0,39,13],[16,0,17,0],[16,1,16,13],[27,0,27,13],[28,0,29,0],[15,0,15,13],[41,0,42,0],[139,0,139,13],[191,29,192,29],[191,30,191,42],[116,29,117,29],[116,30,116,42],[152,0,152,13],[153,0,154,0],[153,1,153,13],[116,1,116,13],[189,0,189,13],[178,0,179,0],[178,1,178,13],[177,0,177,13],[164,0,164,13],[165,0,165,13],[166,0,167,0],[166,1,166,13],[91,29,92,29],[91,30,91,42],[141,29,142,29],[141,30,141,42],[166,29,167,29],[166,30,166,42],[0,0,0,13],[217,0,217,14],[3,7,3,11],[4,7,4,11],[6,7,6,11],[7,7,7,11],[191,1,191,13],[202,0,202,13],[203,0,204,0],[203,1,203,13],[127,0,127,13],[128,0,129,0],[128,1,128,13],[11,0,11,2],[114,0,114,13],[115,0,115,13],[116,0,117,0],[215,0,215,1],[11,7,11,11],[141,0,142,0],[141,1,141,13],[140,0,140,13],[102,0,102,13],[103,0,104,0],[78,0,79,0],[78,1,78,13],[103,1,103,13],[13,7,13,11],[40,0,40,13],[90,0,90,13]]}
[{"$f":"\"IDEA LEA Exiting Data for School Year \"&'Exiting (LEA FS009)'!E12&\" - \"&'Select LEA'!F6","v":"IDEA LEA Exiting Data for School Year  - "},null,null,null,null,null,null,null,null,null,null,null,null,null,"End of worksheet",null,{"$f":"Subtotals!Q1","v":""},{"$f":"Subtotals!R1","v":"Y"}]
[]
[null,null,null,null,null,null,null,"Student counts basis of exit",null,null,null,null,"Calculated total for category \nset A","Subtotals by basis of exit from FS009"]
[null,null,null,null,null,null,null,"Transferred to regular education",null,null,null,null,{"$f":"IF(N27=0,\"\",N27)","v":""},{"$f":"IFERROR(HYPERLINK(\"#'Select LEA'!\"&ADDRESS(ROW(INDEX(CurrentListing,MATCH('Category Set A by Basis of Exit'!AC27,CurrentListing,0),1)),25),AQ27),HYPERLINK(\"#'Select LEA'!\"&\"$AA$10\",AQ27))","v":""}]
[null,null,null,null,null,null,null,"Graduated with regular high school diploma",null,null,null,null,{"$f":"IF(N52=0,\"\",N52)","v":""},{"$f":"IFERROR(HYPERLINK(\"#'Select LEA'!\"&ADDRESS(ROW(INDEX(CurrentListing,MATCH('Category Set A by Basis of Exit'!AC52,CurrentListing,0),1)),25),AQ52),HYPERLINK(\"#'Select LEA'!\"&\"$AA$10\",AQ52))","v":""}]
[null,null,null,null,null,null,null,"Graduated with an alternate diploma",null,null,null,null,{"$f":"IF(N77=0,\"\",N77)","v":""},{"$f":"IFERROR(HYPERLINK(\"#'Select LEA'!\"&ADDRESS(ROW(INDEX(CurrentListing,MATCH('Category Set A by Basis of Exit'!AC77,CurrentListing,0),1)),25),AQ77),HYPERLINK(\"#'Select LEA'!\"&\"$AA$10\",AQ77))","v":""}]
[null,null,null,null,null,null,null,"Received a certificate",null,null,null,null,{"$f":"IF(N102=0,\"\",N102)","v":""},{"$f":"IFERROR(HYPERLINK(\"#'Select LEA'!\"&ADDRESS(ROW(INDEX(CurrentListing,MATCH('Category Set A by Basis of Exit'!AC102,CurrentListing,0),1)),25),AQ102),HYPERLINK(\"#'Select LEA'!\"&\"$$AA$10\",AQ102))","v":""}]
[null,null,null,null,null,null,null,"Reached maximum age",null,null,null,null,{"$f":"IF(N127=0,\"\",N127)","v":""},{"$f":"IFERROR(HYPERLINK(\"#'Select LEA'!\"&ADDRESS(ROW(INDEX(CurrentListing,MATCH('Category Set A by Basis of Exit'!AC127,CurrentListing,0),1)),25),AQ127),HYPERLINK(\"#'Select LEA'!\"&\"$AA$10\",AQ127))","v":""}]
[null,null,null,null,null,null,null,"Died",null,null,null,null,{"$f":"IF(N152=0,\"\",N152)","v":""},{"$f":"IFERROR(HYPERLINK(\"#'Select LEA'!\"&ADDRESS(ROW(INDEX(CurrentListing,MATCH('Category Set A by Basis of Exit'!AC152,CurrentListing,0),1)),25),AQ152),HYPERLINK(\"#'Select LEA'!\"&\"$AA$10\",AQ152))","v":""}]
[{"$f":"\"           LEA name:  \"&'Select LEA'!$F$6","v":"           LEA name:  "},null,null,null,null,null,null,"Moved, known to be continuing",null,null,null,null,{"$f":"IF(N177=0,\"\",N177)","v":""},{"$f":"IFERROR(HYPERLINK(\"#'Select LEA'!\"&ADDRESS(ROW(INDEX(CurrentListing,MATCH('Category Set A by Basis of Exit'!AC177,CurrentListing,0),1)),25),AQ177),HYPERLINK(\"#'Select LEA'!\"&\"$AA$10\",AQ177))","v":""}]
[null,null,null,null,null,null,null,"Dropped out",null,null,null,null,{"$f":"IF(N202=0,\"\",N202)","v":""},{"$f":"IFERROR(HYPERLINK(\"#'Select LEA'!\"&ADDRESS(ROW(INDEX(CurrentListing,MATCH('Category Set A by Basis of Exit'!AC202,CurrentListing,0),1)),25),AQ202),HYPERLINK(\"#'Select LEA'!\"&\"$AA$10\",AQ202))","v":""}]
[{"$f":"\"     LEA identifier:  \"&'Select LEA'!$F$7","v":"     LEA identifier:  "},null,null,null,null,null,null,"Calculated total by basis of exit",null,null,null,null,{"$f":"IF(SUM(M4:M11)=0, \"\",SUM(M4:M11))","v":""}]
[]
[null,null,null,null,null,null,null,"Total of the education unit",null,null,null,null,null,{"$f":"IFERROR(HYPERLINK(\"#'Select LEA'!\"&ADDRESS(ROW(INDEX(CurrentListing,MATCH(R1,CurrentListing,0),1)),25),Q1),HYPERLINK(\"#'Select LEA'!\"&\"$AA$10\",Q1))","v":""}]
[]
["Category set A – Children with disabilities (IDEA) exiting special education, by basis of exit, disability category, and age",null,null,null,null,null,null,null,null,null,null,null,null,null,null,null,"Transferred to regular education"]
["Student count\nby age","Transferred to regular education",null,null,null,null,null,null,null,null,null,null,null,null,null,null,null,null,null,null,null,null,null,null,null,null,null,null,null,"Student counts by age",{"$f":"B17","v":"Transferred to regular education"}]
[null,"Intellectual\ndisability","Hearing\nimpairment","Speech or\nlanguage\nimpairment","Visual\nimpairment","Emotional\ndisturbance","Orthopedic\nimpairment","Other\nhealth\nimpairment","Specific\nlearning\ndisability","Deaf-\nblindness","Multiple\ndisabilities","Autism","Traumatic\nbrain\ninjury","Total",null,null,null,null,null,null,null,null,null,null,null,null,null,null,null,null,"Intellectual\nDisability","Hearing\nImpairments","Speech or\nLanguage\nImpairments","Visual\nImpairments","Emotional\nDisturbance","Orthopedic\nImpairments","Other\nHealth\nImpairments","Specific\nLearning\nDisabilities","Deaf-\nBlindness","Multiple\nDisabilities","Autism","Traumatic\nBrain\nInjury","Total"]
[14,{"$f":"IFERROR(HYPERLINK(\"#'Select LEA'!\"&ADDRESS(ROW(INDEX(CurrentListing,MATCH('Category Set A by Basis of Exit'!Q19,CurrentListing,0),1)),25),AE19),HYPERLINK(\"#'Select LEA'!\"&\"$AA$10\",AE19))","v":""},{"$f":"IFERROR(HYPERLINK(\"#'Select LEA'!\"&ADDRESS(ROW(INDEX(CurrentListing,MATCH('Category Set A by Basis of Exit'!R19,CurrentListing,0),1)),25),AF19),HYPERLINK(\"#'Select LEA'!\"&\"$AA$10\",AF19))","v":""},{"$f":"IFERROR(HYPERLINK(\"#'Select LEA'!\"&ADDRESS(ROW(INDEX(CurrentListing,MATCH('Category Set A by Basis of Exit'!S19,CurrentListing,0),1)),25),AG19),HYPERLINK(\"#'Select LEA'!\"&\"$AA$10\",AG19))","v":""},{"$f":"IFERROR(HYPERLINK(\"#'Select LEA'!\"&ADDRESS(ROW(INDEX(CurrentListing,MATCH('Category Set A by Basis of Exit'!T19,CurrentListing,0),1)),25),AH19),HYPERLINK(\"#'Select LEA'!\"&\"$AA$10\",AH19))","v":""},{"$f":"IFERROR(HYPERLINK(\"#'Select LEA'!\"&ADDRESS(ROW(INDEX(CurrentListing,MATCH('Category Set A by Basis of Exit'!U19,CurrentListing,0),1)),25),AI19),HYPERLINK(\"#'Select LEA'!\"&\"$AA$10\",AI19))","v":""},{"$f":"IFERROR(HYPERLINK(\"#'Select LEA'!\"&ADDRESS(ROW(INDEX(CurrentListing,MATCH('Category Set A by Basis of Exit'!V19,CurrentListing,0),1)),25),AJ19),HYPERLINK(\"#'Select LEA'!\"&\"$AA$10\",AJ19))","v":""},{"$f":"IFERROR(HYPERLINK(\"#'Select LEA'!\"&ADDRESS(ROW(INDEX(CurrentListing,MATCH('Category Set A by Basis of Exit'!W19,CurrentListing,0),1)),25),AK19),HYPERLINK(\"#'Select LEA'!\"&\"$AA$10\",AK19))","v":""},{"$f":"IFERROR(HYPERLINK(\"#'Select LEA'!\"&ADDRESS(ROW(INDEX(CurrentListing,MATCH('Category Set A by Basis of Exit'!X19,CurrentListing,0),1)),25),AL19),HYPERLINK(\"#'Select LEA'!\"&\"$AA$10\",AL19))","v":""},{"$f":"IFERROR(HYPERLINK(\"#'Select LEA'!\"&ADDRESS(ROW(INDEX(CurrentListing,MATCH('Category Set A by Basis of Exit'!Y19,CurrentListing,0),1)),25),AM19),HYPERLINK(\"#'Select LEA'!\"&\"$AA$10\",AM19))","v":""},{"$f":"IFERROR(HYPERLINK(\"#'Select LEA'!\"&ADDRESS(ROW(INDEX(CurrentListing,MATCH('Category Set A by Basis of Exit'!Z19,CurrentListing,0),1)),25),AN19),HYPERLINK(\"#'Select LEA'!\"&\"$AA$10\",AN19))","v":""},{"$f":"IFERROR(HYPERLINK(\"#'Select LEA'!\"&ADDRESS(ROW(INDEX(CurrentListing,MATCH('Category Set A by Basis of Exit'!AA19,CurrentListing,0),1)),25),AO19),HYPERLINK(\"#'Select LEA'!\"&\"$AA$10\",AO19))","v":""},{"$f":"IFERROR(HYPERLINK(\"#'Select LEA'!\"&ADDRESS(ROW(INDEX(CurrentListing,MATCH('Category Set A by Basis of Exit'!AB19,CurrentListing,0),1)),25),AP19),HYPERLINK(\"#'Select LEA'!\"&\"$AA$10\",AP19))","v":""},{"$f":"IF(SUM(B19:M19)>=0, SUM(B19:M19), \"\")","v":0},null,null,"ID14TRANN","HI14TRANN","SLI14TRANN","VI14TRANN","EMN14TRANN","OI14TRANN","OHI14TRANN","SLD14TRANN","DB14TRANN","MD14TRANN","AUT14TRANN","TBI14TRANN",null,14,{"$f":"IFERROR(IF(INDEX(StudCntC009,MATCH(Q19,CurrentListing,0))=\"\",\"No Data\",INDEX(StudCntC009,MATCH(Q19,CurrentListing,0))),\"\")","v":""},"","","","","","","","","","","",{"$f":"SUM(AE19:AP19)","v":0}]
[15,{"$f":"IFERROR(HYPERLINK(\"#'Select LEA'!\"&ADDRESS(ROW(INDEX(CurrentListing,MATCH('Category Set A by Basis of Exit'!Q20,CurrentListing,0),1)),25),AE20),HYPERLINK(\"#'Select LEA'!\"&\"$AA$10\",AE20))","v":""},{"$f":"IFERROR(HYPERLINK(\"#'Select LEA'!\"&ADDRESS(ROW(INDEX(CurrentListing,MATCH('Category Set A by Basis of Exit'!R20,CurrentListing,0),1)),25),AF20),HYPERLINK(\"#'Select LEA'!\"&\"$AA$10\",AF20))","v":""},{"$f":"IFERROR(HYPERLINK(\"#'Select LEA'!\"&ADDRESS(ROW(INDEX(CurrentListing,MATCH('Category Set A by Basis of Exit'!S20,CurrentListing,0),1)),25),AG20),HYPERLINK(\"#'Select LEA'!\"&\"$AA$10\",AG20))","v":""},{"$f":"IFERROR(HYPERLINK(\"#'Select LEA'!\"&ADDRESS(ROW(INDEX(CurrentListing,MATCH('Category Set A by Basis of Exit'!T20,CurrentListing,0),1)),25),AH20),HYPERLINK(\"#'Select LEA'!\"&\"$AA$10\",AH20))","v":""},{"$f":"IFERROR(HYPERLINK(\"#'Select LEA'!\"&ADDRESS(ROW(INDEX(CurrentListing,MATCH('Category Set A by Basis of Exit'!U20,CurrentListing,0),1)),25),AI20),HYPERLINK(\"#'Select LEA'!\"&\"$AA$10\",AI20))","v":""},{"$f":"IFERROR(HYPERLINK(\"#'Select LEA'!\"&ADDRESS(ROW(INDEX(CurrentListing,MATCH('Category Set A by Basis of Exit'!V20,CurrentListing,0),1)),25),AJ20),HYPERLINK(\"#'Select LEA'!\"&\"$AA$10\",AJ20))","v":""},{"$f":"IFERROR(HYPERLINK(\"#'Select LEA'!\"&ADDRESS(ROW(INDEX(CurrentListing,MATCH('Category Set A by Basis of Exit'!W20,CurrentListing,0),1)),25),AK20),HYPERLINK(\"#'Select LEA'!\"&\"$AA$10\",AK20))","v":""},{"$f":"IFERROR(HYPERLINK(\"#'Select LEA'!\"&ADDRESS(ROW(INDEX(CurrentListing,MATCH('Category Set A by Basis of Exit'!X20,CurrentListing,0),1)),25),AL20),HYPERLINK(\"#'Select LEA'!\"&\"$AA$10\",AL20))","v":""},{"$f":"IFERROR(HYPERLINK(\"#'Select LEA'!\"&ADDRESS(ROW(INDEX(CurrentListing,MATCH('Category Set A by Basis of Exit'!Y20,CurrentListing,0),1)),25),AM20),HYPERLINK(\"#'Select LEA'!\"&\"$AA$10\",AM20))","v":""},{"$f":"IFERROR(HYPERLINK(\"#'Select LEA'!\"&ADDRESS(ROW(INDEX(CurrentListing,MATCH('Category Set A by Basis of Exit'!Z20,CurrentListing,0),1)),25),AN20),HYPERLINK(\"#'Select LEA'!\"&\"$AA$10\",AN20))","v":""},{"$f":"IFERROR(HYPERLINK(\"#'Select LEA'!\"&ADDRESS(ROW(INDEX(CurrentListing,MATCH('Category Set A by Basis of Exit'!AA20,CurrentListing,0),1)),25),AO20),HYPERLINK(\"#'Select LEA'!\"&\"$AA$10\",AO20))","v":""},{"$f":"IFERROR(HYPERLINK(\"#'Select LEA'!\"&ADDRESS(ROW(INDEX(CurrentListing,MATCH('Category Set A by Basis of Exit'!AB20,CurrentListing,0),1)),25),AP20),HYPERLINK(\"#'Select LEA'!\"&\"$AA$10\",AP20))","v":""},{"$f":"IF(SUM(B20:M20)>=0, SUM(B20:M20), \"\")","v":0},null,null,"ID15TRANN","HI15TRANN","SLI15TRANN","VI15TRANN","EMN15TRANN","OI15TRANN","OHI15TRANN","SLD15TRANN","DB15TRANN","MD15TRANN","AUT15TRANN","TBI15TRANN",null,15,"","","","","","","","","","","","",{"$f":"SUM(AE20:AP20)","v":0}]
[16,{"$f":"IFERROR(HYPERLINK(\"#'Select LEA'!\"&ADDRESS(ROW(INDEX(CurrentListing,MATCH('Category Set A by Basis of Exit'!Q21,CurrentListing,0),1)),25),AE21),HYPERLINK(\"#'Select LEA'!\"&\"$AA$10\",AE21))","v":""},{"$f":"IFERROR(HYPERLINK(\"#'Select LEA'!\"&ADDRESS(ROW(INDEX(CurrentListing,MATCH('Category Set A by Basis of Exit'!R21,CurrentListing,0),1)),25),AF21),HYPERLINK(\"#'Select LEA'!\"&\"$AA$10\",AF21))","v":""},{"$f":"IFERROR(HYPERLINK(\"#'Select LEA'!\"&ADDRESS(ROW(INDEX(CurrentListing,MATCH('Category Set A by Basis of Exit'!S21,CurrentListing,0),1)),25),AG21),HYPERLINK(\"#'Select LEA'!\"&\"$AA$10\",AG21))","v":""},{"$f":"IFERROR(HYPERLINK(\"#'Select LEA'!\"&ADDRESS(ROW(INDEX(CurrentListing,MATCH('Category Set A by Basis of Exit'!T21,CurrentListing,0),1)),25),AH21),HYPERLINK(\"#'Select LEA'!\"&\"$AA$10\",AH21))","v":""},{"$f":"IFERROR(HYPERLINK(\"#'Select LEA'!\"&ADDRESS(ROW(INDEX(CurrentListing,MATCH('Category Set A by Basis of Exit'!U21,CurrentListing,0),1)),25),AI21),HYPERLINK(\"#'Select LEA'!\"&\"$AA$10\",AI21))","v":""},{"$f":"IFERROR(HYPERLINK(\"#'Select LEA'!\"&ADDRESS(ROW(INDEX(CurrentListing,MATCH('Category Set A by Basis of Exit'!V21,CurrentListing,0),1)),25),AJ21),HYPERLINK(\"#'Select LEA'!\"&\"$AA$10\",AJ21))","v":""},{"$f":"IFERROR(HYPERLINK(\"#'Select LEA'!\"&ADDRESS(ROW(INDEX(CurrentListing,MATCH('Category Set A by Basis of Exit'!W21,CurrentListing,0),1)),25),AK21),HYPERLINK(\"#'Select LEA'!\"&\"$AA$10\",AK21))","v":""},{"$f":"IFERROR(HYPERLINK(\"#'Select LEA'!\"&ADDRESS(ROW(INDEX(CurrentListing,MATCH('Category Set A by Basis of Exit'!X21,CurrentListing,0),1)),25),AL21),HYPERLINK(\"#'Select LEA'!\"&\"$AA$10\",AL21))","v":""},{"$f":"IFERROR(HYPERLINK(\"#'Select LEA'!\"&ADDRESS(ROW(INDEX(CurrentListing,MATCH('Category Set A by Basis of Exit'!Y21,CurrentListing,0),1)),25),AM21),HYPERLINK(\"#'Select LEA'!\"&\"$AA$10\",AM21))","v":""},{"$f":"IFERROR(HYPERLINK(\"#'Select LEA'!\"&ADDRESS(ROW(INDEX(CurrentListing,MATCH('Category Set A by Basis of Exit'!Z21,CurrentListing,0),1)),25),AN21),HYPERLINK(\"#'Select LEA'!\"&\"$AA$10\",AN21))","v":""},{"$f":"IFERROR(HYPERLINK(\"#'Select LEA'!\"&ADDRESS(ROW(INDEX(CurrentListing,MATCH('Category Set A by Basis of Exit'!AA21,CurrentListing,0),1)),25),AO21),HYPERLINK(\"#'Select LEA'!\"&\"$AA$10\",AO21))","v":""},{"$f":"IFERROR(HYPERLINK(\"#'Select LEA'!\"&ADDRESS(ROW(INDEX(CurrentListing,MATCH('Category Set A by Basis of Exit'!AB21,CurrentListing,0),1)),25),AP21),HYPERLINK(\"#'Select LEA'!\"&\"$AA$10\",AP21))","v":""},0,null,null,"ID16TRANN","HI16TRANN","SLI16TRANN","VI16TRANN","EMN16TRANN","OI16TRANN","OHI16TRANN","SLD16TRANN","DB16TRANN","MD16TRANN","AUT16TRANN","TBI16TRANN",null,16,"","","","","","","","","","","","",0]
[17,{"$f":"IFERROR(HYPERLINK(\"#'Select LEA'!\"&ADDRESS(ROW(INDEX(CurrentListing,MATCH('Category Set A by Basis of Exit'!Q22,CurrentListing,0),1)),25),AE22),HYPERLINK(\"#'Select LEA'!\"&\"$AA$10\",AE22))","v":""},{"$f":"IFERROR(HYPERLINK(\"#'Select LEA'!\"&ADDRESS(ROW(INDEX(CurrentListing,MATCH('Category Set A by Basis of Exit'!R22,CurrentListing,0),1)),25),AF22),HYPERLINK(\"#'Select LEA'!\"&\"$AA$10\",AF22))","v":""},{"$f":"IFERROR(HYPERLINK(\"#'Select LEA'!\"&ADDRESS(ROW(INDEX(CurrentListing,MATCH('Category Set A by Basis of Exit'!S22,CurrentListing,0),1)),25),AG22),HYPERLINK(\"#'Select LEA'!\"&\"$AA$10\",AG22))","v":""},{"$f":"IFERROR(HYPERLINK(\"#'Select LEA'!\"&ADDRESS(ROW(INDEX(CurrentListing,MATCH('Category Set A by Basis of Exit'!T22,CurrentListing,0),1)),25),AH22),HYPERLINK(\"#'Select LEA'!\"&\"$AA$10\",AH22))","v":""},{"$f":"IFERROR(HYPERLINK(\"#'Select LEA'!\"&ADDRESS(ROW(INDEX(CurrentListing,MATCH('Category Set A by Basis of Exit'!U22,CurrentListing,0),1)),25),AI22),HYPERLINK(\"#'Select LEA'!\"&\"$AA$10\",AI22))","v":""},{"$f":"IFERROR(HYPERLINK(\"#'Select LEA'!\"&ADDRESS(ROW(INDEX(CurrentListing,MATCH('Category Set A by Basis of Exit'!V22,CurrentListing,0),1)),25),AJ22),HYPERLINK(\"#'Select LEA'!\"&\"$AA$10\",AJ22))","v":""},{"$f":"IFERROR(HYPERLINK(\"#'Select LEA'!\"&ADDRESS(ROW(INDEX(CurrentListing,MATCH('Category Set A by Basis of Exit'!W22,CurrentListing,0),1)),25),AK22),HYPERLINK(\"#'Select LEA'!\"&\"$AA$10\",AK22))","v":""},{"$f":"IFERROR(HYPERLINK(\"#'Select LEA'!\"&ADDRESS(ROW(INDEX(CurrentListing,MATCH('Category Set A by Basis of Exit'!X22,CurrentListing,0),1)),25),AL22),HYPERLINK(\"#'Select LEA'!\"&\"$AA$10\",AL22))","v":""},{"$f":"IFERROR(HYPERLINK(\"#'Select LEA'!\"&ADDRESS(ROW(INDEX(CurrentListing,MATCH('Category Set A by Basis of Exit'!Y22,CurrentListing,0),1)),25),AM22),HYPERLINK(\"#'Select LEA'!\"&\"$AA$10\",AM22))","v":""},{"$f":"IFERROR(HYPERLINK(\"#'Select LEA'!\"&ADDRESS(ROW(INDEX(CurrentListing,MATCH('Category Set A by Basis of Exit'!Z22,CurrentListing,0),1)),25),AN22),HYPERLINK(\"#'Select LEA'!\"&\"$AA$10\",AN22))","v":""},{"$f":"IFERROR(HYPERLINK(\"#'Select LEA'!\"&ADDRESS(ROW(INDEX(CurrentListing,MATCH('Category Set A by Basis of Exit'!AA22,CurrentListing,0),1)),25),AO22),HYPERLINK(\"#'Select LEA'!\"&\"$AA$10\",AO22))","v":""},{"$f":"IFERROR(HYPERLINK(\"#'Select LEA'!\"&ADDRESS(ROW(INDEX(CurrentListing,MATCH('Category Set A by Basis of Exit'!AB22,CurrentListing,0),1)),25),AP22),HYPERLINK(\"#'Select LEA'!\"&\"$AA$10\",AP22))","v":""},0,null,null,"ID17TRANN","HI17TRANN","SLI17TRANN","VI17TRANN","EMN17TRANN","OI17TRANN","OHI17TRANN","SLD17TRANN","DB17TRANN","MD17TRANN","AUT17TRANN","TBI17TRANN",null,17,"","","","","","","","","","","","",0]
[18,{"$f":"IFERROR(HYPERLINK(\"#'Select LEA'!\"&ADDRESS(ROW(INDEX(CurrentListing,MATCH('Category Set A by Basis of Exit'!Q23,CurrentListing,0),1)),25),AE23),HYPERLINK(\"#'Select LEA'!\"&\"$AA$10\",AE23))","v":""},{"$f":"IFERROR(HYPERLINK(\"#'Select LEA'!\"&ADDRESS(ROW(INDEX(CurrentListing,MATCH('Category Set A by Basis of Exit'!R23,CurrentListing,0),1)),25),AF23),HYPERLINK(\"#'Select LEA'!\"&\"$AA$10\",AF23))","v":""},{"$f":"IFERROR(HYPERLINK(\"#'Select LEA'!\"&ADDRESS(ROW(INDEX(CurrentListing,MATCH('Category Set A by Basis of Exit'!S23,CurrentListing,0),1)),25),AG23),HYPERLINK(\"#'Select LEA'!\"&\"$AA$10\",AG23))","v":""},{"$f":"IFERROR(HYPERLINK(\"#'Select LEA'!\"&ADDRESS(ROW(INDEX(CurrentListing,MATCH('Category Set A by Basis of Exit'!T23,CurrentListing,0),1)),25),AH23),HYPERLINK(\"#'Select LEA'!\"&\"$AA$10\",AH23))","v":""},{"$f":"IFERROR(HYPERLINK(\"#'Select LEA'!\"&ADDRESS(ROW(INDEX(CurrentListing,MATCH('Category Set A by Basis of Exit'!U23,CurrentListing,0),1)),25),AI23),HYPERLINK(\"#'Select LEA'!\"&\"$AA$10\",AI23))","v":""},{"$f":"IFERROR(HYPERLINK(\"#'Select LEA'!\"&ADDRESS(ROW(INDEX(CurrentListing,MATCH('Category Set A by Basis of Exit'!V23,CurrentListing,0),1)),25),AJ23),HYPERLINK(\"#'Select LEA'!\"&\"$AA$10\",AJ23))","v":""},{"$f":"IFERROR(HYPERLINK(\"#'Select LEA'!\"&ADDRESS(ROW(INDEX(CurrentListing,MATCH('Category Set A by Basis of Exit'!W23,CurrentListing,0),1)),25),AK23),HYPERLINK(\"#'Select LEA'!\"&\"$AA$10\",AK23))","v":""},{"$f":"IFERROR(HYPERLINK(\"#'Select LEA'!\"&ADDRESS(ROW(INDEX(CurrentListing,MATCH('Category Set A by Basis of Exit'!X23,CurrentListing,0),1)),25),AL23),HYPERLINK(\"#'Select LEA'!\"&\"$AA$10\",AL23))","v":""},{"$f":"IFERROR(HYPERLINK(\"#'Select LEA'!\"&ADDRESS(ROW(INDEX(CurrentListing,MATCH('Category Set A by Basis of Exit'!Y23,CurrentListing,0),1)),25),AM23),HYPERLINK(\"#'Select LEA'!\"&\"$AA$10\",AM23))","v":""},{"$f":"IFERROR(HYPERLINK(\"#'Select LEA'!\"&ADDRESS(ROW(INDEX(CurrentListing,MATCH('Category Set A by Basis of Exit'!Z23,CurrentListing,0),1)),25),AN23),HYPERLINK(\"#'Select LEA'!\"&\"$AA$10\",AN23))","v":""},{"$f":"IFERROR(HYPERLINK(\"#'Select LEA'!\"&ADDRESS(ROW(INDEX(CurrentListing,MATCH('Category Set A by Basis of Exit'!AA23,CurrentListing,0),1)),25),AO23),HYPERLINK(\"#'Select LEA'!\"&\"$AA$10\",AO23))","v":""},{"$f":"IFERROR(HYPERLINK(\"#'Select LEA'!\"&ADDRESS(ROW(INDEX(CurrentListing,MATCH('Category Set A by Basis of Exit'!AB23,CurrentListing,0),1)),25),AP23),HYPERLINK(\"#'Select LEA'!\"&\"$AA$10\",AP23))","v":""},0,null,null,"ID18TRANN","HI18TRANN","SLI18TRANN","VI18TRANN","EMN18TRANN","OI18TRANN","OHI18TRANN","SLD18TRANN","DB18TRANN","MD18TRANN","AUT18TRANN","TBI18TRANN",null,18,"","","","","","","","","","","","",0]
[19,{"$f":"IFERROR(HYPERLINK(\"#'Select LEA'!\"&ADDRESS(ROW(INDEX(CurrentListing,MATCH('Category Set A by Basis of Exit'!Q24,CurrentListing,0),1)),25),AE24),HYPERLINK(\"#'Select LEA'!\"&\"$AA$10\",AE24))","v":""},{"$f":"IFERROR(HYPERLINK(\"#'Select LEA'!\"&ADDRESS(ROW(INDEX(CurrentListing,MATCH('Category Set A by Basis of Exit'!R24,CurrentListing,0),1)),25),AF24),HYPERLINK(\"#'Select LEA'!\"&\"$AA$10\",AF24))","v":""},{"$f":"IFERROR(HYPERLINK(\"#'Select LEA'!\"&ADDRESS(ROW(INDEX(CurrentListing,MATCH('Category Set A by Basis of Exit'!S24,CurrentListing,0),1)),25),AG24),HYPERLINK(\"#'Select LEA'!\"&\"$AA$10\",AG24))","v":""},{"$f":"IFERROR(HYPERLINK(\"#'Select LEA'!\"&ADDRESS(ROW(INDEX(CurrentListing,MATCH('Category Set A by Basis of Exit'!T24,CurrentListing,0),1)),25),AH24),HYPERLINK(\"#'Select LEA'!\"&\"$AA$10\",AH24))","v":""},{"$f":"IFERROR(HYPERLINK(\"#'Select LEA'!\"&ADDRESS(ROW(INDEX(CurrentListing,MATCH('Category Set A by Basis of Exit'!U24,CurrentListing,0),1)),25),AI24),HYPERLINK(\"#'Select LEA'!\"&\"$AA$10\",AI24))","v":""},{"$f":"IFERROR(HYPERLINK(\"#'Select LEA'!\"&ADDRESS(ROW(INDEX(CurrentListing,MATCH('Category Set A by Basis of Exit'!V24,CurrentListing,0),1)),25),AJ24),HYPERLINK(\"#'Select LEA'!\"&\"$AA$10\",AJ24))","v":""},{"$f":"IFERROR(HYPERLINK(\"#'Select LEA'!\"&ADDRESS(ROW(INDEX(CurrentListing,MATCH('Category Set A by Basis of Exit'!W24,CurrentListing,0),1)),25),AK24),HYPERLINK(\"#'Select LEA'!\"&\"$AA$10\",AK24))","v":""},{"$f":"IFERROR(HYPERLINK(\"#'Select LEA'!\"&ADDRESS(ROW(INDEX(CurrentListing,MATCH('Category Set A by Basis of Exit'!X24,CurrentListing,0),1)),25),AL24),HYPERLINK(\"#'Select LEA'!\"&\"$AA$10\",AL24))","v":""},{"$f":"IFERROR(HYPERLINK(\"#'Select LEA'!\"&ADDRESS(ROW(INDEX(CurrentListing,MATCH('Category Set A by Basis of Exit'!Y24,CurrentListing,0),1)),25),AM24),HYPERLINK(\"#'Select LEA'!\"&\"$AA$10\",AM24))","v":""},{"$f":"IFERROR(HYPERLINK(\"#'Select LEA'!\"&ADDRESS(ROW(INDEX(CurrentListing,MATCH('Category Set A by Basis of Exit'!Z24,CurrentListing,0),1)),25),AN24),HYPERLINK(\"#'Select LEA'!\"&\"$AA$10\",AN24))","v":""},{"$f":"IFERROR(HYPERLINK(\"#'Select LEA'!\"&ADDRESS(ROW(INDEX(CurrentListing,MATCH('Category Set A by Basis of Exit'!AA24,CurrentListing,0),1)),25),AO24),HYPERLINK(\"#'Select LEA'!\"&\"$AA$10\",AO24))","v":""},{"$f":"IFERROR(HYPERLINK(\"#'Select LEA'!\"&ADDRESS(ROW(INDEX(CurrentListing,MATCH('Category Set A by Basis of Exit'!AB24,CurrentListing,0),1)),25),AP24),HYPERLINK(\"#'Select LEA'!\"&\"$AA$10\",AP24))","v":""},0,null,null,"ID19TRANN","HI19TRANN","SLI19TRANN","VI19TRANN","EMN19TRANN","OI19TRANN","OHI19TRANN","SLD19TRANN","DB19TRANN","MD19TRANN","AUT19TRANN","TBI19TRANN",null,19,"","","","","","","","","","","","",0]
[20,{"$f":"IFERROR(HYPERLINK(\"#'Select LEA'!\"&ADDRESS(ROW(INDEX(CurrentListing,MATCH('Category Set A by Basis of Exit'!Q25,CurrentListing,0),1)),25),AE25),HYPERLINK(\"#'Select LEA'!\"&\"$AA$10\",AE25))","v":""},{"$f":"IFERROR(HYPERLINK(\"#'Select LEA'!\"&ADDRESS(ROW(INDEX(CurrentListing,MATCH('Category Set A by Basis of Exit'!R25,CurrentListing,0),1)),25),AF25),HYPERLINK(\"#'Select LEA'!\"&\"$AA$10\",AF25))","v":""},{"$f":"IFERROR(HYPERLINK(\"#'Select LEA'!\"&ADDRESS(ROW(INDEX(CurrentListing,MATCH('Category Set A by Basis of Exit'!S25,CurrentListing,0),1)),25),AG25),HYPERLINK(\"#'Select LEA'!\"&\"$AA$10\",AG25))","v":""},{"$f":"IFERROR(HYPERLINK(\"#'Select LEA'!\"&ADDRESS(ROW(INDEX(CurrentListing,MATCH('Category Set A by Basis of Exit'!T25,CurrentListing,0),1)),25),AH25),HYPERLINK(\"#'Select LEA'!\"&\"$AA$10\",AH25))","v":""},{"$f":"IFERROR(HYPERLINK(\"#'Select LEA'!\"&ADDRESS(ROW(INDEX(CurrentListing,MATCH('Category Set A by Basis of Exit'!U25,CurrentListing,0),1)),25),AI25),HYPERLINK(\"#'Select LEA'!\"&\"$AA$10\",AI25))","v":""},{"$f":"IFERROR(HYPERLINK(\"#'Select LEA'!\"&ADDRESS(ROW(INDEX(CurrentListing,MATCH('Category Set A by Basis of Exit'!V25,CurrentListing,0),1)),25),AJ25),HYPERLINK(\"#'Select LEA'!\"&\"$AA$10\",AJ25))","v":""},{"$f":"IFERROR(HYPERLINK(\"#'Select LEA'!\"&ADDRESS(ROW(INDEX(CurrentListing,MATCH('Category Set A by Basis of Exit'!W25,CurrentListing,0),1)),25),AK25),HYPERLINK(\"#'Select LEA'!\"&\"$AA$10\",AK25))","v":""},{"$f":"IFERROR(HYPERLINK(\"#'Select LEA'!\"&ADDRESS(ROW(INDEX(CurrentListing,MATCH('Category Set A by Basis of Exit'!X25,CurrentListing,0),1)),25),AL25),HYPERLINK(\"#'Select LEA'!\"&\"$AA$10\",AL25))","v":""},{"$f":"IFERROR(HYPERLINK(\"#'Select LEA'!\"&ADDRESS(ROW(INDEX(CurrentListing,MATCH('Category Set A by Basis of Exit'!Y25,CurrentListing,0),1)),25),AM25),HYPERLINK(\"#'Select LEA'!\"&\"$AA$10\",AM25))","v":""},{"$f":"IFERROR(HYPERLINK(\"#'Select LEA'!\"&ADDRESS(ROW(INDEX(CurrentListing,MATCH('Category Set A by Basis of Exit'!Z25,CurrentListing,0),1)),25),AN25),HYPERLINK(\"#'Select LEA'!\"&\"$AA$10\",AN25))","v":""},{"$f":"IFERROR(HYPERLINK(\"#'Select LEA'!\"&ADDRESS(ROW(INDEX(CurrentListing,MATCH('Category Set A by Basis of Exit'!AA25,CurrentListing,0),1)),25),AO25),HYPERLINK(\"#'Select LEA'!\"&\"$AA$10\",AO25))","v":""},{"$f":"IFERROR(HYPERLINK(\"#'Select LEA'!\"&ADDRESS(ROW(INDEX(CurrentListing,MATCH('Category Set A by Basis of Exit'!AB25,CurrentListing,0),1)),25),AP25),HYPERLINK(\"#'Select LEA'!\"&\"$AA$10\",AP25))","v":""},0,null,null,"ID20TRANN","HI20TRANN","SLI20TRANN","VI20TRANN","EMN20TRANN","OI20TRANN","OHI20TRANN","SLD20TRANN","DB20TRANN","MD20TRANN","AUT20TRANN","TBI20TRANN",null,20,"","","","","","","","","","","","",0]
[21,{"$f":"IFERROR(HYPERLINK(\"#'Select LEA'!\"&ADDRESS(ROW(INDEX(CurrentListing,MATCH('Category Set A by Basis of Exit'!Q26,CurrentListing,0),1)),25),AE26),HYPERLINK(\"#'Select LEA'!\"&\"$AA$10\",AE26))","v":""},{"$f":"IFERROR(HYPERLINK(\"#'Select LEA'!\"&ADDRESS(ROW(INDEX(CurrentListing,MATCH('Category Set A by Basis of Exit'!R26,CurrentListing,0),1)),25),AF26),HYPERLINK(\"#'Select LEA'!\"&\"$AA$10\",AF26))","v":""},{"$f":"IFERROR(HYPERLINK(\"#'Select LEA'!\"&ADDRESS(ROW(INDEX(CurrentListing,MATCH('Category Set A by Basis of Exit'!S26,CurrentListing,0),1)),25),AG26),HYPERLINK(\"#'Select LEA'!\"&\"$AA$10\",AG26))","v":""},{"$f":"IFERROR(HYPERLINK(\"#'Select LEA'!\"&ADDRESS(ROW(INDEX(CurrentListing,MATCH('Category Set A by Basis of Exit'!T26,CurrentListing,0),1)),25),AH26),HYPERLINK(\"#'Select LEA'!\"&\"$AA$10\",AH26))","v":""},{"$f":"IFERROR(HYPERLINK(\"#'Select LEA'!\"&ADDRESS(ROW(INDEX(CurrentListing,MATCH('Category Set A by Basis of Exit'!U26,CurrentListing,0),1)),25),AI26),HYPERLINK(\"#'Select LEA'!\"&\"$AA$10\",AI26))","v":""},{"$f":"IFERROR(HYPERLINK(\"#'Select LEA'!\"&ADDRESS(ROW(INDEX(CurrentListing,MATCH('Category Set A by Basis of Exit'!V26,CurrentListing,0),1)),25),AJ26),HYPERLINK(\"#'Select LEA'!\"&\"$AA$10\",AJ26))","v":""},{"$f":"IFERROR(HYPERLINK(\"#'Select LEA'!\"&ADDRESS(ROW(INDEX(CurrentListing,MATCH('Category Set A by Basis of Exit'!W26,CurrentListing,0),1)),25),AK26),HYPERLINK(\"#'Select LEA'!\"&\"$AA$10\",AK26))","v":""},{"$f":"IFERROR(HYPERLINK(\"#'Select LEA'!\"&ADDRESS(ROW(INDEX(CurrentListing,MATCH('Category Set A by Basis of Exit'!X26,CurrentListing,0),1)),25),AL26),HYPERLINK(\"#'Select LEA'!\"&\"$AA$10\",AL26))","v":""},{"$f":"IFERROR(HYPERLINK(\"#'Select LEA'!\"&ADDRESS(ROW(INDEX(CurrentListing,MATCH('Category Set A by Basis of Exit'!Y26,CurrentListing,0),1)),25),AM26),HYPERLINK(\"#'Select LEA'!\"&\"$AA$10\",AM26))","v":""},{"$f":"IFERROR(HYPERLINK(\"#'Select LEA'!\"&ADDRESS(ROW(INDEX(CurrentListing,MATCH('Category Set A by Basis of Exit'!Z26,CurrentListing,0),1)),25),AN26),HYPERLINK(\"#'Select LEA'!\"&\"$AA$10\",AN26))","v":""},{"$f":"IFERROR(HYPERLINK(\"#'Select LEA'!\"&ADDRESS(ROW(INDEX(CurrentListing,MATCH('Category Set A by Basis of Exit'!AA26,CurrentListing,0),1)),25),AO26),HYPERLINK(\"#'Select LEA'!\"&\"$AA$10\",AO26))","v":""},{"$f":"IFERROR(HYPERLINK(\"#'Select LEA'!\"&ADDRESS(ROW(INDEX(CurrentListing,MATCH('Category Set A by Basis of Exit'!AB26,CurrentListing,0),1)),25),AP26),HYPERLINK(\"#'Select LEA'!\"&\"$AA$10\",AP26))","v":""},0,null,null,"ID21TRANN","HI21TRANN","SLI21TRANN","VI21TRANN","EMN21TRANN","OI21TRANN","OHI21TRANN","SLD21TRANN","DB21TRANN","MD21TRANN","AUT21TRANN","TBI21TRANN",null,21,"","","","","","","","","","","","",0]
["Total",{"$f":"IF(SUM(B19:B26)>=0, SUM(B19:B26), \"\")","v":0},{"$f":"IF(SUM(C19:C26)>=0, SUM(C19:C26), \"\")","v":0},0,0,0,0,0,0,0,0,0,0,{"$f":"IF(AND(N4=\"MC\",N5=\"MC\",N6=\"MC\",N7=\"MC\",N8=\"MC\",N9=\"MC\",N10=\"MC\",N11=\"MC\", N14=\"MC\"),\"\",SUM(B19:M26))","v":0},null,null,null,null,null,null,null,null,null,null,null,null,null,null,"TRANY","Total",{"$f":"SUM(AE19:AE26)","v":0},{"$f":"SUM(AF19:AF26)","v":0},0,0,0,0,0,0,0,0,0,0,{"$f":"IFERROR(IF(INDEX(StudCntC009,MATCH(AC27,CurrentListing,0))=\"\",\"No Data\",INDEX(StudCntC009,MATCH(AC27,CurrentListing,0))),\"\")","v":""}]
[]
["Percent by age","Transferred to regular education"]
[null,"Intellectual\ndisability\n(percent)","Hearing\nimpairment\n(percent)","Speech or\nlanguage\nimpairment\n(percent)","Visual\nimpairment\n(percent)","Emotional\ndisturbance\n(percent)","Orthopedic\nimpairment\n(percent)","Other\nhealth\nimpairment\n(percent)","Specific\nlearning\ndisability\n(percent)","Deaf-\nblindness\n(percent)","Multiple\ndisabilities\n(percent)","Autism\n(Percent)","Traumatic\nbrain\ninjury\n(percent)","Total\n(percent)"]
[14,{"$f":"IF(ISERROR(B19/$N19),IF(B19=\"MC\", \"\",0), B19/$N19)","v":0},0,0,0,0,0,0,0,0,0,0,0,{"$f":"SUM(B31:M31)","v":0}]
[15,{"$f":"IF(ISERROR(B20/$N20),IF(B20=\"MC\", \"\",0), B20/$N20)","v":0},0,0,0,0,0,0,0,0,0,0,0,{"$f":"SUM(B32:M32)","v":0}]
[16,{"$f":"IF(ISERROR(B21/$N21),IF(B21=\"MC\", \"\",0), B21/$N21)","v":0},0,0,0,0,0,0,0,0,0,0,0,0]
[17,{"$f":"IF(ISERROR(B22/$N22),IF(B22=\"MC\", \"\",0), B22/$N22)","v":0},0,0,0,0,0,0,0,0,0,0,0,0]
[18,{"$f":"IF(ISERROR(B23/$N23),IF(B23=\"MC\", \"\",0), B23/$N23)","v":0},0,0,0,0,0,0,0,0,0,0,0,0]
[19,{"$f":"IF(ISERROR(B24/$N24),IF(B24=\"MC\", \"\",0), B24/$N24)","v":0},0,0,0,0,0,0,0,0,0,0,0,0]
[20,{"$f":"IF(ISERROR(B25/$N25),IF(B25=\"MC\", \"\",0), B25/$N25)","v":0},0,0,0,0,0,0,0,0,0,0,0,0]
[21,{"$f":"IF(ISERROR(B26/$N26),IF(B26=\"MC\", \"\",0), B26/$N26)","v":0},0,0,0,0,0,0,0,0,0,0,0,0]
["Total",{"$f":"IFERROR(IF($N27<>0,B27/$N27,0),\"\")","v":0},0,0,0,0,0,0,0,0,0,0,0,0]
[]
["Category set A – Children with disabilities (IDEA) exiting special education, by basis of exit, disability category, and age",null,null,null,null,null,null,null,null,null,null,null,null,null,null,null,"Graduated with regular high school certificate"]
["Student count by age","Graduated with regular high school diploma",null,null,null,null,null,null,null,null,null,null,null,null,null,null,null,null,null,null,null,null,null,null,null,null,null,null,null,"Student counts by age",{"$f":"B42","v":"Graduated with regular high school diploma"}]
[null,"Intellectual\ndisability","Hearing\nimpairment","Speech or\nlanguage\nimpairment","Visual\nimpairment","Emotional\ndisturbance","Orthopedic\nimpairment","Other\nhealth\nimpairment","Specific\nlearning\ndisability","Deaf-\nblindness","Multiple\ndisabilities","Autism","Traumatic\nbrain\ninjury","Total",null,null,null,null,null,null,null,null,null,null,null,null,null,null,null,null,"Intellectual\nDisability","Hearing\nImpairments","Speech or\nLanguage\nImpairments","Visual\nImpairments","Emotional\nDisturbance","Orthopedic\nImpairments","Other\nHealth\nImpairments","Specific\nLearning\nDisabilities","Deaf-\nBlindness","Multiple\nDisabilities","Autism","Traumatic\nBrain\nInjury","Total"]
[14,{"$f":"IFERROR(HYPERLINK(\"#'Select LEA'!\"&ADDRESS(ROW(INDEX(CurrentListing,MATCH('Category Set A by Basis of Exit'!Q44,CurrentListing,0),1)),25),AE44),HYPERLINK(\"#'Select LEA'!\"&\"$AA$10\",AE44))","v":""},{"$f":"IFERROR(HYPERLINK(\"#'Select LEA'!\"&ADDRESS(ROW(INDEX(CurrentListing,MATCH('Category Set A by Basis of Exit'!R44,CurrentListing,0),1)),25),AF44),HYPERLINK(\"#'Select LEA'!\"&\"$AA$10\",AF44))","v":""},{"$f":"IFERROR(HYPERLINK(\"#'Select LEA'!\"&ADDRESS(ROW(INDEX(CurrentListing,MATCH('Category Set A by Basis of Exit'!S44,CurrentListing,0),1)),25),AG44),HYPERLINK(\"#'Select LEA'!\"&\"$AA$10\",AG44))","v":""},{"$f":"IFERROR(HYPERLINK(\"#'Select LEA'!\"&ADDRESS(ROW(INDEX(CurrentListing,MATCH('Category Set A by Basis of Exit'!T44,CurrentListing,0),1)),25),AH44),HYPERLINK(\"#'Select LEA'!\"&\"$AA$10\",AH44))","v":""},{"$f":"IFERROR(HYPERLINK(\"#'Select LEA'!\"&ADDRESS(ROW(INDEX(CurrentListing,MATCH('Category Set A by Basis of Exit'!U44,CurrentListing,0),1)),25),AI44),HYPERLINK(\"#'Select LEA'!\"&\"$AA$10\",AI44))","v":""},{"$f":"IFERROR(HYPERLINK(\"#'Select LEA'!\"&ADDRESS(ROW(INDEX(CurrentListing,MATCH('Category Set A by Basis of Exit'!V44,CurrentListing,0),1)),25),AJ44),HYPERLINK(\"#'Select LEA'!\"&\"$AA$10\",AJ44))","v":""},{"$f":"IFERROR(HYPERLINK(\"#'Select LEA'!\"&ADDRESS(ROW(INDEX(CurrentListing,MATCH('Category Set A by Basis of Exit'!W44,CurrentListing,0),1)),25),AK44),HYPERLINK(\"#'Select LEA'!\"&\"$AA$10\",AK44))","v":""},{"$f":"IFERROR(HYPERLINK(\"#'Select LEA'!\"&ADDRESS(ROW(INDEX(CurrentListing,MATCH('Category Set A by Basis of Exit'!X44,CurrentListing,0),1)),25),AL44),HYPERLINK(\"#'Select LEA'!\"&\"$AA$10\",AL44))","v":""},{"$f":"IFERROR(HYPERLINK(\"#'Select LEA'!\"&ADDRESS(ROW(INDEX(CurrentListing,MATCH('Category Set A by Basis of Exit'!Y44,CurrentListing,0),1)),25),AM44),HYPERLINK(\"#'Select LEA'!\"&\"$AA$10\",AM44))","v":""},{"$f":"IFERROR(HYPERLINK(\"#'Select LEA'!\"&ADDRESS(ROW(INDEX(CurrentListing,MATCH('Category Set A by Basis of Exit'!Z44,CurrentListing,0),1)),25),AN44),HYPERLINK(\"#'Select LEA'!\"&\"$AA$10\",AN44))","v":""},{"$f":"IFERROR(HYPERLINK(\"#'Select LEA'!\"&ADDRESS(ROW(INDEX(CurrentListing,MATCH('Category Set A by Basis of Exit'!AA44,CurrentListing,0),1)),25),AO44),HYPERLINK(\"#'Select LEA'!\"&\"$AA$10\",AO44))","v":""},{"$f":"IFERROR(HYPERLINK(\"#'Select LEA'!\"&ADDRESS(ROW(INDEX(CurrentListing,MATCH('Category Set A by Basis of Exit'!AB44,CurrentListing,0),1)),25),AP44),HYPERLINK(\"#'Select LEA'!\"&\"$AA$10\",AP44))","v":""},{"$f":"IF(SUM(B44:M44)>=0, SUM(B44:M44), \"\")","v":0},null,null,"ID14GHSN","HI14GHSN","SLI14GHSN","VI14GHSN","EMN14GHSN","OI14GHSN","OHI14GHSN","SLD14GHSN","DB14GHSN","MD14GHSN","AUT14GHSN","TBI14GHSN",null,14,{"$f":"IFERROR(IF(INDEX(StudCntC009,MATCH(Q44,CurrentListing,0))=\"\",\"No Data\",INDEX(StudCntC009,MATCH(Q44,CurrentListing,0))),\"\")","v":""},"","","","","","","","","","","",{"$f":"SUM(AE44:AP44)","v":0}]
[15,{"$f":"IFERROR(HYPERLINK(\"#'Select LEA'!\"&ADDRESS(ROW(INDEX(CurrentListing,MATCH('Category Set A by Basis of Exit'!Q45,CurrentListing,0),1)),25),AE45),HYPERLINK(\"#'Select LEA'!\"&\"$AA$10\",AE45))","v":""},{"$f":"IFERROR(HYPERLINK(\"#'Select LEA'!\"&ADDRESS(ROW(INDEX(CurrentListing,MATCH('Category Set A by Basis of Exit'!R45,CurrentListing,0),1)),25),AF45),HYPERLINK(\"#'Select LEA'!\"&\"$AA$10\",AF45))","v":""},{"$f":"IFERROR(HYPERLINK(\"#'Select LEA'!\"&ADDRESS(ROW(INDEX(CurrentListing,MATCH('Category Set A by Basis of Exit'!S45,CurrentListing,0),1)),25),AG45),HYPERLINK(\"#'Select LEA'!\"&\"$AA$10\",AG45))","v":""},{"$f":"IFERROR(HYPERLINK(\"#'Select LEA'!\"&ADDRESS(ROW(INDEX(CurrentListing,MATCH('Category Set A by Basis of Exit'!T45,CurrentListing,0),1)),25),AH45),HYPERLINK(\"#'Select LEA'!\"&\"$AA$10\",AH45))","v":""},{"$f":"IFERROR(HYPERLINK(\"#'Select LEA'!\"&ADDRESS(ROW(INDEX(CurrentListing,MATCH('Category Set A by Basis of Exit'!U45,CurrentListing,0),1)),25),AI45),HYPERLINK(\"#'Select LEA'!\"&\"$AA$10\",AI45))","v":""},{"$f":"IFERROR(HYPERLINK(\"#'Select LEA'!\"&ADDRESS(ROW(INDEX(CurrentListing,MATCH('Category Set A by Basis of Exit'!V45,CurrentListing,0),1)),25),AJ45),HYPERLINK(\"#'Select LEA'!\"&\"$AA$10\",AJ45))","v":""},{"$f":"IFERROR(HYPERLINK(\"#'Select LEA'!\"&ADDRESS(ROW(INDEX(CurrentListing,MATCH('Category Set A by Basis of Exit'!W45,CurrentListing,0),1)),25),AK45),HYPERLINK(\"#'Select LEA'!\"&\"$AA$10\",AK45))","v":""},{"$f":"IFERROR(HYPERLINK(\"#'Select LEA'!\"&ADDRESS(ROW(INDEX(CurrentListing,MATCH('Category Set A by Basis of Exit'!X45,CurrentListing,0),1)),25),AL45),HYPERLINK(\"#'Select LEA'!\"&\"$AA$10\",AL45))","v":""},{"$f":"IFERROR(HYPERLINK(\"#'Select LEA'!\"&ADDRESS(ROW(INDEX(CurrentListing,MATCH('Category Set A by Basis of Exit'!Y45,CurrentListing,0),1)),25),AM45),HYPERLINK(\"#'Select LEA'!\"&\"$AA$10\",AM45))","v":""},{"$f":"IFERROR(HYPERLINK(\"#'Select LEA'!\"&ADDRESS(ROW(INDEX(CurrentListing,MATCH('Category Set A by Basis of Exit'!Z45,CurrentListing,0),1)),25),AN45),HYPERLINK(\"#'Select LEA'!\"&\"$AA$10\",AN45))","v":""},{"$f":"IFERROR(HYPERLINK(\"#'Select LEA'!\"&ADDRESS(ROW(INDEX(CurrentListing,MATCH('Category Set A by Basis of Exit'!AA45,CurrentListing,0),1)),25),AO45),HYPERLINK(\"#'Select LEA'!\"&\"$AA$10\",AO45))","v":""},{"$f":"IFERROR(HYPERLINK(\"#'Select LEA'!\"&ADDRESS(ROW(INDEX(CurrentListing,MATCH('Category Set A by Basis of Exit'!AB45,CurrentListing,0),1)),25),AP45),HYPERLINK(\"#'Select LEA'!\"&\"$AA$10\",AP45))","v":""},0,null,null,"ID15GHSN","HI15GHSN","SLI15GHSN","VI15GHSN","EMN15GHSN","OI15GHSN","OHI15GHSN","SLD15GHSN","DB15GHSN","MD15GHSN","AUT15GHSN","TBI15GHSN",null,15,"","","","","","","","","","","","",{"$f":"SUM(AE45:AP45)","v":0}]
[16,{"$f":"IFERROR(HYPERLINK(\"#'Select LEA'!\"&ADDRESS(ROW(INDEX(CurrentListing,MATCH('Category Set A by Basis of Exit'!Q46,CurrentListing,0),1)),25),AE46),HYPERLINK(\"#'Select LEA'!\"&\"$AA$10\",AE46))","v":""},{"$f":"IFERROR(HYPERLINK(\"#'Select LEA'!\"&ADDRESS(ROW(INDEX(CurrentListing,MATCH('Category Set A by Basis of Exit'!R46,CurrentListing,0),1)),25),AF46),HYPERLINK(\"#'Select LEA'!\"&\"$AA$10\",AF46))","v":""},{"$f":"IFERROR(HYPERLINK(\"#'Select LEA'!\"&ADDRESS(ROW(INDEX(CurrentListing,MATCH('Category Set A by Basis of Exit'!S46,CurrentListing,0),1)),25),AG46),HYPERLINK(\"#'Select LEA'!\"&\"$AA$10\",AG46))","v":""},{"$f":"IFERROR(HYPERLINK(\"#'Select LEA'!\"&ADDRESS(ROW(INDEX(CurrentListing,MATCH('Category Set A by Basis of Exit'!T46,CurrentListing,0),1)),25),AH46),HYPERLINK(\"#'Select LEA'!\"&\"$AA$10\",AH46))","v":""},{"$f":"IFERROR(HYPERLINK(\"#'Select LEA'!\"&ADDRESS(ROW(INDEX(CurrentListing,MATCH('Category Set A by Basis of Exit'!U46,CurrentListing,0),1)),25),AI46),HYPERLINK(\"#'Select LEA'!\"&\"$AA$10\",AI46))","v":""},{"$f":"IFERROR(HYPERLINK(\"#'Select LEA'!\"&ADDRESS(ROW(INDEX(CurrentListing,MATCH('Category Set A by Basis of Exit'!V46,CurrentListing,0),1)),25),AJ46),HYPERLINK(\"#'Select LEA'!\"&\"$AA$10\",AJ46))","v":""},{"$f":"IFERROR(HYPERLINK(\"#'Select LEA'!\"&ADDRESS(ROW(INDEX(CurrentListing,MATCH('Category Set A by Basis of Exit'!W46,CurrentListing,0),1)),25),AK46),HYPERLINK(\"#'Select LEA'!\"&\"$AA$10\",AK46))","v":""},{"$f":"IFERROR(HYPERLINK(\"#'Select LEA'!\"&ADDRESS(ROW(INDEX(CurrentListing,MATCH('Category Set A by Basis of Exit'!X46,CurrentListing,0),1)),25),AL46),HYPERLINK(\"#'Select LEA'!\"&\"$AA$10\",AL46))","v":""},{"$f":"IFERROR(HYPERLINK(\"#'Select LEA'!\"&ADDRESS(ROW(INDEX(CurrentListing,MATCH('Category Set A by Basis of Exit'!Y46,CurrentListing,0),1)),25),AM46),HYPERLINK(\"#'Select LEA'!\"&\"$AA$10\",AM46))","v":""},{"$f":"IFERROR(HYPERLINK(\"#'Select LEA'!\"&ADDRESS(ROW(INDEX(CurrentListing,MATCH('Category Set A by Basis of Exit'!Z46,CurrentListing,0),1)),25),AN46),HYPERLINK(\"#'Select LEA'!\"&\"$AA$10\",AN46))","v":""},{"$f":"IFERROR(HYPERLINK(\"#'Select LEA'!\"&ADDRESS(ROW(INDEX(CurrentListing,MATCH('Category Set A by Basis of Exit'!AA46,CurrentListing,0),1)),25),AO46),HYPERLINK(\"#'Select LEA'!\"&\"$AA$10\",AO46))","v":""},{"$f":"IFERROR(HYPERLINK(\"#'Select LEA'!\"&ADDRESS(ROW(INDEX(CurrentListing,MATCH('Category Set A by Basis of Exit'!AB46,CurrentListing,0),1)),25),AP46),HYPERLINK(\"#'Select LEA'!\"&\"$AA$10\",AP46))","v":""},0,null,null,"ID16GHSN","HI16GHSN","SLI16GHSN","VI16GHSN","EMN16GHSN","OI16GHSN","OHI16GHSN","SLD16GHSN","DB16GHSN","MD16GHSN","AUT16GHSN","TBI16GHSN",null,16,"","","","","","","","","","","","",0]
[17,{"$f":"IFERROR(HYPERLINK(\"#'Select LEA'!\"&ADDRESS(ROW(INDEX(CurrentListing,MATCH('Category Set A by Basis of Exit'!Q47,CurrentListing,0),1)),25),AE47),HYPERLINK(\"#'Select LEA'!\"&\"$AA$10\",AE47))","v":""},{"$f":"IFERROR(HYPERLINK(\"#'Select LEA'!\"&ADDRESS(ROW(INDEX(CurrentListing,MATCH('Category Set A by Basis of Exit'!R47,CurrentListing,0),1)),25),AF47),HYPERLINK(\"#'Select LEA'!\"&\"$AA$10\",AF47))","v":""},{"$f":"IFERROR(HYPERLINK(\"#'Select LEA'!\"&ADDRESS(ROW(INDEX(CurrentListing,MATCH('Category Set A by Basis of Exit'!S47,CurrentListing,0),1)),25),AG47),HYPERLINK(\"#'Select LEA'!\"&\"$AA$10\",AG47))","v":""},{"$f":"IFERROR(HYPERLINK(\"#'Select LEA'!\"&ADDRESS(ROW(INDEX(CurrentListing,MATCH('Category Set A by Basis of Exit'!T47,CurrentListing,0),1)),25),AH47),HYPERLINK(\"#'Select LEA'!\"&\"$AA$10\",AH47))","v":""},{"$f":"IFERROR(HYPERLINK(\"#'Select LEA'!\"&ADDRESS(ROW(INDEX(CurrentListing,MATCH('Category Set A by Basis of Exit'!U47,CurrentListing,0),1)),25),AI47),HYPERLINK(\"#'Select LEA'!\"&\"$AA$10\",AI47))","v":""},{"$f":"IFERROR(HYPERLINK(\"#'Select LEA'!\"&ADDRESS(ROW(INDEX(CurrentListing,MATCH('Category Set A by Basis of Exit'!V47,CurrentListing,0),1)),25),AJ47),HYPERLINK(\"#'Select LEA'!\"&\"$AA$10\",AJ47))","v":""},{"$f":"IFERROR(HYPERLINK(\"#'Select LEA'!\"&ADDRESS(ROW(INDEX(CurrentListing,MATCH('Category Set A by Basis of Exit'!W47,CurrentListing,0),1)),25),AK47),HYPERLINK(\"#'Select LEA'!\"&\"$AA$10\",AK47))","v":""},{"$f":"IFERROR(HYPERLINK(\"#'Select LEA'!\"&ADDRESS(ROW(INDEX(CurrentListing,MATCH('Category Set A by Basis of Exit'!X47,CurrentListing,0),1)),25),AL47),HYPERLINK(\"#'Select LEA'!\"&\"$AA$10\",AL47))","v":""},{"$f":"IFERROR(HYPERLINK(\"#'Select LEA'!\"&ADDRESS(ROW(INDEX(CurrentListing,MATCH('Category Set A by Basis of Exit'!Y47,CurrentListing,0),1)),25),AM47),HYPERLINK(\"#'Select LEA'!\"&\"$AA$10\",AM47))","v":""},{"$f":"IFERROR(HYPERLINK(\"#'Select LEA'!\"&ADDRESS(ROW(INDEX(CurrentListing,MATCH('Category Set A by Basis of Exit'!Z47,CurrentListing,0),1)),25),AN47),HYPERLINK(\"#'Select LEA'!\"&\"$AA$10\",AN47))","v":""},{"$f":"IFERROR(HYPERLINK(\"#'Select LEA'!\"&ADDRESS(ROW(INDEX(CurrentListing,MATCH('Category Set A by Basis of Exit'!AA47,CurrentListing,0),1)),25),AO47),HYPERLINK(\"#'Select LEA'!\"&\"$AA$10\",AO47))","v":""},{"$f":"IFERROR(HYPERLINK(\"#'Select LEA'!\"&ADDRESS(ROW(INDEX(CurrentListing,MATCH('Category Set A by Basis of Exit'!AB47,CurrentListing,0),1)),25),AP47),HYPERLINK(\"#'Select LEA'!\"&\"$AA$10\",AP47))","v":""},0,null,null,"ID17GHSN","HI17GHSN","SLI17GHSN","VI17GHSN","EMN17GHSN","OI17GHSN","OHI17GHSN","SLD17GHSN","DB17GHSN","MD17GHSN","AUT17GHSN","TBI17GHSN",null,17,"","","","","","","","","","","","",0]
[18,{"$f":"IFERROR(HYPERLINK(\"#'Select LEA'!\"&ADDRESS(ROW(INDEX(CurrentListing,MATCH('Category Set A by Basis of Exit'!Q48,CurrentListing,0),1)),25),AE48),HYPERLINK(\"#'Select LEA'!\"&\"$AA$10\",AE48))","v":""},{"$f":"IFERROR(HYPERLINK(\"#'Select LEA'!\"&ADDRESS(ROW(INDEX(CurrentListing,MATCH('Category Set A by Basis of Exit'!R48,CurrentListing,0),1)),25),AF48),HYPERLINK(\"#'Select LEA'!\"&\"$AA$10\",AF48))","v":""},{"$f":"IFERROR(HYPERLINK(\"#'Select LEA'!\"&ADDRESS(ROW(INDEX(CurrentListing,MATCH('Category Set A by Basis of Exit'!S48,CurrentListing,0),1)),25),AG48),HYPERLINK(\"#'Select LEA'!\"&\"$AA$10\",AG48))","v":""},{"$f":"IFERROR(HYPERLINK(\"#'Select LEA'!\"&ADDRESS(ROW(INDEX(CurrentListing,MATCH('Category Set A by Basis of Exit'!T48,CurrentListing,0),1)),25),AH48),HYPERLINK(\"#'Select LEA'!\"&\"$AA$10\",AH48))","v":""},{"$f":"IFERROR(HYPERLINK(\"#'Select LEA'!\"&ADDRESS(ROW(INDEX(CurrentListing,MATCH('Category Set A by Basis of Exit'!U48,CurrentListing,0),1)),25),AI48),HYPERLINK(\"#'Select LEA'!\"&\"$AA$10\",AI48))","v":""},{"$f":"IFERROR(HYPERLINK(\"#'Select LEA'!\"&ADDRESS(ROW(INDEX(CurrentListing,MATCH('Category Set A by Basis of Exit'!V48,CurrentListing,0),1)),25),AJ48),HYPERLINK(\"#'Select LEA'!\"&\"$AA$10\",AJ48))","v":""},{"$f":"IFERROR(HYPERLINK(\"#'Select LEA'!\"&ADDRESS(ROW(INDEX(CurrentListing,MATCH('Category Set A by Basis of Exit'!W48,CurrentListing,0),1)),25),AK48),HYPERLINK(\"#'Select LEA'!\"&\"$AA$10\",AK48))","v":""},{"$f":"IFERROR(HYPERLINK(\"#'Select LEA'!\"&ADDRESS(ROW(INDEX(CurrentListing,MATCH('Category Set A by Basis of Exit'!X48,CurrentListing,0),1)),25),AL48),HYPERLINK(\"#'Select LEA'!\"&\"$AA$10\",AL48))","v":""},{"$f":"IFERROR(HYPERLINK(\"#'Select LEA'!\"&ADDRESS(ROW(INDEX(CurrentListing,MATCH('Category Set A by Basis of Exit'!Y48,CurrentListing,0),1)),25),AM48),HYPERLINK(\"#'Select LEA'!\"&\"$AA$10\",AM48))","v":""},{"$f":"IFERROR(HYPERLINK(\"#'Select LEA'!\"&ADDRESS(ROW(INDEX(CurrentListing,MATCH('Category Set A by Basis of Exit'!Z48,CurrentListing,0),1)),25),AN48),HYPERLINK(\"#'Select LEA'!\"&\"$AA$10\",AN48))","v":""},{"$f":"IFERROR(HYPERLINK(\"#'Select LEA'!\"&ADDRESS(ROW(INDEX(CurrentListing,MATCH('Category Set A by Basis of Exit'!AA48,CurrentListing,0),1)),25),AO48),HYPERLINK(\"#'Select LEA'!\"&\"$AA$10\",AO48))","v":""},{"$f":"IFERROR(HYPERLINK(\"#'Select LEA'!\"&ADDRESS(ROW(INDEX(CurrentListing,MATCH('Category Set A by Basis of Exit'!AB48,CurrentListing,0),1)),25),AP48),HYPERLINK(\"#'Select LEA'!\"&\"$AA$10\",AP48))","v":""},0,null,null,"ID18GHSN","HI18GHSN","SLI18GHSN","VI18GHSN","EMN18GHSN","OI18GHSN","OHI18GHSN","SLD18GHSN","DB18GHSN","MD18GHSN","AUT18GHSN","TBI18GHSN",null,18,"","","","","","","","","","","","",0]
[19,{"$f":"IFERROR(HYPERLINK(\"#'Select LEA'!\"&ADDRESS(ROW(INDEX(CurrentListing,MATCH('Category Set A by Basis of Exit'!Q49,CurrentListing,0),1)),25),AE49),HYPERLINK(\"#'Select LEA'!\"&\"$AA$10\",AE49))","v":""},{"$f":"IFERROR(HYPERLINK(\"#'Select LEA'!\"&ADDRESS(ROW(INDEX(CurrentListing,MATCH('Category Set A by Basis of Exit'!R49,CurrentListing,0),1)),25),AF49),HYPERLINK(\"#'Select LEA'!\"&\"$AA$10\",AF49))","v":""},{"$f":"IFERROR(HYPERLINK(\"#'Select LEA'!\"&ADDRESS(ROW(INDEX(CurrentListing,MATCH('Category Set A by Basis of Exit'!S49,CurrentListing,0),1)),25),AG49),HYPERLINK(\"#'Select LEA'!\"&\"$AA$10\",AG49))","v":""},{"$f":"IFERROR(HYPERLINK(\"#'Select LEA'!\"&ADDRESS(ROW(INDEX(CurrentListing,MATCH('Category Set A by Basis of Exit'!T49,CurrentListing,0),1)),25),AH49),HYPERLINK(\"#'Select LEA'!\"&\"$AA$10\",AH49))","v":""},{"$f":"IFERROR(HYPERLINK(\"#'Select LEA'!\"&ADDRESS(ROW(INDEX(CurrentListing,MATCH('Category Set A by Basis of Exit'!U49,CurrentListing,0),1)),25),AI49),HYPERLINK(\"#'Select LEA'!\"&\"$AA$10\",AI49))","v":""},{"$f":"IFERROR(HYPERLINK(\"#'Select LEA'!\"&ADDRESS(ROW(INDEX(CurrentListing,MATCH('Category Set A by Basis of Exit'!V49,CurrentListing,0),1)),25),AJ49),HYPERLINK(\"#'Select LEA'!\"&\"$AA$10\",AJ49))","v":""},{"$f":"IFERROR(HYPERLINK(\"#'Select LEA'!\"&ADDRESS(ROW(INDEX(CurrentListing,MATCH('Category Set A by Basis of Exit'!W49,CurrentListing,0),1)),25),AK49),HYPERLINK(\"#'Select LEA'!\"&\"$AA$10\",AK49))","v":""},{"$f":"IFERROR(HYPERLINK(\"#'Select LEA'!\"&ADDRESS(ROW(INDEX(CurrentListing,MATCH('Category Set A by Basis of Exit'!X49,CurrentListing,0),1)),25),AL49),HYPERLINK(\"#'Select LEA'!\"&\"$AA$10\",AL49))","v":""},{"$f":"IFERROR(HYPERLINK(\"#'Select LEA'!\"&ADDRESS(ROW(INDEX(CurrentListing,MATCH('Category Set A by Basis of Exit'!Y49,CurrentListing,0),1)),25),AM49),HYPERLINK(\"#'Select LEA'!\"&\"$AA$10\",AM49))","v":""},{"$f":"IFERROR(HYPERLINK(\"#'Select LEA'!\"&ADDRESS(ROW(INDEX(CurrentListing,MATCH('Category Set A by Basis of Exit'!Z49,CurrentListing,0),1)),25),AN49),HYPERLINK(\"#'Select LEA'!\"&\"$AA$10\",AN49))","v":""},{"$f":"IFERROR(HYPERLINK(\"#'Select LEA'!\"&ADDRESS(ROW(INDEX(CurrentListing,MATCH('Category Set A by Basis of Exit'!AA49,CurrentListing,0),1)),25),AO49),HYPERLINK(\"#'Select LEA'!\"&\"$AA$10\",AO49))","v":""},{"$f":"IFERROR(HYPERLINK(\"#'Select LEA'!\"&ADDRESS(ROW(INDEX(CurrentListing,MATCH('Category Set A by Basis of Exit'!AB49,CurrentListing,0),1)),25),AP49),HYPERLINK(\"#'Select LEA'!\"&\"$AA$10\",AP49))","v":""},0,null,null,"ID19GHSN","HI19GHSN","SLI19GHSN","VI19GHSN","EMN19GHSN","OI19GHSN","OHI19GHSN","SLD19GHSN","DB19GHSN","MD19GHSN","AUT19GHSN","TBI19GHSN",null,19,"","","","","","","","","","","","",0]
[20,{"$f":"IFERROR(HYPERLINK(\"#'Select LEA'!\"&ADDRESS(ROW(INDEX(CurrentListing,MATCH('Category Set A by Basis of Exit'!Q50,CurrentListing,0),1)),25),AE50),HYPERLINK(\"#'Select LEA'!\"&\"$AA$10\",AE50))","v":""},{"$f":"IFERROR(HYPERLINK(\"#'Select LEA'!\"&ADDRESS(ROW(INDEX(CurrentListing,MATCH('Category Set A by Basis of Exit'!R50,CurrentListing,0),1)),25),AF50),HYPERLINK(\"#'Select LEA'!\"&\"$AA$10\",AF50))","v":""},{"$f":"IFERROR(HYPERLINK(\"#'Select LEA'!\"&ADDRESS(ROW(INDEX(CurrentListing,MATCH('Category Set A by Basis of Exit'!S50,CurrentListing,0),1)),25),AG50),HYPERLINK(\"#'Select LEA'!\"&\"$AA$10\",AG50))","v":""},{"$f":"IFERROR(HYPERLINK(\"#'Select LEA'!\"&ADDRESS(ROW(INDEX(CurrentListing,MATCH('Category Set A by Basis of Exit'!T50,CurrentListing,0),1)),25),AH50),HYPERLINK(\"#'Select LEA'!\"&\"$AA$10\",AH50))","v":""},{"$f":"IFERROR(HYPERLINK(\"#'Select LEA'!\"&ADDRESS(ROW(INDEX(CurrentListing,MATCH('Category Set A by Basis of Exit'!U50,CurrentListing,0),1)),25),AI50),HYPERLINK(\"#'Select LEA'!\"&\"$AA$10\",AI50))","v":""},{"$f":"IFERROR(HYPERLINK(\"#'Select LEA'!\"&ADDRESS(ROW(INDEX(CurrentListing,MATCH('Category Set A by Basis of Exit'!V50,CurrentListing,0),1)),25),AJ50),HYPERLINK(\"#'Select LEA'!\"&\"$AA$10\",AJ50))","v":""},{"$f":"IFERROR(HYPERLINK(\"#'Select LEA'!\"&ADDRESS(ROW(INDEX(CurrentListing,MATCH('Category Set A by Basis of Exit'!W50,CurrentListing,0),1)),25),AK50),HYPERLINK(\"#'Select LEA'!\"&\"$AA$10\",AK50))","v":""},{"$f":"IFERROR(HYPERLINK(\"#'Select LEA'!\"&ADDRESS(ROW(INDEX(CurrentListing,MATCH('Category Set A by Basis of Exit'!X50,CurrentListing,0),1)),25),AL50),HYPERLINK(\"#'Select LEA'!\"&\"$AA$10\",AL50))","v":""},{"$f":"IFERROR(HYPERLINK(\"#'Select LEA'!\"&ADDRESS(ROW(INDEX(CurrentListing,MATCH('Category Set A by Basis of Exit'!Y50,CurrentListing,0),1)),25),AM50),HYPERLINK(\"#'Select LEA'!\"&\"$AA$10\",AM50))","v":""},{"$f":"IFERROR(HYPERLINK(\"#'Select LEA'!\"&ADDRESS(ROW(INDEX(CurrentListing,MATCH('Category Set A by Basis of Exit'!Z50,CurrentListing,0),1)),25),AN50),HYPERLINK(\"#'Select LEA'!\"&\"$AA$10\",AN50))","v":""},{"$f":"IFERROR(HYPERLINK(\"#'Select LEA'!\"&ADDRESS(ROW(INDEX(CurrentListing,MATCH('Category Set A by Basis of Exit'!AA50,CurrentListing,0),1)),25),AO50),HYPERLINK(\"#'Select LEA'!\"&\"$AA$10\",AO50))","v":""},{"$f":"IFERROR(HYPERLINK(\"#'Select LEA'!\"&ADDRESS(ROW(INDEX(CurrentListing,MATCH('Category Set A by Basis of Exit'!AB50,CurrentListing,0),1)),25),AP50),HYPERLINK(\"#'Select LEA'!\"&\"$AA$10\",AP50))","v":""},0,null,null,"ID20GHSN","HI20GHSN","SLI20GHSN","VI20GHSN","EMN20GHSN","OI20GHSN","OHI20GHSN","SLD20GHSN","DB20GHSN","MD20GHSN","AUT20GHSN","TBI20GHSN",null,20,"","","","","","","","","","","","",0]
[21,{"$f":"IFERROR(HYPERLINK(\"#'Select LEA'!\"&ADDRESS(ROW(INDEX(CurrentListing,MATCH('Category Set A by Basis of Exit'!Q51,CurrentListing,0),1)),25),AE51),HYPERLINK(\"#'Select LEA'!\"&\"$AA$10\",AE51))","v":""},{"$f":"IFERROR(HYPERLINK(\"#'Select LEA'!\"&ADDRESS(ROW(INDEX(CurrentListing,MATCH('Category Set A by Basis of Exit'!R51,CurrentListing,0),1)),25),AF51),HYPERLINK(\"#'Select LEA'!\"&\"$AA$10\",AF51))","v":""},{"$f":"IFERROR(HYPERLINK(\"#'Select LEA'!\"&ADDRESS(ROW(INDEX(CurrentListing,MATCH('Category Set A by Basis of Exit'!S51,CurrentListing,0),1)),25),AG51),HYPERLINK(\"#'Select LEA'!\"&\"$AA$10\",AG51))","v":""},{"$f":"IFERROR(HYPERLINK(\"#'Select LEA'!\"&ADDRESS(ROW(INDEX(CurrentListing,MATCH('Category Set A by Basis of Exit'!T51,CurrentListing,0),1)),25),AH51),HYPERLINK(\"#'Select LEA'!\"&\"$AA$10\",AH51))","v":""},{"$f":"IFERROR(HYPERLINK(\"#'Select LEA'!\"&ADDRESS(ROW(INDEX(CurrentListing,MATCH('Category Set A by Basis of Exit'!U51,CurrentListing,0),1)),25),AI51),HYPERLINK(\"#'Select LEA'!\"&\"$AA$10\",AI51))","v":""},{"$f":"IFERROR(HYPERLINK(\"#'Select LEA'!\"&ADDRESS(ROW(INDEX(CurrentListing,MATCH('Category Set A by Basis of Exit'!V51,CurrentListing,0),1)),25),AJ51),HYPERLINK(\"#'Select LEA'!\"&\"$AA$10\",AJ51))","v":""},{"$f":"IFERROR(HYPERLINK(\"#'Select LEA'!\"&ADDRESS(ROW(INDEX(CurrentListing,MATCH('Category Set A by Basis of Exit'!W51,CurrentListing,0),1)),25),AK51),HYPERLINK(\"#'Select LEA'!\"&\"$AA$10\",AK51))","v":""},{"$f":"IFERROR(HYPERLINK(\"#'Select LEA'!\"&ADDRESS(ROW(INDEX(CurrentListing,MATCH('Category Set A by Basis of Exit'!X51,CurrentListing,0),1)),25),AL51),HYPERLINK(\"#'Select LEA'!\"&\"$AA$10\",AL51))","v":""},{"$f":"IFERROR(HYPERLINK(\"#'Select LEA'!\"&ADDRESS(ROW(INDEX(CurrentListing,MATCH('Category Set A by Basis of Exit'!Y51,CurrentListing,0),1)),25),AM51),HYPERLINK(\"#'Select LEA'!\"&\"$AA$10\",AM51))","v":""},{"$f":"IFERROR(HYPERLINK(\"#'Select LEA'!\"&ADDRESS(ROW(INDEX(CurrentListing,MATCH('Category Set A by Basis of Exit'!Z51,CurrentListing,0),1)),25),AN51),HYPERLINK(\"#'Select LEA'!\"&\"$AA$10\",AN51))","v":""},{"$f":"IFERROR(HYPERLINK(\"#'Select LEA'!\"&ADDRESS(ROW(INDEX(CurrentListing,MATCH('Category Set A by Basis of Exit'!AA51,CurrentListing,0),1)),25),AO51),HYPERLINK(\"#'Select LEA'!\"&\"$AA$10\",AO51))","v":""},{"$f":"IFERROR(HYPERLINK(\"#'Select LEA'!\"&ADDRESS(ROW(INDEX(CurrentListing,MATCH('Category Set A by Basis of Exit'!AB51,CurrentListing,0),1)),25),AP51),HYPERLINK(\"#'Select LEA'!\"&\"$AA$10\",AP51))","v":""},0,null,null,"ID21GHSN","HI21GHSN","SLI21GHSN","VI21GHSN","EMN21GHSN","OI21GHSN","OHI21GHSN","SLD21GHSN","DB21GHSN","MD21GHSN","AUT21GHSN","TBI21GHSN",null,21,"","","","","","","","","","","","",0]
["Total",{"$f":"IF(SUM(B44:B51)>=0, SUM(B44:B51), \"\")","v":0},{"$f":"IF(SUM(C44:C51)>=0, SUM(C44:C51), \"\")","v":0},0,0,0,0,0,0,0,0,0,0,{"$f":"IF(AND(N4=\"MC\",N5=\"MC\",N6=\"MC\",N7=\"MC\",N8=\"MC\",N9=\"MC\",N10=\"MC\",N11=\"MC\", N14=\"MC\"),\"\",SUM(B44:M51))","v":0},null,null,null,null,null,null,null,null,null,null,null,null,null,null,"GHSY","Total",{"$f":"SUM(AE44:AE51)","v":0},{"$f":"SUM(AF44:AF51)","v":0},0,0,0,0,0,0,0,0,0,0,{"$f":"IFERROR(IF(INDEX(StudCntC009,MATCH(AC52,CurrentListing,0))=\"\",\"No Data\",INDEX(StudCntC009,MATCH(AC52,CurrentListing,0))),\"\")","v":""}]
[]
["Percent by age","Graduated with regular high school diploma"]
[null,"Intellectual\ndisability\n(percent)","Hearing\nimpairment\n(percent)","Speech or\nlanguage\nimpairment\n(percent)","Visual\nimpairment\n(percent)","Emotional\ndisturbance\n(percent)","Orthopedic\nimpairment\n(percent)","Other\nhealth\nimpairment\n(percent)","Specific\nlearning\ndisability\n(percent)","Deaf-\nblindness\n(percent)","Multiple\ndisabilities\n(percent)","Autism\n(Percent)","Traumatic\nbrain\ninjury\n(percent)","Total\n(percent)"]
[14,{"$f":"IF(ISERROR(B44/$N44),IF(B44=\"MC\", \"\",0), B44/$N44)","v":0},{"$f":"IF(ISERROR(C44/$N44),IF(C44=\"MC\", \"\",0), C44/$N44)","v":0},0,0,0,0,0,0,0,0,0,0,{"$f":"SUM(B56:M56)","v":0}]
[15,{"$f":"IF(ISERROR(B45/$N45),IF(B45=\"MC\", \"\",0), B45/$N45)","v":0},0,0,0,0,0,0,0,0,0,0,0,{"$f":"SUM(B57:M57)","v":0}]
[16,{"$f":"IF(ISERROR(B46/$N46),IF(B46=\"MC\", \"\",0), B46/$N46)","v":0},0,0,0,0,0,0,0,0,0,0,0,0]
[17,{"$f":"IF(ISERROR(B47/$N47),IF(B47=\"MC\", \"\",0), B47/$N47)","v":0},0,0,0,0,0,0,0,0,0,0,0,0]
[18,{"$f":"IF(ISERROR(B48/$N48),IF(B48=\"MC\", \"\",0), B48/$N48)","v":0},0,0,0,0,0,0,0,0,0,0,0,0]
[19,{"$f":"IF(ISERROR(B49/$N49),IF(B49=\"MC\", \"\",0), B49/$N49)","v":0},0,0,0,0,0,0,0,0,0,0,0,0]
[20,{"$f":"IF(ISERROR(B50/$N50),IF(B50=\"MC\", \"\",0), B50/$N50)","v":0},0,0,0,0,0,0,0,0,0,0,0,0]
[21,{"$f":"IF(ISERROR(B51/$N51),IF(B51=\"MC\", \"\",0), B51/$N51)","v":0},0,0,0,0,0,0,0,0,0,0,0,0]
["Total",{"$f":"IFERROR(IF($N52<>0,B52/$N52,0),\"\")","v":0},{"$f":"IFERROR(IF($N52<>0,C52/$N52,0),\"\")","v":0},0,0,0,0,0,0,0,0,0,0,0]
[]
["Category set A – Children with disabilities (IDEA) exiting special education, by basis of exit, disability category, and age",null,null,null,null,null,null,null,null,null,null,null,null,null,null,null,"Graduated with an alternate diploma"]
["Student count by age","Graduated with an alternate diploma",null,null,null,null,null,null,null,null,null,null,null,null,null,null,null,null,null,null,null,null,null,null,null,null,null,null,null,"Student counts by age",{"$f":"B67","v":"Graduated with an alternate diploma"}]
[null,"Intellectual\ndisability","Hearing\nimpairment","Speech or\nlanguage\nimpairment","Visual\nimpairment","Emotional\ndisturbance","Orthopedic\nimpairment","Other\nhealth\nimpairment","Specific\nlearning\ndisability","Deaf-\nblindness","Multiple\ndisabilities","Autism","Traumatic\nbrain\ninjury","Total",null,null,null,null,null,null,null,null,null,null,null,null,null,null,null,null,"Intellectual\nDisability","Hearing\nImpairments","Speech or\nLanguage\nImpairments","Visual\nImpairments","Emotional\nDisturbance","Orthopedic\nImpairments","Other\nHealth\nImpairments","Specific\nLearning\nDisabilities","Deaf-\nBlindness","Multiple\nDisabilities","Autism","Traumatic\nBrain\nInjury","Total"]
[14,{"$f":"IFERROR(HYPERLINK(\"#'Select LEA'!\"&ADDRESS(ROW(INDEX(CurrentListing,MATCH('Category Set A by Basis of Exit'!Q69,CurrentListing,0),1)),25),AE69),HYPERLINK(\"#'Select LEA'!\"&\"$AA$10\",AE69))","v":""},{"$f":"IFERROR(HYPERLINK(\"#'Select LEA'!\"&ADDRESS(ROW(INDEX(CurrentListing,MATCH('Category Set A by Basis of Exit'!R69,CurrentListing,0),1)),25),AF69),HYPERLINK(\"#'Select LEA'!\"&\"$AA$10\",AF69))","v":""},{"$f":"IFERROR(HYPERLINK(\"#'Select LEA'!\"&ADDRESS(ROW(INDEX(CurrentListing,MATCH('Category Set A by Basis of Exit'!S69,CurrentListing,0),1)),25),AG69),HYPERLINK(\"#'Select LEA'!\"&\"$AA$10\",AG69))","v":""},{"$f":"IFERROR(HYPERLINK(\"#'Select LEA'!\"&ADDRESS(ROW(INDEX(CurrentListing,MATCH('Category Set A by Basis of Exit'!T69,CurrentListing,0),1)),25),AH69),HYPERLINK(\"#'Select LEA'!\"&\"$AA$10\",AH69))","v":""},{"$f":"IFERROR(HYPERLINK(\"#'Select LEA'!\"&ADDRESS(ROW(INDEX(CurrentListing,MATCH('Category Set A by Basis of Exit'!U69,CurrentListing,0),1)),25),AI69),HYPERLINK(\"#'Select LEA'!\"&\"$AA$10\",AI69))","v":""},{"$f":"IFERROR(HYPERLINK(\"#'Select LEA'!\"&ADDRESS(ROW(INDEX(CurrentListing,MATCH('Category Set A by Basis of Exit'!V69,CurrentListing,0),1)),25),AJ69),HYPERLINK(\"#'Select LEA'!\"&\"$AA$10\",AJ69))","v":""},{"$f":"IFERROR(HYPERLINK(\"#'Select LEA'!\"&ADDRESS(ROW(INDEX(CurrentListing,MATCH('Category Set A by Basis of Exit'!W69,CurrentListing,0),1)),25),AK69),HYPERLINK(\"#'Select LEA'!\"&\"$AA$10\",AK69))","v":""},{"$f":"IFERROR(HYPERLINK(\"#'Select LEA'!\"&ADDRESS(ROW(INDEX(CurrentListing,MATCH('Category Set A by Basis of Exit'!X69,CurrentListing,0),1)),25),AL69),HYPERLINK(\"#'Select LEA'!\"&\"$AA$10\",AL69))","v":""},{"$f":"IFERROR(HYPERLINK(\"#'Select LEA'!\"&ADDRESS(ROW(INDEX(CurrentListing,MATCH('Category Set A by Basis of Exit'!Y69,CurrentListing,0),1)),25),AM69),HYPERLINK(\"#'Select LEA'!\"&\"$AA$10\",AM69))","v":""},{"$f":"IFERROR(HYPERLINK(\"#'Select LEA'!\"&ADDRESS(ROW(INDEX(CurrentListing,MATCH('Category Set A by Basis of Exit'!Z69,CurrentListing,0),1)),25),AN69),HYPERLINK(\"#'Select LEA'!\"&\"$AA$10\",AN69))","v":""},{"$f":"IFERROR(HYPERLINK(\"#'Select LEA'!\"&ADDRESS(ROW(INDEX(CurrentListing,MATCH('Category Set A by Basis of Exit'!AA69,CurrentListing,0),1)),25),AO69),HYPERLINK(\"#'Select LEA'!\"&\"$AA$10\",AO69))","v":""},{"$f":"IFERROR(HYPERLINK(\"#'Select LEA'!\"&ADDRESS(ROW(INDEX(CurrentListing,MATCH('Category Set A by Basis of Exit'!AB69,CurrentListing,0),1)),25),AP69),HYPERLINK(\"#'Select LEA'!\"&\"$AA$10\",AP69))","v":""},{"$f":"IF(SUM(B69:M69)>=0, SUM(B69:M69), \"\")","v":0},null,null,"ID14GRADALTDPLN","HI14GRADALTDPLN","SLI14GRADALTDPLN","VI14GRADALTDPLN","EMN14GRADALTDPLN","OI14GRADALTDPLN","OHI14GRADALTDPLN","SLD14GRADALTDPLN","DB14GRADALTDPLN","MD14GRADALTDPLN","AUT14GRADALTDPLN","TBI14GRADALTDPLN",null,14,{"$f":"IFERROR(IF(INDEX(StudCntC009,MATCH(Q69,CurrentListing,0))=\"\",\"No Data\",INDEX(StudCntC009,MATCH(Q69,CurrentListing,0))),\"\")","v":""},"","","","","","","","","","","",{"$f":"SUM(AE69:AP69)","v":0}]
[15,{"$f":"IFERROR(HYPERLINK(\"#'Select LEA'!\"&ADDRESS(ROW(INDEX(CurrentListing,MATCH('Category Set A by Basis of Exit'!Q70,CurrentListing,0),1)),25),AE70),HYPERLINK(\"#'Select LEA'!\"&\"$AA$10\",AE70))","v":""},{"$f":"IFERROR(HYPERLINK(\"#'Select LEA'!\"&ADDRESS(ROW(INDEX(CurrentListing,MATCH('Category Set A by Basis of Exit'!R70,CurrentListing,0),1)),25),AF70),HYPERLINK(\"#'Select LEA'!\"&\"$AA$10\",AF70))","v":""},{"$f":"IFERROR(HYPERLINK(\"#'Select LEA'!\"&ADDRESS(ROW(INDEX(CurrentListing,MATCH('Category Set A by Basis of Exit'!S70,CurrentListing,0),1)),25),AG70),HYPERLINK(\"#'Select LEA'!\"&\"$AA$10\",AG70))","v":""},{"$f":"IFERROR(HYPERLINK(\"#'Select LEA'!\"&ADDRESS(ROW(INDEX(CurrentListing,MATCH('Category Set A by Basis of Exit'!T70,CurrentListing,0),1)),25),AH70),HYPERLINK(\"#'Select LEA'!\"&\"$AA$10\",AH70))","v":""},{"$f":"IFERROR(HYPERLINK(\"#'Select LEA'!\"&ADDRESS(ROW(INDEX(CurrentListing,MATCH('Category Set A by Basis of Exit'!U70,CurrentListing,0),1)),25),AI70),HYPERLINK(\"#'Select LEA'!\"&\"$AA$10\",AI70))","v":""},{"$f":"IFERROR(HYPERLINK(\"#'Select LEA'!\"&ADDRESS(ROW(INDEX(CurrentListing,MATCH('Category Set A by Basis of Exit'!V70,CurrentListing,0),1)),25),AJ70),HYPERLINK(\"#'Select LEA'!\"&\"$AA$10\",AJ70))","v":""},{"$f":"IFERROR(HYPERLINK(\"#'Select LEA'!\"&ADDRESS(ROW(INDEX(CurrentListing,MATCH('Category Set A by Basis of Exit'!W70,CurrentListing,0),1)),25),AK70),HYPERLINK(\"#'Select LEA'!\"&\"$AA$10\",AK70))","v":""},{"$f":"IFERROR(HYPERLINK(\"#'Select LEA'!\"&ADDRESS(ROW(INDEX(CurrentListing,MATCH('Category Set A by Basis of Exit'!X70,CurrentListing,0),1)),25),AL70),HYPERLINK(\"#'Select LEA'!\"&\"$AA$10\",AL70))","v":""},{"$f":"IFERROR(HYPERLINK(\"#'Select LEA'!\"&ADDRESS(ROW(INDEX(CurrentListing,MATCH('Category Set A by Basis of Exit'!Y70,CurrentListing,0),1)),25),AM70),HYPERLINK(\"#'Select LEA'!\"&\"$AA$10\",AM70))","v":""},{"$f":"IFERROR(HYPERLINK(\"#'Select LEA'!\"&ADDRESS(ROW(INDEX(CurrentListing,MATCH('Category Set A by Basis of Exit'!Z70,CurrentListing,0),1)),25),AN70),HYPERLINK(\"#'Select LEA'!\"&\"$AA$10\",AN70))","v":""},{"$f":"IFERROR(HYPERLINK(\"#'Select LEA'!\"&ADDRESS(ROW(INDEX(CurrentListing,MATCH('Category Set A by Basis of Exit'!AA70,CurrentListing,0),1)),25),AO70),HYPERLINK(\"#'Select LEA'!\"&\"$AA$10\",AO70))","v":""},{"$f":"IFERROR(HYPERLINK(\"#'Select LEA'!\"&ADDRESS(ROW(INDEX(CurrentListing,MATCH('Category Set A by Basis of Exit'!AB70,CurrentListing,0),1)),25),AP70),HYPERLINK(\"#'Select LEA'!\"&\"$AA$10\",AP70))","v":""},0,null,null,"ID15GRADALTDPLN","HI15GRADALTDPLN","SLI15GRADALTDPLN","VI15GRADALTDPLN","EMN15GRADALTDPLN","OI15GRADALTDPLN","OHI15GRADALTDPLN","SLD15GRADALTDPLN","DB15GRADALTDPLN","MD15GRADALTDPLN","AUT15GRADALTDPLN","TBI15GRADALTDPLN",null,15,"","","","","","","","","","","","",{"$f":"SUM(AE70:AP70)","v":0}]
[16,{"$f":"IFERROR(HYPERLINK(\"#'Select LEA'!\"&ADDRESS(ROW(INDEX(CurrentListing,MATCH('Category Set A by Basis of Exit'!Q71,CurrentListing,0),1)),25),AE71),HYPERLINK(\"#'Select LEA'!\"&\"$AA$10\",AE71))","v":""},{"$f":"IFERROR(HYPERLINK(\"#'Select LEA'!\"&ADDRESS(ROW(INDEX(CurrentListing,MATCH('Category Set A by Basis of Exit'!R71,CurrentListing,0),1)),25),AF71),HYPERLINK(\"#'Select LEA'!\"&\"$AA$10\",AF71))","v":""},{"$f":"IFERROR(HYPERLINK(\"#'Select LEA'!\"&ADDRESS(ROW(INDEX(CurrentListing,MATCH('Category Set A by Basis of Exit'!S71,CurrentListing,0),1)),25),AG71),HYPERLINK(\"#'Select LEA'!\"&\"$AA$10\",AG71))","v":""},{"$f":"IFERROR(HYPERLINK(\"#'Select LEA'!\"&ADDRESS(ROW(INDEX(CurrentListing,MATCH('Category Set A by Basis of Exit'!T71,CurrentListing,0),1)),25),AH71),HYPERLINK(\"#'Select LEA'!\"&\"$AA$10\",AH71))","v":""},{"$f":"IFERROR(HYPERLINK(\"#'Select LEA'!\"&ADDRESS(ROW(INDEX(CurrentListing,MATCH('Category Set A by Basis of Exit'!U71,CurrentListing,0),1)),25),AI71),HYPERLINK(\"#'Select LEA'!\"&\"$AA$10\",AI71))","v":""},{"$f":"IFERROR(HYPERLINK(\"#'Select LEA'!\"&ADDRESS(ROW(INDEX(CurrentListing,MATCH('Category Set A by Basis of Exit'!V71,CurrentListing,0),1)),25),AJ71),HYPERLINK(\"#'Select LEA'!\"&\"$AA$10\",AJ71))","v":""},{"$f":"IFERROR(HYPERLINK(\"#'Select LEA'!\"&ADDRESS(ROW(INDEX(CurrentListing,MATCH('Category Set A by Basis of Exit'!W71,CurrentListing,0),1)),25),AK71),HYPERLINK(\"#'Select LEA'!\"&\"$AA$10\",AK71))","v":""},{"$f":"IFERROR(HYPERLINK(\"#'Select LEA'!\"&ADDRESS(ROW(INDEX(CurrentListing,MATCH('Category Set A by Basis of Exit'!X71,CurrentListing,0),1)),25),AL71),HYPERLINK(\"#'Select LEA'!\"&\"$AA$10\",AL71))","v":""},{"$f":"IFERROR(HYPERLINK(\"#'Select LEA'!\"&ADDRESS(ROW(INDEX(CurrentListing,MATCH('Category Set A by Basis of Exit'!Y71,CurrentListing,0),1)),25),AM71),HYPERLINK(\"#'Select LEA'!\"&\"$AA$10\",AM71))","v":""},{"$f":"IFERROR(HYPERLINK(\"#'Select LEA'!\"&ADDRESS(ROW(INDEX(CurrentListing,MATCH('Category Set A by Basis of Exit'!Z71,CurrentListing,0),1)),25),AN71),HYPERLINK(\"#'Select LEA'!\"&\"$AA$10\",AN71))","v":""},{"$f":"IFERROR(HYPERLINK(\"#'Select LEA'!\"&ADDRESS(ROW(INDEX(CurrentListing,MATCH('Category Set A by Basis of Exit'!AA71,CurrentListing,0),1)),25),AO71),HYPERLINK(\"#'Select LEA'!\"&\"$AA$10\",AO71))","v":""},{"$f":"IFERROR(HYPERLINK(\"#'Select LEA'!\"&ADDRESS(ROW(INDEX(CurrentListing,MATCH('Category Set A by Basis of Exit'!AB71,CurrentListing,0),1)),25),AP71),HYPERLINK(\"#'Select LEA'!\"&\"$AA$10\",AP71))","v":""},0,null,null,"ID16GRADALTDPLN","HI16GRADALTDPLN","SLI16GRADALTDPLN","VI16GRADALTDPLN","EMN16GRADALTDPLN","OI16GRADALTDPLN","OHI16GRADALTDPLN","SLD16GRADALTDPLN","DB16GRADALTDPLN","MD16GRADALTDPLN","AUT16GRADALTDPLN","TBI16GRADALTDPLN",null,16,"","","","","","","","","","","","",0]
[17,{"$f":"IFERROR(HYPERLINK(\"#'Select LEA'!\"&ADDRESS(ROW(INDEX(CurrentListing,MATCH('Category Set A by Basis of Exit'!Q72,CurrentListing,0),1)),25),AE72),HYPERLINK(\"#'Select LEA'!\"&\"$AA$10\",AE72))","v":""},{"$f":"IFERROR(HYPERLINK(\"#'Select LEA'!\"&ADDRESS(ROW(INDEX(CurrentListing,MATCH('Category Set A by Basis of Exit'!R72,CurrentListing,0),1)),25),AF72),HYPERLINK(\"#'Select LEA'!\"&\"$AA$10\",AF72))","v":""},{"$f":"IFERROR(HYPERLINK(\"#'Select LEA'!\"&ADDRESS(ROW(INDEX(CurrentListing,MATCH('Category Set A by Basis of Exit'!S72,CurrentListing,0),1)),25),AG72),HYPERLINK(\"#'Select LEA'!\"&\"$AA$10\",AG72))","v":""},{"$f":"IFERROR(HYPERLINK(\"#'Select LEA'!\"&ADDRESS(ROW(INDEX(CurrentListing,MATCH('Category Set A by Basis of Exit'!T72,CurrentListing,0),1)),25),AH72),HYPERLINK(\"#'Select LEA'!\"&\"$AA$10\",AH72))","v":""},{"$f":"IFERROR(HYPERLINK(\"#'Select LEA'!\"&ADDRESS(ROW(INDEX(CurrentListing,MATCH('Category Set A by Basis of Exit'!U72,CurrentListing,0),1)),25),AI72),HYPERLINK(\"#'Select LEA'!\"&\"$AA$10\",AI72))","v":""},{"$f":"IFERROR(HYPERLINK(\"#'Select LEA'!\"&ADDRESS(ROW(INDEX(CurrentListing,MATCH('Category Set A by Basis of Exit'!V72,CurrentListing,0),1)),25),AJ72),HYPERLINK(\"#'Select LEA'!\"&\"$AA$10\",AJ72))","v":""},{"$f":"IFERROR(HYPERLINK(\"#'Select LEA'!\"&ADDRESS(ROW(INDEX(CurrentListing,MATCH('Category Set A by Basis of Exit'!W72,CurrentListing,0),1)),25),AK72),HYPERLINK(\"#'Select LEA'!\"&\"$AA$10\",AK72))","v":""},{"$f":"IFERROR(HYPERLINK(\"#'Select LEA'!\"&ADDRESS(ROW(INDEX(CurrentListing,MATCH('Category Set A by Basis of Exit'!X72,CurrentListing,0),1)),25),AL72),HYPERLINK(\"#'Select LEA'!\"&\"$AA$10\",AL72))","v":""},{"$f":"IFERROR(HYPERLINK(\"#'Select LEA'!\"&ADDRESS(ROW(INDEX(CurrentListing,MATCH('Category Set A by Basis of Exit'!Y72,CurrentListing,0),1)),25),AM72),HYPERLINK(\"#'Select LEA'!\"&\"$AA$10\",AM72))","v":""},{"$f":"IFERROR(HYPERLINK(\"#'Select LEA'!\"&ADDRESS(ROW(INDEX(CurrentListing,MATCH('Category Set A by Basis of Exit'!Z72,CurrentListing,0),1)),25),AN72),HYPERLINK(\"#'Select LEA'!\"&\"$AA$10\",AN72))","v":""},{"$f":"IFERROR(HYPERLINK(\"#'Select LEA'!\"&ADDRESS(ROW(INDEX(CurrentListing,MATCH('Category Set A by Basis of Exit'!AA72,CurrentListing,0),1)),25),AO72),HYPERLINK(\"#'Select LEA'!\"&\"$AA$10\",AO72))","v":""},{"$f":"IFERROR(HYPERLINK(\"#'Select LEA'!\"&ADDRESS(ROW(INDEX(CurrentListing,MATCH('Category Set A by Basis of Exit'!AB72,CurrentListing,0),1)),25),AP72),HYPERLINK(\"#'Select LEA'!\"&\"$AA$10\",AP72))","v":""},0,null,null,"ID17GRADALTDPLN","HI17GRADALTDPLN","SLI17GRADALTDPLN","VI17GRADALTDPLN","EMN17GRADALTDPLN","OI17GRADALTDPLN","OHI17GRADALTDPLN","SLD17GRADALTDPLN","DB17GRADALTDPLN","MD17GRADALTDPLN","AUT17GRADALTDPLN","TBI17GRADALTDPLN",null,17,"","","","","","","","","","","","",0]
[18,{"$f":"IFERROR(HYPERLINK(\"#'Select LEA'!\"&ADDRESS(ROW(INDEX(CurrentListing,MATCH('Category Set A by Basis of Exit'!Q73,CurrentListing,0),1)),25),AE73),HYPERLINK(\"#'Select LEA'!\"&\"$AA$10\",AE73))","v":""},{"$f":"IFERROR(HYPERLINK(\"#'Select LEA'!\"&ADDRESS(ROW(INDEX(CurrentListing,MATCH('Category Set A by Basis of Exit'!R73,CurrentListing,0),1)),25),AF73),HYPERLINK(\"#'Select LEA'!\"&\"$AA$10\",AF73))","v":""},{"$f":"IFERROR(HYPERLINK(\"#'Select LEA'!\"&ADDRESS(ROW(INDEX(CurrentListing,MATCH('Category Set A by Basis of Exit'!S73,CurrentListing,0),1)),25),AG73),HYPERLINK(\"#'Select LEA'!\"&\"$AA$10\",AG73))","v":""},{"$f":"IFERROR(HYPERLINK(\"#'Select LEA'!\"&ADDRESS(ROW(INDEX(CurrentListing,MATCH('Category Set A by Basis of Exit'!T73,CurrentListing,0),1)),25),AH73),HYPERLINK(\"#'Select LEA'!\"&\"$AA$10\",AH73))","v":""},{"$f":"IFERROR(HYPERLINK(\"#'Select LEA'!\"&ADDRESS(ROW(INDEX(CurrentListing,MATCH('Category Set A by Basis of Exit'!U73,CurrentListing,0),1)),25),AI73),HYPERLINK(\"#'Select LEA'!\"&\"$AA$10\",AI73))","v":""},{"$f":"IFERROR(HYPERLINK(\"#'Select LEA'!\"&ADDRESS(ROW(INDEX(CurrentListing,MATCH('Category Set A by Basis of Exit'!V73,CurrentListing,0),1)),25),AJ73),HYPERLINK(\"#'Select LEA'!\"&\"$AA$10\",AJ73))","v":""},{"$f":"IFERROR(HYPERLINK(\"#'Select LEA'!\"&ADDRESS(ROW(INDEX(CurrentListing,MATCH('Category Set A by Basis of Exit'!W73,CurrentListing,0),1)),25),AK73),HYPERLINK(\"#'Select LEA'!\"&\"$AA$10\",AK73))","v":""},{"$f":"IFERROR(HYPERLINK(\"#'Select LEA'!\"&ADDRESS(ROW(INDEX(CurrentListing,MATCH('Category Set A by Basis of Exit'!X73,CurrentListing,0),1)),25),AL73),HYPERLINK(\"#'Select LEA'!\"&\"$AA$10\",AL73))","v":""},{"$f":"IFERROR(HYPERLINK(\"#'Select LEA'!\"&ADDRESS(ROW(INDEX(CurrentListing,MATCH('Category Set A by Basis of Exit'!Y73,CurrentListing,0),1)),25),AM73),HYPERLINK(\"#'Select LEA'!\"&\"$AA$10\",AM73))","v":""},{"$f":"IFERROR(HYPERLINK(\"#'Select LEA'!\"&ADDRESS(ROW(INDEX(CurrentListing,MATCH('Category Set A by Basis of Exit'!Z73,CurrentListing,0),1)),25),AN73),HYPERLINK(\"#'Select LEA'!\"&\"$AA$10\",AN73))","v":""},{"$f":"IFERROR(HYPERLINK(\"#'Select LEA'!\"&ADDRESS(ROW(INDEX(CurrentListing,MATCH('Category Set A by Basis of Exit'!AA73,CurrentListing,0),1)),25),AO73),HYPERLINK(\"#'Select LEA'!\"&\"$AA$10\",AO73))","v":""},{"$f":"IFERROR(HYPERLINK(\"#'Select LEA'!\"&ADDRESS(ROW(INDEX(CurrentListing,MATCH('Category Set A by Basis of Exit'!AB73,CurrentListing,0),1)),25),AP73),HYPERLINK(\"#'Select LEA'!\"&\"$AA$10\",AP73))","v":""},0,null,null,"ID18GRADALTDPLN","HI18GRADALTDPLN","SLI18GRADALTDPLN","VI18GRADALTDPLN","EMN18GRADALTDPLN","OI18GRADALTDPLN","OHI18GRADALTDPLN","SLD18GRADALTDPLN","DB18GRADALTDPLN","MD18GRADALTDPLN","AUT18GRADALTDPLN","TBI18GRADALTDPLN",null,18,"","","","","","","","","","","","",0]
[19,{"$f":"IFERROR(HYPERLINK(\"#'Select LEA'!\"&ADDRESS(ROW(INDEX(CurrentListing,MATCH('Category Set A by Basis of Exit'!Q74,CurrentListing,0),1)),25),AE74),HYPERLINK(\"#'Select LEA'!\"&\"$AA$10\",AE74))","v":""},{"$f":"IFERROR(HYPERLINK(\"#'Select LEA'!\"&ADDRESS(ROW(INDEX(CurrentListing,MATCH('Category Set A by Basis of Exit'!R74,CurrentListing,0),1)),25),AF74),HYPERLINK(\"#'Select LEA'!\"&\"$AA$10\",AF74))","v":""},{"$f":"IFERROR(HYPERLINK(\"#'Select LEA'!\"&ADDRESS(ROW(INDEX(CurrentListing,MATCH('Category Set A by Basis of Exit'!S74,CurrentListing,0),1)),25),AG74),HYPERLINK(\"#'Select LEA'!\"&\"$AA$10\",AG74))","v":""},{"$f":"IFERROR(HYPERLINK(\"#'Select LEA'!\"&ADDRESS(ROW(INDEX(CurrentListing,MATCH('Category Set A by Basis of Exit'!T74,CurrentListing,0),1)),25),AH74),HYPERLINK(\"#'Select LEA'!\"&\"$AA$10\",AH74))","v":""},{"$f":"IFERROR(HYPERLINK(\"#'Select LEA'!\"&ADDRESS(ROW(INDEX(CurrentListing,MATCH('Category Set A by Basis of Exit'!U74,CurrentListing,0),1)),25),AI74),HYPERLINK(\"#'Select LEA'!\"&\"$AA$10\",AI74))","v":""},{"$f":"IFERROR(HYPERLINK(\"#'Select LEA'!\"&ADDRESS(ROW(INDEX(CurrentListing,MATCH('Category Set A by Basis of Exit'!V74,CurrentListing,0),1)),25),AJ74),HYPERLINK(\"#'Select LEA'!\"&\"$AA$10\",AJ74))","v":""},{"$f":"IFERROR(HYPERLINK(\"#'Select LEA'!\"&ADDRESS(ROW(INDEX(CurrentListing,MATCH('Category Set A by Basis of Exit'!W74,CurrentListing,0),1)),25),AK74),HYPERLINK(\"#'Select LEA'!\"&\"$AA$10\",AK74))","v":""},{"$f":"IFERROR(HYPERLINK(\"#'Select LEA'!\"&ADDRESS(ROW(INDEX(CurrentListing,MATCH('Category Set A by Basis of Exit'!X74,CurrentListing,0),1)),25),AL74),HYPERLINK(\"#'Select LEA'!\"&\"$AA$10\",AL74))","v":""},{"$f":"IFERROR(HYPERLINK(\"#'Select LEA'!\"&ADDRESS(ROW(INDEX(CurrentListing,MATCH('Category Set A by Basis of Exit'!Y74,CurrentListing,0),1)),25),AM74),HYPERLINK(\"#'Select LEA'!\"&\"$AA$10\",AM74))","v":""},{"$f":"IFERROR(HYPERLINK(\"#'Select LEA'!\"&ADDRESS(ROW(INDEX(CurrentListing,MATCH('Category Set A by Basis of Exit'!Z74,CurrentListing,0),1)),25),AN74),HYPERLINK(\"#'Select LEA'!\"&\"$AA$10\",AN74))","v":""},{"$f":"IFERROR(HYPERLINK(\"#'Select LEA'!\"&ADDRESS(ROW(INDEX(CurrentListing,MATCH('Category Set A by Basis of Exit'!AA74,CurrentListing,0),1)),25),AO74),HYPERLINK(\"#'Select LEA'!\"&\"$AA$10\",AO74))","v":""},{"$f":"IFERROR(HYPERLINK(\"#'Select LEA'!\"&ADDRESS(ROW(INDEX(CurrentListing,MATCH('Category Set A by Basis of Exit'!AB74,CurrentListing,0),1)),25),AP74),HYPERLINK(\"#'Select LEA'!\"&\"$AA$10\",AP74))","v":""},0,null,null,"ID19GRADALTDPLN","HI19GRADALTDPLN","SLI19GRADALTDPLN","VI19GRADALTDPLN","EMN19GRADALTDPLN","OI19GRADALTDPLN","OHI19GRADALTDPLN","SLD19GRADALTDPLN","DB19GRADALTDPLN","MD19GRADALTDPLN","AUT19GRADALTDPLN","TBI19GRADALTDPLN",null,19,"","","","","","","","","","","","",0]
[20,{"$f":"IFERROR(HYPERLINK(\"#'Select LEA'!\"&ADDRESS(ROW(INDEX(CurrentListing,MATCH('Category Set A by Basis of Exit'!Q75,CurrentListing,0),1)),25),AE75),HYPERLINK(\"#'Select LEA'!\"&\"$AA$10\",AE75))","v":""},{"$f":"IFERROR(HYPERLINK(\"#'Select LEA'!\"&ADDRESS(ROW(INDEX(CurrentListing,MATCH('Category Set A by Basis of Exit'!R75,CurrentListing,0),1)),25),AF75),HYPERLINK(\"#'Select LEA'!\"&\"$AA$10\",AF75))","v":""},{"$f":"IFERROR(HYPERLINK(\"#'Select LEA'!\"&ADDRESS(ROW(INDEX(CurrentListing,MATCH('Category Set A by Basis of Exit'!S75,CurrentListing,0),1)),25),AG75),HYPERLINK(\"#'Select LEA'!\"&\"$AA$10\",AG75))","v":""},{"$f":"IFERROR(HYPERLINK(\"#'Select LEA'!\"&ADDRESS(ROW(INDEX(CurrentListing,MATCH('Category Set A by Basis of Exit'!T75,CurrentListing,0),1)),25),AH75),HYPERLINK(\"#'Select LEA'!\"&\"$AA$10\",AH75))","v":""},{"$f":"IFERROR(HYPERLINK(\"#'Select LEA'!\"&ADDRESS(ROW(INDEX(CurrentListing,MATCH('Category Set A by Basis of Exit'!U75,CurrentListing,0),1)),25),AI75),HYPERLINK(\"#'Select LEA'!\"&\"$AA$10\",AI75))","v":""},{"$f":"IFERROR(HYPERLINK(\"#'Select LEA'!\"&ADDRESS(ROW(INDEX(CurrentListing,MATCH('Category Set A by Basis of Exit'!V75,CurrentListing,0),1)),25),AJ75),HYPERLINK(\"#'Select LEA'!\"&\"$AA$10\",AJ75))","v":""},{"$f":"IFERROR(HYPERLINK(\"#'Select LEA'!\"&ADDRESS(ROW(INDEX(CurrentListing,MATCH('Category Set A by Basis of Exit'!W75,CurrentListing,0),1)),25),AK75),HYPERLINK(\"#'Select LEA'!\"&\"$AA$10\",AK75))","v":""},{"$f":"IFERROR(HYPERLINK(\"#'Select LEA'!\"&ADDRESS(ROW(INDEX(CurrentListing,MATCH('Category Set A by Basis of Exit'!X75,CurrentListing,0),1)),25),AL75),HYPERLINK(\"#'Select LEA'!\"&\"$AA$10\",AL75))","v":""},{"$f":"IFERROR(HYPERLINK(\"#'Select LEA'!\"&ADDRESS(ROW(INDEX(CurrentListing,MATCH('Category Set A by Basis of Exit'!Y75,CurrentListing,0),1)),25),AM75),HYPERLINK(\"#'Select LEA'!\"&\"$AA$10\",AM75))","v":""},{"$f":"IFERROR(HYPERLINK(\"#'Select LEA'!\"&ADDRESS(ROW(INDEX(CurrentListing,MATCH('Category Set A by Basis of Exit'!Z75,CurrentListing,0),1)),25),AN75),HYPERLINK(\"#'Select LEA'!\"&\"$AA$10\",AN75))","v":""},{"$f":"IFERROR(HYPERLINK(\"#'Select LEA'!\"&ADDRESS(ROW(INDEX(CurrentListing,MATCH('Category Set A by Basis of Exit'!AA75,CurrentListing,0),1)),25),AO75),HYPERLINK(\"#'Select LEA'!\"&\"$AA$10\",AO75))","v":""},{"$f":"IFERROR(HYPERLINK(\"#'Select LEA'!\"&ADDRESS(ROW(INDEX(CurrentListing,MATCH('Category Set A by Basis of Exit'!AB75,CurrentListing,0),1)),25),AP75),HYPERLINK(\"#'Select LEA'!\"&\"$AA$10\",AP75))","v":""},0,null,null,"ID20GRADALTDPLN","HI20GRADALTDPLN","SLI20GRADALTDPLN","VI20GRADALTDPLN","EMN20GRADALTDPLN","OI20GRADALTDPLN","OHI20GRADALTDPLN","SLD20GRADALTDPLN","DB20GRADALTDPLN","MD20GRADALTDPLN","AUT20GRADALTDPLN","TBI20GRADALTDPLN",null,20,"","","","","","","","","","","","",0]
[21,{"$f":"IFERROR(HYPERLINK(\"#'Select LEA'!\"&ADDRESS(ROW(INDEX(CurrentListing,MATCH('Category Set A by Basis of Exit'!Q76,CurrentListing,0),1)),25),AE76),HYPERLINK(\"#'Select LEA'!\"&\"$AA$10\",AE76))","v":""},{"$f":"IFERROR(HYPERLINK(\"#'Select LEA'!\"&ADDRESS(ROW(INDEX(CurrentListing,MATCH('Category Set A by Basis of Exit'!R76,CurrentListing,0),1)),25),AF76),HYPERLINK(\"#'Select LEA'!\"&\"$AA$10\",AF76))","v":""},{"$f":"IFERROR(HYPERLINK(\"#'Select LEA'!\"&ADDRESS(ROW(INDEX(CurrentListing,MATCH('Category Set A by Basis of Exit'!S76,CurrentListing,0),1)),25),AG76),HYPERLINK(\"#'Select LEA'!\"&\"$AA$10\",AG76))","v":""},{"$f":"IFERROR(HYPERLINK(\"#'Select LEA'!\"&ADDRESS(ROW(INDEX(CurrentListing,MATCH('Category Set A by Basis of Exit'!T76,CurrentListing,0),1)),25),AH76),HYPERLINK(\"#'Select LEA'!\"&\"$AA$10\",AH76))","v":""},{"$f":"IFERROR(HYPERLINK(\"#'Select LEA'!\"&ADDRESS(ROW(INDEX(CurrentListing,MATCH('Category Set A by Basis of Exit'!U76,CurrentListing,0),1)),25),AI76),HYPERLINK(\"#'Select LEA'!\"&\"$AA$10\",AI76))","v":""},{"$f":"IFERROR(HYPERLINK(\"#'Select LEA'!\"&ADDRESS(ROW(INDEX(CurrentListing,MATCH('Category Set A by Basis of Exit'!V76,CurrentListing,0),1)),25),AJ76),HYPERLINK(\"#'Select LEA'!\"&\"$AA$10\",AJ76))","v":""},{"$f":"IFERROR(HYPERLINK(\"#'Select LEA'!\"&ADDRESS(ROW(INDEX(CurrentListing,MATCH('Category Set A by Basis of Exit'!W76,CurrentListing,0),1)),25),AK76),HYPERLINK(\"#'Select LEA'!\"&\"$AA$10\",AK76))","v":""},{"$f":"IFERROR(HYPERLINK(\"#'Select LEA'!\"&ADDRESS(ROW(INDEX(CurrentListing,MATCH('Category Set A by Basis of Exit'!X76,CurrentListing,0),1)),25),AL76),HYPERLINK(\"#'Select LEA'!\"&\"$AA$10\",AL76))","v":""},{"$f":"IFERROR(HYPERLINK(\"#'Select LEA'!\"&ADDRESS(ROW(INDEX(CurrentListing,MATCH('Category Set A by Basis of Exit'!Y76,CurrentListing,0),1)),25),AM76),HYPERLINK(\"#'Select LEA'!\"&\"$AA$10\",AM76))","v":""},{"$f":"IFERROR(HYPERLINK(\"#'Select LEA'!\"&ADDRESS(ROW(INDEX(CurrentListing,MATCH('Category Set A by Basis of Exit'!Z76,CurrentListing,0),1)),25),AN76),HYPERLINK(\"#'Select LEA'!\"&\"$AA$10\",AN76))","v":""},{"$f":"IFERROR(HYPERLINK(\"#'Select LEA'!\"&ADDRESS(ROW(INDEX(CurrentListing,MATCH('Category Set A by Basis of Exit'!AA76,CurrentListing,0),1)),25),AO76),HYPERLINK(\"#'Select LEA'!\"&\"$AA$10\",AO76))","v":""},{"$f":"IFERROR(HYPERLINK(\"#'Select LEA'!\"&ADDRESS(ROW(INDEX(CurrentListing,MATCH('Category Set A by Basis of Exit'!AB76,CurrentListing,0),1)),25),AP76),HYPERLINK(\"#'Select LEA'!\"&\"$AA$10\",AP76))","v":""},0,null,null,"ID21GRADALTDPLN","HI21GRADALTDPLN","SLI21GRADALTDPLN","VI21GRADALTDPLN","EMN21GRADALTDPLN","OI21GRADALTDPLN","OHI21GRADALTDPLN","SLD21GRADALTDPLN","DB21GRADALTDPLN","MD21GRADALTDPLN","AUT21GRADALTDPLN","TBI21GRADALTDPLN",null,21,"","","","","","","","","","","","",0]
["Total",{"$f":"IF(SUM(B69:B76)>=0, SUM(B69:B76), \"\")","v":0},{"$f":"IF(SUM(C69:C76)>=0, SUM(C69:C76), \"\")","v":0},0,0,0,0,0,0,0,0,0,0,{"$f":"IF(AND(N4=\"MC\",N5=\"MC\",N6=\"MC\",N7=\"MC\",N8=\"MC\",N9=\"MC\",N10=\"MC\",N11=\"MC\", N14=\"MC\"),\"\",SUM(B69:M76))","v":0},null,null,null,null,null,null,null,null,null,null,null,null,null,null,"GRADALTDPLY","Total",{"$f":"SUM(AE69:AE76)","v":0},{"$f":"SUM(AF69:AF76)","v":0},0,0,0,0,0,0,0,0,0,0,{"$f":"IFERROR(IF(INDEX(StudCntC009,MATCH(AC77,CurrentListing,0))=\"\",\"No Data\",INDEX(StudCntC009,MATCH(AC77,CurrentListing,0))),\"\")","v":""}]
[]
["Percent by age","Graduated with an alternate diploma"]
[null,"Intellectual\ndisability\n(percent)","Hearing\nimpairment\n(percent)","Speech or\nlanguage\nimpairment\n(percent)","Visual\nimpairment\n(percent)","Emotional\ndisturbance\n(percent)","Orthopedic\nimpairment\n(percent)","Other\nhealth\nimpairment\n(percent)","Specific\nlearning\ndisability\n(percent)","Deaf-\nblindness\n(percent)","Multiple\ndisabilities\n(percent)","Autism\n(Percent)","Traumatic\nbrain\ninjury\n(percent)","Total\n(percent)"]
[14,{"$f":"IF(ISERROR(B69/$N69),IF(B69=\"MC\", \"\",0), B69/$N69)","v":0},{"$f":"IF(ISERROR(C69/$N69),IF(C69=\"MC\", \"\",0), C69/$N69)","v":0},0,0,0,0,0,0,0,0,0,0,{"$f":"SUM(B81:M81)","v":0}]
[15,{"$f":"IF(ISERROR(B70/$N70),IF(B70=\"MC\", \"\",0), B70/$N70)","v":0},0,0,0,0,0,0,0,0,0,0,0,{"$f":"SUM(B82:M82)","v":0}]
[16,{"$f":"IF(ISERROR(B71/$N71),IF(B71=\"MC\", \"\",0), B71/$N71)","v":0},0,0,0,0,0,0,0,0,0,0,0,0]
[17,{"$f":"IF(ISERROR(B72/$N72),IF(B72=\"MC\", \"\",0), B72/$N72)","v":0},0,0,0,0,0,0,0,0,0,0,0,0]
[18,{"$f":"IF(ISERROR(B73/$N73),IF(B73=\"MC\", \"\",0), B73/$N73)","v":0},0,0,0,0,0,0,0,0,0,0,0,0]
[19,{"$f":"IF(ISERROR(B74/$N74),IF(B74=\"MC\", \"\",0), B74/$N74)","v":0},0,0,0,0,0,0,0,0,0,0,0,0]
[20,{"$f":"IF(ISERROR(B75/$N75),IF(B75=\"MC\", \"\",0), B75/$N75)","v":0},0,0,0,0,0,0,0,0,0,0,0,0]
[21,{"$f":"IF(ISERROR(B76/$N76),IF(B76=\"MC\", \"\",0), B76/$N76)","v":0},0,0,0,0,0,0,0,0,0,0,0,0]
["Total",{"$f":"IFERROR(IF($N77<>0,B77/$N77,0),\"\")","v":0},{"$f":"IFERROR(IF($N77<>0,C77/$N77,0),\"\")","v":0},0,0,0,0,0,0,0,0,0,0,0]
[]
["Category set A – Children with disabilities (IDEA) exiting special education, by basis of exit, disability category, and age",null,null,null,null,null,null,null,null,null,null,null,null,null,null,null,"Received a certificate"]
["Student count by age","Received a certificate",null,null,null,null,null,null,null,null,null,null,null,null,null,null,null,null,null,null,null,null,null,null,null,null,null,null,null,"Student counts by age",{"$f":"B92","v":"Received a certificate"}]
[null,"Intellectual\ndisability","Hearing\nimpairment","Speech or\nlanguage\nimpairment","Visual\nimpairment","Emotional\ndisturbance","Orthopedic\nimpairment","Other\nhealth\nimpairment","Specific\nlearning\ndisability","Deaf-\nblindness","Multiple\ndisabilities","Autism","Traumatic\nbrain\ninjury","Total",null,null,null,null,null,null,null,null,null,null,null,null,null,null,null,null,"Intellectual\nDisability","Hearing\nImpairments","Speech or\nLanguage\nImpairments","Visual\nImpairments","Emotional\nDisturbance","Orthopedic\nImpairments","Other\nHealth\nImpairments","Specific\nLearning\nDisabilities","Deaf-\nBlindness","Multiple\nDisabilities","Autism","Traumatic\nBrain\nInjury","Total"]
[14,{"$f":"IFERROR(HYPERLINK(\"#'Select LEA'!\"&ADDRESS(ROW(INDEX(CurrentListing,MATCH('Category Set A by Basis of Exit'!Q94,CurrentListing,0),1)),25),AE94),HYPERLINK(\"#'Select LEA'!\"&\"$AA$10\",AE94))","v":""},{"$f":"IFERROR(HYPERLINK(\"#'Select LEA'!\"&ADDRESS(ROW(INDEX(CurrentListing,MATCH('Category Set A by Basis of Exit'!R94,CurrentListing,0),1)),25),AF94),HYPERLINK(\"#'Select LEA'!\"&\"$AA$10\",AF94))","v":""},{"$f":"IFERROR(HYPERLINK(\"#'Select LEA'!\"&ADDRESS(ROW(INDEX(CurrentListing,MATCH('Category Set A by Basis of Exit'!S94,CurrentListing,0),1)),25),AG94),HYPERLINK(\"#'Select LEA'!\"&\"$AA$10\",AG94))","v":""},{"$f":"IFERROR(HYPERLINK(\"#'Select LEA'!\"&ADDRESS(ROW(INDEX(CurrentListing,MATCH('Category Set A by Basis of Exit'!T94,CurrentListing,0),1)),25),AH94),HYPERLINK(\"#'Select LEA'!\"&\"$AA$10\",AH94))","v":""},{"$f":"IFERROR(HYPERLINK(\"#'Select LEA'!\"&ADDRESS(ROW(INDEX(CurrentListing,MATCH('Category Set A by Basis of Exit'!U94,CurrentListing,0),1)),25),AI94),HYPERLINK(\"#'Select LEA'!\"&\"$AA$10\",AI94))","v":""},{"$f":"IFERROR(HYPERLINK(\"#'Select LEA'!\"&ADDRESS(ROW(INDEX(CurrentListing,MATCH('Category Set A by Basis of Exit'!V94,CurrentListing,0),1)),25),AJ94),HYPERLINK(\"#'Select LEA'!\"&\"$AA$10\",AJ94))","v":""},{"$f":"IFERROR(HYPERLINK(\"#'Select LEA'!\"&ADDRESS(ROW(INDEX(CurrentListing,MATCH('Category Set A by Basis of Exit'!W94,CurrentListing,0),1)),25),AK94),HYPERLINK(\"#'Select LEA'!\"&\"$AA$10\",AK94))","v":""},{"$f":"IFERROR(HYPERLINK(\"#'Select LEA'!\"&ADDRESS(ROW(INDEX(CurrentListing,MATCH('Category Set A by Basis of Exit'!X94,CurrentListing,0),1)),25),AL94),HYPERLINK(\"#'Select LEA'!\"&\"$AA$10\",AL94))","v":""},{"$f":"IFERROR(HYPERLINK(\"#'Select LEA'!\"&ADDRESS(ROW(INDEX(CurrentListing,MATCH('Category Set A by Basis of Exit'!Y94,CurrentListing,0),1)),25),AM94),HYPERLINK(\"#'Select LEA'!\"&\"$AA$10\",AM94))","v":""},{"$f":"IFERROR(HYPERLINK(\"#'Select LEA'!\"&ADDRESS(ROW(INDEX(CurrentListing,MATCH('Category Set A by Basis of Exit'!Z94,CurrentListing,0),1)),25),AN94),HYPERLINK(\"#'Select LEA'!\"&\"$AA$10\",AN94))","v":""},{"$f":"IFERROR(HYPERLINK(\"#'Select LEA'!\"&ADDRESS(ROW(INDEX(CurrentListing,MATCH('Category Set A by Basis of Exit'!AA94,CurrentListing,0),1)),25),AO94),HYPERLINK(\"#'Select LEA'!\"&\"$AA$10\",AO94))","v":""},{"$f":"IFERROR(HYPERLINK(\"#'Select LEA'!\"&ADDRESS(ROW(INDEX(CurrentListing,MATCH('Category Set A by Basis of Exit'!AB94,CurrentListing,0),1)),25),AP94),HYPERLINK(\"#'Select LEA'!\"&\"$AA$10\",AP94))","v":""},{"$f":"IF(SUM(B94:M94)>=0, SUM(B94:M94),\"\")","v":0},null,null,"ID14RCN","HI14RCN","SLI14RCN","VI14RCN","EMN14RCN","OI14RCN","OHI14RCN","SLD14RCN","DB14RCN","MD14RCN","AUT14RCN","TBI14RCN",null,14,{"$f":"IFERROR(IF(INDEX(StudCntC009,MATCH(Q94,CurrentListing,0))=\"\",\"No Data\",INDEX(StudCntC009,MATCH(Q94,CurrentListing,0))),\"\")","v":""},"","","","","","","","","","","",{"$f":"SUM(AE94:AP94)","v":0}]
[15,{"$f":"IFERROR(HYPERLINK(\"#'Select LEA'!\"&ADDRESS(ROW(INDEX(CurrentListing,MATCH('Category Set A by Basis of Exit'!Q95,CurrentListing,0),1)),25),AE95),HYPERLINK(\"#'Select LEA'!\"&\"$AA$10\",AE95))","v":""},{"$f":"IFERROR(HYPERLINK(\"#'Select LEA'!\"&ADDRESS(ROW(INDEX(CurrentListing,MATCH('Category Set A by Basis of Exit'!R95,CurrentListing,0),1)),25),AF95),HYPERLINK(\"#'Select LEA'!\"&\"$AA$10\",AF95))","v":""},{"$f":"IFERROR(HYPERLINK(\"#'Select LEA'!\"&ADDRESS(ROW(INDEX(CurrentListing,MATCH('Category Set A by Basis of Exit'!S95,CurrentListing,0),1)),25),AG95),HYPERLINK(\"#'Select LEA'!\"&\"$AA$10\",AG95))","v":""},{"$f":"IFERROR(HYPERLINK(\"#'Select LEA'!\"&ADDRESS(ROW(INDEX(CurrentListing,MATCH('Category Set A by Basis of Exit'!T95,CurrentListing,0),1)),25),AH95),HYPERLINK(\"#'Select LEA'!\"&\"$AA$10\",AH95))","v":""},{"$f":"IFERROR(HYPERLINK(\"#'Select LEA'!\"&ADDRESS(ROW(INDEX(CurrentListing,MATCH('Category Set A by Basis of Exit'!U95,CurrentListing,0),1)),25),AI95),HYPERLINK(\"#'Select LEA'!\"&\"$AA$10\",AI95))","v":""},{"$f":"IFERROR(HYPERLINK(\"#'Select LEA'!\"&ADDRESS(ROW(INDEX(CurrentListing,MATCH('Category Set A by Basis of Exit'!V95,CurrentListing,0),1)),25),AJ95),HYPERLINK(\"#'Select LEA'!\"&\"$AA$10\",AJ95))","v":""},{"$f":"IFERROR(HYPERLINK(\"#'Select LEA'!\"&ADDRESS(ROW(INDEX(CurrentListing,MATCH('Category Set A by Basis of Exit'!W95,CurrentListing,0),1)),25),AK95),HYPERLINK(\"#'Select LEA'!\"&\"$AA$10\",AK95))","v":""},{"$f":"IFERROR(HYPERLINK(\"#'Select LEA'!\"&ADDRESS(ROW(INDEX(CurrentListing,MATCH('Category Set A by Basis of Exit'!X95,CurrentListing,0),1)),25),AL95),HYPERLINK(\"#'Select LEA'!\"&\"$AA$10\",AL95))","v":""},{"$f":"IFERROR(HYPERLINK(\"#'Select LEA'!\"&ADDRESS(ROW(INDEX(CurrentListing,MATCH('Category Set A by Basis of Exit'!Y95,CurrentListing,0),1)),25),AM95),HYPERLINK(\"#'Select LEA'!\"&\"$AA$10\",AM95))","v":""},{"$f":"IFERROR(HYPERLINK(\"#'Select LEA'!\"&ADDRESS(ROW(INDEX(CurrentListing,MATCH('Category Set A by Basis of Exit'!Z95,CurrentListing,0),1)),25),AN95),HYPERLINK(\"#'Select LEA'!\"&\"$AA$10\",AN95))","v":""},{"$f":"IFERROR(HYPERLINK(\"#'Select LEA'!\"&ADDRESS(ROW(INDEX(CurrentListing,MATCH('Category Set A by Basis of Exit'!AA95,CurrentListing,0),1)),25),AO95),HYPERLINK(\"#'Select LEA'!\"&\"$AA$10\",AO95))","v":""},{"$f":"IFERROR(HYPERLINK(\"#'Select LEA'!\"&ADDRESS(ROW(INDEX(CurrentListing,MATCH('Category Set A by Basis of Exit'!AB95,CurrentListing,0),1)),25),AP95),HYPERLINK(\"#'Select LEA'!\"&\"$AA$10\",AP95))","v":""},0,null,null,"ID15RCN","HI15RCN","SLI15RCN","VI15RCN","EMN15RCN","OI15RCN","OHI15RCN","SLD15RCN","DB15RCN","MD15RCN","AUT15RCN","TBI15RCN",null,15,"","","","","","","","","","","","",{"$f":"SUM(AE95:AP95)","v":0}]
[16,{"$f":"IFERROR(HYPERLINK(\"#'Select LEA'!\"&ADDRESS(ROW(INDEX(CurrentListing,MATCH('Category Set A by Basis of Exit'!Q96,CurrentListing,0),1)),25),AE96),HYPERLINK(\"#'Select LEA'!\"&\"$AA$10\",AE96))","v":""},{"$f":"IFERROR(HYPERLINK(\"#'Select LEA'!\"&ADDRESS(ROW(INDEX(CurrentListing,MATCH('Category Set A by Basis of Exit'!R96,CurrentListing,0),1)),25),AF96),HYPERLINK(\"#'Select LEA'!\"&\"$AA$10\",AF96))","v":""},{"$f":"IFERROR(HYPERLINK(\"#'Select LEA'!\"&ADDRESS(ROW(INDEX(CurrentListing,MATCH('Category Set A by Basis of Exit'!S96,CurrentListing,0),1)),25),AG96),HYPERLINK(\"#'Select LEA'!\"&\"$AA$10\",AG96))","v":""},{"$f":"IFERROR(HYPERLINK(\"#'Select LEA'!\"&ADDRESS(ROW(INDEX(CurrentListing,MATCH('Category Set A by Basis of Exit'!T96,CurrentListing,0),1)),25),AH96),HYPERLINK(\"#'Select LEA'!\"&\"$AA$10\",AH96))","v":""},{"$f":"IFERROR(HYPERLINK(\"#'Select LEA'!\"&ADDRESS(ROW(INDEX(CurrentListing,MATCH('Category Set A by Basis of Exit'!U96,CurrentListing,0),1)),25),AI96),HYPERLINK(\"#'Select LEA'!\"&\"$AA$10\",AI96))","v":""},{"$f":"IFERROR(HYPERLINK(\"#'Select LEA'!\"&ADDRESS(ROW(INDEX(CurrentListing,MATCH('Category Set A by Basis of Exit'!V96,CurrentListing,0),1)),25),AJ96),HYPERLINK(\"#'Select LEA'!\"&\"$AA$10\",AJ96))","v":""},{"$f":"IFERROR(HYPERLINK(\"#'Select LEA'!\"&ADDRESS(ROW(INDEX(CurrentListing,MATCH('Category Set A by Basis of Exit'!W96,CurrentListing,0),1)),25),AK96),HYPERLINK(\"#'Select LEA'!\"&\"$AA$10\",AK96))","v":""},{"$f":"IFERROR(HYPERLINK(\"#'Select LEA'!\"&ADDRESS(ROW(INDEX(CurrentListing,MATCH('Category Set A by Basis of Exit'!X96,CurrentListing,0),1)),25),AL96),HYPERLINK(\"#'Select LEA'!\"&\"$AA$10\",AL96))","v":""},{"$f":"IFERROR(HYPERLINK(\"#'Select LEA'!\"&ADDRESS(ROW(INDEX(CurrentListing,MATCH('Category Set A by Basis of Exit'!Y96,CurrentListing,0),1)),25),AM96),HYPERLINK(\"#'Select LEA'!\"&\"$AA$10\",AM96))","v":""},{"$f":"IFERROR(HYPERLINK(\"#'Select LEA'!\"&ADDRESS(ROW(INDEX(CurrentListing,MATCH('Category Set A by Basis of Exit'!Z96,CurrentListing,0),1)),25),AN96),HYPERLINK(\"#'Select LEA'!\"&\"$AA$10\",AN96))","v":""},{"$f":"IFERROR(HYPERLINK(\"#'Select LEA'!\"&ADDRESS(ROW(INDEX(CurrentListing,MATCH('Category Set A by Basis of Exit'!AA96,CurrentListing,0),1)),25),AO96),HYPERLINK(\"#'Select LEA'!\"&\"$AA$10\",AO96))","v":""},{"$f":"IFERROR(HYPERLINK(\"#'Select LEA'!\"&ADDRESS(ROW(INDEX(CurrentListing,MATCH('Category Set A by Basis of Exit'!AB96,CurrentListing,0),1)),25),AP96),HYPERLINK(\"#'Select LEA'!\"&\"$AA$10\",AP96))","v":""},0,null,null,"ID16RCN","HI16RCN","SLI16RCN","VI16RCN","EMN16RCN","OI16RCN","OHI16RCN","SLD16RCN","DB16RCN","MD16RCN","AUT16RCN","TBI16RCN",null,16,"","","","","","","","","","","","",0]
[17,{"$f":"IFERROR(HYPERLINK(\"#'Select LEA'!\"&ADDRESS(ROW(INDEX(CurrentListing,MATCH('Category Set A by Basis of Exit'!Q97,CurrentListing,0),1)),25),AE97),HYPERLINK(\"#'Select LEA'!\"&\"$AA$10\",AE97))","v":""},{"$f":"IFERROR(HYPERLINK(\"#'Select LEA'!\"&ADDRESS(ROW(INDEX(CurrentListing,MATCH('Category Set A by Basis of Exit'!R97,CurrentListing,0),1)),25),AF97),HYPERLINK(\"#'Select LEA'!\"&\"$AA$10\",AF97))","v":""},{"$f":"IFERROR(HYPERLINK(\"#'Select LEA'!\"&ADDRESS(ROW(INDEX(CurrentListing,MATCH('Category Set A by Basis of Exit'!S97,CurrentListing,0),1)),25),AG97),HYPERLINK(\"#'Select LEA'!\"&\"$AA$10\",AG97))","v":""},{"$f":"IFERROR(HYPERLINK(\"#'Select LEA'!\"&ADDRESS(ROW(INDEX(CurrentListing,MATCH('Category Set A by Basis of Exit'!T97,CurrentListing,0),1)),25),AH97),HYPERLINK(\"#'Select LEA'!\"&\"$AA$10\",AH97))","v":""},{"$f":"IFERROR(HYPERLINK(\"#'Select LEA'!\"&ADDRESS(ROW(INDEX(CurrentListing,MATCH('Category Set A by Basis of Exit'!U97,CurrentListing,0),1)),25),AI97),HYPERLINK(\"#'Select LEA'!\"&\"$AA$10\",AI97))","v":""},{"$f":"IFERROR(HYPERLINK(\"#'Select LEA'!\"&ADDRESS(ROW(INDEX(CurrentListing,MATCH('Category Set A by Basis of Exit'!V97,CurrentListing,0),1)),25),AJ97),HYPERLINK(\"#'Select LEA'!\"&\"$AA$10\",AJ97))","v":""},{"$f":"IFERROR(HYPERLINK(\"#'Select LEA'!\"&ADDRESS(ROW(INDEX(CurrentListing,MATCH('Category Set A by Basis of Exit'!W97,CurrentListing,0),1)),25),AK97),HYPERLINK(\"#'Select LEA'!\"&\"$AA$10\",AK97))","v":""},{"$f":"IFERROR(HYPERLINK(\"#'Select LEA'!\"&ADDRESS(ROW(INDEX(CurrentListing,MATCH('Category Set A by Basis of Exit'!X97,CurrentListing,0),1)),25),AL97),HYPERLINK(\"#'Select LEA'!\"&\"$AA$10\",AL97))","v":""},{"$f":"IFERROR(HYPERLINK(\"#'Select LEA'!\"&ADDRESS(ROW(INDEX(CurrentListing,MATCH('Category Set A by Basis of Exit'!Y97,CurrentListing,0),1)),25),AM97),HYPERLINK(\"#'Select LEA'!\"&\"$AA$10\",AM97))","v":""},{"$f":"IFERROR(HYPERLINK(\"#'Select LEA'!\"&ADDRESS(ROW(INDEX(CurrentListing,MATCH('Category Set A by Basis of Exit'!Z97,CurrentListing,0),1)),25),AN97),HYPERLINK(\"#'Select LEA'!\"&\"$AA$10\",AN97))","v":""},{"$f":"IFERROR(HYPERLINK(\"#'Select LEA'!\"&ADDRESS(ROW(INDEX(CurrentListing,MATCH('Category Set A by Basis of Exit'!AA97,CurrentListing,0),1)),25),AO97),HYPERLINK(\"#'Select LEA'!\"&\"$AA$10\",AO97))","v":""},{"$f":"IFERROR(HYPERLINK(\"#'Select LEA'!\"&ADDRESS(ROW(INDEX(CurrentListing,MATCH('Category Set A by Basis of Exit'!AB97,CurrentListing,0),1)),25),AP97),HYPERLINK(\"#'Select LEA'!\"&\"$AA$10\",AP97))","v":""},0,null,null,"ID17RCN","HI17RCN","SLI17RCN","VI17RCN","EMN17RCN","OI17RCN","OHI17RCN","SLD17RCN","DB17RCN","MD17RCN","AUT17RCN","TBI17RCN",null,17,"","","","","","","","","","","","",0]
[18,{"$f":"IFERROR(HYPERLINK(\"#'Select LEA'!\"&ADDRESS(ROW(INDEX(CurrentListing,MATCH('Category Set A by Basis of Exit'!Q98,CurrentListing,0),1)),25),AE98),HYPERLINK(\"#'Select LEA'!\"&\"$AA$10\",AE98))","v":""},{"$f":"IFERROR(HYPERLINK(\"#'Select LEA'!\"&ADDRESS(ROW(INDEX(CurrentListing,MATCH('Category Set A by Basis of Exit'!R98,CurrentListing,0),1)),25),AF98),HYPERLINK(\"#'Select LEA'!\"&\"$AA$10\",AF98))","v":""},{"$f":"IFERROR(HYPERLINK(\"#'Select LEA'!\"&ADDRESS(ROW(INDEX(CurrentListing,MATCH('Category Set A by Basis of Exit'!S98,CurrentListing,0),1)),25),AG98),HYPERLINK(\"#'Select LEA'!\"&\"$AA$10\",AG98))","v":""},{"$f":"IFERROR(HYPERLINK(\"#'Select LEA'!\"&ADDRESS(ROW(INDEX(CurrentListing,MATCH('Category Set A by Basis of Exit'!T98,CurrentListing,0),1)),25),AH98),HYPERLINK(\"#'Select LEA'!\"&\"$AA$10\",AH98))","v":""},{"$f":"IFERROR(HYPERLINK(\"#'Select LEA'!\"&ADDRESS(ROW(INDEX(CurrentListing,MATCH('Category Set A by Basis of Exit'!U98,CurrentListing,0),1)),25),AI98),HYPERLINK(\"#'Select LEA'!\"&\"$AA$10\",AI98))","v":""},{"$f":"IFERROR(HYPERLINK(\"#'Select LEA'!\"&ADDRESS(ROW(INDEX(CurrentListing,MATCH('Category Set A by Basis of Exit'!V98,CurrentListing,0),1)),25),AJ98),HYPERLINK(\"#'Select LEA'!\"&\"$AA$10\",AJ98))","v":""},{"$f":"IFERROR(HYPERLINK(\"#'Select LEA'!\"&ADDRESS(ROW(INDEX(CurrentListing,MATCH('Category Set A by Basis of Exit'!W98,CurrentListing,0),1)),25),AK98),HYPERLINK(\"#'Select LEA'!\"&\"$AA$10\",AK98))","v":""},{"$f":"IFERROR(HYPERLINK(\"#'Select LEA'!\"&ADDRESS(ROW(INDEX(CurrentListing,MATCH('Category Set A by Basis of Exit'!X98,CurrentListing,0),1)),25),AL98),HYPERLINK(\"#'Select LEA'!\"&\"$AA$10\",AL98))","v":""},{"$f":"IFERROR(HYPERLINK(\"#'Select LEA'!\"&ADDRESS(ROW(INDEX(CurrentListing,MATCH('Category Set A by Basis of Exit'!Y98,CurrentListing,0),1)),25),AM98),HYPERLINK(\"#'Select LEA'!\"&\"$AA$10\",AM98))","v":""},{"$f":"IFERROR(HYPERLINK(\"#'Select LEA'!\"&ADDRESS(ROW(INDEX(CurrentListing,MATCH('Category Set A by Basis of Exit'!Z98,CurrentListing,0),1)),25),AN98),HYPERLINK(\"#'Select LEA'!\"&\"$AA$10\",AN98))","v":""},{"$f":"IFERROR(HYPERLINK(\"#'Select LEA'!\"&ADDRESS(ROW(INDEX(CurrentListing,MATCH('Category Set A by Basis of Exit'!AA98,CurrentListing,0),1)),25),AO98),HYPERLINK(\"#'Select LEA'!\"&\"$AA$10\",AO98))","v":""},{"$f":"IFERROR(HYPERLINK(\"#'Select LEA'!\"&ADDRESS(ROW(INDEX(CurrentListing,MATCH('Category Set A by Basis of Exit'!AB98,CurrentListing,0),1)),25),AP98),HYPERLINK(\"#'Select LEA'!\"&\"$AA$10\",AP98))","v":""},0,null,null,"ID18RCN","HI18RCN","SLI18RCN","VI18RCN","EMN18RCN","OI18RCN","OHI18RCN","SLD18RCN","DB18RCN","MD18RCN","AUT18RCN","TBI18RCN",null,18,"","","","","","","","","","","","",0]
[19,{"$f":"IFERROR(HYPERLINK(\"#'Select LEA'!\"&ADDRESS(ROW(INDEX(CurrentListing,MATCH('Category Set A by Basis of Exit'!Q99,CurrentListing,0),1)),25),AE99),HYPERLINK(\"#'Select LEA'!\"&\"$AA$10\",AE99))","v":""},{"$f":"IFERROR(HYPERLINK(\"#'Select LEA'!\"&ADDRESS(ROW(INDEX(CurrentListing,MATCH('Category Set A by Basis of Exit'!R99,CurrentListing,0),1)),25),AF99),HYPERLINK(\"#'Select LEA'!\"&\"$AA$10\",AF99))","v":""},{"$f":"IFERROR(HYPERLINK(\"#'Select LEA'!\"&ADDRESS(ROW(INDEX(CurrentListing,MATCH('Category Set A by Basis of Exit'!S99,CurrentListing,0),1)),25),AG99),HYPERLINK(\"#'Select LEA'!\"&\"$AA$10\",AG99))","v":""},{"$f":"IFERROR(HYPERLINK(\"#'Select LEA'!\"&ADDRESS(ROW(INDEX(CurrentListing,MATCH('Category Set A by Basis of Exit'!T99,CurrentListing,0),1)),25),AH99),HYPERLINK(\"#'Select LEA'!\"&\"$AA$10\",AH99))","v":""},{"$f":"IFERROR(HYPERLINK(\"#'Select LEA'!\"&ADDRESS(ROW(INDEX(CurrentListing,MATCH('Category Set A by Basis of Exit'!U99,CurrentListing,0),1)),25),AI99),HYPERLINK(\"#'Select LEA'!\"&\"$AA$10\",AI99))","v":""},{"$f":"IFERROR(HYPERLINK(\"#'Select LEA'!\"&ADDRESS(ROW(INDEX(CurrentListing,MATCH('Category Set A by Basis of Exit'!V99,CurrentListing,0),1)),25),AJ99),HYPERLINK(\"#'Select LEA'!\"&\"$AA$10\",AJ99))","v":""},{"$f":"IFERROR(HYPERLINK(\"#'Select LEA'!\"&ADDRESS(ROW(INDEX(CurrentListing,MATCH('Category Set A by Basis of Exit'!W99,CurrentListing,0),1)),25),AK99),HYPERLINK(\"#'Select LEA'!\"&\"$AA$10\",AK99))","v":""},{"$f":"IFERROR(HYPERLINK(\"#'Select LEA'!\"&ADDRESS(ROW(INDEX(CurrentListing,MATCH('Category Set A by Basis of Exit'!X99,CurrentListing,0),1)),25),AL99),HYPERLINK(\"#'Select LEA'!\"&\"$AA$10\",AL99))","v":""},{"$f":"IFERROR(HYPERLINK(\"#'Select LEA'!\"&ADDRESS(ROW(INDEX(CurrentListing,MATCH('Category Set A by Basis of Exit'!Y99,CurrentListing,0),1)),25),AM99),HYPERLINK(\"#'Select LEA'!\"&\"$AA$10\",AM99))","v":""},{"$f":"IFERROR(HYPERLINK(\"#'Select LEA'!\"&ADDRESS(ROW(INDEX(CurrentListing,MATCH('Category Set A by Basis of Exit'!Z99,CurrentListing,0),1)),25),AN99),HYPERLINK(\"#'Select LEA'!\"&\"$AA$10\",AN99))","v":""},{"$f":"IFERROR(HYPERLINK(\"#'Select LEA'!\"&ADDRESS(ROW(INDEX(CurrentListing,MATCH('Category Set A by Basis of Exit'!AA99,CurrentListing,0),1)),25),AO99),HYPERLINK(\"#'Select LEA'!\"&\"$AA$10\",AO99))","v":""},{"$f":"IFERROR(HYPERLINK(\"#'Select LEA'!\"&ADDRESS(ROW(INDEX(CurrentListing,MATCH('Category Set A by Basis of Exit'!AB99,CurrentListing,0),1)),25),AP99),HYPERLINK(\"#'Select LEA'!\"&\"$AA$10\",AP99))","v":""},0,null,null,"ID19RCN","HI19RCN","SLI19RCN","VI19RCN","EMN19RCN","OI19RCN","OHI19RCN","SLD19RCN","DB19RCN","MD19RCN","AUT19RCN","TBI19RCN",null,19,"","","","","","","","","","","","",0]
[20,{"$f":"IFERROR(HYPERLINK(\"#'Select LEA'!\"&ADDRESS(ROW(INDEX(CurrentListing,MATCH('Category Set A by Basis of Exit'!Q100,CurrentListing,0),1)),25),AE100),HYPERLINK(\"#'Select LEA'!\"&\"$AA$10\",AE100))","v":""},{"$f":"IFERROR(HYPERLINK(\"#'Select LEA'!\"&ADDRESS(ROW(INDEX(CurrentListing,MATCH('Category Set A by Basis of Exit'!R100,CurrentListing,0),1)),25),AF100),HYPERLINK(\"#'Select LEA'!\"&\"$AA$10\",AF100))","v":""},{"$f":"IFERROR(HYPERLINK(\"#'Select LEA'!\"&ADDRESS(ROW(INDEX(CurrentListing,MATCH('Category Set A by Basis of Exit'!S100,CurrentListing,0),1)),25),AG100),HYPERLINK(\"#'Select LEA'!\"&\"$AA$10\",AG100))","v":""},{"$f":"IFERROR(HYPERLINK(\"#'Select LEA'!\"&ADDRESS(ROW(INDEX(CurrentListing,MATCH('Category Set A by Basis of Exit'!T100,CurrentListing,0),1)),25),AH100),HYPERLINK(\"#'Select LEA'!\"&\"$AA$10\",AH100))","v":""},{"$f":"IFERROR(HYPERLINK(\"#'Select LEA'!\"&ADDRESS(ROW(INDEX(CurrentListing,MATCH('Category Set A by Basis of Exit'!U100,CurrentListing,0),1)),25),AI100),HYPERLINK(\"#'Select LEA'!\"&\"$AA$10\",AI100))","v":""},{"$f":"IFERROR(HYPERLINK(\"#'Select LEA'!\"&ADDRESS(ROW(INDEX(CurrentListing,MATCH('Category Set A by Basis of Exit'!V100,CurrentListing,0),1)),25),AJ100),HYPERLINK(\"#'Select LEA'!\"&\"$AA$10\",AJ100))","v":""},{"$f":"IFERROR(HYPERLINK(\"#'Select LEA'!\"&ADDRESS(ROW(INDEX(CurrentListing,MATCH('Category Set A by Basis of Exit'!W100,CurrentListing,0),1)),25),AK100),HYPERLINK(\"#'Select LEA'!\"&\"$AA$10\",AK100))","v":""},{"$f":"IFERROR(HYPERLINK(\"#'Select LEA'!\"&ADDRESS(ROW(INDEX(CurrentListing,MATCH('Category Set A by Basis of Exit'!X100,CurrentListing,0),1)),25),AL100),HYPERLINK(\"#'Select LEA'!\"&\"$AA$10\",AL100))","v":""},{"$f":"IFERROR(HYPERLINK(\"#'Select LEA'!\"&ADDRESS(ROW(INDEX(CurrentListing,MATCH('Category Set A by Basis of Exit'!Y100,CurrentListing,0),1)),25),AM100),HYPERLINK(\"#'Select LEA'!\"&\"$AA$10\",AM100))","v":""},{"$f":"IFERROR(HYPERLINK(\"#'Select LEA'!\"&ADDRESS(ROW(INDEX(CurrentListing,MATCH('Category Set A by Basis of Exit'!Z100,CurrentListing,0),1)),25),AN100),HYPERLINK(\"#'Select LEA'!\"&\"$AA$10\",AN100))","v":""},{"$f":"IFERROR(HYPERLINK(\"#'Select LEA'!\"&ADDRESS(ROW(INDEX(CurrentListing,MATCH('Category Set A by Basis of Exit'!AA100,CurrentListing,0),1)),25),AO100),HYPERLINK(\"#'Select LEA'!\"&\"$AA$10\",AO100))","v":""},{"$f":"IFERROR(HYPERLINK(\"#'Select LEA'!\"&ADDRESS(ROW(INDEX(CurrentListing,MATCH('Category Set A by Basis of Exit'!AB100,CurrentListing,0),1)),25),AP100),HYPERLINK(\"#'Select LEA'!\"&\"$AA$10\",AP100))","v":""},0,null,null,"ID20RCN","HI20RCN","SLI20RCN","VI20RCN","EMN20RCN","OI20RCN","OHI20RCN","SLD20RCN","DB20RCN","MD20RCN","AUT20RCN","TBI20RCN",null,20,"","","","","","","","","","","","",0]
[21,{"$f":"IFERROR(HYPERLINK(\"#'Select LEA'!\"&ADDRESS(ROW(INDEX(CurrentListing,MATCH('Category Set A by Basis of Exit'!Q101,CurrentListing,0),1)),25),AE101),HYPERLINK(\"#'Select LEA'!\"&\"$AA$10\",AE101))","v":""},{"$f":"IFERROR(HYPERLINK(\"#'Select LEA'!\"&ADDRESS(ROW(INDEX(CurrentListing,MATCH('Category Set A by Basis of Exit'!R101,CurrentListing,0),1)),25),AF101),HYPERLINK(\"#'Select LEA'!\"&\"$AA$10\",AF101))","v":""},{"$f":"IFERROR(HYPERLINK(\"#'Select LEA'!\"&ADDRESS(ROW(INDEX(CurrentListing,MATCH('Category Set A by Basis of Exit'!S101,CurrentListing,0),1)),25),AG101),HYPERLINK(\"#'Select LEA'!\"&\"$AA$10\",AG101))","v":""},{"$f":"IFERROR(HYPERLINK(\"#'Select LEA'!\"&ADDRESS(ROW(INDEX(CurrentListing,MATCH('Category Set A by Basis of Exit'!T101,CurrentListing,0),1)),25),AH101),HYPERLINK(\"#'Select LEA'!\"&\"$AA$10\",AH101))","v":""},{"$f":"IFERROR(HYPERLINK(\"#'Select LEA'!\"&ADDRESS(ROW(INDEX(CurrentListing,MATCH('Category Set A by Basis of Exit'!U101,CurrentListing,0),1)),25),AI101),HYPERLINK(\"#'Select LEA'!\"&\"$AA$10\",AI101))","v":""},{"$f":"IFERROR(HYPERLINK(\"#'Select LEA'!\"&ADDRESS(ROW(INDEX(CurrentListing,MATCH('Category Set A by Basis of Exit'!V101,CurrentListing,0),1)),25),AJ101),HYPERLINK(\"#'Select LEA'!\"&\"$AA$10\",AJ101))","v":""},{"$f":"IFERROR(HYPERLINK(\"#'Select LEA'!\"&ADDRESS(ROW(INDEX(CurrentListing,MATCH('Category Set A by Basis of Exit'!W101,CurrentListing,0),1)),25),AK101),HYPERLINK(\"#'Select LEA'!\"&\"$AA$10\",AK101))","v":""},{"$f":"IFERROR(HYPERLINK(\"#'Select LEA'!\"&ADDRESS(ROW(INDEX(CurrentListing,MATCH('Category Set A by Basis of Exit'!X101,CurrentListing,0),1)),25),AL101),HYPERLINK(\"#'Select LEA'!\"&\"$AA$10\",AL101))","v":""},{"$f":"IFERROR(HYPERLINK(\"#'Select LEA'!\"&ADDRESS(ROW(INDEX(CurrentListing,MATCH('Category Set A by Basis of Exit'!Y101,CurrentListing,0),1)),25),AM101),HYPERLINK(\"#'Select LEA'!\"&\"$AA$10\",AM101))","v":""},{"$f":"IFERROR(HYPERLINK(\"#'Select LEA'!\"&ADDRESS(ROW(INDEX(CurrentListing,MATCH('Category Set A by Basis of Exit'!Z101,CurrentListing,0),1)),25),AN101),HYPERLINK(\"#'Select LEA'!\"&\"$AA$10\",AN101))","v":""},{"$f":"IFERROR(HYPERLINK(\"#'Select LEA'!\"&ADDRESS(ROW(INDEX(CurrentListing,MATCH('Category Set A by Basis of Exit'!AA101,CurrentListing,0),1)),25),AO101),HYPERLINK(\"#'Select LEA'!\"&\"$AA$10\",AO101))","v":""},{"$f":"IFERROR(HYPERLINK(\"#'Select LEA'!\"&ADDRESS(ROW(INDEX(CurrentListing,MATCH('Category Set A by Basis of Exit'!AB101,CurrentListing,0),1)),25),AP101),HYPERLINK(\"#'Select LEA'!\"&\"$AA$10\",AP101))","v":""},0,null,null,"ID21RCN","HI21RCN","SLI21RCN","VI21RCN","EMN21RCN","OI21RCN","OHI21RCN","SLD21RCN","DB21RCN","MD21RCN","AUT21RCN","TBI21RCN",null,21,"","","","","","","","","","","","",0]
["Total",{"$f":"IF(SUM(B94:B101)>=0, SUM(B94:B101), \"\")","v":0},{"$f":"IF(SUM(C94:C101)>=0, SUM(C94:C101), \"\")","v":0},0,0,0,0,0,0,0,0,0,0,{"$f":"IF(AND(N4=\"MC\",N5=\"MC\",N6=\"MC\",N7=\"MC\",N8=\"MC\",N9=\"MC\",N10=\"MC\",N11=\"MC\", N14=\"MC\"),\"\",SUM(B94:M101))","v":0},null,null,null,null,null,null,null,null,null,null,null,null,null,null,"RCY","Total",{"$f":"SUM(AE94:AE101)","v":0},{"$f":"SUM(AF94:AF101)","v":0},0,0,0,0,0,0,0,0,0,0,{"$f":"IFERROR(IF(INDEX(StudCntC009,MATCH(AC102,CurrentListing,0))=\"\",\"No Data\",INDEX(StudCntC009,MATCH(AC102,CurrentListing,0))),\"\")","v":""}]
[]
["Percent by age","Received a certificate"]
[null,"Intellectual\ndisability\n(percent)","Hearing\nimpairment\n(percent)","Speech or\nlanguage\nimpairment\n(percent)","Visual\nimpairment\n(percent)","Emotional\ndisturbance\n(percent)","Orthopedic\nimpairment\n(percent)","Other\nhealth\nimpairment\n(percent)","Specific\nlearning\ndisability\n(percent)","Deaf-\nblindness\n(percent)","Multiple\ndisabilities\n(percent)","Autism\n(Percent)","Traumatic\nbrain\ninjury\n(percent)","Total\n(percent)"]
[14,{"$f":"IF(ISERROR(B94/$N94),IF(B94=\"MC\", \"\",0), B94/$N94)","v":0},{"$f":"IF(ISERROR(C94/$N94),IF(C94=\"MC\", \"\",0), C94/$N94)","v":0},0,0,0,0,0,0,0,0,0,0,{"$f":"SUM(B106:M106)","v":0}]
[15,{"$f":"IF(ISERROR(B95/$N95),IF(B95=\"MC\", \"\",0), B95/$N95)","v":0},0,0,0,0,0,0,0,0,0,0,0,{"$f":"SUM(B107:M107)","v":0}]
[16,{"$f":"IF(ISERROR(B96/$N96),IF(B96=\"MC\", \"\",0), B96/$N96)","v":0},0,0,0,0,0,0,0,0,0,0,0,0]
[17,{"$f":"IF(ISERROR(B97/$N97),IF(B97=\"MC\", \"\",0), B97/$N97)","v":0},0,0,0,0,0,0,0,0,0,0,0,0]
[18,{"$f":"IF(ISERROR(B98/$N98),IF(B98=\"MC\", \"\",0), B98/$N98)","v":0},0,0,0,0,0,0,0,0,0,0,0,0]
[19,{"$f":"IF(ISERROR(B99/$N99),IF(B99=\"MC\", \"\",0), B99/$N99)","v":0},0,0,0,0,0,0,0,0,0,0,0,0]
[20,{"$f":"IF(ISERROR(B100/$N100),IF(B100=\"MC\", \"\",0), B100/$N100)","v":0},0,0,0,0,0,0,0,0,0,0,0,0]
[21,{"$f":"IF(ISERROR(B101/$N101),IF(B101=\"MC\", \"\",0), B101/$N101)","v":0},0,0,0,0,0,0,0,0,0,0,0,0]
["Total",{"$f":"IFERROR(IF($N102<>0,B102/$N102,0),\"\")","v":0},{"$f":"IFERROR(IF($N102<>0,C102/$N102,0),\"\")","v":0},0,0,0,0,0,0,0,0,0,0,0]
[]
["Category set A – Children with disabilities (IDEA) exiting special education, by basis of exit, disability category, and age",null,null,null,null,null,null,null,null,null,null,null,null,null,null,null,"Reached maximum age"]
["Student count by age","Reached maximum age",null,null,null,null,null,null,null,null,null,null,null,null,null,null,null,null,null,null,null,null,null,null,null,null,null,null,null,"Student counts by age",{"$f":"B117","v":"Reached maximum age"}]
[null,"Intellectual\ndisability","Hearing\nimpairment","Speech or\nlanguage\nimpairment","Visual\nimpairment","Emotional\ndisturbance","Orthopedic\nimpairment","Other\nhealth\nimpairment","Specific\nlearning\ndisability","Deaf-\nblindness","Multiple\ndisabilities","Autism","Traumatic\nbrain\ninjury","Total",null,null,null,null,null,null,null,null,null,null,null,null,null,null,null,null,"Intellectual\nDisability","Hearing\nImpairments","Speech or\nLanguage\nImpairments","Visual\nImpairments","Emotional\nDisturbance","Orthopedic\nImpairments","Other\nHealth\nImpairments","Specific\nLearning\nDisabilities","Deaf-\nBlindness","Multiple\nDisabilities","Autism","Traumatic\nBrain\nInjury","Total"]
[14,{"$f":"IFERROR(HYPERLINK(\"#'Select LEA'!\"&ADDRESS(ROW(INDEX(CurrentListing,MATCH('Category Set A by Basis of Exit'!Q119,CurrentListing,0),1)),25),AE119),HYPERLINK(\"#'Select LEA'!\"&\"$AA$10\",AE119))","v":""},{"$f":"IFERROR(HYPERLINK(\"#'Select LEA'!\"&ADDRESS(ROW(INDEX(CurrentListing,MATCH('Category Set A by Basis of Exit'!R119,CurrentListing,0),1)),25),AF119),HYPERLINK(\"#'Select LEA'!\"&\"$AA$10\",AF119))","v":""},{"$f":"IFERROR(HYPERLINK(\"#'Select LEA'!\"&ADDRESS(ROW(INDEX(CurrentListing,MATCH('Category Set A by Basis of Exit'!S119,CurrentListing,0),1)),25),AG119),HYPERLINK(\"#'Select LEA'!\"&\"$AA$10\",AG119))","v":""},{"$f":"IFERROR(HYPERLINK(\"#'Select LEA'!\"&ADDRESS(ROW(INDEX(CurrentListing,MATCH('Category Set A by Basis of Exit'!T119,CurrentListing,0),1)),25),AH119),HYPERLINK(\"#'Select LEA'!\"&\"$AA$10\",AH119))","v":""},{"$f":"IFERROR(HYPERLINK(\"#'Select LEA'!\"&ADDRESS(ROW(INDEX(CurrentListing,MATCH('Category Set A by Basis of Exit'!U119,CurrentListing,0),1)),25),AI119),HYPERLINK(\"#'Select LEA'!\"&\"$AA$10\",AI119))","v":""},{"$f":"IFERROR(HYPERLINK(\"#'Select LEA'!\"&ADDRESS(ROW(INDEX(CurrentListing,MATCH('Category Set A by Basis of Exit'!V119,CurrentListing,0),1)),25),AJ119),HYPERLINK(\"#'Select LEA'!\"&\"$AA$10\",AJ119))","v":""},{"$f":"IFERROR(HYPERLINK(\"#'Select LEA'!\"&ADDRESS(ROW(INDEX(CurrentListing,MATCH('Category Set A by Basis of Exit'!W119,CurrentListing,0),1)),25),AK119),HYPERLINK(\"#'Select LEA'!\"&\"$AA$10\",AK119))","v":""},{"$f":"IFERROR(HYPERLINK(\"#'Select LEA'!\"&ADDRESS(ROW(INDEX(CurrentListing,MATCH('Category Set A by Basis of Exit'!X119,CurrentListing,0),1)),25),AL119),HYPERLINK(\"#'Select LEA'!\"&\"$AA$10\",AL119))","v":""},{"$f":"IFERROR(HYPERLINK(\"#'Select LEA'!\"&ADDRESS(ROW(INDEX(CurrentListing,MATCH('Category Set A by Basis of Exit'!Y119,CurrentListing,0),1)),25),AM119),HYPERLINK(\"#'Select LEA'!\"&\"$AA$10\",AM119))","v":""},{"$f":"IFERROR(HYPERLINK(\"#'Select LEA'!\"&ADDRESS(ROW(INDEX(CurrentListing,MATCH('Category Set A by Basis of Exit'!Z119,CurrentListing,0),1)),25),AN119),HYPERLINK(\"#'Select LEA'!\"&\"$AA$10\",AN119))","v":""},{"$f":"IFERROR(HYPERLINK(\"#'Select LEA'!\"&ADDRESS(ROW(INDEX(CurrentListing,MATCH('Category Set A by Basis of Exit'!AA119,CurrentListing,0),1)),25),AO119),HYPERLINK(\"#'Select LEA'!\"&\"$AA$10\",AO119))","v":""},{"$f":"IFERROR(HYPERLINK(\"#'Select LEA'!\"&ADDRESS(ROW(INDEX(CurrentListing,MATCH('Category Set A by Basis of Exit'!AB119,CurrentListing,0),1)),25),AP119),HYPERLINK(\"#'Select LEA'!\"&\"$AA$10\",AP119))","v":""},{"$f":"IF(SUM(B119:M119)>=0, SUM(B119:M119),\"\")","v":0},null,null,"ID14RMAN","HI14RMAN","SLI14RMAN","VI14RMAN","EMN14RMAN","OI14RMAN","OHI14RMAN","SLD14RMAN","DB14RMAN","MD14RMAN","AUT14RMAN","TBI14RMAN",null,14,{"$f":"IFERROR(IF(INDEX(StudCntC009,MATCH(Q119,CurrentListing,0))=\"\",\"No Data\",INDEX(StudCntC009,MATCH(Q119,CurrentListing,0))),\"\")","v":""},"","","","","","","","","","","",{"$f":"SUM(AE119:AP119)","v":0}]
[15,{"$f":"IFERROR(HYPERLINK(\"#'Select LEA'!\"&ADDRESS(ROW(INDEX(CurrentListing,MATCH('Category Set A by Basis of Exit'!Q120,CurrentListing,0),1)),25),AE120),HYPERLINK(\"#'Select LEA'!\"&\"$AA$10\",AE120))","v":""},{"$f":"IFERROR(HYPERLINK(\"#'Select LEA'!\"&ADDRESS(ROW(INDEX(CurrentListing,MATCH('Category Set A by Basis of Exit'!R120,CurrentListing,0),1)),25),AF120),HYPERLINK(\"#'Select LEA'!\"&\"$AA$10\",AF120))","v":""},{"$f":"IFERROR(HYPERLINK(\"#'Select LEA'!\"&ADDRESS(ROW(INDEX(CurrentListing,MATCH('Category Set A by Basis of Exit'!S120,CurrentListing,0),1)),25),AG120),HYPERLINK(\"#'Select LEA'!\"&\"$AA$10\",AG120))","v":""},{"$f":"IFERROR(HYPERLINK(\"#'Select LEA'!\"&ADDRESS(ROW(INDEX(CurrentListing,MATCH('Category Set A by Basis of Exit'!T120,CurrentListing,0),1)),25),AH120),HYPERLINK(\"#'Select LEA'!\"&\"$AA$10\",AH120))","v":""},{"$f":"IFERROR(HYPERLINK(\"#'Select LEA'!\"&ADDRESS(ROW(INDEX(CurrentListing,MATCH('Category Set A by Basis of Exit'!U120,CurrentListing,0),1)),25),AI120),HYPERLINK(\"#'Select LEA'!\"&\"$AA$10\",AI120))","v":""},{"$f":"IFERROR(HYPERLINK(\"#'Select LEA'!\"&ADDRESS(ROW(INDEX(CurrentListing,MATCH('Category Set A by Basis of Exit'!V120,CurrentListing,0),1)),25),AJ120),HYPERLINK(\"#'Select LEA'!\"&\"$AA$10\",AJ120))","v":""},{"$f":"IFERROR(HYPERLINK(\"#'Select LEA'!\"&ADDRESS(ROW(INDEX(CurrentListing,MATCH('Category Set A by Basis of Exit'!W120,CurrentListing,0),1)),25),AK120),HYPERLINK(\"#'Select LEA'!\"&\"$AA$10\",AK120))","v":""},{"$f":"IFERROR(HYPERLINK(\"#'Select LEA'!\"&ADDRESS(ROW(INDEX(CurrentListing,MATCH('Category Set A by Basis of Exit'!X120,CurrentListing,0),1)),25),AL120),HYPERLINK(\"#'Select LEA'!\"&\"$AA$10\",AL120))","v":""},{"$f":"IFERROR(HYPERLINK(\"#'Select LEA'!\"&ADDRESS(ROW(INDEX(CurrentListing,MATCH('Category Set A by Basis of Exit'!Y120,CurrentListing,0),1)),25),AM120),HYPERLINK(\"#'Select LEA'!\"&\"$AA$10\",AM120))","v":""},{"$f":"IFERROR(HYPERLINK(\"#'Select LEA'!\"&ADDRESS(ROW(INDEX(CurrentListing,MATCH('Category Set A by Basis of Exit'!Z120,CurrentListing,0),1)),25),AN120),HYPERLINK(\"#'Select LEA'!\"&\"$AA$10\",AN120))","v":""},{"$f":"IFERROR(HYPERLINK(\"#'Select LEA'!\"&ADDRESS(ROW(INDEX(CurrentListing,MATCH('Category Set A by Basis of Exit'!AA120,CurrentListing,0),1)),25),AO120),HYPERLINK(\"#'Select LEA'!\"&\"$AA$10\",AO120))","v":""},{"$f":"IFERROR(HYPERLINK(\"#'Select LEA'!\"&ADDRESS(ROW(INDEX(CurrentListing,MATCH('Category Set A by Basis of Exit'!AB120,CurrentListing,0),1)),25),AP120),HYPERLINK(\"#'Select LEA'!\"&\"$AA$10\",AP120))","v":""},0,null,null,"ID15RMAN","HI15RMAN","SLI15RMAN","VI15RMAN","EMN15RMAN","OI15RMAN","OHI15RMAN","SLD15RMAN","DB15RMAN","MD15RMAN","AUT15RMAN","TBI15RMAN",null,15,"","","","","","","","","","","","",{"$f":"SUM(AE120:AP120)","v":0}]
[16,{"$f":"IFERROR(HYPERLINK(\"#'Select LEA'!\"&ADDRESS(ROW(INDEX(CurrentListing,MATCH('Category Set A by Basis of Exit'!Q121,CurrentListing,0),1)),25),AE121),HYPERLINK(\"#'Select LEA'!\"&\"$AA$10\",AE121))","v":""},{"$f":"IFERROR(HYPERLINK(\"#'Select LEA'!\"&ADDRESS(ROW(INDEX(CurrentListing,MATCH('Category Set A by Basis of Exit'!R121,CurrentListing,0),1)),25),AF121),HYPERLINK(\"#'Select LEA'!\"&\"$AA$10\",AF121))","v":""},{"$f":"IFERROR(HYPERLINK(\"#'Select LEA'!\"&ADDRESS(ROW(INDEX(CurrentListing,MATCH('Category Set A by Basis of Exit'!S121,CurrentListing,0),1)),25),AG121),HYPERLINK(\"#'Select LEA'!\"&\"$AA$10\",AG121))","v":""},{"$f":"IFERROR(HYPERLINK(\"#'Select LEA'!\"&ADDRESS(ROW(INDEX(CurrentListing,MATCH('Category Set A by Basis of Exit'!T121,CurrentListing,0),1)),25),AH121),HYPERLINK(\"#'Select LEA'!\"&\"$AA$10\",AH121))","v":""},{"$f":"IFERROR(HYPERLINK(\"#'Select LEA'!\"&ADDRESS(ROW(INDEX(CurrentListing,MATCH('Category Set A by Basis of Exit'!U121,CurrentListing,0),1)),25),AI121),HYPERLINK(\"#'Select LEA'!\"&\"$AA$10\",AI121))","v":""},{"$f":"IFERROR(HYPERLINK(\"#'Select LEA'!\"&ADDRESS(ROW(INDEX(CurrentListing,MATCH('Category Set A by Basis of Exit'!V121,CurrentListing,0),1)),25),AJ121),HYPERLINK(\"#'Select LEA'!\"&\"$AA$10\",AJ121))","v":""},{"$f":"IFERROR(HYPERLINK(\"#'Select LEA'!\"&ADDRESS(ROW(INDEX(CurrentListing,MATCH('Category Set A by Basis of Exit'!W121,CurrentListing,0),1)),25),AK121),HYPERLINK(\"#'Select LEA'!\"&\"$AA$10\",AK121))","v":""},{"$f":"IFERROR(HYPERLINK(\"#'Select LEA'!\"&ADDRESS(ROW(INDEX(CurrentListing,MATCH('Category Set A by Basis of Exit'!X121,CurrentListing,0),1)),25),AL121),HYPERLINK(\"#'Select LEA'!\"&\"$AA$10\",AL121))","v":""},{"$f":"IFERROR(HYPERLINK(\"#'Select LEA'!\"&ADDRESS(ROW(INDEX(CurrentListing,MATCH('Category Set A by Basis of Exit'!Y121,CurrentListing,0),1)),25),AM121),HYPERLINK(\"#'Select LEA'!\"&\"$AA$10\",AM121))","v":""},{"$f":"IFERROR(HYPERLINK(\"#'Select LEA'!\"&ADDRESS(ROW(INDEX(CurrentListing,MATCH('Category Set A by Basis of Exit'!Z121,CurrentListing,0),1)),25),AN121),HYPERLINK(\"#'Select LEA'!\"&\"$AA$10\",AN121))","v":""},{"$f":"IFERROR(HYPERLINK(\"#'Select LEA'!\"&ADDRESS(ROW(INDEX(CurrentListing,MATCH('Category Set A by Basis of Exit'!AA121,CurrentListing,0),1)),25),AO121),HYPERLINK(\"#'Select LEA'!\"&\"$AA$10\",AO121))","v":""},{"$f":"IFERROR(HYPERLINK(\"#'Select LEA'!\"&ADDRESS(ROW(INDEX(CurrentListing,MATCH('Category Set A by Basis of Exit'!AB121,CurrentListing,0),1)),25),AP121),HYPERLINK(\"#'Select LEA'!\"&\"$AA$10\",AP121))","v":""},0,null,null,"ID16RMAN","HI16RMAN","SLI16RMAN","VI16RMAN","EMN16RMAN","OI16RMAN","OHI16RMAN","SLD16RMAN","DB16RMAN","MD16RMAN","AUT16RMAN","TBI16RMAN",null,16,"","","","","","","","","","","","",0]
[17,{"$f":"IFERROR(HYPERLINK(\"#'Select LEA'!\"&ADDRESS(ROW(INDEX(CurrentListing,MATCH('Category Set A by Basis of Exit'!Q122,CurrentListing,0),1)),25),AE122),HYPERLINK(\"#'Select LEA'!\"&\"$AA$10\",AE122))","v":""},{"$f":"IFERROR(HYPERLINK(\"#'Select LEA'!\"&ADDRESS(ROW(INDEX(CurrentListing,MATCH('Category Set A by Basis of Exit'!R122,CurrentListing,0),1)),25),AF122),HYPERLINK(\"#'Select LEA'!\"&\"$AA$10\",AF122))","v":""},{"$f":"IFERROR(HYPERLINK(\"#'Select LEA'!\"&ADDRESS(ROW(INDEX(CurrentListing,MATCH('Category Set A by Basis of Exit'!S122,CurrentListing,0),1)),25),AG122),HYPERLINK(\"#'Select LEA'!\"&\"$AA$10\",AG122))","v":""},{"$f":"IFERROR(HYPERLINK(\"#'Select LEA'!\"&ADDRESS(ROW(INDEX(CurrentListing,MATCH('Category Set A by Basis of Exit'!T122,CurrentListing,0),1)),25),AH122),HYPERLINK(\"#'Select LEA'!\"&\"$AA$10\",AH122))","v":""},{"$f":"IFERROR(HYPERLINK(\"#'Select LEA'!\"&ADDRESS(ROW(INDEX(CurrentListing,MATCH('Category Set A by Basis of Exit'!U122,CurrentListing,0),1)),25),AI122),HYPERLINK(\"#'Select LEA'!\"&\"$AA$10\",AI122))","v":""},{"$f":"IFERROR(HYPERLINK(\"#'Select LEA'!\"&ADDRESS(ROW(INDEX(CurrentListing,MATCH('Category Set A by Basis of Exit'!V122,CurrentListing,0),1)),25),AJ122),HYPERLINK(\"#'Select LEA'!\"&\"$AA$10\",AJ122))","v":""},{"$f":"IFERROR(HYPERLINK(\"#'Select LEA'!\"&ADDRESS(ROW(INDEX(CurrentListing,MATCH('Category Set A by Basis of Exit'!W122,CurrentListing,0),1)),25),AK122),HYPERLINK(\"#'Select LEA'!\"&\"$AA$10\",AK122))","v":""},{"$f":"IFERROR(HYPERLINK(\"#'Select LEA'!\"&ADDRESS(ROW(INDEX(CurrentListing,MATCH('Category Set A by Basis of Exit'!X122,CurrentListing,0),1)),25),AL122),HYPERLINK(\"#'Select LEA'!\"&\"$AA$10\",AL122))","v":""},{"$f":"IFERROR(HYPERLINK(\"#'Select LEA'!\"&ADDRESS(ROW(INDEX(CurrentListing,MATCH('Category Set A by Basis of Exit'!Y122,CurrentListing,0),1)),25),AM122),HYPERLINK(\"#'Select LEA'!\"&\"$AA$10\",AM122))","v":""},{"$f":"IFERROR(HYPERLINK(\"#'Select LEA'!\"&ADDRESS(ROW(INDEX(CurrentListing,MATCH('Category Set A by Basis of Exit'!Z122,CurrentListing,0),1)),25),AN122),HYPERLINK(\"#'Select LEA'!\"&\"$AA$10\",AN122))","v":""},{"$f":"IFERROR(HYPERLINK(\"#'Select LEA'!\"&ADDRESS(ROW(INDEX(CurrentListing,MATCH('Category Set A by Basis of Exit'!AA122,CurrentListing,0),1)),25),AO122),HYPERLINK(\"#'Select LEA'!\"&\"$AA$10\",AO122))","v":""},{"$f":"IFERROR(HYPERLINK(\"#'Select LEA'!\"&ADDRESS(ROW(INDEX(CurrentListing,MATCH('Category Set A by Basis of Exit'!AB122,CurrentListing,0),1)),25),AP122),HYPERLINK(\"#'Select LEA'!\"&\"$AA$10\",AP122))","v":""},0,null,null,"ID17RMAN","HI17RMAN","SLI17RMAN","VI17RMAN","EMN17RMAN","OI17RMAN","OHI17RMAN","SLD17RMAN","DB17RMAN","MD17RMAN","AUT17RMAN","TBI17RMAN",null,17,"","","","","","","","","","","","",0]
[18,{"$f":"IFERROR(HYPERLINK(\"#'Select LEA'!\"&ADDRESS(ROW(INDEX(CurrentListing,MATCH('Category Set A by Basis of Exit'!Q123,CurrentListing,0),1)),25),AE123),HYPERLINK(\"#'Select LEA'!\"&\"$AA$10\",AE123))","v":""},{"$f":"IFERROR(HYPERLINK(\"#'Select LEA'!\"&ADDRESS(ROW(INDEX(CurrentListing,MATCH('Category Set A by Basis of Exit'!R123,CurrentListing,0),1)),25),AF123),HYPERLINK(\"#'Select LEA'!\"&\"$AA$10\",AF123))","v":""},{"$f":"IFERROR(HYPERLINK(\"#'Select LEA'!\"&ADDRESS(ROW(INDEX(CurrentListing,MATCH('Category Set A by Basis of Exit'!S123,CurrentListing,0),1)),25),AG123),HYPERLINK(\"#'Select LEA'!\"&\"$AA$10\",AG123))","v":""},{"$f":"IFERROR(HYPERLINK(\"#'Select LEA'!\"&ADDRESS(ROW(INDEX(CurrentListing,MATCH('Category Set A by Basis of Exit'!T123,CurrentListing,0),1)),25),AH123),HYPERLINK(\"#'Select LEA'!\"&\"$AA$10\",AH123))","v":""},{"$f":"IFERROR(HYPERLINK(\"#'Select LEA'!\"&ADDRESS(ROW(INDEX(CurrentListing,MATCH('Category Set A by Basis of Exit'!U123,CurrentListing,0),1)),25),AI123),HYPERLINK(\"#'Select LEA'!\"&\"$AA$10\",AI123))","v":""},{"$f":"IFERROR(HYPERLINK(\"#'Select LEA'!\"&ADDRESS(ROW(INDEX(CurrentListing,MATCH('Category Set A by Basis of Exit'!V123,CurrentListing,0),1)),25),AJ123),HYPERLINK(\"#'Select LEA'!\"&\"$AA$10\",AJ123))","v":""},{"$f":"IFERROR(HYPERLINK(\"#'Select LEA'!\"&ADDRESS(ROW(INDEX(CurrentListing,MATCH('Category Set A by Basis of Exit'!W123,CurrentListing,0),1)),25),AK123),HYPERLINK(\"#'Select LEA'!\"&\"$AA$10\",AK123))","v":""},{"$f":"IFERROR(HYPERLINK(\"#'Select LEA'!\"&ADDRESS(ROW(INDEX(CurrentListing,MATCH('Category Set A by Basis of Exit'!X123,CurrentListing,0),1)),25),AL123),HYPERLINK(\"#'Select LEA'!\"&\"$AA$10\",AL123))","v":""},{"$f":"IFERROR(HYPERLINK(\"#'Select LEA'!\"&ADDRESS(ROW(INDEX(CurrentListing,MATCH('Category Set A by Basis of Exit'!Y123,CurrentListing,0),1)),25),AM123),HYPERLINK(\"#'Select LEA'!\"&\"$AA$10\",AM123))","v":""},{"$f":"IFERROR(HYPERLINK(\"#'Select LEA'!\"&ADDRESS(ROW(INDEX(CurrentListing,MATCH('Category Set A by Basis of Exit'!Z123,CurrentListing,0),1)),25),AN123),HYPERLINK(\"#'Select LEA'!\"&\"$AA$10\",AN123))","v":""},{"$f":"IFERROR(HYPERLINK(\"#'Select LEA'!\"&ADDRESS(ROW(INDEX(CurrentListing,MATCH('Category Set A by Basis of Exit'!AA123,CurrentListing,0),1)),25),AO123),HYPERLINK(\"#'Select LEA'!\"&\"$AA$10\",AO123))","v":""},{"$f":"IFERROR(HYPERLINK(\"#'Select LEA'!\"&ADDRESS(ROW(INDEX(CurrentListing,MATCH('Category Set A by Basis of Exit'!AB123,CurrentListing,0),1)),25),AP123),HYPERLINK(\"#'Select LEA'!\"&\"$AA$10\",AP123))","v":""},0,null,null,"ID18RMAN","HI18RMAN","SLI18RMAN","VI18RMAN","EMN18RMAN","OI18RMAN","OHI18RMAN","SLD18RMAN","DB18RMAN","MD18RMAN","AUT18RMAN","TBI18RMAN",null,18,"","","","","","","","","","","","",0]
[19,{"$f":"IFERROR(HYPERLINK(\"#'Select LEA'!\"&ADDRESS(ROW(INDEX(CurrentListing,MATCH('Category Set A by Basis of Exit'!Q124,CurrentListing,0),1)),25),AE124),HYPERLINK(\"#'Select LEA'!\"&\"$AA$10\",AE124))","v":""},{"$f":"IFERROR(HYPERLINK(\"#'Select LEA'!\"&ADDRESS(ROW(INDEX(CurrentListing,MATCH('Category Set A by Basis of Exit'!R124,CurrentListing,0),1)),25),AF124),HYPERLINK(\"#'Select LEA'!\"&\"$AA$10\",AF124))","v":""},{"$f":"IFERROR(HYPERLINK(\"#'Select LEA'!\"&ADDRESS(ROW(INDEX(CurrentListing,MATCH('Category Set A by Basis of Exit'!S124,CurrentListing,0),1)),25),AG124),HYPERLINK(\"#'Select LEA'!\"&\"$AA$10\",AG124))","v":""},{"$f":"IFERROR(HYPERLINK(\"#'Select LEA'!\"&ADDRESS(ROW(INDEX(CurrentListing,MATCH('Category Set A by Basis of Exit'!T124,CurrentListing,0),1)),25),AH124),HYPERLINK(\"#'Select LEA'!\"&\"$AA$10\",AH124))","v":""},{"$f":"IFERROR(HYPERLINK(\"#'Select LEA'!\"&ADDRESS(ROW(INDEX(CurrentListing,MATCH('Category Set A by Basis of Exit'!U124,CurrentListing,0),1)),25),AI124),HYPERLINK(\"#'Select LEA'!\"&\"$AA$10\",AI124))","v":""},{"$f":"IFERROR(HYPERLINK(\"#'Select LEA'!\"&ADDRESS(ROW(INDEX(CurrentListing,MATCH('Category Set A by Basis of Exit'!V124,CurrentListing,0),1)),25),AJ124),HYPERLINK(\"#'Select LEA'!\"&\"$AA$10\",AJ124))","v":""},{"$f":"IFERROR(HYPERLINK(\"#'Select LEA'!\"&ADDRESS(ROW(INDEX(CurrentListing,MATCH('Category Set A by Basis of Exit'!W124,CurrentListing,0),1)),25),AK124),HYPERLINK(\"#'Select LEA'!\"&\"$AA$10\",AK124))","v":""},{"$f":"IFERROR(HYPERLINK(\"#'Select LEA'!\"&ADDRESS(ROW(INDEX(CurrentListing,MATCH('Category Set A by Basis of Exit'!X124,CurrentListing,0),1)),25),AL124),HYPERLINK(\"#'Select LEA'!\"&\"$AA$10\",AL124))","v":""},{"$f":"IFERROR(HYPERLINK(\"#'Select LEA'!\"&ADDRESS(ROW(INDEX(CurrentListing,MATCH('Category Set A by Basis of Exit'!Y124,CurrentListing,0),1)),25),AM124),HYPERLINK(\"#'Select LEA'!\"&\"$AA$10\",AM124))","v":""},{"$f":"IFERROR(HYPERLINK(\"#'Select LEA'!\"&ADDRESS(ROW(INDEX(CurrentListing,MATCH('Category Set A by Basis of Exit'!Z124,CurrentListing,0),1)),25),AN124),HYPERLINK(\"#'Select LEA'!\"&\"$AA$10\",AN124))","v":""},{"$f":"IFERROR(HYPERLINK(\"#'Select LEA'!\"&ADDRESS(ROW(INDEX(CurrentListing,MATCH('Category Set A by Basis of Exit'!AA124,CurrentListing,0),1)),25),AO124),HYPERLINK(\"#'Select LEA'!\"&\"$AA$10\",AO124))","v":""},{"$f":"IFERROR(HYPERLINK(\"#'Select LEA'!\"&ADDRESS(ROW(INDEX(CurrentListing,MATCH('Category Set A by Basis of Exit'!AB124,CurrentListing,0),1)),25),AP124),HYPERLINK(\"#'Select LEA'!\"&\"$AA$10\",AP124))","v":""},0,null,null,"ID19RMAN","HI19RMAN","SLI19RMAN","VI19RMAN","EMN19RMAN","OI19RMAN","OHI19RMAN","SLD19RMAN","DB19RMAN","MD19RMAN","AUT19RMAN","TBI19RMAN",null,19,"","","","","","","","","","","","",0]
[20,{"$f":"IFERROR(HYPERLINK(\"#'Select LEA'!\"&ADDRESS(ROW(INDEX(CurrentListing,MATCH('Category Set A by Basis of Exit'!Q125,CurrentListing,0),1)),25),AE125),HYPERLINK(\"#'Select LEA'!\"&\"$AA$10\",AE125))","v":""},{"$f":"IFERROR(HYPERLINK(\"#'Select LEA'!\"&ADDRESS(ROW(INDEX(CurrentListing,MATCH('Category Set A by Basis of Exit'!R125,CurrentListing,0),1)),25),AF125),HYPERLINK(\"#'Select LEA'!\"&\"$AA$10\",AF125))","v":""},{"$f":"IFERROR(HYPERLINK(\"#'Select LEA'!\"&ADDRESS(ROW(INDEX(CurrentListing,MATCH('Category Set A by Basis of Exit'!S125,CurrentListing,0),1)),25),AG125),HYPERLINK(\"#'Select LEA'!\"&\"$AA$10\",AG125))","v":""},{"$f":"IFERROR(HYPERLINK(\"#'Select LEA'!\"&ADDRESS(ROW(INDEX(CurrentListing,MATCH('Category Set A by Basis of Exit'!T125,CurrentListing,0),1)),25),AH125),HYPERLINK(\"#'Select LEA'!\"&\"$AA$10\",AH125))","v":""},{"$f":"IFERROR(HYPERLINK(\"#'Select LEA'!\"&ADDRESS(ROW(INDEX(CurrentListing,MATCH('Category Set A by Basis of Exit'!U125,CurrentListing,0),1)),25),AI125),HYPERLINK(\"#'Select LEA'!\"&\"$AA$10\",AI125))","v":""},{"$f":"IFERROR(HYPERLINK(\"#'Select LEA'!\"&ADDRESS(ROW(INDEX(CurrentListing,MATCH('Category Set A by Basis of Exit'!V125,CurrentListing,0),1)),25),AJ125),HYPERLINK(\"#'Select LEA'!\"&\"$AA$10\",AJ125))","v":""},{"$f":"IFERROR(HYPERLINK(\"#'Select LEA'!\"&ADDRESS(ROW(INDEX(CurrentListing,MATCH('Category Set A by Basis of Exit'!W125,CurrentListing,0),1)),25),AK125),HYPERLINK(\"#'Select LEA'!\"&\"$AA$10\",AK125))","v":""},{"$f":"IFERROR(HYPERLINK(\"#'Select LEA'!\"&ADDRESS(ROW(INDEX(CurrentListing,MATCH('Category Set A by Basis of Exit'!X125,CurrentListing,0),1)),25),AL125),HYPERLINK(\"#'Select LEA'!\"&\"$AA$10\",AL125))","v":""},{"$f":"IFERROR(HYPERLINK(\"#'Select LEA'!\"&ADDRESS(ROW(INDEX(CurrentListing,MATCH('Category Set A by Basis of Exit'!Y125,CurrentListing,0),1)),25),AM125),HYPERLINK(\"#'Select LEA'!\"&\"$AA$10\",AM125))","v":""},{"$f":"IFERROR(HYPERLINK(\"#'Select LEA'!\"&ADDRESS(ROW(INDEX(CurrentListing,MATCH('Category Set A by Basis of Exit'!Z125,CurrentListing,0),1)),25),AN125),HYPERLINK(\"#'Select LEA'!\"&\"$AA$10\",AN125))","v":""},{"$f":"IFERROR(HYPERLINK(\"#'Select LEA'!\"&ADDRESS(ROW(INDEX(CurrentListing,MATCH('Category Set A by Basis of Exit'!AA125,CurrentListing,0),1)),25),AO125),HYPERLINK(\"#'Select LEA'!\"&\"$AA$10\",AO125))","v":""},{"$f":"IFERROR(HYPERLINK(\"#'Select LEA'!\"&ADDRESS(ROW(INDEX(CurrentListing,MATCH('Category Set A by Basis of Exit'!AB125,CurrentListing,0),1)),25),AP125),HYPERLINK(\"#'Select LEA'!\"&\"$AA$10\",AP125))","v":""},0,null,null,"ID20RMAN","HI20RMAN","SLI20RMAN","VI20RMAN","EMN20RMAN","OI20RMAN","OHI20RMAN","SLD20RMAN","DB20RMAN","MD20RMAN","AUT20RMAN","TBI20RMAN",null,20,"","","","","","","","","","","","",0]
[21,{"$f":"IFERROR(HYPERLINK(\"#'Select LEA'!\"&ADDRESS(ROW(INDEX(CurrentListing,MATCH('Category Set A by Basis of Exit'!Q126,CurrentListing,0),1)),25),AE126),HYPERLINK(\"#'Select LEA'!\"&\"$AA$10\",AE126))","v":""},{"$f":"IFERROR(HYPERLINK(\"#'Select LEA'!\"&ADDRESS(ROW(INDEX(CurrentListing,MATCH('Category Set A by Basis of Exit'!R126,CurrentListing,0),1)),25),AF126),HYPERLINK(\"#'Select LEA'!\"&\"$AA$10\",AF126))","v":""},{"$f":"IFERROR(HYPERLINK(\"#'Select LEA'!\"&ADDRESS(ROW(INDEX(CurrentListing,MATCH('Category Set A by Basis of Exit'!S126,CurrentListing,0),1)),25),AG126),HYPERLINK(\"#'Select LEA'!\"&\"$AA$10\",AG126))","v":""},{"$f":"IFERROR(HYPERLINK(\"#'Select LEA'!\"&ADDRESS(ROW(INDEX(CurrentListing,MATCH('Category Set A by Basis of Exit'!T126,CurrentListing,0),1)),25),AH126),HYPERLINK(\"#'Select LEA'!\"&\"$AA$10\",AH126))","v":""},{"$f":"IFERROR(HYPERLINK(\"#'Select LEA'!\"&ADDRESS(ROW(INDEX(CurrentListing,MATCH('Category Set A by Basis of Exit'!U126,CurrentListing,0),1)),25),AI126),HYPERLINK(\"#'Select LEA'!\"&\"$AA$10\",AI126))","v":""},{"$f":"IFERROR(HYPERLINK(\"#'Select LEA'!\"&ADDRESS(ROW(INDEX(CurrentListing,MATCH('Category Set A by Basis of Exit'!V126,CurrentListing,0),1)),25),AJ126),HYPERLINK(\"#'Select LEA'!\"&\"$AA$10\",AJ126))","v":""},{"$f":"IFERROR(HYPERLINK(\"#'Select LEA'!\"&ADDRESS(ROW(INDEX(CurrentListing,MATCH('Category Set A by Basis of Exit'!W126,CurrentListing,0),1)),25),AK126),HYPERLINK(\"#'Select LEA'!\"&\"$AA$10\",AK126))","v":""},{"$f":"IFERROR(HYPERLINK(\"#'Select LEA'!\"&ADDRESS(ROW(INDEX(CurrentListing,MATCH('Category Set A by Basis of Exit'!X126,CurrentListing,0),1)),25),AL126),HYPERLINK(\"#'Select LEA'!\"&\"$AA$10\",AL126))","v":""},{"$f":"IFERROR(HYPERLINK(\"#'Select LEA'!\"&ADDRESS(ROW(INDEX(CurrentListing,MATCH('Category Set A by Basis of Exit'!Y126,CurrentListing,0),1)),25),AM126),HYPERLINK(\"#'Select LEA'!\"&\"$AA$10\",AM126))","v":""},{"$f":"IFERROR(HYPERLINK(\"#'Select LEA'!\"&ADDRESS(ROW(INDEX(CurrentListing,MATCH('Category Set A by Basis of Exit'!Z126,CurrentListing,0),1)),25),AN126),HYPERLINK(\"#'Select LEA'!\"&\"$AA$10\",AN126))","v":""},{"$f":"IFERROR(HYPERLINK(\"#'Select LEA'!\"&ADDRESS(ROW(INDEX(CurrentListing,MATCH('Category Set A by Basis of Exit'!AA126,CurrentListing,0),1)),25),AO126),HYPERLINK(\"#'Select LEA'!\"&\"$AA$10\",AO126))","v":""},{"$f":"IFERROR(HYPERLINK(\"#'Select LEA'!\"&ADDRESS(ROW(INDEX(CurrentListing,MATCH('Category Set A by Basis of Exit'!AB126,CurrentListing,0),1)),25),AP126),HYPERLINK(\"#'Select LEA'!\"&\"$AA$10\",AP126))","v":""},{"$f":"IF(SUM(B126:M126)>=0, SUM(B126:M126),\"\")","v":0},null,null,"ID21RMAN","HI21RMAN","SLI21RMAN","VI21RMAN","EMN21RMAN","OI21RMAN","OHI21RMAN","SLD21RMAN","DB21RMAN","MD21RMAN","AUT21RMAN","TBI21RMAN",null,21,"","","","","","","","","","","","",0]
["Total",{"$f":"IF(SUM(B119:B126)>=0,SUM(B119:B126),\"\")","v":0},{"$f":"IF(SUM(C119:C126)>=0,SUM(C119:C126),\"\")","v":0},0,0,0,0,0,0,0,0,0,0,{"$f":"IF(AND(N4=\"MC\",N5=\"MC\",N6=\"MC\",N7=\"MC\",N8=\"MC\",N9=\"MC\",N10=\"MC\",N11=\"MC\", N14=\"MC\"),\"\",SUM(B119:M126))","v":0},null,null,null,null,null,null,null,null,null,null,null,null,null,null,"RMAY","Total",{"$f":"SUM(AE119:AE126)","v":0},{"$f":"SUM(AF119:AF126)","v":0},0,0,0,0,0,0,0,0,0,0,{"$f":"IFERROR(IF(INDEX(StudCntC009,MATCH(AC127,CurrentListing,0))=\"\",\"No Data\",INDEX(StudCntC009,MATCH(AC127,CurrentListing,0))),\"\")","v":""}]
[]
["Percent by age","Reached maximum age"]
[null,"Intellectual\ndisability\n(percent)","Hearing\nimpairment\n(percent)","Speech or\nlanguage\nimpairment\n(percent)","Visual\nimpairment\n(percent)","Emotional\ndisturbance\n(percent)","Orthopedic\nimpairment\n(percent)","Other\nhealth\nimpairment\n(percent)","Specific\nlearning\ndisability\n(percent)","Deaf-\nblindness\n(percent)","Multiple\ndisabilities\n(percent)","Autism\n(Percent)","Traumatic\nbrain\ninjury\n(percent)","Total\n(percent)"]
[14,{"$f":"IF(ISERROR(B119/$N119),IF(B119=\"MC\", \"\",0), B119/$N119)","v":0},{"$f":"IF(ISERROR(C119/$N119),IF(C119=\"MC\", \"\",0), C119/$N119)","v":0},0,0,0,0,0,0,0,0,0,0,{"$f":"SUM(B131:M131)","v":0}]
[15,{"$f":"IF(ISERROR(B120/$N120),IF(B120=\"MC\", \"\",0), B120/$N120)","v":0},0,0,0,0,0,0,0,0,0,0,0,{"$f":"SUM(B132:M132)","v":0}]
[16,0,0,0,0,0,0,0,0,0,0,0,0,0]
[17,0,0,0,0,0,0,0,0,0,0,0,0,0]
[18,0,0,0,0,0,0,0,0,0,0,0,0,0]
[19,0,0,0,0,0,0,0,0,0,0,0,0,0]
[20,0,0,0,0,0,0,0,0,0,0,0,0,0]
[21,0,0,0,0,0,0,0,0,0,0,0,0,0]
["Total",{"$f":"IFERROR(IF($N127<>0,B127/$N127,0),\"\")","v":0},{"$f":"IFERROR(IF($N127<>0,C127/$N127,0),\"\")","v":0},0,0,0,0,0,0,0,0,0,0,0]
[]
["Category set A – Children with disabilities (IDEA) exiting special education, by basis of exit, disability category, and age",null,null,null,null,null,null,null,null,null,null,null,null,null,null,null,"Died"]
["Student count by age","Died",null,null,null,null,null,null,null,null,null,null,null,null,null,null,null,null,null,null,null,null,null,null,null,null,null,null,null,"Student counts by age",{"$f":"B142","v":"Died"}]
[null,"Intellectual\ndisability","Hearing\nimpairment","Speech or\nlanguage\nimpairment","Visual\nimpairment","Emotional\ndisturbance","Orthopedic\nimpairment","Other\nhealth\nimpairment","Specific\nlearning\ndisability","Deaf-\nblindness","Multiple\ndisabilities","Autism","Traumatic\nbrain\ninjury","Total",null,null,null,null,null,null,null,null,null,null,null,null,null,null,null,null,"Intellectual\nDisability","Hearing\nImpairments","Speech or\nLanguage\nImpairments","Visual\nImpairments","Emotional\nDisturbance","Orthopedic\nImpairments","Other\nHealth\nImpairments","Specific\nLearning\nDisabilities","Deaf-\nBlindness","Multiple\nDisabilities","Autism","Traumatic\nBrain\nInjury","Total"]
[14,{"$f":"IFERROR(HYPERLINK(\"#'Select LEA'!\"&ADDRESS(ROW(INDEX(CurrentListing,MATCH('Category Set A by Basis of Exit'!Q144,CurrentListing,0),1)),25),AE144),HYPERLINK(\"#'Select LEA'!\"&\"$AA$10\",AE144))","v":""},{"$f":"IFERROR(HYPERLINK(\"#'Select LEA'!\"&ADDRESS(ROW(INDEX(CurrentListing,MATCH('Category Set A by Basis of Exit'!R144,CurrentListing,0),1)),25),AF144),HYPERLINK(\"#'Select LEA'!\"&\"$AA$10\",AF144))","v":""},{"$f":"IFERROR(HYPERLINK(\"#'Select LEA'!\"&ADDRESS(ROW(INDEX(CurrentListing,MATCH('Category Set A by Basis of Exit'!S144,CurrentListing,0),1)),25),AG144),HYPERLINK(\"#'Select LEA'!\"&\"$AA$10\",AG144))","v":""},{"$f":"IFERROR(HYPERLINK(\"#'Select LEA'!\"&ADDRESS(ROW(INDEX(CurrentListing,MATCH('Category Set A by Basis of Exit'!T144,CurrentListing,0),1)),25),AH144),HYPERLINK(\"#'Select LEA'!\"&\"$AA$10\",AH144))","v":""},{"$f":"IFERROR(HYPERLINK(\"#'Select LEA'!\"&ADDRESS(ROW(INDEX(CurrentListing,MATCH('Category Set A by Basis of Exit'!U144,CurrentListing,0),1)),25),AI144),HYPERLINK(\"#'Select LEA'!\"&\"$AA$10\",AI144))","v":""},{"$f":"IFERROR(HYPERLINK(\"#'Select LEA'!\"&ADDRESS(ROW(INDEX(CurrentListing,MATCH('Category Set A by Basis of Exit'!V144,CurrentListing,0),1)),25),AJ144),HYPERLINK(\"#'Select LEA'!\"&\"$AA$10\",AJ144))","v":""},{"$f":"IFERROR(HYPERLINK(\"#'Select LEA'!\"&ADDRESS(ROW(INDEX(CurrentListing,MATCH('Category Set A by Basis of Exit'!W144,CurrentListing,0),1)),25),AK144),HYPERLINK(\"#'Select LEA'!\"&\"$AA$10\",AK144))","v":""},{"$f":"IFERROR(HYPERLINK(\"#'Select LEA'!\"&ADDRESS(ROW(INDEX(CurrentListing,MATCH('Category Set A by Basis of Exit'!X144,CurrentListing,0),1)),25),AL144),HYPERLINK(\"#'Select LEA'!\"&\"$AA$10\",AL144))","v":""},{"$f":"IFERROR(HYPERLINK(\"#'Select LEA'!\"&ADDRESS(ROW(INDEX(CurrentListing,MATCH('Category Set A by Basis of Exit'!Y144,CurrentListing,0),1)),25),AM144),HYPERLINK(\"#'Select LEA'!\"&\"$AA$10\",AM144))","v":""},{"$f":"IFERROR(HYPERLINK(\"#'Select LEA'!\"&ADDRESS(ROW(INDEX(CurrentListing,MATCH('Category Set A by Basis of Exit'!Z144,CurrentListing,0),1)),25),AN144),HYPERLINK(\"#'Select LEA'!\"&\"$AA$10\",AN144))","v":""},{"$f":"IFERROR(HYPERLINK(\"#'Select LEA'!\"&ADDRESS(ROW(INDEX(CurrentListing,MATCH('Category Set A by Basis of Exit'!AA144,CurrentListing,0),1)),25),AO144),HYPERLINK(\"#'Select LEA'!\"&\"$AA$10\",AO144))","v":""},{"$f":"IFERROR(HYPERLINK(\"#'Select LEA'!\"&ADDRESS(ROW(INDEX(CurrentListing,MATCH('Category Set A by Basis of Exit'!AB144,CurrentListing,0),1)),25),AP144),HYPERLINK(\"#'Select LEA'!\"&\"$AA$10\",AP144))","v":""},{"$f":"IF(SUM(B144:M144)>=0, SUM(B144:M144), \"\")","v":0},null,null,"ID14DN","HI14DN","SLI14DN","VI14DN","EMN14DN","OI14DN","OHI14DN","SLD14DN","DB14DN","MD14DN","AUT14DN","TBI14DN",null,14,{"$f":"IFERROR(IF(INDEX(StudCntC009,MATCH(Q144,CurrentListing,0))=\"\",\"No Data\",INDEX(StudCntC009,MATCH(Q144,CurrentListing,0))),\"\")","v":""},"","","","","","","","","","","",{"$f":"SUM(AE144:AP144)","v":0}]
[15,{"$f":"IFERROR(HYPERLINK(\"#'Select LEA'!\"&ADDRESS(ROW(INDEX(CurrentListing,MATCH('Category Set A by Basis of Exit'!Q145,CurrentListing,0),1)),25),AE145),HYPERLINK(\"#'Select LEA'!\"&\"$AA$10\",AE145))","v":""},{"$f":"IFERROR(HYPERLINK(\"#'Select LEA'!\"&ADDRESS(ROW(INDEX(CurrentListing,MATCH('Category Set A by Basis of Exit'!R145,CurrentListing,0),1)),25),AF145),HYPERLINK(\"#'Select LEA'!\"&\"$AA$10\",AF145))","v":""},{"$f":"IFERROR(HYPERLINK(\"#'Select LEA'!\"&ADDRESS(ROW(INDEX(CurrentListing,MATCH('Category Set A by Basis of Exit'!S145,CurrentListing,0),1)),25),AG145),HYPERLINK(\"#'Select LEA'!\"&\"$AA$10\",AG145))","v":""},{"$f":"IFERROR(HYPERLINK(\"#'Select LEA'!\"&ADDRESS(ROW(INDEX(CurrentListing,MATCH('Category Set A by Basis of Exit'!T145,CurrentListing,0),1)),25),AH145),HYPERLINK(\"#'Select LEA'!\"&\"$AA$10\",AH145))","v":""},{"$f":"IFERROR(HYPERLINK(\"#'Select LEA'!\"&ADDRESS(ROW(INDEX(CurrentListing,MATCH('Category Set A by Basis of Exit'!U145,CurrentListing,0),1)),25),AI145),HYPERLINK(\"#'Select LEA'!\"&\"$AA$10\",AI145))","v":""},{"$f":"IFERROR(HYPERLINK(\"#'Select LEA'!\"&ADDRESS(ROW(INDEX(CurrentListing,MATCH('Category Set A by Basis of Exit'!V145,CurrentListing,0),1)),25),AJ145),HYPERLINK(\"#'Select LEA'!\"&\"$AA$10\",AJ145))","v":""},{"$f":"IFERROR(HYPERLINK(\"#'Select LEA'!\"&ADDRESS(ROW(INDEX(CurrentListing,MATCH('Category Set A by Basis of Exit'!W145,CurrentListing,0),1)),25),AK145),HYPERLINK(\"#'Select LEA'!\"&\"$AA$10\",AK145))","v":""},{"$f":"IFERROR(HYPERLINK(\"#'Select LEA'!\"&ADDRESS(ROW(INDEX(CurrentListing,MATCH('Category Set A by Basis of Exit'!X145,CurrentListing,0),1)),25),AL145),HYPERLINK(\"#'Select LEA'!\"&\"$AA$10\",AL145))","v":""},{"$f":"IFERROR(HYPERLINK(\"#'Select LEA'!\"&ADDRESS(ROW(INDEX(CurrentListing,MATCH('Category Set A by Basis of Exit'!Y145,CurrentListing,0),1)),25),AM145),HYPERLINK(\"#'Select LEA'!\"&\"$AA$10\",AM145))","v":""},{"$f":"IFERROR(HYPERLINK(\"#'Select LEA'!\"&ADDRESS(ROW(INDEX(CurrentListing,MATCH('Category Set A by Basis of Exit'!Z145,CurrentListing,0),1)),25),AN145),HYPERLINK(\"#'Select LEA'!\"&\"$AA$10\",AN145))","v":""},{"$f":"IFERROR(HYPERLINK(\"#'Select LEA'!\"&ADDRESS(ROW(INDEX(CurrentListing,MATCH('Category Set A by Basis of Exit'!AA145,CurrentListing,0),1)),25),AO145),HYPERLINK(\"#'Select LEA'!\"&\"$AA$10\",AO145))","v":""},{"$f":"IFERROR(HYPERLINK(\"#'Select LEA'!\"&ADDRESS(ROW(INDEX(CurrentListing,MATCH('Category Set A by Basis of Exit'!AB145,CurrentListing,0),1)),25),AP145),HYPERLINK(\"#'Select LEA'!\"&\"$AA$10\",AP145))","v":""},{"$f":"IF(SUM(B145:M145)>=0, SUM(B145:M145), \"\")","v":0},null,null,"ID15DN","HI15DN","SLI15DN","VI15DN","EMN15DN","OI15DN","OHI15DN","SLD15DN","DB15DN","MD15DN","AUT15DN","TBI15DN",null,15,"","","","","","","","","","","","",{"$f":"SUM(AE145:AP145)","v":0}]
[16,{"$f":"IFERROR(HYPERLINK(\"#'Select LEA'!\"&ADDRESS(ROW(INDEX(CurrentListing,MATCH('Category Set A by Basis of Exit'!Q146,CurrentListing,0),1)),25),AE146),HYPERLINK(\"#'Select LEA'!\"&\"$AA$10\",AE146))","v":""},{"$f":"IFERROR(HYPERLINK(\"#'Select LEA'!\"&ADDRESS(ROW(INDEX(CurrentListing,MATCH('Category Set A by Basis of Exit'!R146,CurrentListing,0),1)),25),AF146),HYPERLINK(\"#'Select LEA'!\"&\"$AA$10\",AF146))","v":""},{"$f":"IFERROR(HYPERLINK(\"#'Select LEA'!\"&ADDRESS(ROW(INDEX(CurrentListing,MATCH('Category Set A by Basis of Exit'!S146,CurrentListing,0),1)),25),AG146),HYPERLINK(\"#'Select LEA'!\"&\"$AA$10\",AG146))","v":""},{"$f":"IFERROR(HYPERLINK(\"#'Select LEA'!\"&ADDRESS(ROW(INDEX(CurrentListing,MATCH('Category Set A by Basis of Exit'!T146,CurrentListing,0),1)),25),AH146),HYPERLINK(\"#'Select LEA'!\"&\"$AA$10\",AH146))","v":""},{"$f":"IFERROR(HYPERLINK(\"#'Select LEA'!\"&ADDRESS(ROW(INDEX(CurrentListing,MATCH('Category Set A by Basis of Exit'!U146,CurrentListing,0),1)),25),AI146),HYPERLINK(\"#'Select LEA'!\"&\"$AA$10\",AI146))","v":""},{"$f":"IFERROR(HYPERLINK(\"#'Select LEA'!\"&ADDRESS(ROW(INDEX(CurrentListing,MATCH('Category Set A by Basis of Exit'!V146,CurrentListing,0),1)),25),AJ146),HYPERLINK(\"#'Select LEA'!\"&\"$AA$10\",AJ146))","v":""},{"$f":"IFERROR(HYPERLINK(\"#'Select LEA'!\"&ADDRESS(ROW(INDEX(CurrentListing,MATCH('Category Set A by Basis of Exit'!W146,CurrentListing,0),1)),25),AK146),HYPERLINK(\"#'Select LEA'!\"&\"$AA$10\",AK146))","v":""},{"$f":"IFERROR(HYPERLINK(\"#'Select LEA'!\"&ADDRESS(ROW(INDEX(CurrentListing,MATCH('Category Set A by Basis of Exit'!X146,CurrentListing,0),1)),25),AL146),HYPERLINK(\"#'Select LEA'!\"&\"$AA$10\",AL146))","v":""},{"$f":"IFERROR(HYPERLINK(\"#'Select LEA'!\"&ADDRESS(ROW(INDEX(CurrentListing,MATCH('Category Set A by Basis of Exit'!Y146,CurrentListing,0),1)),25),AM146),HYPERLINK(\"#'Select LEA'!\"&\"$AA$10\",AM146))","v":""},{"$f":"IFERROR(HYPERLINK(\"#'Select LEA'!\"&ADDRESS(ROW(INDEX(CurrentListing,MATCH('Category Set A by Basis of Exit'!Z146,CurrentListing,0),1)),25),AN146),HYPERLINK(\"#'Select LEA'!\"&\"$AA$10\",AN146))","v":""},{"$f":"IFERROR(HYPERLINK(\"#'Select LEA'!\"&ADDRESS(ROW(INDEX(CurrentListing,MATCH('Category Set A by Basis of Exit'!AA146,CurrentListing,0),1)),25),AO146),HYPERLINK(\"#'Select LEA'!\"&\"$AA$10\",AO146))","v":""},{"$f":"IFERROR(HYPERLINK(\"#'Select LEA'!\"&ADDRESS(ROW(INDEX(CurrentListing,MATCH('Category Set A by Basis of Exit'!AB146,CurrentListing,0),1)),25),AP146),HYPERLINK(\"#'Select LEA'!\"&\"$AA$10\",AP146))","v":""},0,null,null,"ID16DN","HI16DN","SLI16DN","VI16DN","EMN16DN","OI16DN","OHI16DN","SLD16DN","DB16DN","MD16DN","AUT16DN","TBI16DN",null,16,"","","","","","","","","","","","",0]
[17,{"$f":"IFERROR(HYPERLINK(\"#'Select LEA'!\"&ADDRESS(ROW(INDEX(CurrentListing,MATCH('Category Set A by Basis of Exit'!Q147,CurrentListing,0),1)),25),AE147),HYPERLINK(\"#'Select LEA'!\"&\"$AA$10\",AE147))","v":""},{"$f":"IFERROR(HYPERLINK(\"#'Select LEA'!\"&ADDRESS(ROW(INDEX(CurrentListing,MATCH('Category Set A by Basis of Exit'!R147,CurrentListing,0),1)),25),AF147),HYPERLINK(\"#'Select LEA'!\"&\"$AA$10\",AF147))","v":""},{"$f":"IFERROR(HYPERLINK(\"#'Select LEA'!\"&ADDRESS(ROW(INDEX(CurrentListing,MATCH('Category Set A by Basis of Exit'!S147,CurrentListing,0),1)),25),AG147),HYPERLINK(\"#'Select LEA'!\"&\"$AA$10\",AG147))","v":""},{"$f":"IFERROR(HYPERLINK(\"#'Select LEA'!\"&ADDRESS(ROW(INDEX(CurrentListing,MATCH('Category Set A by Basis of Exit'!T147,CurrentListing,0),1)),25),AH147),HYPERLINK(\"#'Select LEA'!\"&\"$AA$10\",AH147))","v":""},{"$f":"IFERROR(HYPERLINK(\"#'Select LEA'!\"&ADDRESS(ROW(INDEX(CurrentListing,MATCH('Category Set A by Basis of Exit'!U147,CurrentListing,0),1)),25),AI147),HYPERLINK(\"#'Select LEA'!\"&\"$AA$10\",AI147))","v":""},{"$f":"IFERROR(HYPERLINK(\"#'Select LEA'!\"&ADDRESS(ROW(INDEX(CurrentListing,MATCH('Category Set A by Basis of Exit'!V147,CurrentListing,0),1)),25),AJ147),HYPERLINK(\"#'Select LEA'!\"&\"$AA$10\",AJ147))","v":""},{"$f":"IFERROR(HYPERLINK(\"#'Select LEA'!\"&ADDRESS(ROW(INDEX(CurrentListing,MATCH('Category Set A by Basis of Exit'!W147,CurrentListing,0),1)),25),AK147),HYPERLINK(\"#'Select LEA'!\"&\"$AA$10\",AK147))","v":""},{"$f":"IFERROR(HYPERLINK(\"#'Select LEA'!\"&ADDRESS(ROW(INDEX(CurrentListing,MATCH('Category Set A by Basis of Exit'!X147,CurrentListing,0),1)),25),AL147),HYPERLINK(\"#'Select LEA'!\"&\"$AA$10\",AL147))","v":""},{"$f":"IFERROR(HYPERLINK(\"#'Select LEA'!\"&ADDRESS(ROW(INDEX(CurrentListing,MATCH('Category Set A by Basis of Exit'!Y147,CurrentListing,0),1)),25),AM147),HYPERLINK(\"#'Select LEA'!\"&\"$AA$10\",AM147))","v":""},{"$f":"IFERROR(HYPERLINK(\"#'Select LEA'!\"&ADDRESS(ROW(INDEX(CurrentListing,MATCH('Category Set A by Basis of Exit'!Z147,CurrentListing,0),1)),25),AN147),HYPERLINK(\"#'Select LEA'!\"&\"$AA$10\",AN147))","v":""},{"$f":"IFERROR(HYPERLINK(\"#'Select LEA'!\"&ADDRESS(ROW(INDEX(CurrentListing,MATCH('Category Set A by Basis of Exit'!AA147,CurrentListing,0),1)),25),AO147),HYPERLINK(\"#'Select LEA'!\"&\"$AA$10\",AO147))","v":""},{"$f":"IFERROR(HYPERLINK(\"#'Select LEA'!\"&ADDRESS(ROW(INDEX(CurrentListing,MATCH('Category Set A by Basis of Exit'!AB147,CurrentListing,0),1)),25),AP147),HYPERLINK(\"#'Select LEA'!\"&\"$AA$10\",AP147))","v":""},0,null,null,"ID17DN","HI17DN","SLI17DN","VI17DN","EMN17DN","OI17DN","OHI17DN","SLD17DN","DB17DN","MD17DN","AUT17DN","TBI17DN",null,17,"","","","","","","","","","","","",0]
[18,{"$f":"IFERROR(HYPERLINK(\"#'Select LEA'!\"&ADDRESS(ROW(INDEX(CurrentListing,MATCH('Category Set A by Basis of Exit'!Q148,CurrentListing,0),1)),25),AE148),HYPERLINK(\"#'Select LEA'!\"&\"$AA$10\",AE148))","v":""},{"$f":"IFERROR(HYPERLINK(\"#'Select LEA'!\"&ADDRESS(ROW(INDEX(CurrentListing,MATCH('Category Set A by Basis of Exit'!R148,CurrentListing,0),1)),25),AF148),HYPERLINK(\"#'Select LEA'!\"&\"$AA$10\",AF148))","v":""},{"$f":"IFERROR(HYPERLINK(\"#'Select LEA'!\"&ADDRESS(ROW(INDEX(CurrentListing,MATCH('Category Set A by Basis of Exit'!S148,CurrentListing,0),1)),25),AG148),HYPERLINK(\"#'Select LEA'!\"&\"$AA$10\",AG148))","v":""},{"$f":"IFERROR(HYPERLINK(\"#'Select LEA'!\"&ADDRESS(ROW(INDEX(CurrentListing,MATCH('Category Set A by Basis of Exit'!T148,CurrentListing,0),1)),25),AH148),HYPERLINK(\"#'Select LEA'!\"&\"$AA$10\",AH148))","v":""},{"$f":"IFERROR(HYPERLINK(\"#'Select LEA'!\"&ADDRESS(ROW(INDEX(CurrentListing,MATCH('Category Set A by Basis of Exit'!U148,CurrentListing,0),1)),25),AI148),HYPERLINK(\"#'Select LEA'!\"&\"$AA$10\",AI148))","v":""},{"$f":"IFERROR(HYPERLINK(\"#'Select LEA'!\"&ADDRESS(ROW(INDEX(CurrentListing,MATCH('Category Set A by Basis of Exit'!V148,CurrentListing,0),1)),25),AJ148),HYPERLINK(\"#'Select LEA'!\"&\"$AA$10\",AJ148))","v":""},{"$f":"IFERROR(HYPERLINK(\"#'Select LEA'!\"&ADDRESS(ROW(INDEX(CurrentListing,MATCH('Category Set A by Basis of Exit'!W148,CurrentListing,0),1)),25),AK148),HYPERLINK(\"#'Select LEA'!\"&\"$AA$10\",AK148))","v":""},{"$f":"IFERROR(HYPERLINK(\"#'Select LEA'!\"&ADDRESS(ROW(INDEX(CurrentListing,MATCH('Category Set A by Basis of Exit'!X148,CurrentListing,0),1)),25),AL148),HYPERLINK(\"#'Select LEA'!\"&\"$AA$10\",AL148))","v":""},{"$f":"IFERROR(HYPERLINK(\"#'Select LEA'!\"&ADDRESS(ROW(INDEX(CurrentListing,MATCH('Category Set A by Basis of Exit'!Y148,CurrentListing,0),1)),25),AM148),HYPERLINK(\"#'Select LEA'!\"&\"$AA$10\",AM148))","v":""},{"$f":"IFERROR(HYPERLINK(\"#'Select LEA'!\"&ADDRESS(ROW(INDEX(CurrentListing,MATCH('Category Set A by Basis of Exit'!Z148,CurrentListing,0),1)),25),AN148),HYPERLINK(\"#'Select LEA'!\"&\"$AA$10\",AN148))","v":""},{"$f":"IFERROR(HYPERLINK(\"#'Select LEA'!\"&ADDRESS(ROW(INDEX(CurrentListing,MATCH('Category Set A by Basis of Exit'!AA148,CurrentListing,0),1)),25),AO148),HYPERLINK(\"#'Select LEA'!\"&\"$AA$10\",AO148))","v":""},{"$f":"IFERROR(HYPERLINK(\"#'Select LEA'!\"&ADDRESS(ROW(INDEX(CurrentListing,MATCH('Category Set A by Basis of Exit'!AB148,CurrentListing,0),1)),25),AP148),HYPERLINK(\"#'Select LEA'!\"&\"$AA$10\",AP148))","v":""},0,null,null,"ID18DN","HI18DN","SLI18DN","VI18DN","EMN18DN","OI18DN","OHI18DN","SLD18DN","DB18DN","MD18DN","AUT18DN","TBI18DN",null,18,"","","","","","","","","","","","",0]
[19,{"$f":"IFERROR(HYPERLINK(\"#'Select LEA'!\"&ADDRESS(ROW(INDEX(CurrentListing,MATCH('Category Set A by Basis of Exit'!Q149,CurrentListing,0),1)),25),AE149),HYPERLINK(\"#'Select LEA'!\"&\"$AA$10\",AE149))","v":""},{"$f":"IFERROR(HYPERLINK(\"#'Select LEA'!\"&ADDRESS(ROW(INDEX(CurrentListing,MATCH('Category Set A by Basis of Exit'!R149,CurrentListing,0),1)),25),AF149),HYPERLINK(\"#'Select LEA'!\"&\"$AA$10\",AF149))","v":""},{"$f":"IFERROR(HYPERLINK(\"#'Select LEA'!\"&ADDRESS(ROW(INDEX(CurrentListing,MATCH('Category Set A by Basis of Exit'!S149,CurrentListing,0),1)),25),AG149),HYPERLINK(\"#'Select LEA'!\"&\"$AA$10\",AG149))","v":""},{"$f":"IFERROR(HYPERLINK(\"#'Select LEA'!\"&ADDRESS(ROW(INDEX(CurrentListing,MATCH('Category Set A by Basis of Exit'!T149,CurrentListing,0),1)),25),AH149),HYPERLINK(\"#'Select LEA'!\"&\"$AA$10\",AH149))","v":""},{"$f":"IFERROR(HYPERLINK(\"#'Select LEA'!\"&ADDRESS(ROW(INDEX(CurrentListing,MATCH('Category Set A by Basis of Exit'!U149,CurrentListing,0),1)),25),AI149),HYPERLINK(\"#'Select LEA'!\"&\"$AA$10\",AI149))","v":""},{"$f":"IFERROR(HYPERLINK(\"#'Select LEA'!\"&ADDRESS(ROW(INDEX(CurrentListing,MATCH('Category Set A by Basis of Exit'!V149,CurrentListing,0),1)),25),AJ149),HYPERLINK(\"#'Select LEA'!\"&\"$AA$10\",AJ149))","v":""},{"$f":"IFERROR(HYPERLINK(\"#'Select LEA'!\"&ADDRESS(ROW(INDEX(CurrentListing,MATCH('Category Set A by Basis of Exit'!W149,CurrentListing,0),1)),25),AK149),HYPERLINK(\"#'Select LEA'!\"&\"$AA$10\",AK149))","v":""},{"$f":"IFERROR(HYPERLINK(\"#'Select LEA'!\"&ADDRESS(ROW(INDEX(CurrentListing,MATCH('Category Set A by Basis of Exit'!X149,CurrentListing,0),1)),25),AL149),HYPERLINK(\"#'Select LEA'!\"&\"$AA$10\",AL149))","v":""},{"$f":"IFERROR(HYPERLINK(\"#'Select LEA'!\"&ADDRESS(ROW(INDEX(CurrentListing,MATCH('Category Set A by Basis of Exit'!Y149,CurrentListing,0),1)),25),AM149),HYPERLINK(\"#'Select LEA'!\"&\"$AA$10\",AM149))","v":""},{"$f":"IFERROR(HYPERLINK(\"#'Select LEA'!\"&ADDRESS(ROW(INDEX(CurrentListing,MATCH('Category Set A by Basis of Exit'!Z149,CurrentListing,0),1)),25),AN149),HYPERLINK(\"#'Select LEA'!\"&\"$AA$10\",AN149))","v":""},{"$f":"IFERROR(HYPERLINK(\"#'Select LEA'!\"&ADDRESS(ROW(INDEX(CurrentListing,MATCH('Category Set A by Basis of Exit'!AA149,CurrentListing,0),1)),25),AO149),HYPERLINK(\"#'Select LEA'!\"&\"$AA$10\",AO149))","v":""},{"$f":"IFERROR(HYPERLINK(\"#'Select LEA'!\"&ADDRESS(ROW(INDEX(CurrentListing,MATCH('Category Set A by Basis of Exit'!AB149,CurrentListing,0),1)),25),AP149),HYPERLINK(\"#'Select LEA'!\"&\"$AA$10\",AP149))","v":""},0,null,null,"ID19DN","HI19DN","SLI19DN","VI19DN","EMN19DN","OI19DN","OHI19DN","SLD19DN","DB19DN","MD19DN","AUT19DN","TBI19DN",null,19,"","","","","","","","","","","","",0]
[20,{"$f":"IFERROR(HYPERLINK(\"#'Select LEA'!\"&ADDRESS(ROW(INDEX(CurrentListing,MATCH('Category Set A by Basis of Exit'!Q150,CurrentListing,0),1)),25),AE150),HYPERLINK(\"#'Select LEA'!\"&\"$AA$10\",AE150))","v":""},{"$f":"IFERROR(HYPERLINK(\"#'Select LEA'!\"&ADDRESS(ROW(INDEX(CurrentListing,MATCH('Category Set A by Basis of Exit'!R150,CurrentListing,0),1)),25),AF150),HYPERLINK(\"#'Select LEA'!\"&\"$AA$10\",AF150))","v":""},{"$f":"IFERROR(HYPERLINK(\"#'Select LEA'!\"&ADDRESS(ROW(INDEX(CurrentListing,MATCH('Category Set A by Basis of Exit'!S150,CurrentListing,0),1)),25),AG150),HYPERLINK(\"#'Select LEA'!\"&\"$AA$10\",AG150))","v":""},{"$f":"IFERROR(HYPERLINK(\"#'Select LEA'!\"&ADDRESS(ROW(INDEX(CurrentListing,MATCH('Category Set A by Basis of Exit'!T150,CurrentListing,0),1)),25),AH150),HYPERLINK(\"#'Select LEA'!\"&\"$AA$10\",AH150))","v":""},{"$f":"IFERROR(HYPERLINK(\"#'Select LEA'!\"&ADDRESS(ROW(INDEX(CurrentListing,MATCH('Category Set A by Basis of Exit'!U150,CurrentListing,0),1)),25),AI150),HYPERLINK(\"#'Select LEA'!\"&\"$AA$10\",AI150))","v":""},{"$f":"IFERROR(HYPERLINK(\"#'Select LEA'!\"&ADDRESS(ROW(INDEX(CurrentListing,MATCH('Category Set A by Basis of Exit'!V150,CurrentListing,0),1)),25),AJ150),HYPERLINK(\"#'Select LEA'!\"&\"$AA$10\",AJ150))","v":""},{"$f":"IFERROR(HYPERLINK(\"#'Select LEA'!\"&ADDRESS(ROW(INDEX(CurrentListing,MATCH('Category Set A by Basis of Exit'!W150,CurrentListing,0),1)),25),AK150),HYPERLINK(\"#'Select LEA'!\"&\"$AA$10\",AK150))","v":""},{"$f":"IFERROR(HYPERLINK(\"#'Select LEA'!\"&ADDRESS(ROW(INDEX(CurrentListing,MATCH('Category Set A by Basis of Exit'!X150,CurrentListing,0),1)),25),AL150),HYPERLINK(\"#'Select LEA'!\"&\"$AA$10\",AL150))","v":""},{"$f":"IFERROR(HYPERLINK(\"#'Select LEA'!\"&ADDRESS(ROW(INDEX(CurrentListing,MATCH('Category Set A by Basis of Exit'!Y150,CurrentListing,0),1)),25),AM150),HYPERLINK(\"#'Select LEA'!\"&\"$AA$10\",AM150))","v":""},{"$f":"IFERROR(HYPERLINK(\"#'Select LEA'!\"&ADDRESS(ROW(INDEX(CurrentListing,MATCH('Category Set A by Basis of Exit'!Z150,CurrentListing,0),1)),25),AN150),HYPERLINK(\"#'Select LEA'!\"&\"$AA$10\",AN150))","v":""},{"$f":"IFERROR(HYPERLINK(\"#'Select LEA'!\"&ADDRESS(ROW(INDEX(CurrentListing,MATCH('Category Set A by Basis of Exit'!AA150,CurrentListing,0),1)),25),AO150),HYPERLINK(\"#'Select LEA'!\"&\"$AA$10\",AO150))","v":""},{"$f":"IFERROR(HYPERLINK(\"#'Select LEA'!\"&ADDRESS(ROW(INDEX(CurrentListing,MATCH('Category Set A by Basis of Exit'!AB150,CurrentListing,0),1)),25),AP150),HYPERLINK(\"#'Select LEA'!\"&\"$AA$10\",AP150))","v":""},0,null,null,"ID20DN","HI20DN","SLI20DN","VI20DN","EMN20DN","OI20DN","OHI20DN","SLD20DN","DB20DN","MD20DN","AUT20DN","TBI20DN",null,20,"","","","","","","","","","","","",0]
[21,{"$f":"IFERROR(HYPERLINK(\"#'Select LEA'!\"&ADDRESS(ROW(INDEX(CurrentListing,MATCH('Category Set A by Basis of Exit'!Q151,CurrentListing,0),1)),25),AE151),HYPERLINK(\"#'Select LEA'!\"&\"$AA$10\",AE151))","v":""},{"$f":"IFERROR(HYPERLINK(\"#'Select LEA'!\"&ADDRESS(ROW(INDEX(CurrentListing,MATCH('Category Set A by Basis of Exit'!R151,CurrentListing,0),1)),25),AF151),HYPERLINK(\"#'Select LEA'!\"&\"$AA$10\",AF151))","v":""},{"$f":"IFERROR(HYPERLINK(\"#'Select LEA'!\"&ADDRESS(ROW(INDEX(CurrentListing,MATCH('Category Set A by Basis of Exit'!S151,CurrentListing,0),1)),25),AG151),HYPERLINK(\"#'Select LEA'!\"&\"$AA$10\",AG151))","v":""},{"$f":"IFERROR(HYPERLINK(\"#'Select LEA'!\"&ADDRESS(ROW(INDEX(CurrentListing,MATCH('Category Set A by Basis of Exit'!T151,CurrentListing,0),1)),25),AH151),HYPERLINK(\"#'Select LEA'!\"&\"$AA$10\",AH151))","v":""},{"$f":"IFERROR(HYPERLINK(\"#'Select LEA'!\"&ADDRESS(ROW(INDEX(CurrentListing,MATCH('Category Set A by Basis of Exit'!U151,CurrentListing,0),1)),25),AI151),HYPERLINK(\"#'Select LEA'!\"&\"$AA$10\",AI151))","v":""},{"$f":"IFERROR(HYPERLINK(\"#'Select LEA'!\"&ADDRESS(ROW(INDEX(CurrentListing,MATCH('Category Set A by Basis of Exit'!V151,CurrentListing,0),1)),25),AJ151),HYPERLINK(\"#'Select LEA'!\"&\"$AA$10\",AJ151))","v":""},{"$f":"IFERROR(HYPERLINK(\"#'Select LEA'!\"&ADDRESS(ROW(INDEX(CurrentListing,MATCH('Category Set A by Basis of Exit'!W151,CurrentListing,0),1)),25),AK151),HYPERLINK(\"#'Select LEA'!\"&\"$AA$10\",AK151))","v":""},{"$f":"IFERROR(HYPERLINK(\"#'Select LEA'!\"&ADDRESS(ROW(INDEX(CurrentListing,MATCH('Category Set A by Basis of Exit'!X151,CurrentListing,0),1)),25),AL151),HYPERLINK(\"#'Select LEA'!\"&\"$AA$10\",AL151))","v":""},{"$f":"IFERROR(HYPERLINK(\"#'Select LEA'!\"&ADDRESS(ROW(INDEX(CurrentListing,MATCH('Category Set A by Basis of Exit'!Y151,CurrentListing,0),1)),25),AM151),HYPERLINK(\"#'Select LEA'!\"&\"$AA$10\",AM151))","v":""},{"$f":"IFERROR(HYPERLINK(\"#'Select LEA'!\"&ADDRESS(ROW(INDEX(CurrentListing,MATCH('Category Set A by Basis of Exit'!Z151,CurrentListing,0),1)),25),AN151),HYPERLINK(\"#'Select LEA'!\"&\"$AA$10\",AN151))","v":""},{"$f":"IFERROR(HYPERLINK(\"#'Select LEA'!\"&ADDRESS(ROW(INDEX(CurrentListing,MATCH('Category Set A by Basis of Exit'!AA151,CurrentListing,0),1)),25),AO151),HYPERLINK(\"#'Select LEA'!\"&\"$AA$10\",AO151))","v":""},{"$f":"IFERROR(HYPERLINK(\"#'Select LEA'!\"&ADDRESS(ROW(INDEX(CurrentListing,MATCH('Category Set A by Basis of Exit'!AB151,CurrentListing,0),1)),25),AP151),HYPERLINK(\"#'Select LEA'!\"&\"$AA$10\",AP151))","v":""},0,null,null,"ID21DN","HI21DN","SLI21DN","VI21DN","EMN21DN","OI21DN","OHI21DN","SLD21DN","DB21DN","MD21DN","AUT21DN","TBI21DN",null,21,"","","","","","","","","","","","",0]
["Total",{"$f":"IF(SUM(B144:B151)>=0, SUM(B144:B151), \"\")","v":0},{"$f":"IF(SUM(C144:C151)>=0, SUM(C144:C151), \"\")","v":0},0,0,0,0,0,0,0,0,0,0,{"$f":"IF(AND(N4=\"MC\",N5=\"MC\",N6=\"MC\",N7=\"MC\",N8=\"MC\",N9=\"MC\",N10=\"MC\",N11=\"MC\", N14=\"MC\"),\"\",SUM(B144:M151))","v":0},null,null,null,null,null,null,null,null,null,null,null,null,null,null,"DY","Total",{"$f":"SUM(AE144:AE151)","v":0},{"$f":"SUM(AF144:AF151)","v":0},0,0,0,0,0,0,0,0,0,0,{"$f":"IFERROR(IF(INDEX(StudCntC009,MATCH(AC152,CurrentListing,0))=\"\",\"No Data\",INDEX(StudCntC009,MATCH(AC152,CurrentListing,0))),\"\")","v":""}]
[]
["Percent by age","Died"]
[null,"Intellectual\ndisability\n(percent)","Hearing\nimpairment\n(percent)","Speech or\nlanguage\nimpairment\n(percent)","Visual\nimpairment\n(percent)","Emotional\ndisturbance\n(percent)","Orthopedic\nimpairment\n(percent)","Other\nhealth\nimpairment\n(percent)","Specific\nlearning\ndisability\n(percent)","Deaf-\nblindness\n(percent)","Multiple\ndisabilities\n(percent)","Autism\n(Percent)","Traumatic\nbrain\ninjury\n(percent)","Total\n(percent)"]
[14,{"$f":"IF(ISERROR(B144/$N144),IF(B144=\"MC\", \"\",0), B144/$N144)","v":0},{"$f":"IF(ISERROR(C144/$N144),IF(C144=\"MC\", \"\",0), C144/$N144)","v":0},0,0,0,0,0,0,0,0,0,0,{"$f":"SUM(B156:M156)","v":0}]
[15,{"$f":"IF(ISERROR(B145/$N145),IF(B145=\"MC\", \"\",0), B145/$N145)","v":0},0,0,0,0,0,0,0,0,0,0,0,{"$f":"SUM(B157:M157)","v":0}]
[16,{"$f":"IF(ISERROR(B146/$N146),IF(B146=\"MC\", \"\",0), B146/$N146)","v":0},0,0,0,0,0,0,0,0,0,0,0,0]
[17,{"$f":"IF(ISERROR(B147/$N147),IF(B147=\"MC\", \"\",0), B147/$N147)","v":0},0,0,0,0,0,0,0,0,0,0,0,0]
[18,{"$f":"IF(ISERROR(B148/$N148),IF(B148=\"MC\", \"\",0), B148/$N148)","v":0},0,0,0,0,0,0,0,0,0,0,0,0]
[19,{"$f":"IF(ISERROR(B149/$N149),IF(B149=\"MC\", \"\",0), B149/$N149)","v":0},0,0,0,0,0,0,0,0,0,0,0,0]
[20,{"$f":"IF(ISERROR(B150/$N150),IF(B150=\"MC\", \"\",0), B150/$N150)","v":0},0,0,0,0,0,0,0,0,0,0,0,0]
[21,{"$f":"IF(ISERROR(B151/$N151),IF(B151=\"MC\", \"\",0), B151/$N151)","v":0},0,0,0,0,0,0,0,0,0,0,0,0]
["Total",{"$f":"IFERROR(IF($N152<>0,B152/$N152,0),\"\")","v":0},{"$f":"IFERROR(IF($N152<>0,C152/$N152,0),\"\")","v":0},0,0,0,0,0,0,0,0,0,0,{"$f":"SUM(B164:M164)","v":0}]
[]
["Category set A – Children with disabilities (IDEA) exiting special education, by basis of exit, disability category, and age",null,null,null,null,null,null,null,null,null,null,null,null,null,null,null,"Moved, known to be continuing"]
["Student count by age","Moved, known to be continuing",null,null,null,null,null,null,null,null,null,null,null,null,null,null,null,null,null,null,null,null,null,null,null,null,null,null,null,"Student counts by age",{"$f":"B167","v":"Moved, known to be continuing"}]
[null,"Intellectual\ndisability","Hearing\nimpairment","Speech or\nlanguage\nimpairment","Visual\nimpairment","Emotional\ndisturbance","Orthopedic\nimpairment","Other\nhealth\nimpairment","Specific\nlearning\ndisability","Deaf-\nblindness","Multiple\ndisabilities","Autism","Traumatic\nbrain\ninjury","Total",null,null,null,null,null,null,null,null,null,null,null,null,null,null,null,null,"Intellectual\nDisability","Hearing\nImpairments","Speech or\nLanguage\nImpairments","Visual\nImpairments","Emotional\nDisturbance","Orthopedic\nImpairments","Other\nHealth\nImpairments","Specific\nLearning\nDisabilities","Deaf-\nBlindness","Multiple\nDisabilities","Autism","Traumatic\nBrain\nInjury","Total"]
[14,{"$f":"IFERROR(HYPERLINK(\"#'Select LEA'!\"&ADDRESS(ROW(INDEX(CurrentListing,MATCH('Category Set A by Basis of Exit'!Q169,CurrentListing,0),1)),25),AE169),HYPERLINK(\"#'Select LEA'!\"&\"$AA$10\",AE169))","v":""},{"$f":"IFERROR(HYPERLINK(\"#'Select LEA'!\"&ADDRESS(ROW(INDEX(CurrentListing,MATCH('Category Set A by Basis of Exit'!R169,CurrentListing,0),1)),25),AF169),HYPERLINK(\"#'Select LEA'!\"&\"$AA$10\",AF169))","v":""},{"$f":"IFERROR(HYPERLINK(\"#'Select LEA'!\"&ADDRESS(ROW(INDEX(CurrentListing,MATCH('Category Set A by Basis of Exit'!S169,CurrentListing,0),1)),25),AG169),HYPERLINK(\"#'Select LEA'!\"&\"$AA$10\",AG169))","v":""},{"$f":"IFERROR(HYPERLINK(\"#'Select LEA'!\"&ADDRESS(ROW(INDEX(CurrentListing,MATCH('Category Set A by Basis of Exit'!T169,CurrentListing,0),1)),25),AH169),HYPERLINK(\"#'Select LEA'!\"&\"$AA$10\",AH169))","v":""},{"$f":"IFERROR(HYPERLINK(\"#'Select LEA'!\"&ADDRESS(ROW(INDEX(CurrentListing,MATCH('Category Set A by Basis of Exit'!U169,CurrentListing,0),1)),25),AI169),HYPERLINK(\"#'Select LEA'!\"&\"$AA$10\",AI169))","v":""},{"$f":"IFERROR(HYPERLINK(\"#'Select LEA'!\"&ADDRESS(ROW(INDEX(CurrentListing,MATCH('Category Set A by Basis of Exit'!V169,CurrentListing,0),1)),25),AJ169),HYPERLINK(\"#'Select LEA'!\"&\"$AA$10\",AJ169))","v":""},{"$f":"IFERROR(HYPERLINK(\"#'Select LEA'!\"&ADDRESS(ROW(INDEX(CurrentListing,MATCH('Category Set A by Basis of Exit'!W169,CurrentListing,0),1)),25),AK169),HYPERLINK(\"#'Select LEA'!\"&\"$AA$10\",AK169))","v":""},{"$f":"IFERROR(HYPERLINK(\"#'Select LEA'!\"&ADDRESS(ROW(INDEX(CurrentListing,MATCH('Category Set A by Basis of Exit'!X169,CurrentListing,0),1)),25),AL169),HYPERLINK(\"#'Select LEA'!\"&\"$AA$10\",AL169))","v":""},{"$f":"IFERROR(HYPERLINK(\"#'Select LEA'!\"&ADDRESS(ROW(INDEX(CurrentListing,MATCH('Category Set A by Basis of Exit'!Y169,CurrentListing,0),1)),25),AM169),HYPERLINK(\"#'Select LEA'!\"&\"$AA$10\",AM169))","v":""},{"$f":"IFERROR(HYPERLINK(\"#'Select LEA'!\"&ADDRESS(ROW(INDEX(CurrentListing,MATCH('Category Set A by Basis of Exit'!Z169,CurrentListing,0),1)),25),AN169),HYPERLINK(\"#'Select LEA'!\"&\"$AA$10\",AN169))","v":""},{"$f":"IFERROR(HYPERLINK(\"#'Select LEA'!\"&ADDRESS(ROW(INDEX(CurrentListing,MATCH('Category Set A by Basis of Exit'!AA169,CurrentListing,0),1)),25),AO169),HYPERLINK(\"#'Select LEA'!\"&\"$AA$10\",AO169))","v":""},{"$f":"IFERROR(HYPERLINK(\"#'Select LEA'!\"&ADDRESS(ROW(INDEX(CurrentListing,MATCH('Category Set A by Basis of Exit'!AB169,CurrentListing,0),1)),25),AP169),HYPERLINK(\"#'Select LEA'!\"&\"$AA$10\",AP169))","v":""},{"$f":"IF(SUM(B169:M169)>=0, SUM(B169:M169), \"\")","v":0},null,null,"ID14MKCN","HI14MKCN","SLI14MKCN","VI14MKCN","EMN14MKCN","OI14MKCN","OHI14MKCN","SLD14MKCN","DB14MKCN","MD14MKCN","AUT14MKCN","TBI14MKCN",null,14,{"$f":"IFERROR(IF(INDEX(StudCntC009,MATCH(Q169,CurrentListing,0))=\"\",\"No Data\",INDEX(StudCntC009,MATCH(Q169,CurrentListing,0))),\"\")","v":""},"","","","","","","","","","","",{"$f":"SUM(AE169:AP169)","v":0}]
[15,{"$f":"IFERROR(HYPERLINK(\"#'Select LEA'!\"&ADDRESS(ROW(INDEX(CurrentListing,MATCH('Category Set A by Basis of Exit'!Q170,CurrentListing,0),1)),25),AE170),HYPERLINK(\"#'Select LEA'!\"&\"$AA$10\",AE170))","v":""},{"$f":"IFERROR(HYPERLINK(\"#'Select LEA'!\"&ADDRESS(ROW(INDEX(CurrentListing,MATCH('Category Set A by Basis of Exit'!R170,CurrentListing,0),1)),25),AF170),HYPERLINK(\"#'Select LEA'!\"&\"$AA$10\",AF170))","v":""},{"$f":"IFERROR(HYPERLINK(\"#'Select LEA'!\"&ADDRESS(ROW(INDEX(CurrentListing,MATCH('Category Set A by Basis of Exit'!S170,CurrentListing,0),1)),25),AG170),HYPERLINK(\"#'Select LEA'!\"&\"$AA$10\",AG170))","v":""},{"$f":"IFERROR(HYPERLINK(\"#'Select LEA'!\"&ADDRESS(ROW(INDEX(CurrentListing,MATCH('Category Set A by Basis of Exit'!T170,CurrentListing,0),1)),25),AH170),HYPERLINK(\"#'Select LEA'!\"&\"$AA$10\",AH170))","v":""},{"$f":"IFERROR(HYPERLINK(\"#'Select LEA'!\"&ADDRESS(ROW(INDEX(CurrentListing,MATCH('Category Set A by Basis of Exit'!U170,CurrentListing,0),1)),25),AI170),HYPERLINK(\"#'Select LEA'!\"&\"$AA$10\",AI170))","v":""},{"$f":"IFERROR(HYPERLINK(\"#'Select LEA'!\"&ADDRESS(ROW(INDEX(CurrentListing,MATCH('Category Set A by Basis of Exit'!V170,CurrentListing,0),1)),25),AJ170),HYPERLINK(\"#'Select LEA'!\"&\"$AA$10\",AJ170))","v":""},{"$f":"IFERROR(HYPERLINK(\"#'Select LEA'!\"&ADDRESS(ROW(INDEX(CurrentListing,MATCH('Category Set A by Basis of Exit'!W170,CurrentListing,0),1)),25),AK170),HYPERLINK(\"#'Select LEA'!\"&\"$AA$10\",AK170))","v":""},{"$f":"IFERROR(HYPERLINK(\"#'Select LEA'!\"&ADDRESS(ROW(INDEX(CurrentListing,MATCH('Category Set A by Basis of Exit'!X170,CurrentListing,0),1)),25),AL170),HYPERLINK(\"#'Select LEA'!\"&\"$AA$10\",AL170))","v":""},{"$f":"IFERROR(HYPERLINK(\"#'Select LEA'!\"&ADDRESS(ROW(INDEX(CurrentListing,MATCH('Category Set A by Basis of Exit'!Y170,CurrentListing,0),1)),25),AM170),HYPERLINK(\"#'Select LEA'!\"&\"$AA$10\",AM170))","v":""},{"$f":"IFERROR(HYPERLINK(\"#'Select LEA'!\"&ADDRESS(ROW(INDEX(CurrentListing,MATCH('Category Set A by Basis of Exit'!Z170,CurrentListing,0),1)),25),AN170),HYPERLINK(\"#'Select LEA'!\"&\"$AA$10\",AN170))","v":""},{"$f":"IFERROR(HYPERLINK(\"#'Select LEA'!\"&ADDRESS(ROW(INDEX(CurrentListing,MATCH('Category Set A by Basis of Exit'!AA170,CurrentListing,0),1)),25),AO170),HYPERLINK(\"#'Select LEA'!\"&\"$AA$10\",AO170))","v":""},{"$f":"IFERROR(HYPERLINK(\"#'Select LEA'!\"&ADDRESS(ROW(INDEX(CurrentListing,MATCH('Category Set A by Basis of Exit'!AB170,CurrentListing,0),1)),25),AP170),HYPERLINK(\"#'Select LEA'!\"&\"$AA$10\",AP170))","v":""},{"$f":"IF(SUM(B170:M170)>=0, SUM(B170:M170), \"\")","v":0},null,null,"ID15MKCN","HI15MKCN","SLI15MKCN","VI15MKCN","EMN15MKCN","OI15MKCN","OHI15MKCN","SLD15MKCN","DB15MKCN","MD15MKCN","AUT15MKCN","TBI15MKCN",null,15,"","","","","","","","","","","","",{"$f":"SUM(AE170:AP170)","v":0}]
[16,{"$f":"IFERROR(HYPERLINK(\"#'Select LEA'!\"&ADDRESS(ROW(INDEX(CurrentListing,MATCH('Category Set A by Basis of Exit'!Q171,CurrentListing,0),1)),25),AE171),HYPERLINK(\"#'Select LEA'!\"&\"$AA$10\",AE171))","v":""},{"$f":"IFERROR(HYPERLINK(\"#'Select LEA'!\"&ADDRESS(ROW(INDEX(CurrentListing,MATCH('Category Set A by Basis of Exit'!R171,CurrentListing,0),1)),25),AF171),HYPERLINK(\"#'Select LEA'!\"&\"$AA$10\",AF171))","v":""},{"$f":"IFERROR(HYPERLINK(\"#'Select LEA'!\"&ADDRESS(ROW(INDEX(CurrentListing,MATCH('Category Set A by Basis of Exit'!S171,CurrentListing,0),1)),25),AG171),HYPERLINK(\"#'Select LEA'!\"&\"$AA$10\",AG171))","v":""},{"$f":"IFERROR(HYPERLINK(\"#'Select LEA'!\"&ADDRESS(ROW(INDEX(CurrentListing,MATCH('Category Set A by Basis of Exit'!T171,CurrentListing,0),1)),25),AH171),HYPERLINK(\"#'Select LEA'!\"&\"$AA$10\",AH171))","v":""},{"$f":"IFERROR(HYPERLINK(\"#'Select LEA'!\"&ADDRESS(ROW(INDEX(CurrentListing,MATCH('Category Set A by Basis of Exit'!U171,CurrentListing,0),1)),25),AI171),HYPERLINK(\"#'Select LEA'!\"&\"$AA$10\",AI171))","v":""},{"$f":"IFERROR(HYPERLINK(\"#'Select LEA'!\"&ADDRESS(ROW(INDEX(CurrentListing,MATCH('Category Set A by Basis of Exit'!V171,CurrentListing,0),1)),25),AJ171),HYPERLINK(\"#'Select LEA'!\"&\"$AA$10\",AJ171))","v":""},{"$f":"IFERROR(HYPERLINK(\"#'Select LEA'!\"&ADDRESS(ROW(INDEX(CurrentListing,MATCH('Category Set A by Basis of Exit'!W171,CurrentListing,0),1)),25),AK171),HYPERLINK(\"#'Select LEA'!\"&\"$AA$10\",AK171))","v":""},{"$f":"IFERROR(HYPERLINK(\"#'Select LEA'!\"&ADDRESS(ROW(INDEX(CurrentListing,MATCH('Category Set A by Basis of Exit'!X171,CurrentListing,0),1)),25),AL171),HYPERLINK(\"#'Select LEA'!\"&\"$AA$10\",AL171))","v":""},{"$f":"IFERROR(HYPERLINK(\"#'Select LEA'!\"&ADDRESS(ROW(INDEX(CurrentListing,MATCH('Category Set A by Basis of Exit'!Y171,CurrentListing,0),1)),25),AM171),HYPERLINK(\"#'Select LEA'!\"&\"$AA$10\",AM171))","v":""},{"$f":"IFERROR(HYPERLINK(\"#'Select LEA'!\"&ADDRESS(ROW(INDEX(CurrentListing,MATCH('Category Set A by Basis of Exit'!Z171,CurrentListing,0),1)),25),AN171),HYPERLINK(\"#'Select LEA'!\"&\"$AA$10\",AN171))","v":""},{"$f":"IFERROR(HYPERLINK(\"#'Select LEA'!\"&ADDRESS(ROW(INDEX(CurrentListing,MATCH('Category Set A by Basis of Exit'!AA171,CurrentListing,0),1)),25),AO171),HYPERLINK(\"#'Select LEA'!\"&\"$AA$10\",AO171))","v":""},{"$f":"IFERROR(HYPERLINK(\"#'Select LEA'!\"&ADDRESS(ROW(INDEX(CurrentListing,MATCH('Category Set A by Basis of Exit'!AB171,CurrentListing,0),1)),25),AP171),HYPERLINK(\"#'Select LEA'!\"&\"$AA$10\",AP171))","v":""},0,null,null,"ID16MKCN","HI16MKCN","SLI16MKCN","VI16MKCN","EMN16MKCN","OI16MKCN","OHI16MKCN","SLD16MKCN","DB16MKCN","MD16MKCN","AUT16MKCN","TBI16MKCN",null,16,"","","","","","","","","","","","",0]
[17,{"$f":"IFERROR(HYPERLINK(\"#'Select LEA'!\"&ADDRESS(ROW(INDEX(CurrentListing,MATCH('Category Set A by Basis of Exit'!Q172,CurrentListing,0),1)),25),AE172),HYPERLINK(\"#'Select LEA'!\"&\"$AA$10\",AE172))","v":""},{"$f":"IFERROR(HYPERLINK(\"#'Select LEA'!\"&ADDRESS(ROW(INDEX(CurrentListing,MATCH('Category Set A by Basis of Exit'!R172,CurrentListing,0),1)),25),AF172),HYPERLINK(\"#'Select LEA'!\"&\"$AA$10\",AF172))","v":""},{"$f":"IFERROR(HYPERLINK(\"#'Select LEA'!\"&ADDRESS(ROW(INDEX(CurrentListing,MATCH('Category Set A by Basis of Exit'!S172,CurrentListing,0),1)),25),AG172),HYPERLINK(\"#'Select LEA'!\"&\"$AA$10\",AG172))","v":""},{"$f":"IFERROR(HYPERLINK(\"#'Select LEA'!\"&ADDRESS(ROW(INDEX(CurrentListing,MATCH('Category Set A by Basis of Exit'!T172,CurrentListing,0),1)),25),AH172),HYPERLINK(\"#'Select LEA'!\"&\"$AA$10\",AH172))","v":""},{"$f":"IFERROR(HYPERLINK(\"#'Select LEA'!\"&ADDRESS(ROW(INDEX(CurrentListing,MATCH('Category Set A by Basis of Exit'!U172,CurrentListing,0),1)),25),AI172),HYPERLINK(\"#'Select LEA'!\"&\"$AA$10\",AI172))","v":""},{"$f":"IFERROR(HYPERLINK(\"#'Select LEA'!\"&ADDRESS(ROW(INDEX(CurrentListing,MATCH('Category Set A by Basis of Exit'!V172,CurrentListing,0),1)),25),AJ172),HYPERLINK(\"#'Select LEA'!\"&\"$AA$10\",AJ172))","v":""},{"$f":"IFERROR(HYPERLINK(\"#'Select LEA'!\"&ADDRESS(ROW(INDEX(CurrentListing,MATCH('Category Set A by Basis of Exit'!W172,CurrentListing,0),1)),25),AK172),HYPERLINK(\"#'Select LEA'!\"&\"$AA$10\",AK172))","v":""},{"$f":"IFERROR(HYPERLINK(\"#'Select LEA'!\"&ADDRESS(ROW(INDEX(CurrentListing,MATCH('Category Set A by Basis of Exit'!X172,CurrentListing,0),1)),25),AL172),HYPERLINK(\"#'Select LEA'!\"&\"$AA$10\",AL172))","v":""},{"$f":"IFERROR(HYPERLINK(\"#'Select LEA'!\"&ADDRESS(ROW(INDEX(CurrentListing,MATCH('Category Set A by Basis of Exit'!Y172,CurrentListing,0),1)),25),AM172),HYPERLINK(\"#'Select LEA'!\"&\"$AA$10\",AM172))","v":""},{"$f":"IFERROR(HYPERLINK(\"#'Select LEA'!\"&ADDRESS(ROW(INDEX(CurrentListing,MATCH('Category Set A by Basis of Exit'!Z172,CurrentListing,0),1)),25),AN172),HYPERLINK(\"#'Select LEA'!\"&\"$AA$10\",AN172))","v":""},{"$f":"IFERROR(HYPERLINK(\"#'Select LEA'!\"&ADDRESS(ROW(INDEX(CurrentListing,MATCH('Category Set A by Basis of Exit'!AA172,CurrentListing,0),1)),25),AO172),HYPERLINK(\"#'Select LEA'!\"&\"$AA$10\",AO172))","v":""},{"$f":"IFERROR(HYPERLINK(\"#'Select LEA'!\"&ADDRESS(ROW(INDEX(CurrentListing,MATCH('Category Set A by Basis of Exit'!AB172,CurrentListing,0),1)),25),AP172),HYPERLINK(\"#'Select LEA'!\"&\"$AA$10\",AP172))","v":""},0,null,null,"ID17MKCN","HI17MKCN","SLI17MKCN","VI17MKCN","EMN17MKCN","OI17MKCN","OHI17MKCN","SLD17MKCN","DB17MKCN","MD17MKCN","AUT17MKCN","TBI17MKCN",null,17,"","","","","","","","","","","","",0]
[18,{"$f":"IFERROR(HYPERLINK(\"#'Select LEA'!\"&ADDRESS(ROW(INDEX(CurrentListing,MATCH('Category Set A by Basis of Exit'!Q173,CurrentListing,0),1)),25),AE173),HYPERLINK(\"#'Select LEA'!\"&\"$AA$10\",AE173))","v":""},{"$f":"IFERROR(HYPERLINK(\"#'Select LEA'!\"&ADDRESS(ROW(INDEX(CurrentListing,MATCH('Category Set A by Basis of Exit'!R173,CurrentListing,0),1)),25),AF173),HYPERLINK(\"#'Select LEA'!\"&\"$AA$10\",AF173))","v":""},{"$f":"IFERROR(HYPERLINK(\"#'Select LEA'!\"&ADDRESS(ROW(INDEX(CurrentListing,MATCH('Category Set A by Basis of Exit'!S173,CurrentListing,0),1)),25),AG173),HYPERLINK(\"#'Select LEA'!\"&\"$AA$10\",AG173))","v":""},{"$f":"IFERROR(HYPERLINK(\"#'Select LEA'!\"&ADDRESS(ROW(INDEX(CurrentListing,MATCH('Category Set A by Basis of Exit'!T173,CurrentListing,0),1)),25),AH173),HYPERLINK(\"#'Select LEA'!\"&\"$AA$10\",AH173))","v":""},{"$f":"IFERROR(HYPERLINK(\"#'Select LEA'!\"&ADDRESS(ROW(INDEX(CurrentListing,MATCH('Category Set A by Basis of Exit'!U173,CurrentListing,0),1)),25),AI173),HYPERLINK(\"#'Select LEA'!\"&\"$AA$10\",AI173))","v":""},{"$f":"IFERROR(HYPERLINK(\"#'Select LEA'!\"&ADDRESS(ROW(INDEX(CurrentListing,MATCH('Category Set A by Basis of Exit'!V173,CurrentListing,0),1)),25),AJ173),HYPERLINK(\"#'Select LEA'!\"&\"$AA$10\",AJ173))","v":""},{"$f":"IFERROR(HYPERLINK(\"#'Select LEA'!\"&ADDRESS(ROW(INDEX(CurrentListing,MATCH('Category Set A by Basis of Exit'!W173,CurrentListing,0),1)),25),AK173),HYPERLINK(\"#'Select LEA'!\"&\"$AA$10\",AK173))","v":""},{"$f":"IFERROR(HYPERLINK(\"#'Select LEA'!\"&ADDRESS(ROW(INDEX(CurrentListing,MATCH('Category Set A by Basis of Exit'!X173,CurrentListing,0),1)),25),AL173),HYPERLINK(\"#'Select LEA'!\"&\"$AA$10\",AL173))","v":""},{"$f":"IFERROR(HYPERLINK(\"#'Select LEA'!\"&ADDRESS(ROW(INDEX(CurrentListing,MATCH('Category Set A by Basis of Exit'!Y173,CurrentListing,0),1)),25),AM173),HYPERLINK(\"#'Select LEA'!\"&\"$AA$10\",AM173))","v":""},{"$f":"IFERROR(HYPERLINK(\"#'Select LEA'!\"&ADDRESS(ROW(INDEX(CurrentListing,MATCH('Category Set A by Basis of Exit'!Z173,CurrentListing,0),1)),25),AN173),HYPERLINK(\"#'Select LEA'!\"&\"$AA$10\",AN173))","v":""},{"$f":"IFERROR(HYPERLINK(\"#'Select LEA'!\"&ADDRESS(ROW(INDEX(CurrentListing,MATCH('Category Set A by Basis of Exit'!AA173,CurrentListing,0),1)),25),AO173),HYPERLINK(\"#'Select LEA'!\"&\"$AA$10\",AO173))","v":""},{"$f":"IFERROR(HYPERLINK(\"#'Select LEA'!\"&ADDRESS(ROW(INDEX(CurrentListing,MATCH('Category Set A by Basis of Exit'!AB173,CurrentListing,0),1)),25),AP173),HYPERLINK(\"#'Select LEA'!\"&\"$AA$10\",AP173))","v":""},0,null,null,"ID18MKCN","HI18MKCN","SLI18MKCN","VI18MKCN","EMN18MKCN","OI18MKCN","OHI18MKCN","SLD18MKCN","DB18MKCN","MD18MKCN","AUT18MKCN","TBI18MKCN",null,18,"","","","","","","","","","","","",0]
[19,{"$f":"IFERROR(HYPERLINK(\"#'Select LEA'!\"&ADDRESS(ROW(INDEX(CurrentListing,MATCH('Category Set A by Basis of Exit'!Q174,CurrentListing,0),1)),25),AE174),HYPERLINK(\"#'Select LEA'!\"&\"$AA$10\",AE174))","v":""},{"$f":"IFERROR(HYPERLINK(\"#'Select LEA'!\"&ADDRESS(ROW(INDEX(CurrentListing,MATCH('Category Set A by Basis of Exit'!R174,CurrentListing,0),1)),25),AF174),HYPERLINK(\"#'Select LEA'!\"&\"$AA$10\",AF174))","v":""},{"$f":"IFERROR(HYPERLINK(\"#'Select LEA'!\"&ADDRESS(ROW(INDEX(CurrentListing,MATCH('Category Set A by Basis of Exit'!S174,CurrentListing,0),1)),25),AG174),HYPERLINK(\"#'Select LEA'!\"&\"$AA$10\",AG174))","v":""},{"$f":"IFERROR(HYPERLINK(\"#'Select LEA'!\"&ADDRESS(ROW(INDEX(CurrentListing,MATCH('Category Set A by Basis of Exit'!T174,CurrentListing,0),1)),25),AH174),HYPERLINK(\"#'Select LEA'!\"&\"$AA$10\",AH174))","v":""},{"$f":"IFERROR(HYPERLINK(\"#'Select LEA'!\"&ADDRESS(ROW(INDEX(CurrentListing,MATCH('Category Set A by Basis of Exit'!U174,CurrentListing,0),1)),25),AI174),HYPERLINK(\"#'Select LEA'!\"&\"$AA$10\",AI174))","v":""},{"$f":"IFERROR(HYPERLINK(\"#'Select LEA'!\"&ADDRESS(ROW(INDEX(CurrentListing,MATCH('Category Set A by Basis of Exit'!V174,CurrentListing,0),1)),25),AJ174),HYPERLINK(\"#'Select LEA'!\"&\"$AA$10\",AJ174))","v":""},{"$f":"IFERROR(HYPERLINK(\"#'Select LEA'!\"&ADDRESS(ROW(INDEX(CurrentListing,MATCH('Category Set A by Basis of Exit'!W174,CurrentListing,0),1)),25),AK174),HYPERLINK(\"#'Select LEA'!\"&\"$AA$10\",AK174))","v":""},{"$f":"IFERROR(HYPERLINK(\"#'Select LEA'!\"&ADDRESS(ROW(INDEX(CurrentListing,MATCH('Category Set A by Basis of Exit'!X174,CurrentListing,0),1)),25),AL174),HYPERLINK(\"#'Select LEA'!\"&\"$AA$10\",AL174))","v":""},{"$f":"IFERROR(HYPERLINK(\"#'Select LEA'!\"&ADDRESS(ROW(INDEX(CurrentListing,MATCH('Category Set A by Basis of Exit'!Y174,CurrentListing,0),1)),25),AM174),HYPERLINK(\"#'Select LEA'!\"&\"$AA$10\",AM174))","v":""},{"$f":"IFERROR(HYPERLINK(\"#'Select LEA'!\"&ADDRESS(ROW(INDEX(CurrentListing,MATCH('Category Set A by Basis of Exit'!Z174,CurrentListing,0),1)),25),AN174),HYPERLINK(\"#'Select LEA'!\"&\"$AA$10\",AN174))","v":""},{"$f":"IFERROR(HYPERLINK(\"#'Select LEA'!\"&ADDRESS(ROW(INDEX(CurrentListing,MATCH('Category Set A by Basis of Exit'!AA174,CurrentListing,0),1)),25),AO174),HYPERLINK(\"#'Select LEA'!\"&\"$AA$10\",AO174))","v":""},{"$f":"IFERROR(HYPERLINK(\"#'Select LEA'!\"&ADDRESS(ROW(INDEX(CurrentListing,MATCH('Category Set A by Basis of Exit'!AB174,CurrentListing,0),1)),25),AP174),HYPERLINK(\"#'Select LEA'!\"&\"$AA$10\",AP174))","v":""},0,null,null,"ID19MKCN","HI19MKCN","SLI19MKCN","VI19MKCN","EMN19MKCN","OI19MKCN","OHI19MKCN","SLD19MKCN","DB19MKCN","MD19MKCN","AUT19MKCN","TBI19MKCN",null,19,"","","","","","","","","","","","",0]
[20,{"$f":"IFERROR(HYPERLINK(\"#'Select LEA'!\"&ADDRESS(ROW(INDEX(CurrentListing,MATCH('Category Set A by Basis of Exit'!Q175,CurrentListing,0),1)),25),AE175),HYPERLINK(\"#'Select LEA'!\"&\"$AA$10\",AE175))","v":""},{"$f":"IFERROR(HYPERLINK(\"#'Select LEA'!\"&ADDRESS(ROW(INDEX(CurrentListing,MATCH('Category Set A by Basis of Exit'!R175,CurrentListing,0),1)),25),AF175),HYPERLINK(\"#'Select LEA'!\"&\"$AA$10\",AF175))","v":""},{"$f":"IFERROR(HYPERLINK(\"#'Select LEA'!\"&ADDRESS(ROW(INDEX(CurrentListing,MATCH('Category Set A by Basis of Exit'!S175,CurrentListing,0),1)),25),AG175),HYPERLINK(\"#'Select LEA'!\"&\"$AA$10\",AG175))","v":""},{"$f":"IFERROR(HYPERLINK(\"#'Select LEA'!\"&ADDRESS(ROW(INDEX(CurrentListing,MATCH('Category Set A by Basis of Exit'!T175,CurrentListing,0),1)),25),AH175),HYPERLINK(\"#'Select LEA'!\"&\"$AA$10\",AH175))","v":""},{"$f":"IFERROR(HYPERLINK(\"#'Select LEA'!\"&ADDRESS(ROW(INDEX(CurrentListing,MATCH('Category Set A by Basis of Exit'!U175,CurrentListing,0),1)),25),AI175),HYPERLINK(\"#'Select LEA'!\"&\"$AA$10\",AI175))","v":""},{"$f":"IFERROR(HYPERLINK(\"#'Select LEA'!\"&ADDRESS(ROW(INDEX(CurrentListing,MATCH('Category Set A by Basis of Exit'!V175,CurrentListing,0),1)),25),AJ175),HYPERLINK(\"#'Select LEA'!\"&\"$AA$10\",AJ175))","v":""},{"$f":"IFERROR(HYPERLINK(\"#'Select LEA'!\"&ADDRESS(ROW(INDEX(CurrentListing,MATCH('Category Set A by Basis of Exit'!W175,CurrentListing,0),1)),25),AK175),HYPERLINK(\"#'Select LEA'!\"&\"$AA$10\",AK175))","v":""},{"$f":"IFERROR(HYPERLINK(\"#'Select LEA'!\"&ADDRESS(ROW(INDEX(CurrentListing,MATCH('Category Set A by Basis of Exit'!X175,CurrentListing,0),1)),25),AL175),HYPERLINK(\"#'Select LEA'!\"&\"$AA$10\",AL175))","v":""},{"$f":"IFERROR(HYPERLINK(\"#'Select LEA'!\"&ADDRESS(ROW(INDEX(CurrentListing,MATCH('Category Set A by Basis of Exit'!Y175,CurrentListing,0),1)),25),AM175),HYPERLINK(\"#'Select LEA'!\"&\"$AA$10\",AM175))","v":""},{"$f":"IFERROR(HYPERLINK(\"#'Select LEA'!\"&ADDRESS(ROW(INDEX(CurrentListing,MATCH('Category Set A by Basis of Exit'!Z175,CurrentListing,0),1)),25),AN175),HYPERLINK(\"#'Select LEA'!\"&\"$AA$10\",AN175))","v":""},{"$f":"IFERROR(HYPERLINK(\"#'Select LEA'!\"&ADDRESS(ROW(INDEX(CurrentListing,MATCH('Category Set A by Basis of Exit'!AA175,CurrentListing,0),1)),25),AO175),HYPERLINK(\"#'Select LEA'!\"&\"$AA$10\",AO175))","v":""},{"$f":"IFERROR(HYPERLINK(\"#'Select LEA'!\"&ADDRESS(ROW(INDEX(CurrentListing,MATCH('Category Set A by Basis of Exit'!AB175,CurrentListing,0),1)),25),AP175),HYPERLINK(\"#'Select LEA'!\"&\"$AA$10\",AP175))","v":""},0,null,null,"ID20MKCN","HI20MKCN","SLI20MKCN","VI20MKCN","EMN20MKCN","OI20MKCN","OHI20MKCN","SLD20MKCN","DB20MKCN","MD20MKCN","AUT20MKCN","TBI20MKCN",null,20,"","","","","","","","","","","","",0]
[21,{"$f":"IFERROR(HYPERLINK(\"#'Select LEA'!\"&ADDRESS(ROW(INDEX(CurrentListing,MATCH('Category Set A by Basis of Exit'!Q176,CurrentListing,0),1)),25),AE176),HYPERLINK(\"#'Select LEA'!\"&\"$AA$10\",AE176))","v":""},{"$f":"IFERROR(HYPERLINK(\"#'Select LEA'!\"&ADDRESS(ROW(INDEX(CurrentListing,MATCH('Category Set A by Basis of Exit'!R176,CurrentListing,0),1)),25),AF176),HYPERLINK(\"#'Select LEA'!\"&\"$AA$10\",AF176))","v":""},{"$f":"IFERROR(HYPERLINK(\"#'Select LEA'!\"&ADDRESS(ROW(INDEX(CurrentListing,MATCH('Category Set A by Basis of Exit'!S176,CurrentListing,0),1)),25),AG176),HYPERLINK(\"#'Select LEA'!\"&\"$AA$10\",AG176))","v":""},{"$f":"IFERROR(HYPERLINK(\"#'Select LEA'!\"&ADDRESS(ROW(INDEX(CurrentListing,MATCH('Category Set A by Basis of Exit'!T176,CurrentListing,0),1)),25),AH176),HYPERLINK(\"#'Select LEA'!\"&\"$AA$10\",AH176))","v":""},{"$f":"IFERROR(HYPERLINK(\"#'Select LEA'!\"&ADDRESS(ROW(INDEX(CurrentListing,MATCH('Category Set A by Basis of Exit'!U176,CurrentListing,0),1)),25),AI176),HYPERLINK(\"#'Select LEA'!\"&\"$AA$10\",AI176))","v":""},{"$f":"IFERROR(HYPERLINK(\"#'Select LEA'!\"&ADDRESS(ROW(INDEX(CurrentListing,MATCH('Category Set A by Basis of Exit'!V176,CurrentListing,0),1)),25),AJ176),HYPERLINK(\"#'Select LEA'!\"&\"$AA$10\",AJ176))","v":""},{"$f":"IFERROR(HYPERLINK(\"#'Select LEA'!\"&ADDRESS(ROW(INDEX(CurrentListing,MATCH('Category Set A by Basis of Exit'!W176,CurrentListing,0),1)),25),AK176),HYPERLINK(\"#'Select LEA'!\"&\"$AA$10\",AK176))","v":""},{"$f":"IFERROR(HYPERLINK(\"#'Select LEA'!\"&ADDRESS(ROW(INDEX(CurrentListing,MATCH('Category Set A by Basis of Exit'!X176,CurrentListing,0),1)),25),AL176),HYPERLINK(\"#'Select LEA'!\"&\"$AA$10\",AL176))","v":""},{"$f":"IFERROR(HYPERLINK(\"#'Select LEA'!\"&ADDRESS(ROW(INDEX(CurrentListing,MATCH('Category Set A by Basis of Exit'!Y176,CurrentListing,0),1)),25),AM176),HYPERLINK(\"#'Select LEA'!\"&\"$AA$10\",AM176))","v":""},{"$f":"IFERROR(HYPERLINK(\"#'Select LEA'!\"&ADDRESS(ROW(INDEX(CurrentListing,MATCH('Category Set A by Basis of Exit'!Z176,CurrentListing,0),1)),25),AN176),HYPERLINK(\"#'Select LEA'!\"&\"$AA$10\",AN176))","v":""},{"$f":"IFERROR(HYPERLINK(\"#'Select LEA'!\"&ADDRESS(ROW(INDEX(CurrentListing,MATCH('Category Set A by Basis of Exit'!AA176,CurrentListing,0),1)),25),AO176),HYPERLINK(\"#'Select LEA'!\"&\"$AA$10\",AO176))","v":""},{"$f":"IFERROR(HYPERLINK(\"#'Select LEA'!\"&ADDRESS(ROW(INDEX(CurrentListing,MATCH('Category Set A by Basis of Exit'!AB176,CurrentListing,0),1)),25),AP176),HYPERLINK(\"#'Select LEA'!\"&\"$AA$10\",AP176))","v":""},0,null,null,"ID21MKCN","HI21MKCN","SLI21MKCN","VI21MKCN","EMN21MKCN","OI21MKCN","OHI21MKCN","SLD21MKCN","DB21MKCN","MD21MKCN","AUT21MKCN","TBI21MKCN",null,21,"","","","","","","","","","","","",0]
["Total",{"$f":"IF(SUM(B169:B176)>=0, SUM(B169:B176), \"\")","v":0},{"$f":"IF(SUM(C169:C176)>=0, SUM(C169:C176), \"\")","v":0},0,0,0,0,0,0,0,0,0,0,{"$f":"IF(AND(N4=\"MC\",N5=\"MC\",N6=\"MC\",N7=\"MC\",N8=\"MC\",N9=\"MC\",N10=\"MC\",N11=\"MC\", N14=\"MC\"),\"\",SUM(B169:M176))","v":0},null,null,null,null,null,null,null,null,null,null,null,null,null,null,"MKCY","Total",{"$f":"SUM(AE169:AE176)","v":0},{"$f":"SUM(AF169:AF176)","v":0},0,0,0,0,0,0,0,0,0,0,{"$f":"IFERROR(IF(INDEX(StudCntC009,MATCH(AC177,CurrentListing,0))=\"\",\"No Data\",INDEX(StudCntC009,MATCH(AC177,CurrentListing,0))),\"\")","v":""}]
[]
["Percent by age","Moved, known to be continuing"]
[null,"Intellectual\ndisability\n(percent)","Hearing\nimpairment\n(percent)","Speech or\nlanguage\nimpairment\n(percent)","Visual\nimpairment\n(percent)","Emotional\ndisturbance\n(percent)","Orthopedic\nimpairment\n(percent)","Other\nhealth\nimpairment\n(percent)","Specific\nlearning\ndisability\n(percent)","Deaf-\nblindness\n(percent)","Multiple\ndisabilities\n(percent)","Autism\n(Percent)","Traumatic\nbrain\ninjury\n(percent)","Total\n(percent)"]
[14,{"$f":"IF(ISERROR(B169/$N169),IF(B169=\"MC\", \"\",0), B169/$N169)","v":0},{"$f":"IF(ISERROR(C169/$N169),IF(C169=\"MC\", \"\",0), C169/$N169)","v":0},0,0,0,0,0,0,0,0,0,0,{"$f":"IF(SUM(B181:M181), SUM(B181:M181),\"\")","v":""}]
[15,{"$f":"IF(ISERROR(B170/$N170),IF(B170=\"MC\", \"\",0), B170/$N170)","v":0},0,0,0,0,0,0,0,0,0,0,0,{"$f":"IF(SUM(B182:M182), SUM(B182:M182),\"\")","v":""}]
[16,{"$f":"IF(ISERROR(B171/$N171),IF(B171=\"MC\", \"\",0), B171/$N171)","v":0},0,0,0,0,0,0,0,0,0,0,0,""]
[17,{"$f":"IF(ISERROR(B172/$N172),IF(B172=\"MC\", \"\",0), B172/$N172)","v":0},0,0,0,0,0,0,0,0,0,0,0,""]
[18,{"$f":"IF(ISERROR(B173/$N173),IF(B173=\"MC\", \"\",0), B173/$N173)","v":0},0,0,0,0,0,0,0,0,0,0,0,""]
[19,{"$f":"IF(ISERROR(B174/$N174),IF(B174=\"MC\", \"\",0), B174/$N174)","v":0},0,0,0,0,0,0,0,0,0,0,0,""]
[20,{"$f":"IF(ISERROR(B175/$N175),IF(B175=\"MC\", \"\",0), B175/$N175)","v":0},{"$f":"IF(ISERROR(C175/$N175),IF(C175=\"MC\", \"\",0), C175/$N175)","v":0},0,0,0,0,0,0,0,0,0,0,{"$f":"SUM(B187:M187)","v":0}]
[21,{"$f":"IF(ISERROR(B176/$N176),IF(B176=\"MC\", \"\",0), B176/$N176)","v":0},{"$f":"IF(ISERROR(C176/$N176),IF(C176=\"MC\", \"\",0), C176/$N176)","v":0},0,0,0,0,0,0,0,0,0,0,{"$f":"SUM(B188:M188)","v":0}]
["Total",{"$f":"IFERROR(IF($N177<>0,B177/$N177,0),\"\")","v":0},{"$f":"IFERROR(IF($N177<>0,C177/$N177,0),\"\")","v":0},0,0,0,0,0,0,0,0,0,0,""]
[]
["Category set A – Children with disabilities (IDEA) exiting special education, by basis of exit, disability category, and age",null,null,null,null,null,null,null,null,null,null,null,null,null,null,null,"Dropped out"]
["Student count by age","Dropped out",null,null,null,null,null,null,null,null,null,null,null,null,null,null,null,null,null,null,null,null,null,null,null,null,null,null,null,"Student counts by age",{"$f":"B192","v":"Dropped out"}]
[null,"Intellectual\ndisability","Hearing\nimpairment","Speech or\nlanguage\nimpairment","Visual\nimpairment","Emotional\ndisturbance","Orthopedic\nimpairment","Other\nhealth\nimpairment","Specific\nlearning\ndisability","Deaf-\nblindness","Multiple\ndisabilities","Autism","Traumatic\nbrain\ninjury","Total",null,null,null,null,null,null,null,null,null,null,null,null,null,null,null,null,"Intellectual\nDisability","Hearing\nImpairments","Speech or\nLanguage\nImpairments","Visual\nImpairments","Emotional\nDisturbance","Orthopedic\nImpairments","Other\nHealth\nImpairments","Specific\nLearning\nDisabilities","Deaf-\nBlindness","Multiple\nDisabilities","Autism","Traumatic\nBrain\nInjury","Total"]
[14,{"$f":"IFERROR(HYPERLINK(\"#'Select LEA'!\"&ADDRESS(ROW(INDEX(CurrentListing,MATCH('Category Set A by Basis of Exit'!Q194,CurrentListing,0),1)),25),AE194),HYPERLINK(\"#'Select LEA'!\"&\"$AA$10\",AE194))","v":""},{"$f":"IFERROR(HYPERLINK(\"#'Select LEA'!\"&ADDRESS(ROW(INDEX(CurrentListing,MATCH('Category Set A by Basis of Exit'!R194,CurrentListing,0),1)),25),AF194),HYPERLINK(\"#'Select LEA'!\"&\"$AA$10\",AF194))","v":""},{"$f":"IFERROR(HYPERLINK(\"#'Select LEA'!\"&ADDRESS(ROW(INDEX(CurrentListing,MATCH('Category Set A by Basis of Exit'!S194,CurrentListing,0),1)),25),AG194),HYPERLINK(\"#'Select LEA'!\"&\"$AA$10\",AG194))","v":""},{"$f":"IFERROR(HYPERLINK(\"#'Select LEA'!\"&ADDRESS(ROW(INDEX(CurrentListing,MATCH('Category Set A by Basis of Exit'!T194,CurrentListing,0),1)),25),AH194),HYPERLINK(\"#'Select LEA'!\"&\"$AA$10\",AH194))","v":""},{"$f":"IFERROR(HYPERLINK(\"#'Select LEA'!\"&ADDRESS(ROW(INDEX(CurrentListing,MATCH('Category Set A by Basis of Exit'!U194,CurrentListing,0),1)),25),AI194),HYPERLINK(\"#'Select LEA'!\"&\"$AA$10\",AI194))","v":""},{"$f":"IFERROR(HYPERLINK(\"#'Select LEA'!\"&ADDRESS(ROW(INDEX(CurrentListing,MATCH('Category Set A by Basis of Exit'!V194,CurrentListing,0),1)),25),AJ194),HYPERLINK(\"#'Select LEA'!\"&\"$AA$10\",AJ194))","v":""},{"$f":"IFERROR(HYPERLINK(\"#'Select LEA'!\"&ADDRESS(ROW(INDEX(CurrentListing,MATCH('Category Set A by Basis of Exit'!W194,CurrentListing,0),1)),25),AK194),HYPERLINK(\"#'Select LEA'!\"&\"$AA$10\",AK194))","v":""},{"$f":"IFERROR(HYPERLINK(\"#'Select LEA'!\"&ADDRESS(ROW(INDEX(CurrentListing,MATCH('Category Set A by Basis of Exit'!X194,CurrentListing,0),1)),25),AL194),HYPERLINK(\"#'Select LEA'!\"&\"$AA$10\",AL194))","v":""},{"$f":"IFERROR(HYPERLINK(\"#'Select LEA'!\"&ADDRESS(ROW(INDEX(CurrentListing,MATCH('Category Set A by Basis of Exit'!Y194,CurrentListing,0),1)),25),AM194),HYPERLINK(\"#'Select LEA'!\"&\"$AA$10\",AM194))","v":""},{"$f":"IFERROR(HYPERLINK(\"#'Select LEA'!\"&ADDRESS(ROW(INDEX(CurrentListing,MATCH('Category Set A by Basis of Exit'!Z194,CurrentListing,0),1)),25),AN194),HYPERLINK(\"#'Select LEA'!\"&\"$AA$10\",AN194))","v":""},{"$f":"IFERROR(HYPERLINK(\"#'Select LEA'!\"&ADDRESS(ROW(INDEX(CurrentListing,MATCH('Category Set A by Basis of Exit'!AA194,CurrentListing,0),1)),25),AO194),HYPERLINK(\"#'Select LEA'!\"&\"$AA$10\",AO194))","v":""},{"$f":"IFERROR(HYPERLINK(\"#'Select LEA'!\"&ADDRESS(ROW(INDEX(CurrentListing,MATCH('Category Set A by Basis of Exit'!AB194,CurrentListing,0),1)),25),AP194),HYPERLINK(\"#'Select LEA'!\"&\"$AA$10\",AP194))","v":""},{"$f":"IF(SUM(B194:M194)>=0, SUM(B194:M194), \"\")","v":0},null,null,"ID14DROPOUTN","HI14DROPOUTN","SLI14DROPOUTN","VI14DROPOUTN","EMN14DROPOUTN","OI14DROPOUTN","OHI14DROPOUTN","SLD14DROPOUTN","DB14DROPOUTN","MD14DROPOUTN","AUT14DROPOUTN","TBI14DROPOUTN",null,14,{"$f":"IFERROR(IF(INDEX(StudCntC009,MATCH(Q194,CurrentListing,0))=\"\",\"No Data\",INDEX(StudCntC009,MATCH(Q194,CurrentListing,0))),\"\")","v":""},"","","","","","","","","","","",{"$f":"SUM(AE194:AP194)","v":0}]
[15,{"$f":"IFERROR(HYPERLINK(\"#'Select LEA'!\"&ADDRESS(ROW(INDEX(CurrentListing,MATCH('Category Set A by Basis of Exit'!Q195,CurrentListing,0),1)),25),AE195),HYPERLINK(\"#'Select LEA'!\"&\"$AA$10\",AE195))","v":""},{"$f":"IFERROR(HYPERLINK(\"#'Select LEA'!\"&ADDRESS(ROW(INDEX(CurrentListing,MATCH('Category Set A by Basis of Exit'!R195,CurrentListing,0),1)),25),AF195),HYPERLINK(\"#'Select LEA'!\"&\"$AA$10\",AF195))","v":""},{"$f":"IFERROR(HYPERLINK(\"#'Select LEA'!\"&ADDRESS(ROW(INDEX(CurrentListing,MATCH('Category Set A by Basis of Exit'!S195,CurrentListing,0),1)),25),AG195),HYPERLINK(\"#'Select LEA'!\"&\"$AA$10\",AG195))","v":""},{"$f":"IFERROR(HYPERLINK(\"#'Select LEA'!\"&ADDRESS(ROW(INDEX(CurrentListing,MATCH('Category Set A by Basis of Exit'!T195,CurrentListing,0),1)),25),AH195),HYPERLINK(\"#'Select LEA'!\"&\"$AA$10\",AH195))","v":""},{"$f":"IFERROR(HYPERLINK(\"#'Select LEA'!\"&ADDRESS(ROW(INDEX(CurrentListing,MATCH('Category Set A by Basis of Exit'!U195,CurrentListing,0),1)),25),AI195),HYPERLINK(\"#'Select LEA'!\"&\"$AA$10\",AI195))","v":""},{"$f":"IFERROR(HYPERLINK(\"#'Select LEA'!\"&ADDRESS(ROW(INDEX(CurrentListing,MATCH('Category Set A by Basis of Exit'!V195,CurrentListing,0),1)),25),AJ195),HYPERLINK(\"#'Select LEA'!\"&\"$AA$10\",AJ195))","v":""},{"$f":"IFERROR(HYPERLINK(\"#'Select LEA'!\"&ADDRESS(ROW(INDEX(CurrentListing,MATCH('Category Set A by Basis of Exit'!W195,CurrentListing,0),1)),25),AK195),HYPERLINK(\"#'Select LEA'!\"&\"$AA$10\",AK195))","v":""},{"$f":"IFERROR(HYPERLINK(\"#'Select LEA'!\"&ADDRESS(ROW(INDEX(CurrentListing,MATCH('Category Set A by Basis of Exit'!X195,CurrentListing,0),1)),25),AL195),HYPERLINK(\"#'Select LEA'!\"&\"$AA$10\",AL195))","v":""},{"$f":"IFERROR(HYPERLINK(\"#'Select LEA'!\"&ADDRESS(ROW(INDEX(CurrentListing,MATCH('Category Set A by Basis of Exit'!Y195,CurrentListing,0),1)),25),AM195),HYPERLINK(\"#'Select LEA'!\"&\"$AA$10\",AM195))","v":""},{"$f":"IFERROR(HYPERLINK(\"#'Select LEA'!\"&ADDRESS(ROW(INDEX(CurrentListing,MATCH('Category Set A by Basis of Exit'!Z195,CurrentListing,0),1)),25),AN195),HYPERLINK(\"#'Select LEA'!\"&\"$AA$10\",AN195))","v":""},{"$f":"IFERROR(HYPERLINK(\"#'Select LEA'!\"&ADDRESS(ROW(INDEX(CurrentListing,MATCH('Category Set A by Basis of Exit'!AA195,CurrentListing,0),1)),25),AO195),HYPERLINK(\"#'Select LEA'!\"&\"$AA$10\",AO195))","v":""},{"$f":"IFERROR(HYPERLINK(\"#'Select LEA'!\"&ADDRESS(ROW(INDEX(CurrentListing,MATCH('Category Set A by Basis of Exit'!AB195,CurrentListing,0),1)),25),AP195),HYPERLINK(\"#'Select LEA'!\"&\"$AA$10\",AP195))","v":""},0,null,null,"ID15DROPOUTN","HI15DROPOUTN","SLI15DROPOUTN","VI15DROPOUTN","EMN15DROPOUTN","OI15DROPOUTN","OHI15DROPOUTN","SLD15DROPOUTN","DB15DROPOUTN","MD15DROPOUTN","AUT15DROPOUTN","TBI15DROPOUTN",null,15,"","","","","","","","","","","","",{"$f":"SUM(AE195:AP195)","v":0}]
[16,{"$f":"IFERROR(HYPERLINK(\"#'Select LEA'!\"&ADDRESS(ROW(INDEX(CurrentListing,MATCH('Category Set A by Basis of Exit'!Q196,CurrentListing,0),1)),25),AE196),HYPERLINK(\"#'Select LEA'!\"&\"$AA$10\",AE196))","v":""},{"$f":"IFERROR(HYPERLINK(\"#'Select LEA'!\"&ADDRESS(ROW(INDEX(CurrentListing,MATCH('Category Set A by Basis of Exit'!R196,CurrentListing,0),1)),25),AF196),HYPERLINK(\"#'Select LEA'!\"&\"$AA$10\",AF196))","v":""},{"$f":"IFERROR(HYPERLINK(\"#'Select LEA'!\"&ADDRESS(ROW(INDEX(CurrentListing,MATCH('Category Set A by Basis of Exit'!S196,CurrentListing,0),1)),25),AG196),HYPERLINK(\"#'Select LEA'!\"&\"$AA$10\",AG196))","v":""},{"$f":"IFERROR(HYPERLINK(\"#'Select LEA'!\"&ADDRESS(ROW(INDEX(CurrentListing,MATCH('Category Set A by Basis of Exit'!T196,CurrentListing,0),1)),25),AH196),HYPERLINK(\"#'Select LEA'!\"&\"$AA$10\",AH196))","v":""},{"$f":"IFERROR(HYPERLINK(\"#'Select LEA'!\"&ADDRESS(ROW(INDEX(CurrentListing,MATCH('Category Set A by Basis of Exit'!U196,CurrentListing,0),1)),25),AI196),HYPERLINK(\"#'Select LEA'!\"&\"$AA$10\",AI196))","v":""},{"$f":"IFERROR(HYPERLINK(\"#'Select LEA'!\"&ADDRESS(ROW(INDEX(CurrentListing,MATCH('Category Set A by Basis of Exit'!V196,CurrentListing,0),1)),25),AJ196),HYPERLINK(\"#'Select LEA'!\"&\"$AA$10\",AJ196))","v":""},{"$f":"IFERROR(HYPERLINK(\"#'Select LEA'!\"&ADDRESS(ROW(INDEX(CurrentListing,MATCH('Category Set A by Basis of Exit'!W196,CurrentListing,0),1)),25),AK196),HYPERLINK(\"#'Select LEA'!\"&\"$AA$10\",AK196))","v":""},{"$f":"IFERROR(HYPERLINK(\"#'Select LEA'!\"&ADDRESS(ROW(INDEX(CurrentListing,MATCH('Category Set A by Basis of Exit'!X196,CurrentListing,0),1)),25),AL196),HYPERLINK(\"#'Select LEA'!\"&\"$AA$10\",AL196))","v":""},{"$f":"IFERROR(HYPERLINK(\"#'Select LEA'!\"&ADDRESS(ROW(INDEX(CurrentListing,MATCH('Category Set A by Basis of Exit'!Y196,CurrentListing,0),1)),25),AM196),HYPERLINK(\"#'Select LEA'!\"&\"$AA$10\",AM196))","v":""},{"$f":"IFERROR(HYPERLINK(\"#'Select LEA'!\"&ADDRESS(ROW(INDEX(CurrentListing,MATCH('Category Set A by Basis of Exit'!Z196,CurrentListing,0),1)),25),AN196),HYPERLINK(\"#'Select LEA'!\"&\"$AA$10\",AN196))","v":""},{"$f":"IFERROR(HYPERLINK(\"#'Select LEA'!\"&ADDRESS(ROW(INDEX(CurrentListing,MATCH('Category Set A by Basis of Exit'!AA196,CurrentListing,0),1)),25),AO196),HYPERLINK(\"#'Select LEA'!\"&\"$AA$10\",AO196))","v":""},{"$f":"IFERROR(HYPERLINK(\"#'Select LEA'!\"&ADDRESS(ROW(INDEX(CurrentListing,MATCH('Category Set A by Basis of Exit'!AB196,CurrentListing,0),1)),25),AP196),HYPERLINK(\"#'Select LEA'!\"&\"$AA$10\",AP196))","v":""},0,null,null,"ID16DROPOUTN","HI16DROPOUTN","SLI16DROPOUTN","VI16DROPOUTN","EMN16DROPOUTN","OI16DROPOUTN","OHI16DROPOUTN","SLD16DROPOUTN","DB16DROPOUTN","MD16DROPOUTN","AUT16DROPOUTN","TBI16DROPOUTN",null,16,"","","","","","","","","","","","",0]
[17,{"$f":"IFERROR(HYPERLINK(\"#'Select LEA'!\"&ADDRESS(ROW(INDEX(CurrentListing,MATCH('Category Set A by Basis of Exit'!Q197,CurrentListing,0),1)),25),AE197),HYPERLINK(\"#'Select LEA'!\"&\"$AA$10\",AE197))","v":""},{"$f":"IFERROR(HYPERLINK(\"#'Select LEA'!\"&ADDRESS(ROW(INDEX(CurrentListing,MATCH('Category Set A by Basis of Exit'!R197,CurrentListing,0),1)),25),AF197),HYPERLINK(\"#'Select LEA'!\"&\"$AA$10\",AF197))","v":""},{"$f":"IFERROR(HYPERLINK(\"#'Select LEA'!\"&ADDRESS(ROW(INDEX(CurrentListing,MATCH('Category Set A by Basis of Exit'!S197,CurrentListing,0),1)),25),AG197),HYPERLINK(\"#'Select LEA'!\"&\"$AA$10\",AG197))","v":""},{"$f":"IFERROR(HYPERLINK(\"#'Select LEA'!\"&ADDRESS(ROW(INDEX(CurrentListing,MATCH('Category Set A by Basis of Exit'!T197,CurrentListing,0),1)),25),AH197),HYPERLINK(\"#'Select LEA'!\"&\"$AA$10\",AH197))","v":""},{"$f":"IFERROR(HYPERLINK(\"#'Select LEA'!\"&ADDRESS(ROW(INDEX(CurrentListing,MATCH('Category Set A by Basis of Exit'!U197,CurrentListing,0),1)),25),AI197),HYPERLINK(\"#'Select LEA'!\"&\"$AA$10\",AI197))","v":""},{"$f":"IFERROR(HYPERLINK(\"#'Select LEA'!\"&ADDRESS(ROW(INDEX(CurrentListing,MATCH('Category Set A by Basis of Exit'!V197,CurrentListing,0),1)),25),AJ197),HYPERLINK(\"#'Select LEA'!\"&\"$AA$10\",AJ197))","v":""},{"$f":"IFERROR(HYPERLINK(\"#'Select LEA'!\"&ADDRESS(ROW(INDEX(CurrentListing,MATCH('Category Set A by Basis of Exit'!W197,CurrentListing,0),1)),25),AK197),HYPERLINK(\"#'Select LEA'!\"&\"$AA$10\",AK197))","v":""},{"$f":"IFERROR(HYPERLINK(\"#'Select LEA'!\"&ADDRESS(ROW(INDEX(CurrentListing,MATCH('Category Set A by Basis of Exit'!X197,CurrentListing,0),1)),25),AL197),HYPERLINK(\"#'Select LEA'!\"&\"$AA$10\",AL197))","v":""},{"$f":"IFERROR(HYPERLINK(\"#'Select LEA'!\"&ADDRESS(ROW(INDEX(CurrentListing,MATCH('Category Set A by Basis of Exit'!Y197,CurrentListing,0),1)),25),AM197),HYPERLINK(\"#'Select LEA'!\"&\"$AA$10\",AM197))","v":""},{"$f":"IFERROR(HYPERLINK(\"#'Select LEA'!\"&ADDRESS(ROW(INDEX(CurrentListing,MATCH('Category Set A by Basis of Exit'!Z197,CurrentListing,0),1)),25),AN197),HYPERLINK(\"#'Select LEA'!\"&\"$AA$10\",AN197))","v":""},{"$f":"IFERROR(HYPERLINK(\"#'Select LEA'!\"&ADDRESS(ROW(INDEX(CurrentListing,MATCH('Category Set A by Basis of Exit'!AA197,CurrentListing,0),1)),25),AO197),HYPERLINK(\"#'Select LEA'!\"&\"$AA$10\",AO197))","v":""},{"$f":"IFERROR(HYPERLINK(\"#'Select LEA'!\"&ADDRESS(ROW(INDEX(CurrentListing,MATCH('Category Set A by Basis of Exit'!AB197,CurrentListing,0),1)),25),AP197),HYPERLINK(\"#'Select LEA'!\"&\"$AA$10\",AP197))","v":""},0,null,null,"ID17DROPOUTN","HI17DROPOUTN","SLI17DROPOUTN","VI17DROPOUTN","EMN17DROPOUTN","OI17DROPOUTN","OHI17DROPOUTN","SLD17DROPOUTN","DB17DROPOUTN","MD17DROPOUTN","AUT17DROPOUTN","TBI17DROPOUTN",null,17,"","","","","","","","","","","","",0]
[18,{"$f":"IFERROR(HYPERLINK(\"#'Select LEA'!\"&ADDRESS(ROW(INDEX(CurrentListing,MATCH('Category Set A by Basis of Exit'!Q198,CurrentListing,0),1)),25),AE198),HYPERLINK(\"#'Select LEA'!\"&\"$AA$10\",AE198))","v":""},{"$f":"IFERROR(HYPERLINK(\"#'Select LEA'!\"&ADDRESS(ROW(INDEX(CurrentListing,MATCH('Category Set A by Basis of Exit'!R198,CurrentListing,0),1)),25),AF198),HYPERLINK(\"#'Select LEA'!\"&\"$AA$10\",AF198))","v":""},{"$f":"IFERROR(HYPERLINK(\"#'Select LEA'!\"&ADDRESS(ROW(INDEX(CurrentListing,MATCH('Category Set A by Basis of Exit'!S198,CurrentListing,0),1)),25),AG198),HYPERLINK(\"#'Select LEA'!\"&\"$AA$10\",AG198))","v":""},{"$f":"IFERROR(HYPERLINK(\"#'Select LEA'!\"&ADDRESS(ROW(INDEX(CurrentListing,MATCH('Category Set A by Basis of Exit'!T198,CurrentListing,0),1)),25),AH198),HYPERLINK(\"#'Select LEA'!\"&\"$AA$10\",AH198))","v":""},{"$f":"IFERROR(HYPERLINK(\"#'Select LEA'!\"&ADDRESS(ROW(INDEX(CurrentListing,MATCH('Category Set A by Basis of Exit'!U198,CurrentListing,0),1)),25),AI198),HYPERLINK(\"#'Select LEA'!\"&\"$AA$10\",AI198))","v":""},{"$f":"IFERROR(HYPERLINK(\"#'Select LEA'!\"&ADDRESS(ROW(INDEX(CurrentListing,MATCH('Category Set A by Basis of Exit'!V198,CurrentListing,0),1)),25),AJ198),HYPERLINK(\"#'Select LEA'!\"&\"$AA$10\",AJ198))","v":""},{"$f":"IFERROR(HYPERLINK(\"#'Select LEA'!\"&ADDRESS(ROW(INDEX(CurrentListing,MATCH('Category Set A by Basis of Exit'!W198,CurrentListing,0),1)),25),AK198),HYPERLINK(\"#'Select LEA'!\"&\"$AA$10\",AK198))","v":""},{"$f":"IFERROR(HYPERLINK(\"#'Select LEA'!\"&ADDRESS(ROW(INDEX(CurrentListing,MATCH('Category Set A by Basis of Exit'!X198,CurrentListing,0),1)),25),AL198),HYPERLINK(\"#'Select LEA'!\"&\"$AA$10\",AL198))","v":""},{"$f":"IFERROR(HYPERLINK(\"#'Select LEA'!\"&ADDRESS(ROW(INDEX(CurrentListing,MATCH('Category Set A by Basis of Exit'!Y198,CurrentListing,0),1)),25),AM198),HYPERLINK(\"#'Select LEA'!\"&\"$AA$10\",AM198))","v":""},{"$f":"IFERROR(HYPERLINK(\"#'Select LEA'!\"&ADDRESS(ROW(INDEX(CurrentListing,MATCH('Category Set A by Basis of Exit'!Z198,CurrentListing,0),1)),25),AN198),HYPERLINK(\"#'Select LEA'!\"&\"$AA$10\",AN198))","v":""},{"$f":"IFERROR(HYPERLINK(\"#'Select LEA'!\"&ADDRESS(ROW(INDEX(CurrentListing,MATCH('Category Set A by Basis of Exit'!AA198,CurrentListing,0),1)),25),AO198),HYPERLINK(\"#'Select LEA'!\"&\"$AA$10\",AO198))","v":""},{"$f":"IFERROR(HYPERLINK(\"#'Select LEA'!\"&ADDRESS(ROW(INDEX(CurrentListing,MATCH('Category Set A by Basis of Exit'!AB198,CurrentListing,0),1)),25),AP198),HYPERLINK(\"#'Select LEA'!\"&\"$AA$10\",AP198))","v":""},0,null,null,"ID18DROPOUTN","HI18DROPOUTN","SLI18DROPOUTN","VI18DROPOUTN","EMN18DROPOUTN","OI18DROPOUTN","OHI18DROPOUTN","SLD18DROPOUTN","DB18DROPOUTN","MD18DROPOUTN","AUT18DROPOUTN","TBI18DROPOUTN",null,18,"","","","","","","","","","","","",0]
[19,{"$f":"IFERROR(HYPERLINK(\"#'Select LEA'!\"&ADDRESS(ROW(INDEX(CurrentListing,MATCH('Category Set A by Basis of Exit'!Q199,CurrentListing,0),1)),25),AE199),HYPERLINK(\"#'Select LEA'!\"&\"$AA$10\",AE199))","v":""},{"$f":"IFERROR(HYPERLINK(\"#'Select LEA'!\"&ADDRESS(ROW(INDEX(CurrentListing,MATCH('Category Set A by Basis of Exit'!R199,CurrentListing,0),1)),25),AF199),HYPERLINK(\"#'Select LEA'!\"&\"$AA$10\",AF199))","v":""},{"$f":"IFERROR(HYPERLINK(\"#'Select LEA'!\"&ADDRESS(ROW(INDEX(CurrentListing,MATCH('Category Set A by Basis of Exit'!S199,CurrentListing,0),1)),25),AG199),HYPERLINK(\"#'Select LEA'!\"&\"$AA$10\",AG199))","v":""},{"$f":"IFERROR(HYPERLINK(\"#'Select LEA'!\"&ADDRESS(ROW(INDEX(CurrentListing,MATCH('Category Set A by Basis of Exit'!T199,CurrentListing,0),1)),25),AH199),HYPERLINK(\"#'Select LEA'!\"&\"$AA$10\",AH199))","v":""},{"$f":"IFERROR(HYPERLINK(\"#'Select LEA'!\"&ADDRESS(ROW(INDEX(CurrentListing,MATCH('Category Set A by Basis of Exit'!U199,CurrentListing,0),1)),25),AI199),HYPERLINK(\"#'Select LEA'!\"&\"$AA$10\",AI199))","v":""},{"$f":"IFERROR(HYPERLINK(\"#'Select LEA'!\"&ADDRESS(ROW(INDEX(CurrentListing,MATCH('Category Set A by Basis of Exit'!V199,CurrentListing,0),1)),25),AJ199),HYPERLINK(\"#'Select LEA'!\"&\"$AA$10\",AJ199))","v":""},{"$f":"IFERROR(HYPERLINK(\"#'Select LEA'!\"&ADDRESS(ROW(INDEX(CurrentListing,MATCH('Category Set A by Basis of Exit'!W199,CurrentListing,0),1)),25),AK199),HYPERLINK(\"#'Select LEA'!\"&\"$AA$10\",AK199))","v":""},{"$f":"IFERROR(HYPERLINK(\"#'Select LEA'!\"&ADDRESS(ROW(INDEX(CurrentListing,MATCH('Category Set A by Basis of Exit'!X199,CurrentListing,0),1)),25),AL199),HYPERLINK(\"#'Select LEA'!\"&\"$AA$10\",AL199))","v":""},{"$f":"IFERROR(HYPERLINK(\"#'Select LEA'!\"&ADDRESS(ROW(INDEX(CurrentListing,MATCH('Category Set A by Basis of Exit'!Y199,CurrentListing,0),1)),25),AM199),HYPERLINK(\"#'Select LEA'!\"&\"$AA$10\",AM199))","v":""},{"$f":"IFERROR(HYPERLINK(\"#'Select LEA'!\"&ADDRESS(ROW(INDEX(CurrentListing,MATCH('Category Set A by Basis of Exit'!Z199,CurrentListing,0),1)),25),AN199),HYPERLINK(\"#'Select LEA'!\"&\"$AA$10\",AN199))","v":""},{"$f":"IFERROR(HYPERLINK(\"#'Select LEA'!\"&ADDRESS(ROW(INDEX(CurrentListing,MATCH('Category Set A by Basis of Exit'!AA199,CurrentListing,0),1)),25),AO199),HYPERLINK(\"#'Select LEA'!\"&\"$AA$10\",AO199))","v":""},{"$f":"IFERROR(HYPERLINK(\"#'Select LEA'!\"&ADDRESS(ROW(INDEX(CurrentListing,MATCH('Category Set A by Basis of Exit'!AB199,CurrentListing,0),1)),25),AP199),HYPERLINK(\"#'Select LEA'!\"&\"$AA$10\",AP199))","v":""},0,null,null,"ID19DROPOUTN","HI19DROPOUTN","SLI19DROPOUTN","VI19DROPOUTN","EMN19DROPOUTN","OI19DROPOUTN","OHI19DROPOUTN","SLD19DROPOUTN","DB19DROPOUTN","MD19DROPOUTN","AUT19DROPOUTN","TBI19DROPOUTN",null,19,"","","","","","","","","","","","",0]
[20,{"$f":"IFERROR(HYPERLINK(\"#'Select LEA'!\"&ADDRESS(ROW(INDEX(CurrentListing,MATCH('Category Set A by Basis of Exit'!Q200,CurrentListing,0),1)),25),AE200),HYPERLINK(\"#'Select LEA'!\"&\"$AA$10\",AE200))","v":""},{"$f":"IFERROR(HYPERLINK(\"#'Select LEA'!\"&ADDRESS(ROW(INDEX(CurrentListing,MATCH('Category Set A by Basis of Exit'!R200,CurrentListing,0),1)),25),AF200),HYPERLINK(\"#'Select LEA'!\"&\"$AA$10\",AF200))","v":""},{"$f":"IFERROR(HYPERLINK(\"#'Select LEA'!\"&ADDRESS(ROW(INDEX(CurrentListing,MATCH('Category Set A by Basis of Exit'!S200,CurrentListing,0),1)),25),AG200),HYPERLINK(\"#'Select LEA'!\"&\"$AA$10\",AG200))","v":""},{"$f":"IFERROR(HYPERLINK(\"#'Select LEA'!\"&ADDRESS(ROW(INDEX(CurrentListing,MATCH('Category Set A by Basis of Exit'!T200,CurrentListing,0),1)),25),AH200),HYPERLINK(\"#'Select LEA'!\"&\"$AA$10\",AH200))","v":""},{"$f":"IFERROR(HYPERLINK(\"#'Select LEA'!\"&ADDRESS(ROW(INDEX(CurrentListing,MATCH('Category Set A by Basis of Exit'!U200,CurrentListing,0),1)),25),AI200),HYPERLINK(\"#'Select LEA'!\"&\"$AA$10\",AI200))","v":""},{"$f":"IFERROR(HYPERLINK(\"#'Select LEA'!\"&ADDRESS(ROW(INDEX(CurrentListing,MATCH('Category Set A by Basis of Exit'!V200,CurrentListing,0),1)),25),AJ200),HYPERLINK(\"#'Select LEA'!\"&\"$AA$10\",AJ200))","v":""},{"$f":"IFERROR(HYPERLINK(\"#'Select LEA'!\"&ADDRESS(ROW(INDEX(CurrentListing,MATCH('Category Set A by Basis of Exit'!W200,CurrentListing,0),1)),25),AK200),HYPERLINK(\"#'Select LEA'!\"&\"$AA$10\",AK200))","v":""},{"$f":"IFERROR(HYPERLINK(\"#'Select LEA'!\"&ADDRESS(ROW(INDEX(CurrentListing,MATCH('Category Set A by Basis of Exit'!X200,CurrentListing,0),1)),25),AL200),HYPERLINK(\"#'Select LEA'!\"&\"$AA$10\",AL200))","v":""},{"$f":"IFERROR(HYPERLINK(\"#'Select LEA'!\"&ADDRESS(ROW(INDEX(CurrentListing,MATCH('Category Set A by Basis of Exit'!Y200,CurrentListing,0),1)),25),AM200),HYPERLINK(\"#'Select LEA'!\"&\"$AA$10\",AM200))","v":""},{"$f":"IFERROR(HYPERLINK(\"#'Select LEA'!\"&ADDRESS(ROW(INDEX(CurrentListing,MATCH('Category Set A by Basis of Exit'!Z200,CurrentListing,0),1)),25),AN200),HYPERLINK(\"#'Select LEA'!\"&\"$AA$10\",AN200))","v":""},{"$f":"IFERROR(HYPERLINK(\"#'Select LEA'!\"&ADDRESS(ROW(INDEX(CurrentListing,MATCH('Category Set A by Basis of Exit'!AA200,CurrentListing,0),1)),25),AO200),HYPERLINK(\"#'Select LEA'!\"&\"$AA$10\",AO200))","v":""},{"$f":"IFERROR(HYPERLINK(\"#'Select LEA'!\"&ADDRESS(ROW(INDEX(CurrentListing,MATCH('Category Set A by Basis of Exit'!AB200,CurrentListing,0),1)),25),AP200),HYPERLINK(\"#'Select LEA'!\"&\"$AA$10\",AP200))","v":""},0,null,null,"ID20DROPOUTN","HI20DROPOUTN","SLI20DROPOUTN","VI20DROPOUTN","EMN20DROPOUTN","OI20DROPOUTN","OHI20DROPOUTN","SLD20DROPOUTN","DB20DROPOUTN","MD20DROPOUTN","AUT20DROPOUTN","TBI20DROPOUTN",null,20,"","","","","","","","","","","","",0]
[21,{"$f":"IFERROR(HYPERLINK(\"#'Select LEA'!\"&ADDRESS(ROW(INDEX(CurrentListing,MATCH('Category Set A by Basis of Exit'!Q201,CurrentListing,0),1)),25),AE201),HYPERLINK(\"#'Select LEA'!\"&\"$AA$10\",AE201))","v":""},{"$f":"IFERROR(HYPERLINK(\"#'Select LEA'!\"&ADDRESS(ROW(INDEX(CurrentListing,MATCH('Category Set A by Basis of Exit'!R201,CurrentListing,0),1)),25),AF201),HYPERLINK(\"#'Select LEA'!\"&\"$AA$10\",AF201))","v":""},{"$f":"IFERROR(HYPERLINK(\"#'Select LEA'!\"&ADDRESS(ROW(INDEX(CurrentListing,MATCH('Category Set A by Basis of Exit'!S201,CurrentListing,0),1)),25),AG201),HYPERLINK(\"#'Select LEA'!\"&\"$AA$10\",AG201))","v":""},{"$f":"IFERROR(HYPERLINK(\"#'Select LEA'!\"&ADDRESS(ROW(INDEX(CurrentListing,MATCH('Category Set A by Basis of Exit'!T201,CurrentListing,0),1)),25),AH201),HYPERLINK(\"#'Select LEA'!\"&\"$AA$10\",AH201))","v":""},{"$f":"IFERROR(HYPERLINK(\"#'Select LEA'!\"&ADDRESS(ROW(INDEX(CurrentListing,MATCH('Category Set A by Basis of Exit'!U201,CurrentListing,0),1)),25),AI201),HYPERLINK(\"#'Select LEA'!\"&\"$AA$10\",AI201))","v":""},{"$f":"IFERROR(HYPERLINK(\"#'Select LEA'!\"&ADDRESS(ROW(INDEX(CurrentListing,MATCH('Category Set A by Basis of Exit'!V201,CurrentListing,0),1)),25),AJ201),HYPERLINK(\"#'Select LEA'!\"&\"$AA$10\",AJ201))","v":""},{"$f":"IFERROR(HYPERLINK(\"#'Select LEA'!\"&ADDRESS(ROW(INDEX(CurrentListing,MATCH('Category Set A by Basis of Exit'!W201,CurrentListing,0),1)),25),AK201),HYPERLINK(\"#'Select LEA'!\"&\"$AA$10\",AK201))","v":""},{"$f":"IFERROR(HYPERLINK(\"#'Select LEA'!\"&ADDRESS(ROW(INDEX(CurrentListing,MATCH('Category Set A by Basis of Exit'!X201,CurrentListing,0),1)),25),AL201),HYPERLINK(\"#'Select LEA'!\"&\"$AA$10\",AL201))","v":""},{"$f":"IFERROR(HYPERLINK(\"#'Select LEA'!\"&ADDRESS(ROW(INDEX(CurrentListing,MATCH('Category Set A by Basis of Exit'!Y201,CurrentListing,0),1)),25),AM201),HYPERLINK(\"#'Select LEA'!\"&\"$AA$10\",AM201))","v":""},{"$f":"IFERROR(HYPERLINK(\"#'Select LEA'!\"&ADDRESS(ROW(INDEX(CurrentListing,MATCH('Category Set A by Basis of Exit'!Z201,CurrentListing,0),1)),25),AN201),HYPERLINK(\"#'Select LEA'!\"&\"$AA$10\",AN201))","v":""},{"$f":"IFERROR(HYPERLINK(\"#'Select LEA'!\"&ADDRESS(ROW(INDEX(CurrentListing,MATCH('Category Set A by Basis of Exit'!AA201,CurrentListing,0),1)),25),AO201),HYPERLINK(\"#'Select LEA'!\"&\"$AA$10\",AO201))","v":""},{"$f":"IFERROR(HYPERLINK(\"#'Select LEA'!\"&ADDRESS(ROW(INDEX(CurrentListing,MATCH('Category Set A by Basis of Exit'!AB201,CurrentListing,0),1)),25),AP201),HYPERLINK(\"#'Select LEA'!\"&\"$AA$10\",AP201))","v":""},0,null,null,"ID21DROPOUTN","HI21DROPOUTN","SLI21DROPOUTN","VI21DROPOUTN","EMN21DROPOUTN","OI21DROPOUTN","OHI21DROPOUTN","SLD21DROPOUTN","DB21DROPOUTN","MD21DROPOUTN","AUT21DROPOUTN","TBI21DROPOUTN",null,21,"","","","","","","","","","","","",0]
["Total",{"$f":"IF(SUM(B194:B201)>=0,SUM(B194:B201),\"\")","v":0},{"$f":"IF(SUM(C194:C201)>=0,SUM(C194:C201),\"\")","v":0},0,0,0,0,0,0,0,0,0,0,{"$f":"IF(AND(N4=\"MC\",N5=\"MC\",N6=\"MC\",N7=\"MC\",N8=\"MC\",N9=\"MC\",N10=\"MC\",N11=\"MC\", N14=\"MC\"),\"\",SUM(B194:M201))","v":0},null,null,null,null,null,null,null,null,null,null,null,null,null,null,"DROPOUTY","Total",{"$f":"SUM(AE194:AE201)","v":0},{"$f":"SUM(AF194:AF201)","v":0},0,0,0,0,0,0,0,0,0,0,{"$f":"IFERROR(IF(INDEX(StudCntC009,MATCH(AC202,CurrentListing,0))=\"\",\"No Data\",INDEX(StudCntC009,MATCH(AC202,CurrentListing,0))),\"\")","v":""}]
[]
["Percent by age","Dropped out"]
[null,"Intellectual\ndisability\n(percent)","Hearing\nimpairment\n(percent)","Speech or\nlanguage\nimpairment\n(percent)","Visual\nimpairment\n(percent)","Emotional\ndisturbance\n(percent)","Orthopedic\nimpairment\n(percent)","Other\nhealth\nimpairment\n(percent)","Specific\nlearning\ndisability\n(percent)","Deaf-\nblindness\n(percent)","Multiple\ndisabilities\n(percent)","Autism\n(Percent)","Traumatic\nbrain\ninjury\n(percent)","Total\n(percent)"]
[14,{"$f":"IF(ISERROR(B194/$N194),IF(B194=\"MC\", \"\",0), B194/$N194)","v":0},{"$f":"IF(ISERROR(C194/$N194),IF(C194=\"MC\", \"\",0), C194/$N194)","v":0},0,0,0,0,0,0,0,0,0,0,{"$f":"SUM(B206:M206)","v":0}]
[15,{"$f":"IF(ISERROR(B195/$N195),IF(B195=\"MC\", \"\",0), B195/$N195)","v":0},0,0,0,0,0,0,0,0,0,0,0,{"$f":"SUM(B207:M207)","v":0}]
[16,{"$f":"IF(ISERROR(B196/$N196),IF(B196=\"MC\", \"\",0), B196/$N196)","v":0},0,0,0,0,0,0,0,0,0,0,0,0]
[17,{"$f":"IF(ISERROR(B197/$N197),IF(B197=\"MC\", \"\",0), B197/$N197)","v":0},0,0,0,0,0,0,0,0,0,0,0,0]
[18,{"$f":"IF(ISERROR(B198/$N198),IF(B198=\"MC\", \"\",0), B198/$N198)","v":0},0,0,0,0,0,0,0,0,0,0,0,0]
[19,{"$f":"IF(ISERROR(B199/$N199),IF(B199=\"MC\", \"\",0), B199/$N199)","v":0},0,0,0,0,0,0,0,0,0,0,0,0]
[20,{"$f":"IF(ISERROR(B200/$N200),IF(B200=\"MC\", \"\",0), B200/$N200)","v":0},0,0,0,0,0,0,0,0,0,0,0,0]
[21,{"$f":"IF(ISERROR(B201/$N201),IF(B201=\"MC\", \"\",0), B201/$N201)","v":0},0,0,0,0,0,0,0,0,0,0,0,0]
["Total",{"$f":"IFERROR(IF($N202<>0,B202/$N202,0),\"\")","v":0},{"$f":"IFERROR(IF($N202<>0,C202/$N202,0),\"\")","v":0},0,0,0,0,0,0,0,0,0,0,0]
[]
[]
[]
["End of worksheet"]